{"text_format":"1","workbook":"xlsx","n_sheets":25,"sheets":["Leg Type 2 Res Summary","New Type 2 Res Summary","LEA Summary","Table List","Data Sources","1_State Summary","2_State Distrib and Adjs","2A-1_EFT (Annual)","2A-2_EFT (Monthly)","3_Levels 1&2","3A_Level 3","4_Level 4","5A1_Labs","for incrementing rows (DNCHG)","5A2_Legacy Type 2","5A3_OJJ","5A4_NOCCA","5A5_LSMSA","5A6_Thrive","5A7_SSD","5B2_RSD LA","5C1_NewType 2","6_Local Deduct Calc","7_Local Revenue","9_Per Pupil Summary"],"not_rendered":{"charts":0,"images":0,"macros":1,"external_links":1,"defined_names":125,"comments":1,"pivot_tables":0},"unopened":[],"bounds":{"document_bytes":16777216,"sheet_cells":100000,"rows_first":2000,"rows_last":500,"rows_between":2000,"halvings":0,"cell_chars":16384,"cell_head_chars":4096},"cells_cut":0,"cells_raw":0,"read":"whole","date_system":"1900"}

{"sheet":"Leg Type 2 Res Summary","index":0,"n_rows":91,"n_cols":32,"rows_kept":91,"cut":false,"hidden":true,"merged":[[0,20,0,26],[0,27,0,31],[1,2,2,2],[1,3,1,6],[1,7,1,9],[1,10,1,12],[1,13,1,15],[1,31,2,31],[1,16,1,18],[1,19,2,19],[1,20,1,22],[1,23,2,23],[1,24,2,24],[82,0,82,1],[83,0,83,1],[0,0,2,1],[0,2,0,9],[0,10,0,19],[89,0,89,1],[90,0,90,1],[1,30,2,30],[1,25,2,25],[1,26,2,26],[1,27,2,27],[1,28,2,28],[1,29,2,29],[81,0,81,1],[84,0,84,1],[75,0,75,1],[76,0,76,1],[77,0,77,1],[78,0,78,1],[79,0,79,1],[80,0,80,1]]}
["Table 5A2\nLegacy Type 2\nCharter Schools",null,"MFP State Cost Allocation",null,null,null,null,null,null,null,"MFP State Cost Allocation",null,null,null,null,null,null,null,null,null,"MFP State Cost Allocation",null,null,null,null,null,null,"MFP State Cost Allocation"]
[null,null,"Feb. 1, 2021\nMFP Funded\nMembership\n\n(Per SIS)","Unweighted Legacy Type 2 Charter School\n(Includes Initial Local Revenue Representation)",null,null,null,"Economically Disadvantaged (ED)",null,null,"Career & Technical Units (CTE)",null,null,"Students with Disabilities (SWD)",null,null,"Gifted & Talented (GT)",null,null,"Total MFP\nState Cost\nAllocation\n\n(Levels 1,\n2, & 3)","Mid-Year Adjustment for Students",null,null,"Total MFP\nState Cost\nAllocation\n+/- Mid-Year\nAdjustments","State\nAdmin Fee\nto the\nDept. of\nEducation\n\n0.25%","Total MFP\nState Cost\nAllocation\n+/- Mid-Year\nAdjustments\n- Admin Fee","Prior Years\nMFP Audit\nAdjustments\n\n(Includes\nFY2019-20\nand\nFY2020-21)","Total MFP State\nCost Allocation\n+/- Mid-Year Adjs\n- Admin Fee\n+/- Audit Adjs\n+ Monthly Level 4","Year To\nDate\nState\nPayments","Balance\nDue","State Cost\nAllocation\nMonthly\nPayment\n","Total MFP State\nCost Allocation\n+/- Mid-Year Adjs\n- Admin Fee\n+/- Audit Adjs\n+ Total Level 4"]
[null,null,null,"Per Pupil","Unweighted\nState Cost\nAllocation\nWithout\nContinuation\nof Prior Year\nPay Raises","Per Pupil","Continuation\nof Prior Year\nPay Raises\nState Cost\nAllocation","Student Count\n\n(Per SIS\n2-1-21)","Per Pupil","State Cost\nAllocation","Student Count\n\n(Per SIS\n10-1-20)","Per Pupil","State Cost\nAllocation","Student Count\n\n(Per SER\n2-1-21)","Per Pupil","State Cost\nAllocation","Student Count\n\n(Per SER\n2-1-21)","Per Pupil","State Cost\nAllocation",null,"October\n2021\nMid-Year\nAdjustment\nfor Students","February\n2022\nMid-Year\nAdjustment\nfor Students","Total\nMid-Year\nAdjustment\nfor Students"]
[null,null,1,{"$f":"C4+1","v":2},3,{"$f":"E4+1","v":4},{"$f":"F4+1","v":5},{"$f":"G4+1","v":6},7,8,9,10,11,12,13,14,15,16,17,18,19,20,21,22,23,24,25,{"$f":"AA4+1","v":26},{"$f":"AB4+1","v":27},{"$f":"AC4+1","v":28},{"$f":"AD4+1","v":29},{"$f":"AE4+1","v":30}]
[null,null,"(T8, C35)","T9, C13","C1 x C2","Historical Data","C1 x C4","Link to ED Tab in Student Count File","T9, C7","C6 x C7","Link to CTE Tab in Student Count File","T9, C8","C9 x C10","Link to SWD Tab in Student Count File","T9, C9","C12 x C13","Link to GT Tab in Student Count File","T9, C10","C15 x C16","C3 + C5 + C8 + C11 + C14 + C17","Link to October Tab in Mid-Year File","Link to February Tab in Mid-Year File","C19 + C20","C18 + C21","C22 x -.25%","C22 + C23","Link to Audit File","C24 + C25;\n(T4, C2; C14; C26; C38)","Prior Month File: (T5A2A, C27 + C29)","C26 - C27","C28 ÷ Months Remaining","C26;\n(T4, C2; C7; C9;\nC10; C14; C26; C38)"]
[null,null,"Link in File","Link in File","Formula","Values","Formula","Link to \"Counts in Budget Letter\"","Link in File","Formula","Link to \"Counts in Budget Letter\"","Link in File","Formula","Link to \"Counts in Budget Letter\"","Link in File","Formula","Link to \"Counts in Budget Letter\"","Link in File","Formula","Formula","Link to Mid-Year File","Link to Mid-Year File","Formula","Formula","Formula","Formula","Link to Audit File","T4, C2; T4, C14","Link to Prior Month","Formula","Formula","T4, C7; T4, C9; T4, C10"]
[1,"Acadia",{"$f":"#REF!+#REF!+#REF!+#REF!+#REF!+#REF!+#REF!","v":{"$error":"#REF!"}},{"$f":"'9_Per Pupil Summary'!O6","v":7627.0733065265849},{"$f":"#REF!+#REF!+#REF!+#REF!+#REF!+#REF!+#REF!","v":{"$error":"#REF!"}},null,{"$f":"#REF!+#REF!+#REF!+#REF!+#REF!+#REF!+#REF!","v":{"$error":"#REF!"}},{"$f":"#REF!+#REF!+#REF!+#REF!+#REF!+#REF!+#REF!","v":{"$error":"#REF!"}},{"$f":"'9_Per Pupil Summary'!I6","v":669.92707442677101},{"$f":"#REF!+#REF!+#REF!+#REF!+#REF!+#REF!+#REF!","v":{"$error":"#REF!"}},{"$f":"#REF!+#REF!+#REF!+#REF!+#REF!+#REF!+#REF!","v":{"$error":"#REF!"}},{"$f":"'9_Per Pupil Summary'!J6","v":182.7073839345739},{"$f":"#REF!+#REF!+#REF!+#REF!+#REF!+#REF!+#REF!","v":{"$error":"#REF!"}},{"$f":"#REF!+#REF!+#REF!+#REF!+#REF!+#REF!+#REF!","v":{"$error":"#REF!"}},{"$f":"'9_Per Pupil Summary'!K6","v":4567.6845983643479},{"$f":"#REF!+#REF!+#REF!+#REF!+#REF!+#REF!+#REF!","v":{"$error":"#REF!"}},{"$f":"#REF!+#REF!+#REF!+#REF!+#REF!+#REF!+#REF!","v":{"$error":"#REF!"}},{"$f":"'9_Per Pupil Summary'!L6","v":1827.0738393457391},{"$f":"#REF!+#REF!+#REF!+#REF!+#REF!+#REF!+#REF!","v":{"$error":"#REF!"}},{"$f":"#REF!+#REF!+#REF!+#REF!+#REF!+#REF!+#REF!","v":{"$error":"#REF!"}},{"$f":"#REF!+#REF!+#REF!+#REF!+#REF!+#REF!+#REF!","v":{"$error":"#REF!"}},{"$f":"#REF!+#REF!+#REF!+#REF!+#REF!+#REF!+#REF!","v":{"$error":"#REF!"}},{"$f":"#REF!+#REF!+#REF!+#REF!+#REF!+#REF!+#REF!","v":{"$error":"#REF!"}},{"$f":"#REF!+#REF!+#REF!+#REF!+#REF!+#REF!+#REF!","v":{"$error":"#REF!"}},{"$f":"#REF!+#REF!+#REF!+#REF!+#REF!+#REF!+#REF!","v":{"$error":"#REF!"}},{"$f":"#REF!+#REF!+#REF!+#REF!+#REF!+#REF!+#REF!","v":{"$error":"#REF!"}},{"$f":"#REF!+#REF!+#REF!+#REF!+#REF!+#REF!+#REF!","v":{"$error":"#REF!"}},{"$f":"#REF!+#REF!+#REF!+#REF!+#REF!+#REF!+#REF!","v":{"$error":"#REF!"}},{"$f":"#REF!+#REF!+#REF!+#REF!+#REF!+#REF!+#REF!","v":{"$error":"#REF!"}},{"$f":"#REF!+#REF!+#REF!+#REF!+#REF!+#REF!+#REF!","v":{"$error":"#REF!"}},{"$f":"#REF!+#REF!+#REF!+#REF!+#REF!+#REF!+#REF!","v":{"$error":"#REF!"}},{"$f":"#REF!+#REF!+#REF!+#REF!+#REF!+#REF!+#REF!","v":{"$error":"#REF!"}}]
[2,"Allen",{"$f":"#REF!+#REF!+#REF!+#REF!+#REF!+#REF!+#REF!","v":{"$error":"#REF!"}},{"$f":"'9_Per Pupil Summary'!O7","v":9536.7932573807029},{"$f":"#REF!+#REF!+#REF!+#REF!+#REF!+#REF!+#REF!","v":{"$error":"#REF!"}},null,{"$f":"#REF!+#REF!+#REF!+#REF!+#REF!+#REF!+#REF!","v":{"$error":"#REF!"}},{"$f":"#REF!+#REF!+#REF!+#REF!+#REF!+#REF!+#REF!","v":{"$error":"#REF!"}},{"$f":"'9_Per Pupil Summary'!I7","v":738.50544435043003},{"$f":"#REF!+#REF!+#REF!+#REF!+#REF!+#REF!+#REF!","v":{"$error":"#REF!"}},{"$f":"#REF!+#REF!+#REF!+#REF!+#REF!+#REF!+#REF!","v":{"$error":"#REF!"}},{"$f":"'9_Per Pupil Summary'!J7","v":201.41057573193544},{"$f":"#REF!+#REF!+#REF!+#REF!+#REF!+#REF!+#REF!","v":{"$error":"#REF!"}},{"$f":"#REF!+#REF!+#REF!+#REF!+#REF!+#REF!+#REF!","v":{"$error":"#REF!"}},{"$f":"'9_Per Pupil Summary'!K7","v":5035.2643932983874},{"$f":"#REF!+#REF!+#REF!+#REF!+#REF!+#REF!+#REF!","v":{"$error":"#REF!"}},{"$f":"#REF!+#REF!+#REF!+#REF!+#REF!+#REF!+#REF!","v":{"$error":"#REF!"}},{"$f":"'9_Per Pupil Summary'!L7","v":2014.1057573193546},{"$f":"#REF!+#REF!+#REF!+#REF!+#REF!+#REF!+#REF!","v":{"$error":"#REF!"}},{"$f":"#REF!+#REF!+#REF!+#REF!+#REF!+#REF!+#REF!","v":{"$error":"#REF!"}},{"$f":"#REF!+#REF!+#REF!+#REF!+#REF!+#REF!+#REF!","v":{"$error":"#REF!"}},{"$f":"#REF!+#REF!+#REF!+#REF!+#REF!+#REF!+#REF!","v":{"$error":"#REF!"}},{"$f":"#REF!+#REF!+#REF!+#REF!+#REF!+#REF!+#REF!","v":{"$error":"#REF!"}},{"$f":"#REF!+#REF!+#REF!+#REF!+#REF!+#REF!+#REF!","v":{"$error":"#REF!"}},{"$f":"#REF!+#REF!+#REF!+#REF!+#REF!+#REF!+#REF!","v":{"$error":"#REF!"}},{"$f":"#REF!+#REF!+#REF!+#REF!+#REF!+#REF!+#REF!","v":{"$error":"#REF!"}},{"$f":"#REF!+#REF!+#REF!+#REF!+#REF!+#REF!+#REF!","v":{"$error":"#REF!"}},{"$f":"#REF!+#REF!+#REF!+#REF!+#REF!+#REF!+#REF!","v":{"$error":"#REF!"}},{"$f":"#REF!+#REF!+#REF!+#REF!+#REF!+#REF!+#REF!","v":{"$error":"#REF!"}},{"$f":"#REF!+#REF!+#REF!+#REF!+#REF!+#REF!+#REF!","v":{"$error":"#REF!"}},{"$f":"#REF!+#REF!+#REF!+#REF!+#REF!+#REF!+#REF!","v":{"$error":"#REF!"}},{"$f":"#REF!+#REF!+#REF!+#REF!+#REF!+#REF!+#REF!","v":{"$error":"#REF!"}}]
[3,"Ascension",{"$f":"#REF!+#REF!+#REF!+#REF!+#REF!+#REF!+#REF!","v":{"$error":"#REF!"}},{"$f":"'9_Per Pupil Summary'!O8","v":11907.375151006987},{"$f":"#REF!+#REF!+#REF!+#REF!+#REF!+#REF!+#REF!","v":{"$error":"#REF!"}},null,{"$f":"#REF!+#REF!+#REF!+#REF!+#REF!+#REF!+#REF!","v":{"$error":"#REF!"}},{"$f":"#REF!+#REF!+#REF!+#REF!+#REF!+#REF!+#REF!","v":{"$error":"#REF!"}},{"$f":"'9_Per Pupil Summary'!I8","v":566.81348053641864},{"$f":"#REF!+#REF!+#REF!+#REF!+#REF!+#REF!+#REF!","v":{"$error":"#REF!"}},{"$f":"#REF!+#REF!+#REF!+#REF!+#REF!+#REF!+#REF!","v":{"$error":"#REF!"}},{"$f":"'9_Per Pupil Summary'!J8","v":154.58549469175051},{"$f":"#REF!+#REF!+#REF!+#REF!+#REF!+#REF!+#REF!","v":{"$error":"#REF!"}},{"$f":"#REF!+#REF!+#REF!+#REF!+#REF!+#REF!+#REF!","v":{"$error":"#REF!"}},{"$f":"'9_Per Pupil Summary'!K8","v":3864.637367293763},{"$f":"#REF!+#REF!+#REF!+#REF!+#REF!+#REF!+#REF!","v":{"$error":"#REF!"}},{"$f":"#REF!+#REF!+#REF!+#REF!+#REF!+#REF!+#REF!","v":{"$error":"#REF!"}},{"$f":"'9_Per Pupil Summary'!L8","v":1545.8549469175052},{"$f":"#REF!+#REF!+#REF!+#REF!+#REF!+#REF!+#REF!","v":{"$error":"#REF!"}},{"$f":"#REF!+#REF!+#REF!+#REF!+#REF!+#REF!+#REF!","v":{"$error":"#REF!"}},{"$f":"#REF!+#REF!+#REF!+#REF!+#REF!+#REF!+#REF!","v":{"$error":"#REF!"}},{"$f":"#REF!+#REF!+#REF!+#REF!+#REF!+#REF!+#REF!","v":{"$error":"#REF!"}},{"$f":"#REF!+#REF!+#REF!+#REF!+#REF!+#REF!+#REF!","v":{"$error":"#REF!"}},{"$f":"#REF!+#REF!+#REF!+#REF!+#REF!+#REF!+#REF!","v":{"$error":"#REF!"}},{"$f":"#REF!+#REF!+#REF!+#REF!+#REF!+#REF!+#REF!","v":{"$error":"#REF!"}},{"$f":"#REF!+#REF!+#REF!+#REF!+#REF!+#REF!+#REF!","v":{"$error":"#REF!"}},{"$f":"#REF!+#REF!+#REF!+#REF!+#REF!+#REF!+#REF!","v":{"$error":"#REF!"}},{"$f":"#REF!+#REF!+#REF!+#REF!+#REF!+#REF!+#REF!","v":{"$error":"#REF!"}},{"$f":"#REF!+#REF!+#REF!+#REF!+#REF!+#REF!+#REF!","v":{"$error":"#REF!"}},{"$f":"#REF!+#REF!+#REF!+#REF!+#REF!+#REF!+#REF!","v":{"$error":"#REF!"}},{"$f":"#REF!+#REF!+#REF!+#REF!+#REF!+#REF!+#REF!","v":{"$error":"#REF!"}},{"$f":"#REF!+#REF!+#REF!+#REF!+#REF!+#REF!+#REF!","v":{"$error":"#REF!"}}]
[4,"Assumption",{"$f":"#REF!+#REF!+#REF!+#REF!+#REF!+#REF!+#REF!","v":{"$error":"#REF!"}},{"$f":"'9_Per Pupil Summary'!O9","v":10767.110212345646},{"$f":"#REF!+#REF!+#REF!+#REF!+#REF!+#REF!+#REF!","v":{"$error":"#REF!"}},null,{"$f":"#REF!+#REF!+#REF!+#REF!+#REF!+#REF!+#REF!","v":{"$error":"#REF!"}},{"$f":"#REF!+#REF!+#REF!+#REF!+#REF!+#REF!+#REF!","v":{"$error":"#REF!"}},{"$f":"'9_Per Pupil Summary'!I9","v":669.49520273203632},{"$f":"#REF!+#REF!+#REF!+#REF!+#REF!+#REF!+#REF!","v":{"$error":"#REF!"}},{"$f":"#REF!+#REF!+#REF!+#REF!+#REF!+#REF!+#REF!","v":{"$error":"#REF!"}},{"$f":"'9_Per Pupil Summary'!J9","v":182.58960074510082},{"$f":"#REF!+#REF!+#REF!+#REF!+#REF!+#REF!+#REF!","v":{"$error":"#REF!"}},{"$f":"#REF!+#REF!+#REF!+#REF!+#REF!+#REF!+#REF!","v":{"$error":"#REF!"}},{"$f":"'9_Per Pupil Summary'!K9","v":4564.7400186275208},{"$f":"#REF!+#REF!+#REF!+#REF!+#REF!+#REF!+#REF!","v":{"$error":"#REF!"}},{"$f":"#REF!+#REF!+#REF!+#REF!+#REF!+#REF!+#REF!","v":{"$error":"#REF!"}},{"$f":"'9_Per Pupil Summary'!L9","v":1825.8960074510078},{"$f":"#REF!+#REF!+#REF!+#REF!+#REF!+#REF!+#REF!","v":{"$error":"#REF!"}},{"$f":"#REF!+#REF!+#REF!+#REF!+#REF!+#REF!+#REF!","v":{"$error":"#REF!"}},{"$f":"#REF!+#REF!+#REF!+#REF!+#REF!+#REF!+#REF!","v":{"$error":"#REF!"}},{"$f":"#REF!+#REF!+#REF!+#REF!+#REF!+#REF!+#REF!","v":{"$error":"#REF!"}},{"$f":"#REF!+#REF!+#REF!+#REF!+#REF!+#REF!+#REF!","v":{"$error":"#REF!"}},{"$f":"#REF!+#REF!+#REF!+#REF!+#REF!+#REF!+#REF!","v":{"$error":"#REF!"}},{"$f":"#REF!+#REF!+#REF!+#REF!+#REF!+#REF!+#REF!","v":{"$error":"#REF!"}},{"$f":"#REF!+#REF!+#REF!+#REF!+#REF!+#REF!+#REF!","v":{"$error":"#REF!"}},{"$f":"#REF!+#REF!+#REF!+#REF!+#REF!+#REF!+#REF!","v":{"$error":"#REF!"}},{"$f":"#REF!+#REF!+#REF!+#REF!+#REF!+#REF!+#REF!","v":{"$error":"#REF!"}},{"$f":"#REF!+#REF!+#REF!+#REF!+#REF!+#REF!+#REF!","v":{"$error":"#REF!"}},{"$f":"#REF!+#REF!+#REF!+#REF!+#REF!+#REF!+#REF!","v":{"$error":"#REF!"}},{"$f":"#REF!+#REF!+#REF!+#REF!+#REF!+#REF!+#REF!","v":{"$error":"#REF!"}},{"$f":"#REF!+#REF!+#REF!+#REF!+#REF!+#REF!+#REF!","v":{"$error":"#REF!"}}]
[5,"Avoyelles",{"$f":"#REF!+#REF!+#REF!+#REF!+#REF!+#REF!+#REF!","v":{"$error":"#REF!"}},{"$f":"'9_Per Pupil Summary'!O10","v":7612.7440504923507},{"$f":"#REF!+#REF!+#REF!+#REF!+#REF!+#REF!+#REF!","v":{"$error":"#REF!"}},null,{"$f":"#REF!+#REF!+#REF!+#REF!+#REF!+#REF!+#REF!","v":{"$error":"#REF!"}},{"$f":"#REF!+#REF!+#REF!+#REF!+#REF!+#REF!+#REF!","v":{"$error":"#REF!"}},{"$f":"'9_Per Pupil Summary'!I10","v":700.87464675347837},{"$f":"#REF!+#REF!+#REF!+#REF!+#REF!+#REF!+#REF!","v":{"$error":"#REF!"}},{"$f":"#REF!+#REF!+#REF!+#REF!+#REF!+#REF!+#REF!","v":{"$error":"#REF!"}},{"$f":"'9_Per Pupil Summary'!J10","v":191.14763093276684},{"$f":"#REF!+#REF!+#REF!+#REF!+#REF!+#REF!+#REF!","v":{"$error":"#REF!"}},{"$f":"#REF!+#REF!+#REF!+#REF!+#REF!+#REF!+#REF!","v":{"$error":"#REF!"}},{"$f":"'9_Per Pupil Summary'!K10","v":4778.6907733191701},{"$f":"#REF!+#REF!+#REF!+#REF!+#REF!+#REF!+#REF!","v":{"$error":"#REF!"}},{"$f":"#REF!+#REF!+#REF!+#REF!+#REF!+#REF!+#REF!","v":{"$error":"#REF!"}},{"$f":"'9_Per Pupil Summary'!L10","v":1911.4763093276683},{"$f":"#REF!+#REF!+#REF!+#REF!+#REF!+#REF!+#REF!","v":{"$error":"#REF!"}},{"$f":"#REF!+#REF!+#REF!+#REF!+#REF!+#REF!+#REF!","v":{"$error":"#REF!"}},{"$f":"#REF!+#REF!+#REF!+#REF!+#REF!+#REF!+#REF!","v":{"$error":"#REF!"}},{"$f":"#REF!+#REF!+#REF!+#REF!+#REF!+#REF!+#REF!","v":{"$error":"#REF!"}},{"$f":"#REF!+#REF!+#REF!+#REF!+#REF!+#REF!+#REF!","v":{"$error":"#REF!"}},{"$f":"#REF!+#REF!+#REF!+#REF!+#REF!+#REF!+#REF!","v":{"$error":"#REF!"}},{"$f":"#REF!+#REF!+#REF!+#REF!+#REF!+#REF!+#REF!","v":{"$error":"#REF!"}},{"$f":"#REF!+#REF!+#REF!+#REF!+#REF!+#REF!+#REF!","v":{"$error":"#REF!"}},{"$f":"#REF!+#REF!+#REF!+#REF!+#REF!+#REF!+#REF!","v":{"$error":"#REF!"}},{"$f":"#REF!+#REF!+#REF!+#REF!+#REF!+#REF!+#REF!","v":{"$error":"#REF!"}},{"$f":"#REF!+#REF!+#REF!+#REF!+#REF!+#REF!+#REF!","v":{"$error":"#REF!"}},{"$f":"#REF!+#REF!+#REF!+#REF!+#REF!+#REF!+#REF!","v":{"$error":"#REF!"}},{"$f":"#REF!+#REF!+#REF!+#REF!+#REF!+#REF!+#REF!","v":{"$error":"#REF!"}},{"$f":"#REF!+#REF!+#REF!+#REF!+#REF!+#REF!+#REF!","v":{"$error":"#REF!"}}]
[6,"Beauregard",{"$f":"#REF!+#REF!+#REF!+#REF!+#REF!+#REF!+#REF!","v":{"$error":"#REF!"}},{"$f":"'9_Per Pupil Summary'!O11","v":10578.071034275414},{"$f":"#REF!+#REF!+#REF!+#REF!+#REF!+#REF!+#REF!","v":{"$error":"#REF!"}},null,{"$f":"#REF!+#REF!+#REF!+#REF!+#REF!+#REF!+#REF!","v":{"$error":"#REF!"}},{"$f":"#REF!+#REF!+#REF!+#REF!+#REF!+#REF!+#REF!","v":{"$error":"#REF!"}},{"$f":"'9_Per Pupil Summary'!I11","v":645.94658156566834},{"$f":"#REF!+#REF!+#REF!+#REF!+#REF!+#REF!+#REF!","v":{"$error":"#REF!"}},{"$f":"#REF!+#REF!+#REF!+#REF!+#REF!+#REF!+#REF!","v":{"$error":"#REF!"}},{"$f":"'9_Per Pupil Summary'!J11","v":176.16724951790957},{"$f":"#REF!+#REF!+#REF!+#REF!+#REF!+#REF!+#REF!","v":{"$error":"#REF!"}},{"$f":"#REF!+#REF!+#REF!+#REF!+#REF!+#REF!+#REF!","v":{"$error":"#REF!"}},{"$f":"'9_Per Pupil Summary'!K11","v":4404.1812379477387},{"$f":"#REF!+#REF!+#REF!+#REF!+#REF!+#REF!+#REF!","v":{"$error":"#REF!"}},{"$f":"#REF!+#REF!+#REF!+#REF!+#REF!+#REF!+#REF!","v":{"$error":"#REF!"}},{"$f":"'9_Per Pupil Summary'!L11","v":1761.6724951790954},{"$f":"#REF!+#REF!+#REF!+#REF!+#REF!+#REF!+#REF!","v":{"$error":"#REF!"}},{"$f":"#REF!+#REF!+#REF!+#REF!+#REF!+#REF!+#REF!","v":{"$error":"#REF!"}},{"$f":"#REF!+#REF!+#REF!+#REF!+#REF!+#REF!+#REF!","v":{"$error":"#REF!"}},{"$f":"#REF!+#REF!+#REF!+#REF!+#REF!+#REF!+#REF!","v":{"$error":"#REF!"}},{"$f":"#REF!+#REF!+#REF!+#REF!+#REF!+#REF!+#REF!","v":{"$error":"#REF!"}},{"$f":"#REF!+#REF!+#REF!+#REF!+#REF!+#REF!+#REF!","v":{"$error":"#REF!"}},{"$f":"#REF!+#REF!+#REF!+#REF!+#REF!+#REF!+#REF!","v":{"$error":"#REF!"}},{"$f":"#REF!+#REF!+#REF!+#REF!+#REF!+#REF!+#REF!","v":{"$error":"#REF!"}},{"$f":"#REF!+#REF!+#REF!+#REF!+#REF!+#REF!+#REF!","v":{"$error":"#REF!"}},{"$f":"#REF!+#REF!+#REF!+#REF!+#REF!+#REF!+#REF!","v":{"$error":"#REF!"}},{"$f":"#REF!+#REF!+#REF!+#REF!+#REF!+#REF!+#REF!","v":{"$error":"#REF!"}},{"$f":"#REF!+#REF!+#REF!+#REF!+#REF!+#REF!+#REF!","v":{"$error":"#REF!"}},{"$f":"#REF!+#REF!+#REF!+#REF!+#REF!+#REF!+#REF!","v":{"$error":"#REF!"}},{"$f":"#REF!+#REF!+#REF!+#REF!+#REF!+#REF!+#REF!","v":{"$error":"#REF!"}}]
[7,"Bienville",{"$f":"#REF!+#REF!+#REF!+#REF!+#REF!+#REF!+#REF!","v":{"$error":"#REF!"}},{"$f":"'9_Per Pupil Summary'!O12","v":18901.548453357173},{"$f":"#REF!+#REF!+#REF!+#REF!+#REF!+#REF!+#REF!","v":{"$error":"#REF!"}},null,{"$f":"#REF!+#REF!+#REF!+#REF!+#REF!+#REF!+#REF!","v":{"$error":"#REF!"}},{"$f":"#REF!+#REF!+#REF!+#REF!+#REF!+#REF!+#REF!","v":{"$error":"#REF!"}},{"$f":"'9_Per Pupil Summary'!I12","v":448.71157667493225},{"$f":"#REF!+#REF!+#REF!+#REF!+#REF!+#REF!+#REF!","v":{"$error":"#REF!"}},{"$f":"#REF!+#REF!+#REF!+#REF!+#REF!+#REF!+#REF!","v":{"$error":"#REF!"}},{"$f":"'9_Per Pupil Summary'!J12","v":122.37588454770881},{"$f":"#REF!+#REF!+#REF!+#REF!+#REF!+#REF!+#REF!","v":{"$error":"#REF!"}},{"$f":"#REF!+#REF!+#REF!+#REF!+#REF!+#REF!+#REF!","v":{"$error":"#REF!"}},{"$f":"'9_Per Pupil Summary'!K12","v":3059.3971136927203},{"$f":"#REF!+#REF!+#REF!+#REF!+#REF!+#REF!+#REF!","v":{"$error":"#REF!"}},{"$f":"#REF!+#REF!+#REF!+#REF!+#REF!+#REF!+#REF!","v":{"$error":"#REF!"}},{"$f":"'9_Per Pupil Summary'!L12","v":1223.758845477088},{"$f":"#REF!+#REF!+#REF!+#REF!+#REF!+#REF!+#REF!","v":{"$error":"#REF!"}},{"$f":"#REF!+#REF!+#REF!+#REF!+#REF!+#REF!+#REF!","v":{"$error":"#REF!"}},{"$f":"#REF!+#REF!+#REF!+#REF!+#REF!+#REF!+#REF!","v":{"$error":"#REF!"}},{"$f":"#REF!+#REF!+#REF!+#REF!+#REF!+#REF!+#REF!","v":{"$error":"#REF!"}},{"$f":"#REF!+#REF!+#REF!+#REF!+#REF!+#REF!+#REF!","v":{"$error":"#REF!"}},{"$f":"#REF!+#REF!+#REF!+#REF!+#REF!+#REF!+#REF!","v":{"$error":"#REF!"}},{"$f":"#REF!+#REF!+#REF!+#REF!+#REF!+#REF!+#REF!","v":{"$error":"#REF!"}},{"$f":"#REF!+#REF!+#REF!+#REF!+#REF!+#REF!+#REF!","v":{"$error":"#REF!"}},{"$f":"#REF!+#REF!+#REF!+#REF!+#REF!+#REF!+#REF!","v":{"$error":"#REF!"}},{"$f":"#REF!+#REF!+#REF!+#REF!+#REF!+#REF!+#REF!","v":{"$error":"#REF!"}},{"$f":"#REF!+#REF!+#REF!+#REF!+#REF!+#REF!+#REF!","v":{"$error":"#REF!"}},{"$f":"#REF!+#REF!+#REF!+#REF!+#REF!+#REF!+#REF!","v":{"$error":"#REF!"}},{"$f":"#REF!+#REF!+#REF!+#REF!+#REF!+#REF!+#REF!","v":{"$error":"#REF!"}},{"$f":"#REF!+#REF!+#REF!+#REF!+#REF!+#REF!+#REF!","v":{"$error":"#REF!"}}]
[8,"Bossier",{"$f":"#REF!+#REF!+#REF!+#REF!+#REF!+#REF!+#REF!","v":{"$error":"#REF!"}},{"$f":"'9_Per Pupil Summary'!O13","v":10294.126978850896},{"$f":"#REF!+#REF!+#REF!+#REF!+#REF!+#REF!+#REF!","v":{"$error":"#REF!"}},null,{"$f":"#REF!+#REF!+#REF!+#REF!+#REF!+#REF!+#REF!","v":{"$error":"#REF!"}},{"$f":"#REF!+#REF!+#REF!+#REF!+#REF!+#REF!+#REF!","v":{"$error":"#REF!"}},{"$f":"'9_Per Pupil Summary'!I13","v":640.01888674046984},{"$f":"#REF!+#REF!+#REF!+#REF!+#REF!+#REF!+#REF!","v":{"$error":"#REF!"}},{"$f":"#REF!+#REF!+#REF!+#REF!+#REF!+#REF!+#REF!","v":{"$error":"#REF!"}},{"$f":"'9_Per Pupil Summary'!J13","v":174.55060547467357},{"$f":"#REF!+#REF!+#REF!+#REF!+#REF!+#REF!+#REF!","v":{"$error":"#REF!"}},{"$f":"#REF!+#REF!+#REF!+#REF!+#REF!+#REF!+#REF!","v":{"$error":"#REF!"}},{"$f":"'9_Per Pupil Summary'!K13","v":4363.7651368668403},{"$f":"#REF!+#REF!+#REF!+#REF!+#REF!+#REF!+#REF!","v":{"$error":"#REF!"}},{"$f":"#REF!+#REF!+#REF!+#REF!+#REF!+#REF!+#REF!","v":{"$error":"#REF!"}},{"$f":"'9_Per Pupil Summary'!L13","v":1745.5060547467356},{"$f":"#REF!+#REF!+#REF!+#REF!+#REF!+#REF!+#REF!","v":{"$error":"#REF!"}},{"$f":"#REF!+#REF!+#REF!+#REF!+#REF!+#REF!+#REF!","v":{"$error":"#REF!"}},{"$f":"#REF!+#REF!+#REF!+#REF!+#REF!+#REF!+#REF!","v":{"$error":"#REF!"}},{"$f":"#REF!+#REF!+#REF!+#REF!+#REF!+#REF!+#REF!","v":{"$error":"#REF!"}},{"$f":"#REF!+#REF!+#REF!+#REF!+#REF!+#REF!+#REF!","v":{"$error":"#REF!"}},{"$f":"#REF!+#REF!+#REF!+#REF!+#REF!+#REF!+#REF!","v":{"$error":"#REF!"}},{"$f":"#REF!+#REF!+#REF!+#REF!+#REF!+#REF!+#REF!","v":{"$error":"#REF!"}},{"$f":"#REF!+#REF!+#REF!+#REF!+#REF!+#REF!+#REF!","v":{"$error":"#REF!"}},{"$f":"#REF!+#REF!+#REF!+#REF!+#REF!+#REF!+#REF!","v":{"$error":"#REF!"}},{"$f":"#REF!+#REF!+#REF!+#REF!+#REF!+#REF!+#REF!","v":{"$error":"#REF!"}},{"$f":"#REF!+#REF!+#REF!+#REF!+#REF!+#REF!+#REF!","v":{"$error":"#REF!"}},{"$f":"#REF!+#REF!+#REF!+#REF!+#REF!+#REF!+#REF!","v":{"$error":"#REF!"}},{"$f":"#REF!+#REF!+#REF!+#REF!+#REF!+#REF!+#REF!","v":{"$error":"#REF!"}},{"$f":"#REF!+#REF!+#REF!+#REF!+#REF!+#REF!+#REF!","v":{"$error":"#REF!"}}]
[9,"Caddo",{"$f":"#REF!+#REF!+#REF!+#REF!+#REF!+#REF!+#REF!","v":{"$error":"#REF!"}},{"$f":"'9_Per Pupil Summary'!O14","v":11115.112048969273},{"$f":"#REF!+#REF!+#REF!+#REF!+#REF!+#REF!+#REF!","v":{"$error":"#REF!"}},null,{"$f":"#REF!+#REF!+#REF!+#REF!+#REF!+#REF!+#REF!","v":{"$error":"#REF!"}},{"$f":"#REF!+#REF!+#REF!+#REF!+#REF!+#REF!+#REF!","v":{"$error":"#REF!"}},{"$f":"'9_Per Pupil Summary'!I14","v":580.39560528957588},{"$f":"#REF!+#REF!+#REF!+#REF!+#REF!+#REF!+#REF!","v":{"$error":"#REF!"}},{"$f":"#REF!+#REF!+#REF!+#REF!+#REF!+#REF!+#REF!","v":{"$error":"#REF!"}},{"$f":"'9_Per Pupil Summary'!J14","v":158.28971053352072},{"$f":"#REF!+#REF!+#REF!+#REF!+#REF!+#REF!+#REF!","v":{"$error":"#REF!"}},{"$f":"#REF!+#REF!+#REF!+#REF!+#REF!+#REF!+#REF!","v":{"$error":"#REF!"}},{"$f":"'9_Per Pupil Summary'!K14","v":3957.2427633380166},{"$f":"#REF!+#REF!+#REF!+#REF!+#REF!+#REF!+#REF!","v":{"$error":"#REF!"}},{"$f":"#REF!+#REF!+#REF!+#REF!+#REF!+#REF!+#REF!","v":{"$error":"#REF!"}},{"$f":"'9_Per Pupil Summary'!L14","v":1582.8971053352068},{"$f":"#REF!+#REF!+#REF!+#REF!+#REF!+#REF!+#REF!","v":{"$error":"#REF!"}},{"$f":"#REF!+#REF!+#REF!+#REF!+#REF!+#REF!+#REF!","v":{"$error":"#REF!"}},{"$f":"#REF!+#REF!+#REF!+#REF!+#REF!+#REF!+#REF!","v":{"$error":"#REF!"}},{"$f":"#REF!+#REF!+#REF!+#REF!+#REF!+#REF!+#REF!","v":{"$error":"#REF!"}},{"$f":"#REF!+#REF!+#REF!+#REF!+#REF!+#REF!+#REF!","v":{"$error":"#REF!"}},{"$f":"#REF!+#REF!+#REF!+#REF!+#REF!+#REF!+#REF!","v":{"$error":"#REF!"}},{"$f":"#REF!+#REF!+#REF!+#REF!+#REF!+#REF!+#REF!","v":{"$error":"#REF!"}},{"$f":"#REF!+#REF!+#REF!+#REF!+#REF!+#REF!+#REF!","v":{"$error":"#REF!"}},{"$f":"#REF!+#REF!+#REF!+#REF!+#REF!+#REF!+#REF!","v":{"$error":"#REF!"}},{"$f":"#REF!+#REF!+#REF!+#REF!+#REF!+#REF!+#REF!","v":{"$error":"#REF!"}},{"$f":"#REF!+#REF!+#REF!+#REF!+#REF!+#REF!+#REF!","v":{"$error":"#REF!"}},{"$f":"#REF!+#REF!+#REF!+#REF!+#REF!+#REF!+#REF!","v":{"$error":"#REF!"}},{"$f":"#REF!+#REF!+#REF!+#REF!+#REF!+#REF!+#REF!","v":{"$error":"#REF!"}},{"$f":"#REF!+#REF!+#REF!+#REF!+#REF!+#REF!+#REF!","v":{"$error":"#REF!"}}]
[10,"Calcasieu",{"$f":"#REF!+#REF!+#REF!+#REF!+#REF!+#REF!+#REF!","v":{"$error":"#REF!"}},{"$f":"'9_Per Pupil Summary'!O15","v":11379.212884571773},{"$f":"#REF!+#REF!+#REF!+#REF!+#REF!+#REF!+#REF!","v":{"$error":"#REF!"}},null,{"$f":"#REF!+#REF!+#REF!+#REF!+#REF!+#REF!+#REF!","v":{"$error":"#REF!"}},{"$f":"#REF!+#REF!+#REF!+#REF!+#REF!+#REF!+#REF!","v":{"$error":"#REF!"}},{"$f":"'9_Per Pupil Summary'!I15","v":482.95778367986406},{"$f":"#REF!+#REF!+#REF!+#REF!+#REF!+#REF!+#REF!","v":{"$error":"#REF!"}},{"$f":"#REF!+#REF!+#REF!+#REF!+#REF!+#REF!+#REF!","v":{"$error":"#REF!"}},{"$f":"'9_Per Pupil Summary'!J15","v":131.71575918541743},{"$f":"#REF!+#REF!+#REF!+#REF!+#REF!+#REF!+#REF!","v":{"$error":"#REF!"}},{"$f":"#REF!+#REF!+#REF!+#REF!+#REF!+#REF!+#REF!","v":{"$error":"#REF!"}},{"$f":"'9_Per Pupil Summary'!K15","v":3292.8939796354366},{"$f":"#REF!+#REF!+#REF!+#REF!+#REF!+#REF!+#REF!","v":{"$error":"#REF!"}},{"$f":"#REF!+#REF!+#REF!+#REF!+#REF!+#REF!+#REF!","v":{"$error":"#REF!"}},{"$f":"'9_Per Pupil Summary'!L15","v":1317.1575918541744},{"$f":"#REF!+#REF!+#REF!+#REF!+#REF!+#REF!+#REF!","v":{"$error":"#REF!"}},{"$f":"#REF!+#REF!+#REF!+#REF!+#REF!+#REF!+#REF!","v":{"$error":"#REF!"}},{"$f":"#REF!+#REF!+#REF!+#REF!+#REF!+#REF!+#REF!","v":{"$error":"#REF!"}},{"$f":"#REF!+#REF!+#REF!+#REF!+#REF!+#REF!+#REF!","v":{"$error":"#REF!"}},{"$f":"#REF!+#REF!+#REF!+#REF!+#REF!+#REF!+#REF!","v":{"$error":"#REF!"}},{"$f":"#REF!+#REF!+#REF!+#REF!+#REF!+#REF!+#REF!","v":{"$error":"#REF!"}},{"$f":"#REF!+#REF!+#REF!+#REF!+#REF!+#REF!+#REF!","v":{"$error":"#REF!"}},{"$f":"#REF!+#REF!+#REF!+#REF!+#REF!+#REF!+#REF!","v":{"$error":"#REF!"}},{"$f":"#REF!+#REF!+#REF!+#REF!+#REF!+#REF!+#REF!","v":{"$error":"#REF!"}},{"$f":"#REF!+#REF!+#REF!+#REF!+#REF!+#REF!+#REF!","v":{"$error":"#REF!"}},{"$f":"#REF!+#REF!+#REF!+#REF!+#REF!+#REF!+#REF!","v":{"$error":"#REF!"}},{"$f":"#REF!+#REF!+#REF!+#REF!+#REF!+#REF!+#REF!","v":{"$error":"#REF!"}},{"$f":"#REF!+#REF!+#REF!+#REF!+#REF!+#REF!+#REF!","v":{"$error":"#REF!"}},{"$f":"#REF!+#REF!+#REF!+#REF!+#REF!+#REF!+#REF!","v":{"$error":"#REF!"}}]
[11,"Caldwell",{"$f":"#REF!+#REF!+#REF!+#REF!+#REF!+#REF!+#REF!","v":{"$error":"#REF!"}},{"$f":"'9_Per Pupil Summary'!O16","v":9597.5328374245109},{"$f":"#REF!+#REF!+#REF!+#REF!+#REF!+#REF!+#REF!","v":{"$error":"#REF!"}},null,{"$f":"#REF!+#REF!+#REF!+#REF!+#REF!+#REF!+#REF!","v":{"$error":"#REF!"}},{"$f":"#REF!+#REF!+#REF!+#REF!+#REF!+#REF!+#REF!","v":{"$error":"#REF!"}},{"$f":"'9_Per Pupil Summary'!I16","v":731.40810335427136},{"$f":"#REF!+#REF!+#REF!+#REF!+#REF!+#REF!+#REF!","v":{"$error":"#REF!"}},{"$f":"#REF!+#REF!+#REF!+#REF!+#REF!+#REF!+#REF!","v":{"$error":"#REF!"}},{"$f":"'9_Per Pupil Summary'!J16","v":199.47493727843764},{"$f":"#REF!+#REF!+#REF!+#REF!+#REF!+#REF!+#REF!","v":{"$error":"#REF!"}},{"$f":"#REF!+#REF!+#REF!+#REF!+#REF!+#REF!+#REF!","v":{"$error":"#REF!"}},{"$f":"'9_Per Pupil Summary'!K16","v":4986.8734319609412},{"$f":"#REF!+#REF!+#REF!+#REF!+#REF!+#REF!+#REF!","v":{"$error":"#REF!"}},{"$f":"#REF!+#REF!+#REF!+#REF!+#REF!+#REF!+#REF!","v":{"$error":"#REF!"}},{"$f":"'9_Per Pupil Summary'!L16","v":1994.7493727843764},{"$f":"#REF!+#REF!+#REF!+#REF!+#REF!+#REF!+#REF!","v":{"$error":"#REF!"}},{"$f":"#REF!+#REF!+#REF!+#REF!+#REF!+#REF!+#REF!","v":{"$error":"#REF!"}},{"$f":"#REF!+#REF!+#REF!+#REF!+#REF!+#REF!+#REF!","v":{"$error":"#REF!"}},{"$f":"#REF!+#REF!+#REF!+#REF!+#REF!+#REF!+#REF!","v":{"$error":"#REF!"}},{"$f":"#REF!+#REF!+#REF!+#REF!+#REF!+#REF!+#REF!","v":{"$error":"#REF!"}},{"$f":"#REF!+#REF!+#REF!+#REF!+#REF!+#REF!+#REF!","v":{"$error":"#REF!"}},{"$f":"#REF!+#REF!+#REF!+#REF!+#REF!+#REF!+#REF!","v":{"$error":"#REF!"}},{"$f":"#REF!+#REF!+#REF!+#REF!+#REF!+#REF!+#REF!","v":{"$error":"#REF!"}},{"$f":"#REF!+#REF!+#REF!+#REF!+#REF!+#REF!+#REF!","v":{"$error":"#REF!"}},{"$f":"#REF!+#REF!+#REF!+#REF!+#REF!+#REF!+#REF!","v":{"$error":"#REF!"}},{"$f":"#REF!+#REF!+#REF!+#REF!+#REF!+#REF!+#REF!","v":{"$error":"#REF!"}},{"$f":"#REF!+#REF!+#REF!+#REF!+#REF!+#REF!+#REF!","v":{"$error":"#REF!"}},{"$f":"#REF!+#REF!+#REF!+#REF!+#REF!+#REF!+#REF!","v":{"$error":"#REF!"}},{"$f":"#REF!+#REF!+#REF!+#REF!+#REF!+#REF!+#REF!","v":{"$error":"#REF!"}}]
[12,"Cameron",{"$f":"#REF!+#REF!+#REF!+#REF!+#REF!+#REF!+#REF!","v":{"$error":"#REF!"}},{"$f":"'9_Per Pupil Summary'!O17","v":18241.70034847414},{"$f":"#REF!+#REF!+#REF!+#REF!+#REF!+#REF!+#REF!","v":{"$error":"#REF!"}},null,{"$f":"#REF!+#REF!+#REF!+#REF!+#REF!+#REF!+#REF!","v":{"$error":"#REF!"}},{"$f":"#REF!+#REF!+#REF!+#REF!+#REF!+#REF!+#REF!","v":{"$error":"#REF!"}},{"$f":"'9_Per Pupil Summary'!I17","v":220.82493055425402},{"$f":"#REF!+#REF!+#REF!+#REF!+#REF!+#REF!+#REF!","v":{"$error":"#REF!"}},{"$f":"#REF!+#REF!+#REF!+#REF!+#REF!+#REF!+#REF!","v":{"$error":"#REF!"}},{"$f":"'9_Per Pupil Summary'!J17","v":60.224981060251089},{"$f":"#REF!+#REF!+#REF!+#REF!+#REF!+#REF!+#REF!","v":{"$error":"#REF!"}},{"$f":"#REF!+#REF!+#REF!+#REF!+#REF!+#REF!+#REF!","v":{"$error":"#REF!"}},{"$f":"'9_Per Pupil Summary'!K17","v":1505.6245265062773},{"$f":"#REF!+#REF!+#REF!+#REF!+#REF!+#REF!+#REF!","v":{"$error":"#REF!"}},{"$f":"#REF!+#REF!+#REF!+#REF!+#REF!+#REF!+#REF!","v":{"$error":"#REF!"}},{"$f":"'9_Per Pupil Summary'!L17","v":602.24981060251093},{"$f":"#REF!+#REF!+#REF!+#REF!+#REF!+#REF!+#REF!","v":{"$error":"#REF!"}},{"$f":"#REF!+#REF!+#REF!+#REF!+#REF!+#REF!+#REF!","v":{"$error":"#REF!"}},{"$f":"#REF!+#REF!+#REF!+#REF!+#REF!+#REF!+#REF!","v":{"$error":"#REF!"}},{"$f":"#REF!+#REF!+#REF!+#REF!+#REF!+#REF!+#REF!","v":{"$error":"#REF!"}},{"$f":"#REF!+#REF!+#REF!+#REF!+#REF!+#REF!+#REF!","v":{"$error":"#REF!"}},{"$f":"#REF!+#REF!+#REF!+#REF!+#REF!+#REF!+#REF!","v":{"$error":"#REF!"}},{"$f":"#REF!+#REF!+#REF!+#REF!+#REF!+#REF!+#REF!","v":{"$error":"#REF!"}},{"$f":"#REF!+#REF!+#REF!+#REF!+#REF!+#REF!+#REF!","v":{"$error":"#REF!"}},{"$f":"#REF!+#REF!+#REF!+#REF!+#REF!+#REF!+#REF!","v":{"$error":"#REF!"}},{"$f":"#REF!+#REF!+#REF!+#REF!+#REF!+#REF!+#REF!","v":{"$error":"#REF!"}},{"$f":"#REF!+#REF!+#REF!+#REF!+#REF!+#REF!+#REF!","v":{"$error":"#REF!"}},{"$f":"#REF!+#REF!+#REF!+#REF!+#REF!+#REF!+#REF!","v":{"$error":"#REF!"}},{"$f":"#REF!+#REF!+#REF!+#REF!+#REF!+#REF!+#REF!","v":{"$error":"#REF!"}},{"$f":"#REF!+#REF!+#REF!+#REF!+#REF!+#REF!+#REF!","v":{"$error":"#REF!"}}]
[13,"Catahoula",{"$f":"#REF!+#REF!+#REF!+#REF!+#REF!+#REF!+#REF!","v":{"$error":"#REF!"}},{"$f":"'9_Per Pupil Summary'!O18","v":9629.1539063523196},{"$f":"#REF!+#REF!+#REF!+#REF!+#REF!+#REF!+#REF!","v":{"$error":"#REF!"}},null,{"$f":"#REF!+#REF!+#REF!+#REF!+#REF!+#REF!+#REF!","v":{"$error":"#REF!"}},{"$f":"#REF!+#REF!+#REF!+#REF!+#REF!+#REF!+#REF!","v":{"$error":"#REF!"}},{"$f":"'9_Per Pupil Summary'!I18","v":703.6049010641766},{"$f":"#REF!+#REF!+#REF!+#REF!+#REF!+#REF!+#REF!","v":{"$error":"#REF!"}},{"$f":"#REF!+#REF!+#REF!+#REF!+#REF!+#REF!+#REF!","v":{"$error":"#REF!"}},{"$f":"'9_Per Pupil Summary'!J18","v":191.89224574477544},{"$f":"#REF!+#REF!+#REF!+#REF!+#REF!+#REF!+#REF!","v":{"$error":"#REF!"}},{"$f":"#REF!+#REF!+#REF!+#REF!+#REF!+#REF!+#REF!","v":{"$error":"#REF!"}},{"$f":"'9_Per Pupil Summary'!K18","v":4797.3061436193857},{"$f":"#REF!+#REF!+#REF!+#REF!+#REF!+#REF!+#REF!","v":{"$error":"#REF!"}},{"$f":"#REF!+#REF!+#REF!+#REF!+#REF!+#REF!+#REF!","v":{"$error":"#REF!"}},{"$f":"'9_Per Pupil Summary'!L18","v":1918.9224574477539},{"$f":"#REF!+#REF!+#REF!+#REF!+#REF!+#REF!+#REF!","v":{"$error":"#REF!"}},{"$f":"#REF!+#REF!+#REF!+#REF!+#REF!+#REF!+#REF!","v":{"$error":"#REF!"}},{"$f":"#REF!+#REF!+#REF!+#REF!+#REF!+#REF!+#REF!","v":{"$error":"#REF!"}},{"$f":"#REF!+#REF!+#REF!+#REF!+#REF!+#REF!+#REF!","v":{"$error":"#REF!"}},{"$f":"#REF!+#REF!+#REF!+#REF!+#REF!+#REF!+#REF!","v":{"$error":"#REF!"}},{"$f":"#REF!+#REF!+#REF!+#REF!+#REF!+#REF!+#REF!","v":{"$error":"#REF!"}},{"$f":"#REF!+#REF!+#REF!+#REF!+#REF!+#REF!+#REF!","v":{"$error":"#REF!"}},{"$f":"#REF!+#REF!+#REF!+#REF!+#REF!+#REF!+#REF!","v":{"$error":"#REF!"}},{"$f":"#REF!+#REF!+#REF!+#REF!+#REF!+#REF!+#REF!","v":{"$error":"#REF!"}},{"$f":"#REF!+#REF!+#REF!+#REF!+#REF!+#REF!+#REF!","v":{"$error":"#REF!"}},{"$f":"#REF!+#REF!+#REF!+#REF!+#REF!+#REF!+#REF!","v":{"$error":"#REF!"}},{"$f":"#REF!+#REF!+#REF!+#REF!+#REF!+#REF!+#REF!","v":{"$error":"#REF!"}},{"$f":"#REF!+#REF!+#REF!+#REF!+#REF!+#REF!+#REF!","v":{"$error":"#REF!"}},{"$f":"#REF!+#REF!+#REF!+#REF!+#REF!+#REF!+#REF!","v":{"$error":"#REF!"}}]
[14,"Claiborne",{"$f":"#REF!+#REF!+#REF!+#REF!+#REF!+#REF!+#REF!","v":{"$error":"#REF!"}},{"$f":"'9_Per Pupil Summary'!O19","v":9218.0233187678496},{"$f":"#REF!+#REF!+#REF!+#REF!+#REF!+#REF!+#REF!","v":{"$error":"#REF!"}},null,{"$f":"#REF!+#REF!+#REF!+#REF!+#REF!+#REF!+#REF!","v":{"$error":"#REF!"}},{"$f":"#REF!+#REF!+#REF!+#REF!+#REF!+#REF!+#REF!","v":{"$error":"#REF!"}},{"$f":"'9_Per Pupil Summary'!I19","v":694.11603162146412},{"$f":"#REF!+#REF!+#REF!+#REF!+#REF!+#REF!+#REF!","v":{"$error":"#REF!"}},{"$f":"#REF!+#REF!+#REF!+#REF!+#REF!+#REF!+#REF!","v":{"$error":"#REF!"}},{"$f":"'9_Per Pupil Summary'!J19","v":189.3043722603993},{"$f":"#REF!+#REF!+#REF!+#REF!+#REF!+#REF!+#REF!","v":{"$error":"#REF!"}},{"$f":"#REF!+#REF!+#REF!+#REF!+#REF!+#REF!+#REF!","v":{"$error":"#REF!"}},{"$f":"'9_Per Pupil Summary'!K19","v":4732.6093065099831},{"$f":"#REF!+#REF!+#REF!+#REF!+#REF!+#REF!+#REF!","v":{"$error":"#REF!"}},{"$f":"#REF!+#REF!+#REF!+#REF!+#REF!+#REF!+#REF!","v":{"$error":"#REF!"}},{"$f":"'9_Per Pupil Summary'!L19","v":1893.0437226039928},{"$f":"#REF!+#REF!+#REF!+#REF!+#REF!+#REF!+#REF!","v":{"$error":"#REF!"}},{"$f":"#REF!+#REF!+#REF!+#REF!+#REF!+#REF!+#REF!","v":{"$error":"#REF!"}},{"$f":"#REF!+#REF!+#REF!+#REF!+#REF!+#REF!+#REF!","v":{"$error":"#REF!"}},{"$f":"#REF!+#REF!+#REF!+#REF!+#REF!+#REF!+#REF!","v":{"$error":"#REF!"}},{"$f":"#REF!+#REF!+#REF!+#REF!+#REF!+#REF!+#REF!","v":{"$error":"#REF!"}},{"$f":"#REF!+#REF!+#REF!+#REF!+#REF!+#REF!+#REF!","v":{"$error":"#REF!"}},{"$f":"#REF!+#REF!+#REF!+#REF!+#REF!+#REF!+#REF!","v":{"$error":"#REF!"}},{"$f":"#REF!+#REF!+#REF!+#REF!+#REF!+#REF!+#REF!","v":{"$error":"#REF!"}},{"$f":"#REF!+#REF!+#REF!+#REF!+#REF!+#REF!+#REF!","v":{"$error":"#REF!"}},{"$f":"#REF!+#REF!+#REF!+#REF!+#REF!+#REF!+#REF!","v":{"$error":"#REF!"}},{"$f":"#REF!+#REF!+#REF!+#REF!+#REF!+#REF!+#REF!","v":{"$error":"#REF!"}},{"$f":"#REF!+#REF!+#REF!+#REF!+#REF!+#REF!+#REF!","v":{"$error":"#REF!"}},{"$f":"#REF!+#REF!+#REF!+#REF!+#REF!+#REF!+#REF!","v":{"$error":"#REF!"}},{"$f":"#REF!+#REF!+#REF!+#REF!+#REF!+#REF!+#REF!","v":{"$error":"#REF!"}}]
[15,"Concordia",{"$f":"#REF!+#REF!+#REF!+#REF!+#REF!+#REF!+#REF!","v":{"$error":"#REF!"}},{"$f":"'9_Per Pupil Summary'!O20","v":8505.6958579328784},{"$f":"#REF!+#REF!+#REF!+#REF!+#REF!+#REF!+#REF!","v":{"$error":"#REF!"}},null,{"$f":"#REF!+#REF!+#REF!+#REF!+#REF!+#REF!+#REF!","v":{"$error":"#REF!"}},{"$f":"#REF!+#REF!+#REF!+#REF!+#REF!+#REF!+#REF!","v":{"$error":"#REF!"}},{"$f":"'9_Per Pupil Summary'!I20","v":703.93308874523325},{"$f":"#REF!+#REF!+#REF!+#REF!+#REF!+#REF!+#REF!","v":{"$error":"#REF!"}},{"$f":"#REF!+#REF!+#REF!+#REF!+#REF!+#REF!+#REF!","v":{"$error":"#REF!"}},{"$f":"'9_Per Pupil Summary'!J20","v":191.98175147597269},{"$f":"#REF!+#REF!+#REF!+#REF!+#REF!+#REF!+#REF!","v":{"$error":"#REF!"}},{"$f":"#REF!+#REF!+#REF!+#REF!+#REF!+#REF!+#REF!","v":{"$error":"#REF!"}},{"$f":"'9_Per Pupil Summary'!K20","v":4799.5437868993176},{"$f":"#REF!+#REF!+#REF!+#REF!+#REF!+#REF!+#REF!","v":{"$error":"#REF!"}},{"$f":"#REF!+#REF!+#REF!+#REF!+#REF!+#REF!+#REF!","v":{"$error":"#REF!"}},{"$f":"'9_Per Pupil Summary'!L20","v":1919.8175147597267},{"$f":"#REF!+#REF!+#REF!+#REF!+#REF!+#REF!+#REF!","v":{"$error":"#REF!"}},{"$f":"#REF!+#REF!+#REF!+#REF!+#REF!+#REF!+#REF!","v":{"$error":"#REF!"}},{"$f":"#REF!+#REF!+#REF!+#REF!+#REF!+#REF!+#REF!","v":{"$error":"#REF!"}},{"$f":"#REF!+#REF!+#REF!+#REF!+#REF!+#REF!+#REF!","v":{"$error":"#REF!"}},{"$f":"#REF!+#REF!+#REF!+#REF!+#REF!+#REF!+#REF!","v":{"$error":"#REF!"}},{"$f":"#REF!+#REF!+#REF!+#REF!+#REF!+#REF!+#REF!","v":{"$error":"#REF!"}},{"$f":"#REF!+#REF!+#REF!+#REF!+#REF!+#REF!+#REF!","v":{"$error":"#REF!"}},{"$f":"#REF!+#REF!+#REF!+#REF!+#REF!+#REF!+#REF!","v":{"$error":"#REF!"}},{"$f":"#REF!+#REF!+#REF!+#REF!+#REF!+#REF!+#REF!","v":{"$error":"#REF!"}},{"$f":"#REF!+#REF!+#REF!+#REF!+#REF!+#REF!+#REF!","v":{"$error":"#REF!"}},{"$f":"#REF!+#REF!+#REF!+#REF!+#REF!+#REF!+#REF!","v":{"$error":"#REF!"}},{"$f":"#REF!+#REF!+#REF!+#REF!+#REF!+#REF!+#REF!","v":{"$error":"#REF!"}},{"$f":"#REF!+#REF!+#REF!+#REF!+#REF!+#REF!+#REF!","v":{"$error":"#REF!"}},{"$f":"#REF!+#REF!+#REF!+#REF!+#REF!+#REF!+#REF!","v":{"$error":"#REF!"}}]
[16,"DeSoto",{"$f":"#REF!+#REF!+#REF!+#REF!+#REF!+#REF!+#REF!","v":{"$error":"#REF!"}},{"$f":"'9_Per Pupil Summary'!O21","v":20112.202479047792},{"$f":"#REF!+#REF!+#REF!+#REF!+#REF!+#REF!+#REF!","v":{"$error":"#REF!"}},null,{"$f":"#REF!+#REF!+#REF!+#REF!+#REF!+#REF!+#REF!","v":{"$error":"#REF!"}},{"$f":"#REF!+#REF!+#REF!+#REF!+#REF!+#REF!+#REF!","v":{"$error":"#REF!"}},{"$f":"'9_Per Pupil Summary'!I21","v":354.47547821847826},{"$f":"#REF!+#REF!+#REF!+#REF!+#REF!+#REF!+#REF!","v":{"$error":"#REF!"}},{"$f":"#REF!+#REF!+#REF!+#REF!+#REF!+#REF!+#REF!","v":{"$error":"#REF!"}},{"$f":"'9_Per Pupil Summary'!J21","v":96.675130423221333},{"$f":"#REF!+#REF!+#REF!+#REF!+#REF!+#REF!+#REF!","v":{"$error":"#REF!"}},{"$f":"#REF!+#REF!+#REF!+#REF!+#REF!+#REF!+#REF!","v":{"$error":"#REF!"}},{"$f":"'9_Per Pupil Summary'!K21","v":2416.8782605805332},{"$f":"#REF!+#REF!+#REF!+#REF!+#REF!+#REF!+#REF!","v":{"$error":"#REF!"}},{"$f":"#REF!+#REF!+#REF!+#REF!+#REF!+#REF!+#REF!","v":{"$error":"#REF!"}},{"$f":"'9_Per Pupil Summary'!L21","v":966.75130423221333},{"$f":"#REF!+#REF!+#REF!+#REF!+#REF!+#REF!+#REF!","v":{"$error":"#REF!"}},{"$f":"#REF!+#REF!+#REF!+#REF!+#REF!+#REF!+#REF!","v":{"$error":"#REF!"}},{"$f":"#REF!+#REF!+#REF!+#REF!+#REF!+#REF!+#REF!","v":{"$error":"#REF!"}},{"$f":"#REF!+#REF!+#REF!+#REF!+#REF!+#REF!+#REF!","v":{"$error":"#REF!"}},{"$f":"#REF!+#REF!+#REF!+#REF!+#REF!+#REF!+#REF!","v":{"$error":"#REF!"}},{"$f":"#REF!+#REF!+#REF!+#REF!+#REF!+#REF!+#REF!","v":{"$error":"#REF!"}},{"$f":"#REF!+#REF!+#REF!+#REF!+#REF!+#REF!+#REF!","v":{"$error":"#REF!"}},{"$f":"#REF!+#REF!+#REF!+#REF!+#REF!+#REF!+#REF!","v":{"$error":"#REF!"}},{"$f":"#REF!+#REF!+#REF!+#REF!+#REF!+#REF!+#REF!","v":{"$error":"#REF!"}},{"$f":"#REF!+#REF!+#REF!+#REF!+#REF!+#REF!+#REF!","v":{"$error":"#REF!"}},{"$f":"#REF!+#REF!+#REF!+#REF!+#REF!+#REF!+#REF!","v":{"$error":"#REF!"}},{"$f":"#REF!+#REF!+#REF!+#REF!+#REF!+#REF!+#REF!","v":{"$error":"#REF!"}},{"$f":"#REF!+#REF!+#REF!+#REF!+#REF!+#REF!+#REF!","v":{"$error":"#REF!"}},{"$f":"#REF!+#REF!+#REF!+#REF!+#REF!+#REF!+#REF!","v":{"$error":"#REF!"}}]
[17,"East Baton Rouge",{"$f":"#REF!+#REF!+#REF!+#REF!+#REF!+#REF!+#REF!","v":{"$error":"#REF!"}},{"$f":"'9_Per Pupil Summary'!O22","v":12114.97784936666},{"$f":"#REF!+#REF!+#REF!+#REF!+#REF!+#REF!+#REF!","v":{"$error":"#REF!"}},null,{"$f":"#REF!+#REF!+#REF!+#REF!+#REF!+#REF!+#REF!","v":{"$error":"#REF!"}},{"$f":"#REF!+#REF!+#REF!+#REF!+#REF!+#REF!+#REF!","v":{"$error":"#REF!"}},{"$f":"'9_Per Pupil Summary'!I22","v":431.56544401878006},{"$f":"#REF!+#REF!+#REF!+#REF!+#REF!+#REF!+#REF!","v":{"$error":"#REF!"}},{"$f":"#REF!+#REF!+#REF!+#REF!+#REF!+#REF!+#REF!","v":{"$error":"#REF!"}},{"$f":"'9_Per Pupil Summary'!J22","v":117.69966655057637},{"$f":"#REF!+#REF!+#REF!+#REF!+#REF!+#REF!+#REF!","v":{"$error":"#REF!"}},{"$f":"#REF!+#REF!+#REF!+#REF!+#REF!+#REF!+#REF!","v":{"$error":"#REF!"}},{"$f":"'9_Per Pupil Summary'!K22","v":2942.4916637644096},{"$f":"#REF!+#REF!+#REF!+#REF!+#REF!+#REF!+#REF!","v":{"$error":"#REF!"}},{"$f":"#REF!+#REF!+#REF!+#REF!+#REF!+#REF!+#REF!","v":{"$error":"#REF!"}},{"$f":"'9_Per Pupil Summary'!L22","v":1176.9966655057635},{"$f":"#REF!+#REF!+#REF!+#REF!+#REF!+#REF!+#REF!","v":{"$error":"#REF!"}},{"$f":"#REF!+#REF!+#REF!+#REF!+#REF!+#REF!+#REF!","v":{"$error":"#REF!"}},{"$f":"#REF!+#REF!+#REF!+#REF!+#REF!+#REF!+#REF!","v":{"$error":"#REF!"}},{"$f":"#REF!+#REF!+#REF!+#REF!+#REF!+#REF!+#REF!","v":{"$error":"#REF!"}},{"$f":"#REF!+#REF!+#REF!+#REF!+#REF!+#REF!+#REF!","v":{"$error":"#REF!"}},{"$f":"#REF!+#REF!+#REF!+#REF!+#REF!+#REF!+#REF!","v":{"$error":"#REF!"}},{"$f":"#REF!+#REF!+#REF!+#REF!+#REF!+#REF!+#REF!","v":{"$error":"#REF!"}},{"$f":"#REF!+#REF!+#REF!+#REF!+#REF!+#REF!+#REF!","v":{"$error":"#REF!"}},{"$f":"#REF!+#REF!+#REF!+#REF!+#REF!+#REF!+#REF!","v":{"$error":"#REF!"}},{"$f":"#REF!+#REF!+#REF!+#REF!+#REF!+#REF!+#REF!","v":{"$error":"#REF!"}},{"$f":"#REF!+#REF!+#REF!+#REF!+#REF!+#REF!+#REF!","v":{"$error":"#REF!"}},{"$f":"#REF!+#REF!+#REF!+#REF!+#REF!+#REF!+#REF!","v":{"$error":"#REF!"}},{"$f":"#REF!+#REF!+#REF!+#REF!+#REF!+#REF!+#REF!","v":{"$error":"#REF!"}},{"$f":"#REF!+#REF!+#REF!+#REF!+#REF!+#REF!+#REF!","v":{"$error":"#REF!"}}]
[18,"East Carroll",{"$f":"#REF!+#REF!+#REF!+#REF!+#REF!+#REF!+#REF!","v":{"$error":"#REF!"}},{"$f":"'9_Per Pupil Summary'!O23","v":9188.8114497390125},{"$f":"#REF!+#REF!+#REF!+#REF!+#REF!+#REF!+#REF!","v":{"$error":"#REF!"}},null,{"$f":"#REF!+#REF!+#REF!+#REF!+#REF!+#REF!+#REF!","v":{"$error":"#REF!"}},{"$f":"#REF!+#REF!+#REF!+#REF!+#REF!+#REF!+#REF!","v":{"$error":"#REF!"}},{"$f":"'9_Per Pupil Summary'!I23","v":678.44957714364136},{"$f":"#REF!+#REF!+#REF!+#REF!+#REF!+#REF!+#REF!","v":{"$error":"#REF!"}},{"$f":"#REF!+#REF!+#REF!+#REF!+#REF!+#REF!+#REF!","v":{"$error":"#REF!"}},{"$f":"'9_Per Pupil Summary'!J23","v":185.03170285735675},{"$f":"#REF!+#REF!+#REF!+#REF!+#REF!+#REF!+#REF!","v":{"$error":"#REF!"}},{"$f":"#REF!+#REF!+#REF!+#REF!+#REF!+#REF!+#REF!","v":{"$error":"#REF!"}},{"$f":"'9_Per Pupil Summary'!K23","v":4625.7925714339181},{"$f":"#REF!+#REF!+#REF!+#REF!+#REF!+#REF!+#REF!","v":{"$error":"#REF!"}},{"$f":"#REF!+#REF!+#REF!+#REF!+#REF!+#REF!+#REF!","v":{"$error":"#REF!"}},{"$f":"'9_Per Pupil Summary'!L23","v":0},{"$f":"#REF!+#REF!+#REF!+#REF!+#REF!+#REF!+#REF!","v":{"$error":"#REF!"}},{"$f":"#REF!+#REF!+#REF!+#REF!+#REF!+#REF!+#REF!","v":{"$error":"#REF!"}},{"$f":"#REF!+#REF!+#REF!+#REF!+#REF!+#REF!+#REF!","v":{"$error":"#REF!"}},{"$f":"#REF!+#REF!+#REF!+#REF!+#REF!+#REF!+#REF!","v":{"$error":"#REF!"}},{"$f":"#REF!+#REF!+#REF!+#REF!+#REF!+#REF!+#REF!","v":{"$error":"#REF!"}},{"$f":"#REF!+#REF!+#REF!+#REF!+#REF!+#REF!+#REF!","v":{"$error":"#REF!"}},{"$f":"#REF!+#REF!+#REF!+#REF!+#REF!+#REF!+#REF!","v":{"$error":"#REF!"}},{"$f":"#REF!+#REF!+#REF!+#REF!+#REF!+#REF!+#REF!","v":{"$error":"#REF!"}},{"$f":"#REF!+#REF!+#REF!+#REF!+#REF!+#REF!+#REF!","v":{"$error":"#REF!"}},{"$f":"#REF!+#REF!+#REF!+#REF!+#REF!+#REF!+#REF!","v":{"$error":"#REF!"}},{"$f":"#REF!+#REF!+#REF!+#REF!+#REF!+#REF!+#REF!","v":{"$error":"#REF!"}},{"$f":"#REF!+#REF!+#REF!+#REF!+#REF!+#REF!+#REF!","v":{"$error":"#REF!"}},{"$f":"#REF!+#REF!+#REF!+#REF!+#REF!+#REF!+#REF!","v":{"$error":"#REF!"}},{"$f":"#REF!+#REF!+#REF!+#REF!+#REF!+#REF!+#REF!","v":{"$error":"#REF!"}}]
[19,"East Feliciana",{"$f":"#REF!+#REF!+#REF!+#REF!+#REF!+#REF!+#REF!","v":{"$error":"#REF!"}},{"$f":"'9_Per Pupil Summary'!O24","v":9520.1834081884481},{"$f":"#REF!+#REF!+#REF!+#REF!+#REF!+#REF!+#REF!","v":{"$error":"#REF!"}},null,{"$f":"#REF!+#REF!+#REF!+#REF!+#REF!+#REF!+#REF!","v":{"$error":"#REF!"}},{"$f":"#REF!+#REF!+#REF!+#REF!+#REF!+#REF!+#REF!","v":{"$error":"#REF!"}},{"$f":"'9_Per Pupil Summary'!I24","v":536.63130247509093},{"$f":"#REF!+#REF!+#REF!+#REF!+#REF!+#REF!+#REF!","v":{"$error":"#REF!"}},{"$f":"#REF!+#REF!+#REF!+#REF!+#REF!+#REF!+#REF!","v":{"$error":"#REF!"}},{"$f":"'9_Per Pupil Summary'!J24","v":146.35399158411568},{"$f":"#REF!+#REF!+#REF!+#REF!+#REF!+#REF!+#REF!","v":{"$error":"#REF!"}},{"$f":"#REF!+#REF!+#REF!+#REF!+#REF!+#REF!+#REF!","v":{"$error":"#REF!"}},{"$f":"'9_Per Pupil Summary'!K24","v":3658.849789602893},{"$f":"#REF!+#REF!+#REF!+#REF!+#REF!+#REF!+#REF!","v":{"$error":"#REF!"}},{"$f":"#REF!+#REF!+#REF!+#REF!+#REF!+#REF!+#REF!","v":{"$error":"#REF!"}},{"$f":"'9_Per Pupil Summary'!L24","v":1463.5399158411569},{"$f":"#REF!+#REF!+#REF!+#REF!+#REF!+#REF!+#REF!","v":{"$error":"#REF!"}},{"$f":"#REF!+#REF!+#REF!+#REF!+#REF!+#REF!+#REF!","v":{"$error":"#REF!"}},{"$f":"#REF!+#REF!+#REF!+#REF!+#REF!+#REF!+#REF!","v":{"$error":"#REF!"}},{"$f":"#REF!+#REF!+#REF!+#REF!+#REF!+#REF!+#REF!","v":{"$error":"#REF!"}},{"$f":"#REF!+#REF!+#REF!+#REF!+#REF!+#REF!+#REF!","v":{"$error":"#REF!"}},{"$f":"#REF!+#REF!+#REF!+#REF!+#REF!+#REF!+#REF!","v":{"$error":"#REF!"}},{"$f":"#REF!+#REF!+#REF!+#REF!+#REF!+#REF!+#REF!","v":{"$error":"#REF!"}},{"$f":"#REF!+#REF!+#REF!+#REF!+#REF!+#REF!+#REF!","v":{"$error":"#REF!"}},{"$f":"#REF!+#REF!+#REF!+#REF!+#REF!+#REF!+#REF!","v":{"$error":"#REF!"}},{"$f":"#REF!+#REF!+#REF!+#REF!+#REF!+#REF!+#REF!","v":{"$error":"#REF!"}},{"$f":"#REF!+#REF!+#REF!+#REF!+#REF!+#REF!+#REF!","v":{"$error":"#REF!"}},{"$f":"#REF!+#REF!+#REF!+#REF!+#REF!+#REF!+#REF!","v":{"$error":"#REF!"}},{"$f":"#REF!+#REF!+#REF!+#REF!+#REF!+#REF!+#REF!","v":{"$error":"#REF!"}},{"$f":"#REF!+#REF!+#REF!+#REF!+#REF!+#REF!+#REF!","v":{"$error":"#REF!"}}]
[20,"Evangeline",{"$f":"#REF!+#REF!+#REF!+#REF!+#REF!+#REF!+#REF!","v":{"$error":"#REF!"}},{"$f":"'9_Per Pupil Summary'!O25","v":8185.0389180691218},{"$f":"#REF!+#REF!+#REF!+#REF!+#REF!+#REF!+#REF!","v":{"$error":"#REF!"}},null,{"$f":"#REF!+#REF!+#REF!+#REF!+#REF!+#REF!+#REF!","v":{"$error":"#REF!"}},{"$f":"#REF!+#REF!+#REF!+#REF!+#REF!+#REF!+#REF!","v":{"$error":"#REF!"}},{"$f":"'9_Per Pupil Summary'!I25","v":717.86856197520683},{"$f":"#REF!+#REF!+#REF!+#REF!+#REF!+#REF!+#REF!","v":{"$error":"#REF!"}},{"$f":"#REF!+#REF!+#REF!+#REF!+#REF!+#REF!+#REF!","v":{"$error":"#REF!"}},{"$f":"'9_Per Pupil Summary'!J25","v":195.78233508414732},{"$f":"#REF!+#REF!+#REF!+#REF!+#REF!+#REF!+#REF!","v":{"$error":"#REF!"}},{"$f":"#REF!+#REF!+#REF!+#REF!+#REF!+#REF!+#REF!","v":{"$error":"#REF!"}},{"$f":"'9_Per Pupil Summary'!K25","v":4894.5583771036827},{"$f":"#REF!+#REF!+#REF!+#REF!+#REF!+#REF!+#REF!","v":{"$error":"#REF!"}},{"$f":"#REF!+#REF!+#REF!+#REF!+#REF!+#REF!+#REF!","v":{"$error":"#REF!"}},{"$f":"'9_Per Pupil Summary'!L25","v":1957.8233508414728},{"$f":"#REF!+#REF!+#REF!+#REF!+#REF!+#REF!+#REF!","v":{"$error":"#REF!"}},{"$f":"#REF!+#REF!+#REF!+#REF!+#REF!+#REF!+#REF!","v":{"$error":"#REF!"}},{"$f":"#REF!+#REF!+#REF!+#REF!+#REF!+#REF!+#REF!","v":{"$error":"#REF!"}},{"$f":"#REF!+#REF!+#REF!+#REF!+#REF!+#REF!+#REF!","v":{"$error":"#REF!"}},{"$f":"#REF!+#REF!+#REF!+#REF!+#REF!+#REF!+#REF!","v":{"$error":"#REF!"}},{"$f":"#REF!+#REF!+#REF!+#REF!+#REF!+#REF!+#REF!","v":{"$error":"#REF!"}},{"$f":"#REF!+#REF!+#REF!+#REF!+#REF!+#REF!+#REF!","v":{"$error":"#REF!"}},{"$f":"#REF!+#REF!+#REF!+#REF!+#REF!+#REF!+#REF!","v":{"$error":"#REF!"}},{"$f":"#REF!+#REF!+#REF!+#REF!+#REF!+#REF!+#REF!","v":{"$error":"#REF!"}},{"$f":"#REF!+#REF!+#REF!+#REF!+#REF!+#REF!+#REF!","v":{"$error":"#REF!"}},{"$f":"#REF!+#REF!+#REF!+#REF!+#REF!+#REF!+#REF!","v":{"$error":"#REF!"}},{"$f":"#REF!+#REF!+#REF!+#REF!+#REF!+#REF!+#REF!","v":{"$error":"#REF!"}},{"$f":"#REF!+#REF!+#REF!+#REF!+#REF!+#REF!+#REF!","v":{"$error":"#REF!"}},{"$f":"#REF!+#REF!+#REF!+#REF!+#REF!+#REF!+#REF!","v":{"$error":"#REF!"}}]
[21,"Franklin",{"$f":"#REF!+#REF!+#REF!+#REF!+#REF!+#REF!+#REF!","v":{"$error":"#REF!"}},{"$f":"'9_Per Pupil Summary'!O26","v":8543.299745075743},{"$f":"#REF!+#REF!+#REF!+#REF!+#REF!+#REF!+#REF!","v":{"$error":"#REF!"}},null,{"$f":"#REF!+#REF!+#REF!+#REF!+#REF!+#REF!+#REF!","v":{"$error":"#REF!"}},{"$f":"#REF!+#REF!+#REF!+#REF!+#REF!+#REF!+#REF!","v":{"$error":"#REF!"}},{"$f":"'9_Per Pupil Summary'!I26","v":707.81691438079838},{"$f":"#REF!+#REF!+#REF!+#REF!+#REF!+#REF!+#REF!","v":{"$error":"#REF!"}},{"$f":"#REF!+#REF!+#REF!+#REF!+#REF!+#REF!+#REF!","v":{"$error":"#REF!"}},{"$f":"'9_Per Pupil Summary'!J26","v":193.04097664930865},{"$f":"#REF!+#REF!+#REF!+#REF!+#REF!+#REF!+#REF!","v":{"$error":"#REF!"}},{"$f":"#REF!+#REF!+#REF!+#REF!+#REF!+#REF!+#REF!","v":{"$error":"#REF!"}},{"$f":"'9_Per Pupil Summary'!K26","v":4826.0244162327162},{"$f":"#REF!+#REF!+#REF!+#REF!+#REF!+#REF!+#REF!","v":{"$error":"#REF!"}},{"$f":"#REF!+#REF!+#REF!+#REF!+#REF!+#REF!+#REF!","v":{"$error":"#REF!"}},{"$f":"'9_Per Pupil Summary'!L26","v":1930.4097664930862},{"$f":"#REF!+#REF!+#REF!+#REF!+#REF!+#REF!+#REF!","v":{"$error":"#REF!"}},{"$f":"#REF!+#REF!+#REF!+#REF!+#REF!+#REF!+#REF!","v":{"$error":"#REF!"}},{"$f":"#REF!+#REF!+#REF!+#REF!+#REF!+#REF!+#REF!","v":{"$error":"#REF!"}},{"$f":"#REF!+#REF!+#REF!+#REF!+#REF!+#REF!+#REF!","v":{"$error":"#REF!"}},{"$f":"#REF!+#REF!+#REF!+#REF!+#REF!+#REF!+#REF!","v":{"$error":"#REF!"}},{"$f":"#REF!+#REF!+#REF!+#REF!+#REF!+#REF!+#REF!","v":{"$error":"#REF!"}},{"$f":"#REF!+#REF!+#REF!+#REF!+#REF!+#REF!+#REF!","v":{"$error":"#REF!"}},{"$f":"#REF!+#REF!+#REF!+#REF!+#REF!+#REF!+#REF!","v":{"$error":"#REF!"}},{"$f":"#REF!+#REF!+#REF!+#REF!+#REF!+#REF!+#REF!","v":{"$error":"#REF!"}},{"$f":"#REF!+#REF!+#REF!+#REF!+#REF!+#REF!+#REF!","v":{"$error":"#REF!"}},{"$f":"#REF!+#REF!+#REF!+#REF!+#REF!+#REF!+#REF!","v":{"$error":"#REF!"}},{"$f":"#REF!+#REF!+#REF!+#REF!+#REF!+#REF!+#REF!","v":{"$error":"#REF!"}},{"$f":"#REF!+#REF!+#REF!+#REF!+#REF!+#REF!+#REF!","v":{"$error":"#REF!"}},{"$f":"#REF!+#REF!+#REF!+#REF!+#REF!+#REF!+#REF!","v":{"$error":"#REF!"}}]
[22,"Grant",{"$f":"#REF!+#REF!+#REF!+#REF!+#REF!+#REF!+#REF!","v":{"$error":"#REF!"}},{"$f":"'9_Per Pupil Summary'!O27","v":7969.4632708037871},{"$f":"#REF!+#REF!+#REF!+#REF!+#REF!+#REF!+#REF!","v":{"$error":"#REF!"}},null,{"$f":"#REF!+#REF!+#REF!+#REF!+#REF!+#REF!+#REF!","v":{"$error":"#REF!"}},{"$f":"#REF!+#REF!+#REF!+#REF!+#REF!+#REF!+#REF!","v":{"$error":"#REF!"}},{"$f":"'9_Per Pupil Summary'!I27","v":768.79289500497907},{"$f":"#REF!+#REF!+#REF!+#REF!+#REF!+#REF!+#REF!","v":{"$error":"#REF!"}},{"$f":"#REF!+#REF!+#REF!+#REF!+#REF!+#REF!+#REF!","v":{"$error":"#REF!"}},{"$f":"'9_Per Pupil Summary'!J27","v":209.67078954681244},{"$f":"#REF!+#REF!+#REF!+#REF!+#REF!+#REF!+#REF!","v":{"$error":"#REF!"}},{"$f":"#REF!+#REF!+#REF!+#REF!+#REF!+#REF!+#REF!","v":{"$error":"#REF!"}},{"$f":"'9_Per Pupil Summary'!K27","v":5241.7697386703112},{"$f":"#REF!+#REF!+#REF!+#REF!+#REF!+#REF!+#REF!","v":{"$error":"#REF!"}},{"$f":"#REF!+#REF!+#REF!+#REF!+#REF!+#REF!+#REF!","v":{"$error":"#REF!"}},{"$f":"'9_Per Pupil Summary'!L27","v":2096.7078954681242},{"$f":"#REF!+#REF!+#REF!+#REF!+#REF!+#REF!+#REF!","v":{"$error":"#REF!"}},{"$f":"#REF!+#REF!+#REF!+#REF!+#REF!+#REF!+#REF!","v":{"$error":"#REF!"}},{"$f":"#REF!+#REF!+#REF!+#REF!+#REF!+#REF!+#REF!","v":{"$error":"#REF!"}},{"$f":"#REF!+#REF!+#REF!+#REF!+#REF!+#REF!+#REF!","v":{"$error":"#REF!"}},{"$f":"#REF!+#REF!+#REF!+#REF!+#REF!+#REF!+#REF!","v":{"$error":"#REF!"}},{"$f":"#REF!+#REF!+#REF!+#REF!+#REF!+#REF!+#REF!","v":{"$error":"#REF!"}},{"$f":"#REF!+#REF!+#REF!+#REF!+#REF!+#REF!+#REF!","v":{"$error":"#REF!"}},{"$f":"#REF!+#REF!+#REF!+#REF!+#REF!+#REF!+#REF!","v":{"$error":"#REF!"}},{"$f":"#REF!+#REF!+#REF!+#REF!+#REF!+#REF!+#REF!","v":{"$error":"#REF!"}},{"$f":"#REF!+#REF!+#REF!+#REF!+#REF!+#REF!+#REF!","v":{"$error":"#REF!"}},{"$f":"#REF!+#REF!+#REF!+#REF!+#REF!+#REF!+#REF!","v":{"$error":"#REF!"}},{"$f":"#REF!+#REF!+#REF!+#REF!+#REF!+#REF!+#REF!","v":{"$error":"#REF!"}},{"$f":"#REF!+#REF!+#REF!+#REF!+#REF!+#REF!+#REF!","v":{"$error":"#REF!"}},{"$f":"#REF!+#REF!+#REF!+#REF!+#REF!+#REF!+#REF!","v":{"$error":"#REF!"}}]
[23,"Iberia",{"$f":"#REF!+#REF!+#REF!+#REF!+#REF!+#REF!+#REF!","v":{"$error":"#REF!"}},{"$f":"'9_Per Pupil Summary'!O28","v":8893.230480584607},{"$f":"#REF!+#REF!+#REF!+#REF!+#REF!+#REF!+#REF!","v":{"$error":"#REF!"}},null,{"$f":"#REF!+#REF!+#REF!+#REF!+#REF!+#REF!+#REF!","v":{"$error":"#REF!"}},{"$f":"#REF!+#REF!+#REF!+#REF!+#REF!+#REF!+#REF!","v":{"$error":"#REF!"}},{"$f":"'9_Per Pupil Summary'!I28","v":657.64165703406115},{"$f":"#REF!+#REF!+#REF!+#REF!+#REF!+#REF!+#REF!","v":{"$error":"#REF!"}},{"$f":"#REF!+#REF!+#REF!+#REF!+#REF!+#REF!+#REF!","v":{"$error":"#REF!"}},{"$f":"'9_Per Pupil Summary'!J28","v":179.35681555474395},{"$f":"#REF!+#REF!+#REF!+#REF!+#REF!+#REF!+#REF!","v":{"$error":"#REF!"}},{"$f":"#REF!+#REF!+#REF!+#REF!+#REF!+#REF!+#REF!","v":{"$error":"#REF!"}},{"$f":"'9_Per Pupil Summary'!K28","v":4483.9203888685997},{"$f":"#REF!+#REF!+#REF!+#REF!+#REF!+#REF!+#REF!","v":{"$error":"#REF!"}},{"$f":"#REF!+#REF!+#REF!+#REF!+#REF!+#REF!+#REF!","v":{"$error":"#REF!"}},{"$f":"'9_Per Pupil Summary'!L28","v":1793.5681555474393},{"$f":"#REF!+#REF!+#REF!+#REF!+#REF!+#REF!+#REF!","v":{"$error":"#REF!"}},{"$f":"#REF!+#REF!+#REF!+#REF!+#REF!+#REF!+#REF!","v":{"$error":"#REF!"}},{"$f":"#REF!+#REF!+#REF!+#REF!+#REF!+#REF!+#REF!","v":{"$error":"#REF!"}},{"$f":"#REF!+#REF!+#REF!+#REF!+#REF!+#REF!+#REF!","v":{"$error":"#REF!"}},{"$f":"#REF!+#REF!+#REF!+#REF!+#REF!+#REF!+#REF!","v":{"$error":"#REF!"}},{"$f":"#REF!+#REF!+#REF!+#REF!+#REF!+#REF!+#REF!","v":{"$error":"#REF!"}},{"$f":"#REF!+#REF!+#REF!+#REF!+#REF!+#REF!+#REF!","v":{"$error":"#REF!"}},{"$f":"#REF!+#REF!+#REF!+#REF!+#REF!+#REF!+#REF!","v":{"$error":"#REF!"}},{"$f":"#REF!+#REF!+#REF!+#REF!+#REF!+#REF!+#REF!","v":{"$error":"#REF!"}},{"$f":"#REF!+#REF!+#REF!+#REF!+#REF!+#REF!+#REF!","v":{"$error":"#REF!"}},{"$f":"#REF!+#REF!+#REF!+#REF!+#REF!+#REF!+#REF!","v":{"$error":"#REF!"}},{"$f":"#REF!+#REF!+#REF!+#REF!+#REF!+#REF!+#REF!","v":{"$error":"#REF!"}},{"$f":"#REF!+#REF!+#REF!+#REF!+#REF!+#REF!+#REF!","v":{"$error":"#REF!"}},{"$f":"#REF!+#REF!+#REF!+#REF!+#REF!+#REF!+#REF!","v":{"$error":"#REF!"}}]
[24,"Iberville",{"$f":"#REF!+#REF!+#REF!+#REF!+#REF!+#REF!+#REF!","v":{"$error":"#REF!"}},{"$f":"'9_Per Pupil Summary'!O29","v":25149.509026589218},{"$f":"#REF!+#REF!+#REF!+#REF!+#REF!+#REF!+#REF!","v":{"$error":"#REF!"}},null,{"$f":"#REF!+#REF!+#REF!+#REF!+#REF!+#REF!+#REF!","v":{"$error":"#REF!"}},{"$f":"#REF!+#REF!+#REF!+#REF!+#REF!+#REF!+#REF!","v":{"$error":"#REF!"}},{"$f":"'9_Per Pupil Summary'!I29","v":220.82500110755942},{"$f":"#REF!+#REF!+#REF!+#REF!+#REF!+#REF!+#REF!","v":{"$error":"#REF!"}},{"$f":"#REF!+#REF!+#REF!+#REF!+#REF!+#REF!+#REF!","v":{"$error":"#REF!"}},{"$f":"'9_Per Pupil Summary'!J29","v":60.225000302061645},{"$f":"#REF!+#REF!+#REF!+#REF!+#REF!+#REF!+#REF!","v":{"$error":"#REF!"}},{"$f":"#REF!+#REF!+#REF!+#REF!+#REF!+#REF!+#REF!","v":{"$error":"#REF!"}},{"$f":"'9_Per Pupil Summary'!K29","v":1505.6250075515413},{"$f":"#REF!+#REF!+#REF!+#REF!+#REF!+#REF!+#REF!","v":{"$error":"#REF!"}},{"$f":"#REF!+#REF!+#REF!+#REF!+#REF!+#REF!+#REF!","v":{"$error":"#REF!"}},{"$f":"'9_Per Pupil Summary'!L29","v":602.25000302061642},{"$f":"#REF!+#REF!+#REF!+#REF!+#REF!+#REF!+#REF!","v":{"$error":"#REF!"}},{"$f":"#REF!+#REF!+#REF!+#REF!+#REF!+#REF!+#REF!","v":{"$error":"#REF!"}},{"$f":"#REF!+#REF!+#REF!+#REF!+#REF!+#REF!+#REF!","v":{"$error":"#REF!"}},{"$f":"#REF!+#REF!+#REF!+#REF!+#REF!+#REF!+#REF!","v":{"$error":"#REF!"}},{"$f":"#REF!+#REF!+#REF!+#REF!+#REF!+#REF!+#REF!","v":{"$error":"#REF!"}},{"$f":"#REF!+#REF!+#REF!+#REF!+#REF!+#REF!+#REF!","v":{"$error":"#REF!"}},{"$f":"#REF!+#REF!+#REF!+#REF!+#REF!+#REF!+#REF!","v":{"$error":"#REF!"}},{"$f":"#REF!+#REF!+#REF!+#REF!+#REF!+#REF!+#REF!","v":{"$error":"#REF!"}},{"$f":"#REF!+#REF!+#REF!+#REF!+#REF!+#REF!+#REF!","v":{"$error":"#REF!"}},{"$f":"#REF!+#REF!+#REF!+#REF!+#REF!+#REF!+#REF!","v":{"$error":"#REF!"}},{"$f":"#REF!+#REF!+#REF!+#REF!+#REF!+#REF!+#REF!","v":{"$error":"#REF!"}},{"$f":"#REF!+#REF!+#REF!+#REF!+#REF!+#REF!+#REF!","v":{"$error":"#REF!"}},{"$f":"#REF!+#REF!+#REF!+#REF!+#REF!+#REF!+#REF!","v":{"$error":"#REF!"}},{"$f":"#REF!+#REF!+#REF!+#REF!+#REF!+#REF!+#REF!","v":{"$error":"#REF!"}}]
[25,"Jackson",{"$f":"#REF!+#REF!+#REF!+#REF!+#REF!+#REF!+#REF!","v":{"$error":"#REF!"}},{"$f":"'9_Per Pupil Summary'!O30","v":9851.8649586075662},{"$f":"#REF!+#REF!+#REF!+#REF!+#REF!+#REF!+#REF!","v":{"$error":"#REF!"}},null,{"$f":"#REF!+#REF!+#REF!+#REF!+#REF!+#REF!+#REF!","v":{"$error":"#REF!"}},{"$f":"#REF!+#REF!+#REF!+#REF!+#REF!+#REF!+#REF!","v":{"$error":"#REF!"}},{"$f":"'9_Per Pupil Summary'!I30","v":619.06126978042096},{"$f":"#REF!+#REF!+#REF!+#REF!+#REF!+#REF!+#REF!","v":{"$error":"#REF!"}},{"$f":"#REF!+#REF!+#REF!+#REF!+#REF!+#REF!+#REF!","v":{"$error":"#REF!"}},{"$f":"'9_Per Pupil Summary'!J30","v":168.83489175829661},{"$f":"#REF!+#REF!+#REF!+#REF!+#REF!+#REF!+#REF!","v":{"$error":"#REF!"}},{"$f":"#REF!+#REF!+#REF!+#REF!+#REF!+#REF!+#REF!","v":{"$error":"#REF!"}},{"$f":"'9_Per Pupil Summary'!K30","v":4220.8722939574154},{"$f":"#REF!+#REF!+#REF!+#REF!+#REF!+#REF!+#REF!","v":{"$error":"#REF!"}},{"$f":"#REF!+#REF!+#REF!+#REF!+#REF!+#REF!+#REF!","v":{"$error":"#REF!"}},{"$f":"'9_Per Pupil Summary'!L30","v":1688.3489175829659},{"$f":"#REF!+#REF!+#REF!+#REF!+#REF!+#REF!+#REF!","v":{"$error":"#REF!"}},{"$f":"#REF!+#REF!+#REF!+#REF!+#REF!+#REF!+#REF!","v":{"$error":"#REF!"}},{"$f":"#REF!+#REF!+#REF!+#REF!+#REF!+#REF!+#REF!","v":{"$error":"#REF!"}},{"$f":"#REF!+#REF!+#REF!+#REF!+#REF!+#REF!+#REF!","v":{"$error":"#REF!"}},{"$f":"#REF!+#REF!+#REF!+#REF!+#REF!+#REF!+#REF!","v":{"$error":"#REF!"}},{"$f":"#REF!+#REF!+#REF!+#REF!+#REF!+#REF!+#REF!","v":{"$error":"#REF!"}},{"$f":"#REF!+#REF!+#REF!+#REF!+#REF!+#REF!+#REF!","v":{"$error":"#REF!"}},{"$f":"#REF!+#REF!+#REF!+#REF!+#REF!+#REF!+#REF!","v":{"$error":"#REF!"}},{"$f":"#REF!+#REF!+#REF!+#REF!+#REF!+#REF!+#REF!","v":{"$error":"#REF!"}},{"$f":"#REF!+#REF!+#REF!+#REF!+#REF!+#REF!+#REF!","v":{"$error":"#REF!"}},{"$f":"#REF!+#REF!+#REF!+#REF!+#REF!+#REF!+#REF!","v":{"$error":"#REF!"}},{"$f":"#REF!+#REF!+#REF!+#REF!+#REF!+#REF!+#REF!","v":{"$error":"#REF!"}},{"$f":"#REF!+#REF!+#REF!+#REF!+#REF!+#REF!+#REF!","v":{"$error":"#REF!"}},{"$f":"#REF!+#REF!+#REF!+#REF!+#REF!+#REF!+#REF!","v":{"$error":"#REF!"}}]
[26,"Jefferson",{"$f":"#REF!+#REF!+#REF!+#REF!+#REF!+#REF!+#REF!","v":{"$error":"#REF!"}},{"$f":"'9_Per Pupil Summary'!O31","v":10594.943389899938},{"$f":"#REF!+#REF!+#REF!+#REF!+#REF!+#REF!+#REF!","v":{"$error":"#REF!"}},null,{"$f":"#REF!+#REF!+#REF!+#REF!+#REF!+#REF!+#REF!","v":{"$error":"#REF!"}},{"$f":"#REF!+#REF!+#REF!+#REF!+#REF!+#REF!+#REF!","v":{"$error":"#REF!"}},{"$f":"'9_Per Pupil Summary'!I31","v":474.33372044939267},{"$f":"#REF!+#REF!+#REF!+#REF!+#REF!+#REF!+#REF!","v":{"$error":"#REF!"}},{"$f":"#REF!+#REF!+#REF!+#REF!+#REF!+#REF!+#REF!","v":{"$error":"#REF!"}},{"$f":"'9_Per Pupil Summary'!J31","v":129.36374194074347},{"$f":"#REF!+#REF!+#REF!+#REF!+#REF!+#REF!+#REF!","v":{"$error":"#REF!"}},{"$f":"#REF!+#REF!+#REF!+#REF!+#REF!+#REF!+#REF!","v":{"$error":"#REF!"}},{"$f":"'9_Per Pupil Summary'!K31","v":3234.0935485185864},{"$f":"#REF!+#REF!+#REF!+#REF!+#REF!+#REF!+#REF!","v":{"$error":"#REF!"}},{"$f":"#REF!+#REF!+#REF!+#REF!+#REF!+#REF!+#REF!","v":{"$error":"#REF!"}},{"$f":"'9_Per Pupil Summary'!L31","v":1293.6374194074344},{"$f":"#REF!+#REF!+#REF!+#REF!+#REF!+#REF!+#REF!","v":{"$error":"#REF!"}},{"$f":"#REF!+#REF!+#REF!+#REF!+#REF!+#REF!+#REF!","v":{"$error":"#REF!"}},{"$f":"#REF!+#REF!+#REF!+#REF!+#REF!+#REF!+#REF!","v":{"$error":"#REF!"}},{"$f":"#REF!+#REF!+#REF!+#REF!+#REF!+#REF!+#REF!","v":{"$error":"#REF!"}},{"$f":"#REF!+#REF!+#REF!+#REF!+#REF!+#REF!+#REF!","v":{"$error":"#REF!"}},{"$f":"#REF!+#REF!+#REF!+#REF!+#REF!+#REF!+#REF!","v":{"$error":"#REF!"}},{"$f":"#REF!+#REF!+#REF!+#REF!+#REF!+#REF!+#REF!","v":{"$error":"#REF!"}},{"$f":"#REF!+#REF!+#REF!+#REF!+#REF!+#REF!+#REF!","v":{"$error":"#REF!"}},{"$f":"#REF!+#REF!+#REF!+#REF!+#REF!+#REF!+#REF!","v":{"$error":"#REF!"}},{"$f":"#REF!+#REF!+#REF!+#REF!+#REF!+#REF!+#REF!","v":{"$error":"#REF!"}},{"$f":"#REF!+#REF!+#REF!+#REF!+#REF!+#REF!+#REF!","v":{"$error":"#REF!"}},{"$f":"#REF!+#REF!+#REF!+#REF!+#REF!+#REF!+#REF!","v":{"$error":"#REF!"}},{"$f":"#REF!+#REF!+#REF!+#REF!+#REF!+#REF!+#REF!","v":{"$error":"#REF!"}},{"$f":"#REF!+#REF!+#REF!+#REF!+#REF!+#REF!+#REF!","v":{"$error":"#REF!"}}]
[27,"Jefferson Davis",{"$f":"#REF!+#REF!+#REF!+#REF!+#REF!+#REF!+#REF!","v":{"$error":"#REF!"}},{"$f":"'9_Per Pupil Summary'!O32","v":9417.026360831489},{"$f":"#REF!+#REF!+#REF!+#REF!+#REF!+#REF!+#REF!","v":{"$error":"#REF!"}},null,{"$f":"#REF!+#REF!+#REF!+#REF!+#REF!+#REF!+#REF!","v":{"$error":"#REF!"}},{"$f":"#REF!+#REF!+#REF!+#REF!+#REF!+#REF!+#REF!","v":{"$error":"#REF!"}},{"$f":"'9_Per Pupil Summary'!I32","v":685.31673955386759},{"$f":"#REF!+#REF!+#REF!+#REF!+#REF!+#REF!+#REF!","v":{"$error":"#REF!"}},{"$f":"#REF!+#REF!+#REF!+#REF!+#REF!+#REF!+#REF!","v":{"$error":"#REF!"}},{"$f":"'9_Per Pupil Summary'!J32","v":186.90456533287301},{"$f":"#REF!+#REF!+#REF!+#REF!+#REF!+#REF!+#REF!","v":{"$error":"#REF!"}},{"$f":"#REF!+#REF!+#REF!+#REF!+#REF!+#REF!+#REF!","v":{"$error":"#REF!"}},{"$f":"'9_Per Pupil Summary'!K32","v":4672.6141333218238},{"$f":"#REF!+#REF!+#REF!+#REF!+#REF!+#REF!+#REF!","v":{"$error":"#REF!"}},{"$f":"#REF!+#REF!+#REF!+#REF!+#REF!+#REF!+#REF!","v":{"$error":"#REF!"}},{"$f":"'9_Per Pupil Summary'!L32","v":1869.0456533287297},{"$f":"#REF!+#REF!+#REF!+#REF!+#REF!+#REF!+#REF!","v":{"$error":"#REF!"}},{"$f":"#REF!+#REF!+#REF!+#REF!+#REF!+#REF!+#REF!","v":{"$error":"#REF!"}},{"$f":"#REF!+#REF!+#REF!+#REF!+#REF!+#REF!+#REF!","v":{"$error":"#REF!"}},{"$f":"#REF!+#REF!+#REF!+#REF!+#REF!+#REF!+#REF!","v":{"$error":"#REF!"}},{"$f":"#REF!+#REF!+#REF!+#REF!+#REF!+#REF!+#REF!","v":{"$error":"#REF!"}},{"$f":"#REF!+#REF!+#REF!+#REF!+#REF!+#REF!+#REF!","v":{"$error":"#REF!"}},{"$f":"#REF!+#REF!+#REF!+#REF!+#REF!+#REF!+#REF!","v":{"$error":"#REF!"}},{"$f":"#REF!+#REF!+#REF!+#REF!+#REF!+#REF!+#REF!","v":{"$error":"#REF!"}},{"$f":"#REF!+#REF!+#REF!+#REF!+#REF!+#REF!+#REF!","v":{"$error":"#REF!"}},{"$f":"#REF!+#REF!+#REF!+#REF!+#REF!+#REF!+#REF!","v":{"$error":"#REF!"}},{"$f":"#REF!+#REF!+#REF!+#REF!+#REF!+#REF!+#REF!","v":{"$error":"#REF!"}},{"$f":"#REF!+#REF!+#REF!+#REF!+#REF!+#REF!+#REF!","v":{"$error":"#REF!"}},{"$f":"#REF!+#REF!+#REF!+#REF!+#REF!+#REF!+#REF!","v":{"$error":"#REF!"}},{"$f":"#REF!+#REF!+#REF!+#REF!+#REF!+#REF!+#REF!","v":{"$error":"#REF!"}}]
[28,"Lafayette",{"$f":"#REF!+#REF!+#REF!+#REF!+#REF!+#REF!+#REF!","v":{"$error":"#REF!"}},{"$f":"'9_Per Pupil Summary'!O33","v":10194.151880684285},{"$f":"#REF!+#REF!+#REF!+#REF!+#REF!+#REF!+#REF!","v":{"$error":"#REF!"}},null,{"$f":"#REF!+#REF!+#REF!+#REF!+#REF!+#REF!+#REF!","v":{"$error":"#REF!"}},{"$f":"#REF!+#REF!+#REF!+#REF!+#REF!+#REF!+#REF!","v":{"$error":"#REF!"}},{"$f":"'9_Per Pupil Summary'!I33","v":522.3267074892774},{"$f":"#REF!+#REF!+#REF!+#REF!+#REF!+#REF!+#REF!","v":{"$error":"#REF!"}},{"$f":"#REF!+#REF!+#REF!+#REF!+#REF!+#REF!+#REF!","v":{"$error":"#REF!"}},{"$f":"'9_Per Pupil Summary'!J33","v":142.45273840616659},{"$f":"#REF!+#REF!+#REF!+#REF!+#REF!+#REF!+#REF!","v":{"$error":"#REF!"}},{"$f":"#REF!+#REF!+#REF!+#REF!+#REF!+#REF!+#REF!","v":{"$error":"#REF!"}},{"$f":"'9_Per Pupil Summary'!K33","v":3561.3184601541639},{"$f":"#REF!+#REF!+#REF!+#REF!+#REF!+#REF!+#REF!","v":{"$error":"#REF!"}},{"$f":"#REF!+#REF!+#REF!+#REF!+#REF!+#REF!+#REF!","v":{"$error":"#REF!"}},{"$f":"'9_Per Pupil Summary'!L33","v":1424.5273840616655},{"$f":"#REF!+#REF!+#REF!+#REF!+#REF!+#REF!+#REF!","v":{"$error":"#REF!"}},{"$f":"#REF!+#REF!+#REF!+#REF!+#REF!+#REF!+#REF!","v":{"$error":"#REF!"}},{"$f":"#REF!+#REF!+#REF!+#REF!+#REF!+#REF!+#REF!","v":{"$error":"#REF!"}},{"$f":"#REF!+#REF!+#REF!+#REF!+#REF!+#REF!+#REF!","v":{"$error":"#REF!"}},{"$f":"#REF!+#REF!+#REF!+#REF!+#REF!+#REF!+#REF!","v":{"$error":"#REF!"}},{"$f":"#REF!+#REF!+#REF!+#REF!+#REF!+#REF!+#REF!","v":{"$error":"#REF!"}},{"$f":"#REF!+#REF!+#REF!+#REF!+#REF!+#REF!+#REF!","v":{"$error":"#REF!"}},{"$f":"#REF!+#REF!+#REF!+#REF!+#REF!+#REF!+#REF!","v":{"$error":"#REF!"}},{"$f":"#REF!+#REF!+#REF!+#REF!+#REF!+#REF!+#REF!","v":{"$error":"#REF!"}},{"$f":"#REF!+#REF!+#REF!+#REF!+#REF!+#REF!+#REF!","v":{"$error":"#REF!"}},{"$f":"#REF!+#REF!+#REF!+#REF!+#REF!+#REF!+#REF!","v":{"$error":"#REF!"}},{"$f":"#REF!+#REF!+#REF!+#REF!+#REF!+#REF!+#REF!","v":{"$error":"#REF!"}},{"$f":"#REF!+#REF!+#REF!+#REF!+#REF!+#REF!+#REF!","v":{"$error":"#REF!"}},{"$f":"#REF!+#REF!+#REF!+#REF!+#REF!+#REF!+#REF!","v":{"$error":"#REF!"}}]
[29,"Lafourche",{"$f":"#REF!+#REF!+#REF!+#REF!+#REF!+#REF!+#REF!","v":{"$error":"#REF!"}},{"$f":"'9_Per Pupil Summary'!O34","v":9921.1250027942879},{"$f":"#REF!+#REF!+#REF!+#REF!+#REF!+#REF!+#REF!","v":{"$error":"#REF!"}},null,{"$f":"#REF!+#REF!+#REF!+#REF!+#REF!+#REF!+#REF!","v":{"$error":"#REF!"}},{"$f":"#REF!+#REF!+#REF!+#REF!+#REF!+#REF!+#REF!","v":{"$error":"#REF!"}},{"$f":"'9_Per Pupil Summary'!I34","v":619.11845669098818},{"$f":"#REF!+#REF!+#REF!+#REF!+#REF!+#REF!+#REF!","v":{"$error":"#REF!"}},{"$f":"#REF!+#REF!+#REF!+#REF!+#REF!+#REF!+#REF!","v":{"$error":"#REF!"}},{"$f":"'9_Per Pupil Summary'!J34","v":168.85048818845129},{"$f":"#REF!+#REF!+#REF!+#REF!+#REF!+#REF!+#REF!","v":{"$error":"#REF!"}},{"$f":"#REF!+#REF!+#REF!+#REF!+#REF!+#REF!+#REF!","v":{"$error":"#REF!"}},{"$f":"'9_Per Pupil Summary'!K34","v":4221.2622047112827},{"$f":"#REF!+#REF!+#REF!+#REF!+#REF!+#REF!+#REF!","v":{"$error":"#REF!"}},{"$f":"#REF!+#REF!+#REF!+#REF!+#REF!+#REF!+#REF!","v":{"$error":"#REF!"}},{"$f":"'9_Per Pupil Summary'!L34","v":1688.504881884513},{"$f":"#REF!+#REF!+#REF!+#REF!+#REF!+#REF!+#REF!","v":{"$error":"#REF!"}},{"$f":"#REF!+#REF!+#REF!+#REF!+#REF!+#REF!+#REF!","v":{"$error":"#REF!"}},{"$f":"#REF!+#REF!+#REF!+#REF!+#REF!+#REF!+#REF!","v":{"$error":"#REF!"}},{"$f":"#REF!+#REF!+#REF!+#REF!+#REF!+#REF!+#REF!","v":{"$error":"#REF!"}},{"$f":"#REF!+#REF!+#REF!+#REF!+#REF!+#REF!+#REF!","v":{"$error":"#REF!"}},{"$f":"#REF!+#REF!+#REF!+#REF!+#REF!+#REF!+#REF!","v":{"$error":"#REF!"}},{"$f":"#REF!+#REF!+#REF!+#REF!+#REF!+#REF!+#REF!","v":{"$error":"#REF!"}},{"$f":"#REF!+#REF!+#REF!+#REF!+#REF!+#REF!+#REF!","v":{"$error":"#REF!"}},{"$f":"#REF!+#REF!+#REF!+#REF!+#REF!+#REF!+#REF!","v":{"$error":"#REF!"}},{"$f":"#REF!+#REF!+#REF!+#REF!+#REF!+#REF!+#REF!","v":{"$error":"#REF!"}},{"$f":"#REF!+#REF!+#REF!+#REF!+#REF!+#REF!+#REF!","v":{"$error":"#REF!"}},{"$f":"#REF!+#REF!+#REF!+#REF!+#REF!+#REF!+#REF!","v":{"$error":"#REF!"}},{"$f":"#REF!+#REF!+#REF!+#REF!+#REF!+#REF!+#REF!","v":{"$error":"#REF!"}},{"$f":"#REF!+#REF!+#REF!+#REF!+#REF!+#REF!+#REF!","v":{"$error":"#REF!"}}]
[30,"LaSalle",{"$f":"#REF!+#REF!+#REF!+#REF!+#REF!+#REF!+#REF!","v":{"$error":"#REF!"}},{"$f":"'9_Per Pupil Summary'!O35","v":10448.400248822081},{"$f":"#REF!+#REF!+#REF!+#REF!+#REF!+#REF!+#REF!","v":{"$error":"#REF!"}},null,{"$f":"#REF!+#REF!+#REF!+#REF!+#REF!+#REF!+#REF!","v":{"$error":"#REF!"}},{"$f":"#REF!+#REF!+#REF!+#REF!+#REF!+#REF!+#REF!","v":{"$error":"#REF!"}},{"$f":"'9_Per Pupil Summary'!I35","v":707.17901364496743},{"$f":"#REF!+#REF!+#REF!+#REF!+#REF!+#REF!+#REF!","v":{"$error":"#REF!"}},{"$f":"#REF!+#REF!+#REF!+#REF!+#REF!+#REF!+#REF!","v":{"$error":"#REF!"}},{"$f":"'9_Per Pupil Summary'!J35","v":192.86700372135473},{"$f":"#REF!+#REF!+#REF!+#REF!+#REF!+#REF!+#REF!","v":{"$error":"#REF!"}},{"$f":"#REF!+#REF!+#REF!+#REF!+#REF!+#REF!+#REF!","v":{"$error":"#REF!"}},{"$f":"'9_Per Pupil Summary'!K35","v":4821.6750930338685},{"$f":"#REF!+#REF!+#REF!+#REF!+#REF!+#REF!+#REF!","v":{"$error":"#REF!"}},{"$f":"#REF!+#REF!+#REF!+#REF!+#REF!+#REF!+#REF!","v":{"$error":"#REF!"}},{"$f":"'9_Per Pupil Summary'!L35","v":1928.6700372135476},{"$f":"#REF!+#REF!+#REF!+#REF!+#REF!+#REF!+#REF!","v":{"$error":"#REF!"}},{"$f":"#REF!+#REF!+#REF!+#REF!+#REF!+#REF!+#REF!","v":{"$error":"#REF!"}},{"$f":"#REF!+#REF!+#REF!+#REF!+#REF!+#REF!+#REF!","v":{"$error":"#REF!"}},{"$f":"#REF!+#REF!+#REF!+#REF!+#REF!+#REF!+#REF!","v":{"$error":"#REF!"}},{"$f":"#REF!+#REF!+#REF!+#REF!+#REF!+#REF!+#REF!","v":{"$error":"#REF!"}},{"$f":"#REF!+#REF!+#REF!+#REF!+#REF!+#REF!+#REF!","v":{"$error":"#REF!"}},{"$f":"#REF!+#REF!+#REF!+#REF!+#REF!+#REF!+#REF!","v":{"$error":"#REF!"}},{"$f":"#REF!+#REF!+#REF!+#REF!+#REF!+#REF!+#REF!","v":{"$error":"#REF!"}},{"$f":"#REF!+#REF!+#REF!+#REF!+#REF!+#REF!+#REF!","v":{"$error":"#REF!"}},{"$f":"#REF!+#REF!+#REF!+#REF!+#REF!+#REF!+#REF!","v":{"$error":"#REF!"}},{"$f":"#REF!+#REF!+#REF!+#REF!+#REF!+#REF!+#REF!","v":{"$error":"#REF!"}},{"$f":"#REF!+#REF!+#REF!+#REF!+#REF!+#REF!+#REF!","v":{"$error":"#REF!"}},{"$f":"#REF!+#REF!+#REF!+#REF!+#REF!+#REF!+#REF!","v":{"$error":"#REF!"}},{"$f":"#REF!+#REF!+#REF!+#REF!+#REF!+#REF!+#REF!","v":{"$error":"#REF!"}}]
[31,"Lincoln",{"$f":"#REF!+#REF!+#REF!+#REF!+#REF!+#REF!+#REF!","v":{"$error":"#REF!"}},{"$f":"'9_Per Pupil Summary'!O36","v":11940.241124303737},{"$f":"#REF!+#REF!+#REF!+#REF!+#REF!+#REF!+#REF!","v":{"$error":"#REF!"}},null,{"$f":"#REF!+#REF!+#REF!+#REF!+#REF!+#REF!+#REF!","v":{"$error":"#REF!"}},{"$f":"#REF!+#REF!+#REF!+#REF!+#REF!+#REF!+#REF!","v":{"$error":"#REF!"}},{"$f":"'9_Per Pupil Summary'!I36","v":578.44399068230177},{"$f":"#REF!+#REF!+#REF!+#REF!+#REF!+#REF!+#REF!","v":{"$error":"#REF!"}},{"$f":"#REF!+#REF!+#REF!+#REF!+#REF!+#REF!+#REF!","v":{"$error":"#REF!"}},{"$f":"'9_Per Pupil Summary'!J36","v":157.75745200426411},{"$f":"#REF!+#REF!+#REF!+#REF!+#REF!+#REF!+#REF!","v":{"$error":"#REF!"}},{"$f":"#REF!+#REF!+#REF!+#REF!+#REF!+#REF!+#REF!","v":{"$error":"#REF!"}},{"$f":"'9_Per Pupil Summary'!K36","v":3943.9363001066026},{"$f":"#REF!+#REF!+#REF!+#REF!+#REF!+#REF!+#REF!","v":{"$error":"#REF!"}},{"$f":"#REF!+#REF!+#REF!+#REF!+#REF!+#REF!+#REF!","v":{"$error":"#REF!"}},{"$f":"'9_Per Pupil Summary'!L36","v":1577.5745200426411},{"$f":"#REF!+#REF!+#REF!+#REF!+#REF!+#REF!+#REF!","v":{"$error":"#REF!"}},{"$f":"#REF!+#REF!+#REF!+#REF!+#REF!+#REF!+#REF!","v":{"$error":"#REF!"}},{"$f":"#REF!+#REF!+#REF!+#REF!+#REF!+#REF!+#REF!","v":{"$error":"#REF!"}},{"$f":"#REF!+#REF!+#REF!+#REF!+#REF!+#REF!+#REF!","v":{"$error":"#REF!"}},{"$f":"#REF!+#REF!+#REF!+#REF!+#REF!+#REF!+#REF!","v":{"$error":"#REF!"}},{"$f":"#REF!+#REF!+#REF!+#REF!+#REF!+#REF!+#REF!","v":{"$error":"#REF!"}},{"$f":"#REF!+#REF!+#REF!+#REF!+#REF!+#REF!+#REF!","v":{"$error":"#REF!"}},{"$f":"#REF!+#REF!+#REF!+#REF!+#REF!+#REF!+#REF!","v":{"$error":"#REF!"}},{"$f":"#REF!+#REF!+#REF!+#REF!+#REF!+#REF!+#REF!","v":{"$error":"#REF!"}},{"$f":"#REF!+#REF!+#REF!+#REF!+#REF!+#REF!+#REF!","v":{"$error":"#REF!"}},{"$f":"#REF!+#REF!+#REF!+#REF!+#REF!+#REF!+#REF!","v":{"$error":"#REF!"}},{"$f":"#REF!+#REF!+#REF!+#REF!+#REF!+#REF!+#REF!","v":{"$error":"#REF!"}},{"$f":"#REF!+#REF!+#REF!+#REF!+#REF!+#REF!+#REF!","v":{"$error":"#REF!"}},{"$f":"#REF!+#REF!+#REF!+#REF!+#REF!+#REF!+#REF!","v":{"$error":"#REF!"}}]
[32,"Livingston",{"$f":"#REF!+#REF!+#REF!+#REF!+#REF!+#REF!+#REF!","v":{"$error":"#REF!"}},{"$f":"'9_Per Pupil Summary'!O37","v":8431.1472843957163},{"$f":"#REF!+#REF!+#REF!+#REF!+#REF!+#REF!+#REF!","v":{"$error":"#REF!"}},null,{"$f":"#REF!+#REF!+#REF!+#REF!+#REF!+#REF!+#REF!","v":{"$error":"#REF!"}},{"$f":"#REF!+#REF!+#REF!+#REF!+#REF!+#REF!+#REF!","v":{"$error":"#REF!"}},{"$f":"'9_Per Pupil Summary'!I37","v":725.82335309179541},{"$f":"#REF!+#REF!+#REF!+#REF!+#REF!+#REF!+#REF!","v":{"$error":"#REF!"}},{"$f":"#REF!+#REF!+#REF!+#REF!+#REF!+#REF!+#REF!","v":{"$error":"#REF!"}},{"$f":"'9_Per Pupil Summary'!J37","v":197.95182357048964},{"$f":"#REF!+#REF!+#REF!+#REF!+#REF!+#REF!+#REF!","v":{"$error":"#REF!"}},{"$f":"#REF!+#REF!+#REF!+#REF!+#REF!+#REF!+#REF!","v":{"$error":"#REF!"}},{"$f":"'9_Per Pupil Summary'!K37","v":4948.7955892622413},{"$f":"#REF!+#REF!+#REF!+#REF!+#REF!+#REF!+#REF!","v":{"$error":"#REF!"}},{"$f":"#REF!+#REF!+#REF!+#REF!+#REF!+#REF!+#REF!","v":{"$error":"#REF!"}},{"$f":"'9_Per Pupil Summary'!L37","v":1979.5182357048966},{"$f":"#REF!+#REF!+#REF!+#REF!+#REF!+#REF!+#REF!","v":{"$error":"#REF!"}},{"$f":"#REF!+#REF!+#REF!+#REF!+#REF!+#REF!+#REF!","v":{"$error":"#REF!"}},{"$f":"#REF!+#REF!+#REF!+#REF!+#REF!+#REF!+#REF!","v":{"$error":"#REF!"}},{"$f":"#REF!+#REF!+#REF!+#REF!+#REF!+#REF!+#REF!","v":{"$error":"#REF!"}},{"$f":"#REF!+#REF!+#REF!+#REF!+#REF!+#REF!+#REF!","v":{"$error":"#REF!"}},{"$f":"#REF!+#REF!+#REF!+#REF!+#REF!+#REF!+#REF!","v":{"$error":"#REF!"}},{"$f":"#REF!+#REF!+#REF!+#REF!+#REF!+#REF!+#REF!","v":{"$error":"#REF!"}},{"$f":"#REF!+#REF!+#REF!+#REF!+#REF!+#REF!+#REF!","v":{"$error":"#REF!"}},{"$f":"#REF!+#REF!+#REF!+#REF!+#REF!+#REF!+#REF!","v":{"$error":"#REF!"}},{"$f":"#REF!+#REF!+#REF!+#REF!+#REF!+#REF!+#REF!","v":{"$error":"#REF!"}},{"$f":"#REF!+#REF!+#REF!+#REF!+#REF!+#REF!+#REF!","v":{"$error":"#REF!"}},{"$f":"#REF!+#REF!+#REF!+#REF!+#REF!+#REF!+#REF!","v":{"$error":"#REF!"}},{"$f":"#REF!+#REF!+#REF!+#REF!+#REF!+#REF!+#REF!","v":{"$error":"#REF!"}},{"$f":"#REF!+#REF!+#REF!+#REF!+#REF!+#REF!+#REF!","v":{"$error":"#REF!"}}]
[33,"Madison",{"$f":"#REF!+#REF!+#REF!+#REF!+#REF!+#REF!+#REF!","v":{"$error":"#REF!"}},{"$f":"'9_Per Pupil Summary'!O38","v":9273.0110133020571},{"$f":"#REF!+#REF!+#REF!+#REF!+#REF!+#REF!+#REF!","v":{"$error":"#REF!"}},null,{"$f":"#REF!+#REF!+#REF!+#REF!+#REF!+#REF!+#REF!","v":{"$error":"#REF!"}},{"$f":"#REF!+#REF!+#REF!+#REF!+#REF!+#REF!+#REF!","v":{"$error":"#REF!"}},{"$f":"'9_Per Pupil Summary'!I38","v":629.65331401556159},{"$f":"#REF!+#REF!+#REF!+#REF!+#REF!+#REF!+#REF!","v":{"$error":"#REF!"}},{"$f":"#REF!+#REF!+#REF!+#REF!+#REF!+#REF!+#REF!","v":{"$error":"#REF!"}},{"$f":"'9_Per Pupil Summary'!J38","v":171.72363109515319},{"$f":"#REF!+#REF!+#REF!+#REF!+#REF!+#REF!+#REF!","v":{"$error":"#REF!"}},{"$f":"#REF!+#REF!+#REF!+#REF!+#REF!+#REF!+#REF!","v":{"$error":"#REF!"}},{"$f":"'9_Per Pupil Summary'!K38","v":4293.0907773788304},{"$f":"#REF!+#REF!+#REF!+#REF!+#REF!+#REF!+#REF!","v":{"$error":"#REF!"}},{"$f":"#REF!+#REF!+#REF!+#REF!+#REF!+#REF!+#REF!","v":{"$error":"#REF!"}},{"$f":"'9_Per Pupil Summary'!L38","v":1717.2363109515318},{"$f":"#REF!+#REF!+#REF!+#REF!+#REF!+#REF!+#REF!","v":{"$error":"#REF!"}},{"$f":"#REF!+#REF!+#REF!+#REF!+#REF!+#REF!+#REF!","v":{"$error":"#REF!"}},{"$f":"#REF!+#REF!+#REF!+#REF!+#REF!+#REF!+#REF!","v":{"$error":"#REF!"}},{"$f":"#REF!+#REF!+#REF!+#REF!+#REF!+#REF!+#REF!","v":{"$error":"#REF!"}},{"$f":"#REF!+#REF!+#REF!+#REF!+#REF!+#REF!+#REF!","v":{"$error":"#REF!"}},{"$f":"#REF!+#REF!+#REF!+#REF!+#REF!+#REF!+#REF!","v":{"$error":"#REF!"}},{"$f":"#REF!+#REF!+#REF!+#REF!+#REF!+#REF!+#REF!","v":{"$error":"#REF!"}},{"$f":"#REF!+#REF!+#REF!+#REF!+#REF!+#REF!+#REF!","v":{"$error":"#REF!"}},{"$f":"#REF!+#REF!+#REF!+#REF!+#REF!+#REF!+#REF!","v":{"$error":"#REF!"}},{"$f":"#REF!+#REF!+#REF!+#REF!+#REF!+#REF!+#REF!","v":{"$error":"#REF!"}},{"$f":"#REF!+#REF!+#REF!+#REF!+#REF!+#REF!+#REF!","v":{"$error":"#REF!"}},{"$f":"#REF!+#REF!+#REF!+#REF!+#REF!+#REF!+#REF!","v":{"$error":"#REF!"}},{"$f":"#REF!+#REF!+#REF!+#REF!+#REF!+#REF!+#REF!","v":{"$error":"#REF!"}},{"$f":"#REF!+#REF!+#REF!+#REF!+#REF!+#REF!+#REF!","v":{"$error":"#REF!"}}]
[34,"Morehouse",{"$f":"#REF!+#REF!+#REF!+#REF!+#REF!+#REF!+#REF!","v":{"$error":"#REF!"}},{"$f":"'9_Per Pupil Summary'!O39","v":9633.2273245298929},{"$f":"#REF!+#REF!+#REF!+#REF!+#REF!+#REF!+#REF!","v":{"$error":"#REF!"}},null,{"$f":"#REF!+#REF!+#REF!+#REF!+#REF!+#REF!+#REF!","v":{"$error":"#REF!"}},{"$f":"#REF!+#REF!+#REF!+#REF!+#REF!+#REF!+#REF!","v":{"$error":"#REF!"}},{"$f":"'9_Per Pupil Summary'!I39","v":688.66095598095944},{"$f":"#REF!+#REF!+#REF!+#REF!+#REF!+#REF!+#REF!","v":{"$error":"#REF!"}},{"$f":"#REF!+#REF!+#REF!+#REF!+#REF!+#REF!+#REF!","v":{"$error":"#REF!"}},{"$f":"'9_Per Pupil Summary'!J39","v":187.81662435844345},{"$f":"#REF!+#REF!+#REF!+#REF!+#REF!+#REF!+#REF!","v":{"$error":"#REF!"}},{"$f":"#REF!+#REF!+#REF!+#REF!+#REF!+#REF!+#REF!","v":{"$error":"#REF!"}},{"$f":"'9_Per Pupil Summary'!K39","v":4695.4156089610869},{"$f":"#REF!+#REF!+#REF!+#REF!+#REF!+#REF!+#REF!","v":{"$error":"#REF!"}},{"$f":"#REF!+#REF!+#REF!+#REF!+#REF!+#REF!+#REF!","v":{"$error":"#REF!"}},{"$f":"'9_Per Pupil Summary'!L39","v":1878.1662435844341},{"$f":"#REF!+#REF!+#REF!+#REF!+#REF!+#REF!+#REF!","v":{"$error":"#REF!"}},{"$f":"#REF!+#REF!+#REF!+#REF!+#REF!+#REF!+#REF!","v":{"$error":"#REF!"}},{"$f":"#REF!+#REF!+#REF!+#REF!+#REF!+#REF!+#REF!","v":{"$error":"#REF!"}},{"$f":"#REF!+#REF!+#REF!+#REF!+#REF!+#REF!+#REF!","v":{"$error":"#REF!"}},{"$f":"#REF!+#REF!+#REF!+#REF!+#REF!+#REF!+#REF!","v":{"$error":"#REF!"}},{"$f":"#REF!+#REF!+#REF!+#REF!+#REF!+#REF!+#REF!","v":{"$error":"#REF!"}},{"$f":"#REF!+#REF!+#REF!+#REF!+#REF!+#REF!+#REF!","v":{"$error":"#REF!"}},{"$f":"#REF!+#REF!+#REF!+#REF!+#REF!+#REF!+#REF!","v":{"$error":"#REF!"}},{"$f":"#REF!+#REF!+#REF!+#REF!+#REF!+#REF!+#REF!","v":{"$error":"#REF!"}},{"$f":"#REF!+#REF!+#REF!+#REF!+#REF!+#REF!+#REF!","v":{"$error":"#REF!"}},{"$f":"#REF!+#REF!+#REF!+#REF!+#REF!+#REF!+#REF!","v":{"$error":"#REF!"}},{"$f":"#REF!+#REF!+#REF!+#REF!+#REF!+#REF!+#REF!","v":{"$error":"#REF!"}},{"$f":"#REF!+#REF!+#REF!+#REF!+#REF!+#REF!+#REF!","v":{"$error":"#REF!"}},{"$f":"#REF!+#REF!+#REF!+#REF!+#REF!+#REF!+#REF!","v":{"$error":"#REF!"}}]
[35,"Natchitoches",{"$f":"#REF!+#REF!+#REF!+#REF!+#REF!+#REF!+#REF!","v":{"$error":"#REF!"}},{"$f":"'9_Per Pupil Summary'!O40","v":10607.414783748483},{"$f":"#REF!+#REF!+#REF!+#REF!+#REF!+#REF!+#REF!","v":{"$error":"#REF!"}},null,{"$f":"#REF!+#REF!+#REF!+#REF!+#REF!+#REF!+#REF!","v":{"$error":"#REF!"}},{"$f":"#REF!+#REF!+#REF!+#REF!+#REF!+#REF!+#REF!","v":{"$error":"#REF!"}},{"$f":"'9_Per Pupil Summary'!I40","v":575.84220185500828},{"$f":"#REF!+#REF!+#REF!+#REF!+#REF!+#REF!+#REF!","v":{"$error":"#REF!"}},{"$f":"#REF!+#REF!+#REF!+#REF!+#REF!+#REF!+#REF!","v":{"$error":"#REF!"}},{"$f":"'9_Per Pupil Summary'!J40","v":157.04787323318405},{"$f":"#REF!+#REF!+#REF!+#REF!+#REF!+#REF!+#REF!","v":{"$error":"#REF!"}},{"$f":"#REF!+#REF!+#REF!+#REF!+#REF!+#REF!+#REF!","v":{"$error":"#REF!"}},{"$f":"'9_Per Pupil Summary'!K40","v":3926.1968308296014},{"$f":"#REF!+#REF!+#REF!+#REF!+#REF!+#REF!+#REF!","v":{"$error":"#REF!"}},{"$f":"#REF!+#REF!+#REF!+#REF!+#REF!+#REF!+#REF!","v":{"$error":"#REF!"}},{"$f":"'9_Per Pupil Summary'!L40","v":1570.4787323318403},{"$f":"#REF!+#REF!+#REF!+#REF!+#REF!+#REF!+#REF!","v":{"$error":"#REF!"}},{"$f":"#REF!+#REF!+#REF!+#REF!+#REF!+#REF!+#REF!","v":{"$error":"#REF!"}},{"$f":"#REF!+#REF!+#REF!+#REF!+#REF!+#REF!+#REF!","v":{"$error":"#REF!"}},{"$f":"#REF!+#REF!+#REF!+#REF!+#REF!+#REF!+#REF!","v":{"$error":"#REF!"}},{"$f":"#REF!+#REF!+#REF!+#REF!+#REF!+#REF!+#REF!","v":{"$error":"#REF!"}},{"$f":"#REF!+#REF!+#REF!+#REF!+#REF!+#REF!+#REF!","v":{"$error":"#REF!"}},{"$f":"#REF!+#REF!+#REF!+#REF!+#REF!+#REF!+#REF!","v":{"$error":"#REF!"}},{"$f":"#REF!+#REF!+#REF!+#REF!+#REF!+#REF!+#REF!","v":{"$error":"#REF!"}},{"$f":"#REF!+#REF!+#REF!+#REF!+#REF!+#REF!+#REF!","v":{"$error":"#REF!"}},{"$f":"#REF!+#REF!+#REF!+#REF!+#REF!+#REF!+#REF!","v":{"$error":"#REF!"}},{"$f":"#REF!+#REF!+#REF!+#REF!+#REF!+#REF!+#REF!","v":{"$error":"#REF!"}},{"$f":"#REF!+#REF!+#REF!+#REF!+#REF!+#REF!+#REF!","v":{"$error":"#REF!"}},{"$f":"#REF!+#REF!+#REF!+#REF!+#REF!+#REF!+#REF!","v":{"$error":"#REF!"}},{"$f":"#REF!+#REF!+#REF!+#REF!+#REF!+#REF!+#REF!","v":{"$error":"#REF!"}}]
[36,"Orleans (Total)*",{"$f":"#REF!+#REF!+#REF!+#REF!+#REF!+#REF!+#REF!","v":{"$error":"#REF!"}},{"$f":"'9_Per Pupil Summary'!O41","v":11400.333423047954},{"$f":"#REF!+#REF!+#REF!+#REF!+#REF!+#REF!+#REF!","v":{"$error":"#REF!"}},null,{"$f":"#REF!+#REF!+#REF!+#REF!+#REF!+#REF!+#REF!","v":{"$error":"#REF!"}},{"$f":"#REF!+#REF!+#REF!+#REF!+#REF!+#REF!+#REF!","v":{"$error":"#REF!"}},{"$f":"'9_Per Pupil Summary'!I41","v":503.66430403637469},{"$f":"#REF!+#REF!+#REF!+#REF!+#REF!+#REF!+#REF!","v":{"$error":"#REF!"}},{"$f":"#REF!+#REF!+#REF!+#REF!+#REF!+#REF!+#REF!","v":{"$error":"#REF!"}},{"$f":"'9_Per Pupil Summary'!J41","v":137.36299200992033},{"$f":"#REF!+#REF!+#REF!+#REF!+#REF!+#REF!+#REF!","v":{"$error":"#REF!"}},{"$f":"#REF!+#REF!+#REF!+#REF!+#REF!+#REF!+#REF!","v":{"$error":"#REF!"}},{"$f":"'9_Per Pupil Summary'!K41","v":3434.0748002480082},{"$f":"#REF!+#REF!+#REF!+#REF!+#REF!+#REF!+#REF!","v":{"$error":"#REF!"}},{"$f":"#REF!+#REF!+#REF!+#REF!+#REF!+#REF!+#REF!","v":{"$error":"#REF!"}},{"$f":"'9_Per Pupil Summary'!L41","v":1373.629920099203},{"$f":"#REF!+#REF!+#REF!+#REF!+#REF!+#REF!+#REF!","v":{"$error":"#REF!"}},{"$f":"#REF!+#REF!+#REF!+#REF!+#REF!+#REF!+#REF!","v":{"$error":"#REF!"}},{"$f":"#REF!+#REF!+#REF!+#REF!+#REF!+#REF!+#REF!","v":{"$error":"#REF!"}},{"$f":"#REF!+#REF!+#REF!+#REF!+#REF!+#REF!+#REF!","v":{"$error":"#REF!"}},{"$f":"#REF!+#REF!+#REF!+#REF!+#REF!+#REF!+#REF!","v":{"$error":"#REF!"}},{"$f":"#REF!+#REF!+#REF!+#REF!+#REF!+#REF!+#REF!","v":{"$error":"#REF!"}},{"$f":"#REF!+#REF!+#REF!+#REF!+#REF!+#REF!+#REF!","v":{"$error":"#REF!"}},{"$f":"#REF!+#REF!+#REF!+#REF!+#REF!+#REF!+#REF!","v":{"$error":"#REF!"}},{"$f":"#REF!+#REF!+#REF!+#REF!+#REF!+#REF!+#REF!","v":{"$error":"#REF!"}},{"$f":"#REF!+#REF!+#REF!+#REF!+#REF!+#REF!+#REF!","v":{"$error":"#REF!"}},{"$f":"#REF!+#REF!+#REF!+#REF!+#REF!+#REF!+#REF!","v":{"$error":"#REF!"}},{"$f":"#REF!+#REF!+#REF!+#REF!+#REF!+#REF!+#REF!","v":{"$error":"#REF!"}},{"$f":"#REF!+#REF!+#REF!+#REF!+#REF!+#REF!+#REF!","v":{"$error":"#REF!"}},{"$f":"#REF!+#REF!+#REF!+#REF!+#REF!+#REF!+#REF!","v":{"$error":"#REF!"}}]
[37,"Ouachita",{"$f":"#REF!+#REF!+#REF!+#REF!+#REF!+#REF!+#REF!","v":{"$error":"#REF!"}},{"$f":"'9_Per Pupil Summary'!O42","v":10068.298928332108},{"$f":"#REF!+#REF!+#REF!+#REF!+#REF!+#REF!+#REF!","v":{"$error":"#REF!"}},null,{"$f":"#REF!+#REF!+#REF!+#REF!+#REF!+#REF!+#REF!","v":{"$error":"#REF!"}},{"$f":"#REF!+#REF!+#REF!+#REF!+#REF!+#REF!+#REF!","v":{"$error":"#REF!"}},{"$f":"'9_Per Pupil Summary'!I42","v":687.3567151342445},{"$f":"#REF!+#REF!+#REF!+#REF!+#REF!+#REF!+#REF!","v":{"$error":"#REF!"}},{"$f":"#REF!+#REF!+#REF!+#REF!+#REF!+#REF!+#REF!","v":{"$error":"#REF!"}},{"$f":"'9_Per Pupil Summary'!J42","v":187.4609223093394},{"$f":"#REF!+#REF!+#REF!+#REF!+#REF!+#REF!+#REF!","v":{"$error":"#REF!"}},{"$f":"#REF!+#REF!+#REF!+#REF!+#REF!+#REF!+#REF!","v":{"$error":"#REF!"}},{"$f":"'9_Per Pupil Summary'!K42","v":4686.5230577334851},{"$f":"#REF!+#REF!+#REF!+#REF!+#REF!+#REF!+#REF!","v":{"$error":"#REF!"}},{"$f":"#REF!+#REF!+#REF!+#REF!+#REF!+#REF!+#REF!","v":{"$error":"#REF!"}},{"$f":"'9_Per Pupil Summary'!L42","v":1874.6092230933943},{"$f":"#REF!+#REF!+#REF!+#REF!+#REF!+#REF!+#REF!","v":{"$error":"#REF!"}},{"$f":"#REF!+#REF!+#REF!+#REF!+#REF!+#REF!+#REF!","v":{"$error":"#REF!"}},{"$f":"#REF!+#REF!+#REF!+#REF!+#REF!+#REF!+#REF!","v":{"$error":"#REF!"}},{"$f":"#REF!+#REF!+#REF!+#REF!+#REF!+#REF!+#REF!","v":{"$error":"#REF!"}},{"$f":"#REF!+#REF!+#REF!+#REF!+#REF!+#REF!+#REF!","v":{"$error":"#REF!"}},{"$f":"#REF!+#REF!+#REF!+#REF!+#REF!+#REF!+#REF!","v":{"$error":"#REF!"}},{"$f":"#REF!+#REF!+#REF!+#REF!+#REF!+#REF!+#REF!","v":{"$error":"#REF!"}},{"$f":"#REF!+#REF!+#REF!+#REF!+#REF!+#REF!+#REF!","v":{"$error":"#REF!"}},{"$f":"#REF!+#REF!+#REF!+#REF!+#REF!+#REF!+#REF!","v":{"$error":"#REF!"}},{"$f":"#REF!+#REF!+#REF!+#REF!+#REF!+#REF!+#REF!","v":{"$error":"#REF!"}},{"$f":"#REF!+#REF!+#REF!+#REF!+#REF!+#REF!+#REF!","v":{"$error":"#REF!"}},{"$f":"#REF!+#REF!+#REF!+#REF!+#REF!+#REF!+#REF!","v":{"$error":"#REF!"}},{"$f":"#REF!+#REF!+#REF!+#REF!+#REF!+#REF!+#REF!","v":{"$error":"#REF!"}},{"$f":"#REF!+#REF!+#REF!+#REF!+#REF!+#REF!+#REF!","v":{"$error":"#REF!"}}]
[38,"Plaquemines",{"$f":"#REF!+#REF!+#REF!+#REF!+#REF!+#REF!+#REF!","v":{"$error":"#REF!"}},{"$f":"'9_Per Pupil Summary'!O43","v":21434.705445166099},{"$f":"#REF!+#REF!+#REF!+#REF!+#REF!+#REF!+#REF!","v":{"$error":"#REF!"}},null,{"$f":"#REF!+#REF!+#REF!+#REF!+#REF!+#REF!+#REF!","v":{"$error":"#REF!"}},{"$f":"#REF!+#REF!+#REF!+#REF!+#REF!+#REF!+#REF!","v":{"$error":"#REF!"}},{"$f":"'9_Per Pupil Summary'!I43","v":281.7904370911578},{"$f":"#REF!+#REF!+#REF!+#REF!+#REF!+#REF!+#REF!","v":{"$error":"#REF!"}},{"$f":"#REF!+#REF!+#REF!+#REF!+#REF!+#REF!+#REF!","v":{"$error":"#REF!"}},{"$f":"'9_Per Pupil Summary'!J43","v":76.851937388497589},{"$f":"#REF!+#REF!+#REF!+#REF!+#REF!+#REF!+#REF!","v":{"$error":"#REF!"}},{"$f":"#REF!+#REF!+#REF!+#REF!+#REF!+#REF!+#REF!","v":{"$error":"#REF!"}},{"$f":"'9_Per Pupil Summary'!K43","v":1921.2984347124398},{"$f":"#REF!+#REF!+#REF!+#REF!+#REF!+#REF!+#REF!","v":{"$error":"#REF!"}},{"$f":"#REF!+#REF!+#REF!+#REF!+#REF!+#REF!+#REF!","v":{"$error":"#REF!"}},{"$f":"'9_Per Pupil Summary'!L43","v":768.51937388497583},{"$f":"#REF!+#REF!+#REF!+#REF!+#REF!+#REF!+#REF!","v":{"$error":"#REF!"}},{"$f":"#REF!+#REF!+#REF!+#REF!+#REF!+#REF!+#REF!","v":{"$error":"#REF!"}},{"$f":"#REF!+#REF!+#REF!+#REF!+#REF!+#REF!+#REF!","v":{"$error":"#REF!"}},{"$f":"#REF!+#REF!+#REF!+#REF!+#REF!+#REF!+#REF!","v":{"$error":"#REF!"}},{"$f":"#REF!+#REF!+#REF!+#REF!+#REF!+#REF!+#REF!","v":{"$error":"#REF!"}},{"$f":"#REF!+#REF!+#REF!+#REF!+#REF!+#REF!+#REF!","v":{"$error":"#REF!"}},{"$f":"#REF!+#REF!+#REF!+#REF!+#REF!+#REF!+#REF!","v":{"$error":"#REF!"}},{"$f":"#REF!+#REF!+#REF!+#REF!+#REF!+#REF!+#REF!","v":{"$error":"#REF!"}},{"$f":"#REF!+#REF!+#REF!+#REF!+#REF!+#REF!+#REF!","v":{"$error":"#REF!"}},{"$f":"#REF!+#REF!+#REF!+#REF!+#REF!+#REF!+#REF!","v":{"$error":"#REF!"}},{"$f":"#REF!+#REF!+#REF!+#REF!+#REF!+#REF!+#REF!","v":{"$error":"#REF!"}},{"$f":"#REF!+#REF!+#REF!+#REF!+#REF!+#REF!+#REF!","v":{"$error":"#REF!"}},{"$f":"#REF!+#REF!+#REF!+#REF!+#REF!+#REF!+#REF!","v":{"$error":"#REF!"}},{"$f":"#REF!+#REF!+#REF!+#REF!+#REF!+#REF!+#REF!","v":{"$error":"#REF!"}}]
[39,"Pointe Coupee",{"$f":"#REF!+#REF!+#REF!+#REF!+#REF!+#REF!+#REF!","v":{"$error":"#REF!"}},{"$f":"'9_Per Pupil Summary'!O44","v":12037.689847204896},{"$f":"#REF!+#REF!+#REF!+#REF!+#REF!+#REF!+#REF!","v":{"$error":"#REF!"}},null,{"$f":"#REF!+#REF!+#REF!+#REF!+#REF!+#REF!+#REF!","v":{"$error":"#REF!"}},{"$f":"#REF!+#REF!+#REF!+#REF!+#REF!+#REF!+#REF!","v":{"$error":"#REF!"}},{"$f":"'9_Per Pupil Summary'!I44","v":401.27085314306822},{"$f":"#REF!+#REF!+#REF!+#REF!+#REF!+#REF!+#REF!","v":{"$error":"#REF!"}},{"$f":"#REF!+#REF!+#REF!+#REF!+#REF!+#REF!+#REF!","v":{"$error":"#REF!"}},{"$f":"'9_Per Pupil Summary'!J44","v":109.43750540265496},{"$f":"#REF!+#REF!+#REF!+#REF!+#REF!+#REF!+#REF!","v":{"$error":"#REF!"}},{"$f":"#REF!+#REF!+#REF!+#REF!+#REF!+#REF!+#REF!","v":{"$error":"#REF!"}},{"$f":"'9_Per Pupil Summary'!K44","v":2735.9376350663742},{"$f":"#REF!+#REF!+#REF!+#REF!+#REF!+#REF!+#REF!","v":{"$error":"#REF!"}},{"$f":"#REF!+#REF!+#REF!+#REF!+#REF!+#REF!+#REF!","v":{"$error":"#REF!"}},{"$f":"'9_Per Pupil Summary'!L44","v":1094.3750540265496},{"$f":"#REF!+#REF!+#REF!+#REF!+#REF!+#REF!+#REF!","v":{"$error":"#REF!"}},{"$f":"#REF!+#REF!+#REF!+#REF!+#REF!+#REF!+#REF!","v":{"$error":"#REF!"}},{"$f":"#REF!+#REF!+#REF!+#REF!+#REF!+#REF!+#REF!","v":{"$error":"#REF!"}},{"$f":"#REF!+#REF!+#REF!+#REF!+#REF!+#REF!+#REF!","v":{"$error":"#REF!"}},{"$f":"#REF!+#REF!+#REF!+#REF!+#REF!+#REF!+#REF!","v":{"$error":"#REF!"}},{"$f":"#REF!+#REF!+#REF!+#REF!+#REF!+#REF!+#REF!","v":{"$error":"#REF!"}},{"$f":"#REF!+#REF!+#REF!+#REF!+#REF!+#REF!+#REF!","v":{"$error":"#REF!"}},{"$f":"#REF!+#REF!+#REF!+#REF!+#REF!+#REF!+#REF!","v":{"$error":"#REF!"}},{"$f":"#REF!+#REF!+#REF!+#REF!+#REF!+#REF!+#REF!","v":{"$error":"#REF!"}},{"$f":"#REF!+#REF!+#REF!+#REF!+#REF!+#REF!+#REF!","v":{"$error":"#REF!"}},{"$f":"#REF!+#REF!+#REF!+#REF!+#REF!+#REF!+#REF!","v":{"$error":"#REF!"}},{"$f":"#REF!+#REF!+#REF!+#REF!+#REF!+#REF!+#REF!","v":{"$error":"#REF!"}},{"$f":"#REF!+#REF!+#REF!+#REF!+#REF!+#REF!+#REF!","v":{"$error":"#REF!"}},{"$f":"#REF!+#REF!+#REF!+#REF!+#REF!+#REF!+#REF!","v":{"$error":"#REF!"}}]
[40,"Rapides",{"$f":"#REF!+#REF!+#REF!+#REF!+#REF!+#REF!+#REF!","v":{"$error":"#REF!"}},{"$f":"'9_Per Pupil Summary'!O45","v":9931.1804270292341},{"$f":"#REF!+#REF!+#REF!+#REF!+#REF!+#REF!+#REF!","v":{"$error":"#REF!"}},null,{"$f":"#REF!+#REF!+#REF!+#REF!+#REF!+#REF!+#REF!","v":{"$error":"#REF!"}},{"$f":"#REF!+#REF!+#REF!+#REF!+#REF!+#REF!+#REF!","v":{"$error":"#REF!"}},{"$f":"'9_Per Pupil Summary'!I45","v":643.33064538013207},{"$f":"#REF!+#REF!+#REF!+#REF!+#REF!+#REF!+#REF!","v":{"$error":"#REF!"}},{"$f":"#REF!+#REF!+#REF!+#REF!+#REF!+#REF!+#REF!","v":{"$error":"#REF!"}},{"$f":"'9_Per Pupil Summary'!J45","v":175.45381237639967},{"$f":"#REF!+#REF!+#REF!+#REF!+#REF!+#REF!+#REF!","v":{"$error":"#REF!"}},{"$f":"#REF!+#REF!+#REF!+#REF!+#REF!+#REF!+#REF!","v":{"$error":"#REF!"}},{"$f":"'9_Per Pupil Summary'!K45","v":4386.3453094099914},{"$f":"#REF!+#REF!+#REF!+#REF!+#REF!+#REF!+#REF!","v":{"$error":"#REF!"}},{"$f":"#REF!+#REF!+#REF!+#REF!+#REF!+#REF!+#REF!","v":{"$error":"#REF!"}},{"$f":"'9_Per Pupil Summary'!L45","v":1754.5381237639965},{"$f":"#REF!+#REF!+#REF!+#REF!+#REF!+#REF!+#REF!","v":{"$error":"#REF!"}},{"$f":"#REF!+#REF!+#REF!+#REF!+#REF!+#REF!+#REF!","v":{"$error":"#REF!"}},{"$f":"#REF!+#REF!+#REF!+#REF!+#REF!+#REF!+#REF!","v":{"$error":"#REF!"}},{"$f":"#REF!+#REF!+#REF!+#REF!+#REF!+#REF!+#REF!","v":{"$error":"#REF!"}},{"$f":"#REF!+#REF!+#REF!+#REF!+#REF!+#REF!+#REF!","v":{"$error":"#REF!"}},{"$f":"#REF!+#REF!+#REF!+#REF!+#REF!+#REF!+#REF!","v":{"$error":"#REF!"}},{"$f":"#REF!+#REF!+#REF!+#REF!+#REF!+#REF!+#REF!","v":{"$error":"#REF!"}},{"$f":"#REF!+#REF!+#REF!+#REF!+#REF!+#REF!+#REF!","v":{"$error":"#REF!"}},{"$f":"#REF!+#REF!+#REF!+#REF!+#REF!+#REF!+#REF!","v":{"$error":"#REF!"}},{"$f":"#REF!+#REF!+#REF!+#REF!+#REF!+#REF!+#REF!","v":{"$error":"#REF!"}},{"$f":"#REF!+#REF!+#REF!+#REF!+#REF!+#REF!+#REF!","v":{"$error":"#REF!"}},{"$f":"#REF!+#REF!+#REF!+#REF!+#REF!+#REF!+#REF!","v":{"$error":"#REF!"}},{"$f":"#REF!+#REF!+#REF!+#REF!+#REF!+#REF!+#REF!","v":{"$error":"#REF!"}},{"$f":"#REF!+#REF!+#REF!+#REF!+#REF!+#REF!+#REF!","v":{"$error":"#REF!"}}]
[41,"Red River",{"$f":"#REF!+#REF!+#REF!+#REF!+#REF!+#REF!+#REF!","v":{"$error":"#REF!"}},{"$f":"'9_Per Pupil Summary'!O46","v":22180.465585126833},{"$f":"#REF!+#REF!+#REF!+#REF!+#REF!+#REF!+#REF!","v":{"$error":"#REF!"}},null,{"$f":"#REF!+#REF!+#REF!+#REF!+#REF!+#REF!+#REF!","v":{"$error":"#REF!"}},{"$f":"#REF!+#REF!+#REF!+#REF!+#REF!+#REF!+#REF!","v":{"$error":"#REF!"}},{"$f":"'9_Per Pupil Summary'!I46","v":361.79339156574082},{"$f":"#REF!+#REF!+#REF!+#REF!+#REF!+#REF!+#REF!","v":{"$error":"#REF!"}},{"$f":"#REF!+#REF!+#REF!+#REF!+#REF!+#REF!+#REF!","v":{"$error":"#REF!"}},{"$f":"'9_Per Pupil Summary'!J46","v":98.670924972474765},{"$f":"#REF!+#REF!+#REF!+#REF!+#REF!+#REF!+#REF!","v":{"$error":"#REF!"}},{"$f":"#REF!+#REF!+#REF!+#REF!+#REF!+#REF!+#REF!","v":{"$error":"#REF!"}},{"$f":"'9_Per Pupil Summary'!K46","v":2466.7731243118697},{"$f":"#REF!+#REF!+#REF!+#REF!+#REF!+#REF!+#REF!","v":{"$error":"#REF!"}},{"$f":"#REF!+#REF!+#REF!+#REF!+#REF!+#REF!+#REF!","v":{"$error":"#REF!"}},{"$f":"'9_Per Pupil Summary'!L46","v":986.70924972474768},{"$f":"#REF!+#REF!+#REF!+#REF!+#REF!+#REF!+#REF!","v":{"$error":"#REF!"}},{"$f":"#REF!+#REF!+#REF!+#REF!+#REF!+#REF!+#REF!","v":{"$error":"#REF!"}},{"$f":"#REF!+#REF!+#REF!+#REF!+#REF!+#REF!+#REF!","v":{"$error":"#REF!"}},{"$f":"#REF!+#REF!+#REF!+#REF!+#REF!+#REF!+#REF!","v":{"$error":"#REF!"}},{"$f":"#REF!+#REF!+#REF!+#REF!+#REF!+#REF!+#REF!","v":{"$error":"#REF!"}},{"$f":"#REF!+#REF!+#REF!+#REF!+#REF!+#REF!+#REF!","v":{"$error":"#REF!"}},{"$f":"#REF!+#REF!+#REF!+#REF!+#REF!+#REF!+#REF!","v":{"$error":"#REF!"}},{"$f":"#REF!+#REF!+#REF!+#REF!+#REF!+#REF!+#REF!","v":{"$error":"#REF!"}},{"$f":"#REF!+#REF!+#REF!+#REF!+#REF!+#REF!+#REF!","v":{"$error":"#REF!"}},{"$f":"#REF!+#REF!+#REF!+#REF!+#REF!+#REF!+#REF!","v":{"$error":"#REF!"}},{"$f":"#REF!+#REF!+#REF!+#REF!+#REF!+#REF!+#REF!","v":{"$error":"#REF!"}},{"$f":"#REF!+#REF!+#REF!+#REF!+#REF!+#REF!+#REF!","v":{"$error":"#REF!"}},{"$f":"#REF!+#REF!+#REF!+#REF!+#REF!+#REF!+#REF!","v":{"$error":"#REF!"}},{"$f":"#REF!+#REF!+#REF!+#REF!+#REF!+#REF!+#REF!","v":{"$error":"#REF!"}}]
[42,"Richland",{"$f":"#REF!+#REF!+#REF!+#REF!+#REF!+#REF!+#REF!","v":{"$error":"#REF!"}},{"$f":"'9_Per Pupil Summary'!O47","v":9961.6232751742136},{"$f":"#REF!+#REF!+#REF!+#REF!+#REF!+#REF!+#REF!","v":{"$error":"#REF!"}},null,{"$f":"#REF!+#REF!+#REF!+#REF!+#REF!+#REF!+#REF!","v":{"$error":"#REF!"}},{"$f":"#REF!+#REF!+#REF!+#REF!+#REF!+#REF!+#REF!","v":{"$error":"#REF!"}},{"$f":"'9_Per Pupil Summary'!I47","v":604.48804715063227},{"$f":"#REF!+#REF!+#REF!+#REF!+#REF!+#REF!+#REF!","v":{"$error":"#REF!"}},{"$f":"#REF!+#REF!+#REF!+#REF!+#REF!+#REF!+#REF!","v":{"$error":"#REF!"}},{"$f":"'9_Per Pupil Summary'!J47","v":164.86037649562698},{"$f":"#REF!+#REF!+#REF!+#REF!+#REF!+#REF!+#REF!","v":{"$error":"#REF!"}},{"$f":"#REF!+#REF!+#REF!+#REF!+#REF!+#REF!+#REF!","v":{"$error":"#REF!"}},{"$f":"'9_Per Pupil Summary'!K47","v":4121.5094123906738},{"$f":"#REF!+#REF!+#REF!+#REF!+#REF!+#REF!+#REF!","v":{"$error":"#REF!"}},{"$f":"#REF!+#REF!+#REF!+#REF!+#REF!+#REF!+#REF!","v":{"$error":"#REF!"}},{"$f":"'9_Per Pupil Summary'!L47","v":1648.6037649562695},{"$f":"#REF!+#REF!+#REF!+#REF!+#REF!+#REF!+#REF!","v":{"$error":"#REF!"}},{"$f":"#REF!+#REF!+#REF!+#REF!+#REF!+#REF!+#REF!","v":{"$error":"#REF!"}},{"$f":"#REF!+#REF!+#REF!+#REF!+#REF!+#REF!+#REF!","v":{"$error":"#REF!"}},{"$f":"#REF!+#REF!+#REF!+#REF!+#REF!+#REF!+#REF!","v":{"$error":"#REF!"}},{"$f":"#REF!+#REF!+#REF!+#REF!+#REF!+#REF!+#REF!","v":{"$error":"#REF!"}},{"$f":"#REF!+#REF!+#REF!+#REF!+#REF!+#REF!+#REF!","v":{"$error":"#REF!"}},{"$f":"#REF!+#REF!+#REF!+#REF!+#REF!+#REF!+#REF!","v":{"$error":"#REF!"}},{"$f":"#REF!+#REF!+#REF!+#REF!+#REF!+#REF!+#REF!","v":{"$error":"#REF!"}},{"$f":"#REF!+#REF!+#REF!+#REF!+#REF!+#REF!+#REF!","v":{"$error":"#REF!"}},{"$f":"#REF!+#REF!+#REF!+#REF!+#REF!+#REF!+#REF!","v":{"$error":"#REF!"}},{"$f":"#REF!+#REF!+#REF!+#REF!+#REF!+#REF!+#REF!","v":{"$error":"#REF!"}},{"$f":"#REF!+#REF!+#REF!+#REF!+#REF!+#REF!+#REF!","v":{"$error":"#REF!"}},{"$f":"#REF!+#REF!+#REF!+#REF!+#REF!+#REF!+#REF!","v":{"$error":"#REF!"}},{"$f":"#REF!+#REF!+#REF!+#REF!+#REF!+#REF!+#REF!","v":{"$error":"#REF!"}}]
[43,"Sabine",{"$f":"#REF!+#REF!+#REF!+#REF!+#REF!+#REF!+#REF!","v":{"$error":"#REF!"}},{"$f":"'9_Per Pupil Summary'!O48","v":10801.98823795809},{"$f":"#REF!+#REF!+#REF!+#REF!+#REF!+#REF!+#REF!","v":{"$error":"#REF!"}},null,{"$f":"#REF!+#REF!+#REF!+#REF!+#REF!+#REF!+#REF!","v":{"$error":"#REF!"}},{"$f":"#REF!+#REF!+#REF!+#REF!+#REF!+#REF!+#REF!","v":{"$error":"#REF!"}},{"$f":"'9_Per Pupil Summary'!I48","v":620.84833812675834},{"$f":"#REF!+#REF!+#REF!+#REF!+#REF!+#REF!+#REF!","v":{"$error":"#REF!"}},{"$f":"#REF!+#REF!+#REF!+#REF!+#REF!+#REF!+#REF!","v":{"$error":"#REF!"}},{"$f":"'9_Per Pupil Summary'!J48","v":169.32227403457046},{"$f":"#REF!+#REF!+#REF!+#REF!+#REF!+#REF!+#REF!","v":{"$error":"#REF!"}},{"$f":"#REF!+#REF!+#REF!+#REF!+#REF!+#REF!+#REF!","v":{"$error":"#REF!"}},{"$f":"'9_Per Pupil Summary'!K48","v":4233.0568508642609},{"$f":"#REF!+#REF!+#REF!+#REF!+#REF!+#REF!+#REF!","v":{"$error":"#REF!"}},{"$f":"#REF!+#REF!+#REF!+#REF!+#REF!+#REF!+#REF!","v":{"$error":"#REF!"}},{"$f":"'9_Per Pupil Summary'!L48","v":1693.2227403457043},{"$f":"#REF!+#REF!+#REF!+#REF!+#REF!+#REF!+#REF!","v":{"$error":"#REF!"}},{"$f":"#REF!+#REF!+#REF!+#REF!+#REF!+#REF!+#REF!","v":{"$error":"#REF!"}},{"$f":"#REF!+#REF!+#REF!+#REF!+#REF!+#REF!+#REF!","v":{"$error":"#REF!"}},{"$f":"#REF!+#REF!+#REF!+#REF!+#REF!+#REF!+#REF!","v":{"$error":"#REF!"}},{"$f":"#REF!+#REF!+#REF!+#REF!+#REF!+#REF!+#REF!","v":{"$error":"#REF!"}},{"$f":"#REF!+#REF!+#REF!+#REF!+#REF!+#REF!+#REF!","v":{"$error":"#REF!"}},{"$f":"#REF!+#REF!+#REF!+#REF!+#REF!+#REF!+#REF!","v":{"$error":"#REF!"}},{"$f":"#REF!+#REF!+#REF!+#REF!+#REF!+#REF!+#REF!","v":{"$error":"#REF!"}},{"$f":"#REF!+#REF!+#REF!+#REF!+#REF!+#REF!+#REF!","v":{"$error":"#REF!"}},{"$f":"#REF!+#REF!+#REF!+#REF!+#REF!+#REF!+#REF!","v":{"$error":"#REF!"}},{"$f":"#REF!+#REF!+#REF!+#REF!+#REF!+#REF!+#REF!","v":{"$error":"#REF!"}},{"$f":"#REF!+#REF!+#REF!+#REF!+#REF!+#REF!+#REF!","v":{"$error":"#REF!"}},{"$f":"#REF!+#REF!+#REF!+#REF!+#REF!+#REF!+#REF!","v":{"$error":"#REF!"}},{"$f":"#REF!+#REF!+#REF!+#REF!+#REF!+#REF!+#REF!","v":{"$error":"#REF!"}}]
[44,"St. Bernard",{"$f":"#REF!+#REF!+#REF!+#REF!+#REF!+#REF!+#REF!","v":{"$error":"#REF!"}},{"$f":"'9_Per Pupil Summary'!O49","v":9775.1193807465006},{"$f":"#REF!+#REF!+#REF!+#REF!+#REF!+#REF!+#REF!","v":{"$error":"#REF!"}},null,{"$f":"#REF!+#REF!+#REF!+#REF!+#REF!+#REF!+#REF!","v":{"$error":"#REF!"}},{"$f":"#REF!+#REF!+#REF!+#REF!+#REF!+#REF!+#REF!","v":{"$error":"#REF!"}},{"$f":"'9_Per Pupil Summary'!I49","v":656.95722274132106},{"$f":"#REF!+#REF!+#REF!+#REF!+#REF!+#REF!+#REF!","v":{"$error":"#REF!"}},{"$f":"#REF!+#REF!+#REF!+#REF!+#REF!+#REF!+#REF!","v":{"$error":"#REF!"}},{"$f":"'9_Per Pupil Summary'!J49","v":179.17015165672393},{"$f":"#REF!+#REF!+#REF!+#REF!+#REF!+#REF!+#REF!","v":{"$error":"#REF!"}},{"$f":"#REF!+#REF!+#REF!+#REF!+#REF!+#REF!+#REF!","v":{"$error":"#REF!"}},{"$f":"'9_Per Pupil Summary'!K49","v":4479.2537914180984},{"$f":"#REF!+#REF!+#REF!+#REF!+#REF!+#REF!+#REF!","v":{"$error":"#REF!"}},{"$f":"#REF!+#REF!+#REF!+#REF!+#REF!+#REF!+#REF!","v":{"$error":"#REF!"}},{"$f":"'9_Per Pupil Summary'!L49","v":1791.701516567239},{"$f":"#REF!+#REF!+#REF!+#REF!+#REF!+#REF!+#REF!","v":{"$error":"#REF!"}},{"$f":"#REF!+#REF!+#REF!+#REF!+#REF!+#REF!+#REF!","v":{"$error":"#REF!"}},{"$f":"#REF!+#REF!+#REF!+#REF!+#REF!+#REF!+#REF!","v":{"$error":"#REF!"}},{"$f":"#REF!+#REF!+#REF!+#REF!+#REF!+#REF!+#REF!","v":{"$error":"#REF!"}},{"$f":"#REF!+#REF!+#REF!+#REF!+#REF!+#REF!+#REF!","v":{"$error":"#REF!"}},{"$f":"#REF!+#REF!+#REF!+#REF!+#REF!+#REF!+#REF!","v":{"$error":"#REF!"}},{"$f":"#REF!+#REF!+#REF!+#REF!+#REF!+#REF!+#REF!","v":{"$error":"#REF!"}},{"$f":"#REF!+#REF!+#REF!+#REF!+#REF!+#REF!+#REF!","v":{"$error":"#REF!"}},{"$f":"#REF!+#REF!+#REF!+#REF!+#REF!+#REF!+#REF!","v":{"$error":"#REF!"}},{"$f":"#REF!+#REF!+#REF!+#REF!+#REF!+#REF!+#REF!","v":{"$error":"#REF!"}},{"$f":"#REF!+#REF!+#REF!+#REF!+#REF!+#REF!+#REF!","v":{"$error":"#REF!"}},{"$f":"#REF!+#REF!+#REF!+#REF!+#REF!+#REF!+#REF!","v":{"$error":"#REF!"}},{"$f":"#REF!+#REF!+#REF!+#REF!+#REF!+#REF!+#REF!","v":{"$error":"#REF!"}},{"$f":"#REF!+#REF!+#REF!+#REF!+#REF!+#REF!+#REF!","v":{"$error":"#REF!"}}]
[45,"St. Charles",{"$f":"#REF!+#REF!+#REF!+#REF!+#REF!+#REF!+#REF!","v":{"$error":"#REF!"}},{"$f":"'9_Per Pupil Summary'!O50","v":20869.941893976389},{"$f":"#REF!+#REF!+#REF!+#REF!+#REF!+#REF!+#REF!","v":{"$error":"#REF!"}},null,{"$f":"#REF!+#REF!+#REF!+#REF!+#REF!+#REF!+#REF!","v":{"$error":"#REF!"}},{"$f":"#REF!+#REF!+#REF!+#REF!+#REF!+#REF!+#REF!","v":{"$error":"#REF!"}},{"$f":"'9_Per Pupil Summary'!I50","v":313.51239637180907},{"$f":"#REF!+#REF!+#REF!+#REF!+#REF!+#REF!+#REF!","v":{"$error":"#REF!"}},{"$f":"#REF!+#REF!+#REF!+#REF!+#REF!+#REF!+#REF!","v":{"$error":"#REF!"}},{"$f":"'9_Per Pupil Summary'!J50","v":85.503380828675205},{"$f":"#REF!+#REF!+#REF!+#REF!+#REF!+#REF!+#REF!","v":{"$error":"#REF!"}},{"$f":"#REF!+#REF!+#REF!+#REF!+#REF!+#REF!+#REF!","v":{"$error":"#REF!"}},{"$f":"'9_Per Pupil Summary'!K50","v":2137.5845207168804},{"$f":"#REF!+#REF!+#REF!+#REF!+#REF!+#REF!+#REF!","v":{"$error":"#REF!"}},{"$f":"#REF!+#REF!+#REF!+#REF!+#REF!+#REF!+#REF!","v":{"$error":"#REF!"}},{"$f":"'9_Per Pupil Summary'!L50","v":855.03380828675222},{"$f":"#REF!+#REF!+#REF!+#REF!+#REF!+#REF!+#REF!","v":{"$error":"#REF!"}},{"$f":"#REF!+#REF!+#REF!+#REF!+#REF!+#REF!+#REF!","v":{"$error":"#REF!"}},{"$f":"#REF!+#REF!+#REF!+#REF!+#REF!+#REF!+#REF!","v":{"$error":"#REF!"}},{"$f":"#REF!+#REF!+#REF!+#REF!+#REF!+#REF!+#REF!","v":{"$error":"#REF!"}},{"$f":"#REF!+#REF!+#REF!+#REF!+#REF!+#REF!+#REF!","v":{"$error":"#REF!"}},{"$f":"#REF!+#REF!+#REF!+#REF!+#REF!+#REF!+#REF!","v":{"$error":"#REF!"}},{"$f":"#REF!+#REF!+#REF!+#REF!+#REF!+#REF!+#REF!","v":{"$error":"#REF!"}},{"$f":"#REF!+#REF!+#REF!+#REF!+#REF!+#REF!+#REF!","v":{"$error":"#REF!"}},{"$f":"#REF!+#REF!+#REF!+#REF!+#REF!+#REF!+#REF!","v":{"$error":"#REF!"}},{"$f":"#REF!+#REF!+#REF!+#REF!+#REF!+#REF!+#REF!","v":{"$error":"#REF!"}},{"$f":"#REF!+#REF!+#REF!+#REF!+#REF!+#REF!+#REF!","v":{"$error":"#REF!"}},{"$f":"#REF!+#REF!+#REF!+#REF!+#REF!+#REF!+#REF!","v":{"$error":"#REF!"}},{"$f":"#REF!+#REF!+#REF!+#REF!+#REF!+#REF!+#REF!","v":{"$error":"#REF!"}},{"$f":"#REF!+#REF!+#REF!+#REF!+#REF!+#REF!+#REF!","v":{"$error":"#REF!"}}]
[46,"St. Helena",{"$f":"#REF!+#REF!+#REF!+#REF!+#REF!+#REF!+#REF!","v":{"$error":"#REF!"}},{"$f":"'9_Per Pupil Summary'!O51","v":9340.536846494515},{"$f":"#REF!+#REF!+#REF!+#REF!+#REF!+#REF!+#REF!","v":{"$error":"#REF!"}},null,{"$f":"#REF!+#REF!+#REF!+#REF!+#REF!+#REF!+#REF!","v":{"$error":"#REF!"}},{"$f":"#REF!+#REF!+#REF!+#REF!+#REF!+#REF!+#REF!","v":{"$error":"#REF!"}},{"$f":"'9_Per Pupil Summary'!I51","v":732.50908551316218},{"$f":"#REF!+#REF!+#REF!+#REF!+#REF!+#REF!+#REF!","v":{"$error":"#REF!"}},{"$f":"#REF!+#REF!+#REF!+#REF!+#REF!+#REF!+#REF!","v":{"$error":"#REF!"}},{"$f":"'9_Per Pupil Summary'!J51","v":199.77520513995336},{"$f":"#REF!+#REF!+#REF!+#REF!+#REF!+#REF!+#REF!","v":{"$error":"#REF!"}},{"$f":"#REF!+#REF!+#REF!+#REF!+#REF!+#REF!+#REF!","v":{"$error":"#REF!"}},{"$f":"'9_Per Pupil Summary'!K51","v":4994.380128498834},{"$f":"#REF!+#REF!+#REF!+#REF!+#REF!+#REF!+#REF!","v":{"$error":"#REF!"}},{"$f":"#REF!+#REF!+#REF!+#REF!+#REF!+#REF!+#REF!","v":{"$error":"#REF!"}},{"$f":"'9_Per Pupil Summary'!L51","v":1997.7520513995332},{"$f":"#REF!+#REF!+#REF!+#REF!+#REF!+#REF!+#REF!","v":{"$error":"#REF!"}},{"$f":"#REF!+#REF!+#REF!+#REF!+#REF!+#REF!+#REF!","v":{"$error":"#REF!"}},{"$f":"#REF!+#REF!+#REF!+#REF!+#REF!+#REF!+#REF!","v":{"$error":"#REF!"}},{"$f":"#REF!+#REF!+#REF!+#REF!+#REF!+#REF!+#REF!","v":{"$error":"#REF!"}},{"$f":"#REF!+#REF!+#REF!+#REF!+#REF!+#REF!+#REF!","v":{"$error":"#REF!"}},{"$f":"#REF!+#REF!+#REF!+#REF!+#REF!+#REF!+#REF!","v":{"$error":"#REF!"}},{"$f":"#REF!+#REF!+#REF!+#REF!+#REF!+#REF!+#REF!","v":{"$error":"#REF!"}},{"$f":"#REF!+#REF!+#REF!+#REF!+#REF!+#REF!+#REF!","v":{"$error":"#REF!"}},{"$f":"#REF!+#REF!+#REF!+#REF!+#REF!+#REF!+#REF!","v":{"$error":"#REF!"}},{"$f":"#REF!+#REF!+#REF!+#REF!+#REF!+#REF!+#REF!","v":{"$error":"#REF!"}},{"$f":"#REF!+#REF!+#REF!+#REF!+#REF!+#REF!+#REF!","v":{"$error":"#REF!"}},{"$f":"#REF!+#REF!+#REF!+#REF!+#REF!+#REF!+#REF!","v":{"$error":"#REF!"}},{"$f":"#REF!+#REF!+#REF!+#REF!+#REF!+#REF!+#REF!","v":{"$error":"#REF!"}},{"$f":"#REF!+#REF!+#REF!+#REF!+#REF!+#REF!+#REF!","v":{"$error":"#REF!"}}]
[47,"St. James",{"$f":"#REF!+#REF!+#REF!+#REF!+#REF!+#REF!+#REF!","v":{"$error":"#REF!"}},{"$f":"'9_Per Pupil Summary'!O52","v":17963.978445698023},{"$f":"#REF!+#REF!+#REF!+#REF!+#REF!+#REF!+#REF!","v":{"$error":"#REF!"}},null,{"$f":"#REF!+#REF!+#REF!+#REF!+#REF!+#REF!+#REF!","v":{"$error":"#REF!"}},{"$f":"#REF!+#REF!+#REF!+#REF!+#REF!+#REF!+#REF!","v":{"$error":"#REF!"}},{"$f":"'9_Per Pupil Summary'!I52","v":336.15463638951474},{"$f":"#REF!+#REF!+#REF!+#REF!+#REF!+#REF!+#REF!","v":{"$error":"#REF!"}},{"$f":"#REF!+#REF!+#REF!+#REF!+#REF!+#REF!+#REF!","v":{"$error":"#REF!"}},{"$f":"'9_Per Pupil Summary'!J52","v":91.678537197140372},{"$f":"#REF!+#REF!+#REF!+#REF!+#REF!+#REF!+#REF!","v":{"$error":"#REF!"}},{"$f":"#REF!+#REF!+#REF!+#REF!+#REF!+#REF!+#REF!","v":{"$error":"#REF!"}},{"$f":"'9_Per Pupil Summary'!K52","v":2291.9634299285094},{"$f":"#REF!+#REF!+#REF!+#REF!+#REF!+#REF!+#REF!","v":{"$error":"#REF!"}},{"$f":"#REF!+#REF!+#REF!+#REF!+#REF!+#REF!+#REF!","v":{"$error":"#REF!"}},{"$f":"'9_Per Pupil Summary'!L52","v":916.78537197140383},{"$f":"#REF!+#REF!+#REF!+#REF!+#REF!+#REF!+#REF!","v":{"$error":"#REF!"}},{"$f":"#REF!+#REF!+#REF!+#REF!+#REF!+#REF!+#REF!","v":{"$error":"#REF!"}},{"$f":"#REF!+#REF!+#REF!+#REF!+#REF!+#REF!+#REF!","v":{"$error":"#REF!"}},{"$f":"#REF!+#REF!+#REF!+#REF!+#REF!+#REF!+#REF!","v":{"$error":"#REF!"}},{"$f":"#REF!+#REF!+#REF!+#REF!+#REF!+#REF!+#REF!","v":{"$error":"#REF!"}},{"$f":"#REF!+#REF!+#REF!+#REF!+#REF!+#REF!+#REF!","v":{"$error":"#REF!"}},{"$f":"#REF!+#REF!+#REF!+#REF!+#REF!+#REF!+#REF!","v":{"$error":"#REF!"}},{"$f":"#REF!+#REF!+#REF!+#REF!+#REF!+#REF!+#REF!","v":{"$error":"#REF!"}},{"$f":"#REF!+#REF!+#REF!+#REF!+#REF!+#REF!+#REF!","v":{"$error":"#REF!"}},{"$f":"#REF!+#REF!+#REF!+#REF!+#REF!+#REF!+#REF!","v":{"$error":"#REF!"}},{"$f":"#REF!+#REF!+#REF!+#REF!+#REF!+#REF!+#REF!","v":{"$error":"#REF!"}},{"$f":"#REF!+#REF!+#REF!+#REF!+#REF!+#REF!+#REF!","v":{"$error":"#REF!"}},{"$f":"#REF!+#REF!+#REF!+#REF!+#REF!+#REF!+#REF!","v":{"$error":"#REF!"}},{"$f":"#REF!+#REF!+#REF!+#REF!+#REF!+#REF!+#REF!","v":{"$error":"#REF!"}}]
[48,"St. John the Baptist",{"$f":"#REF!+#REF!+#REF!+#REF!+#REF!+#REF!+#REF!","v":{"$error":"#REF!"}},{"$f":"'9_Per Pupil Summary'!O53","v":14596.830125923188},{"$f":"#REF!+#REF!+#REF!+#REF!+#REF!+#REF!+#REF!","v":{"$error":"#REF!"}},null,{"$f":"#REF!+#REF!+#REF!+#REF!+#REF!+#REF!+#REF!","v":{"$error":"#REF!"}},{"$f":"#REF!+#REF!+#REF!+#REF!+#REF!+#REF!+#REF!","v":{"$error":"#REF!"}},{"$f":"'9_Per Pupil Summary'!I53","v":399.05359385694783},{"$f":"#REF!+#REF!+#REF!+#REF!+#REF!+#REF!+#REF!","v":{"$error":"#REF!"}},{"$f":"#REF!+#REF!+#REF!+#REF!+#REF!+#REF!+#REF!","v":{"$error":"#REF!"}},{"$f":"'9_Per Pupil Summary'!J53","v":108.83279832462213},{"$f":"#REF!+#REF!+#REF!+#REF!+#REF!+#REF!+#REF!","v":{"$error":"#REF!"}},{"$f":"#REF!+#REF!+#REF!+#REF!+#REF!+#REF!+#REF!","v":{"$error":"#REF!"}},{"$f":"'9_Per Pupil Summary'!K53","v":2720.8199581155532},{"$f":"#REF!+#REF!+#REF!+#REF!+#REF!+#REF!+#REF!","v":{"$error":"#REF!"}},{"$f":"#REF!+#REF!+#REF!+#REF!+#REF!+#REF!+#REF!","v":{"$error":"#REF!"}},{"$f":"'9_Per Pupil Summary'!L53","v":1088.3279832462215},{"$f":"#REF!+#REF!+#REF!+#REF!+#REF!+#REF!+#REF!","v":{"$error":"#REF!"}},{"$f":"#REF!+#REF!+#REF!+#REF!+#REF!+#REF!+#REF!","v":{"$error":"#REF!"}},{"$f":"#REF!+#REF!+#REF!+#REF!+#REF!+#REF!+#REF!","v":{"$error":"#REF!"}},{"$f":"#REF!+#REF!+#REF!+#REF!+#REF!+#REF!+#REF!","v":{"$error":"#REF!"}},{"$f":"#REF!+#REF!+#REF!+#REF!+#REF!+#REF!+#REF!","v":{"$error":"#REF!"}},{"$f":"#REF!+#REF!+#REF!+#REF!+#REF!+#REF!+#REF!","v":{"$error":"#REF!"}},{"$f":"#REF!+#REF!+#REF!+#REF!+#REF!+#REF!+#REF!","v":{"$error":"#REF!"}},{"$f":"#REF!+#REF!+#REF!+#REF!+#REF!+#REF!+#REF!","v":{"$error":"#REF!"}},{"$f":"#REF!+#REF!+#REF!+#REF!+#REF!+#REF!+#REF!","v":{"$error":"#REF!"}},{"$f":"#REF!+#REF!+#REF!+#REF!+#REF!+#REF!+#REF!","v":{"$error":"#REF!"}},{"$f":"#REF!+#REF!+#REF!+#REF!+#REF!+#REF!+#REF!","v":{"$error":"#REF!"}},{"$f":"#REF!+#REF!+#REF!+#REF!+#REF!+#REF!+#REF!","v":{"$error":"#REF!"}},{"$f":"#REF!+#REF!+#REF!+#REF!+#REF!+#REF!+#REF!","v":{"$error":"#REF!"}},{"$f":"#REF!+#REF!+#REF!+#REF!+#REF!+#REF!+#REF!","v":{"$error":"#REF!"}}]
[49,"St. Landry",{"$f":"#REF!+#REF!+#REF!+#REF!+#REF!+#REF!+#REF!","v":{"$error":"#REF!"}},{"$f":"'9_Per Pupil Summary'!O54","v":8120.9048430183402},{"$f":"#REF!+#REF!+#REF!+#REF!+#REF!+#REF!+#REF!","v":{"$error":"#REF!"}},null,{"$f":"#REF!+#REF!+#REF!+#REF!+#REF!+#REF!+#REF!","v":{"$error":"#REF!"}},{"$f":"#REF!+#REF!+#REF!+#REF!+#REF!+#REF!+#REF!","v":{"$error":"#REF!"}},{"$f":"'9_Per Pupil Summary'!I54","v":660.87001269551706},{"$f":"#REF!+#REF!+#REF!+#REF!+#REF!+#REF!+#REF!","v":{"$error":"#REF!"}},{"$f":"#REF!+#REF!+#REF!+#REF!+#REF!+#REF!+#REF!","v":{"$error":"#REF!"}},{"$f":"'9_Per Pupil Summary'!J54","v":180.23727618968647},{"$f":"#REF!+#REF!+#REF!+#REF!+#REF!+#REF!+#REF!","v":{"$error":"#REF!"}},{"$f":"#REF!+#REF!+#REF!+#REF!+#REF!+#REF!+#REF!","v":{"$error":"#REF!"}},{"$f":"'9_Per Pupil Summary'!K54","v":4505.9319047421623},{"$f":"#REF!+#REF!+#REF!+#REF!+#REF!+#REF!+#REF!","v":{"$error":"#REF!"}},{"$f":"#REF!+#REF!+#REF!+#REF!+#REF!+#REF!+#REF!","v":{"$error":"#REF!"}},{"$f":"'9_Per Pupil Summary'!L54","v":1802.3727618968646},{"$f":"#REF!+#REF!+#REF!+#REF!+#REF!+#REF!+#REF!","v":{"$error":"#REF!"}},{"$f":"#REF!+#REF!+#REF!+#REF!+#REF!+#REF!+#REF!","v":{"$error":"#REF!"}},{"$f":"#REF!+#REF!+#REF!+#REF!+#REF!+#REF!+#REF!","v":{"$error":"#REF!"}},{"$f":"#REF!+#REF!+#REF!+#REF!+#REF!+#REF!+#REF!","v":{"$error":"#REF!"}},{"$f":"#REF!+#REF!+#REF!+#REF!+#REF!+#REF!+#REF!","v":{"$error":"#REF!"}},{"$f":"#REF!+#REF!+#REF!+#REF!+#REF!+#REF!+#REF!","v":{"$error":"#REF!"}},{"$f":"#REF!+#REF!+#REF!+#REF!+#REF!+#REF!+#REF!","v":{"$error":"#REF!"}},{"$f":"#REF!+#REF!+#REF!+#REF!+#REF!+#REF!+#REF!","v":{"$error":"#REF!"}},{"$f":"#REF!+#REF!+#REF!+#REF!+#REF!+#REF!+#REF!","v":{"$error":"#REF!"}},{"$f":"#REF!+#REF!+#REF!+#REF!+#REF!+#REF!+#REF!","v":{"$error":"#REF!"}},{"$f":"#REF!+#REF!+#REF!+#REF!+#REF!+#REF!+#REF!","v":{"$error":"#REF!"}},{"$f":"#REF!+#REF!+#REF!+#REF!+#REF!+#REF!+#REF!","v":{"$error":"#REF!"}},{"$f":"#REF!+#REF!+#REF!+#REF!+#REF!+#REF!+#REF!","v":{"$error":"#REF!"}},{"$f":"#REF!+#REF!+#REF!+#REF!+#REF!+#REF!+#REF!","v":{"$error":"#REF!"}}]
[50,"St. Martin",{"$f":"#REF!+#REF!+#REF!+#REF!+#REF!+#REF!+#REF!","v":{"$error":"#REF!"}},{"$f":"'9_Per Pupil Summary'!O55","v":9137.2383574621799},{"$f":"#REF!+#REF!+#REF!+#REF!+#REF!+#REF!+#REF!","v":{"$error":"#REF!"}},null,{"$f":"#REF!+#REF!+#REF!+#REF!+#REF!+#REF!+#REF!","v":{"$error":"#REF!"}},{"$f":"#REF!+#REF!+#REF!+#REF!+#REF!+#REF!+#REF!","v":{"$error":"#REF!"}},{"$f":"'9_Per Pupil Summary'!I55","v":639.38338731975114},{"$f":"#REF!+#REF!+#REF!+#REF!+#REF!+#REF!+#REF!","v":{"$error":"#REF!"}},{"$f":"#REF!+#REF!+#REF!+#REF!+#REF!+#REF!+#REF!","v":{"$error":"#REF!"}},{"$f":"'9_Per Pupil Summary'!J55","v":174.37728745084121},{"$f":"#REF!+#REF!+#REF!+#REF!+#REF!+#REF!+#REF!","v":{"$error":"#REF!"}},{"$f":"#REF!+#REF!+#REF!+#REF!+#REF!+#REF!+#REF!","v":{"$error":"#REF!"}},{"$f":"'9_Per Pupil Summary'!K55","v":4359.4321862710303},{"$f":"#REF!+#REF!+#REF!+#REF!+#REF!+#REF!+#REF!","v":{"$error":"#REF!"}},{"$f":"#REF!+#REF!+#REF!+#REF!+#REF!+#REF!+#REF!","v":{"$error":"#REF!"}},{"$f":"'9_Per Pupil Summary'!L55","v":1743.7728745084123},{"$f":"#REF!+#REF!+#REF!+#REF!+#REF!+#REF!+#REF!","v":{"$error":"#REF!"}},{"$f":"#REF!+#REF!+#REF!+#REF!+#REF!+#REF!+#REF!","v":{"$error":"#REF!"}},{"$f":"#REF!+#REF!+#REF!+#REF!+#REF!+#REF!+#REF!","v":{"$error":"#REF!"}},{"$f":"#REF!+#REF!+#REF!+#REF!+#REF!+#REF!+#REF!","v":{"$error":"#REF!"}},{"$f":"#REF!+#REF!+#REF!+#REF!+#REF!+#REF!+#REF!","v":{"$error":"#REF!"}},{"$f":"#REF!+#REF!+#REF!+#REF!+#REF!+#REF!+#REF!","v":{"$error":"#REF!"}},{"$f":"#REF!+#REF!+#REF!+#REF!+#REF!+#REF!+#REF!","v":{"$error":"#REF!"}},{"$f":"#REF!+#REF!+#REF!+#REF!+#REF!+#REF!+#REF!","v":{"$error":"#REF!"}},{"$f":"#REF!+#REF!+#REF!+#REF!+#REF!+#REF!+#REF!","v":{"$error":"#REF!"}},{"$f":"#REF!+#REF!+#REF!+#REF!+#REF!+#REF!+#REF!","v":{"$error":"#REF!"}},{"$f":"#REF!+#REF!+#REF!+#REF!+#REF!+#REF!+#REF!","v":{"$error":"#REF!"}},{"$f":"#REF!+#REF!+#REF!+#REF!+#REF!+#REF!+#REF!","v":{"$error":"#REF!"}},{"$f":"#REF!+#REF!+#REF!+#REF!+#REF!+#REF!+#REF!","v":{"$error":"#REF!"}},{"$f":"#REF!+#REF!+#REF!+#REF!+#REF!+#REF!+#REF!","v":{"$error":"#REF!"}}]
[51,"St. Mary",{"$f":"#REF!+#REF!+#REF!+#REF!+#REF!+#REF!+#REF!","v":{"$error":"#REF!"}},{"$f":"'9_Per Pupil Summary'!O56","v":10592.172903214414},{"$f":"#REF!+#REF!+#REF!+#REF!+#REF!+#REF!+#REF!","v":{"$error":"#REF!"}},null,{"$f":"#REF!+#REF!+#REF!+#REF!+#REF!+#REF!+#REF!","v":{"$error":"#REF!"}},{"$f":"#REF!+#REF!+#REF!+#REF!+#REF!+#REF!+#REF!","v":{"$error":"#REF!"}},{"$f":"'9_Per Pupil Summary'!I56","v":625.06898019653272},{"$f":"#REF!+#REF!+#REF!+#REF!+#REF!+#REF!+#REF!","v":{"$error":"#REF!"}},{"$f":"#REF!+#REF!+#REF!+#REF!+#REF!+#REF!+#REF!","v":{"$error":"#REF!"}},{"$f":"'9_Per Pupil Summary'!J56","v":170.473358235418},{"$f":"#REF!+#REF!+#REF!+#REF!+#REF!+#REF!+#REF!","v":{"$error":"#REF!"}},{"$f":"#REF!+#REF!+#REF!+#REF!+#REF!+#REF!+#REF!","v":{"$error":"#REF!"}},{"$f":"'9_Per Pupil Summary'!K56","v":4261.8339558854505},{"$f":"#REF!+#REF!+#REF!+#REF!+#REF!+#REF!+#REF!","v":{"$error":"#REF!"}},{"$f":"#REF!+#REF!+#REF!+#REF!+#REF!+#REF!+#REF!","v":{"$error":"#REF!"}},{"$f":"'9_Per Pupil Summary'!L56","v":1704.73358235418},{"$f":"#REF!+#REF!+#REF!+#REF!+#REF!+#REF!+#REF!","v":{"$error":"#REF!"}},{"$f":"#REF!+#REF!+#REF!+#REF!+#REF!+#REF!+#REF!","v":{"$error":"#REF!"}},{"$f":"#REF!+#REF!+#REF!+#REF!+#REF!+#REF!+#REF!","v":{"$error":"#REF!"}},{"$f":"#REF!+#REF!+#REF!+#REF!+#REF!+#REF!+#REF!","v":{"$error":"#REF!"}},{"$f":"#REF!+#REF!+#REF!+#REF!+#REF!+#REF!+#REF!","v":{"$error":"#REF!"}},{"$f":"#REF!+#REF!+#REF!+#REF!+#REF!+#REF!+#REF!","v":{"$error":"#REF!"}},{"$f":"#REF!+#REF!+#REF!+#REF!+#REF!+#REF!+#REF!","v":{"$error":"#REF!"}},{"$f":"#REF!+#REF!+#REF!+#REF!+#REF!+#REF!+#REF!","v":{"$error":"#REF!"}},{"$f":"#REF!+#REF!+#REF!+#REF!+#REF!+#REF!+#REF!","v":{"$error":"#REF!"}},{"$f":"#REF!+#REF!+#REF!+#REF!+#REF!+#REF!+#REF!","v":{"$error":"#REF!"}},{"$f":"#REF!+#REF!+#REF!+#REF!+#REF!+#REF!+#REF!","v":{"$error":"#REF!"}},{"$f":"#REF!+#REF!+#REF!+#REF!+#REF!+#REF!+#REF!","v":{"$error":"#REF!"}},{"$f":"#REF!+#REF!+#REF!+#REF!+#REF!+#REF!+#REF!","v":{"$error":"#REF!"}},{"$f":"#REF!+#REF!+#REF!+#REF!+#REF!+#REF!+#REF!","v":{"$error":"#REF!"}}]
[52,"St. Tammany",{"$f":"#REF!+#REF!+#REF!+#REF!+#REF!+#REF!+#REF!","v":{"$error":"#REF!"}},{"$f":"'9_Per Pupil Summary'!O57","v":11710.117912246609},{"$f":"#REF!+#REF!+#REF!+#REF!+#REF!+#REF!+#REF!","v":{"$error":"#REF!"}},null,{"$f":"#REF!+#REF!+#REF!+#REF!+#REF!+#REF!+#REF!","v":{"$error":"#REF!"}},{"$f":"#REF!+#REF!+#REF!+#REF!+#REF!+#REF!+#REF!","v":{"$error":"#REF!"}},{"$f":"'9_Per Pupil Summary'!I57","v":577.09689500120646},{"$f":"#REF!+#REF!+#REF!+#REF!+#REF!+#REF!+#REF!","v":{"$error":"#REF!"}},{"$f":"#REF!+#REF!+#REF!+#REF!+#REF!+#REF!+#REF!","v":{"$error":"#REF!"}},{"$f":"'9_Per Pupil Summary'!J57","v":157.39006227305632},{"$f":"#REF!+#REF!+#REF!+#REF!+#REF!+#REF!+#REF!","v":{"$error":"#REF!"}},{"$f":"#REF!+#REF!+#REF!+#REF!+#REF!+#REF!+#REF!","v":{"$error":"#REF!"}},{"$f":"'9_Per Pupil Summary'!K57","v":3934.7515568264075},{"$f":"#REF!+#REF!+#REF!+#REF!+#REF!+#REF!+#REF!","v":{"$error":"#REF!"}},{"$f":"#REF!+#REF!+#REF!+#REF!+#REF!+#REF!+#REF!","v":{"$error":"#REF!"}},{"$f":"'9_Per Pupil Summary'!L57","v":1573.9006227305631},{"$f":"#REF!+#REF!+#REF!+#REF!+#REF!+#REF!+#REF!","v":{"$error":"#REF!"}},{"$f":"#REF!+#REF!+#REF!+#REF!+#REF!+#REF!+#REF!","v":{"$error":"#REF!"}},{"$f":"#REF!+#REF!+#REF!+#REF!+#REF!+#REF!+#REF!","v":{"$error":"#REF!"}},{"$f":"#REF!+#REF!+#REF!+#REF!+#REF!+#REF!+#REF!","v":{"$error":"#REF!"}},{"$f":"#REF!+#REF!+#REF!+#REF!+#REF!+#REF!+#REF!","v":{"$error":"#REF!"}},{"$f":"#REF!+#REF!+#REF!+#REF!+#REF!+#REF!+#REF!","v":{"$error":"#REF!"}},{"$f":"#REF!+#REF!+#REF!+#REF!+#REF!+#REF!+#REF!","v":{"$error":"#REF!"}},{"$f":"#REF!+#REF!+#REF!+#REF!+#REF!+#REF!+#REF!","v":{"$error":"#REF!"}},{"$f":"#REF!+#REF!+#REF!+#REF!+#REF!+#REF!+#REF!","v":{"$error":"#REF!"}},{"$f":"#REF!+#REF!+#REF!+#REF!+#REF!+#REF!+#REF!","v":{"$error":"#REF!"}},{"$f":"#REF!+#REF!+#REF!+#REF!+#REF!+#REF!+#REF!","v":{"$error":"#REF!"}},{"$f":"#REF!+#REF!+#REF!+#REF!+#REF!+#REF!+#REF!","v":{"$error":"#REF!"}},{"$f":"#REF!+#REF!+#REF!+#REF!+#REF!+#REF!+#REF!","v":{"$error":"#REF!"}},{"$f":"#REF!+#REF!+#REF!+#REF!+#REF!+#REF!+#REF!","v":{"$error":"#REF!"}}]
[53,"Tangipahoa",{"$f":"#REF!+#REF!+#REF!+#REF!+#REF!+#REF!+#REF!","v":{"$error":"#REF!"}},{"$f":"'9_Per Pupil Summary'!O58","v":8906.3251387387136},{"$f":"#REF!+#REF!+#REF!+#REF!+#REF!+#REF!+#REF!","v":{"$error":"#REF!"}},null,{"$f":"#REF!+#REF!+#REF!+#REF!+#REF!+#REF!+#REF!","v":{"$error":"#REF!"}},{"$f":"#REF!+#REF!+#REF!+#REF!+#REF!+#REF!+#REF!","v":{"$error":"#REF!"}},{"$f":"'9_Per Pupil Summary'!I58","v":658.32247764628198},{"$f":"#REF!+#REF!+#REF!+#REF!+#REF!+#REF!+#REF!","v":{"$error":"#REF!"}},{"$f":"#REF!+#REF!+#REF!+#REF!+#REF!+#REF!+#REF!","v":{"$error":"#REF!"}},{"$f":"'9_Per Pupil Summary'!J58","v":179.54249390353141},{"$f":"#REF!+#REF!+#REF!+#REF!+#REF!+#REF!+#REF!","v":{"$error":"#REF!"}},{"$f":"#REF!+#REF!+#REF!+#REF!+#REF!+#REF!+#REF!","v":{"$error":"#REF!"}},{"$f":"'9_Per Pupil Summary'!K58","v":4488.5623475882858},{"$f":"#REF!+#REF!+#REF!+#REF!+#REF!+#REF!+#REF!","v":{"$error":"#REF!"}},{"$f":"#REF!+#REF!+#REF!+#REF!+#REF!+#REF!+#REF!","v":{"$error":"#REF!"}},{"$f":"'9_Per Pupil Summary'!L58","v":1795.4249390353143},{"$f":"#REF!+#REF!+#REF!+#REF!+#REF!+#REF!+#REF!","v":{"$error":"#REF!"}},{"$f":"#REF!+#REF!+#REF!+#REF!+#REF!+#REF!+#REF!","v":{"$error":"#REF!"}},{"$f":"#REF!+#REF!+#REF!+#REF!+#REF!+#REF!+#REF!","v":{"$error":"#REF!"}},{"$f":"#REF!+#REF!+#REF!+#REF!+#REF!+#REF!+#REF!","v":{"$error":"#REF!"}},{"$f":"#REF!+#REF!+#REF!+#REF!+#REF!+#REF!+#REF!","v":{"$error":"#REF!"}},{"$f":"#REF!+#REF!+#REF!+#REF!+#REF!+#REF!+#REF!","v":{"$error":"#REF!"}},{"$f":"#REF!+#REF!+#REF!+#REF!+#REF!+#REF!+#REF!","v":{"$error":"#REF!"}},{"$f":"#REF!+#REF!+#REF!+#REF!+#REF!+#REF!+#REF!","v":{"$error":"#REF!"}},{"$f":"#REF!+#REF!+#REF!+#REF!+#REF!+#REF!+#REF!","v":{"$error":"#REF!"}},{"$f":"#REF!+#REF!+#REF!+#REF!+#REF!+#REF!+#REF!","v":{"$error":"#REF!"}},{"$f":"#REF!+#REF!+#REF!+#REF!+#REF!+#REF!+#REF!","v":{"$error":"#REF!"}},{"$f":"#REF!+#REF!+#REF!+#REF!+#REF!+#REF!+#REF!","v":{"$error":"#REF!"}},{"$f":"#REF!+#REF!+#REF!+#REF!+#REF!+#REF!+#REF!","v":{"$error":"#REF!"}},{"$f":"#REF!+#REF!+#REF!+#REF!+#REF!+#REF!+#REF!","v":{"$error":"#REF!"}}]
[54,"Tensas",{"$f":"#REF!+#REF!+#REF!+#REF!+#REF!+#REF!+#REF!","v":{"$error":"#REF!"}},{"$f":"'9_Per Pupil Summary'!O59","v":12348.542690660099},{"$f":"#REF!+#REF!+#REF!+#REF!+#REF!+#REF!+#REF!","v":{"$error":"#REF!"}},null,{"$f":"#REF!+#REF!+#REF!+#REF!+#REF!+#REF!+#REF!","v":{"$error":"#REF!"}},{"$f":"#REF!+#REF!+#REF!+#REF!+#REF!+#REF!+#REF!","v":{"$error":"#REF!"}},{"$f":"'9_Per Pupil Summary'!I59","v":518.01042096896811},{"$f":"#REF!+#REF!+#REF!+#REF!+#REF!+#REF!+#REF!","v":{"$error":"#REF!"}},{"$f":"#REF!+#REF!+#REF!+#REF!+#REF!+#REF!+#REF!","v":{"$error":"#REF!"}},{"$f":"'9_Per Pupil Summary'!J59","v":141.27556935517313},{"$f":"#REF!+#REF!+#REF!+#REF!+#REF!+#REF!+#REF!","v":{"$error":"#REF!"}},{"$f":"#REF!+#REF!+#REF!+#REF!+#REF!+#REF!+#REF!","v":{"$error":"#REF!"}},{"$f":"'9_Per Pupil Summary'!K59","v":3531.8892338793285},{"$f":"#REF!+#REF!+#REF!+#REF!+#REF!+#REF!+#REF!","v":{"$error":"#REF!"}},{"$f":"#REF!+#REF!+#REF!+#REF!+#REF!+#REF!+#REF!","v":{"$error":"#REF!"}},{"$f":"'9_Per Pupil Summary'!L59","v":1412.7556935517312},{"$f":"#REF!+#REF!+#REF!+#REF!+#REF!+#REF!+#REF!","v":{"$error":"#REF!"}},{"$f":"#REF!+#REF!+#REF!+#REF!+#REF!+#REF!+#REF!","v":{"$error":"#REF!"}},{"$f":"#REF!+#REF!+#REF!+#REF!+#REF!+#REF!+#REF!","v":{"$error":"#REF!"}},{"$f":"#REF!+#REF!+#REF!+#REF!+#REF!+#REF!+#REF!","v":{"$error":"#REF!"}},{"$f":"#REF!+#REF!+#REF!+#REF!+#REF!+#REF!+#REF!","v":{"$error":"#REF!"}},{"$f":"#REF!+#REF!+#REF!+#REF!+#REF!+#REF!+#REF!","v":{"$error":"#REF!"}},{"$f":"#REF!+#REF!+#REF!+#REF!+#REF!+#REF!+#REF!","v":{"$error":"#REF!"}},{"$f":"#REF!+#REF!+#REF!+#REF!+#REF!+#REF!+#REF!","v":{"$error":"#REF!"}},{"$f":"#REF!+#REF!+#REF!+#REF!+#REF!+#REF!+#REF!","v":{"$error":"#REF!"}},{"$f":"#REF!+#REF!+#REF!+#REF!+#REF!+#REF!+#REF!","v":{"$error":"#REF!"}},{"$f":"#REF!+#REF!+#REF!+#REF!+#REF!+#REF!+#REF!","v":{"$error":"#REF!"}},{"$f":"#REF!+#REF!+#REF!+#REF!+#REF!+#REF!+#REF!","v":{"$error":"#REF!"}},{"$f":"#REF!+#REF!+#REF!+#REF!+#REF!+#REF!+#REF!","v":{"$error":"#REF!"}},{"$f":"#REF!+#REF!+#REF!+#REF!+#REF!+#REF!+#REF!","v":{"$error":"#REF!"}}]
[55,"Terrebonne",{"$f":"#REF!+#REF!+#REF!+#REF!+#REF!+#REF!+#REF!","v":{"$error":"#REF!"}},{"$f":"'9_Per Pupil Summary'!O60","v":9357.4548411520409},{"$f":"#REF!+#REF!+#REF!+#REF!+#REF!+#REF!+#REF!","v":{"$error":"#REF!"}},null,{"$f":"#REF!+#REF!+#REF!+#REF!+#REF!+#REF!+#REF!","v":{"$error":"#REF!"}},{"$f":"#REF!+#REF!+#REF!+#REF!+#REF!+#REF!+#REF!","v":{"$error":"#REF!"}},{"$f":"'9_Per Pupil Summary'!I60","v":566.83100965668848},{"$f":"#REF!+#REF!+#REF!+#REF!+#REF!+#REF!+#REF!","v":{"$error":"#REF!"}},{"$f":"#REF!+#REF!+#REF!+#REF!+#REF!+#REF!+#REF!","v":{"$error":"#REF!"}},{"$f":"'9_Per Pupil Summary'!J60","v":154.59027536091503},{"$f":"#REF!+#REF!+#REF!+#REF!+#REF!+#REF!+#REF!","v":{"$error":"#REF!"}},{"$f":"#REF!+#REF!+#REF!+#REF!+#REF!+#REF!+#REF!","v":{"$error":"#REF!"}},{"$f":"'9_Per Pupil Summary'!K60","v":3864.7568840228755},{"$f":"#REF!+#REF!+#REF!+#REF!+#REF!+#REF!+#REF!","v":{"$error":"#REF!"}},{"$f":"#REF!+#REF!+#REF!+#REF!+#REF!+#REF!+#REF!","v":{"$error":"#REF!"}},{"$f":"'9_Per Pupil Summary'!L60","v":1545.9027536091503},{"$f":"#REF!+#REF!+#REF!+#REF!+#REF!+#REF!+#REF!","v":{"$error":"#REF!"}},{"$f":"#REF!+#REF!+#REF!+#REF!+#REF!+#REF!+#REF!","v":{"$error":"#REF!"}},{"$f":"#REF!+#REF!+#REF!+#REF!+#REF!+#REF!+#REF!","v":{"$error":"#REF!"}},{"$f":"#REF!+#REF!+#REF!+#REF!+#REF!+#REF!+#REF!","v":{"$error":"#REF!"}},{"$f":"#REF!+#REF!+#REF!+#REF!+#REF!+#REF!+#REF!","v":{"$error":"#REF!"}},{"$f":"#REF!+#REF!+#REF!+#REF!+#REF!+#REF!+#REF!","v":{"$error":"#REF!"}},{"$f":"#REF!+#REF!+#REF!+#REF!+#REF!+#REF!+#REF!","v":{"$error":"#REF!"}},{"$f":"#REF!+#REF!+#REF!+#REF!+#REF!+#REF!+#REF!","v":{"$error":"#REF!"}},{"$f":"#REF!+#REF!+#REF!+#REF!+#REF!+#REF!+#REF!","v":{"$error":"#REF!"}},{"$f":"#REF!+#REF!+#REF!+#REF!+#REF!+#REF!+#REF!","v":{"$error":"#REF!"}},{"$f":"#REF!+#REF!+#REF!+#REF!+#REF!+#REF!+#REF!","v":{"$error":"#REF!"}},{"$f":"#REF!+#REF!+#REF!+#REF!+#REF!+#REF!+#REF!","v":{"$error":"#REF!"}},{"$f":"#REF!+#REF!+#REF!+#REF!+#REF!+#REF!+#REF!","v":{"$error":"#REF!"}},{"$f":"#REF!+#REF!+#REF!+#REF!+#REF!+#REF!+#REF!","v":{"$error":"#REF!"}}]
[56,"Union",{"$f":"#REF!+#REF!+#REF!+#REF!+#REF!+#REF!+#REF!","v":{"$error":"#REF!"}},{"$f":"'9_Per Pupil Summary'!O61","v":10250.088913750322},{"$f":"#REF!+#REF!+#REF!+#REF!+#REF!+#REF!+#REF!","v":{"$error":"#REF!"}},null,{"$f":"#REF!+#REF!+#REF!+#REF!+#REF!+#REF!+#REF!","v":{"$error":"#REF!"}},{"$f":"#REF!+#REF!+#REF!+#REF!+#REF!+#REF!+#REF!","v":{"$error":"#REF!"}},{"$f":"'9_Per Pupil Summary'!I61","v":691.71047587376881},{"$f":"#REF!+#REF!+#REF!+#REF!+#REF!+#REF!+#REF!","v":{"$error":"#REF!"}},{"$f":"#REF!+#REF!+#REF!+#REF!+#REF!+#REF!+#REF!","v":{"$error":"#REF!"}},{"$f":"'9_Per Pupil Summary'!J61","v":188.64831160193691},{"$f":"#REF!+#REF!+#REF!+#REF!+#REF!+#REF!+#REF!","v":{"$error":"#REF!"}},{"$f":"#REF!+#REF!+#REF!+#REF!+#REF!+#REF!+#REF!","v":{"$error":"#REF!"}},{"$f":"'9_Per Pupil Summary'!K61","v":4716.2077900484228},{"$f":"#REF!+#REF!+#REF!+#REF!+#REF!+#REF!+#REF!","v":{"$error":"#REF!"}},{"$f":"#REF!+#REF!+#REF!+#REF!+#REF!+#REF!+#REF!","v":{"$error":"#REF!"}},{"$f":"'9_Per Pupil Summary'!L61","v":1886.4831160193692},{"$f":"#REF!+#REF!+#REF!+#REF!+#REF!+#REF!+#REF!","v":{"$error":"#REF!"}},{"$f":"#REF!+#REF!+#REF!+#REF!+#REF!+#REF!+#REF!","v":{"$error":"#REF!"}},{"$f":"#REF!+#REF!+#REF!+#REF!+#REF!+#REF!+#REF!","v":{"$error":"#REF!"}},{"$f":"#REF!+#REF!+#REF!+#REF!+#REF!+#REF!+#REF!","v":{"$error":"#REF!"}},{"$f":"#REF!+#REF!+#REF!+#REF!+#REF!+#REF!+#REF!","v":{"$error":"#REF!"}},{"$f":"#REF!+#REF!+#REF!+#REF!+#REF!+#REF!+#REF!","v":{"$error":"#REF!"}},{"$f":"#REF!+#REF!+#REF!+#REF!+#REF!+#REF!+#REF!","v":{"$error":"#REF!"}},{"$f":"#REF!+#REF!+#REF!+#REF!+#REF!+#REF!+#REF!","v":{"$error":"#REF!"}},{"$f":"#REF!+#REF!+#REF!+#REF!+#REF!+#REF!+#REF!","v":{"$error":"#REF!"}},{"$f":"#REF!+#REF!+#REF!+#REF!+#REF!+#REF!+#REF!","v":{"$error":"#REF!"}},{"$f":"#REF!+#REF!+#REF!+#REF!+#REF!+#REF!+#REF!","v":{"$error":"#REF!"}},{"$f":"#REF!+#REF!+#REF!+#REF!+#REF!+#REF!+#REF!","v":{"$error":"#REF!"}},{"$f":"#REF!+#REF!+#REF!+#REF!+#REF!+#REF!+#REF!","v":{"$error":"#REF!"}},{"$f":"#REF!+#REF!+#REF!+#REF!+#REF!+#REF!+#REF!","v":{"$error":"#REF!"}}]
[57,"Vermilion",{"$f":"#REF!+#REF!+#REF!+#REF!+#REF!+#REF!+#REF!","v":{"$error":"#REF!"}},{"$f":"'9_Per Pupil Summary'!O62","v":7673.2380341836133},{"$f":"#REF!+#REF!+#REF!+#REF!+#REF!+#REF!+#REF!","v":{"$error":"#REF!"}},null,{"$f":"#REF!+#REF!+#REF!+#REF!+#REF!+#REF!+#REF!","v":{"$error":"#REF!"}},{"$f":"#REF!+#REF!+#REF!+#REF!+#REF!+#REF!+#REF!","v":{"$error":"#REF!"}},{"$f":"'9_Per Pupil Summary'!I62","v":700.9833158997468},{"$f":"#REF!+#REF!+#REF!+#REF!+#REF!+#REF!+#REF!","v":{"$error":"#REF!"}},{"$f":"#REF!+#REF!+#REF!+#REF!+#REF!+#REF!+#REF!","v":{"$error":"#REF!"}},{"$f":"'9_Per Pupil Summary'!J62","v":191.1772679726582},{"$f":"#REF!+#REF!+#REF!+#REF!+#REF!+#REF!+#REF!","v":{"$error":"#REF!"}},{"$f":"#REF!+#REF!+#REF!+#REF!+#REF!+#REF!+#REF!","v":{"$error":"#REF!"}},{"$f":"'9_Per Pupil Summary'!K62","v":4779.4316993164557},{"$f":"#REF!+#REF!+#REF!+#REF!+#REF!+#REF!+#REF!","v":{"$error":"#REF!"}},{"$f":"#REF!+#REF!+#REF!+#REF!+#REF!+#REF!+#REF!","v":{"$error":"#REF!"}},{"$f":"'9_Per Pupil Summary'!L62","v":1911.7726797265821},{"$f":"#REF!+#REF!+#REF!+#REF!+#REF!+#REF!+#REF!","v":{"$error":"#REF!"}},{"$f":"#REF!+#REF!+#REF!+#REF!+#REF!+#REF!+#REF!","v":{"$error":"#REF!"}},{"$f":"#REF!+#REF!+#REF!+#REF!+#REF!+#REF!+#REF!","v":{"$error":"#REF!"}},{"$f":"#REF!+#REF!+#REF!+#REF!+#REF!+#REF!+#REF!","v":{"$error":"#REF!"}},{"$f":"#REF!+#REF!+#REF!+#REF!+#REF!+#REF!+#REF!","v":{"$error":"#REF!"}},{"$f":"#REF!+#REF!+#REF!+#REF!+#REF!+#REF!+#REF!","v":{"$error":"#REF!"}},{"$f":"#REF!+#REF!+#REF!+#REF!+#REF!+#REF!+#REF!","v":{"$error":"#REF!"}},{"$f":"#REF!+#REF!+#REF!+#REF!+#REF!+#REF!+#REF!","v":{"$error":"#REF!"}},{"$f":"#REF!+#REF!+#REF!+#REF!+#REF!+#REF!+#REF!","v":{"$error":"#REF!"}},{"$f":"#REF!+#REF!+#REF!+#REF!+#REF!+#REF!+#REF!","v":{"$error":"#REF!"}},{"$f":"#REF!+#REF!+#REF!+#REF!+#REF!+#REF!+#REF!","v":{"$error":"#REF!"}},{"$f":"#REF!+#REF!+#REF!+#REF!+#REF!+#REF!+#REF!","v":{"$error":"#REF!"}},{"$f":"#REF!+#REF!+#REF!+#REF!+#REF!+#REF!+#REF!","v":{"$error":"#REF!"}},{"$f":"#REF!+#REF!+#REF!+#REF!+#REF!+#REF!+#REF!","v":{"$error":"#REF!"}}]
[58,"Vernon",{"$f":"#REF!+#REF!+#REF!+#REF!+#REF!+#REF!+#REF!","v":{"$error":"#REF!"}},{"$f":"'9_Per Pupil Summary'!O63","v":8033.1951783533214},{"$f":"#REF!+#REF!+#REF!+#REF!+#REF!+#REF!+#REF!","v":{"$error":"#REF!"}},null,{"$f":"#REF!+#REF!+#REF!+#REF!+#REF!+#REF!+#REF!","v":{"$error":"#REF!"}},{"$f":"#REF!+#REF!+#REF!+#REF!+#REF!+#REF!+#REF!","v":{"$error":"#REF!"}},{"$f":"'9_Per Pupil Summary'!I63","v":726.71390317215707},{"$f":"#REF!+#REF!+#REF!+#REF!+#REF!+#REF!+#REF!","v":{"$error":"#REF!"}},{"$f":"#REF!+#REF!+#REF!+#REF!+#REF!+#REF!+#REF!","v":{"$error":"#REF!"}},{"$f":"'9_Per Pupil Summary'!J63","v":198.19470086513374},{"$f":"#REF!+#REF!+#REF!+#REF!+#REF!+#REF!+#REF!","v":{"$error":"#REF!"}},{"$f":"#REF!+#REF!+#REF!+#REF!+#REF!+#REF!+#REF!","v":{"$error":"#REF!"}},{"$f":"'9_Per Pupil Summary'!K63","v":4954.8675216283436},{"$f":"#REF!+#REF!+#REF!+#REF!+#REF!+#REF!+#REF!","v":{"$error":"#REF!"}},{"$f":"#REF!+#REF!+#REF!+#REF!+#REF!+#REF!+#REF!","v":{"$error":"#REF!"}},{"$f":"'9_Per Pupil Summary'!L63","v":1981.9470086513375},{"$f":"#REF!+#REF!+#REF!+#REF!+#REF!+#REF!+#REF!","v":{"$error":"#REF!"}},{"$f":"#REF!+#REF!+#REF!+#REF!+#REF!+#REF!+#REF!","v":{"$error":"#REF!"}},{"$f":"#REF!+#REF!+#REF!+#REF!+#REF!+#REF!+#REF!","v":{"$error":"#REF!"}},{"$f":"#REF!+#REF!+#REF!+#REF!+#REF!+#REF!+#REF!","v":{"$error":"#REF!"}},{"$f":"#REF!+#REF!+#REF!+#REF!+#REF!+#REF!+#REF!","v":{"$error":"#REF!"}},{"$f":"#REF!+#REF!+#REF!+#REF!+#REF!+#REF!+#REF!","v":{"$error":"#REF!"}},{"$f":"#REF!+#REF!+#REF!+#REF!+#REF!+#REF!+#REF!","v":{"$error":"#REF!"}},{"$f":"#REF!+#REF!+#REF!+#REF!+#REF!+#REF!+#REF!","v":{"$error":"#REF!"}},{"$f":"#REF!+#REF!+#REF!+#REF!+#REF!+#REF!+#REF!","v":{"$error":"#REF!"}},{"$f":"#REF!+#REF!+#REF!+#REF!+#REF!+#REF!+#REF!","v":{"$error":"#REF!"}},{"$f":"#REF!+#REF!+#REF!+#REF!+#REF!+#REF!+#REF!","v":{"$error":"#REF!"}},{"$f":"#REF!+#REF!+#REF!+#REF!+#REF!+#REF!+#REF!","v":{"$error":"#REF!"}},{"$f":"#REF!+#REF!+#REF!+#REF!+#REF!+#REF!+#REF!","v":{"$error":"#REF!"}},{"$f":"#REF!+#REF!+#REF!+#REF!+#REF!+#REF!+#REF!","v":{"$error":"#REF!"}}]
[59,"Washington",{"$f":"#REF!+#REF!+#REF!+#REF!+#REF!+#REF!+#REF!","v":{"$error":"#REF!"}},{"$f":"'9_Per Pupil Summary'!O64","v":7288.8627242091052},{"$f":"#REF!+#REF!+#REF!+#REF!+#REF!+#REF!+#REF!","v":{"$error":"#REF!"}},null,{"$f":"#REF!+#REF!+#REF!+#REF!+#REF!+#REF!+#REF!","v":{"$error":"#REF!"}},{"$f":"#REF!+#REF!+#REF!+#REF!+#REF!+#REF!+#REF!","v":{"$error":"#REF!"}},{"$f":"'9_Per Pupil Summary'!I64","v":775.26073750153273},{"$f":"#REF!+#REF!+#REF!+#REF!+#REF!+#REF!+#REF!","v":{"$error":"#REF!"}},{"$f":"#REF!+#REF!+#REF!+#REF!+#REF!+#REF!+#REF!","v":{"$error":"#REF!"}},{"$f":"'9_Per Pupil Summary'!J64","v":211.43474659132707},{"$f":"#REF!+#REF!+#REF!+#REF!+#REF!+#REF!+#REF!","v":{"$error":"#REF!"}},{"$f":"#REF!+#REF!+#REF!+#REF!+#REF!+#REF!+#REF!","v":{"$error":"#REF!"}},{"$f":"'9_Per Pupil Summary'!K64","v":5285.8686647831773},{"$f":"#REF!+#REF!+#REF!+#REF!+#REF!+#REF!+#REF!","v":{"$error":"#REF!"}},{"$f":"#REF!+#REF!+#REF!+#REF!+#REF!+#REF!+#REF!","v":{"$error":"#REF!"}},{"$f":"'9_Per Pupil Summary'!L64","v":2114.3474659132712},{"$f":"#REF!+#REF!+#REF!+#REF!+#REF!+#REF!+#REF!","v":{"$error":"#REF!"}},{"$f":"#REF!+#REF!+#REF!+#REF!+#REF!+#REF!+#REF!","v":{"$error":"#REF!"}},{"$f":"#REF!+#REF!+#REF!+#REF!+#REF!+#REF!+#REF!","v":{"$error":"#REF!"}},{"$f":"#REF!+#REF!+#REF!+#REF!+#REF!+#REF!+#REF!","v":{"$error":"#REF!"}},{"$f":"#REF!+#REF!+#REF!+#REF!+#REF!+#REF!+#REF!","v":{"$error":"#REF!"}},{"$f":"#REF!+#REF!+#REF!+#REF!+#REF!+#REF!+#REF!","v":{"$error":"#REF!"}},{"$f":"#REF!+#REF!+#REF!+#REF!+#REF!+#REF!+#REF!","v":{"$error":"#REF!"}},{"$f":"#REF!+#REF!+#REF!+#REF!+#REF!+#REF!+#REF!","v":{"$error":"#REF!"}},{"$f":"#REF!+#REF!+#REF!+#REF!+#REF!+#REF!+#REF!","v":{"$error":"#REF!"}},{"$f":"#REF!+#REF!+#REF!+#REF!+#REF!+#REF!+#REF!","v":{"$error":"#REF!"}},{"$f":"#REF!+#REF!+#REF!+#REF!+#REF!+#REF!+#REF!","v":{"$error":"#REF!"}},{"$f":"#REF!+#REF!+#REF!+#REF!+#REF!+#REF!+#REF!","v":{"$error":"#REF!"}},{"$f":"#REF!+#REF!+#REF!+#REF!+#REF!+#REF!+#REF!","v":{"$error":"#REF!"}},{"$f":"#REF!+#REF!+#REF!+#REF!+#REF!+#REF!+#REF!","v":{"$error":"#REF!"}}]
[60,"Webster",{"$f":"#REF!+#REF!+#REF!+#REF!+#REF!+#REF!+#REF!","v":{"$error":"#REF!"}},{"$f":"'9_Per Pupil Summary'!O65","v":10506.874322098045},{"$f":"#REF!+#REF!+#REF!+#REF!+#REF!+#REF!+#REF!","v":{"$error":"#REF!"}},null,{"$f":"#REF!+#REF!+#REF!+#REF!+#REF!+#REF!+#REF!","v":{"$error":"#REF!"}},{"$f":"#REF!+#REF!+#REF!+#REF!+#REF!+#REF!+#REF!","v":{"$error":"#REF!"}},{"$f":"'9_Per Pupil Summary'!I65","v":649.64331847687913},{"$f":"#REF!+#REF!+#REF!+#REF!+#REF!+#REF!+#REF!","v":{"$error":"#REF!"}},{"$f":"#REF!+#REF!+#REF!+#REF!+#REF!+#REF!+#REF!","v":{"$error":"#REF!"}},{"$f":"'9_Per Pupil Summary'!J65","v":177.17545049369429},{"$f":"#REF!+#REF!+#REF!+#REF!+#REF!+#REF!+#REF!","v":{"$error":"#REF!"}},{"$f":"#REF!+#REF!+#REF!+#REF!+#REF!+#REF!+#REF!","v":{"$error":"#REF!"}},{"$f":"'9_Per Pupil Summary'!K65","v":4429.3862623423565},{"$f":"#REF!+#REF!+#REF!+#REF!+#REF!+#REF!+#REF!","v":{"$error":"#REF!"}},{"$f":"#REF!+#REF!+#REF!+#REF!+#REF!+#REF!+#REF!","v":{"$error":"#REF!"}},{"$f":"'9_Per Pupil Summary'!L65","v":1771.7545049369428},{"$f":"#REF!+#REF!+#REF!+#REF!+#REF!+#REF!+#REF!","v":{"$error":"#REF!"}},{"$f":"#REF!+#REF!+#REF!+#REF!+#REF!+#REF!+#REF!","v":{"$error":"#REF!"}},{"$f":"#REF!+#REF!+#REF!+#REF!+#REF!+#REF!+#REF!","v":{"$error":"#REF!"}},{"$f":"#REF!+#REF!+#REF!+#REF!+#REF!+#REF!+#REF!","v":{"$error":"#REF!"}},{"$f":"#REF!+#REF!+#REF!+#REF!+#REF!+#REF!+#REF!","v":{"$error":"#REF!"}},{"$f":"#REF!+#REF!+#REF!+#REF!+#REF!+#REF!+#REF!","v":{"$error":"#REF!"}},{"$f":"#REF!+#REF!+#REF!+#REF!+#REF!+#REF!+#REF!","v":{"$error":"#REF!"}},{"$f":"#REF!+#REF!+#REF!+#REF!+#REF!+#REF!+#REF!","v":{"$error":"#REF!"}},{"$f":"#REF!+#REF!+#REF!+#REF!+#REF!+#REF!+#REF!","v":{"$error":"#REF!"}},{"$f":"#REF!+#REF!+#REF!+#REF!+#REF!+#REF!+#REF!","v":{"$error":"#REF!"}},{"$f":"#REF!+#REF!+#REF!+#REF!+#REF!+#REF!+#REF!","v":{"$error":"#REF!"}},{"$f":"#REF!+#REF!+#REF!+#REF!+#REF!+#REF!+#REF!","v":{"$error":"#REF!"}},{"$f":"#REF!+#REF!+#REF!+#REF!+#REF!+#REF!+#REF!","v":{"$error":"#REF!"}},{"$f":"#REF!+#REF!+#REF!+#REF!+#REF!+#REF!+#REF!","v":{"$error":"#REF!"}}]
[61,"West Baton Rouge",{"$f":"#REF!+#REF!+#REF!+#REF!+#REF!+#REF!+#REF!","v":{"$error":"#REF!"}},{"$f":"'9_Per Pupil Summary'!O66","v":15817.368381978937},{"$f":"#REF!+#REF!+#REF!+#REF!+#REF!+#REF!+#REF!","v":{"$error":"#REF!"}},null,{"$f":"#REF!+#REF!+#REF!+#REF!+#REF!+#REF!+#REF!","v":{"$error":"#REF!"}},{"$f":"#REF!+#REF!+#REF!+#REF!+#REF!+#REF!+#REF!","v":{"$error":"#REF!"}},{"$f":"'9_Per Pupil Summary'!I66","v":398.29202196916731},{"$f":"#REF!+#REF!+#REF!+#REF!+#REF!+#REF!+#REF!","v":{"$error":"#REF!"}},{"$f":"#REF!+#REF!+#REF!+#REF!+#REF!+#REF!+#REF!","v":{"$error":"#REF!"}},{"$f":"'9_Per Pupil Summary'!J66","v":108.625096900682},{"$f":"#REF!+#REF!+#REF!+#REF!+#REF!+#REF!+#REF!","v":{"$error":"#REF!"}},{"$f":"#REF!+#REF!+#REF!+#REF!+#REF!+#REF!+#REF!","v":{"$error":"#REF!"}},{"$f":"'9_Per Pupil Summary'!K66","v":2715.6274225170496},{"$f":"#REF!+#REF!+#REF!+#REF!+#REF!+#REF!+#REF!","v":{"$error":"#REF!"}},{"$f":"#REF!+#REF!+#REF!+#REF!+#REF!+#REF!+#REF!","v":{"$error":"#REF!"}},{"$f":"'9_Per Pupil Summary'!L66","v":1086.2509690068198},{"$f":"#REF!+#REF!+#REF!+#REF!+#REF!+#REF!+#REF!","v":{"$error":"#REF!"}},{"$f":"#REF!+#REF!+#REF!+#REF!+#REF!+#REF!+#REF!","v":{"$error":"#REF!"}},{"$f":"#REF!+#REF!+#REF!+#REF!+#REF!+#REF!+#REF!","v":{"$error":"#REF!"}},{"$f":"#REF!+#REF!+#REF!+#REF!+#REF!+#REF!+#REF!","v":{"$error":"#REF!"}},{"$f":"#REF!+#REF!+#REF!+#REF!+#REF!+#REF!+#REF!","v":{"$error":"#REF!"}},{"$f":"#REF!+#REF!+#REF!+#REF!+#REF!+#REF!+#REF!","v":{"$error":"#REF!"}},{"$f":"#REF!+#REF!+#REF!+#REF!+#REF!+#REF!+#REF!","v":{"$error":"#REF!"}},{"$f":"#REF!+#REF!+#REF!+#REF!+#REF!+#REF!+#REF!","v":{"$error":"#REF!"}},{"$f":"#REF!+#REF!+#REF!+#REF!+#REF!+#REF!+#REF!","v":{"$error":"#REF!"}},{"$f":"#REF!+#REF!+#REF!+#REF!+#REF!+#REF!+#REF!","v":{"$error":"#REF!"}},{"$f":"#REF!+#REF!+#REF!+#REF!+#REF!+#REF!+#REF!","v":{"$error":"#REF!"}},{"$f":"#REF!+#REF!+#REF!+#REF!+#REF!+#REF!+#REF!","v":{"$error":"#REF!"}},{"$f":"#REF!+#REF!+#REF!+#REF!+#REF!+#REF!+#REF!","v":{"$error":"#REF!"}},{"$f":"#REF!+#REF!+#REF!+#REF!+#REF!+#REF!+#REF!","v":{"$error":"#REF!"}}]
[62,"West Carroll",{"$f":"#REF!+#REF!+#REF!+#REF!+#REF!+#REF!+#REF!","v":{"$error":"#REF!"}},{"$f":"'9_Per Pupil Summary'!O67","v":8617.8402434759319},{"$f":"#REF!+#REF!+#REF!+#REF!+#REF!+#REF!+#REF!","v":{"$error":"#REF!"}},null,{"$f":"#REF!+#REF!+#REF!+#REF!+#REF!+#REF!+#REF!","v":{"$error":"#REF!"}},{"$f":"#REF!+#REF!+#REF!+#REF!+#REF!+#REF!+#REF!","v":{"$error":"#REF!"}},{"$f":"'9_Per Pupil Summary'!I67","v":714.0958401664102},{"$f":"#REF!+#REF!+#REF!+#REF!+#REF!+#REF!+#REF!","v":{"$error":"#REF!"}},{"$f":"#REF!+#REF!+#REF!+#REF!+#REF!+#REF!+#REF!","v":{"$error":"#REF!"}},{"$f":"'9_Per Pupil Summary'!J67","v":194.75341095447553},{"$f":"#REF!+#REF!+#REF!+#REF!+#REF!+#REF!+#REF!","v":{"$error":"#REF!"}},{"$f":"#REF!+#REF!+#REF!+#REF!+#REF!+#REF!+#REF!","v":{"$error":"#REF!"}},{"$f":"'9_Per Pupil Summary'!K67","v":4868.8352738618878},{"$f":"#REF!+#REF!+#REF!+#REF!+#REF!+#REF!+#REF!","v":{"$error":"#REF!"}},{"$f":"#REF!+#REF!+#REF!+#REF!+#REF!+#REF!+#REF!","v":{"$error":"#REF!"}},{"$f":"'9_Per Pupil Summary'!L67","v":0},{"$f":"#REF!+#REF!+#REF!+#REF!+#REF!+#REF!+#REF!","v":{"$error":"#REF!"}},{"$f":"#REF!+#REF!+#REF!+#REF!+#REF!+#REF!+#REF!","v":{"$error":"#REF!"}},{"$f":"#REF!+#REF!+#REF!+#REF!+#REF!+#REF!+#REF!","v":{"$error":"#REF!"}},{"$f":"#REF!+#REF!+#REF!+#REF!+#REF!+#REF!+#REF!","v":{"$error":"#REF!"}},{"$f":"#REF!+#REF!+#REF!+#REF!+#REF!+#REF!+#REF!","v":{"$error":"#REF!"}},{"$f":"#REF!+#REF!+#REF!+#REF!+#REF!+#REF!+#REF!","v":{"$error":"#REF!"}},{"$f":"#REF!+#REF!+#REF!+#REF!+#REF!+#REF!+#REF!","v":{"$error":"#REF!"}},{"$f":"#REF!+#REF!+#REF!+#REF!+#REF!+#REF!+#REF!","v":{"$error":"#REF!"}},{"$f":"#REF!+#REF!+#REF!+#REF!+#REF!+#REF!+#REF!","v":{"$error":"#REF!"}},{"$f":"#REF!+#REF!+#REF!+#REF!+#REF!+#REF!+#REF!","v":{"$error":"#REF!"}},{"$f":"#REF!+#REF!+#REF!+#REF!+#REF!+#REF!+#REF!","v":{"$error":"#REF!"}},{"$f":"#REF!+#REF!+#REF!+#REF!+#REF!+#REF!+#REF!","v":{"$error":"#REF!"}},{"$f":"#REF!+#REF!+#REF!+#REF!+#REF!+#REF!+#REF!","v":{"$error":"#REF!"}},{"$f":"#REF!+#REF!+#REF!+#REF!+#REF!+#REF!+#REF!","v":{"$error":"#REF!"}}]
[63,"West Feliciana",{"$f":"#REF!+#REF!+#REF!+#REF!+#REF!+#REF!+#REF!","v":{"$error":"#REF!"}},{"$f":"'9_Per Pupil Summary'!O68","v":16006.067283152641},{"$f":"#REF!+#REF!+#REF!+#REF!+#REF!+#REF!+#REF!","v":{"$error":"#REF!"}},null,{"$f":"#REF!+#REF!+#REF!+#REF!+#REF!+#REF!+#REF!","v":{"$error":"#REF!"}},{"$f":"#REF!+#REF!+#REF!+#REF!+#REF!+#REF!+#REF!","v":{"$error":"#REF!"}},{"$f":"'9_Per Pupil Summary'!I68","v":410.11651767451059},{"$f":"#REF!+#REF!+#REF!+#REF!+#REF!+#REF!+#REF!","v":{"$error":"#REF!"}},{"$f":"#REF!+#REF!+#REF!+#REF!+#REF!+#REF!+#REF!","v":{"$error":"#REF!"}},{"$f":"'9_Per Pupil Summary'!J68","v":111.8499593657756},{"$f":"#REF!+#REF!+#REF!+#REF!+#REF!+#REF!+#REF!","v":{"$error":"#REF!"}},{"$f":"#REF!+#REF!+#REF!+#REF!+#REF!+#REF!+#REF!","v":{"$error":"#REF!"}},{"$f":"'9_Per Pupil Summary'!K68","v":2796.2489841443899},{"$f":"#REF!+#REF!+#REF!+#REF!+#REF!+#REF!+#REF!","v":{"$error":"#REF!"}},{"$f":"#REF!+#REF!+#REF!+#REF!+#REF!+#REF!+#REF!","v":{"$error":"#REF!"}},{"$f":"'9_Per Pupil Summary'!L68","v":1118.4995936577559},{"$f":"#REF!+#REF!+#REF!+#REF!+#REF!+#REF!+#REF!","v":{"$error":"#REF!"}},{"$f":"#REF!+#REF!+#REF!+#REF!+#REF!+#REF!+#REF!","v":{"$error":"#REF!"}},{"$f":"#REF!+#REF!+#REF!+#REF!+#REF!+#REF!+#REF!","v":{"$error":"#REF!"}},{"$f":"#REF!+#REF!+#REF!+#REF!+#REF!+#REF!+#REF!","v":{"$error":"#REF!"}},{"$f":"#REF!+#REF!+#REF!+#REF!+#REF!+#REF!+#REF!","v":{"$error":"#REF!"}},{"$f":"#REF!+#REF!+#REF!+#REF!+#REF!+#REF!+#REF!","v":{"$error":"#REF!"}},{"$f":"#REF!+#REF!+#REF!+#REF!+#REF!+#REF!+#REF!","v":{"$error":"#REF!"}},{"$f":"#REF!+#REF!+#REF!+#REF!+#REF!+#REF!+#REF!","v":{"$error":"#REF!"}},{"$f":"#REF!+#REF!+#REF!+#REF!+#REF!+#REF!+#REF!","v":{"$error":"#REF!"}},{"$f":"#REF!+#REF!+#REF!+#REF!+#REF!+#REF!+#REF!","v":{"$error":"#REF!"}},{"$f":"#REF!+#REF!+#REF!+#REF!+#REF!+#REF!+#REF!","v":{"$error":"#REF!"}},{"$f":"#REF!+#REF!+#REF!+#REF!+#REF!+#REF!+#REF!","v":{"$error":"#REF!"}},{"$f":"#REF!+#REF!+#REF!+#REF!+#REF!+#REF!+#REF!","v":{"$error":"#REF!"}},{"$f":"#REF!+#REF!+#REF!+#REF!+#REF!+#REF!+#REF!","v":{"$error":"#REF!"}}]
[64,"Winn",{"$f":"#REF!+#REF!+#REF!+#REF!+#REF!+#REF!+#REF!","v":{"$error":"#REF!"}},{"$f":"'9_Per Pupil Summary'!O69","v":9026.8701108099485},{"$f":"#REF!+#REF!+#REF!+#REF!+#REF!+#REF!+#REF!","v":{"$error":"#REF!"}},null,{"$f":"#REF!+#REF!+#REF!+#REF!+#REF!+#REF!+#REF!","v":{"$error":"#REF!"}},{"$f":"#REF!+#REF!+#REF!+#REF!+#REF!+#REF!+#REF!","v":{"$error":"#REF!"}},{"$f":"'9_Per Pupil Summary'!I69","v":695.40240685296271},{"$f":"#REF!+#REF!+#REF!+#REF!+#REF!+#REF!+#REF!","v":{"$error":"#REF!"}},{"$f":"#REF!+#REF!+#REF!+#REF!+#REF!+#REF!+#REF!","v":{"$error":"#REF!"}},{"$f":"'9_Per Pupil Summary'!J69","v":189.65520186898985},{"$f":"#REF!+#REF!+#REF!+#REF!+#REF!+#REF!+#REF!","v":{"$error":"#REF!"}},{"$f":"#REF!+#REF!+#REF!+#REF!+#REF!+#REF!+#REF!","v":{"$error":"#REF!"}},{"$f":"'9_Per Pupil Summary'!K69","v":4741.3800467247447},{"$f":"#REF!+#REF!+#REF!+#REF!+#REF!+#REF!+#REF!","v":{"$error":"#REF!"}},{"$f":"#REF!+#REF!+#REF!+#REF!+#REF!+#REF!+#REF!","v":{"$error":"#REF!"}},{"$f":"'9_Per Pupil Summary'!L69","v":1896.552018689898},{"$f":"#REF!+#REF!+#REF!+#REF!+#REF!+#REF!+#REF!","v":{"$error":"#REF!"}},{"$f":"#REF!+#REF!+#REF!+#REF!+#REF!+#REF!+#REF!","v":{"$error":"#REF!"}},{"$f":"#REF!+#REF!+#REF!+#REF!+#REF!+#REF!+#REF!","v":{"$error":"#REF!"}},{"$f":"#REF!+#REF!+#REF!+#REF!+#REF!+#REF!+#REF!","v":{"$error":"#REF!"}},{"$f":"#REF!+#REF!+#REF!+#REF!+#REF!+#REF!+#REF!","v":{"$error":"#REF!"}},{"$f":"#REF!+#REF!+#REF!+#REF!+#REF!+#REF!+#REF!","v":{"$error":"#REF!"}},{"$f":"#REF!+#REF!+#REF!+#REF!+#REF!+#REF!+#REF!","v":{"$error":"#REF!"}},{"$f":"#REF!+#REF!+#REF!+#REF!+#REF!+#REF!+#REF!","v":{"$error":"#REF!"}},{"$f":"#REF!+#REF!+#REF!+#REF!+#REF!+#REF!+#REF!","v":{"$error":"#REF!"}},{"$f":"#REF!+#REF!+#REF!+#REF!+#REF!+#REF!+#REF!","v":{"$error":"#REF!"}},{"$f":"#REF!+#REF!+#REF!+#REF!+#REF!+#REF!+#REF!","v":{"$error":"#REF!"}},{"$f":"#REF!+#REF!+#REF!+#REF!+#REF!+#REF!+#REF!","v":{"$error":"#REF!"}},{"$f":"#REF!+#REF!+#REF!+#REF!+#REF!+#REF!+#REF!","v":{"$error":"#REF!"}},{"$f":"#REF!+#REF!+#REF!+#REF!+#REF!+#REF!+#REF!","v":{"$error":"#REF!"}}]
[65,"City of Monroe",{"$f":"#REF!+#REF!+#REF!+#REF!+#REF!+#REF!+#REF!","v":{"$error":"#REF!"}},{"$f":"'9_Per Pupil Summary'!O70","v":9978.5427523941125},{"$f":"#REF!+#REF!+#REF!+#REF!+#REF!+#REF!+#REF!","v":{"$error":"#REF!"}},null,{"$f":"#REF!+#REF!+#REF!+#REF!+#REF!+#REF!+#REF!","v":{"$error":"#REF!"}},{"$f":"#REF!+#REF!+#REF!+#REF!+#REF!+#REF!+#REF!","v":{"$error":"#REF!"}},{"$f":"'9_Per Pupil Summary'!I70","v":600.51036607998344},{"$f":"#REF!+#REF!+#REF!+#REF!+#REF!+#REF!+#REF!","v":{"$error":"#REF!"}},{"$f":"#REF!+#REF!+#REF!+#REF!+#REF!+#REF!+#REF!","v":{"$error":"#REF!"}},{"$f":"'9_Per Pupil Summary'!J70","v":163.77555438545005},{"$f":"#REF!+#REF!+#REF!+#REF!+#REF!+#REF!+#REF!","v":{"$error":"#REF!"}},{"$f":"#REF!+#REF!+#REF!+#REF!+#REF!+#REF!+#REF!","v":{"$error":"#REF!"}},{"$f":"'9_Per Pupil Summary'!K70","v":4094.3888596362513},{"$f":"#REF!+#REF!+#REF!+#REF!+#REF!+#REF!+#REF!","v":{"$error":"#REF!"}},{"$f":"#REF!+#REF!+#REF!+#REF!+#REF!+#REF!+#REF!","v":{"$error":"#REF!"}},{"$f":"'9_Per Pupil Summary'!L70","v":1637.7555438545},{"$f":"#REF!+#REF!+#REF!+#REF!+#REF!+#REF!+#REF!","v":{"$error":"#REF!"}},{"$f":"#REF!+#REF!+#REF!+#REF!+#REF!+#REF!+#REF!","v":{"$error":"#REF!"}},{"$f":"#REF!+#REF!+#REF!+#REF!+#REF!+#REF!+#REF!","v":{"$error":"#REF!"}},{"$f":"#REF!+#REF!+#REF!+#REF!+#REF!+#REF!+#REF!","v":{"$error":"#REF!"}},{"$f":"#REF!+#REF!+#REF!+#REF!+#REF!+#REF!+#REF!","v":{"$error":"#REF!"}},{"$f":"#REF!+#REF!+#REF!+#REF!+#REF!+#REF!+#REF!","v":{"$error":"#REF!"}},{"$f":"#REF!+#REF!+#REF!+#REF!+#REF!+#REF!+#REF!","v":{"$error":"#REF!"}},{"$f":"#REF!+#REF!+#REF!+#REF!+#REF!+#REF!+#REF!","v":{"$error":"#REF!"}},{"$f":"#REF!+#REF!+#REF!+#REF!+#REF!+#REF!+#REF!","v":{"$error":"#REF!"}},{"$f":"#REF!+#REF!+#REF!+#REF!+#REF!+#REF!+#REF!","v":{"$error":"#REF!"}},{"$f":"#REF!+#REF!+#REF!+#REF!+#REF!+#REF!+#REF!","v":{"$error":"#REF!"}},{"$f":"#REF!+#REF!+#REF!+#REF!+#REF!+#REF!+#REF!","v":{"$error":"#REF!"}},{"$f":"#REF!+#REF!+#REF!+#REF!+#REF!+#REF!+#REF!","v":{"$error":"#REF!"}},{"$f":"#REF!+#REF!+#REF!+#REF!+#REF!+#REF!+#REF!","v":{"$error":"#REF!"}}]
[66,"City of Bogalusa",{"$f":"#REF!+#REF!+#REF!+#REF!+#REF!+#REF!+#REF!","v":{"$error":"#REF!"}},{"$f":"'9_Per Pupil Summary'!O71","v":9757.1327243488631},{"$f":"#REF!+#REF!+#REF!+#REF!+#REF!+#REF!+#REF!","v":{"$error":"#REF!"}},null,{"$f":"#REF!+#REF!+#REF!+#REF!+#REF!+#REF!+#REF!","v":{"$error":"#REF!"}},{"$f":"#REF!+#REF!+#REF!+#REF!+#REF!+#REF!+#REF!","v":{"$error":"#REF!"}},{"$f":"'9_Per Pupil Summary'!I71","v":619.12013398667932},{"$f":"#REF!+#REF!+#REF!+#REF!+#REF!+#REF!+#REF!","v":{"$error":"#REF!"}},{"$f":"#REF!+#REF!+#REF!+#REF!+#REF!+#REF!+#REF!","v":{"$error":"#REF!"}},{"$f":"'9_Per Pupil Summary'!J71","v":168.85094563273069},{"$f":"#REF!+#REF!+#REF!+#REF!+#REF!+#REF!+#REF!","v":{"$error":"#REF!"}},{"$f":"#REF!+#REF!+#REF!+#REF!+#REF!+#REF!+#REF!","v":{"$error":"#REF!"}},{"$f":"'9_Per Pupil Summary'!K71","v":4221.2736408182673},{"$f":"#REF!+#REF!+#REF!+#REF!+#REF!+#REF!+#REF!","v":{"$error":"#REF!"}},{"$f":"#REF!+#REF!+#REF!+#REF!+#REF!+#REF!+#REF!","v":{"$error":"#REF!"}},{"$f":"'9_Per Pupil Summary'!L71","v":1688.5094563273071},{"$f":"#REF!+#REF!+#REF!+#REF!+#REF!+#REF!+#REF!","v":{"$error":"#REF!"}},{"$f":"#REF!+#REF!+#REF!+#REF!+#REF!+#REF!+#REF!","v":{"$error":"#REF!"}},{"$f":"#REF!+#REF!+#REF!+#REF!+#REF!+#REF!+#REF!","v":{"$error":"#REF!"}},{"$f":"#REF!+#REF!+#REF!+#REF!+#REF!+#REF!+#REF!","v":{"$error":"#REF!"}},{"$f":"#REF!+#REF!+#REF!+#REF!+#REF!+#REF!+#REF!","v":{"$error":"#REF!"}},{"$f":"#REF!+#REF!+#REF!+#REF!+#REF!+#REF!+#REF!","v":{"$error":"#REF!"}},{"$f":"#REF!+#REF!+#REF!+#REF!+#REF!+#REF!+#REF!","v":{"$error":"#REF!"}},{"$f":"#REF!+#REF!+#REF!+#REF!+#REF!+#REF!+#REF!","v":{"$error":"#REF!"}},{"$f":"#REF!+#REF!+#REF!+#REF!+#REF!+#REF!+#REF!","v":{"$error":"#REF!"}},{"$f":"#REF!+#REF!+#REF!+#REF!+#REF!+#REF!+#REF!","v":{"$error":"#REF!"}},{"$f":"#REF!+#REF!+#REF!+#REF!+#REF!+#REF!+#REF!","v":{"$error":"#REF!"}},{"$f":"#REF!+#REF!+#REF!+#REF!+#REF!+#REF!+#REF!","v":{"$error":"#REF!"}},{"$f":"#REF!+#REF!+#REF!+#REF!+#REF!+#REF!+#REF!","v":{"$error":"#REF!"}},{"$f":"#REF!+#REF!+#REF!+#REF!+#REF!+#REF!+#REF!","v":{"$error":"#REF!"}}]
[67,"Zachary Community",{"$f":"#REF!+#REF!+#REF!+#REF!+#REF!+#REF!+#REF!","v":{"$error":"#REF!"}},{"$f":"'9_Per Pupil Summary'!O72","v":10246.230779231155},{"$f":"#REF!+#REF!+#REF!+#REF!+#REF!+#REF!+#REF!","v":{"$error":"#REF!"}},null,{"$f":"#REF!+#REF!+#REF!+#REF!+#REF!+#REF!+#REF!","v":{"$error":"#REF!"}},{"$f":"#REF!+#REF!+#REF!+#REF!+#REF!+#REF!+#REF!","v":{"$error":"#REF!"}},{"$f":"'9_Per Pupil Summary'!I72","v":682.28171175635123},{"$f":"#REF!+#REF!+#REF!+#REF!+#REF!+#REF!+#REF!","v":{"$error":"#REF!"}},{"$f":"#REF!+#REF!+#REF!+#REF!+#REF!+#REF!+#REF!","v":{"$error":"#REF!"}},{"$f":"'9_Per Pupil Summary'!J72","v":186.07683047900488},{"$f":"#REF!+#REF!+#REF!+#REF!+#REF!+#REF!+#REF!","v":{"$error":"#REF!"}},{"$f":"#REF!+#REF!+#REF!+#REF!+#REF!+#REF!+#REF!","v":{"$error":"#REF!"}},{"$f":"'9_Per Pupil Summary'!K72","v":4651.9207619751223},{"$f":"#REF!+#REF!+#REF!+#REF!+#REF!+#REF!+#REF!","v":{"$error":"#REF!"}},{"$f":"#REF!+#REF!+#REF!+#REF!+#REF!+#REF!+#REF!","v":{"$error":"#REF!"}},{"$f":"'9_Per Pupil Summary'!L72","v":1860.7683047900487},{"$f":"#REF!+#REF!+#REF!+#REF!+#REF!+#REF!+#REF!","v":{"$error":"#REF!"}},{"$f":"#REF!+#REF!+#REF!+#REF!+#REF!+#REF!+#REF!","v":{"$error":"#REF!"}},{"$f":"#REF!+#REF!+#REF!+#REF!+#REF!+#REF!+#REF!","v":{"$error":"#REF!"}},{"$f":"#REF!+#REF!+#REF!+#REF!+#REF!+#REF!+#REF!","v":{"$error":"#REF!"}},{"$f":"#REF!+#REF!+#REF!+#REF!+#REF!+#REF!+#REF!","v":{"$error":"#REF!"}},{"$f":"#REF!+#REF!+#REF!+#REF!+#REF!+#REF!+#REF!","v":{"$error":"#REF!"}},{"$f":"#REF!+#REF!+#REF!+#REF!+#REF!+#REF!+#REF!","v":{"$error":"#REF!"}},{"$f":"#REF!+#REF!+#REF!+#REF!+#REF!+#REF!+#REF!","v":{"$error":"#REF!"}},{"$f":"#REF!+#REF!+#REF!+#REF!+#REF!+#REF!+#REF!","v":{"$error":"#REF!"}},{"$f":"#REF!+#REF!+#REF!+#REF!+#REF!+#REF!+#REF!","v":{"$error":"#REF!"}},{"$f":"#REF!+#REF!+#REF!+#REF!+#REF!+#REF!+#REF!","v":{"$error":"#REF!"}},{"$f":"#REF!+#REF!+#REF!+#REF!+#REF!+#REF!+#REF!","v":{"$error":"#REF!"}},{"$f":"#REF!+#REF!+#REF!+#REF!+#REF!+#REF!+#REF!","v":{"$error":"#REF!"}},{"$f":"#REF!+#REF!+#REF!+#REF!+#REF!+#REF!+#REF!","v":{"$error":"#REF!"}}]
[68,"City of Baker",{"$f":"#REF!+#REF!+#REF!+#REF!+#REF!+#REF!+#REF!","v":{"$error":"#REF!"}},{"$f":"'9_Per Pupil Summary'!O73","v":9457.155725000468},{"$f":"#REF!+#REF!+#REF!+#REF!+#REF!+#REF!+#REF!","v":{"$error":"#REF!"}},null,{"$f":"#REF!+#REF!+#REF!+#REF!+#REF!+#REF!+#REF!","v":{"$error":"#REF!"}},{"$f":"#REF!+#REF!+#REF!+#REF!+#REF!+#REF!+#REF!","v":{"$error":"#REF!"}},{"$f":"'9_Per Pupil Summary'!I73","v":672.36517333822314},{"$f":"#REF!+#REF!+#REF!+#REF!+#REF!+#REF!+#REF!","v":{"$error":"#REF!"}},{"$f":"#REF!+#REF!+#REF!+#REF!+#REF!+#REF!+#REF!","v":{"$error":"#REF!"}},{"$f":"'9_Per Pupil Summary'!J73","v":183.37232000133355},{"$f":"#REF!+#REF!+#REF!+#REF!+#REF!+#REF!+#REF!","v":{"$error":"#REF!"}},{"$f":"#REF!+#REF!+#REF!+#REF!+#REF!+#REF!+#REF!","v":{"$error":"#REF!"}},{"$f":"'9_Per Pupil Summary'!K73","v":4584.3080000333393},{"$f":"#REF!+#REF!+#REF!+#REF!+#REF!+#REF!+#REF!","v":{"$error":"#REF!"}},{"$f":"#REF!+#REF!+#REF!+#REF!+#REF!+#REF!+#REF!","v":{"$error":"#REF!"}},{"$f":"'9_Per Pupil Summary'!L73","v":1833.7232000133358},{"$f":"#REF!+#REF!+#REF!+#REF!+#REF!+#REF!+#REF!","v":{"$error":"#REF!"}},{"$f":"#REF!+#REF!+#REF!+#REF!+#REF!+#REF!+#REF!","v":{"$error":"#REF!"}},{"$f":"#REF!+#REF!+#REF!+#REF!+#REF!+#REF!+#REF!","v":{"$error":"#REF!"}},{"$f":"#REF!+#REF!+#REF!+#REF!+#REF!+#REF!+#REF!","v":{"$error":"#REF!"}},{"$f":"#REF!+#REF!+#REF!+#REF!+#REF!+#REF!+#REF!","v":{"$error":"#REF!"}},{"$f":"#REF!+#REF!+#REF!+#REF!+#REF!+#REF!+#REF!","v":{"$error":"#REF!"}},{"$f":"#REF!+#REF!+#REF!+#REF!+#REF!+#REF!+#REF!","v":{"$error":"#REF!"}},{"$f":"#REF!+#REF!+#REF!+#REF!+#REF!+#REF!+#REF!","v":{"$error":"#REF!"}},{"$f":"#REF!+#REF!+#REF!+#REF!+#REF!+#REF!+#REF!","v":{"$error":"#REF!"}},{"$f":"#REF!+#REF!+#REF!+#REF!+#REF!+#REF!+#REF!","v":{"$error":"#REF!"}},{"$f":"#REF!+#REF!+#REF!+#REF!+#REF!+#REF!+#REF!","v":{"$error":"#REF!"}},{"$f":"#REF!+#REF!+#REF!+#REF!+#REF!+#REF!+#REF!","v":{"$error":"#REF!"}},{"$f":"#REF!+#REF!+#REF!+#REF!+#REF!+#REF!+#REF!","v":{"$error":"#REF!"}},{"$f":"#REF!+#REF!+#REF!+#REF!+#REF!+#REF!+#REF!","v":{"$error":"#REF!"}}]
[69,"Central Community",{"$f":"#REF!+#REF!+#REF!+#REF!+#REF!+#REF!+#REF!","v":{"$error":"#REF!"}},{"$f":"'9_Per Pupil Summary'!O74","v":10165.435422965678},{"$f":"#REF!+#REF!+#REF!+#REF!+#REF!+#REF!+#REF!","v":{"$error":"#REF!"}},null,{"$f":"#REF!+#REF!+#REF!+#REF!+#REF!+#REF!+#REF!","v":{"$error":"#REF!"}},{"$f":"#REF!+#REF!+#REF!+#REF!+#REF!+#REF!+#REF!","v":{"$error":"#REF!"}},{"$f":"'9_Per Pupil Summary'!I74","v":713.12675906686752},{"$f":"#REF!+#REF!+#REF!+#REF!+#REF!+#REF!+#REF!","v":{"$error":"#REF!"}},{"$f":"#REF!+#REF!+#REF!+#REF!+#REF!+#REF!+#REF!","v":{"$error":"#REF!"}},{"$f":"'9_Per Pupil Summary'!J74","v":194.4891161091457},{"$f":"#REF!+#REF!+#REF!+#REF!+#REF!+#REF!+#REF!","v":{"$error":"#REF!"}},{"$f":"#REF!+#REF!+#REF!+#REF!+#REF!+#REF!+#REF!","v":{"$error":"#REF!"}},{"$f":"'9_Per Pupil Summary'!K74","v":4862.2279027286422},{"$f":"#REF!+#REF!+#REF!+#REF!+#REF!+#REF!+#REF!","v":{"$error":"#REF!"}},{"$f":"#REF!+#REF!+#REF!+#REF!+#REF!+#REF!+#REF!","v":{"$error":"#REF!"}},{"$f":"'9_Per Pupil Summary'!L74","v":1944.8911610914565},{"$f":"#REF!+#REF!+#REF!+#REF!+#REF!+#REF!+#REF!","v":{"$error":"#REF!"}},{"$f":"#REF!+#REF!+#REF!+#REF!+#REF!+#REF!+#REF!","v":{"$error":"#REF!"}},{"$f":"#REF!+#REF!+#REF!+#REF!+#REF!+#REF!+#REF!","v":{"$error":"#REF!"}},{"$f":"#REF!+#REF!+#REF!+#REF!+#REF!+#REF!+#REF!","v":{"$error":"#REF!"}},{"$f":"#REF!+#REF!+#REF!+#REF!+#REF!+#REF!+#REF!","v":{"$error":"#REF!"}},{"$f":"#REF!+#REF!+#REF!+#REF!+#REF!+#REF!+#REF!","v":{"$error":"#REF!"}},{"$f":"#REF!+#REF!+#REF!+#REF!+#REF!+#REF!+#REF!","v":{"$error":"#REF!"}},{"$f":"#REF!+#REF!+#REF!+#REF!+#REF!+#REF!+#REF!","v":{"$error":"#REF!"}},{"$f":"#REF!+#REF!+#REF!+#REF!+#REF!+#REF!+#REF!","v":{"$error":"#REF!"}},{"$f":"#REF!+#REF!+#REF!+#REF!+#REF!+#REF!+#REF!","v":{"$error":"#REF!"}},{"$f":"#REF!+#REF!+#REF!+#REF!+#REF!+#REF!+#REF!","v":{"$error":"#REF!"}},{"$f":"#REF!+#REF!+#REF!+#REF!+#REF!+#REF!+#REF!","v":{"$error":"#REF!"}},{"$f":"#REF!+#REF!+#REF!+#REF!+#REF!+#REF!+#REF!","v":{"$error":"#REF!"}},{"$f":"#REF!+#REF!+#REF!+#REF!+#REF!+#REF!+#REF!","v":{"$error":"#REF!"}}]
["State Subtotal",null,{"$f":"SUM(C7:C75)","v":{"$error":"#REF!"}},null,{"$f":"SUM(E7:E75)","v":{"$error":"#REF!"}},null,{"$f":"SUM(G7:G75)","v":{"$error":"#REF!"}},{"$f":"SUM(H7:H75)","v":{"$error":"#REF!"}},null,{"$f":"SUM(J7:J75)","v":{"$error":"#REF!"}},{"$f":"SUM(K7:K75)","v":{"$error":"#REF!"}},null,{"$f":"SUM(M7:M75)","v":{"$error":"#REF!"}},{"$f":"SUM(N7:N75)","v":{"$error":"#REF!"}},null,{"$f":"SUM(P7:P75)","v":{"$error":"#REF!"}},{"$f":"SUM(Q7:Q75)","v":{"$error":"#REF!"}},null,{"$f":"SUM(S7:S75)","v":{"$error":"#REF!"}},{"$f":"SUM(T7:T75)","v":{"$error":"#REF!"}},{"$error":"#REF!"},{"$error":"#REF!"},{"$error":"#REF!"},{"$error":"#REF!"},{"$error":"#REF!"},{"$error":"#REF!"},{"$error":"#REF!"},{"$error":"#REF!"},{"$error":"#REF!"},{"$error":"#REF!"},{"$error":"#REF!"},{"$error":"#REF!"}]
["Level 4 Allocations"]
["International Assoc/Escadrille Salaries",null,null,null,null,null,null,null,null,null,null,null,null,null,null,null,null,null,null,null,null,null,null,null,null,null,null,{"$f":"#REF!+#REF!+#REF!+#REF!+#REF!+#REF!+#REF!","v":{"$error":"#REF!"}},{"$f":"#REF!+#REF!+#REF!+#REF!+#REF!+#REF!+#REF!","v":{"$error":"#REF!"}},{"$f":"#REF!+#REF!+#REF!+#REF!+#REF!+#REF!+#REF!","v":{"$error":"#REF!"}},{"$f":"#REF!+#REF!+#REF!+#REF!+#REF!+#REF!+#REF!","v":{"$error":"#REF!"}},{"$f":"#REF!+#REF!+#REF!+#REF!+#REF!+#REF!+#REF!","v":{"$error":"#REF!"}}]
["International Assoc/Escadrille Stipends",null,null,null,null,null,null,null,null,null,null,null,null,null,null,null,null,null,null,null,null,null,null,null,null,null,null,{"$f":"#REF!+#REF!+#REF!+#REF!+#REF!+#REF!+#REF!","v":{"$error":"#REF!"}},{"$f":"#REF!+#REF!+#REF!+#REF!+#REF!+#REF!+#REF!","v":{"$error":"#REF!"}},{"$f":"#REF!+#REF!+#REF!+#REF!+#REF!+#REF!+#REF!","v":{"$error":"#REF!"}},{"$f":"#REF!+#REF!+#REF!+#REF!+#REF!+#REF!+#REF!","v":{"$error":"#REF!"}},{"$f":"#REF!+#REF!+#REF!+#REF!+#REF!+#REF!+#REF!","v":{"$error":"#REF!"}}]
["Career Development Fund",null,null,null,null,null,null,null,null,null,null,null,null,null,null,null,null,null,null,null,null,null,null,null,null,null,null,{"$f":"#REF!+#REF!+#REF!+#REF!+#REF!+#REF!+#REF!","v":{"$error":"#REF!"}},{"$f":"#REF!+#REF!+#REF!+#REF!+#REF!+#REF!+#REF!","v":{"$error":"#REF!"}},{"$f":"#REF!+#REF!+#REF!+#REF!+#REF!+#REF!+#REF!","v":{"$error":"#REF!"}},{"$f":"#REF!+#REF!+#REF!+#REF!+#REF!+#REF!+#REF!","v":{"$error":"#REF!"}},{"$f":"#REF!+#REF!+#REF!+#REF!+#REF!+#REF!+#REF!","v":{"$error":"#REF!"}}]
["High Cost Services Allocation",null,null,null,null,null,null,null,null,null,null,null,null,null,null,null,null,null,null,null,null,null,null,null,null,null,null,{"$f":"#REF!+#REF!+#REF!+#REF!+#REF!+#REF!+#REF!","v":{"$error":"#REF!"}},{"$f":"#REF!+#REF!+#REF!+#REF!+#REF!+#REF!+#REF!","v":{"$error":"#REF!"}},{"$f":"#REF!+#REF!+#REF!+#REF!+#REF!+#REF!+#REF!","v":{"$error":"#REF!"}},{"$f":"#REF!+#REF!+#REF!+#REF!+#REF!+#REF!+#REF!","v":{"$error":"#REF!"}},{"$f":"#REF!+#REF!+#REF!+#REF!+#REF!+#REF!+#REF!","v":{"$error":"#REF!"}}]
["Supplemental Course Allocation",null,null,null,null,null,null,null,null,null,null,null,null,null,null,null,null,null,null,null,null,null,null,null,null,null,null,{"$f":"#REF!+#REF!+#REF!+#REF!+#REF!+#REF!+#REF!","v":{"$error":"#REF!"}},{"$f":"#REF!+#REF!+#REF!+#REF!+#REF!+#REF!+#REF!","v":{"$error":"#REF!"}},{"$f":"#REF!+#REF!+#REF!+#REF!+#REF!+#REF!+#REF!","v":{"$error":"#REF!"}},{"$f":"#REF!+#REF!+#REF!+#REF!+#REF!+#REF!+#REF!","v":{"$error":"#REF!"}},{"$f":"#REF!+#REF!+#REF!+#REF!+#REF!+#REF!+#REF!","v":{"$error":"#REF!"}}]
["FY2019-20 Pay Raise",null,null,null,null,null,null,null,null,null,null,null,null,null,null,null,null,null,null,null,null,null,null,null,null,null,null,{"$f":"#REF!+#REF!+#REF!+#REF!+#REF!+#REF!+#REF!","v":{"$error":"#REF!"}},{"$f":"#REF!+#REF!+#REF!+#REF!+#REF!+#REF!+#REF!","v":{"$error":"#REF!"}},{"$f":"#REF!+#REF!+#REF!+#REF!+#REF!+#REF!+#REF!","v":{"$error":"#REF!"}},{"$f":"#REF!+#REF!+#REF!+#REF!+#REF!+#REF!+#REF!","v":{"$error":"#REF!"}},{"$f":"#REF!+#REF!+#REF!+#REF!+#REF!+#REF!+#REF!","v":{"$error":"#REF!"}}]
["FY2021-22 Pay Raise",null,null,null,null,null,null,null,null,null,null,null,null,null,null,null,null,null,null,null,null,null,null,null,null,null,null,{"$f":"#REF!+#REF!+#REF!+#REF!+#REF!+#REF!+#REF!","v":{"$error":"#REF!"}},{"$f":"#REF!+#REF!+#REF!+#REF!+#REF!+#REF!+#REF!","v":{"$error":"#REF!"}},{"$f":"#REF!+#REF!+#REF!+#REF!+#REF!+#REF!+#REF!","v":{"$error":"#REF!"}},{"$f":"#REF!+#REF!+#REF!+#REF!+#REF!+#REF!+#REF!","v":{"$error":"#REF!"}},{"$f":"#REF!+#REF!+#REF!+#REF!+#REF!+#REF!+#REF!","v":{"$error":"#REF!"}}]
["State Grand Total With Level 4",null,{"$f":"SUM(C76:C84)","v":{"$error":"#REF!"}},null,{"$f":"SUM(E76:E84)","v":{"$error":"#REF!"}},null,{"$f":"SUM(G76:G84)","v":{"$error":"#REF!"}},{"$f":"SUM(H76:H84)","v":{"$error":"#REF!"}},null,{"$f":"SUM(J76:J84)","v":{"$error":"#REF!"}},{"$f":"SUM(K76:K84)","v":{"$error":"#REF!"}},null,{"$f":"SUM(M76:M84)","v":{"$error":"#REF!"}},{"$f":"SUM(N76:N84)","v":{"$error":"#REF!"}},null,{"$f":"SUM(P76:P84)","v":{"$error":"#REF!"}},{"$f":"SUM(Q76:Q84)","v":{"$error":"#REF!"}},null,{"$f":"SUM(S76:S84)","v":{"$error":"#REF!"}},{"$error":"#REF!"},{"$error":"#REF!"},{"$error":"#REF!"},{"$error":"#REF!"},{"$error":"#REF!"},{"$error":"#REF!"},{"$error":"#REF!"},{"$error":"#REF!"},{"$error":"#REF!"},{"$error":"#REF!"},{"$error":"#REF!"},{"$error":"#REF!"},{"$error":"#REF!"}]
[]
[null,"Orleans (In a District Building)*",{"$f":"#REF!+#REF!+#REF!+#REF!+#REF!+#REF!+#REF!","v":{"$error":"#REF!"}},{"$f":"'9_Per Pupil Summary'!F41+'9_Per Pupil Summary'!M41","v":10558.333423047954},{"$f":"#REF!+#REF!+#REF!+#REF!+#REF!+#REF!+#REF!","v":{"$error":"#REF!"}}]
[null,"Orleans (Not In a District Building)*",{"$f":"#REF!+#REF!+#REF!+#REF!+#REF!+#REF!+#REF!","v":{"$error":"#REF!"}},{"$f":"D42","v":11400.333423047954},{"$f":"#REF!+#REF!+#REF!+#REF!+#REF!+#REF!+#REF!","v":{"$error":"#REF!"}}]
[null,"Total"]
["N/A","N/A",{"$f":"'5A2_Legacy Type 2'!C14","v":3984},{"$f":"'5A2_Legacy Type 2'!D14","v":0},{"$f":"'5A2_Legacy Type 2'!E14","v":43501627.993764363},{"$f":"'5A2_Legacy Type 2'!F14","v":0},{"$f":"'5A2_Legacy Type 2'!G14","v":2601394.9500000002},{"$f":"'5A2_Legacy Type 2'!H14","v":2527},{"$f":"'5A2_Legacy Type 2'!I14","v":0},{"$f":"'5A2_Legacy Type 2'!J14","v":1448007.6161870682},{"$f":"'5A2_Legacy Type 2'!K14","v":815},{"$f":"'5A2_Legacy Type 2'!L14","v":0},{"$f":"'5A2_Legacy Type 2'!M14","v":129682.31478615818},{"$f":"'5A2_Legacy Type 2'!N14","v":387},{"$f":"'5A2_Legacy Type 2'!O14","v":0},{"$f":"'5A2_Legacy Type 2'!P14","v":1428920.5966417859},{"$f":"'5A2_Legacy Type 2'!Q14","v":94},{"$f":"'5A2_Legacy Type 2'!R14","v":0},{"$f":"'5A2_Legacy Type 2'!S14","v":134271.73571678548},{"$f":"'5A2_Legacy Type 2'!T14","v":49243903},{"$f":"'5A2_Legacy Type 2'!U14","v":173454},{"$f":"'5A2_Legacy Type 2'!V14","v":-506773},{"$f":"'5A2_Legacy Type 2'!W14","v":-333319},{"$f":"'5A2_Legacy Type 2'!X14","v":48910584},{"$f":"'5A2_Legacy Type 2'!Y14","v":-122279},{"$f":"'5A2_Legacy Type 2'!Z14","v":48788305},{"$f":"'5A2_Legacy Type 2'!AA14","v":-28057},{"$f":"'5A2_Legacy Type 2'!AC14","v":51289303},{"$f":"'5A2_Legacy Type 2'!AD14","v":32595858},{"$f":"'5A2_Legacy Type 2'!AE14","v":18693445},{"$f":"'5A2_Legacy Type 2'!AF14","v":4673368},{"$f":"'5A2_Legacy Type 2'!AH14","v":51435060}]
[null,null,{"$f":"C85-C90","v":{"$error":"#REF!"}},0,{"$error":"#REF!"},0,{"$error":"#REF!"},{"$error":"#REF!"},0,{"$error":"#REF!"},{"$error":"#REF!"},0,{"$error":"#REF!"},{"$error":"#REF!"},0,{"$error":"#REF!"},{"$error":"#REF!"},0,{"$error":"#REF!"},{"$error":"#REF!"},{"$error":"#REF!"},{"$error":"#REF!"},{"$error":"#REF!"},{"$error":"#REF!"},{"$error":"#REF!"},{"$error":"#REF!"},{"$error":"#REF!"},{"$error":"#REF!"},{"$error":"#REF!"},{"$error":"#REF!"},{"$error":"#REF!"},{"$f":"AF85-AF90","v":{"$error":"#REF!"}}]

{"sheet":"New Type 2 Res Summary","index":1,"n_rows":91,"n_cols":51,"rows_kept":91,"cut":false,"hidden":true,"merged":[[84,0,84,1],[1,18,2,18],[77,0,77,1],[78,0,78,1],[79,0,79,1],[80,0,80,1],[81,0,81,1],[76,0,76,1],[0,0,2,1],[75,0,75,1],[82,0,82,1],[83,0,83,1],[1,32,2,32],[1,33,1,37],[1,38,2,38],[1,39,2,39],[1,26,2,26],[1,27,2,27],[1,28,2,28],[1,29,2,29],[1,30,2,30],[1,22,2,22],[0,47,2,47],[1,2,2,2],[1,3,1,4],[1,5,1,7],[1,8,1,10],[1,11,1,13],[1,14,1,16],[1,17,2,17],[1,19,1,21],[0,2,0,10],[0,11,0,21],[0,22,0,30],[0,31,0,37],[0,38,0,45],[1,42,2,42],[89,0,89,1],[90,0,90,1],[1,49,2,49],[1,50,2,50],[0,48,0,50],[1,48,2,48],[0,46,2,46],[1,44,2,44],[1,45,2,45],[1,40,2,40],[1,41,2,41],[1,43,2,43],[1,23,2,23],[1,24,2,24],[1,25,2,25],[1,31,2,31]]}
["Table 5C1\nNew Type 2\nCharter Schools",null,"MFP State Cost Allocation",null,null,null,null,null,null,null,null,"MFP State Cost Allocation",null,null,null,null,null,null,null,null,null,null,"MFP State Cost Allocation",null,null,null,null,null,null,null,null,"Local Revenue Representation",null,null,null,null,null,null,"Local Revenue Representation",null,null,null,null,null,null,null,"Total \nState Cost Allocation\nand \nLocal\nRevenue\nRepresentation\nPayment\n","State Cost Allocation\nand \nLocal\nRevenue\nRepresentation\nMonthly\nPayment\n","Internal Only"]
[null,null,"Feb. 1, 2021\nMFP Funded\nMembership\n\n(Per SIS)","Unweighted",null,"Economically Disadvantaged (ED)",null,null,"Career & Technical Units (CTE)",null,null,"Students with Disabilities (SWD)",null,null,"Gifted & Talented (GT)",null,null,"Total MFP\nState Cost\nAllocation\n\n(Levels 1,\n2, & 3)","Return to\nState\n\n(10%)","Mid-Year Adjustment for Students",null,null,"Total MFP\nState Cost\nAllocation\n+/- Mid-Year\nAdjustments","State\nAdmin Fee\nto the\nDept. of\nEducation\n\n0.25%","Total MFP\nState Cost\nAllocation\n+/- Mid-Year\nAdjustments\n- Admin Fee","Prior Years\nMFP Audit\nAdjustments\n\n(Includes\nFY2019-20\nand\nFY2020-21)","Total MFP State\nCost Allocation\n+/- Mid-Year Adjs\n- Admin Fee\n+/- Audit Adjs\n+ Monthly Level 4","Year To\nDate State\nPayments","Balance\nDue","State\nCost\nAllocation\nMonthly\nPayment\n","Total MFP State\nCost Allocation\n+/- Mid-Year Adjs\n- Admin Fee\n+/- Audit Adjs\n+ Total Level 4","Initial\nFY2021-22\nLocal Revenue\nRepresentation\nPer Pupil\n\n(per charter law)","Local Revenue\nRepresentation","Mid-Year Adjustment for Students",null,null,null,null,"Total\nLocal Revenue\nRepresentation\n+/- Mid-Year\nAdjustments","Admin\nFee to the\nDept. of\nEducation\n\n0.25%","Total\nLocal Revenue\nRepresentation\n+/- Mid-Year\nAdjustments\n- Admin Fee","Prior Years\nMFP Audit\nAdjustments\n\n(Includes\nFY2019-20\nand\nFY2020-21)","Total\nLocal Revenue\nRepresentation\n+/- Mid-Year\nAdjustments\n- Admin Fee\n+/- Audit Adj.","Year To\nDate\nPayments","Balance\nDue","Local Revenue\nRepresentation\nMonthly\nPayment\n",null,null,"Local\nAdmin Fee\nto the \nDept. of\nEducation\n\nCurrent","Local\nAdmin Fee\nto the \nDept. of\nEducation\n\nYTD Pmt","Balance Due"]
[null,null,null,"Unweighted\nPer Pupil\nWith\nContinuation\nof Prior Year\nPay Raises","State Cost\nAllocation","Student Count\n\n(Per SIS\n2-1-21)","Per Pupil","State Cost\nAllocation","Student Count\n\n(Per SIS\n10-1-20)","Per Pupil","State Cost\nAllocation","Student Count\n\n(Per SER\n2-1-21)","Per\nPupil","State Cost\nAllocation","Student Count\n\n(Per SER\n2-1-21)","Per\nPupil","State Cost\nAllocation",null,null,"October\n2021\nMid-Year\nAdjustment\nfor Students","February\n2022\nMid-Year\nAdjustment\nfor Students","Total\nMid-Year\nAdjustment\nfor Students",null,null,null,null,null,null,null,null,null,null,null,"Change in\nFunded\nStudent\nCount Per\nOct. 2021\nMid-Year Adj.","October\n2021\nMid-Year\nAdjustment","Change in\nFunded\nStudent\nCount Per\nFeb. 2022\nMid-Year\nAdjustment","February\n2022\nMid-Year\nAdjustment\n\n(Half the\nPer Pupil)","Total\nMid-Year\nAdjustment\nfor Students"]
[null,null,1,{"$f":"C4+1","v":2},3,{"$f":"E4+1","v":4},5,6,7,8,9,10,11,12,13,14,15,16,"(16a)",{"$f":"R4+1","v":17},18,19,20,21,22,23,{"$f":"Z4+1","v":24},{"$f":"AA4+1","v":25},26,27,28,29,30,31,32,33,34,35,36,37,38,39,40,41,42,43,44,45,{"$f":"AV4+1","v":46},{"$f":"AW4+1","v":47},{"$f":"AX4+1","v":48}]
[null,null,"T8","T9, C6","C1 x C2","Link to ED Tab in Student Count File","T9, C7","C4 x C5","Link to CTE Tab in Student Count File","T9, C8","C7 x C8","Link to SWD Tab in Student Count File","T9, C9","C10 x C11","Link to GT Tab in Student Count File","T9, C10","C13 x C14","C3 + C6 + C9\n+ C12 + C15",null,"Link to October Tab in Mid-Year File","Link to February Tab in Mid-Year File","C17 + C18","C16 + C19","C20 x -.25%","C20 + C21","Link to Audit File","C22 + C23\nT4, C2; T4, C14","Prior Month File: C25 + C27","C24 - C25","C26 ÷ Months Remaining","C24\nT4, C7; T4, C9; T4, C10","T9, C12","C1 x C29","Link to October Tab in Mid-Year File","C29 x C31","Link to February Tab in Mid-Year File","C29 x C33 x .5","C32 + C34","C30 + C35","C36 x -.25%","C36 + C37","Link to Audit File","C38 + C39","Prior Month File:\nC41 + C43","C40 - C41","C42 ÷ Remaining Months","C24 + C40","C27 + C43","C37","YTD Payment\nFrom App Ctrl","C46 - C47"]
[null,null,"Link in File","Link in File","Formula","Link to \"Counts in Budget Letter\"","Link in File","Formula","Link to \"Counts in Budget Letter\"","Link in File","Formula","Link to \"Counts in Budget Letter\"","Link in File","Formula","Link to \"Counts in Budget Letter\"","Link in File","Formula","Formula",null,"Link to Mid-Year File","Link to Mid-Year File","Formula","Formula","Formula","Formula","Link to Audit File","T4, C2; T4, C14","Link to Prior Month,","Formula","Formula","T4, C7; T4, C9; T4, C10","Link in File","Formula","Link to Mid-Year File","Formula","Link to Mid-Year File","Formula","Formula","Formula","Formula","Formula","Link to Audit File","Formula","Link to Prior Month,","Formula","Formula","Formula","Formula","Value","Formula","Formula"]
[1,"Acadia",{"$f":"#REF!+#REF!+#REF!+#REF!+#REF!+#REF!+#REF!+#REF!+#REF!+#REF!+#REF!+#REF!+#REF!+#REF!+#REF!+#REF!+#REF!+#REF!+#REF!+#REF!+#REF!+#REF!+#REF!+#REF!+#REF!+#REF!+#REF!+#REF!+#REF!+#REF!+#REF!+#REF!+#REF!","v":{"$error":"#REF!"}},{"$f":"'9_Per Pupil Summary'!H6","v":5091.5533065265845},{"$f":"#REF!+#REF!+#REF!+#REF!+#REF!+#REF!+#REF!+#REF!+#REF!+#REF!+#REF!+#REF!+#REF!+#REF!+#REF!+#REF!+#REF!+#REF!+#REF!+#REF!+#REF!+#REF!+#REF!+#REF!+#REF!+#REF!+#REF!+#REF!+#REF!+#REF!+#REF!+#REF!+#REF!","v":{"$error":"#REF!"}},{"$f":"#REF!+#REF!+#REF!+#REF!+#REF!+#REF!+#REF!+#REF!+#REF!+#REF!+#REF!+#REF!+#REF!+#REF!+#REF!+#REF!+#REF!+#REF!+#REF!+#REF!+#REF!+#REF!+#REF!+#REF!+#REF!+#REF!+#REF!+#REF!+#REF!+#REF!+#REF!+#REF!+#REF!","v":{"$error":"#REF!"}},{"$f":"'9_Per Pupil Summary'!I6","v":669.92707442677101},{"$f":"#REF!+#REF!+#REF!+#REF!+#REF!+#REF!+#REF!+#REF!+#REF!+#REF!+#REF!+#REF!+#REF!+#REF!+#REF!+#REF!+#REF!+#REF!+#REF!+#REF!+#REF!+#REF!+#REF!+#REF!+#REF!+#REF!+#REF!+#REF!+#REF!+#REF!+#REF!+#REF!+#REF!","v":{"$error":"#REF!"}},{"$f":"#REF!+#REF!+#REF!+#REF!+#REF!+#REF!+#REF!+#REF!+#REF!+#REF!+#REF!+#REF!+#REF!+#REF!+#REF!+#REF!+#REF!+#REF!+#REF!+#REF!+#REF!+#REF!+#REF!+#REF!+#REF!+#REF!+#REF!+#REF!+#REF!+#REF!+#REF!+#REF!+#REF!","v":{"$error":"#REF!"}},{"$f":"'9_Per Pupil Summary'!J6","v":182.7073839345739},{"$f":"#REF!+#REF!+#REF!+#REF!+#REF!+#REF!+#REF!+#REF!+#REF!+#REF!+#REF!+#REF!+#REF!+#REF!+#REF!+#REF!+#REF!+#REF!+#REF!+#REF!+#REF!+#REF!+#REF!+#REF!+#REF!+#REF!+#REF!+#REF!+#REF!+#REF!+#REF!+#REF!+#REF!","v":{"$error":"#REF!"}},{"$f":"#REF!+#REF!+#REF!+#REF!+#REF!+#REF!+#REF!+#REF!+#REF!+#REF!+#REF!+#REF!+#REF!+#REF!+#REF!+#REF!+#REF!+#REF!+#REF!+#REF!+#REF!+#REF!+#REF!+#REF!+#REF!+#REF!+#REF!+#REF!+#REF!+#REF!+#REF!+#REF!+#REF!","v":{"$error":"#REF!"}},{"$f":"'9_Per Pupil Summary'!K6","v":4567.6845983643479},{"$f":"#REF!+#REF!+#REF!+#REF!+#REF!+#REF!+#REF!+#REF!+#REF!+#REF!+#REF!+#REF!+#REF!+#REF!+#REF!+#REF!+#REF!+#REF!+#REF!+#REF!+#REF!+#REF!+#REF!+#REF!+#REF!+#REF!+#REF!+#REF!+#REF!+#REF!+#REF!+#REF!+#REF!","v":{"$error":"#REF!"}},{"$f":"#REF!+#REF!+#REF!+#REF!+#REF!+#REF!+#REF!+#REF!+#REF!+#REF!+#REF!+#REF!+#REF!+#REF!+#REF!+#REF!+#REF!+#REF!+#REF!+#REF!+#REF!+#REF!+#REF!+#REF!+#REF!+#REF!+#REF!+#REF!+#REF!+#REF!+#REF!+#REF!+#REF!","v":{"$error":"#REF!"}},{"$f":"'9_Per Pupil Summary'!L6","v":1827.0738393457391},{"$f":"#REF!+#REF!+#REF!+#REF!+#REF!+#REF!+#REF!+#REF!+#REF!+#REF!+#REF!+#REF!+#REF!+#REF!+#REF!+#REF!+#REF!+#REF!+#REF!+#REF!+#REF!+#REF!+#REF!+#REF!+#REF!+#REF!+#REF!+#REF!+#REF!+#REF!+#REF!+#REF!+#REF!","v":{"$error":"#REF!"}},{"$f":"#REF!+#REF!+#REF!+#REF!+#REF!+#REF!+#REF!+#REF!+#REF!+#REF!+#REF!+#REF!+#REF!+#REF!+#REF!+#REF!+#REF!+#REF!+#REF!+#REF!+#REF!+#REF!+#REF!+#REF!+#REF!+#REF!+#REF!+#REF!+#REF!+#REF!+#REF!+#REF!+#REF!","v":{"$error":"#REF!"}},{"$f":"#REF!+#REF!","v":{"$error":"#REF!"}},{"$f":"#REF!+#REF!+#REF!+#REF!+#REF!+#REF!+#REF!+#REF!+#REF!+#REF!+#REF!+#REF!+#REF!+#REF!+#REF!+#REF!+#REF!+#REF!+#REF!+#REF!+#REF!+#REF!+#REF!+#REF!+#REF!+#REF!+#REF!+#REF!+#REF!+#REF!+#REF!+#REF!+#REF!","v":{"$error":"#REF!"}},{"$f":"#REF!+#REF!+#REF!+#REF!+#REF!+#REF!+#REF!+#REF!+#REF!+#REF!+#REF!+#REF!+#REF!+#REF!+#REF!+#REF!+#REF!+#REF!+#REF!+#REF!+#REF!+#REF!+#REF!+#REF!+#REF!+#REF!+#REF!+#REF!+#REF!+#REF!+#REF!+#REF!+#REF!","v":{"$error":"#REF!"}},{"$f":"#REF!+#REF!+#REF!+#REF!+#REF!+#REF!+#REF!+#REF!+#REF!+#REF!+#REF!+#REF!+#REF!+#REF!+#REF!+#REF!+#REF!+#REF!+#REF!+#REF!+#REF!+#REF!+#REF!+#REF!+#REF!+#REF!+#REF!+#REF!+#REF!+#REF!+#REF!+#REF!+#REF!","v":{"$error":"#REF!"}},{"$f":"#REF!+#REF!+#REF!+#REF!+#REF!+#REF!+#REF!+#REF!+#REF!+#REF!+#REF!+#REF!+#REF!+#REF!+#REF!+#REF!+#REF!+#REF!+#REF!+#REF!+#REF!+#REF!+#REF!+#REF!+#REF!+#REF!+#REF!+#REF!+#REF!+#REF!+#REF!+#REF!+#REF!","v":{"$error":"#REF!"}},{"$f":"#REF!+#REF!+#REF!+#REF!+#REF!+#REF!+#REF!+#REF!+#REF!+#REF!+#REF!+#REF!+#REF!+#REF!+#REF!+#REF!+#REF!+#REF!+#REF!+#REF!+#REF!+#REF!+#REF!+#REF!+#REF!+#REF!+#REF!+#REF!+#REF!+#REF!+#REF!+#REF!+#REF!","v":{"$error":"#REF!"}},{"$f":"#REF!+#REF!+#REF!+#REF!+#REF!+#REF!+#REF!+#REF!+#REF!+#REF!+#REF!+#REF!+#REF!+#REF!+#REF!+#REF!+#REF!+#REF!+#REF!+#REF!+#REF!+#REF!+#REF!+#REF!+#REF!+#REF!+#REF!+#REF!+#REF!+#REF!+#REF!+#REF!+#REF!","v":{"$error":"#REF!"}},{"$f":"#REF!+#REF!+#REF!+#REF!+#REF!+#REF!+#REF!+#REF!+#REF!+#REF!+#REF!+#REF!+#REF!+#REF!+#REF!+#REF!+#REF!+#REF!+#REF!+#REF!+#REF!+#REF!+#REF!+#REF!+#REF!+#REF!+#REF!+#REF!+#REF!+#REF!+#REF!+#REF!+#REF!","v":{"$error":"#REF!"}},{"$f":"#REF!+#REF!+#REF!+#REF!+#REF!+#REF!+#REF!+#REF!+#REF!+#REF!+#REF!+#REF!+#REF!+#REF!+#REF!+#REF!+#REF!+#REF!+#REF!+#REF!+#REF!+#REF!+#REF!+#REF!+#REF!+#REF!+#REF!+#REF!+#REF!+#REF!+#REF!+#REF!+#REF!","v":{"$error":"#REF!"}},{"$f":"#REF!+#REF!+#REF!+#REF!+#REF!+#REF!+#REF!+#REF!+#REF!+#REF!+#REF!+#REF!+#REF!+#REF!+#REF!+#REF!+#REF!+#REF!+#REF!+#REF!+#REF!+#REF!+#REF!+#REF!+#REF!+#REF!+#REF!+#REF!+#REF!+#REF!+#REF!+#REF!+#REF!","v":{"$error":"#REF!"}},{"$f":"#REF!+#REF!+#REF!+#REF!+#REF!+#REF!+#REF!+#REF!+#REF!+#REF!+#REF!+#REF!+#REF!+#REF!+#REF!+#REF!+#REF!+#REF!+#REF!+#REF!+#REF!+#REF!+#REF!+#REF!+#REF!+#REF!+#REF!+#REF!+#REF!+#REF!+#REF!+#REF!+#REF!","v":{"$error":"#REF!"}},{"$f":"#REF!+#REF!+#REF!+#REF!+#REF!+#REF!+#REF!+#REF!+#REF!+#REF!+#REF!+#REF!+#REF!+#REF!+#REF!+#REF!+#REF!+#REF!+#REF!+#REF!+#REF!+#REF!+#REF!+#REF!+#REF!+#REF!+#REF!+#REF!+#REF!+#REF!+#REF!+#REF!+#REF!","v":{"$error":"#REF!"}},{"$f":"#REF!+#REF!+#REF!+#REF!+#REF!+#REF!+#REF!+#REF!+#REF!+#REF!+#REF!+#REF!+#REF!+#REF!+#REF!+#REF!+#REF!+#REF!+#REF!+#REF!+#REF!+#REF!+#REF!+#REF!+#REF!+#REF!+#REF!+#REF!+#REF!+#REF!+#REF!+#REF!+#REF!","v":{"$error":"#REF!"}},{"$f":"'9_Per Pupil Summary'!N6","v":3313},{"$f":"#REF!+#REF!+#REF!+#REF!+#REF!+#REF!+#REF!+#REF!+#REF!+#REF!+#REF!+#REF!+#REF!+#REF!+#REF!+#REF!+#REF!+#REF!+#REF!+#REF!+#REF!+#REF!+#REF!+#REF!+#REF!+#REF!+#REF!+#REF!+#REF!+#REF!+#REF!+#REF!+#REF!","v":{"$error":"#REF!"}},{"$f":"#REF!+#REF!+#REF!+#REF!+#REF!+#REF!+#REF!+#REF!+#REF!+#REF!+#REF!+#REF!+#REF!+#REF!+#REF!+#REF!+#REF!+#REF!+#REF!+#REF!+#REF!+#REF!+#REF!+#REF!+#REF!+#REF!+#REF!+#REF!+#REF!+#REF!+#REF!+#REF!+#REF!","v":{"$error":"#REF!"}},{"$f":"#REF!+#REF!+#REF!+#REF!+#REF!+#REF!+#REF!+#REF!+#REF!+#REF!+#REF!+#REF!+#REF!+#REF!+#REF!+#REF!+#REF!+#REF!+#REF!+#REF!+#REF!+#REF!+#REF!+#REF!+#REF!+#REF!+#REF!+#REF!+#REF!+#REF!+#REF!+#REF!+#REF!","v":{"$error":"#REF!"}},{"$f":"#REF!+#REF!+#REF!+#REF!+#REF!+#REF!+#REF!+#REF!+#REF!+#REF!+#REF!+#REF!+#REF!+#REF!+#REF!+#REF!+#REF!+#REF!+#REF!+#REF!+#REF!+#REF!+#REF!+#REF!+#REF!+#REF!+#REF!+#REF!+#REF!+#REF!+#REF!+#REF!+#REF!","v":{"$error":"#REF!"}},{"$f":"#REF!+#REF!+#REF!+#REF!+#REF!+#REF!+#REF!+#REF!+#REF!+#REF!+#REF!+#REF!+#REF!+#REF!+#REF!+#REF!+#REF!+#REF!+#REF!+#REF!+#REF!+#REF!+#REF!+#REF!+#REF!+#REF!+#REF!+#REF!+#REF!+#REF!+#REF!+#REF!+#REF!","v":{"$error":"#REF!"}},{"$f":"#REF!+#REF!+#REF!+#REF!+#REF!+#REF!+#REF!+#REF!+#REF!+#REF!+#REF!+#REF!+#REF!+#REF!+#REF!+#REF!+#REF!+#REF!+#REF!+#REF!+#REF!+#REF!+#REF!+#REF!+#REF!+#REF!+#REF!+#REF!+#REF!+#REF!+#REF!+#REF!+#REF!","v":{"$error":"#REF!"}},{"$f":"#REF!+#REF!+#REF!+#REF!+#REF!+#REF!+#REF!+#REF!+#REF!+#REF!+#REF!+#REF!+#REF!+#REF!+#REF!+#REF!+#REF!+#REF!+#REF!+#REF!+#REF!+#REF!+#REF!+#REF!+#REF!+#REF!+#REF!+#REF!+#REF!+#REF!+#REF!+#REF!+#REF!","v":{"$error":"#REF!"}},{"$f":"#REF!+#REF!+#REF!+#REF!+#REF!+#REF!+#REF!+#REF!+#REF!+#REF!+#REF!+#REF!+#REF!+#REF!+#REF!+#REF!+#REF!+#REF!+#REF!+#REF!+#REF!+#REF!+#REF!+#REF!+#REF!+#REF!+#REF!+#REF!+#REF!+#REF!+#REF!+#REF!+#REF!","v":{"$error":"#REF!"}},{"$f":"#REF!+#REF!+#REF!+#REF!+#REF!+#REF!+#REF!+#REF!+#REF!+#REF!+#REF!+#REF!+#REF!+#REF!+#REF!+#REF!+#REF!+#REF!+#REF!+#REF!+#REF!+#REF!+#REF!+#REF!+#REF!+#REF!+#REF!+#REF!+#REF!+#REF!+#REF!+#REF!+#REF!","v":{"$error":"#REF!"}},{"$f":"#REF!+#REF!+#REF!+#REF!+#REF!+#REF!+#REF!+#REF!+#REF!+#REF!+#REF!+#REF!+#REF!+#REF!+#REF!+#REF!+#REF!+#REF!+#REF!+#REF!+#REF!+#REF!+#REF!+#REF!+#REF!+#REF!+#REF!+#REF!+#REF!+#REF!+#REF!+#REF!+#REF!","v":{"$error":"#REF!"}},{"$f":"#REF!+#REF!+#REF!+#REF!+#REF!+#REF!+#REF!+#REF!+#REF!+#REF!+#REF!+#REF!+#REF!+#REF!+#REF!+#REF!+#REF!+#REF!+#REF!+#REF!+#REF!+#REF!+#REF!+#REF!+#REF!+#REF!+#REF!+#REF!+#REF!+#REF!+#REF!+#REF!+#REF!","v":{"$error":"#REF!"}},{"$f":"#REF!+#REF!+#REF!+#REF!+#REF!+#REF!+#REF!+#REF!+#REF!+#REF!+#REF!+#REF!+#REF!+#REF!+#REF!+#REF!+#REF!+#REF!+#REF!+#REF!+#REF!+#REF!+#REF!+#REF!+#REF!+#REF!+#REF!+#REF!+#REF!+#REF!+#REF!+#REF!+#REF!","v":{"$error":"#REF!"}},{"$f":"#REF!+#REF!+#REF!+#REF!+#REF!+#REF!+#REF!+#REF!+#REF!+#REF!+#REF!+#REF!+#REF!+#REF!+#REF!+#REF!+#REF!+#REF!+#REF!+#REF!+#REF!+#REF!+#REF!+#REF!+#REF!+#REF!+#REF!+#REF!+#REF!+#REF!+#REF!+#REF!+#REF!","v":{"$error":"#REF!"}},{"$f":"#REF!+#REF!+#REF!+#REF!+#REF!+#REF!+#REF!+#REF!+#REF!+#REF!+#REF!+#REF!+#REF!+#REF!+#REF!+#REF!+#REF!+#REF!+#REF!+#REF!+#REF!+#REF!+#REF!+#REF!+#REF!+#REF!+#REF!+#REF!+#REF!+#REF!+#REF!+#REF!+#REF!","v":{"$error":"#REF!"}},{"$f":"AA7+AQ7","v":{"$error":"#REF!"}},{"$f":"AD7+AT7","v":{"$error":"#REF!"}},{"$f":"#REF!+#REF!+#REF!+#REF!+#REF!+#REF!+#REF!+#REF!+#REF!+#REF!+#REF!+#REF!+#REF!+#REF!+#REF!+#REF!+#REF!+#REF!+#REF!+#REF!+#REF!+#REF!+#REF!+#REF!+#REF!+#REF!+#REF!+#REF!+#REF!+#REF!+#REF!+#REF!+#REF!","v":{"$error":"#REF!"}},null,{"$f":"AW7-AX7","v":{"$error":"#REF!"}}]
[2,"Allen",{"$f":"#REF!+#REF!+#REF!+#REF!+#REF!+#REF!+#REF!+#REF!+#REF!+#REF!+#REF!+#REF!+#REF!+#REF!+#REF!+#REF!+#REF!+#REF!+#REF!+#REF!+#REF!+#REF!+#REF!+#REF!+#REF!+#REF!+#REF!+#REF!+#REF!+#REF!+#REF!+#REF!+#REF!","v":{"$error":"#REF!"}},{"$f":"'9_Per Pupil Summary'!H7","v":5819.1132573807026},{"$f":"#REF!+#REF!+#REF!+#REF!+#REF!+#REF!+#REF!+#REF!+#REF!+#REF!+#REF!+#REF!+#REF!+#REF!+#REF!+#REF!+#REF!+#REF!+#REF!+#REF!+#REF!+#REF!+#REF!+#REF!+#REF!+#REF!+#REF!+#REF!+#REF!+#REF!+#REF!+#REF!+#REF!","v":{"$error":"#REF!"}},{"$f":"#REF!+#REF!+#REF!+#REF!+#REF!+#REF!+#REF!+#REF!+#REF!+#REF!+#REF!+#REF!+#REF!+#REF!+#REF!+#REF!+#REF!+#REF!+#REF!+#REF!+#REF!+#REF!+#REF!+#REF!+#REF!+#REF!+#REF!+#REF!+#REF!+#REF!+#REF!+#REF!+#REF!","v":{"$error":"#REF!"}},{"$f":"'9_Per Pupil Summary'!I7","v":738.50544435043003},{"$f":"#REF!+#REF!+#REF!+#REF!+#REF!+#REF!+#REF!+#REF!+#REF!+#REF!+#REF!+#REF!+#REF!+#REF!+#REF!+#REF!+#REF!+#REF!+#REF!+#REF!+#REF!+#REF!+#REF!+#REF!+#REF!+#REF!+#REF!+#REF!+#REF!+#REF!+#REF!+#REF!+#REF!","v":{"$error":"#REF!"}},{"$f":"#REF!+#REF!+#REF!+#REF!+#REF!+#REF!+#REF!+#REF!+#REF!+#REF!+#REF!+#REF!+#REF!+#REF!+#REF!+#REF!+#REF!+#REF!+#REF!+#REF!+#REF!+#REF!+#REF!+#REF!+#REF!+#REF!+#REF!+#REF!+#REF!+#REF!+#REF!+#REF!+#REF!","v":{"$error":"#REF!"}},{"$f":"'9_Per Pupil Summary'!J7","v":201.41057573193544},{"$f":"#REF!+#REF!+#REF!+#REF!+#REF!+#REF!+#REF!+#REF!+#REF!+#REF!+#REF!+#REF!+#REF!+#REF!+#REF!+#REF!+#REF!+#REF!+#REF!+#REF!+#REF!+#REF!+#REF!+#REF!+#REF!+#REF!+#REF!+#REF!+#REF!+#REF!+#REF!+#REF!+#REF!","v":{"$error":"#REF!"}},{"$f":"#REF!+#REF!+#REF!+#REF!+#REF!+#REF!+#REF!+#REF!+#REF!+#REF!+#REF!+#REF!+#REF!+#REF!+#REF!+#REF!+#REF!+#REF!+#REF!+#REF!+#REF!+#REF!+#REF!+#REF!+#REF!+#REF!+#REF!+#REF!+#REF!+#REF!+#REF!+#REF!+#REF!","v":{"$error":"#REF!"}},{"$f":"'9_Per Pupil Summary'!K7","v":5035.2643932983874},{"$f":"#REF!+#REF!+#REF!+#REF!+#REF!+#REF!+#REF!+#REF!+#REF!+#REF!+#REF!+#REF!+#REF!+#REF!+#REF!+#REF!+#REF!+#REF!+#REF!+#REF!+#REF!+#REF!+#REF!+#REF!+#REF!+#REF!+#REF!+#REF!+#REF!+#REF!+#REF!+#REF!+#REF!","v":{"$error":"#REF!"}},{"$f":"#REF!+#REF!+#REF!+#REF!+#REF!+#REF!+#REF!+#REF!+#REF!+#REF!+#REF!+#REF!+#REF!+#REF!+#REF!+#REF!+#REF!+#REF!+#REF!+#REF!+#REF!+#REF!+#REF!+#REF!+#REF!+#REF!+#REF!+#REF!+#REF!+#REF!+#REF!+#REF!+#REF!","v":{"$error":"#REF!"}},{"$f":"'9_Per Pupil Summary'!L7","v":2014.1057573193546},{"$f":"#REF!+#REF!+#REF!+#REF!+#REF!+#REF!+#REF!+#REF!+#REF!+#REF!+#REF!+#REF!+#REF!+#REF!+#REF!+#REF!+#REF!+#REF!+#REF!+#REF!+#REF!+#REF!+#REF!+#REF!+#REF!+#REF!+#REF!+#REF!+#REF!+#REF!+#REF!+#REF!+#REF!","v":{"$error":"#REF!"}},{"$f":"#REF!+#REF!+#REF!+#REF!+#REF!+#REF!+#REF!+#REF!+#REF!+#REF!+#REF!+#REF!+#REF!+#REF!+#REF!+#REF!+#REF!+#REF!+#REF!+#REF!+#REF!+#REF!+#REF!+#REF!+#REF!+#REF!+#REF!+#REF!+#REF!+#REF!+#REF!+#REF!+#REF!","v":{"$error":"#REF!"}},{"$f":"#REF!+#REF!","v":{"$error":"#REF!"}},{"$f":"#REF!+#REF!+#REF!+#REF!+#REF!+#REF!+#REF!+#REF!+#REF!+#REF!+#REF!+#REF!+#REF!+#REF!+#REF!+#REF!+#REF!+#REF!+#REF!+#REF!+#REF!+#REF!+#REF!+#REF!+#REF!+#REF!+#REF!+#REF!+#REF!+#REF!+#REF!+#REF!+#REF!","v":{"$error":"#REF!"}},{"$f":"#REF!+#REF!+#REF!+#REF!+#REF!+#REF!+#REF!+#REF!+#REF!+#REF!+#REF!+#REF!+#REF!+#REF!+#REF!+#REF!+#REF!+#REF!+#REF!+#REF!+#REF!+#REF!+#REF!+#REF!+#REF!+#REF!+#REF!+#REF!+#REF!+#REF!+#REF!+#REF!+#REF!","v":{"$error":"#REF!"}},{"$f":"#REF!+#REF!+#REF!+#REF!+#REF!+#REF!+#REF!+#REF!+#REF!+#REF!+#REF!+#REF!+#REF!+#REF!+#REF!+#REF!+#REF!+#REF!+#REF!+#REF!+#REF!+#REF!+#REF!+#REF!+#REF!+#REF!+#REF!+#REF!+#REF!+#REF!+#REF!+#REF!+#REF!","v":{"$error":"#REF!"}},{"$f":"#REF!+#REF!+#REF!+#REF!+#REF!+#REF!+#REF!+#REF!+#REF!+#REF!+#REF!+#REF!+#REF!+#REF!+#REF!+#REF!+#REF!+#REF!+#REF!+#REF!+#REF!+#REF!+#REF!+#REF!+#REF!+#REF!+#REF!+#REF!+#REF!+#REF!+#REF!+#REF!+#REF!","v":{"$error":"#REF!"}},{"$f":"#REF!+#REF!+#REF!+#REF!+#REF!+#REF!+#REF!+#REF!+#REF!+#REF!+#REF!+#REF!+#REF!+#REF!+#REF!+#REF!+#REF!+#REF!+#REF!+#REF!+#REF!+#REF!+#REF!+#REF!+#REF!+#REF!+#REF!+#REF!+#REF!+#REF!+#REF!+#REF!+#REF!","v":{"$error":"#REF!"}},{"$f":"#REF!+#REF!+#REF!+#REF!+#REF!+#REF!+#REF!+#REF!+#REF!+#REF!+#REF!+#REF!+#REF!+#REF!+#REF!+#REF!+#REF!+#REF!+#REF!+#REF!+#REF!+#REF!+#REF!+#REF!+#REF!+#REF!+#REF!+#REF!+#REF!+#REF!+#REF!+#REF!+#REF!","v":{"$error":"#REF!"}},{"$f":"#REF!+#REF!+#REF!+#REF!+#REF!+#REF!+#REF!+#REF!+#REF!+#REF!+#REF!+#REF!+#REF!+#REF!+#REF!+#REF!+#REF!+#REF!+#REF!+#REF!+#REF!+#REF!+#REF!+#REF!+#REF!+#REF!+#REF!+#REF!+#REF!+#REF!+#REF!+#REF!+#REF!","v":{"$error":"#REF!"}},{"$f":"#REF!+#REF!+#REF!+#REF!+#REF!+#REF!+#REF!+#REF!+#REF!+#REF!+#REF!+#REF!+#REF!+#REF!+#REF!+#REF!+#REF!+#REF!+#REF!+#REF!+#REF!+#REF!+#REF!+#REF!+#REF!+#REF!+#REF!+#REF!+#REF!+#REF!+#REF!+#REF!+#REF!","v":{"$error":"#REF!"}},{"$f":"#REF!+#REF!+#REF!+#REF!+#REF!+#REF!+#REF!+#REF!+#REF!+#REF!+#REF!+#REF!+#REF!+#REF!+#REF!+#REF!+#REF!+#REF!+#REF!+#REF!+#REF!+#REF!+#REF!+#REF!+#REF!+#REF!+#REF!+#REF!+#REF!+#REF!+#REF!+#REF!+#REF!","v":{"$error":"#REF!"}},{"$f":"#REF!+#REF!+#REF!+#REF!+#REF!+#REF!+#REF!+#REF!+#REF!+#REF!+#REF!+#REF!+#REF!+#REF!+#REF!+#REF!+#REF!+#REF!+#REF!+#REF!+#REF!+#REF!+#REF!+#REF!+#REF!+#REF!+#REF!+#REF!+#REF!+#REF!+#REF!+#REF!+#REF!","v":{"$error":"#REF!"}},{"$f":"#REF!+#REF!+#REF!+#REF!+#REF!+#REF!+#REF!+#REF!+#REF!+#REF!+#REF!+#REF!+#REF!+#REF!+#REF!+#REF!+#REF!+#REF!+#REF!+#REF!+#REF!+#REF!+#REF!+#REF!+#REF!+#REF!+#REF!+#REF!+#REF!+#REF!+#REF!+#REF!+#REF!","v":{"$error":"#REF!"}},{"$f":"#REF!+#REF!+#REF!+#REF!+#REF!+#REF!+#REF!+#REF!+#REF!+#REF!+#REF!+#REF!+#REF!+#REF!+#REF!+#REF!+#REF!+#REF!+#REF!+#REF!+#REF!+#REF!+#REF!+#REF!+#REF!+#REF!+#REF!+#REF!+#REF!+#REF!+#REF!+#REF!+#REF!","v":{"$error":"#REF!"}},{"$f":"'9_Per Pupil Summary'!N7","v":4560},{"$f":"#REF!+#REF!+#REF!+#REF!+#REF!+#REF!+#REF!+#REF!+#REF!+#REF!+#REF!+#REF!+#REF!+#REF!+#REF!+#REF!+#REF!+#REF!+#REF!+#REF!+#REF!+#REF!+#REF!+#REF!+#REF!+#REF!+#REF!+#REF!+#REF!+#REF!+#REF!+#REF!+#REF!","v":{"$error":"#REF!"}},{"$f":"#REF!+#REF!+#REF!+#REF!+#REF!+#REF!+#REF!+#REF!+#REF!+#REF!+#REF!+#REF!+#REF!+#REF!+#REF!+#REF!+#REF!+#REF!+#REF!+#REF!+#REF!+#REF!+#REF!+#REF!+#REF!+#REF!+#REF!+#REF!+#REF!+#REF!+#REF!+#REF!+#REF!","v":{"$error":"#REF!"}},{"$f":"#REF!+#REF!+#REF!+#REF!+#REF!+#REF!+#REF!+#REF!+#REF!+#REF!+#REF!+#REF!+#REF!+#REF!+#REF!+#REF!+#REF!+#REF!+#REF!+#REF!+#REF!+#REF!+#REF!+#REF!+#REF!+#REF!+#REF!+#REF!+#REF!+#REF!+#REF!+#REF!+#REF!","v":{"$error":"#REF!"}},{"$f":"#REF!+#REF!+#REF!+#REF!+#REF!+#REF!+#REF!+#REF!+#REF!+#REF!+#REF!+#REF!+#REF!+#REF!+#REF!+#REF!+#REF!+#REF!+#REF!+#REF!+#REF!+#REF!+#REF!+#REF!+#REF!+#REF!+#REF!+#REF!+#REF!+#REF!+#REF!+#REF!+#REF!","v":{"$error":"#REF!"}},{"$f":"#REF!+#REF!+#REF!+#REF!+#REF!+#REF!+#REF!+#REF!+#REF!+#REF!+#REF!+#REF!+#REF!+#REF!+#REF!+#REF!+#REF!+#REF!+#REF!+#REF!+#REF!+#REF!+#REF!+#REF!+#REF!+#REF!+#REF!+#REF!+#REF!+#REF!+#REF!+#REF!+#REF!","v":{"$error":"#REF!"}},{"$f":"#REF!+#REF!+#REF!+#REF!+#REF!+#REF!+#REF!+#REF!+#REF!+#REF!+#REF!+#REF!+#REF!+#REF!+#REF!+#REF!+#REF!+#REF!+#REF!+#REF!+#REF!+#REF!+#REF!+#REF!+#REF!+#REF!+#REF!+#REF!+#REF!+#REF!+#REF!+#REF!+#REF!","v":{"$error":"#REF!"}},{"$f":"#REF!+#REF!+#REF!+#REF!+#REF!+#REF!+#REF!+#REF!+#REF!+#REF!+#REF!+#REF!+#REF!+#REF!+#REF!+#REF!+#REF!+#REF!+#REF!+#REF!+#REF!+#REF!+#REF!+#REF!+#REF!+#REF!+#REF!+#REF!+#REF!+#REF!+#REF!+#REF!+#REF!","v":{"$error":"#REF!"}},{"$f":"#REF!+#REF!+#REF!+#REF!+#REF!+#REF!+#REF!+#REF!+#REF!+#REF!+#REF!+#REF!+#REF!+#REF!+#REF!+#REF!+#REF!+#REF!+#REF!+#REF!+#REF!+#REF!+#REF!+#REF!+#REF!+#REF!+#REF!+#REF!+#REF!+#REF!+#REF!+#REF!+#REF!","v":{"$error":"#REF!"}},{"$f":"#REF!+#REF!+#REF!+#REF!+#REF!+#REF!+#REF!+#REF!+#REF!+#REF!+#REF!+#REF!+#REF!+#REF!+#REF!+#REF!+#REF!+#REF!+#REF!+#REF!+#REF!+#REF!+#REF!+#REF!+#REF!+#REF!+#REF!+#REF!+#REF!+#REF!+#REF!+#REF!+#REF!","v":{"$error":"#REF!"}},{"$f":"#REF!+#REF!+#REF!+#REF!+#REF!+#REF!+#REF!+#REF!+#REF!+#REF!+#REF!+#REF!+#REF!+#REF!+#REF!+#REF!+#REF!+#REF!+#REF!+#REF!+#REF!+#REF!+#REF!+#REF!+#REF!+#REF!+#REF!+#REF!+#REF!+#REF!+#REF!+#REF!+#REF!","v":{"$error":"#REF!"}},{"$f":"#REF!+#REF!+#REF!+#REF!+#REF!+#REF!+#REF!+#REF!+#REF!+#REF!+#REF!+#REF!+#REF!+#REF!+#REF!+#REF!+#REF!+#REF!+#REF!+#REF!+#REF!+#REF!+#REF!+#REF!+#REF!+#REF!+#REF!+#REF!+#REF!+#REF!+#REF!+#REF!+#REF!","v":{"$error":"#REF!"}},{"$f":"#REF!+#REF!+#REF!+#REF!+#REF!+#REF!+#REF!+#REF!+#REF!+#REF!+#REF!+#REF!+#REF!+#REF!+#REF!+#REF!+#REF!+#REF!+#REF!+#REF!+#REF!+#REF!+#REF!+#REF!+#REF!+#REF!+#REF!+#REF!+#REF!+#REF!+#REF!+#REF!+#REF!","v":{"$error":"#REF!"}},{"$f":"#REF!+#REF!+#REF!+#REF!+#REF!+#REF!+#REF!+#REF!+#REF!+#REF!+#REF!+#REF!+#REF!+#REF!+#REF!+#REF!+#REF!+#REF!+#REF!+#REF!+#REF!+#REF!+#REF!+#REF!+#REF!+#REF!+#REF!+#REF!+#REF!+#REF!+#REF!+#REF!+#REF!","v":{"$error":"#REF!"}},{"$f":"#REF!+#REF!+#REF!+#REF!+#REF!+#REF!+#REF!+#REF!+#REF!+#REF!+#REF!+#REF!+#REF!+#REF!+#REF!+#REF!+#REF!+#REF!+#REF!+#REF!+#REF!+#REF!+#REF!+#REF!+#REF!+#REF!+#REF!+#REF!+#REF!+#REF!+#REF!+#REF!+#REF!","v":{"$error":"#REF!"}},{"$f":"AA8+AQ8","v":{"$error":"#REF!"}},{"$f":"AD8+AT8","v":{"$error":"#REF!"}},{"$f":"#REF!+#REF!+#REF!+#REF!+#REF!+#REF!+#REF!+#REF!+#REF!+#REF!+#REF!+#REF!+#REF!+#REF!+#REF!+#REF!+#REF!+#REF!+#REF!+#REF!+#REF!+#REF!+#REF!+#REF!+#REF!+#REF!+#REF!+#REF!+#REF!+#REF!+#REF!+#REF!+#REF!","v":{"$error":"#REF!"}},null,{"$f":"AW8-AX8","v":{"$error":"#REF!"}}]
[3,"Ascension",{"$f":"#REF!+#REF!+#REF!+#REF!+#REF!+#REF!+#REF!+#REF!+#REF!+#REF!+#REF!+#REF!+#REF!+#REF!+#REF!+#REF!+#REF!+#REF!+#REF!+#REF!+#REF!+#REF!+#REF!+#REF!+#REF!+#REF!+#REF!+#REF!+#REF!+#REF!+#REF!+#REF!+#REF!","v":{"$error":"#REF!"}},{"$f":"'9_Per Pupil Summary'!H8","v":4045.2151510069866},{"$f":"#REF!+#REF!+#REF!+#REF!+#REF!+#REF!+#REF!+#REF!+#REF!+#REF!+#REF!+#REF!+#REF!+#REF!+#REF!+#REF!+#REF!+#REF!+#REF!+#REF!+#REF!+#REF!+#REF!+#REF!+#REF!+#REF!+#REF!+#REF!+#REF!+#REF!+#REF!+#REF!+#REF!","v":{"$error":"#REF!"}},{"$f":"#REF!+#REF!+#REF!+#REF!+#REF!+#REF!+#REF!+#REF!+#REF!+#REF!+#REF!+#REF!+#REF!+#REF!+#REF!+#REF!+#REF!+#REF!+#REF!+#REF!+#REF!+#REF!+#REF!+#REF!+#REF!+#REF!+#REF!+#REF!+#REF!+#REF!+#REF!+#REF!+#REF!","v":{"$error":"#REF!"}},{"$f":"'9_Per Pupil Summary'!I8","v":566.81348053641864},{"$f":"#REF!+#REF!+#REF!+#REF!+#REF!+#REF!+#REF!+#REF!+#REF!+#REF!+#REF!+#REF!+#REF!+#REF!+#REF!+#REF!+#REF!+#REF!+#REF!+#REF!+#REF!+#REF!+#REF!+#REF!+#REF!+#REF!+#REF!+#REF!+#REF!+#REF!+#REF!+#REF!+#REF!","v":{"$error":"#REF!"}},{"$f":"#REF!+#REF!+#REF!+#REF!+#REF!+#REF!+#REF!+#REF!+#REF!+#REF!+#REF!+#REF!+#REF!+#REF!+#REF!+#REF!+#REF!+#REF!+#REF!+#REF!+#REF!+#REF!+#REF!+#REF!+#REF!+#REF!+#REF!+#REF!+#REF!+#REF!+#REF!+#REF!+#REF!","v":{"$error":"#REF!"}},{"$f":"'9_Per Pupil Summary'!J8","v":154.58549469175051},{"$f":"#REF!+#REF!+#REF!+#REF!+#REF!+#REF!+#REF!+#REF!+#REF!+#REF!+#REF!+#REF!+#REF!+#REF!+#REF!+#REF!+#REF!+#REF!+#REF!+#REF!+#REF!+#REF!+#REF!+#REF!+#REF!+#REF!+#REF!+#REF!+#REF!+#REF!+#REF!+#REF!+#REF!","v":{"$error":"#REF!"}},{"$f":"#REF!+#REF!+#REF!+#REF!+#REF!+#REF!+#REF!+#REF!+#REF!+#REF!+#REF!+#REF!+#REF!+#REF!+#REF!+#REF!+#REF!+#REF!+#REF!+#REF!+#REF!+#REF!+#REF!+#REF!+#REF!+#REF!+#REF!+#REF!+#REF!+#REF!+#REF!+#REF!+#REF!","v":{"$error":"#REF!"}},{"$f":"'9_Per Pupil Summary'!K8","v":3864.637367293763},{"$f":"#REF!+#REF!+#REF!+#REF!+#REF!+#REF!+#REF!+#REF!+#REF!+#REF!+#REF!+#REF!+#REF!+#REF!+#REF!+#REF!+#REF!+#REF!+#REF!+#REF!+#REF!+#REF!+#REF!+#REF!+#REF!+#REF!+#REF!+#REF!+#REF!+#REF!+#REF!+#REF!+#REF!","v":{"$error":"#REF!"}},{"$f":"#REF!+#REF!+#REF!+#REF!+#REF!+#REF!+#REF!+#REF!+#REF!+#REF!+#REF!+#REF!+#REF!+#REF!+#REF!+#REF!+#REF!+#REF!+#REF!+#REF!+#REF!+#REF!+#REF!+#REF!+#REF!+#REF!+#REF!+#REF!+#REF!+#REF!+#REF!+#REF!+#REF!","v":{"$error":"#REF!"}},{"$f":"'9_Per Pupil Summary'!L8","v":1545.8549469175052},{"$f":"#REF!+#REF!+#REF!+#REF!+#REF!+#REF!+#REF!+#REF!+#REF!+#REF!+#REF!+#REF!+#REF!+#REF!+#REF!+#REF!+#REF!+#REF!+#REF!+#REF!+#REF!+#REF!+#REF!+#REF!+#REF!+#REF!+#REF!+#REF!+#REF!+#REF!+#REF!+#REF!+#REF!","v":{"$error":"#REF!"}},{"$f":"#REF!+#REF!+#REF!+#REF!+#REF!+#REF!+#REF!+#REF!+#REF!+#REF!+#REF!+#REF!+#REF!+#REF!+#REF!+#REF!+#REF!+#REF!+#REF!+#REF!+#REF!+#REF!+#REF!+#REF!+#REF!+#REF!+#REF!+#REF!+#REF!+#REF!+#REF!+#REF!+#REF!","v":{"$error":"#REF!"}},{"$f":"#REF!+#REF!","v":{"$error":"#REF!"}},{"$f":"#REF!+#REF!+#REF!+#REF!+#REF!+#REF!+#REF!+#REF!+#REF!+#REF!+#REF!+#REF!+#REF!+#REF!+#REF!+#REF!+#REF!+#REF!+#REF!+#REF!+#REF!+#REF!+#REF!+#REF!+#REF!+#REF!+#REF!+#REF!+#REF!+#REF!+#REF!+#REF!+#REF!","v":{"$error":"#REF!"}},{"$f":"#REF!+#REF!+#REF!+#REF!+#REF!+#REF!+#REF!+#REF!+#REF!+#REF!+#REF!+#REF!+#REF!+#REF!+#REF!+#REF!+#REF!+#REF!+#REF!+#REF!+#REF!+#REF!+#REF!+#REF!+#REF!+#REF!+#REF!+#REF!+#REF!+#REF!+#REF!+#REF!+#REF!","v":{"$error":"#REF!"}},{"$f":"#REF!+#REF!+#REF!+#REF!+#REF!+#REF!+#REF!+#REF!+#REF!+#REF!+#REF!+#REF!+#REF!+#REF!+#REF!+#REF!+#REF!+#REF!+#REF!+#REF!+#REF!+#REF!+#REF!+#REF!+#REF!+#REF!+#REF!+#REF!+#REF!+#REF!+#REF!+#REF!+#REF!","v":{"$error":"#REF!"}},{"$f":"#REF!+#REF!+#REF!+#REF!+#REF!+#REF!+#REF!+#REF!+#REF!+#REF!+#REF!+#REF!+#REF!+#REF!+#REF!+#REF!+#REF!+#REF!+#REF!+#REF!+#REF!+#REF!+#REF!+#REF!+#REF!+#REF!+#REF!+#REF!+#REF!+#REF!+#REF!+#REF!+#REF!","v":{"$error":"#REF!"}},{"$f":"#REF!+#REF!+#REF!+#REF!+#REF!+#REF!+#REF!+#REF!+#REF!+#REF!+#REF!+#REF!+#REF!+#REF!+#REF!+#REF!+#REF!+#REF!+#REF!+#REF!+#REF!+#REF!+#REF!+#REF!+#REF!+#REF!+#REF!+#REF!+#REF!+#REF!+#REF!+#REF!+#REF!","v":{"$error":"#REF!"}},{"$f":"#REF!+#REF!+#REF!+#REF!+#REF!+#REF!+#REF!+#REF!+#REF!+#REF!+#REF!+#REF!+#REF!+#REF!+#REF!+#REF!+#REF!+#REF!+#REF!+#REF!+#REF!+#REF!+#REF!+#REF!+#REF!+#REF!+#REF!+#REF!+#REF!+#REF!+#REF!+#REF!+#REF!","v":{"$error":"#REF!"}},{"$f":"#REF!+#REF!+#REF!+#REF!+#REF!+#REF!+#REF!+#REF!+#REF!+#REF!+#REF!+#REF!+#REF!+#REF!+#REF!+#REF!+#REF!+#REF!+#REF!+#REF!+#REF!+#REF!+#REF!+#REF!+#REF!+#REF!+#REF!+#REF!+#REF!+#REF!+#REF!+#REF!+#REF!","v":{"$error":"#REF!"}},{"$f":"#REF!+#REF!+#REF!+#REF!+#REF!+#REF!+#REF!+#REF!+#REF!+#REF!+#REF!+#REF!+#REF!+#REF!+#REF!+#REF!+#REF!+#REF!+#REF!+#REF!+#REF!+#REF!+#REF!+#REF!+#REF!+#REF!+#REF!+#REF!+#REF!+#REF!+#REF!+#REF!+#REF!","v":{"$error":"#REF!"}},{"$f":"#REF!+#REF!+#REF!+#REF!+#REF!+#REF!+#REF!+#REF!+#REF!+#REF!+#REF!+#REF!+#REF!+#REF!+#REF!+#REF!+#REF!+#REF!+#REF!+#REF!+#REF!+#REF!+#REF!+#REF!+#REF!+#REF!+#REF!+#REF!+#REF!+#REF!+#REF!+#REF!+#REF!","v":{"$error":"#REF!"}},{"$f":"#REF!+#REF!+#REF!+#REF!+#REF!+#REF!+#REF!+#REF!+#REF!+#REF!+#REF!+#REF!+#REF!+#REF!+#REF!+#REF!+#REF!+#REF!+#REF!+#REF!+#REF!+#REF!+#REF!+#REF!+#REF!+#REF!+#REF!+#REF!+#REF!+#REF!+#REF!+#REF!+#REF!","v":{"$error":"#REF!"}},{"$f":"#REF!+#REF!+#REF!+#REF!+#REF!+#REF!+#REF!+#REF!+#REF!+#REF!+#REF!+#REF!+#REF!+#REF!+#REF!+#REF!+#REF!+#REF!+#REF!+#REF!+#REF!+#REF!+#REF!+#REF!+#REF!+#REF!+#REF!+#REF!+#REF!+#REF!+#REF!+#REF!+#REF!","v":{"$error":"#REF!"}},{"$f":"#REF!+#REF!+#REF!+#REF!+#REF!+#REF!+#REF!+#REF!+#REF!+#REF!+#REF!+#REF!+#REF!+#REF!+#REF!+#REF!+#REF!+#REF!+#REF!+#REF!+#REF!+#REF!+#REF!+#REF!+#REF!+#REF!+#REF!+#REF!+#REF!+#REF!+#REF!+#REF!+#REF!","v":{"$error":"#REF!"}},{"$f":"'9_Per Pupil Summary'!N8","v":8459},{"$f":"#REF!+#REF!+#REF!+#REF!+#REF!+#REF!+#REF!+#REF!+#REF!+#REF!+#REF!+#REF!+#REF!+#REF!+#REF!+#REF!+#REF!+#REF!+#REF!+#REF!+#REF!+#REF!+#REF!+#REF!+#REF!+#REF!+#REF!+#REF!+#REF!+#REF!+#REF!+#REF!+#REF!","v":{"$error":"#REF!"}},{"$f":"#REF!+#REF!+#REF!+#REF!+#REF!+#REF!+#REF!+#REF!+#REF!+#REF!+#REF!+#REF!+#REF!+#REF!+#REF!+#REF!+#REF!+#REF!+#REF!+#REF!+#REF!+#REF!+#REF!+#REF!+#REF!+#REF!+#REF!+#REF!+#REF!+#REF!+#REF!+#REF!+#REF!","v":{"$error":"#REF!"}},{"$f":"#REF!+#REF!+#REF!+#REF!+#REF!+#REF!+#REF!+#REF!+#REF!+#REF!+#REF!+#REF!+#REF!+#REF!+#REF!+#REF!+#REF!+#REF!+#REF!+#REF!+#REF!+#REF!+#REF!+#REF!+#REF!+#REF!+#REF!+#REF!+#REF!+#REF!+#REF!+#REF!+#REF!","v":{"$error":"#REF!"}},{"$f":"#REF!+#REF!+#REF!+#REF!+#REF!+#REF!+#REF!+#REF!+#REF!+#REF!+#REF!+#REF!+#REF!+#REF!+#REF!+#REF!+#REF!+#REF!+#REF!+#REF!+#REF!+#REF!+#REF!+#REF!+#REF!+#REF!+#REF!+#REF!+#REF!+#REF!+#REF!+#REF!+#REF!","v":{"$error":"#REF!"}},{"$f":"#REF!+#REF!+#REF!+#REF!+#REF!+#REF!+#REF!+#REF!+#REF!+#REF!+#REF!+#REF!+#REF!+#REF!+#REF!+#REF!+#REF!+#REF!+#REF!+#REF!+#REF!+#REF!+#REF!+#REF!+#REF!+#REF!+#REF!+#REF!+#REF!+#REF!+#REF!+#REF!+#REF!","v":{"$error":"#REF!"}},{"$f":"#REF!+#REF!+#REF!+#REF!+#REF!+#REF!+#REF!+#REF!+#REF!+#REF!+#REF!+#REF!+#REF!+#REF!+#REF!+#REF!+#REF!+#REF!+#REF!+#REF!+#REF!+#REF!+#REF!+#REF!+#REF!+#REF!+#REF!+#REF!+#REF!+#REF!+#REF!+#REF!+#REF!","v":{"$error":"#REF!"}},{"$f":"#REF!+#REF!+#REF!+#REF!+#REF!+#REF!+#REF!+#REF!+#REF!+#REF!+#REF!+#REF!+#REF!+#REF!+#REF!+#REF!+#REF!+#REF!+#REF!+#REF!+#REF!+#REF!+#REF!+#REF!+#REF!+#REF!+#REF!+#REF!+#REF!+#REF!+#REF!+#REF!+#REF!","v":{"$error":"#REF!"}},{"$f":"#REF!+#REF!+#REF!+#REF!+#REF!+#REF!+#REF!+#REF!+#REF!+#REF!+#REF!+#REF!+#REF!+#REF!+#REF!+#REF!+#REF!+#REF!+#REF!+#REF!+#REF!+#REF!+#REF!+#REF!+#REF!+#REF!+#REF!+#REF!+#REF!+#REF!+#REF!+#REF!+#REF!","v":{"$error":"#REF!"}},{"$f":"#REF!+#REF!+#REF!+#REF!+#REF!+#REF!+#REF!+#REF!+#REF!+#REF!+#REF!+#REF!+#REF!+#REF!+#REF!+#REF!+#REF!+#REF!+#REF!+#REF!+#REF!+#REF!+#REF!+#REF!+#REF!+#REF!+#REF!+#REF!+#REF!+#REF!+#REF!+#REF!+#REF!","v":{"$error":"#REF!"}},{"$f":"#REF!+#REF!+#REF!+#REF!+#REF!+#REF!+#REF!+#REF!+#REF!+#REF!+#REF!+#REF!+#REF!+#REF!+#REF!+#REF!+#REF!+#REF!+#REF!+#REF!+#REF!+#REF!+#REF!+#REF!+#REF!+#REF!+#REF!+#REF!+#REF!+#REF!+#REF!+#REF!+#REF!","v":{"$error":"#REF!"}},{"$f":"#REF!+#REF!+#REF!+#REF!+#REF!+#REF!+#REF!+#REF!+#REF!+#REF!+#REF!+#REF!+#REF!+#REF!+#REF!+#REF!+#REF!+#REF!+#REF!+#REF!+#REF!+#REF!+#REF!+#REF!+#REF!+#REF!+#REF!+#REF!+#REF!+#REF!+#REF!+#REF!+#REF!","v":{"$error":"#REF!"}},{"$f":"#REF!+#REF!+#REF!+#REF!+#REF!+#REF!+#REF!+#REF!+#REF!+#REF!+#REF!+#REF!+#REF!+#REF!+#REF!+#REF!+#REF!+#REF!+#REF!+#REF!+#REF!+#REF!+#REF!+#REF!+#REF!+#REF!+#REF!+#REF!+#REF!+#REF!+#REF!+#REF!+#REF!","v":{"$error":"#REF!"}},{"$f":"#REF!+#REF!+#REF!+#REF!+#REF!+#REF!+#REF!+#REF!+#REF!+#REF!+#REF!+#REF!+#REF!+#REF!+#REF!+#REF!+#REF!+#REF!+#REF!+#REF!+#REF!+#REF!+#REF!+#REF!+#REF!+#REF!+#REF!+#REF!+#REF!+#REF!+#REF!+#REF!+#REF!","v":{"$error":"#REF!"}},{"$f":"#REF!+#REF!+#REF!+#REF!+#REF!+#REF!+#REF!+#REF!+#REF!+#REF!+#REF!+#REF!+#REF!+#REF!+#REF!+#REF!+#REF!+#REF!+#REF!+#REF!+#REF!+#REF!+#REF!+#REF!+#REF!+#REF!+#REF!+#REF!+#REF!+#REF!+#REF!+#REF!+#REF!","v":{"$error":"#REF!"}},{"$error":"#REF!"},{"$error":"#REF!"},{"$f":"#REF!+#REF!+#REF!+#REF!+#REF!+#REF!+#REF!+#REF!+#REF!+#REF!+#REF!+#REF!+#REF!+#REF!+#REF!+#REF!+#REF!+#REF!+#REF!+#REF!+#REF!+#REF!+#REF!+#REF!+#REF!+#REF!+#REF!+#REF!+#REF!+#REF!+#REF!+#REF!+#REF!","v":{"$error":"#REF!"}},null,{"$error":"#REF!"}]
[4,"Assumption",{"$f":"#REF!+#REF!+#REF!+#REF!+#REF!+#REF!+#REF!+#REF!+#REF!+#REF!+#REF!+#REF!+#REF!+#REF!+#REF!+#REF!+#REF!+#REF!+#REF!+#REF!+#REF!+#REF!+#REF!+#REF!+#REF!+#REF!+#REF!+#REF!+#REF!+#REF!+#REF!+#REF!+#REF!","v":{"$error":"#REF!"}},{"$f":"'9_Per Pupil Summary'!H9","v":5047.870212345646},{"$f":"#REF!+#REF!+#REF!+#REF!+#REF!+#REF!+#REF!+#REF!+#REF!+#REF!+#REF!+#REF!+#REF!+#REF!+#REF!+#REF!+#REF!+#REF!+#REF!+#REF!+#REF!+#REF!+#REF!+#REF!+#REF!+#REF!+#REF!+#REF!+#REF!+#REF!+#REF!+#REF!+#REF!","v":{"$error":"#REF!"}},{"$f":"#REF!+#REF!+#REF!+#REF!+#REF!+#REF!+#REF!+#REF!+#REF!+#REF!+#REF!+#REF!+#REF!+#REF!+#REF!+#REF!+#REF!+#REF!+#REF!+#REF!+#REF!+#REF!+#REF!+#REF!+#REF!+#REF!+#REF!+#REF!+#REF!+#REF!+#REF!+#REF!+#REF!","v":{"$error":"#REF!"}},{"$f":"'9_Per Pupil Summary'!I9","v":669.49520273203632},{"$f":"#REF!+#REF!+#REF!+#REF!+#REF!+#REF!+#REF!+#REF!+#REF!+#REF!+#REF!+#REF!+#REF!+#REF!+#REF!+#REF!+#REF!+#REF!+#REF!+#REF!+#REF!+#REF!+#REF!+#REF!+#REF!+#REF!+#REF!+#REF!+#REF!+#REF!+#REF!+#REF!+#REF!","v":{"$error":"#REF!"}},{"$f":"#REF!+#REF!+#REF!+#REF!+#REF!+#REF!+#REF!+#REF!+#REF!+#REF!+#REF!+#REF!+#REF!+#REF!+#REF!+#REF!+#REF!+#REF!+#REF!+#REF!+#REF!+#REF!+#REF!+#REF!+#REF!+#REF!+#REF!+#REF!+#REF!+#REF!+#REF!+#REF!+#REF!","v":{"$error":"#REF!"}},{"$f":"'9_Per Pupil Summary'!J9","v":182.58960074510082},{"$f":"#REF!+#REF!+#REF!+#REF!+#REF!+#REF!+#REF!+#REF!+#REF!+#REF!+#REF!+#REF!+#REF!+#REF!+#REF!+#REF!+#REF!+#REF!+#REF!+#REF!+#REF!+#REF!+#REF!+#REF!+#REF!+#REF!+#REF!+#REF!+#REF!+#REF!+#REF!+#REF!+#REF!","v":{"$error":"#REF!"}},{"$f":"#REF!+#REF!+#REF!+#REF!+#REF!+#REF!+#REF!+#REF!+#REF!+#REF!+#REF!+#REF!+#REF!+#REF!+#REF!+#REF!+#REF!+#REF!+#REF!+#REF!+#REF!+#REF!+#REF!+#REF!+#REF!+#REF!+#REF!+#REF!+#REF!+#REF!+#REF!+#REF!+#REF!","v":{"$error":"#REF!"}},{"$f":"'9_Per Pupil Summary'!K9","v":4564.7400186275208},{"$f":"#REF!+#REF!+#REF!+#REF!+#REF!+#REF!+#REF!+#REF!+#REF!+#REF!+#REF!+#REF!+#REF!+#REF!+#REF!+#REF!+#REF!+#REF!+#REF!+#REF!+#REF!+#REF!+#REF!+#REF!+#REF!+#REF!+#REF!+#REF!+#REF!+#REF!+#REF!+#REF!+#REF!","v":{"$error":"#REF!"}},{"$f":"#REF!+#REF!+#REF!+#REF!+#REF!+#REF!+#REF!+#REF!+#REF!+#REF!+#REF!+#REF!+#REF!+#REF!+#REF!+#REF!+#REF!+#REF!+#REF!+#REF!+#REF!+#REF!+#REF!+#REF!+#REF!+#REF!+#REF!+#REF!+#REF!+#REF!+#REF!+#REF!+#REF!","v":{"$error":"#REF!"}},{"$f":"'9_Per Pupil Summary'!L9","v":1825.8960074510078},{"$f":"#REF!+#REF!+#REF!+#REF!+#REF!+#REF!+#REF!+#REF!+#REF!+#REF!+#REF!+#REF!+#REF!+#REF!+#REF!+#REF!+#REF!+#REF!+#REF!+#REF!+#REF!+#REF!+#REF!+#REF!+#REF!+#REF!+#REF!+#REF!+#REF!+#REF!+#REF!+#REF!+#REF!","v":{"$error":"#REF!"}},{"$f":"#REF!+#REF!+#REF!+#REF!+#REF!+#REF!+#REF!+#REF!+#REF!+#REF!+#REF!+#REF!+#REF!+#REF!+#REF!+#REF!+#REF!+#REF!+#REF!+#REF!+#REF!+#REF!+#REF!+#REF!+#REF!+#REF!+#REF!+#REF!+#REF!+#REF!+#REF!+#REF!+#REF!","v":{"$error":"#REF!"}},{"$f":"#REF!+#REF!","v":{"$error":"#REF!"}},{"$f":"#REF!+#REF!+#REF!+#REF!+#REF!+#REF!+#REF!+#REF!+#REF!+#REF!+#REF!+#REF!+#REF!+#REF!+#REF!+#REF!+#REF!+#REF!+#REF!+#REF!+#REF!+#REF!+#REF!+#REF!+#REF!+#REF!+#REF!+#REF!+#REF!+#REF!+#REF!+#REF!+#REF!","v":{"$error":"#REF!"}},{"$f":"#REF!+#REF!+#REF!+#REF!+#REF!+#REF!+#REF!+#REF!+#REF!+#REF!+#REF!+#REF!+#REF!+#REF!+#REF!+#REF!+#REF!+#REF!+#REF!+#REF!+#REF!+#REF!+#REF!+#REF!+#REF!+#REF!+#REF!+#REF!+#REF!+#REF!+#REF!+#REF!+#REF!","v":{"$error":"#REF!"}},{"$f":"#REF!+#REF!+#REF!+#REF!+#REF!+#REF!+#REF!+#REF!+#REF!+#REF!+#REF!+#REF!+#REF!+#REF!+#REF!+#REF!+#REF!+#REF!+#REF!+#REF!+#REF!+#REF!+#REF!+#REF!+#REF!+#REF!+#REF!+#REF!+#REF!+#REF!+#REF!+#REF!+#REF!","v":{"$error":"#REF!"}},{"$f":"#REF!+#REF!+#REF!+#REF!+#REF!+#REF!+#REF!+#REF!+#REF!+#REF!+#REF!+#REF!+#REF!+#REF!+#REF!+#REF!+#REF!+#REF!+#REF!+#REF!+#REF!+#REF!+#REF!+#REF!+#REF!+#REF!+#REF!+#REF!+#REF!+#REF!+#REF!+#REF!+#REF!","v":{"$error":"#REF!"}},{"$f":"#REF!+#REF!+#REF!+#REF!+#REF!+#REF!+#REF!+#REF!+#REF!+#REF!+#REF!+#REF!+#REF!+#REF!+#REF!+#REF!+#REF!+#REF!+#REF!+#REF!+#REF!+#REF!+#REF!+#REF!+#REF!+#REF!+#REF!+#REF!+#REF!+#REF!+#REF!+#REF!+#REF!","v":{"$error":"#REF!"}},{"$f":"#REF!+#REF!+#REF!+#REF!+#REF!+#REF!+#REF!+#REF!+#REF!+#REF!+#REF!+#REF!+#REF!+#REF!+#REF!+#REF!+#REF!+#REF!+#REF!+#REF!+#REF!+#REF!+#REF!+#REF!+#REF!+#REF!+#REF!+#REF!+#REF!+#REF!+#REF!+#REF!+#REF!","v":{"$error":"#REF!"}},{"$f":"#REF!+#REF!+#REF!+#REF!+#REF!+#REF!+#REF!+#REF!+#REF!+#REF!+#REF!+#REF!+#REF!+#REF!+#REF!+#REF!+#REF!+#REF!+#REF!+#REF!+#REF!+#REF!+#REF!+#REF!+#REF!+#REF!+#REF!+#REF!+#REF!+#REF!+#REF!+#REF!+#REF!","v":{"$error":"#REF!"}},{"$f":"#REF!+#REF!+#REF!+#REF!+#REF!+#REF!+#REF!+#REF!+#REF!+#REF!+#REF!+#REF!+#REF!+#REF!+#REF!+#REF!+#REF!+#REF!+#REF!+#REF!+#REF!+#REF!+#REF!+#REF!+#REF!+#REF!+#REF!+#REF!+#REF!+#REF!+#REF!+#REF!+#REF!","v":{"$error":"#REF!"}},{"$f":"#REF!+#REF!+#REF!+#REF!+#REF!+#REF!+#REF!+#REF!+#REF!+#REF!+#REF!+#REF!+#REF!+#REF!+#REF!+#REF!+#REF!+#REF!+#REF!+#REF!+#REF!+#REF!+#REF!+#REF!+#REF!+#REF!+#REF!+#REF!+#REF!+#REF!+#REF!+#REF!+#REF!","v":{"$error":"#REF!"}},{"$f":"#REF!+#REF!+#REF!+#REF!+#REF!+#REF!+#REF!+#REF!+#REF!+#REF!+#REF!+#REF!+#REF!+#REF!+#REF!+#REF!+#REF!+#REF!+#REF!+#REF!+#REF!+#REF!+#REF!+#REF!+#REF!+#REF!+#REF!+#REF!+#REF!+#REF!+#REF!+#REF!+#REF!","v":{"$error":"#REF!"}},{"$f":"#REF!+#REF!+#REF!+#REF!+#REF!+#REF!+#REF!+#REF!+#REF!+#REF!+#REF!+#REF!+#REF!+#REF!+#REF!+#REF!+#REF!+#REF!+#REF!+#REF!+#REF!+#REF!+#REF!+#REF!+#REF!+#REF!+#REF!+#REF!+#REF!+#REF!+#REF!+#REF!+#REF!","v":{"$error":"#REF!"}},{"$f":"#REF!+#REF!+#REF!+#REF!+#REF!+#REF!+#REF!+#REF!+#REF!+#REF!+#REF!+#REF!+#REF!+#REF!+#REF!+#REF!+#REF!+#REF!+#REF!+#REF!+#REF!+#REF!+#REF!+#REF!+#REF!+#REF!+#REF!+#REF!+#REF!+#REF!+#REF!+#REF!+#REF!","v":{"$error":"#REF!"}},{"$f":"'9_Per Pupil Summary'!N9","v":6305},{"$f":"#REF!+#REF!+#REF!+#REF!+#REF!+#REF!+#REF!+#REF!+#REF!+#REF!+#REF!+#REF!+#REF!+#REF!+#REF!+#REF!+#REF!+#REF!+#REF!+#REF!+#REF!+#REF!+#REF!+#REF!+#REF!+#REF!+#REF!+#REF!+#REF!+#REF!+#REF!+#REF!+#REF!","v":{"$error":"#REF!"}},{"$f":"#REF!+#REF!+#REF!+#REF!+#REF!+#REF!+#REF!+#REF!+#REF!+#REF!+#REF!+#REF!+#REF!+#REF!+#REF!+#REF!+#REF!+#REF!+#REF!+#REF!+#REF!+#REF!+#REF!+#REF!+#REF!+#REF!+#REF!+#REF!+#REF!+#REF!+#REF!+#REF!+#REF!","v":{"$error":"#REF!"}},{"$f":"#REF!+#REF!+#REF!+#REF!+#REF!+#REF!+#REF!+#REF!+#REF!+#REF!+#REF!+#REF!+#REF!+#REF!+#REF!+#REF!+#REF!+#REF!+#REF!+#REF!+#REF!+#REF!+#REF!+#REF!+#REF!+#REF!+#REF!+#REF!+#REF!+#REF!+#REF!+#REF!+#REF!","v":{"$error":"#REF!"}},{"$f":"#REF!+#REF!+#REF!+#REF!+#REF!+#REF!+#REF!+#REF!+#REF!+#REF!+#REF!+#REF!+#REF!+#REF!+#REF!+#REF!+#REF!+#REF!+#REF!+#REF!+#REF!+#REF!+#REF!+#REF!+#REF!+#REF!+#REF!+#REF!+#REF!+#REF!+#REF!+#REF!+#REF!","v":{"$error":"#REF!"}},{"$f":"#REF!+#REF!+#REF!+#REF!+#REF!+#REF!+#REF!+#REF!+#REF!+#REF!+#REF!+#REF!+#REF!+#REF!+#REF!+#REF!+#REF!+#REF!+#REF!+#REF!+#REF!+#REF!+#REF!+#REF!+#REF!+#REF!+#REF!+#REF!+#REF!+#REF!+#REF!+#REF!+#REF!","v":{"$error":"#REF!"}},{"$f":"#REF!+#REF!+#REF!+#REF!+#REF!+#REF!+#REF!+#REF!+#REF!+#REF!+#REF!+#REF!+#REF!+#REF!+#REF!+#REF!+#REF!+#REF!+#REF!+#REF!+#REF!+#REF!+#REF!+#REF!+#REF!+#REF!+#REF!+#REF!+#REF!+#REF!+#REF!+#REF!+#REF!","v":{"$error":"#REF!"}},{"$f":"#REF!+#REF!+#REF!+#REF!+#REF!+#REF!+#REF!+#REF!+#REF!+#REF!+#REF!+#REF!+#REF!+#REF!+#REF!+#REF!+#REF!+#REF!+#REF!+#REF!+#REF!+#REF!+#REF!+#REF!+#REF!+#REF!+#REF!+#REF!+#REF!+#REF!+#REF!+#REF!+#REF!","v":{"$error":"#REF!"}},{"$f":"#REF!+#REF!+#REF!+#REF!+#REF!+#REF!+#REF!+#REF!+#REF!+#REF!+#REF!+#REF!+#REF!+#REF!+#REF!+#REF!+#REF!+#REF!+#REF!+#REF!+#REF!+#REF!+#REF!+#REF!+#REF!+#REF!+#REF!+#REF!+#REF!+#REF!+#REF!+#REF!+#REF!","v":{"$error":"#REF!"}},{"$f":"#REF!+#REF!+#REF!+#REF!+#REF!+#REF!+#REF!+#REF!+#REF!+#REF!+#REF!+#REF!+#REF!+#REF!+#REF!+#REF!+#REF!+#REF!+#REF!+#REF!+#REF!+#REF!+#REF!+#REF!+#REF!+#REF!+#REF!+#REF!+#REF!+#REF!+#REF!+#REF!+#REF!","v":{"$error":"#REF!"}},{"$f":"#REF!+#REF!+#REF!+#REF!+#REF!+#REF!+#REF!+#REF!+#REF!+#REF!+#REF!+#REF!+#REF!+#REF!+#REF!+#REF!+#REF!+#REF!+#REF!+#REF!+#REF!+#REF!+#REF!+#REF!+#REF!+#REF!+#REF!+#REF!+#REF!+#REF!+#REF!+#REF!+#REF!","v":{"$error":"#REF!"}},{"$f":"#REF!+#REF!+#REF!+#REF!+#REF!+#REF!+#REF!+#REF!+#REF!+#REF!+#REF!+#REF!+#REF!+#REF!+#REF!+#REF!+#REF!+#REF!+#REF!+#REF!+#REF!+#REF!+#REF!+#REF!+#REF!+#REF!+#REF!+#REF!+#REF!+#REF!+#REF!+#REF!+#REF!","v":{"$error":"#REF!"}},{"$f":"#REF!+#REF!+#REF!+#REF!+#REF!+#REF!+#REF!+#REF!+#REF!+#REF!+#REF!+#REF!+#REF!+#REF!+#REF!+#REF!+#REF!+#REF!+#REF!+#REF!+#REF!+#REF!+#REF!+#REF!+#REF!+#REF!+#REF!+#REF!+#REF!+#REF!+#REF!+#REF!+#REF!","v":{"$error":"#REF!"}},{"$f":"#REF!+#REF!+#REF!+#REF!+#REF!+#REF!+#REF!+#REF!+#REF!+#REF!+#REF!+#REF!+#REF!+#REF!+#REF!+#REF!+#REF!+#REF!+#REF!+#REF!+#REF!+#REF!+#REF!+#REF!+#REF!+#REF!+#REF!+#REF!+#REF!+#REF!+#REF!+#REF!+#REF!","v":{"$error":"#REF!"}},{"$f":"#REF!+#REF!+#REF!+#REF!+#REF!+#REF!+#REF!+#REF!+#REF!+#REF!+#REF!+#REF!+#REF!+#REF!+#REF!+#REF!+#REF!+#REF!+#REF!+#REF!+#REF!+#REF!+#REF!+#REF!+#REF!+#REF!+#REF!+#REF!+#REF!+#REF!+#REF!+#REF!+#REF!","v":{"$error":"#REF!"}},{"$error":"#REF!"},{"$error":"#REF!"},{"$f":"#REF!+#REF!+#REF!+#REF!+#REF!+#REF!+#REF!+#REF!+#REF!+#REF!+#REF!+#REF!+#REF!+#REF!+#REF!+#REF!+#REF!+#REF!+#REF!+#REF!+#REF!+#REF!+#REF!+#REF!+#REF!+#REF!+#REF!+#REF!+#REF!+#REF!+#REF!+#REF!+#REF!","v":{"$error":"#REF!"}},null,{"$error":"#REF!"}]
[5,"Avoyelles",{"$f":"#REF!+#REF!+#REF!+#REF!+#REF!+#REF!+#REF!+#REF!+#REF!+#REF!+#REF!+#REF!+#REF!+#REF!+#REF!+#REF!+#REF!+#REF!+#REF!+#REF!+#REF!+#REF!+#REF!+#REF!+#REF!+#REF!+#REF!+#REF!+#REF!+#REF!+#REF!+#REF!+#REF!","v":{"$error":"#REF!"}},{"$f":"'9_Per Pupil Summary'!H10","v":5100.6540504923505},{"$f":"#REF!+#REF!+#REF!+#REF!+#REF!+#REF!+#REF!+#REF!+#REF!+#REF!+#REF!+#REF!+#REF!+#REF!+#REF!+#REF!+#REF!+#REF!+#REF!+#REF!+#REF!+#REF!+#REF!+#REF!+#REF!+#REF!+#REF!+#REF!+#REF!+#REF!+#REF!+#REF!+#REF!","v":{"$error":"#REF!"}},{"$f":"#REF!+#REF!+#REF!+#REF!+#REF!+#REF!+#REF!+#REF!+#REF!+#REF!+#REF!+#REF!+#REF!+#REF!+#REF!+#REF!+#REF!+#REF!+#REF!+#REF!+#REF!+#REF!+#REF!+#REF!+#REF!+#REF!+#REF!+#REF!+#REF!+#REF!+#REF!+#REF!+#REF!","v":{"$error":"#REF!"}},{"$f":"'9_Per Pupil Summary'!I10","v":700.87464675347837},{"$f":"#REF!+#REF!+#REF!+#REF!+#REF!+#REF!+#REF!+#REF!+#REF!+#REF!+#REF!+#REF!+#REF!+#REF!+#REF!+#REF!+#REF!+#REF!+#REF!+#REF!+#REF!+#REF!+#REF!+#REF!+#REF!+#REF!+#REF!+#REF!+#REF!+#REF!+#REF!+#REF!+#REF!","v":{"$error":"#REF!"}},{"$f":"#REF!+#REF!+#REF!+#REF!+#REF!+#REF!+#REF!+#REF!+#REF!+#REF!+#REF!+#REF!+#REF!+#REF!+#REF!+#REF!+#REF!+#REF!+#REF!+#REF!+#REF!+#REF!+#REF!+#REF!+#REF!+#REF!+#REF!+#REF!+#REF!+#REF!+#REF!+#REF!+#REF!","v":{"$error":"#REF!"}},{"$f":"'9_Per Pupil Summary'!J10","v":191.14763093276684},{"$f":"#REF!+#REF!+#REF!+#REF!+#REF!+#REF!+#REF!+#REF!+#REF!+#REF!+#REF!+#REF!+#REF!+#REF!+#REF!+#REF!+#REF!+#REF!+#REF!+#REF!+#REF!+#REF!+#REF!+#REF!+#REF!+#REF!+#REF!+#REF!+#REF!+#REF!+#REF!+#REF!+#REF!","v":{"$error":"#REF!"}},{"$f":"#REF!+#REF!+#REF!+#REF!+#REF!+#REF!+#REF!+#REF!+#REF!+#REF!+#REF!+#REF!+#REF!+#REF!+#REF!+#REF!+#REF!+#REF!+#REF!+#REF!+#REF!+#REF!+#REF!+#REF!+#REF!+#REF!+#REF!+#REF!+#REF!+#REF!+#REF!+#REF!+#REF!","v":{"$error":"#REF!"}},{"$f":"'9_Per Pupil Summary'!K10","v":4778.6907733191701},{"$f":"#REF!+#REF!+#REF!+#REF!+#REF!+#REF!+#REF!+#REF!+#REF!+#REF!+#REF!+#REF!+#REF!+#REF!+#REF!+#REF!+#REF!+#REF!+#REF!+#REF!+#REF!+#REF!+#REF!+#REF!+#REF!+#REF!+#REF!+#REF!+#REF!+#REF!+#REF!+#REF!+#REF!","v":{"$error":"#REF!"}},{"$f":"#REF!+#REF!+#REF!+#REF!+#REF!+#REF!+#REF!+#REF!+#REF!+#REF!+#REF!+#REF!+#REF!+#REF!+#REF!+#REF!+#REF!+#REF!+#REF!+#REF!+#REF!+#REF!+#REF!+#REF!+#REF!+#REF!+#REF!+#REF!+#REF!+#REF!+#REF!+#REF!+#REF!","v":{"$error":"#REF!"}},{"$f":"'9_Per Pupil Summary'!L10","v":1911.4763093276683},{"$f":"#REF!+#REF!+#REF!+#REF!+#REF!+#REF!+#REF!+#REF!+#REF!+#REF!+#REF!+#REF!+#REF!+#REF!+#REF!+#REF!+#REF!+#REF!+#REF!+#REF!+#REF!+#REF!+#REF!+#REF!+#REF!+#REF!+#REF!+#REF!+#REF!+#REF!+#REF!+#REF!+#REF!","v":{"$error":"#REF!"}},{"$f":"#REF!+#REF!+#REF!+#REF!+#REF!+#REF!+#REF!+#REF!+#REF!+#REF!+#REF!+#REF!+#REF!+#REF!+#REF!+#REF!+#REF!+#REF!+#REF!+#REF!+#REF!+#REF!+#REF!+#REF!+#REF!+#REF!+#REF!+#REF!+#REF!+#REF!+#REF!+#REF!+#REF!","v":{"$error":"#REF!"}},{"$f":"#REF!+#REF!","v":{"$error":"#REF!"}},{"$f":"#REF!+#REF!+#REF!+#REF!+#REF!+#REF!+#REF!+#REF!+#REF!+#REF!+#REF!+#REF!+#REF!+#REF!+#REF!+#REF!+#REF!+#REF!+#REF!+#REF!+#REF!+#REF!+#REF!+#REF!+#REF!+#REF!+#REF!+#REF!+#REF!+#REF!+#REF!+#REF!+#REF!","v":{"$error":"#REF!"}},{"$f":"#REF!+#REF!+#REF!+#REF!+#REF!+#REF!+#REF!+#REF!+#REF!+#REF!+#REF!+#REF!+#REF!+#REF!+#REF!+#REF!+#REF!+#REF!+#REF!+#REF!+#REF!+#REF!+#REF!+#REF!+#REF!+#REF!+#REF!+#REF!+#REF!+#REF!+#REF!+#REF!+#REF!","v":{"$error":"#REF!"}},{"$f":"#REF!+#REF!+#REF!+#REF!+#REF!+#REF!+#REF!+#REF!+#REF!+#REF!+#REF!+#REF!+#REF!+#REF!+#REF!+#REF!+#REF!+#REF!+#REF!+#REF!+#REF!+#REF!+#REF!+#REF!+#REF!+#REF!+#REF!+#REF!+#REF!+#REF!+#REF!+#REF!+#REF!","v":{"$error":"#REF!"}},{"$f":"#REF!+#REF!+#REF!+#REF!+#REF!+#REF!+#REF!+#REF!+#REF!+#REF!+#REF!+#REF!+#REF!+#REF!+#REF!+#REF!+#REF!+#REF!+#REF!+#REF!+#REF!+#REF!+#REF!+#REF!+#REF!+#REF!+#REF!+#REF!+#REF!+#REF!+#REF!+#REF!+#REF!","v":{"$error":"#REF!"}},{"$f":"#REF!+#REF!+#REF!+#REF!+#REF!+#REF!+#REF!+#REF!+#REF!+#REF!+#REF!+#REF!+#REF!+#REF!+#REF!+#REF!+#REF!+#REF!+#REF!+#REF!+#REF!+#REF!+#REF!+#REF!+#REF!+#REF!+#REF!+#REF!+#REF!+#REF!+#REF!+#REF!+#REF!","v":{"$error":"#REF!"}},{"$f":"#REF!+#REF!+#REF!+#REF!+#REF!+#REF!+#REF!+#REF!+#REF!+#REF!+#REF!+#REF!+#REF!+#REF!+#REF!+#REF!+#REF!+#REF!+#REF!+#REF!+#REF!+#REF!+#REF!+#REF!+#REF!+#REF!+#REF!+#REF!+#REF!+#REF!+#REF!+#REF!+#REF!","v":{"$error":"#REF!"}},{"$f":"#REF!+#REF!+#REF!+#REF!+#REF!+#REF!+#REF!+#REF!+#REF!+#REF!+#REF!+#REF!+#REF!+#REF!+#REF!+#REF!+#REF!+#REF!+#REF!+#REF!+#REF!+#REF!+#REF!+#REF!+#REF!+#REF!+#REF!+#REF!+#REF!+#REF!+#REF!+#REF!+#REF!","v":{"$error":"#REF!"}},{"$f":"#REF!+#REF!+#REF!+#REF!+#REF!+#REF!+#REF!+#REF!+#REF!+#REF!+#REF!+#REF!+#REF!+#REF!+#REF!+#REF!+#REF!+#REF!+#REF!+#REF!+#REF!+#REF!+#REF!+#REF!+#REF!+#REF!+#REF!+#REF!+#REF!+#REF!+#REF!+#REF!+#REF!","v":{"$error":"#REF!"}},{"$f":"#REF!+#REF!+#REF!+#REF!+#REF!+#REF!+#REF!+#REF!+#REF!+#REF!+#REF!+#REF!+#REF!+#REF!+#REF!+#REF!+#REF!+#REF!+#REF!+#REF!+#REF!+#REF!+#REF!+#REF!+#REF!+#REF!+#REF!+#REF!+#REF!+#REF!+#REF!+#REF!+#REF!","v":{"$error":"#REF!"}},{"$f":"#REF!+#REF!+#REF!+#REF!+#REF!+#REF!+#REF!+#REF!+#REF!+#REF!+#REF!+#REF!+#REF!+#REF!+#REF!+#REF!+#REF!+#REF!+#REF!+#REF!+#REF!+#REF!+#REF!+#REF!+#REF!+#REF!+#REF!+#REF!+#REF!+#REF!+#REF!+#REF!+#REF!","v":{"$error":"#REF!"}},{"$f":"#REF!+#REF!+#REF!+#REF!+#REF!+#REF!+#REF!+#REF!+#REF!+#REF!+#REF!+#REF!+#REF!+#REF!+#REF!+#REF!+#REF!+#REF!+#REF!+#REF!+#REF!+#REF!+#REF!+#REF!+#REF!+#REF!+#REF!+#REF!+#REF!+#REF!+#REF!+#REF!+#REF!","v":{"$error":"#REF!"}},{"$f":"#REF!+#REF!+#REF!+#REF!+#REF!+#REF!+#REF!+#REF!+#REF!+#REF!+#REF!+#REF!+#REF!+#REF!+#REF!+#REF!+#REF!+#REF!+#REF!+#REF!+#REF!+#REF!+#REF!+#REF!+#REF!+#REF!+#REF!+#REF!+#REF!+#REF!+#REF!+#REF!+#REF!","v":{"$error":"#REF!"}},{"$f":"'9_Per Pupil Summary'!N10","v":3068},{"$f":"#REF!+#REF!+#REF!+#REF!+#REF!+#REF!+#REF!+#REF!+#REF!+#REF!+#REF!+#REF!+#REF!+#REF!+#REF!+#REF!+#REF!+#REF!+#REF!+#REF!+#REF!+#REF!+#REF!+#REF!+#REF!+#REF!+#REF!+#REF!+#REF!+#REF!+#REF!+#REF!+#REF!","v":{"$error":"#REF!"}},{"$f":"#REF!+#REF!+#REF!+#REF!+#REF!+#REF!+#REF!+#REF!+#REF!+#REF!+#REF!+#REF!+#REF!+#REF!+#REF!+#REF!+#REF!+#REF!+#REF!+#REF!+#REF!+#REF!+#REF!+#REF!+#REF!+#REF!+#REF!+#REF!+#REF!+#REF!+#REF!+#REF!+#REF!","v":{"$error":"#REF!"}},{"$f":"#REF!+#REF!+#REF!+#REF!+#REF!+#REF!+#REF!+#REF!+#REF!+#REF!+#REF!+#REF!+#REF!+#REF!+#REF!+#REF!+#REF!+#REF!+#REF!+#REF!+#REF!+#REF!+#REF!+#REF!+#REF!+#REF!+#REF!+#REF!+#REF!+#REF!+#REF!+#REF!+#REF!","v":{"$error":"#REF!"}},{"$f":"#REF!+#REF!+#REF!+#REF!+#REF!+#REF!+#REF!+#REF!+#REF!+#REF!+#REF!+#REF!+#REF!+#REF!+#REF!+#REF!+#REF!+#REF!+#REF!+#REF!+#REF!+#REF!+#REF!+#REF!+#REF!+#REF!+#REF!+#REF!+#REF!+#REF!+#REF!+#REF!+#REF!","v":{"$error":"#REF!"}},{"$f":"#REF!+#REF!+#REF!+#REF!+#REF!+#REF!+#REF!+#REF!+#REF!+#REF!+#REF!+#REF!+#REF!+#REF!+#REF!+#REF!+#REF!+#REF!+#REF!+#REF!+#REF!+#REF!+#REF!+#REF!+#REF!+#REF!+#REF!+#REF!+#REF!+#REF!+#REF!+#REF!+#REF!","v":{"$error":"#REF!"}},{"$f":"#REF!+#REF!+#REF!+#REF!+#REF!+#REF!+#REF!+#REF!+#REF!+#REF!+#REF!+#REF!+#REF!+#REF!+#REF!+#REF!+#REF!+#REF!+#REF!+#REF!+#REF!+#REF!+#REF!+#REF!+#REF!+#REF!+#REF!+#REF!+#REF!+#REF!+#REF!+#REF!+#REF!","v":{"$error":"#REF!"}},{"$f":"#REF!+#REF!+#REF!+#REF!+#REF!+#REF!+#REF!+#REF!+#REF!+#REF!+#REF!+#REF!+#REF!+#REF!+#REF!+#REF!+#REF!+#REF!+#REF!+#REF!+#REF!+#REF!+#REF!+#REF!+#REF!+#REF!+#REF!+#REF!+#REF!+#REF!+#REF!+#REF!+#REF!","v":{"$error":"#REF!"}},{"$f":"#REF!+#REF!+#REF!+#REF!+#REF!+#REF!+#REF!+#REF!+#REF!+#REF!+#REF!+#REF!+#REF!+#REF!+#REF!+#REF!+#REF!+#REF!+#REF!+#REF!+#REF!+#REF!+#REF!+#REF!+#REF!+#REF!+#REF!+#REF!+#REF!+#REF!+#REF!+#REF!+#REF!","v":{"$error":"#REF!"}},{"$f":"#REF!+#REF!+#REF!+#REF!+#REF!+#REF!+#REF!+#REF!+#REF!+#REF!+#REF!+#REF!+#REF!+#REF!+#REF!+#REF!+#REF!+#REF!+#REF!+#REF!+#REF!+#REF!+#REF!+#REF!+#REF!+#REF!+#REF!+#REF!+#REF!+#REF!+#REF!+#REF!+#REF!","v":{"$error":"#REF!"}},{"$f":"#REF!+#REF!+#REF!+#REF!+#REF!+#REF!+#REF!+#REF!+#REF!+#REF!+#REF!+#REF!+#REF!+#REF!+#REF!+#REF!+#REF!+#REF!+#REF!+#REF!+#REF!+#REF!+#REF!+#REF!+#REF!+#REF!+#REF!+#REF!+#REF!+#REF!+#REF!+#REF!+#REF!","v":{"$error":"#REF!"}},{"$f":"#REF!+#REF!+#REF!+#REF!+#REF!+#REF!+#REF!+#REF!+#REF!+#REF!+#REF!+#REF!+#REF!+#REF!+#REF!+#REF!+#REF!+#REF!+#REF!+#REF!+#REF!+#REF!+#REF!+#REF!+#REF!+#REF!+#REF!+#REF!+#REF!+#REF!+#REF!+#REF!+#REF!","v":{"$error":"#REF!"}},{"$f":"#REF!+#REF!+#REF!+#REF!+#REF!+#REF!+#REF!+#REF!+#REF!+#REF!+#REF!+#REF!+#REF!+#REF!+#REF!+#REF!+#REF!+#REF!+#REF!+#REF!+#REF!+#REF!+#REF!+#REF!+#REF!+#REF!+#REF!+#REF!+#REF!+#REF!+#REF!+#REF!+#REF!","v":{"$error":"#REF!"}},{"$f":"#REF!+#REF!+#REF!+#REF!+#REF!+#REF!+#REF!+#REF!+#REF!+#REF!+#REF!+#REF!+#REF!+#REF!+#REF!+#REF!+#REF!+#REF!+#REF!+#REF!+#REF!+#REF!+#REF!+#REF!+#REF!+#REF!+#REF!+#REF!+#REF!+#REF!+#REF!+#REF!+#REF!","v":{"$error":"#REF!"}},{"$f":"#REF!+#REF!+#REF!+#REF!+#REF!+#REF!+#REF!+#REF!+#REF!+#REF!+#REF!+#REF!+#REF!+#REF!+#REF!+#REF!+#REF!+#REF!+#REF!+#REF!+#REF!+#REF!+#REF!+#REF!+#REF!+#REF!+#REF!+#REF!+#REF!+#REF!+#REF!+#REF!+#REF!","v":{"$error":"#REF!"}},{"$error":"#REF!"},{"$error":"#REF!"},{"$f":"#REF!+#REF!+#REF!+#REF!+#REF!+#REF!+#REF!+#REF!+#REF!+#REF!+#REF!+#REF!+#REF!+#REF!+#REF!+#REF!+#REF!+#REF!+#REF!+#REF!+#REF!+#REF!+#REF!+#REF!+#REF!+#REF!+#REF!+#REF!+#REF!+#REF!+#REF!+#REF!+#REF!","v":{"$error":"#REF!"}},null,{"$error":"#REF!"}]
[6,"Beauregard",{"$f":"#REF!+#REF!+#REF!+#REF!+#REF!+#REF!+#REF!+#REF!+#REF!+#REF!+#REF!+#REF!+#REF!+#REF!+#REF!+#REF!+#REF!+#REF!+#REF!+#REF!+#REF!+#REF!+#REF!+#REF!+#REF!+#REF!+#REF!+#REF!+#REF!+#REF!+#REF!+#REF!+#REF!","v":{"$error":"#REF!"}},{"$f":"'9_Per Pupil Summary'!H11","v":4736.5510342754142},{"$f":"#REF!+#REF!+#REF!+#REF!+#REF!+#REF!+#REF!+#REF!+#REF!+#REF!+#REF!+#REF!+#REF!+#REF!+#REF!+#REF!+#REF!+#REF!+#REF!+#REF!+#REF!+#REF!+#REF!+#REF!+#REF!+#REF!+#REF!+#REF!+#REF!+#REF!+#REF!+#REF!+#REF!","v":{"$error":"#REF!"}},{"$f":"#REF!+#REF!+#REF!+#REF!+#REF!+#REF!+#REF!+#REF!+#REF!+#REF!+#REF!+#REF!+#REF!+#REF!+#REF!+#REF!+#REF!+#REF!+#REF!+#REF!+#REF!+#REF!+#REF!+#REF!+#REF!+#REF!+#REF!+#REF!+#REF!+#REF!+#REF!+#REF!+#REF!","v":{"$error":"#REF!"}},{"$f":"'9_Per Pupil Summary'!I11","v":645.94658156566834},{"$f":"#REF!+#REF!+#REF!+#REF!+#REF!+#REF!+#REF!+#REF!+#REF!+#REF!+#REF!+#REF!+#REF!+#REF!+#REF!+#REF!+#REF!+#REF!+#REF!+#REF!+#REF!+#REF!+#REF!+#REF!+#REF!+#REF!+#REF!+#REF!+#REF!+#REF!+#REF!+#REF!+#REF!","v":{"$error":"#REF!"}},{"$f":"#REF!+#REF!+#REF!+#REF!+#REF!+#REF!+#REF!+#REF!+#REF!+#REF!+#REF!+#REF!+#REF!+#REF!+#REF!+#REF!+#REF!+#REF!+#REF!+#REF!+#REF!+#REF!+#REF!+#REF!+#REF!+#REF!+#REF!+#REF!+#REF!+#REF!+#REF!+#REF!+#REF!","v":{"$error":"#REF!"}},{"$f":"'9_Per Pupil Summary'!J11","v":176.16724951790957},{"$f":"#REF!+#REF!+#REF!+#REF!+#REF!+#REF!+#REF!+#REF!+#REF!+#REF!+#REF!+#REF!+#REF!+#REF!+#REF!+#REF!+#REF!+#REF!+#REF!+#REF!+#REF!+#REF!+#REF!+#REF!+#REF!+#REF!+#REF!+#REF!+#REF!+#REF!+#REF!+#REF!+#REF!","v":{"$error":"#REF!"}},{"$f":"#REF!+#REF!+#REF!+#REF!+#REF!+#REF!+#REF!+#REF!+#REF!+#REF!+#REF!+#REF!+#REF!+#REF!+#REF!+#REF!+#REF!+#REF!+#REF!+#REF!+#REF!+#REF!+#REF!+#REF!+#REF!+#REF!+#REF!+#REF!+#REF!+#REF!+#REF!+#REF!+#REF!","v":{"$error":"#REF!"}},{"$f":"'9_Per Pupil Summary'!K11","v":4404.1812379477387},{"$f":"#REF!+#REF!+#REF!+#REF!+#REF!+#REF!+#REF!+#REF!+#REF!+#REF!+#REF!+#REF!+#REF!+#REF!+#REF!+#REF!+#REF!+#REF!+#REF!+#REF!+#REF!+#REF!+#REF!+#REF!+#REF!+#REF!+#REF!+#REF!+#REF!+#REF!+#REF!+#REF!+#REF!","v":{"$error":"#REF!"}},{"$f":"#REF!+#REF!+#REF!+#REF!+#REF!+#REF!+#REF!+#REF!+#REF!+#REF!+#REF!+#REF!+#REF!+#REF!+#REF!+#REF!+#REF!+#REF!+#REF!+#REF!+#REF!+#REF!+#REF!+#REF!+#REF!+#REF!+#REF!+#REF!+#REF!+#REF!+#REF!+#REF!+#REF!","v":{"$error":"#REF!"}},{"$f":"'9_Per Pupil Summary'!L11","v":1761.6724951790954},{"$f":"#REF!+#REF!+#REF!+#REF!+#REF!+#REF!+#REF!+#REF!+#REF!+#REF!+#REF!+#REF!+#REF!+#REF!+#REF!+#REF!+#REF!+#REF!+#REF!+#REF!+#REF!+#REF!+#REF!+#REF!+#REF!+#REF!+#REF!+#REF!+#REF!+#REF!+#REF!+#REF!+#REF!","v":{"$error":"#REF!"}},{"$f":"#REF!+#REF!+#REF!+#REF!+#REF!+#REF!+#REF!+#REF!+#REF!+#REF!+#REF!+#REF!+#REF!+#REF!+#REF!+#REF!+#REF!+#REF!+#REF!+#REF!+#REF!+#REF!+#REF!+#REF!+#REF!+#REF!+#REF!+#REF!+#REF!+#REF!+#REF!+#REF!+#REF!","v":{"$error":"#REF!"}},{"$f":"#REF!+#REF!","v":{"$error":"#REF!"}},{"$f":"#REF!+#REF!+#REF!+#REF!+#REF!+#REF!+#REF!+#REF!+#REF!+#REF!+#REF!+#REF!+#REF!+#REF!+#REF!+#REF!+#REF!+#REF!+#REF!+#REF!+#REF!+#REF!+#REF!+#REF!+#REF!+#REF!+#REF!+#REF!+#REF!+#REF!+#REF!+#REF!+#REF!","v":{"$error":"#REF!"}},{"$f":"#REF!+#REF!+#REF!+#REF!+#REF!+#REF!+#REF!+#REF!+#REF!+#REF!+#REF!+#REF!+#REF!+#REF!+#REF!+#REF!+#REF!+#REF!+#REF!+#REF!+#REF!+#REF!+#REF!+#REF!+#REF!+#REF!+#REF!+#REF!+#REF!+#REF!+#REF!+#REF!+#REF!","v":{"$error":"#REF!"}},{"$f":"#REF!+#REF!+#REF!+#REF!+#REF!+#REF!+#REF!+#REF!+#REF!+#REF!+#REF!+#REF!+#REF!+#REF!+#REF!+#REF!+#REF!+#REF!+#REF!+#REF!+#REF!+#REF!+#REF!+#REF!+#REF!+#REF!+#REF!+#REF!+#REF!+#REF!+#REF!+#REF!+#REF!","v":{"$error":"#REF!"}},{"$f":"#REF!+#REF!+#REF!+#REF!+#REF!+#REF!+#REF!+#REF!+#REF!+#REF!+#REF!+#REF!+#REF!+#REF!+#REF!+#REF!+#REF!+#REF!+#REF!+#REF!+#REF!+#REF!+#REF!+#REF!+#REF!+#REF!+#REF!+#REF!+#REF!+#REF!+#REF!+#REF!+#REF!","v":{"$error":"#REF!"}},{"$f":"#REF!+#REF!+#REF!+#REF!+#REF!+#REF!+#REF!+#REF!+#REF!+#REF!+#REF!+#REF!+#REF!+#REF!+#REF!+#REF!+#REF!+#REF!+#REF!+#REF!+#REF!+#REF!+#REF!+#REF!+#REF!+#REF!+#REF!+#REF!+#REF!+#REF!+#REF!+#REF!+#REF!","v":{"$error":"#REF!"}},{"$f":"#REF!+#REF!+#REF!+#REF!+#REF!+#REF!+#REF!+#REF!+#REF!+#REF!+#REF!+#REF!+#REF!+#REF!+#REF!+#REF!+#REF!+#REF!+#REF!+#REF!+#REF!+#REF!+#REF!+#REF!+#REF!+#REF!+#REF!+#REF!+#REF!+#REF!+#REF!+#REF!+#REF!","v":{"$error":"#REF!"}},{"$f":"#REF!+#REF!+#REF!+#REF!+#REF!+#REF!+#REF!+#REF!+#REF!+#REF!+#REF!+#REF!+#REF!+#REF!+#REF!+#REF!+#REF!+#REF!+#REF!+#REF!+#REF!+#REF!+#REF!+#REF!+#REF!+#REF!+#REF!+#REF!+#REF!+#REF!+#REF!+#REF!+#REF!","v":{"$error":"#REF!"}},{"$f":"#REF!+#REF!+#REF!+#REF!+#REF!+#REF!+#REF!+#REF!+#REF!+#REF!+#REF!+#REF!+#REF!+#REF!+#REF!+#REF!+#REF!+#REF!+#REF!+#REF!+#REF!+#REF!+#REF!+#REF!+#REF!+#REF!+#REF!+#REF!+#REF!+#REF!+#REF!+#REF!+#REF!","v":{"$error":"#REF!"}},{"$f":"#REF!+#REF!+#REF!+#REF!+#REF!+#REF!+#REF!+#REF!+#REF!+#REF!+#REF!+#REF!+#REF!+#REF!+#REF!+#REF!+#REF!+#REF!+#REF!+#REF!+#REF!+#REF!+#REF!+#REF!+#REF!+#REF!+#REF!+#REF!+#REF!+#REF!+#REF!+#REF!+#REF!","v":{"$error":"#REF!"}},{"$f":"#REF!+#REF!+#REF!+#REF!+#REF!+#REF!+#REF!+#REF!+#REF!+#REF!+#REF!+#REF!+#REF!+#REF!+#REF!+#REF!+#REF!+#REF!+#REF!+#REF!+#REF!+#REF!+#REF!+#REF!+#REF!+#REF!+#REF!+#REF!+#REF!+#REF!+#REF!+#REF!+#REF!","v":{"$error":"#REF!"}},{"$f":"#REF!+#REF!+#REF!+#REF!+#REF!+#REF!+#REF!+#REF!+#REF!+#REF!+#REF!+#REF!+#REF!+#REF!+#REF!+#REF!+#REF!+#REF!+#REF!+#REF!+#REF!+#REF!+#REF!+#REF!+#REF!+#REF!+#REF!+#REF!+#REF!+#REF!+#REF!+#REF!+#REF!","v":{"$error":"#REF!"}},{"$f":"#REF!+#REF!+#REF!+#REF!+#REF!+#REF!+#REF!+#REF!+#REF!+#REF!+#REF!+#REF!+#REF!+#REF!+#REF!+#REF!+#REF!+#REF!+#REF!+#REF!+#REF!+#REF!+#REF!+#REF!+#REF!+#REF!+#REF!+#REF!+#REF!+#REF!+#REF!+#REF!+#REF!","v":{"$error":"#REF!"}},{"$f":"'9_Per Pupil Summary'!N11","v":6387},{"$f":"#REF!+#REF!+#REF!+#REF!+#REF!+#REF!+#REF!+#REF!+#REF!+#REF!+#REF!+#REF!+#REF!+#REF!+#REF!+#REF!+#REF!+#REF!+#REF!+#REF!+#REF!+#REF!+#REF!+#REF!+#REF!+#REF!+#REF!+#REF!+#REF!+#REF!+#REF!+#REF!+#REF!","v":{"$error":"#REF!"}},{"$f":"#REF!+#REF!+#REF!+#REF!+#REF!+#REF!+#REF!+#REF!+#REF!+#REF!+#REF!+#REF!+#REF!+#REF!+#REF!+#REF!+#REF!+#REF!+#REF!+#REF!+#REF!+#REF!+#REF!+#REF!+#REF!+#REF!+#REF!+#REF!+#REF!+#REF!+#REF!+#REF!+#REF!","v":{"$error":"#REF!"}},{"$f":"#REF!+#REF!+#REF!+#REF!+#REF!+#REF!+#REF!+#REF!+#REF!+#REF!+#REF!+#REF!+#REF!+#REF!+#REF!+#REF!+#REF!+#REF!+#REF!+#REF!+#REF!+#REF!+#REF!+#REF!+#REF!+#REF!+#REF!+#REF!+#REF!+#REF!+#REF!+#REF!+#REF!","v":{"$error":"#REF!"}},{"$f":"#REF!+#REF!+#REF!+#REF!+#REF!+#REF!+#REF!+#REF!+#REF!+#REF!+#REF!+#REF!+#REF!+#REF!+#REF!+#REF!+#REF!+#REF!+#REF!+#REF!+#REF!+#REF!+#REF!+#REF!+#REF!+#REF!+#REF!+#REF!+#REF!+#REF!+#REF!+#REF!+#REF!","v":{"$error":"#REF!"}},{"$f":"#REF!+#REF!+#REF!+#REF!+#REF!+#REF!+#REF!+#REF!+#REF!+#REF!+#REF!+#REF!+#REF!+#REF!+#REF!+#REF!+#REF!+#REF!+#REF!+#REF!+#REF!+#REF!+#REF!+#REF!+#REF!+#REF!+#REF!+#REF!+#REF!+#REF!+#REF!+#REF!+#REF!","v":{"$error":"#REF!"}},{"$f":"#REF!+#REF!+#REF!+#REF!+#REF!+#REF!+#REF!+#REF!+#REF!+#REF!+#REF!+#REF!+#REF!+#REF!+#REF!+#REF!+#REF!+#REF!+#REF!+#REF!+#REF!+#REF!+#REF!+#REF!+#REF!+#REF!+#REF!+#REF!+#REF!+#REF!+#REF!+#REF!+#REF!","v":{"$error":"#REF!"}},{"$f":"#REF!+#REF!+#REF!+#REF!+#REF!+#REF!+#REF!+#REF!+#REF!+#REF!+#REF!+#REF!+#REF!+#REF!+#REF!+#REF!+#REF!+#REF!+#REF!+#REF!+#REF!+#REF!+#REF!+#REF!+#REF!+#REF!+#REF!+#REF!+#REF!+#REF!+#REF!+#REF!+#REF!","v":{"$error":"#REF!"}},{"$f":"#REF!+#REF!+#REF!+#REF!+#REF!+#REF!+#REF!+#REF!+#REF!+#REF!+#REF!+#REF!+#REF!+#REF!+#REF!+#REF!+#REF!+#REF!+#REF!+#REF!+#REF!+#REF!+#REF!+#REF!+#REF!+#REF!+#REF!+#REF!+#REF!+#REF!+#REF!+#REF!+#REF!","v":{"$error":"#REF!"}},{"$f":"#REF!+#REF!+#REF!+#REF!+#REF!+#REF!+#REF!+#REF!+#REF!+#REF!+#REF!+#REF!+#REF!+#REF!+#REF!+#REF!+#REF!+#REF!+#REF!+#REF!+#REF!+#REF!+#REF!+#REF!+#REF!+#REF!+#REF!+#REF!+#REF!+#REF!+#REF!+#REF!+#REF!","v":{"$error":"#REF!"}},{"$f":"#REF!+#REF!+#REF!+#REF!+#REF!+#REF!+#REF!+#REF!+#REF!+#REF!+#REF!+#REF!+#REF!+#REF!+#REF!+#REF!+#REF!+#REF!+#REF!+#REF!+#REF!+#REF!+#REF!+#REF!+#REF!+#REF!+#REF!+#REF!+#REF!+#REF!+#REF!+#REF!+#REF!","v":{"$error":"#REF!"}},{"$f":"#REF!+#REF!+#REF!+#REF!+#REF!+#REF!+#REF!+#REF!+#REF!+#REF!+#REF!+#REF!+#REF!+#REF!+#REF!+#REF!+#REF!+#REF!+#REF!+#REF!+#REF!+#REF!+#REF!+#REF!+#REF!+#REF!+#REF!+#REF!+#REF!+#REF!+#REF!+#REF!+#REF!","v":{"$error":"#REF!"}},{"$f":"#REF!+#REF!+#REF!+#REF!+#REF!+#REF!+#REF!+#REF!+#REF!+#REF!+#REF!+#REF!+#REF!+#REF!+#REF!+#REF!+#REF!+#REF!+#REF!+#REF!+#REF!+#REF!+#REF!+#REF!+#REF!+#REF!+#REF!+#REF!+#REF!+#REF!+#REF!+#REF!+#REF!","v":{"$error":"#REF!"}},{"$f":"#REF!+#REF!+#REF!+#REF!+#REF!+#REF!+#REF!+#REF!+#REF!+#REF!+#REF!+#REF!+#REF!+#REF!+#REF!+#REF!+#REF!+#REF!+#REF!+#REF!+#REF!+#REF!+#REF!+#REF!+#REF!+#REF!+#REF!+#REF!+#REF!+#REF!+#REF!+#REF!+#REF!","v":{"$error":"#REF!"}},{"$f":"#REF!+#REF!+#REF!+#REF!+#REF!+#REF!+#REF!+#REF!+#REF!+#REF!+#REF!+#REF!+#REF!+#REF!+#REF!+#REF!+#REF!+#REF!+#REF!+#REF!+#REF!+#REF!+#REF!+#REF!+#REF!+#REF!+#REF!+#REF!+#REF!+#REF!+#REF!+#REF!+#REF!","v":{"$error":"#REF!"}},{"$error":"#REF!"},{"$error":"#REF!"},{"$f":"#REF!+#REF!+#REF!+#REF!+#REF!+#REF!+#REF!+#REF!+#REF!+#REF!+#REF!+#REF!+#REF!+#REF!+#REF!+#REF!+#REF!+#REF!+#REF!+#REF!+#REF!+#REF!+#REF!+#REF!+#REF!+#REF!+#REF!+#REF!+#REF!+#REF!+#REF!+#REF!+#REF!","v":{"$error":"#REF!"}},null,{"$error":"#REF!"}]
[7,"Bienville",{"$f":"#REF!+#REF!+#REF!+#REF!+#REF!+#REF!+#REF!+#REF!+#REF!+#REF!+#REF!+#REF!+#REF!+#REF!+#REF!+#REF!+#REF!+#REF!+#REF!+#REF!+#REF!+#REF!+#REF!+#REF!+#REF!+#REF!+#REF!+#REF!+#REF!+#REF!+#REF!+#REF!+#REF!","v":{"$error":"#REF!"}},{"$f":"'9_Per Pupil Summary'!H12","v":3311.4684533571744},{"$f":"#REF!+#REF!+#REF!+#REF!+#REF!+#REF!+#REF!+#REF!+#REF!+#REF!+#REF!+#REF!+#REF!+#REF!+#REF!+#REF!+#REF!+#REF!+#REF!+#REF!+#REF!+#REF!+#REF!+#REF!+#REF!+#REF!+#REF!+#REF!+#REF!+#REF!+#REF!+#REF!+#REF!","v":{"$error":"#REF!"}},{"$f":"#REF!+#REF!+#REF!+#REF!+#REF!+#REF!+#REF!+#REF!+#REF!+#REF!+#REF!+#REF!+#REF!+#REF!+#REF!+#REF!+#REF!+#REF!+#REF!+#REF!+#REF!+#REF!+#REF!+#REF!+#REF!+#REF!+#REF!+#REF!+#REF!+#REF!+#REF!+#REF!+#REF!","v":{"$error":"#REF!"}},{"$f":"'9_Per Pupil Summary'!I12","v":448.71157667493225},{"$f":"#REF!+#REF!+#REF!+#REF!+#REF!+#REF!+#REF!+#REF!+#REF!+#REF!+#REF!+#REF!+#REF!+#REF!+#REF!+#REF!+#REF!+#REF!+#REF!+#REF!+#REF!+#REF!+#REF!+#REF!+#REF!+#REF!+#REF!+#REF!+#REF!+#REF!+#REF!+#REF!+#REF!","v":{"$error":"#REF!"}},{"$f":"#REF!+#REF!+#REF!+#REF!+#REF!+#REF!+#REF!+#REF!+#REF!+#REF!+#REF!+#REF!+#REF!+#REF!+#REF!+#REF!+#REF!+#REF!+#REF!+#REF!+#REF!+#REF!+#REF!+#REF!+#REF!+#REF!+#REF!+#REF!+#REF!+#REF!+#REF!+#REF!+#REF!","v":{"$error":"#REF!"}},{"$f":"'9_Per Pupil Summary'!J12","v":122.37588454770881},{"$f":"#REF!+#REF!+#REF!+#REF!+#REF!+#REF!+#REF!+#REF!+#REF!+#REF!+#REF!+#REF!+#REF!+#REF!+#REF!+#REF!+#REF!+#REF!+#REF!+#REF!+#REF!+#REF!+#REF!+#REF!+#REF!+#REF!+#REF!+#REF!+#REF!+#REF!+#REF!+#REF!+#REF!","v":{"$error":"#REF!"}},{"$f":"#REF!+#REF!+#REF!+#REF!+#REF!+#REF!+#REF!+#REF!+#REF!+#REF!+#REF!+#REF!+#REF!+#REF!+#REF!+#REF!+#REF!+#REF!+#REF!+#REF!+#REF!+#REF!+#REF!+#REF!+#REF!+#REF!+#REF!+#REF!+#REF!+#REF!+#REF!+#REF!+#REF!","v":{"$error":"#REF!"}},{"$f":"'9_Per Pupil Summary'!K12","v":3059.3971136927203},{"$f":"#REF!+#REF!+#REF!+#REF!+#REF!+#REF!+#REF!+#REF!+#REF!+#REF!+#REF!+#REF!+#REF!+#REF!+#REF!+#REF!+#REF!+#REF!+#REF!+#REF!+#REF!+#REF!+#REF!+#REF!+#REF!+#REF!+#REF!+#REF!+#REF!+#REF!+#REF!+#REF!+#REF!","v":{"$error":"#REF!"}},{"$f":"#REF!+#REF!+#REF!+#REF!+#REF!+#REF!+#REF!+#REF!+#REF!+#REF!+#REF!+#REF!+#REF!+#REF!+#REF!+#REF!+#REF!+#REF!+#REF!+#REF!+#REF!+#REF!+#REF!+#REF!+#REF!+#REF!+#REF!+#REF!+#REF!+#REF!+#REF!+#REF!+#REF!","v":{"$error":"#REF!"}},{"$f":"'9_Per Pupil Summary'!L12","v":1223.758845477088},{"$f":"#REF!+#REF!+#REF!+#REF!+#REF!+#REF!+#REF!+#REF!+#REF!+#REF!+#REF!+#REF!+#REF!+#REF!+#REF!+#REF!+#REF!+#REF!+#REF!+#REF!+#REF!+#REF!+#REF!+#REF!+#REF!+#REF!+#REF!+#REF!+#REF!+#REF!+#REF!+#REF!+#REF!","v":{"$error":"#REF!"}},{"$f":"#REF!+#REF!+#REF!+#REF!+#REF!+#REF!+#REF!+#REF!+#REF!+#REF!+#REF!+#REF!+#REF!+#REF!+#REF!+#REF!+#REF!+#REF!+#REF!+#REF!+#REF!+#REF!+#REF!+#REF!+#REF!+#REF!+#REF!+#REF!+#REF!+#REF!+#REF!+#REF!+#REF!","v":{"$error":"#REF!"}},{"$f":"#REF!+#REF!","v":{"$error":"#REF!"}},{"$f":"#REF!+#REF!+#REF!+#REF!+#REF!+#REF!+#REF!+#REF!+#REF!+#REF!+#REF!+#REF!+#REF!+#REF!+#REF!+#REF!+#REF!+#REF!+#REF!+#REF!+#REF!+#REF!+#REF!+#REF!+#REF!+#REF!+#REF!+#REF!+#REF!+#REF!+#REF!+#REF!+#REF!","v":{"$error":"#REF!"}},{"$f":"#REF!+#REF!+#REF!+#REF!+#REF!+#REF!+#REF!+#REF!+#REF!+#REF!+#REF!+#REF!+#REF!+#REF!+#REF!+#REF!+#REF!+#REF!+#REF!+#REF!+#REF!+#REF!+#REF!+#REF!+#REF!+#REF!+#REF!+#REF!+#REF!+#REF!+#REF!+#REF!+#REF!","v":{"$error":"#REF!"}},{"$f":"#REF!+#REF!+#REF!+#REF!+#REF!+#REF!+#REF!+#REF!+#REF!+#REF!+#REF!+#REF!+#REF!+#REF!+#REF!+#REF!+#REF!+#REF!+#REF!+#REF!+#REF!+#REF!+#REF!+#REF!+#REF!+#REF!+#REF!+#REF!+#REF!+#REF!+#REF!+#REF!+#REF!","v":{"$error":"#REF!"}},{"$f":"#REF!+#REF!+#REF!+#REF!+#REF!+#REF!+#REF!+#REF!+#REF!+#REF!+#REF!+#REF!+#REF!+#REF!+#REF!+#REF!+#REF!+#REF!+#REF!+#REF!+#REF!+#REF!+#REF!+#REF!+#REF!+#REF!+#REF!+#REF!+#REF!+#REF!+#REF!+#REF!+#REF!","v":{"$error":"#REF!"}},{"$f":"#REF!+#REF!+#REF!+#REF!+#REF!+#REF!+#REF!+#REF!+#REF!+#REF!+#REF!+#REF!+#REF!+#REF!+#REF!+#REF!+#REF!+#REF!+#REF!+#REF!+#REF!+#REF!+#REF!+#REF!+#REF!+#REF!+#REF!+#REF!+#REF!+#REF!+#REF!+#REF!+#REF!","v":{"$error":"#REF!"}},{"$f":"#REF!+#REF!+#REF!+#REF!+#REF!+#REF!+#REF!+#REF!+#REF!+#REF!+#REF!+#REF!+#REF!+#REF!+#REF!+#REF!+#REF!+#REF!+#REF!+#REF!+#REF!+#REF!+#REF!+#REF!+#REF!+#REF!+#REF!+#REF!+#REF!+#REF!+#REF!+#REF!+#REF!","v":{"$error":"#REF!"}},{"$f":"#REF!+#REF!+#REF!+#REF!+#REF!+#REF!+#REF!+#REF!+#REF!+#REF!+#REF!+#REF!+#REF!+#REF!+#REF!+#REF!+#REF!+#REF!+#REF!+#REF!+#REF!+#REF!+#REF!+#REF!+#REF!+#REF!+#REF!+#REF!+#REF!+#REF!+#REF!+#REF!+#REF!","v":{"$error":"#REF!"}},{"$f":"#REF!+#REF!+#REF!+#REF!+#REF!+#REF!+#REF!+#REF!+#REF!+#REF!+#REF!+#REF!+#REF!+#REF!+#REF!+#REF!+#REF!+#REF!+#REF!+#REF!+#REF!+#REF!+#REF!+#REF!+#REF!+#REF!+#REF!+#REF!+#REF!+#REF!+#REF!+#REF!+#REF!","v":{"$error":"#REF!"}},{"$f":"#REF!+#REF!+#REF!+#REF!+#REF!+#REF!+#REF!+#REF!+#REF!+#REF!+#REF!+#REF!+#REF!+#REF!+#REF!+#REF!+#REF!+#REF!+#REF!+#REF!+#REF!+#REF!+#REF!+#REF!+#REF!+#REF!+#REF!+#REF!+#REF!+#REF!+#REF!+#REF!+#REF!","v":{"$error":"#REF!"}},{"$f":"#REF!+#REF!+#REF!+#REF!+#REF!+#REF!+#REF!+#REF!+#REF!+#REF!+#REF!+#REF!+#REF!+#REF!+#REF!+#REF!+#REF!+#REF!+#REF!+#REF!+#REF!+#REF!+#REF!+#REF!+#REF!+#REF!+#REF!+#REF!+#REF!+#REF!+#REF!+#REF!+#REF!","v":{"$error":"#REF!"}},{"$f":"#REF!+#REF!+#REF!+#REF!+#REF!+#REF!+#REF!+#REF!+#REF!+#REF!+#REF!+#REF!+#REF!+#REF!+#REF!+#REF!+#REF!+#REF!+#REF!+#REF!+#REF!+#REF!+#REF!+#REF!+#REF!+#REF!+#REF!+#REF!+#REF!+#REF!+#REF!+#REF!+#REF!","v":{"$error":"#REF!"}},{"$f":"#REF!+#REF!+#REF!+#REF!+#REF!+#REF!+#REF!+#REF!+#REF!+#REF!+#REF!+#REF!+#REF!+#REF!+#REF!+#REF!+#REF!+#REF!+#REF!+#REF!+#REF!+#REF!+#REF!+#REF!+#REF!+#REF!+#REF!+#REF!+#REF!+#REF!+#REF!+#REF!+#REF!","v":{"$error":"#REF!"}},{"$f":"'9_Per Pupil Summary'!N12","v":16347},{"$f":"#REF!+#REF!+#REF!+#REF!+#REF!+#REF!+#REF!+#REF!+#REF!+#REF!+#REF!+#REF!+#REF!+#REF!+#REF!+#REF!+#REF!+#REF!+#REF!+#REF!+#REF!+#REF!+#REF!+#REF!+#REF!+#REF!+#REF!+#REF!+#REF!+#REF!+#REF!+#REF!+#REF!","v":{"$error":"#REF!"}},{"$f":"#REF!+#REF!+#REF!+#REF!+#REF!+#REF!+#REF!+#REF!+#REF!+#REF!+#REF!+#REF!+#REF!+#REF!+#REF!+#REF!+#REF!+#REF!+#REF!+#REF!+#REF!+#REF!+#REF!+#REF!+#REF!+#REF!+#REF!+#REF!+#REF!+#REF!+#REF!+#REF!+#REF!","v":{"$error":"#REF!"}},{"$f":"#REF!+#REF!+#REF!+#REF!+#REF!+#REF!+#REF!+#REF!+#REF!+#REF!+#REF!+#REF!+#REF!+#REF!+#REF!+#REF!+#REF!+#REF!+#REF!+#REF!+#REF!+#REF!+#REF!+#REF!+#REF!+#REF!+#REF!+#REF!+#REF!+#REF!+#REF!+#REF!+#REF!","v":{"$error":"#REF!"}},{"$f":"#REF!+#REF!+#REF!+#REF!+#REF!+#REF!+#REF!+#REF!+#REF!+#REF!+#REF!+#REF!+#REF!+#REF!+#REF!+#REF!+#REF!+#REF!+#REF!+#REF!+#REF!+#REF!+#REF!+#REF!+#REF!+#REF!+#REF!+#REF!+#REF!+#REF!+#REF!+#REF!+#REF!","v":{"$error":"#REF!"}},{"$f":"#REF!+#REF!+#REF!+#REF!+#REF!+#REF!+#REF!+#REF!+#REF!+#REF!+#REF!+#REF!+#REF!+#REF!+#REF!+#REF!+#REF!+#REF!+#REF!+#REF!+#REF!+#REF!+#REF!+#REF!+#REF!+#REF!+#REF!+#REF!+#REF!+#REF!+#REF!+#REF!+#REF!","v":{"$error":"#REF!"}},{"$f":"#REF!+#REF!+#REF!+#REF!+#REF!+#REF!+#REF!+#REF!+#REF!+#REF!+#REF!+#REF!+#REF!+#REF!+#REF!+#REF!+#REF!+#REF!+#REF!+#REF!+#REF!+#REF!+#REF!+#REF!+#REF!+#REF!+#REF!+#REF!+#REF!+#REF!+#REF!+#REF!+#REF!","v":{"$error":"#REF!"}},{"$f":"#REF!+#REF!+#REF!+#REF!+#REF!+#REF!+#REF!+#REF!+#REF!+#REF!+#REF!+#REF!+#REF!+#REF!+#REF!+#REF!+#REF!+#REF!+#REF!+#REF!+#REF!+#REF!+#REF!+#REF!+#REF!+#REF!+#REF!+#REF!+#REF!+#REF!+#REF!+#REF!+#REF!","v":{"$error":"#REF!"}},{"$f":"#REF!+#REF!+#REF!+#REF!+#REF!+#REF!+#REF!+#REF!+#REF!+#REF!+#REF!+#REF!+#REF!+#REF!+#REF!+#REF!+#REF!+#REF!+#REF!+#REF!+#REF!+#REF!+#REF!+#REF!+#REF!+#REF!+#REF!+#REF!+#REF!+#REF!+#REF!+#REF!+#REF!","v":{"$error":"#REF!"}},{"$f":"#REF!+#REF!+#REF!+#REF!+#REF!+#REF!+#REF!+#REF!+#REF!+#REF!+#REF!+#REF!+#REF!+#REF!+#REF!+#REF!+#REF!+#REF!+#REF!+#REF!+#REF!+#REF!+#REF!+#REF!+#REF!+#REF!+#REF!+#REF!+#REF!+#REF!+#REF!+#REF!+#REF!","v":{"$error":"#REF!"}},{"$f":"#REF!+#REF!+#REF!+#REF!+#REF!+#REF!+#REF!+#REF!+#REF!+#REF!+#REF!+#REF!+#REF!+#REF!+#REF!+#REF!+#REF!+#REF!+#REF!+#REF!+#REF!+#REF!+#REF!+#REF!+#REF!+#REF!+#REF!+#REF!+#REF!+#REF!+#REF!+#REF!+#REF!","v":{"$error":"#REF!"}},{"$f":"#REF!+#REF!+#REF!+#REF!+#REF!+#REF!+#REF!+#REF!+#REF!+#REF!+#REF!+#REF!+#REF!+#REF!+#REF!+#REF!+#REF!+#REF!+#REF!+#REF!+#REF!+#REF!+#REF!+#REF!+#REF!+#REF!+#REF!+#REF!+#REF!+#REF!+#REF!+#REF!+#REF!","v":{"$error":"#REF!"}},{"$f":"#REF!+#REF!+#REF!+#REF!+#REF!+#REF!+#REF!+#REF!+#REF!+#REF!+#REF!+#REF!+#REF!+#REF!+#REF!+#REF!+#REF!+#REF!+#REF!+#REF!+#REF!+#REF!+#REF!+#REF!+#REF!+#REF!+#REF!+#REF!+#REF!+#REF!+#REF!+#REF!+#REF!","v":{"$error":"#REF!"}},{"$f":"#REF!+#REF!+#REF!+#REF!+#REF!+#REF!+#REF!+#REF!+#REF!+#REF!+#REF!+#REF!+#REF!+#REF!+#REF!+#REF!+#REF!+#REF!+#REF!+#REF!+#REF!+#REF!+#REF!+#REF!+#REF!+#REF!+#REF!+#REF!+#REF!+#REF!+#REF!+#REF!+#REF!","v":{"$error":"#REF!"}},{"$f":"#REF!+#REF!+#REF!+#REF!+#REF!+#REF!+#REF!+#REF!+#REF!+#REF!+#REF!+#REF!+#REF!+#REF!+#REF!+#REF!+#REF!+#REF!+#REF!+#REF!+#REF!+#REF!+#REF!+#REF!+#REF!+#REF!+#REF!+#REF!+#REF!+#REF!+#REF!+#REF!+#REF!","v":{"$error":"#REF!"}},{"$error":"#REF!"},{"$error":"#REF!"},{"$f":"#REF!+#REF!+#REF!+#REF!+#REF!+#REF!+#REF!+#REF!+#REF!+#REF!+#REF!+#REF!+#REF!+#REF!+#REF!+#REF!+#REF!+#REF!+#REF!+#REF!+#REF!+#REF!+#REF!+#REF!+#REF!+#REF!+#REF!+#REF!+#REF!+#REF!+#REF!+#REF!+#REF!","v":{"$error":"#REF!"}},null,{"$error":"#REF!"}]
[8,"Bossier",{"$f":"#REF!+#REF!+#REF!+#REF!+#REF!+#REF!+#REF!+#REF!+#REF!+#REF!+#REF!+#REF!+#REF!+#REF!+#REF!+#REF!+#REF!+#REF!+#REF!+#REF!+#REF!+#REF!+#REF!+#REF!+#REF!+#REF!+#REF!+#REF!+#REF!+#REF!+#REF!+#REF!+#REF!","v":{"$error":"#REF!"}},{"$f":"'9_Per Pupil Summary'!H13","v":4823.8869788508964},{"$f":"#REF!+#REF!+#REF!+#REF!+#REF!+#REF!+#REF!+#REF!+#REF!+#REF!+#REF!+#REF!+#REF!+#REF!+#REF!+#REF!+#REF!+#REF!+#REF!+#REF!+#REF!+#REF!+#REF!+#REF!+#REF!+#REF!+#REF!+#REF!+#REF!+#REF!+#REF!+#REF!+#REF!","v":{"$error":"#REF!"}},{"$f":"#REF!+#REF!+#REF!+#REF!+#REF!+#REF!+#REF!+#REF!+#REF!+#REF!+#REF!+#REF!+#REF!+#REF!+#REF!+#REF!+#REF!+#REF!+#REF!+#REF!+#REF!+#REF!+#REF!+#REF!+#REF!+#REF!+#REF!+#REF!+#REF!+#REF!+#REF!+#REF!+#REF!","v":{"$error":"#REF!"}},{"$f":"'9_Per Pupil Summary'!I13","v":640.01888674046984},{"$f":"#REF!+#REF!+#REF!+#REF!+#REF!+#REF!+#REF!+#REF!+#REF!+#REF!+#REF!+#REF!+#REF!+#REF!+#REF!+#REF!+#REF!+#REF!+#REF!+#REF!+#REF!+#REF!+#REF!+#REF!+#REF!+#REF!+#REF!+#REF!+#REF!+#REF!+#REF!+#REF!+#REF!","v":{"$error":"#REF!"}},{"$f":"#REF!+#REF!+#REF!+#REF!+#REF!+#REF!+#REF!+#REF!+#REF!+#REF!+#REF!+#REF!+#REF!+#REF!+#REF!+#REF!+#REF!+#REF!+#REF!+#REF!+#REF!+#REF!+#REF!+#REF!+#REF!+#REF!+#REF!+#REF!+#REF!+#REF!+#REF!+#REF!+#REF!","v":{"$error":"#REF!"}},{"$f":"'9_Per Pupil Summary'!J13","v":174.55060547467357},{"$f":"#REF!+#REF!+#REF!+#REF!+#REF!+#REF!+#REF!+#REF!+#REF!+#REF!+#REF!+#REF!+#REF!+#REF!+#REF!+#REF!+#REF!+#REF!+#REF!+#REF!+#REF!+#REF!+#REF!+#REF!+#REF!+#REF!+#REF!+#REF!+#REF!+#REF!+#REF!+#REF!+#REF!","v":{"$error":"#REF!"}},{"$f":"#REF!+#REF!+#REF!+#REF!+#REF!+#REF!+#REF!+#REF!+#REF!+#REF!+#REF!+#REF!+#REF!+#REF!+#REF!+#REF!+#REF!+#REF!+#REF!+#REF!+#REF!+#REF!+#REF!+#REF!+#REF!+#REF!+#REF!+#REF!+#REF!+#REF!+#REF!+#REF!+#REF!","v":{"$error":"#REF!"}},{"$f":"'9_Per Pupil Summary'!K13","v":4363.7651368668403},{"$f":"#REF!+#REF!+#REF!+#REF!+#REF!+#REF!+#REF!+#REF!+#REF!+#REF!+#REF!+#REF!+#REF!+#REF!+#REF!+#REF!+#REF!+#REF!+#REF!+#REF!+#REF!+#REF!+#REF!+#REF!+#REF!+#REF!+#REF!+#REF!+#REF!+#REF!+#REF!+#REF!+#REF!","v":{"$error":"#REF!"}},{"$f":"#REF!+#REF!+#REF!+#REF!+#REF!+#REF!+#REF!+#REF!+#REF!+#REF!+#REF!+#REF!+#REF!+#REF!+#REF!+#REF!+#REF!+#REF!+#REF!+#REF!+#REF!+#REF!+#REF!+#REF!+#REF!+#REF!+#REF!+#REF!+#REF!+#REF!+#REF!+#REF!+#REF!","v":{"$error":"#REF!"}},{"$f":"'9_Per Pupil Summary'!L13","v":1745.5060547467356},{"$f":"#REF!+#REF!+#REF!+#REF!+#REF!+#REF!+#REF!+#REF!+#REF!+#REF!+#REF!+#REF!+#REF!+#REF!+#REF!+#REF!+#REF!+#REF!+#REF!+#REF!+#REF!+#REF!+#REF!+#REF!+#REF!+#REF!+#REF!+#REF!+#REF!+#REF!+#REF!+#REF!+#REF!","v":{"$error":"#REF!"}},{"$f":"#REF!+#REF!+#REF!+#REF!+#REF!+#REF!+#REF!+#REF!+#REF!+#REF!+#REF!+#REF!+#REF!+#REF!+#REF!+#REF!+#REF!+#REF!+#REF!+#REF!+#REF!+#REF!+#REF!+#REF!+#REF!+#REF!+#REF!+#REF!+#REF!+#REF!+#REF!+#REF!+#REF!","v":{"$error":"#REF!"}},{"$f":"#REF!+#REF!","v":{"$error":"#REF!"}},{"$f":"#REF!+#REF!+#REF!+#REF!+#REF!+#REF!+#REF!+#REF!+#REF!+#REF!+#REF!+#REF!+#REF!+#REF!+#REF!+#REF!+#REF!+#REF!+#REF!+#REF!+#REF!+#REF!+#REF!+#REF!+#REF!+#REF!+#REF!+#REF!+#REF!+#REF!+#REF!+#REF!+#REF!","v":{"$error":"#REF!"}},{"$f":"#REF!+#REF!+#REF!+#REF!+#REF!+#REF!+#REF!+#REF!+#REF!+#REF!+#REF!+#REF!+#REF!+#REF!+#REF!+#REF!+#REF!+#REF!+#REF!+#REF!+#REF!+#REF!+#REF!+#REF!+#REF!+#REF!+#REF!+#REF!+#REF!+#REF!+#REF!+#REF!+#REF!","v":{"$error":"#REF!"}},{"$f":"#REF!+#REF!+#REF!+#REF!+#REF!+#REF!+#REF!+#REF!+#REF!+#REF!+#REF!+#REF!+#REF!+#REF!+#REF!+#REF!+#REF!+#REF!+#REF!+#REF!+#REF!+#REF!+#REF!+#REF!+#REF!+#REF!+#REF!+#REF!+#REF!+#REF!+#REF!+#REF!+#REF!","v":{"$error":"#REF!"}},{"$f":"#REF!+#REF!+#REF!+#REF!+#REF!+#REF!+#REF!+#REF!+#REF!+#REF!+#REF!+#REF!+#REF!+#REF!+#REF!+#REF!+#REF!+#REF!+#REF!+#REF!+#REF!+#REF!+#REF!+#REF!+#REF!+#REF!+#REF!+#REF!+#REF!+#REF!+#REF!+#REF!+#REF!","v":{"$error":"#REF!"}},{"$f":"#REF!+#REF!+#REF!+#REF!+#REF!+#REF!+#REF!+#REF!+#REF!+#REF!+#REF!+#REF!+#REF!+#REF!+#REF!+#REF!+#REF!+#REF!+#REF!+#REF!+#REF!+#REF!+#REF!+#REF!+#REF!+#REF!+#REF!+#REF!+#REF!+#REF!+#REF!+#REF!+#REF!","v":{"$error":"#REF!"}},{"$f":"#REF!+#REF!+#REF!+#REF!+#REF!+#REF!+#REF!+#REF!+#REF!+#REF!+#REF!+#REF!+#REF!+#REF!+#REF!+#REF!+#REF!+#REF!+#REF!+#REF!+#REF!+#REF!+#REF!+#REF!+#REF!+#REF!+#REF!+#REF!+#REF!+#REF!+#REF!+#REF!+#REF!","v":{"$error":"#REF!"}},{"$f":"#REF!+#REF!+#REF!+#REF!+#REF!+#REF!+#REF!+#REF!+#REF!+#REF!+#REF!+#REF!+#REF!+#REF!+#REF!+#REF!+#REF!+#REF!+#REF!+#REF!+#REF!+#REF!+#REF!+#REF!+#REF!+#REF!+#REF!+#REF!+#REF!+#REF!+#REF!+#REF!+#REF!","v":{"$error":"#REF!"}},{"$f":"#REF!+#REF!+#REF!+#REF!+#REF!+#REF!+#REF!+#REF!+#REF!+#REF!+#REF!+#REF!+#REF!+#REF!+#REF!+#REF!+#REF!+#REF!+#REF!+#REF!+#REF!+#REF!+#REF!+#REF!+#REF!+#REF!+#REF!+#REF!+#REF!+#REF!+#REF!+#REF!+#REF!","v":{"$error":"#REF!"}},{"$f":"#REF!+#REF!+#REF!+#REF!+#REF!+#REF!+#REF!+#REF!+#REF!+#REF!+#REF!+#REF!+#REF!+#REF!+#REF!+#REF!+#REF!+#REF!+#REF!+#REF!+#REF!+#REF!+#REF!+#REF!+#REF!+#REF!+#REF!+#REF!+#REF!+#REF!+#REF!+#REF!+#REF!","v":{"$error":"#REF!"}},{"$f":"#REF!+#REF!+#REF!+#REF!+#REF!+#REF!+#REF!+#REF!+#REF!+#REF!+#REF!+#REF!+#REF!+#REF!+#REF!+#REF!+#REF!+#REF!+#REF!+#REF!+#REF!+#REF!+#REF!+#REF!+#REF!+#REF!+#REF!+#REF!+#REF!+#REF!+#REF!+#REF!+#REF!","v":{"$error":"#REF!"}},{"$f":"#REF!+#REF!+#REF!+#REF!+#REF!+#REF!+#REF!+#REF!+#REF!+#REF!+#REF!+#REF!+#REF!+#REF!+#REF!+#REF!+#REF!+#REF!+#REF!+#REF!+#REF!+#REF!+#REF!+#REF!+#REF!+#REF!+#REF!+#REF!+#REF!+#REF!+#REF!+#REF!+#REF!","v":{"$error":"#REF!"}},{"$f":"#REF!+#REF!+#REF!+#REF!+#REF!+#REF!+#REF!+#REF!+#REF!+#REF!+#REF!+#REF!+#REF!+#REF!+#REF!+#REF!+#REF!+#REF!+#REF!+#REF!+#REF!+#REF!+#REF!+#REF!+#REF!+#REF!+#REF!+#REF!+#REF!+#REF!+#REF!+#REF!+#REF!","v":{"$error":"#REF!"}},{"$f":"'9_Per Pupil Summary'!N13","v":6196},{"$f":"#REF!+#REF!+#REF!+#REF!+#REF!+#REF!+#REF!+#REF!+#REF!+#REF!+#REF!+#REF!+#REF!+#REF!+#REF!+#REF!+#REF!+#REF!+#REF!+#REF!+#REF!+#REF!+#REF!+#REF!+#REF!+#REF!+#REF!+#REF!+#REF!+#REF!+#REF!+#REF!+#REF!","v":{"$error":"#REF!"}},{"$f":"#REF!+#REF!+#REF!+#REF!+#REF!+#REF!+#REF!+#REF!+#REF!+#REF!+#REF!+#REF!+#REF!+#REF!+#REF!+#REF!+#REF!+#REF!+#REF!+#REF!+#REF!+#REF!+#REF!+#REF!+#REF!+#REF!+#REF!+#REF!+#REF!+#REF!+#REF!+#REF!+#REF!","v":{"$error":"#REF!"}},{"$f":"#REF!+#REF!+#REF!+#REF!+#REF!+#REF!+#REF!+#REF!+#REF!+#REF!+#REF!+#REF!+#REF!+#REF!+#REF!+#REF!+#REF!+#REF!+#REF!+#REF!+#REF!+#REF!+#REF!+#REF!+#REF!+#REF!+#REF!+#REF!+#REF!+#REF!+#REF!+#REF!+#REF!","v":{"$error":"#REF!"}},{"$f":"#REF!+#REF!+#REF!+#REF!+#REF!+#REF!+#REF!+#REF!+#REF!+#REF!+#REF!+#REF!+#REF!+#REF!+#REF!+#REF!+#REF!+#REF!+#REF!+#REF!+#REF!+#REF!+#REF!+#REF!+#REF!+#REF!+#REF!+#REF!+#REF!+#REF!+#REF!+#REF!+#REF!","v":{"$error":"#REF!"}},{"$f":"#REF!+#REF!+#REF!+#REF!+#REF!+#REF!+#REF!+#REF!+#REF!+#REF!+#REF!+#REF!+#REF!+#REF!+#REF!+#REF!+#REF!+#REF!+#REF!+#REF!+#REF!+#REF!+#REF!+#REF!+#REF!+#REF!+#REF!+#REF!+#REF!+#REF!+#REF!+#REF!+#REF!","v":{"$error":"#REF!"}},{"$f":"#REF!+#REF!+#REF!+#REF!+#REF!+#REF!+#REF!+#REF!+#REF!+#REF!+#REF!+#REF!+#REF!+#REF!+#REF!+#REF!+#REF!+#REF!+#REF!+#REF!+#REF!+#REF!+#REF!+#REF!+#REF!+#REF!+#REF!+#REF!+#REF!+#REF!+#REF!+#REF!+#REF!","v":{"$error":"#REF!"}},{"$f":"#REF!+#REF!+#REF!+#REF!+#REF!+#REF!+#REF!+#REF!+#REF!+#REF!+#REF!+#REF!+#REF!+#REF!+#REF!+#REF!+#REF!+#REF!+#REF!+#REF!+#REF!+#REF!+#REF!+#REF!+#REF!+#REF!+#REF!+#REF!+#REF!+#REF!+#REF!+#REF!+#REF!","v":{"$error":"#REF!"}},{"$f":"#REF!+#REF!+#REF!+#REF!+#REF!+#REF!+#REF!+#REF!+#REF!+#REF!+#REF!+#REF!+#REF!+#REF!+#REF!+#REF!+#REF!+#REF!+#REF!+#REF!+#REF!+#REF!+#REF!+#REF!+#REF!+#REF!+#REF!+#REF!+#REF!+#REF!+#REF!+#REF!+#REF!","v":{"$error":"#REF!"}},{"$f":"#REF!+#REF!+#REF!+#REF!+#REF!+#REF!+#REF!+#REF!+#REF!+#REF!+#REF!+#REF!+#REF!+#REF!+#REF!+#REF!+#REF!+#REF!+#REF!+#REF!+#REF!+#REF!+#REF!+#REF!+#REF!+#REF!+#REF!+#REF!+#REF!+#REF!+#REF!+#REF!+#REF!","v":{"$error":"#REF!"}},{"$f":"#REF!+#REF!+#REF!+#REF!+#REF!+#REF!+#REF!+#REF!+#REF!+#REF!+#REF!+#REF!+#REF!+#REF!+#REF!+#REF!+#REF!+#REF!+#REF!+#REF!+#REF!+#REF!+#REF!+#REF!+#REF!+#REF!+#REF!+#REF!+#REF!+#REF!+#REF!+#REF!+#REF!","v":{"$error":"#REF!"}},{"$f":"#REF!+#REF!+#REF!+#REF!+#REF!+#REF!+#REF!+#REF!+#REF!+#REF!+#REF!+#REF!+#REF!+#REF!+#REF!+#REF!+#REF!+#REF!+#REF!+#REF!+#REF!+#REF!+#REF!+#REF!+#REF!+#REF!+#REF!+#REF!+#REF!+#REF!+#REF!+#REF!+#REF!","v":{"$error":"#REF!"}},{"$f":"#REF!+#REF!+#REF!+#REF!+#REF!+#REF!+#REF!+#REF!+#REF!+#REF!+#REF!+#REF!+#REF!+#REF!+#REF!+#REF!+#REF!+#REF!+#REF!+#REF!+#REF!+#REF!+#REF!+#REF!+#REF!+#REF!+#REF!+#REF!+#REF!+#REF!+#REF!+#REF!+#REF!","v":{"$error":"#REF!"}},{"$f":"#REF!+#REF!+#REF!+#REF!+#REF!+#REF!+#REF!+#REF!+#REF!+#REF!+#REF!+#REF!+#REF!+#REF!+#REF!+#REF!+#REF!+#REF!+#REF!+#REF!+#REF!+#REF!+#REF!+#REF!+#REF!+#REF!+#REF!+#REF!+#REF!+#REF!+#REF!+#REF!+#REF!","v":{"$error":"#REF!"}},{"$f":"#REF!+#REF!+#REF!+#REF!+#REF!+#REF!+#REF!+#REF!+#REF!+#REF!+#REF!+#REF!+#REF!+#REF!+#REF!+#REF!+#REF!+#REF!+#REF!+#REF!+#REF!+#REF!+#REF!+#REF!+#REF!+#REF!+#REF!+#REF!+#REF!+#REF!+#REF!+#REF!+#REF!","v":{"$error":"#REF!"}},{"$error":"#REF!"},{"$error":"#REF!"},{"$f":"#REF!+#REF!+#REF!+#REF!+#REF!+#REF!+#REF!+#REF!+#REF!+#REF!+#REF!+#REF!+#REF!+#REF!+#REF!+#REF!+#REF!+#REF!+#REF!+#REF!+#REF!+#REF!+#REF!+#REF!+#REF!+#REF!+#REF!+#REF!+#REF!+#REF!+#REF!+#REF!+#REF!","v":{"$error":"#REF!"}},null,{"$error":"#REF!"}]
[9,"Caddo",{"$f":"#REF!+#REF!+#REF!+#REF!+#REF!+#REF!+#REF!+#REF!+#REF!+#REF!+#REF!+#REF!+#REF!+#REF!+#REF!+#REF!+#REF!+#REF!+#REF!+#REF!+#REF!+#REF!+#REF!+#REF!+#REF!+#REF!+#REF!+#REF!+#REF!+#REF!+#REF!+#REF!+#REF!","v":{"$error":"#REF!"}},{"$f":"'9_Per Pupil Summary'!H14","v":4345.8720489692741},{"$f":"#REF!+#REF!+#REF!+#REF!+#REF!+#REF!+#REF!+#REF!+#REF!+#REF!+#REF!+#REF!+#REF!+#REF!+#REF!+#REF!+#REF!+#REF!+#REF!+#REF!+#REF!+#REF!+#REF!+#REF!+#REF!+#REF!+#REF!+#REF!+#REF!+#REF!+#REF!+#REF!+#REF!","v":{"$error":"#REF!"}},{"$f":"#REF!+#REF!+#REF!+#REF!+#REF!+#REF!+#REF!+#REF!+#REF!+#REF!+#REF!+#REF!+#REF!+#REF!+#REF!+#REF!+#REF!+#REF!+#REF!+#REF!+#REF!+#REF!+#REF!+#REF!+#REF!+#REF!+#REF!+#REF!+#REF!+#REF!+#REF!+#REF!+#REF!","v":{"$error":"#REF!"}},{"$f":"'9_Per Pupil Summary'!I14","v":580.39560528957588},{"$f":"#REF!+#REF!+#REF!+#REF!+#REF!+#REF!+#REF!+#REF!+#REF!+#REF!+#REF!+#REF!+#REF!+#REF!+#REF!+#REF!+#REF!+#REF!+#REF!+#REF!+#REF!+#REF!+#REF!+#REF!+#REF!+#REF!+#REF!+#REF!+#REF!+#REF!+#REF!+#REF!+#REF!","v":{"$error":"#REF!"}},{"$f":"#REF!+#REF!+#REF!+#REF!+#REF!+#REF!+#REF!+#REF!+#REF!+#REF!+#REF!+#REF!+#REF!+#REF!+#REF!+#REF!+#REF!+#REF!+#REF!+#REF!+#REF!+#REF!+#REF!+#REF!+#REF!+#REF!+#REF!+#REF!+#REF!+#REF!+#REF!+#REF!+#REF!","v":{"$error":"#REF!"}},{"$f":"'9_Per Pupil Summary'!J14","v":158.28971053352072},{"$f":"#REF!+#REF!+#REF!+#REF!+#REF!+#REF!+#REF!+#REF!+#REF!+#REF!+#REF!+#REF!+#REF!+#REF!+#REF!+#REF!+#REF!+#REF!+#REF!+#REF!+#REF!+#REF!+#REF!+#REF!+#REF!+#REF!+#REF!+#REF!+#REF!+#REF!+#REF!+#REF!+#REF!","v":{"$error":"#REF!"}},{"$f":"#REF!+#REF!+#REF!+#REF!+#REF!+#REF!+#REF!+#REF!+#REF!+#REF!+#REF!+#REF!+#REF!+#REF!+#REF!+#REF!+#REF!+#REF!+#REF!+#REF!+#REF!+#REF!+#REF!+#REF!+#REF!+#REF!+#REF!+#REF!+#REF!+#REF!+#REF!+#REF!+#REF!","v":{"$error":"#REF!"}},{"$f":"'9_Per Pupil Summary'!K14","v":3957.2427633380166},{"$f":"#REF!+#REF!+#REF!+#REF!+#REF!+#REF!+#REF!+#REF!+#REF!+#REF!+#REF!+#REF!+#REF!+#REF!+#REF!+#REF!+#REF!+#REF!+#REF!+#REF!+#REF!+#REF!+#REF!+#REF!+#REF!+#REF!+#REF!+#REF!+#REF!+#REF!+#REF!+#REF!+#REF!","v":{"$error":"#REF!"}},{"$f":"#REF!+#REF!+#REF!+#REF!+#REF!+#REF!+#REF!+#REF!+#REF!+#REF!+#REF!+#REF!+#REF!+#REF!+#REF!+#REF!+#REF!+#REF!+#REF!+#REF!+#REF!+#REF!+#REF!+#REF!+#REF!+#REF!+#REF!+#REF!+#REF!+#REF!+#REF!+#REF!+#REF!","v":{"$error":"#REF!"}},{"$f":"'9_Per Pupil Summary'!L14","v":1582.8971053352068},{"$f":"#REF!+#REF!+#REF!+#REF!+#REF!+#REF!+#REF!+#REF!+#REF!+#REF!+#REF!+#REF!+#REF!+#REF!+#REF!+#REF!+#REF!+#REF!+#REF!+#REF!+#REF!+#REF!+#REF!+#REF!+#REF!+#REF!+#REF!+#REF!+#REF!+#REF!+#REF!+#REF!+#REF!","v":{"$error":"#REF!"}},{"$f":"#REF!+#REF!+#REF!+#REF!+#REF!+#REF!+#REF!+#REF!+#REF!+#REF!+#REF!+#REF!+#REF!+#REF!+#REF!+#REF!+#REF!+#REF!+#REF!+#REF!+#REF!+#REF!+#REF!+#REF!+#REF!+#REF!+#REF!+#REF!+#REF!+#REF!+#REF!+#REF!+#REF!","v":{"$error":"#REF!"}},{"$f":"#REF!+#REF!","v":{"$error":"#REF!"}},{"$f":"#REF!+#REF!+#REF!+#REF!+#REF!+#REF!+#REF!+#REF!+#REF!+#REF!+#REF!+#REF!+#REF!+#REF!+#REF!+#REF!+#REF!+#REF!+#REF!+#REF!+#REF!+#REF!+#REF!+#REF!+#REF!+#REF!+#REF!+#REF!+#REF!+#REF!+#REF!+#REF!+#REF!","v":{"$error":"#REF!"}},{"$f":"#REF!+#REF!+#REF!+#REF!+#REF!+#REF!+#REF!+#REF!+#REF!+#REF!+#REF!+#REF!+#REF!+#REF!+#REF!+#REF!+#REF!+#REF!+#REF!+#REF!+#REF!+#REF!+#REF!+#REF!+#REF!+#REF!+#REF!+#REF!+#REF!+#REF!+#REF!+#REF!+#REF!","v":{"$error":"#REF!"}},{"$f":"#REF!+#REF!+#REF!+#REF!+#REF!+#REF!+#REF!+#REF!+#REF!+#REF!+#REF!+#REF!+#REF!+#REF!+#REF!+#REF!+#REF!+#REF!+#REF!+#REF!+#REF!+#REF!+#REF!+#REF!+#REF!+#REF!+#REF!+#REF!+#REF!+#REF!+#REF!+#REF!+#REF!","v":{"$error":"#REF!"}},{"$f":"#REF!+#REF!+#REF!+#REF!+#REF!+#REF!+#REF!+#REF!+#REF!+#REF!+#REF!+#REF!+#REF!+#REF!+#REF!+#REF!+#REF!+#REF!+#REF!+#REF!+#REF!+#REF!+#REF!+#REF!+#REF!+#REF!+#REF!+#REF!+#REF!+#REF!+#REF!+#REF!+#REF!","v":{"$error":"#REF!"}},{"$f":"#REF!+#REF!+#REF!+#REF!+#REF!+#REF!+#REF!+#REF!+#REF!+#REF!+#REF!+#REF!+#REF!+#REF!+#REF!+#REF!+#REF!+#REF!+#REF!+#REF!+#REF!+#REF!+#REF!+#REF!+#REF!+#REF!+#REF!+#REF!+#REF!+#REF!+#REF!+#REF!+#REF!","v":{"$error":"#REF!"}},{"$f":"#REF!+#REF!+#REF!+#REF!+#REF!+#REF!+#REF!+#REF!+#REF!+#REF!+#REF!+#REF!+#REF!+#REF!+#REF!+#REF!+#REF!+#REF!+#REF!+#REF!+#REF!+#REF!+#REF!+#REF!+#REF!+#REF!+#REF!+#REF!+#REF!+#REF!+#REF!+#REF!+#REF!","v":{"$error":"#REF!"}},{"$f":"#REF!+#REF!+#REF!+#REF!+#REF!+#REF!+#REF!+#REF!+#REF!+#REF!+#REF!+#REF!+#REF!+#REF!+#REF!+#REF!+#REF!+#REF!+#REF!+#REF!+#REF!+#REF!+#REF!+#REF!+#REF!+#REF!+#REF!+#REF!+#REF!+#REF!+#REF!+#REF!+#REF!","v":{"$error":"#REF!"}},{"$f":"#REF!+#REF!+#REF!+#REF!+#REF!+#REF!+#REF!+#REF!+#REF!+#REF!+#REF!+#REF!+#REF!+#REF!+#REF!+#REF!+#REF!+#REF!+#REF!+#REF!+#REF!+#REF!+#REF!+#REF!+#REF!+#REF!+#REF!+#REF!+#REF!+#REF!+#REF!+#REF!+#REF!","v":{"$error":"#REF!"}},{"$f":"#REF!+#REF!+#REF!+#REF!+#REF!+#REF!+#REF!+#REF!+#REF!+#REF!+#REF!+#REF!+#REF!+#REF!+#REF!+#REF!+#REF!+#REF!+#REF!+#REF!+#REF!+#REF!+#REF!+#REF!+#REF!+#REF!+#REF!+#REF!+#REF!+#REF!+#REF!+#REF!+#REF!","v":{"$error":"#REF!"}},{"$f":"#REF!+#REF!+#REF!+#REF!+#REF!+#REF!+#REF!+#REF!+#REF!+#REF!+#REF!+#REF!+#REF!+#REF!+#REF!+#REF!+#REF!+#REF!+#REF!+#REF!+#REF!+#REF!+#REF!+#REF!+#REF!+#REF!+#REF!+#REF!+#REF!+#REF!+#REF!+#REF!+#REF!","v":{"$error":"#REF!"}},{"$f":"#REF!+#REF!+#REF!+#REF!+#REF!+#REF!+#REF!+#REF!+#REF!+#REF!+#REF!+#REF!+#REF!+#REF!+#REF!+#REF!+#REF!+#REF!+#REF!+#REF!+#REF!+#REF!+#REF!+#REF!+#REF!+#REF!+#REF!+#REF!+#REF!+#REF!+#REF!+#REF!+#REF!","v":{"$error":"#REF!"}},{"$f":"#REF!+#REF!+#REF!+#REF!+#REF!+#REF!+#REF!+#REF!+#REF!+#REF!+#REF!+#REF!+#REF!+#REF!+#REF!+#REF!+#REF!+#REF!+#REF!+#REF!+#REF!+#REF!+#REF!+#REF!+#REF!+#REF!+#REF!+#REF!+#REF!+#REF!+#REF!+#REF!+#REF!","v":{"$error":"#REF!"}},{"$f":"'9_Per Pupil Summary'!N14","v":7514},{"$f":"#REF!+#REF!+#REF!+#REF!+#REF!+#REF!+#REF!+#REF!+#REF!+#REF!+#REF!+#REF!+#REF!+#REF!+#REF!+#REF!+#REF!+#REF!+#REF!+#REF!+#REF!+#REF!+#REF!+#REF!+#REF!+#REF!+#REF!+#REF!+#REF!+#REF!+#REF!+#REF!+#REF!","v":{"$error":"#REF!"}},{"$f":"#REF!+#REF!+#REF!+#REF!+#REF!+#REF!+#REF!+#REF!+#REF!+#REF!+#REF!+#REF!+#REF!+#REF!+#REF!+#REF!+#REF!+#REF!+#REF!+#REF!+#REF!+#REF!+#REF!+#REF!+#REF!+#REF!+#REF!+#REF!+#REF!+#REF!+#REF!+#REF!+#REF!","v":{"$error":"#REF!"}},{"$f":"#REF!+#REF!+#REF!+#REF!+#REF!+#REF!+#REF!+#REF!+#REF!+#REF!+#REF!+#REF!+#REF!+#REF!+#REF!+#REF!+#REF!+#REF!+#REF!+#REF!+#REF!+#REF!+#REF!+#REF!+#REF!+#REF!+#REF!+#REF!+#REF!+#REF!+#REF!+#REF!+#REF!","v":{"$error":"#REF!"}},{"$f":"#REF!+#REF!+#REF!+#REF!+#REF!+#REF!+#REF!+#REF!+#REF!+#REF!+#REF!+#REF!+#REF!+#REF!+#REF!+#REF!+#REF!+#REF!+#REF!+#REF!+#REF!+#REF!+#REF!+#REF!+#REF!+#REF!+#REF!+#REF!+#REF!+#REF!+#REF!+#REF!+#REF!","v":{"$error":"#REF!"}},{"$f":"#REF!+#REF!+#REF!+#REF!+#REF!+#REF!+#REF!+#REF!+#REF!+#REF!+#REF!+#REF!+#REF!+#REF!+#REF!+#REF!+#REF!+#REF!+#REF!+#REF!+#REF!+#REF!+#REF!+#REF!+#REF!+#REF!+#REF!+#REF!+#REF!+#REF!+#REF!+#REF!+#REF!","v":{"$error":"#REF!"}},{"$f":"#REF!+#REF!+#REF!+#REF!+#REF!+#REF!+#REF!+#REF!+#REF!+#REF!+#REF!+#REF!+#REF!+#REF!+#REF!+#REF!+#REF!+#REF!+#REF!+#REF!+#REF!+#REF!+#REF!+#REF!+#REF!+#REF!+#REF!+#REF!+#REF!+#REF!+#REF!+#REF!+#REF!","v":{"$error":"#REF!"}},{"$f":"#REF!+#REF!+#REF!+#REF!+#REF!+#REF!+#REF!+#REF!+#REF!+#REF!+#REF!+#REF!+#REF!+#REF!+#REF!+#REF!+#REF!+#REF!+#REF!+#REF!+#REF!+#REF!+#REF!+#REF!+#REF!+#REF!+#REF!+#REF!+#REF!+#REF!+#REF!+#REF!+#REF!","v":{"$error":"#REF!"}},{"$f":"#REF!+#REF!+#REF!+#REF!+#REF!+#REF!+#REF!+#REF!+#REF!+#REF!+#REF!+#REF!+#REF!+#REF!+#REF!+#REF!+#REF!+#REF!+#REF!+#REF!+#REF!+#REF!+#REF!+#REF!+#REF!+#REF!+#REF!+#REF!+#REF!+#REF!+#REF!+#REF!+#REF!","v":{"$error":"#REF!"}},{"$f":"#REF!+#REF!+#REF!+#REF!+#REF!+#REF!+#REF!+#REF!+#REF!+#REF!+#REF!+#REF!+#REF!+#REF!+#REF!+#REF!+#REF!+#REF!+#REF!+#REF!+#REF!+#REF!+#REF!+#REF!+#REF!+#REF!+#REF!+#REF!+#REF!+#REF!+#REF!+#REF!+#REF!","v":{"$error":"#REF!"}},{"$f":"#REF!+#REF!+#REF!+#REF!+#REF!+#REF!+#REF!+#REF!+#REF!+#REF!+#REF!+#REF!+#REF!+#REF!+#REF!+#REF!+#REF!+#REF!+#REF!+#REF!+#REF!+#REF!+#REF!+#REF!+#REF!+#REF!+#REF!+#REF!+#REF!+#REF!+#REF!+#REF!+#REF!","v":{"$error":"#REF!"}},{"$f":"#REF!+#REF!+#REF!+#REF!+#REF!+#REF!+#REF!+#REF!+#REF!+#REF!+#REF!+#REF!+#REF!+#REF!+#REF!+#REF!+#REF!+#REF!+#REF!+#REF!+#REF!+#REF!+#REF!+#REF!+#REF!+#REF!+#REF!+#REF!+#REF!+#REF!+#REF!+#REF!+#REF!","v":{"$error":"#REF!"}},{"$f":"#REF!+#REF!+#REF!+#REF!+#REF!+#REF!+#REF!+#REF!+#REF!+#REF!+#REF!+#REF!+#REF!+#REF!+#REF!+#REF!+#REF!+#REF!+#REF!+#REF!+#REF!+#REF!+#REF!+#REF!+#REF!+#REF!+#REF!+#REF!+#REF!+#REF!+#REF!+#REF!+#REF!","v":{"$error":"#REF!"}},{"$f":"#REF!+#REF!+#REF!+#REF!+#REF!+#REF!+#REF!+#REF!+#REF!+#REF!+#REF!+#REF!+#REF!+#REF!+#REF!+#REF!+#REF!+#REF!+#REF!+#REF!+#REF!+#REF!+#REF!+#REF!+#REF!+#REF!+#REF!+#REF!+#REF!+#REF!+#REF!+#REF!+#REF!","v":{"$error":"#REF!"}},{"$f":"#REF!+#REF!+#REF!+#REF!+#REF!+#REF!+#REF!+#REF!+#REF!+#REF!+#REF!+#REF!+#REF!+#REF!+#REF!+#REF!+#REF!+#REF!+#REF!+#REF!+#REF!+#REF!+#REF!+#REF!+#REF!+#REF!+#REF!+#REF!+#REF!+#REF!+#REF!+#REF!+#REF!","v":{"$error":"#REF!"}},{"$error":"#REF!"},{"$error":"#REF!"},{"$f":"#REF!+#REF!+#REF!+#REF!+#REF!+#REF!+#REF!+#REF!+#REF!+#REF!+#REF!+#REF!+#REF!+#REF!+#REF!+#REF!+#REF!+#REF!+#REF!+#REF!+#REF!+#REF!+#REF!+#REF!+#REF!+#REF!+#REF!+#REF!+#REF!+#REF!+#REF!+#REF!+#REF!","v":{"$error":"#REF!"}},null,{"$error":"#REF!"}]
[10,"Calcasieu",{"$f":"#REF!+#REF!+#REF!+#REF!+#REF!+#REF!+#REF!+#REF!+#REF!+#REF!+#REF!+#REF!+#REF!+#REF!+#REF!+#REF!+#REF!+#REF!+#REF!+#REF!+#REF!+#REF!+#REF!+#REF!+#REF!+#REF!+#REF!+#REF!+#REF!+#REF!+#REF!+#REF!+#REF!","v":{"$error":"#REF!"}},{"$f":"'9_Per Pupil Summary'!H15","v":3409.252884571772},{"$f":"#REF!+#REF!+#REF!+#REF!+#REF!+#REF!+#REF!+#REF!+#REF!+#REF!+#REF!+#REF!+#REF!+#REF!+#REF!+#REF!+#REF!+#REF!+#REF!+#REF!+#REF!+#REF!+#REF!+#REF!+#REF!+#REF!+#REF!+#REF!+#REF!+#REF!+#REF!+#REF!+#REF!","v":{"$error":"#REF!"}},{"$f":"#REF!+#REF!+#REF!+#REF!+#REF!+#REF!+#REF!+#REF!+#REF!+#REF!+#REF!+#REF!+#REF!+#REF!+#REF!+#REF!+#REF!+#REF!+#REF!+#REF!+#REF!+#REF!+#REF!+#REF!+#REF!+#REF!+#REF!+#REF!+#REF!+#REF!+#REF!+#REF!+#REF!","v":{"$error":"#REF!"}},{"$f":"'9_Per Pupil Summary'!I15","v":482.95778367986406},{"$f":"#REF!+#REF!+#REF!+#REF!+#REF!+#REF!+#REF!+#REF!+#REF!+#REF!+#REF!+#REF!+#REF!+#REF!+#REF!+#REF!+#REF!+#REF!+#REF!+#REF!+#REF!+#REF!+#REF!+#REF!+#REF!+#REF!+#REF!+#REF!+#REF!+#REF!+#REF!+#REF!+#REF!","v":{"$error":"#REF!"}},{"$f":"#REF!+#REF!+#REF!+#REF!+#REF!+#REF!+#REF!+#REF!+#REF!+#REF!+#REF!+#REF!+#REF!+#REF!+#REF!+#REF!+#REF!+#REF!+#REF!+#REF!+#REF!+#REF!+#REF!+#REF!+#REF!+#REF!+#REF!+#REF!+#REF!+#REF!+#REF!+#REF!+#REF!","v":{"$error":"#REF!"}},{"$f":"'9_Per Pupil Summary'!J15","v":131.71575918541743},{"$f":"#REF!+#REF!+#REF!+#REF!+#REF!+#REF!+#REF!+#REF!+#REF!+#REF!+#REF!+#REF!+#REF!+#REF!+#REF!+#REF!+#REF!+#REF!+#REF!+#REF!+#REF!+#REF!+#REF!+#REF!+#REF!+#REF!+#REF!+#REF!+#REF!+#REF!+#REF!+#REF!+#REF!","v":{"$error":"#REF!"}},{"$f":"#REF!+#REF!+#REF!+#REF!+#REF!+#REF!+#REF!+#REF!+#REF!+#REF!+#REF!+#REF!+#REF!+#REF!+#REF!+#REF!+#REF!+#REF!+#REF!+#REF!+#REF!+#REF!+#REF!+#REF!+#REF!+#REF!+#REF!+#REF!+#REF!+#REF!+#REF!+#REF!+#REF!","v":{"$error":"#REF!"}},{"$f":"'9_Per Pupil Summary'!K15","v":3292.8939796354366},{"$f":"#REF!+#REF!+#REF!+#REF!+#REF!+#REF!+#REF!+#REF!+#REF!+#REF!+#REF!+#REF!+#REF!+#REF!+#REF!+#REF!+#REF!+#REF!+#REF!+#REF!+#REF!+#REF!+#REF!+#REF!+#REF!+#REF!+#REF!+#REF!+#REF!+#REF!+#REF!+#REF!+#REF!","v":{"$error":"#REF!"}},{"$f":"#REF!+#REF!+#REF!+#REF!+#REF!+#REF!+#REF!+#REF!+#REF!+#REF!+#REF!+#REF!+#REF!+#REF!+#REF!+#REF!+#REF!+#REF!+#REF!+#REF!+#REF!+#REF!+#REF!+#REF!+#REF!+#REF!+#REF!+#REF!+#REF!+#REF!+#REF!+#REF!+#REF!","v":{"$error":"#REF!"}},{"$f":"'9_Per Pupil Summary'!L15","v":1317.1575918541744},{"$f":"#REF!+#REF!+#REF!+#REF!+#REF!+#REF!+#REF!+#REF!+#REF!+#REF!+#REF!+#REF!+#REF!+#REF!+#REF!+#REF!+#REF!+#REF!+#REF!+#REF!+#REF!+#REF!+#REF!+#REF!+#REF!+#REF!+#REF!+#REF!+#REF!+#REF!+#REF!+#REF!+#REF!","v":{"$error":"#REF!"}},{"$f":"#REF!+#REF!+#REF!+#REF!+#REF!+#REF!+#REF!+#REF!+#REF!+#REF!+#REF!+#REF!+#REF!+#REF!+#REF!+#REF!+#REF!+#REF!+#REF!+#REF!+#REF!+#REF!+#REF!+#REF!+#REF!+#REF!+#REF!+#REF!+#REF!+#REF!+#REF!+#REF!+#REF!","v":{"$error":"#REF!"}},{"$f":"#REF!+#REF!","v":{"$error":"#REF!"}},{"$f":"#REF!+#REF!+#REF!+#REF!+#REF!+#REF!+#REF!+#REF!+#REF!+#REF!+#REF!+#REF!+#REF!+#REF!+#REF!+#REF!+#REF!+#REF!+#REF!+#REF!+#REF!+#REF!+#REF!+#REF!+#REF!+#REF!+#REF!+#REF!+#REF!+#REF!+#REF!+#REF!+#REF!","v":{"$error":"#REF!"}},{"$f":"#REF!+#REF!+#REF!+#REF!+#REF!+#REF!+#REF!+#REF!+#REF!+#REF!+#REF!+#REF!+#REF!+#REF!+#REF!+#REF!+#REF!+#REF!+#REF!+#REF!+#REF!+#REF!+#REF!+#REF!+#REF!+#REF!+#REF!+#REF!+#REF!+#REF!+#REF!+#REF!+#REF!","v":{"$error":"#REF!"}},{"$f":"#REF!+#REF!+#REF!+#REF!+#REF!+#REF!+#REF!+#REF!+#REF!+#REF!+#REF!+#REF!+#REF!+#REF!+#REF!+#REF!+#REF!+#REF!+#REF!+#REF!+#REF!+#REF!+#REF!+#REF!+#REF!+#REF!+#REF!+#REF!+#REF!+#REF!+#REF!+#REF!+#REF!","v":{"$error":"#REF!"}},{"$f":"#REF!+#REF!+#REF!+#REF!+#REF!+#REF!+#REF!+#REF!+#REF!+#REF!+#REF!+#REF!+#REF!+#REF!+#REF!+#REF!+#REF!+#REF!+#REF!+#REF!+#REF!+#REF!+#REF!+#REF!+#REF!+#REF!+#REF!+#REF!+#REF!+#REF!+#REF!+#REF!+#REF!","v":{"$error":"#REF!"}},{"$f":"#REF!+#REF!+#REF!+#REF!+#REF!+#REF!+#REF!+#REF!+#REF!+#REF!+#REF!+#REF!+#REF!+#REF!+#REF!+#REF!+#REF!+#REF!+#REF!+#REF!+#REF!+#REF!+#REF!+#REF!+#REF!+#REF!+#REF!+#REF!+#REF!+#REF!+#REF!+#REF!+#REF!","v":{"$error":"#REF!"}},{"$f":"#REF!+#REF!+#REF!+#REF!+#REF!+#REF!+#REF!+#REF!+#REF!+#REF!+#REF!+#REF!+#REF!+#REF!+#REF!+#REF!+#REF!+#REF!+#REF!+#REF!+#REF!+#REF!+#REF!+#REF!+#REF!+#REF!+#REF!+#REF!+#REF!+#REF!+#REF!+#REF!+#REF!","v":{"$error":"#REF!"}},{"$f":"#REF!+#REF!+#REF!+#REF!+#REF!+#REF!+#REF!+#REF!+#REF!+#REF!+#REF!+#REF!+#REF!+#REF!+#REF!+#REF!+#REF!+#REF!+#REF!+#REF!+#REF!+#REF!+#REF!+#REF!+#REF!+#REF!+#REF!+#REF!+#REF!+#REF!+#REF!+#REF!+#REF!","v":{"$error":"#REF!"}},{"$f":"#REF!+#REF!+#REF!+#REF!+#REF!+#REF!+#REF!+#REF!+#REF!+#REF!+#REF!+#REF!+#REF!+#REF!+#REF!+#REF!+#REF!+#REF!+#REF!+#REF!+#REF!+#REF!+#REF!+#REF!+#REF!+#REF!+#REF!+#REF!+#REF!+#REF!+#REF!+#REF!+#REF!","v":{"$error":"#REF!"}},{"$f":"#REF!+#REF!+#REF!+#REF!+#REF!+#REF!+#REF!+#REF!+#REF!+#REF!+#REF!+#REF!+#REF!+#REF!+#REF!+#REF!+#REF!+#REF!+#REF!+#REF!+#REF!+#REF!+#REF!+#REF!+#REF!+#REF!+#REF!+#REF!+#REF!+#REF!+#REF!+#REF!+#REF!","v":{"$error":"#REF!"}},{"$f":"#REF!+#REF!+#REF!+#REF!+#REF!+#REF!+#REF!+#REF!+#REF!+#REF!+#REF!+#REF!+#REF!+#REF!+#REF!+#REF!+#REF!+#REF!+#REF!+#REF!+#REF!+#REF!+#REF!+#REF!+#REF!+#REF!+#REF!+#REF!+#REF!+#REF!+#REF!+#REF!+#REF!","v":{"$error":"#REF!"}},{"$f":"#REF!+#REF!+#REF!+#REF!+#REF!+#REF!+#REF!+#REF!+#REF!+#REF!+#REF!+#REF!+#REF!+#REF!+#REF!+#REF!+#REF!+#REF!+#REF!+#REF!+#REF!+#REF!+#REF!+#REF!+#REF!+#REF!+#REF!+#REF!+#REF!+#REF!+#REF!+#REF!+#REF!","v":{"$error":"#REF!"}},{"$f":"#REF!+#REF!+#REF!+#REF!+#REF!+#REF!+#REF!+#REF!+#REF!+#REF!+#REF!+#REF!+#REF!+#REF!+#REF!+#REF!+#REF!+#REF!+#REF!+#REF!+#REF!+#REF!+#REF!+#REF!+#REF!+#REF!+#REF!+#REF!+#REF!+#REF!+#REF!+#REF!+#REF!","v":{"$error":"#REF!"}},{"$f":"'9_Per Pupil Summary'!N15","v":8578},{"$f":"#REF!+#REF!+#REF!+#REF!+#REF!+#REF!+#REF!+#REF!+#REF!+#REF!+#REF!+#REF!+#REF!+#REF!+#REF!+#REF!+#REF!+#REF!+#REF!+#REF!+#REF!+#REF!+#REF!+#REF!+#REF!+#REF!+#REF!+#REF!+#REF!+#REF!+#REF!+#REF!+#REF!","v":{"$error":"#REF!"}},{"$f":"#REF!+#REF!+#REF!+#REF!+#REF!+#REF!+#REF!+#REF!+#REF!+#REF!+#REF!+#REF!+#REF!+#REF!+#REF!+#REF!+#REF!+#REF!+#REF!+#REF!+#REF!+#REF!+#REF!+#REF!+#REF!+#REF!+#REF!+#REF!+#REF!+#REF!+#REF!+#REF!+#REF!","v":{"$error":"#REF!"}},{"$f":"#REF!+#REF!+#REF!+#REF!+#REF!+#REF!+#REF!+#REF!+#REF!+#REF!+#REF!+#REF!+#REF!+#REF!+#REF!+#REF!+#REF!+#REF!+#REF!+#REF!+#REF!+#REF!+#REF!+#REF!+#REF!+#REF!+#REF!+#REF!+#REF!+#REF!+#REF!+#REF!+#REF!","v":{"$error":"#REF!"}},{"$f":"#REF!+#REF!+#REF!+#REF!+#REF!+#REF!+#REF!+#REF!+#REF!+#REF!+#REF!+#REF!+#REF!+#REF!+#REF!+#REF!+#REF!+#REF!+#REF!+#REF!+#REF!+#REF!+#REF!+#REF!+#REF!+#REF!+#REF!+#REF!+#REF!+#REF!+#REF!+#REF!+#REF!","v":{"$error":"#REF!"}},{"$f":"#REF!+#REF!+#REF!+#REF!+#REF!+#REF!+#REF!+#REF!+#REF!+#REF!+#REF!+#REF!+#REF!+#REF!+#REF!+#REF!+#REF!+#REF!+#REF!+#REF!+#REF!+#REF!+#REF!+#REF!+#REF!+#REF!+#REF!+#REF!+#REF!+#REF!+#REF!+#REF!+#REF!","v":{"$error":"#REF!"}},{"$f":"#REF!+#REF!+#REF!+#REF!+#REF!+#REF!+#REF!+#REF!+#REF!+#REF!+#REF!+#REF!+#REF!+#REF!+#REF!+#REF!+#REF!+#REF!+#REF!+#REF!+#REF!+#REF!+#REF!+#REF!+#REF!+#REF!+#REF!+#REF!+#REF!+#REF!+#REF!+#REF!+#REF!","v":{"$error":"#REF!"}},{"$f":"#REF!+#REF!+#REF!+#REF!+#REF!+#REF!+#REF!+#REF!+#REF!+#REF!+#REF!+#REF!+#REF!+#REF!+#REF!+#REF!+#REF!+#REF!+#REF!+#REF!+#REF!+#REF!+#REF!+#REF!+#REF!+#REF!+#REF!+#REF!+#REF!+#REF!+#REF!+#REF!+#REF!","v":{"$error":"#REF!"}},{"$f":"#REF!+#REF!+#REF!+#REF!+#REF!+#REF!+#REF!+#REF!+#REF!+#REF!+#REF!+#REF!+#REF!+#REF!+#REF!+#REF!+#REF!+#REF!+#REF!+#REF!+#REF!+#REF!+#REF!+#REF!+#REF!+#REF!+#REF!+#REF!+#REF!+#REF!+#REF!+#REF!+#REF!","v":{"$error":"#REF!"}},{"$f":"#REF!+#REF!+#REF!+#REF!+#REF!+#REF!+#REF!+#REF!+#REF!+#REF!+#REF!+#REF!+#REF!+#REF!+#REF!+#REF!+#REF!+#REF!+#REF!+#REF!+#REF!+#REF!+#REF!+#REF!+#REF!+#REF!+#REF!+#REF!+#REF!+#REF!+#REF!+#REF!+#REF!","v":{"$error":"#REF!"}},{"$f":"#REF!+#REF!+#REF!+#REF!+#REF!+#REF!+#REF!+#REF!+#REF!+#REF!+#REF!+#REF!+#REF!+#REF!+#REF!+#REF!+#REF!+#REF!+#REF!+#REF!+#REF!+#REF!+#REF!+#REF!+#REF!+#REF!+#REF!+#REF!+#REF!+#REF!+#REF!+#REF!+#REF!","v":{"$error":"#REF!"}},{"$f":"#REF!+#REF!+#REF!+#REF!+#REF!+#REF!+#REF!+#REF!+#REF!+#REF!+#REF!+#REF!+#REF!+#REF!+#REF!+#REF!+#REF!+#REF!+#REF!+#REF!+#REF!+#REF!+#REF!+#REF!+#REF!+#REF!+#REF!+#REF!+#REF!+#REF!+#REF!+#REF!+#REF!","v":{"$error":"#REF!"}},{"$f":"#REF!+#REF!+#REF!+#REF!+#REF!+#REF!+#REF!+#REF!+#REF!+#REF!+#REF!+#REF!+#REF!+#REF!+#REF!+#REF!+#REF!+#REF!+#REF!+#REF!+#REF!+#REF!+#REF!+#REF!+#REF!+#REF!+#REF!+#REF!+#REF!+#REF!+#REF!+#REF!+#REF!","v":{"$error":"#REF!"}},{"$f":"#REF!+#REF!+#REF!+#REF!+#REF!+#REF!+#REF!+#REF!+#REF!+#REF!+#REF!+#REF!+#REF!+#REF!+#REF!+#REF!+#REF!+#REF!+#REF!+#REF!+#REF!+#REF!+#REF!+#REF!+#REF!+#REF!+#REF!+#REF!+#REF!+#REF!+#REF!+#REF!+#REF!","v":{"$error":"#REF!"}},{"$f":"#REF!+#REF!+#REF!+#REF!+#REF!+#REF!+#REF!+#REF!+#REF!+#REF!+#REF!+#REF!+#REF!+#REF!+#REF!+#REF!+#REF!+#REF!+#REF!+#REF!+#REF!+#REF!+#REF!+#REF!+#REF!+#REF!+#REF!+#REF!+#REF!+#REF!+#REF!+#REF!+#REF!","v":{"$error":"#REF!"}},{"$error":"#REF!"},{"$error":"#REF!"},{"$f":"#REF!+#REF!+#REF!+#REF!+#REF!+#REF!+#REF!+#REF!+#REF!+#REF!+#REF!+#REF!+#REF!+#REF!+#REF!+#REF!+#REF!+#REF!+#REF!+#REF!+#REF!+#REF!+#REF!+#REF!+#REF!+#REF!+#REF!+#REF!+#REF!+#REF!+#REF!+#REF!+#REF!","v":{"$error":"#REF!"}},null,{"$error":"#REF!"}]
[11,"Caldwell",{"$f":"#REF!+#REF!+#REF!+#REF!+#REF!+#REF!+#REF!+#REF!+#REF!+#REF!+#REF!+#REF!+#REF!+#REF!+#REF!+#REF!+#REF!+#REF!+#REF!+#REF!+#REF!+#REF!+#REF!+#REF!+#REF!+#REF!+#REF!+#REF!+#REF!+#REF!+#REF!+#REF!+#REF!","v":{"$error":"#REF!"}},{"$f":"'9_Per Pupil Summary'!H16","v":5824.0828374245102},{"$f":"#REF!+#REF!+#REF!+#REF!+#REF!+#REF!+#REF!+#REF!+#REF!+#REF!+#REF!+#REF!+#REF!+#REF!+#REF!+#REF!+#REF!+#REF!+#REF!+#REF!+#REF!+#REF!+#REF!+#REF!+#REF!+#REF!+#REF!+#REF!+#REF!+#REF!+#REF!+#REF!+#REF!","v":{"$error":"#REF!"}},{"$f":"#REF!+#REF!+#REF!+#REF!+#REF!+#REF!+#REF!+#REF!+#REF!+#REF!+#REF!+#REF!+#REF!+#REF!+#REF!+#REF!+#REF!+#REF!+#REF!+#REF!+#REF!+#REF!+#REF!+#REF!+#REF!+#REF!+#REF!+#REF!+#REF!+#REF!+#REF!+#REF!+#REF!","v":{"$error":"#REF!"}},{"$f":"'9_Per Pupil Summary'!I16","v":731.40810335427136},{"$f":"#REF!+#REF!+#REF!+#REF!+#REF!+#REF!+#REF!+#REF!+#REF!+#REF!+#REF!+#REF!+#REF!+#REF!+#REF!+#REF!+#REF!+#REF!+#REF!+#REF!+#REF!+#REF!+#REF!+#REF!+#REF!+#REF!+#REF!+#REF!+#REF!+#REF!+#REF!+#REF!+#REF!","v":{"$error":"#REF!"}},{"$f":"#REF!+#REF!+#REF!+#REF!+#REF!+#REF!+#REF!+#REF!+#REF!+#REF!+#REF!+#REF!+#REF!+#REF!+#REF!+#REF!+#REF!+#REF!+#REF!+#REF!+#REF!+#REF!+#REF!+#REF!+#REF!+#REF!+#REF!+#REF!+#REF!+#REF!+#REF!+#REF!+#REF!","v":{"$error":"#REF!"}},{"$f":"'9_Per Pupil Summary'!J16","v":199.47493727843764},{"$f":"#REF!+#REF!+#REF!+#REF!+#REF!+#REF!+#REF!+#REF!+#REF!+#REF!+#REF!+#REF!+#REF!+#REF!+#REF!+#REF!+#REF!+#REF!+#REF!+#REF!+#REF!+#REF!+#REF!+#REF!+#REF!+#REF!+#REF!+#REF!+#REF!+#REF!+#REF!+#REF!+#REF!","v":{"$error":"#REF!"}},{"$f":"#REF!+#REF!+#REF!+#REF!+#REF!+#REF!+#REF!+#REF!+#REF!+#REF!+#REF!+#REF!+#REF!+#REF!+#REF!+#REF!+#REF!+#REF!+#REF!+#REF!+#REF!+#REF!+#REF!+#REF!+#REF!+#REF!+#REF!+#REF!+#REF!+#REF!+#REF!+#REF!+#REF!","v":{"$error":"#REF!"}},{"$f":"'9_Per Pupil Summary'!K16","v":4986.8734319609412},{"$f":"#REF!+#REF!+#REF!+#REF!+#REF!+#REF!+#REF!+#REF!+#REF!+#REF!+#REF!+#REF!+#REF!+#REF!+#REF!+#REF!+#REF!+#REF!+#REF!+#REF!+#REF!+#REF!+#REF!+#REF!+#REF!+#REF!+#REF!+#REF!+#REF!+#REF!+#REF!+#REF!+#REF!","v":{"$error":"#REF!"}},{"$f":"#REF!+#REF!+#REF!+#REF!+#REF!+#REF!+#REF!+#REF!+#REF!+#REF!+#REF!+#REF!+#REF!+#REF!+#REF!+#REF!+#REF!+#REF!+#REF!+#REF!+#REF!+#REF!+#REF!+#REF!+#REF!+#REF!+#REF!+#REF!+#REF!+#REF!+#REF!+#REF!+#REF!","v":{"$error":"#REF!"}},{"$f":"'9_Per Pupil Summary'!L16","v":1994.7493727843764},{"$f":"#REF!+#REF!+#REF!+#REF!+#REF!+#REF!+#REF!+#REF!+#REF!+#REF!+#REF!+#REF!+#REF!+#REF!+#REF!+#REF!+#REF!+#REF!+#REF!+#REF!+#REF!+#REF!+#REF!+#REF!+#REF!+#REF!+#REF!+#REF!+#REF!+#REF!+#REF!+#REF!+#REF!","v":{"$error":"#REF!"}},{"$f":"#REF!+#REF!+#REF!+#REF!+#REF!+#REF!+#REF!+#REF!+#REF!+#REF!+#REF!+#REF!+#REF!+#REF!+#REF!+#REF!+#REF!+#REF!+#REF!+#REF!+#REF!+#REF!+#REF!+#REF!+#REF!+#REF!+#REF!+#REF!+#REF!+#REF!+#REF!+#REF!+#REF!","v":{"$error":"#REF!"}},{"$f":"#REF!+#REF!","v":{"$error":"#REF!"}},{"$f":"#REF!+#REF!+#REF!+#REF!+#REF!+#REF!+#REF!+#REF!+#REF!+#REF!+#REF!+#REF!+#REF!+#REF!+#REF!+#REF!+#REF!+#REF!+#REF!+#REF!+#REF!+#REF!+#REF!+#REF!+#REF!+#REF!+#REF!+#REF!+#REF!+#REF!+#REF!+#REF!+#REF!","v":{"$error":"#REF!"}},{"$f":"#REF!+#REF!+#REF!+#REF!+#REF!+#REF!+#REF!+#REF!+#REF!+#REF!+#REF!+#REF!+#REF!+#REF!+#REF!+#REF!+#REF!+#REF!+#REF!+#REF!+#REF!+#REF!+#REF!+#REF!+#REF!+#REF!+#REF!+#REF!+#REF!+#REF!+#REF!+#REF!+#REF!","v":{"$error":"#REF!"}},{"$f":"#REF!+#REF!+#REF!+#REF!+#REF!+#REF!+#REF!+#REF!+#REF!+#REF!+#REF!+#REF!+#REF!+#REF!+#REF!+#REF!+#REF!+#REF!+#REF!+#REF!+#REF!+#REF!+#REF!+#REF!+#REF!+#REF!+#REF!+#REF!+#REF!+#REF!+#REF!+#REF!+#REF!","v":{"$error":"#REF!"}},{"$f":"#REF!+#REF!+#REF!+#REF!+#REF!+#REF!+#REF!+#REF!+#REF!+#REF!+#REF!+#REF!+#REF!+#REF!+#REF!+#REF!+#REF!+#REF!+#REF!+#REF!+#REF!+#REF!+#REF!+#REF!+#REF!+#REF!+#REF!+#REF!+#REF!+#REF!+#REF!+#REF!+#REF!","v":{"$error":"#REF!"}},{"$f":"#REF!+#REF!+#REF!+#REF!+#REF!+#REF!+#REF!+#REF!+#REF!+#REF!+#REF!+#REF!+#REF!+#REF!+#REF!+#REF!+#REF!+#REF!+#REF!+#REF!+#REF!+#REF!+#REF!+#REF!+#REF!+#REF!+#REF!+#REF!+#REF!+#REF!+#REF!+#REF!+#REF!","v":{"$error":"#REF!"}},{"$f":"#REF!+#REF!+#REF!+#REF!+#REF!+#REF!+#REF!+#REF!+#REF!+#REF!+#REF!+#REF!+#REF!+#REF!+#REF!+#REF!+#REF!+#REF!+#REF!+#REF!+#REF!+#REF!+#REF!+#REF!+#REF!+#REF!+#REF!+#REF!+#REF!+#REF!+#REF!+#REF!+#REF!","v":{"$error":"#REF!"}},{"$f":"#REF!+#REF!+#REF!+#REF!+#REF!+#REF!+#REF!+#REF!+#REF!+#REF!+#REF!+#REF!+#REF!+#REF!+#REF!+#REF!+#REF!+#REF!+#REF!+#REF!+#REF!+#REF!+#REF!+#REF!+#REF!+#REF!+#REF!+#REF!+#REF!+#REF!+#REF!+#REF!+#REF!","v":{"$error":"#REF!"}},{"$f":"#REF!+#REF!+#REF!+#REF!+#REF!+#REF!+#REF!+#REF!+#REF!+#REF!+#REF!+#REF!+#REF!+#REF!+#REF!+#REF!+#REF!+#REF!+#REF!+#REF!+#REF!+#REF!+#REF!+#REF!+#REF!+#REF!+#REF!+#REF!+#REF!+#REF!+#REF!+#REF!+#REF!","v":{"$error":"#REF!"}},{"$f":"#REF!+#REF!+#REF!+#REF!+#REF!+#REF!+#REF!+#REF!+#REF!+#REF!+#REF!+#REF!+#REF!+#REF!+#REF!+#REF!+#REF!+#REF!+#REF!+#REF!+#REF!+#REF!+#REF!+#REF!+#REF!+#REF!+#REF!+#REF!+#REF!+#REF!+#REF!+#REF!+#REF!","v":{"$error":"#REF!"}},{"$f":"#REF!+#REF!+#REF!+#REF!+#REF!+#REF!+#REF!+#REF!+#REF!+#REF!+#REF!+#REF!+#REF!+#REF!+#REF!+#REF!+#REF!+#REF!+#REF!+#REF!+#REF!+#REF!+#REF!+#REF!+#REF!+#REF!+#REF!+#REF!+#REF!+#REF!+#REF!+#REF!+#REF!","v":{"$error":"#REF!"}},{"$f":"#REF!+#REF!+#REF!+#REF!+#REF!+#REF!+#REF!+#REF!+#REF!+#REF!+#REF!+#REF!+#REF!+#REF!+#REF!+#REF!+#REF!+#REF!+#REF!+#REF!+#REF!+#REF!+#REF!+#REF!+#REF!+#REF!+#REF!+#REF!+#REF!+#REF!+#REF!+#REF!+#REF!","v":{"$error":"#REF!"}},{"$f":"#REF!+#REF!+#REF!+#REF!+#REF!+#REF!+#REF!+#REF!+#REF!+#REF!+#REF!+#REF!+#REF!+#REF!+#REF!+#REF!+#REF!+#REF!+#REF!+#REF!+#REF!+#REF!+#REF!+#REF!+#REF!+#REF!+#REF!+#REF!+#REF!+#REF!+#REF!+#REF!+#REF!","v":{"$error":"#REF!"}},{"$f":"'9_Per Pupil Summary'!N16","v":4480},{"$f":"#REF!+#REF!+#REF!+#REF!+#REF!+#REF!+#REF!+#REF!+#REF!+#REF!+#REF!+#REF!+#REF!+#REF!+#REF!+#REF!+#REF!+#REF!+#REF!+#REF!+#REF!+#REF!+#REF!+#REF!+#REF!+#REF!+#REF!+#REF!+#REF!+#REF!+#REF!+#REF!+#REF!","v":{"$error":"#REF!"}},{"$f":"#REF!+#REF!+#REF!+#REF!+#REF!+#REF!+#REF!+#REF!+#REF!+#REF!+#REF!+#REF!+#REF!+#REF!+#REF!+#REF!+#REF!+#REF!+#REF!+#REF!+#REF!+#REF!+#REF!+#REF!+#REF!+#REF!+#REF!+#REF!+#REF!+#REF!+#REF!+#REF!+#REF!","v":{"$error":"#REF!"}},{"$f":"#REF!+#REF!+#REF!+#REF!+#REF!+#REF!+#REF!+#REF!+#REF!+#REF!+#REF!+#REF!+#REF!+#REF!+#REF!+#REF!+#REF!+#REF!+#REF!+#REF!+#REF!+#REF!+#REF!+#REF!+#REF!+#REF!+#REF!+#REF!+#REF!+#REF!+#REF!+#REF!+#REF!","v":{"$error":"#REF!"}},{"$f":"#REF!+#REF!+#REF!+#REF!+#REF!+#REF!+#REF!+#REF!+#REF!+#REF!+#REF!+#REF!+#REF!+#REF!+#REF!+#REF!+#REF!+#REF!+#REF!+#REF!+#REF!+#REF!+#REF!+#REF!+#REF!+#REF!+#REF!+#REF!+#REF!+#REF!+#REF!+#REF!+#REF!","v":{"$error":"#REF!"}},{"$f":"#REF!+#REF!+#REF!+#REF!+#REF!+#REF!+#REF!+#REF!+#REF!+#REF!+#REF!+#REF!+#REF!+#REF!+#REF!+#REF!+#REF!+#REF!+#REF!+#REF!+#REF!+#REF!+#REF!+#REF!+#REF!+#REF!+#REF!+#REF!+#REF!+#REF!+#REF!+#REF!+#REF!","v":{"$error":"#REF!"}},{"$f":"#REF!+#REF!+#REF!+#REF!+#REF!+#REF!+#REF!+#REF!+#REF!+#REF!+#REF!+#REF!+#REF!+#REF!+#REF!+#REF!+#REF!+#REF!+#REF!+#REF!+#REF!+#REF!+#REF!+#REF!+#REF!+#REF!+#REF!+#REF!+#REF!+#REF!+#REF!+#REF!+#REF!","v":{"$error":"#REF!"}},{"$f":"#REF!+#REF!+#REF!+#REF!+#REF!+#REF!+#REF!+#REF!+#REF!+#REF!+#REF!+#REF!+#REF!+#REF!+#REF!+#REF!+#REF!+#REF!+#REF!+#REF!+#REF!+#REF!+#REF!+#REF!+#REF!+#REF!+#REF!+#REF!+#REF!+#REF!+#REF!+#REF!+#REF!","v":{"$error":"#REF!"}},{"$f":"#REF!+#REF!+#REF!+#REF!+#REF!+#REF!+#REF!+#REF!+#REF!+#REF!+#REF!+#REF!+#REF!+#REF!+#REF!+#REF!+#REF!+#REF!+#REF!+#REF!+#REF!+#REF!+#REF!+#REF!+#REF!+#REF!+#REF!+#REF!+#REF!+#REF!+#REF!+#REF!+#REF!","v":{"$error":"#REF!"}},{"$f":"#REF!+#REF!+#REF!+#REF!+#REF!+#REF!+#REF!+#REF!+#REF!+#REF!+#REF!+#REF!+#REF!+#REF!+#REF!+#REF!+#REF!+#REF!+#REF!+#REF!+#REF!+#REF!+#REF!+#REF!+#REF!+#REF!+#REF!+#REF!+#REF!+#REF!+#REF!+#REF!+#REF!","v":{"$error":"#REF!"}},{"$f":"#REF!+#REF!+#REF!+#REF!+#REF!+#REF!+#REF!+#REF!+#REF!+#REF!+#REF!+#REF!+#REF!+#REF!+#REF!+#REF!+#REF!+#REF!+#REF!+#REF!+#REF!+#REF!+#REF!+#REF!+#REF!+#REF!+#REF!+#REF!+#REF!+#REF!+#REF!+#REF!+#REF!","v":{"$error":"#REF!"}},{"$f":"#REF!+#REF!+#REF!+#REF!+#REF!+#REF!+#REF!+#REF!+#REF!+#REF!+#REF!+#REF!+#REF!+#REF!+#REF!+#REF!+#REF!+#REF!+#REF!+#REF!+#REF!+#REF!+#REF!+#REF!+#REF!+#REF!+#REF!+#REF!+#REF!+#REF!+#REF!+#REF!+#REF!","v":{"$error":"#REF!"}},{"$f":"#REF!+#REF!+#REF!+#REF!+#REF!+#REF!+#REF!+#REF!+#REF!+#REF!+#REF!+#REF!+#REF!+#REF!+#REF!+#REF!+#REF!+#REF!+#REF!+#REF!+#REF!+#REF!+#REF!+#REF!+#REF!+#REF!+#REF!+#REF!+#REF!+#REF!+#REF!+#REF!+#REF!","v":{"$error":"#REF!"}},{"$f":"#REF!+#REF!+#REF!+#REF!+#REF!+#REF!+#REF!+#REF!+#REF!+#REF!+#REF!+#REF!+#REF!+#REF!+#REF!+#REF!+#REF!+#REF!+#REF!+#REF!+#REF!+#REF!+#REF!+#REF!+#REF!+#REF!+#REF!+#REF!+#REF!+#REF!+#REF!+#REF!+#REF!","v":{"$error":"#REF!"}},{"$f":"#REF!+#REF!+#REF!+#REF!+#REF!+#REF!+#REF!+#REF!+#REF!+#REF!+#REF!+#REF!+#REF!+#REF!+#REF!+#REF!+#REF!+#REF!+#REF!+#REF!+#REF!+#REF!+#REF!+#REF!+#REF!+#REF!+#REF!+#REF!+#REF!+#REF!+#REF!+#REF!+#REF!","v":{"$error":"#REF!"}},{"$error":"#REF!"},{"$error":"#REF!"},{"$f":"#REF!+#REF!+#REF!+#REF!+#REF!+#REF!+#REF!+#REF!+#REF!+#REF!+#REF!+#REF!+#REF!+#REF!+#REF!+#REF!+#REF!+#REF!+#REF!+#REF!+#REF!+#REF!+#REF!+#REF!+#REF!+#REF!+#REF!+#REF!+#REF!+#REF!+#REF!+#REF!+#REF!","v":{"$error":"#REF!"}},null,{"$error":"#REF!"}]
[12,"Cameron",{"$f":"#REF!+#REF!+#REF!+#REF!+#REF!+#REF!+#REF!+#REF!+#REF!+#REF!+#REF!+#REF!+#REF!+#REF!+#REF!+#REF!+#REF!+#REF!+#REF!+#REF!+#REF!+#REF!+#REF!+#REF!+#REF!+#REF!+#REF!+#REF!+#REF!+#REF!+#REF!+#REF!+#REF!","v":{"$error":"#REF!"}},{"$f":"'9_Per Pupil Summary'!H17","v":2240.0103484741408},{"$f":"#REF!+#REF!+#REF!+#REF!+#REF!+#REF!+#REF!+#REF!+#REF!+#REF!+#REF!+#REF!+#REF!+#REF!+#REF!+#REF!+#REF!+#REF!+#REF!+#REF!+#REF!+#REF!+#REF!+#REF!+#REF!+#REF!+#REF!+#REF!+#REF!+#REF!+#REF!+#REF!+#REF!","v":{"$error":"#REF!"}},{"$f":"#REF!+#REF!+#REF!+#REF!+#REF!+#REF!+#REF!+#REF!+#REF!+#REF!+#REF!+#REF!+#REF!+#REF!+#REF!+#REF!+#REF!+#REF!+#REF!+#REF!+#REF!+#REF!+#REF!+#REF!+#REF!+#REF!+#REF!+#REF!+#REF!+#REF!+#REF!+#REF!+#REF!","v":{"$error":"#REF!"}},{"$f":"'9_Per Pupil Summary'!I17","v":220.82493055425402},{"$f":"#REF!+#REF!+#REF!+#REF!+#REF!+#REF!+#REF!+#REF!+#REF!+#REF!+#REF!+#REF!+#REF!+#REF!+#REF!+#REF!+#REF!+#REF!+#REF!+#REF!+#REF!+#REF!+#REF!+#REF!+#REF!+#REF!+#REF!+#REF!+#REF!+#REF!+#REF!+#REF!+#REF!","v":{"$error":"#REF!"}},{"$f":"#REF!+#REF!+#REF!+#REF!+#REF!+#REF!+#REF!+#REF!+#REF!+#REF!+#REF!+#REF!+#REF!+#REF!+#REF!+#REF!+#REF!+#REF!+#REF!+#REF!+#REF!+#REF!+#REF!+#REF!+#REF!+#REF!+#REF!+#REF!+#REF!+#REF!+#REF!+#REF!+#REF!","v":{"$error":"#REF!"}},{"$f":"'9_Per Pupil Summary'!J17","v":60.224981060251089},{"$f":"#REF!+#REF!+#REF!+#REF!+#REF!+#REF!+#REF!+#REF!+#REF!+#REF!+#REF!+#REF!+#REF!+#REF!+#REF!+#REF!+#REF!+#REF!+#REF!+#REF!+#REF!+#REF!+#REF!+#REF!+#REF!+#REF!+#REF!+#REF!+#REF!+#REF!+#REF!+#REF!+#REF!","v":{"$error":"#REF!"}},{"$f":"#REF!+#REF!+#REF!+#REF!+#REF!+#REF!+#REF!+#REF!+#REF!+#REF!+#REF!+#REF!+#REF!+#REF!+#REF!+#REF!+#REF!+#REF!+#REF!+#REF!+#REF!+#REF!+#REF!+#REF!+#REF!+#REF!+#REF!+#REF!+#REF!+#REF!+#REF!+#REF!+#REF!","v":{"$error":"#REF!"}},{"$f":"'9_Per Pupil Summary'!K17","v":1505.6245265062773},{"$f":"#REF!+#REF!+#REF!+#REF!+#REF!+#REF!+#REF!+#REF!+#REF!+#REF!+#REF!+#REF!+#REF!+#REF!+#REF!+#REF!+#REF!+#REF!+#REF!+#REF!+#REF!+#REF!+#REF!+#REF!+#REF!+#REF!+#REF!+#REF!+#REF!+#REF!+#REF!+#REF!+#REF!","v":{"$error":"#REF!"}},{"$f":"#REF!+#REF!+#REF!+#REF!+#REF!+#REF!+#REF!+#REF!+#REF!+#REF!+#REF!+#REF!+#REF!+#REF!+#REF!+#REF!+#REF!+#REF!+#REF!+#REF!+#REF!+#REF!+#REF!+#REF!+#REF!+#REF!+#REF!+#REF!+#REF!+#REF!+#REF!+#REF!+#REF!","v":{"$error":"#REF!"}},{"$f":"'9_Per Pupil Summary'!L17","v":602.24981060251093},{"$f":"#REF!+#REF!+#REF!+#REF!+#REF!+#REF!+#REF!+#REF!+#REF!+#REF!+#REF!+#REF!+#REF!+#REF!+#REF!+#REF!+#REF!+#REF!+#REF!+#REF!+#REF!+#REF!+#REF!+#REF!+#REF!+#REF!+#REF!+#REF!+#REF!+#REF!+#REF!+#REF!+#REF!","v":{"$error":"#REF!"}},{"$f":"#REF!+#REF!+#REF!+#REF!+#REF!+#REF!+#REF!+#REF!+#REF!+#REF!+#REF!+#REF!+#REF!+#REF!+#REF!+#REF!+#REF!+#REF!+#REF!+#REF!+#REF!+#REF!+#REF!+#REF!+#REF!+#REF!+#REF!+#REF!+#REF!+#REF!+#REF!+#REF!+#REF!","v":{"$error":"#REF!"}},{"$f":"#REF!+#REF!","v":{"$error":"#REF!"}},{"$f":"#REF!+#REF!+#REF!+#REF!+#REF!+#REF!+#REF!+#REF!+#REF!+#REF!+#REF!+#REF!+#REF!+#REF!+#REF!+#REF!+#REF!+#REF!+#REF!+#REF!+#REF!+#REF!+#REF!+#REF!+#REF!+#REF!+#REF!+#REF!+#REF!+#REF!+#REF!+#REF!+#REF!","v":{"$error":"#REF!"}},{"$f":"#REF!+#REF!+#REF!+#REF!+#REF!+#REF!+#REF!+#REF!+#REF!+#REF!+#REF!+#REF!+#REF!+#REF!+#REF!+#REF!+#REF!+#REF!+#REF!+#REF!+#REF!+#REF!+#REF!+#REF!+#REF!+#REF!+#REF!+#REF!+#REF!+#REF!+#REF!+#REF!+#REF!","v":{"$error":"#REF!"}},{"$f":"#REF!+#REF!+#REF!+#REF!+#REF!+#REF!+#REF!+#REF!+#REF!+#REF!+#REF!+#REF!+#REF!+#REF!+#REF!+#REF!+#REF!+#REF!+#REF!+#REF!+#REF!+#REF!+#REF!+#REF!+#REF!+#REF!+#REF!+#REF!+#REF!+#REF!+#REF!+#REF!+#REF!","v":{"$error":"#REF!"}},{"$f":"#REF!+#REF!+#REF!+#REF!+#REF!+#REF!+#REF!+#REF!+#REF!+#REF!+#REF!+#REF!+#REF!+#REF!+#REF!+#REF!+#REF!+#REF!+#REF!+#REF!+#REF!+#REF!+#REF!+#REF!+#REF!+#REF!+#REF!+#REF!+#REF!+#REF!+#REF!+#REF!+#REF!","v":{"$error":"#REF!"}},{"$f":"#REF!+#REF!+#REF!+#REF!+#REF!+#REF!+#REF!+#REF!+#REF!+#REF!+#REF!+#REF!+#REF!+#REF!+#REF!+#REF!+#REF!+#REF!+#REF!+#REF!+#REF!+#REF!+#REF!+#REF!+#REF!+#REF!+#REF!+#REF!+#REF!+#REF!+#REF!+#REF!+#REF!","v":{"$error":"#REF!"}},{"$f":"#REF!+#REF!+#REF!+#REF!+#REF!+#REF!+#REF!+#REF!+#REF!+#REF!+#REF!+#REF!+#REF!+#REF!+#REF!+#REF!+#REF!+#REF!+#REF!+#REF!+#REF!+#REF!+#REF!+#REF!+#REF!+#REF!+#REF!+#REF!+#REF!+#REF!+#REF!+#REF!+#REF!","v":{"$error":"#REF!"}},{"$f":"#REF!+#REF!+#REF!+#REF!+#REF!+#REF!+#REF!+#REF!+#REF!+#REF!+#REF!+#REF!+#REF!+#REF!+#REF!+#REF!+#REF!+#REF!+#REF!+#REF!+#REF!+#REF!+#REF!+#REF!+#REF!+#REF!+#REF!+#REF!+#REF!+#REF!+#REF!+#REF!+#REF!","v":{"$error":"#REF!"}},{"$f":"#REF!+#REF!+#REF!+#REF!+#REF!+#REF!+#REF!+#REF!+#REF!+#REF!+#REF!+#REF!+#REF!+#REF!+#REF!+#REF!+#REF!+#REF!+#REF!+#REF!+#REF!+#REF!+#REF!+#REF!+#REF!+#REF!+#REF!+#REF!+#REF!+#REF!+#REF!+#REF!+#REF!","v":{"$error":"#REF!"}},{"$f":"#REF!+#REF!+#REF!+#REF!+#REF!+#REF!+#REF!+#REF!+#REF!+#REF!+#REF!+#REF!+#REF!+#REF!+#REF!+#REF!+#REF!+#REF!+#REF!+#REF!+#REF!+#REF!+#REF!+#REF!+#REF!+#REF!+#REF!+#REF!+#REF!+#REF!+#REF!+#REF!+#REF!","v":{"$error":"#REF!"}},{"$f":"#REF!+#REF!+#REF!+#REF!+#REF!+#REF!+#REF!+#REF!+#REF!+#REF!+#REF!+#REF!+#REF!+#REF!+#REF!+#REF!+#REF!+#REF!+#REF!+#REF!+#REF!+#REF!+#REF!+#REF!+#REF!+#REF!+#REF!+#REF!+#REF!+#REF!+#REF!+#REF!+#REF!","v":{"$error":"#REF!"}},{"$f":"#REF!+#REF!+#REF!+#REF!+#REF!+#REF!+#REF!+#REF!+#REF!+#REF!+#REF!+#REF!+#REF!+#REF!+#REF!+#REF!+#REF!+#REF!+#REF!+#REF!+#REF!+#REF!+#REF!+#REF!+#REF!+#REF!+#REF!+#REF!+#REF!+#REF!+#REF!+#REF!+#REF!","v":{"$error":"#REF!"}},{"$f":"#REF!+#REF!+#REF!+#REF!+#REF!+#REF!+#REF!+#REF!+#REF!+#REF!+#REF!+#REF!+#REF!+#REF!+#REF!+#REF!+#REF!+#REF!+#REF!+#REF!+#REF!+#REF!+#REF!+#REF!+#REF!+#REF!+#REF!+#REF!+#REF!+#REF!+#REF!+#REF!+#REF!","v":{"$error":"#REF!"}},{"$f":"'9_Per Pupil Summary'!N17","v":17065},{"$f":"#REF!+#REF!+#REF!+#REF!+#REF!+#REF!+#REF!+#REF!+#REF!+#REF!+#REF!+#REF!+#REF!+#REF!+#REF!+#REF!+#REF!+#REF!+#REF!+#REF!+#REF!+#REF!+#REF!+#REF!+#REF!+#REF!+#REF!+#REF!+#REF!+#REF!+#REF!+#REF!+#REF!","v":{"$error":"#REF!"}},{"$f":"#REF!+#REF!+#REF!+#REF!+#REF!+#REF!+#REF!+#REF!+#REF!+#REF!+#REF!+#REF!+#REF!+#REF!+#REF!+#REF!+#REF!+#REF!+#REF!+#REF!+#REF!+#REF!+#REF!+#REF!+#REF!+#REF!+#REF!+#REF!+#REF!+#REF!+#REF!+#REF!+#REF!","v":{"$error":"#REF!"}},{"$f":"#REF!+#REF!+#REF!+#REF!+#REF!+#REF!+#REF!+#REF!+#REF!+#REF!+#REF!+#REF!+#REF!+#REF!+#REF!+#REF!+#REF!+#REF!+#REF!+#REF!+#REF!+#REF!+#REF!+#REF!+#REF!+#REF!+#REF!+#REF!+#REF!+#REF!+#REF!+#REF!+#REF!","v":{"$error":"#REF!"}},{"$f":"#REF!+#REF!+#REF!+#REF!+#REF!+#REF!+#REF!+#REF!+#REF!+#REF!+#REF!+#REF!+#REF!+#REF!+#REF!+#REF!+#REF!+#REF!+#REF!+#REF!+#REF!+#REF!+#REF!+#REF!+#REF!+#REF!+#REF!+#REF!+#REF!+#REF!+#REF!+#REF!+#REF!","v":{"$error":"#REF!"}},{"$f":"#REF!+#REF!+#REF!+#REF!+#REF!+#REF!+#REF!+#REF!+#REF!+#REF!+#REF!+#REF!+#REF!+#REF!+#REF!+#REF!+#REF!+#REF!+#REF!+#REF!+#REF!+#REF!+#REF!+#REF!+#REF!+#REF!+#REF!+#REF!+#REF!+#REF!+#REF!+#REF!+#REF!","v":{"$error":"#REF!"}},{"$f":"#REF!+#REF!+#REF!+#REF!+#REF!+#REF!+#REF!+#REF!+#REF!+#REF!+#REF!+#REF!+#REF!+#REF!+#REF!+#REF!+#REF!+#REF!+#REF!+#REF!+#REF!+#REF!+#REF!+#REF!+#REF!+#REF!+#REF!+#REF!+#REF!+#REF!+#REF!+#REF!+#REF!","v":{"$error":"#REF!"}},{"$f":"#REF!+#REF!+#REF!+#REF!+#REF!+#REF!+#REF!+#REF!+#REF!+#REF!+#REF!+#REF!+#REF!+#REF!+#REF!+#REF!+#REF!+#REF!+#REF!+#REF!+#REF!+#REF!+#REF!+#REF!+#REF!+#REF!+#REF!+#REF!+#REF!+#REF!+#REF!+#REF!+#REF!","v":{"$error":"#REF!"}},{"$f":"#REF!+#REF!+#REF!+#REF!+#REF!+#REF!+#REF!+#REF!+#REF!+#REF!+#REF!+#REF!+#REF!+#REF!+#REF!+#REF!+#REF!+#REF!+#REF!+#REF!+#REF!+#REF!+#REF!+#REF!+#REF!+#REF!+#REF!+#REF!+#REF!+#REF!+#REF!+#REF!+#REF!","v":{"$error":"#REF!"}},{"$f":"#REF!+#REF!+#REF!+#REF!+#REF!+#REF!+#REF!+#REF!+#REF!+#REF!+#REF!+#REF!+#REF!+#REF!+#REF!+#REF!+#REF!+#REF!+#REF!+#REF!+#REF!+#REF!+#REF!+#REF!+#REF!+#REF!+#REF!+#REF!+#REF!+#REF!+#REF!+#REF!+#REF!","v":{"$error":"#REF!"}},{"$f":"#REF!+#REF!+#REF!+#REF!+#REF!+#REF!+#REF!+#REF!+#REF!+#REF!+#REF!+#REF!+#REF!+#REF!+#REF!+#REF!+#REF!+#REF!+#REF!+#REF!+#REF!+#REF!+#REF!+#REF!+#REF!+#REF!+#REF!+#REF!+#REF!+#REF!+#REF!+#REF!+#REF!","v":{"$error":"#REF!"}},{"$f":"#REF!+#REF!+#REF!+#REF!+#REF!+#REF!+#REF!+#REF!+#REF!+#REF!+#REF!+#REF!+#REF!+#REF!+#REF!+#REF!+#REF!+#REF!+#REF!+#REF!+#REF!+#REF!+#REF!+#REF!+#REF!+#REF!+#REF!+#REF!+#REF!+#REF!+#REF!+#REF!+#REF!","v":{"$error":"#REF!"}},{"$f":"#REF!+#REF!+#REF!+#REF!+#REF!+#REF!+#REF!+#REF!+#REF!+#REF!+#REF!+#REF!+#REF!+#REF!+#REF!+#REF!+#REF!+#REF!+#REF!+#REF!+#REF!+#REF!+#REF!+#REF!+#REF!+#REF!+#REF!+#REF!+#REF!+#REF!+#REF!+#REF!+#REF!","v":{"$error":"#REF!"}},{"$f":"#REF!+#REF!+#REF!+#REF!+#REF!+#REF!+#REF!+#REF!+#REF!+#REF!+#REF!+#REF!+#REF!+#REF!+#REF!+#REF!+#REF!+#REF!+#REF!+#REF!+#REF!+#REF!+#REF!+#REF!+#REF!+#REF!+#REF!+#REF!+#REF!+#REF!+#REF!+#REF!+#REF!","v":{"$error":"#REF!"}},{"$f":"#REF!+#REF!+#REF!+#REF!+#REF!+#REF!+#REF!+#REF!+#REF!+#REF!+#REF!+#REF!+#REF!+#REF!+#REF!+#REF!+#REF!+#REF!+#REF!+#REF!+#REF!+#REF!+#REF!+#REF!+#REF!+#REF!+#REF!+#REF!+#REF!+#REF!+#REF!+#REF!+#REF!","v":{"$error":"#REF!"}},{"$error":"#REF!"},{"$error":"#REF!"},{"$f":"#REF!+#REF!+#REF!+#REF!+#REF!+#REF!+#REF!+#REF!+#REF!+#REF!+#REF!+#REF!+#REF!+#REF!+#REF!+#REF!+#REF!+#REF!+#REF!+#REF!+#REF!+#REF!+#REF!+#REF!+#REF!+#REF!+#REF!+#REF!+#REF!+#REF!+#REF!+#REF!+#REF!","v":{"$error":"#REF!"}},null,{"$error":"#REF!"}]
[13,"Catahoula",{"$f":"#REF!+#REF!+#REF!+#REF!+#REF!+#REF!+#REF!+#REF!+#REF!+#REF!+#REF!+#REF!+#REF!+#REF!+#REF!+#REF!+#REF!+#REF!+#REF!+#REF!+#REF!+#REF!+#REF!+#REF!+#REF!+#REF!+#REF!+#REF!+#REF!+#REF!+#REF!+#REF!+#REF!","v":{"$error":"#REF!"}},{"$f":"'9_Per Pupil Summary'!H18","v":5524.583906352319},{"$f":"#REF!+#REF!+#REF!+#REF!+#REF!+#REF!+#REF!+#REF!+#REF!+#REF!+#REF!+#REF!+#REF!+#REF!+#REF!+#REF!+#REF!+#REF!+#REF!+#REF!+#REF!+#REF!+#REF!+#REF!+#REF!+#REF!+#REF!+#REF!+#REF!+#REF!+#REF!+#REF!+#REF!","v":{"$error":"#REF!"}},{"$f":"#REF!+#REF!+#REF!+#REF!+#REF!+#REF!+#REF!+#REF!+#REF!+#REF!+#REF!+#REF!+#REF!+#REF!+#REF!+#REF!+#REF!+#REF!+#REF!+#REF!+#REF!+#REF!+#REF!+#REF!+#REF!+#REF!+#REF!+#REF!+#REF!+#REF!+#REF!+#REF!+#REF!","v":{"$error":"#REF!"}},{"$f":"'9_Per Pupil Summary'!I18","v":703.6049010641766},{"$f":"#REF!+#REF!+#REF!+#REF!+#REF!+#REF!+#REF!+#REF!+#REF!+#REF!+#REF!+#REF!+#REF!+#REF!+#REF!+#REF!+#REF!+#REF!+#REF!+#REF!+#REF!+#REF!+#REF!+#REF!+#REF!+#REF!+#REF!+#REF!+#REF!+#REF!+#REF!+#REF!+#REF!","v":{"$error":"#REF!"}},{"$f":"#REF!+#REF!+#REF!+#REF!+#REF!+#REF!+#REF!+#REF!+#REF!+#REF!+#REF!+#REF!+#REF!+#REF!+#REF!+#REF!+#REF!+#REF!+#REF!+#REF!+#REF!+#REF!+#REF!+#REF!+#REF!+#REF!+#REF!+#REF!+#REF!+#REF!+#REF!+#REF!+#REF!","v":{"$error":"#REF!"}},{"$f":"'9_Per Pupil Summary'!J18","v":191.89224574477544},{"$f":"#REF!+#REF!+#REF!+#REF!+#REF!+#REF!+#REF!+#REF!+#REF!+#REF!+#REF!+#REF!+#REF!+#REF!+#REF!+#REF!+#REF!+#REF!+#REF!+#REF!+#REF!+#REF!+#REF!+#REF!+#REF!+#REF!+#REF!+#REF!+#REF!+#REF!+#REF!+#REF!+#REF!","v":{"$error":"#REF!"}},{"$f":"#REF!+#REF!+#REF!+#REF!+#REF!+#REF!+#REF!+#REF!+#REF!+#REF!+#REF!+#REF!+#REF!+#REF!+#REF!+#REF!+#REF!+#REF!+#REF!+#REF!+#REF!+#REF!+#REF!+#REF!+#REF!+#REF!+#REF!+#REF!+#REF!+#REF!+#REF!+#REF!+#REF!","v":{"$error":"#REF!"}},{"$f":"'9_Per Pupil Summary'!K18","v":4797.3061436193857},{"$f":"#REF!+#REF!+#REF!+#REF!+#REF!+#REF!+#REF!+#REF!+#REF!+#REF!+#REF!+#REF!+#REF!+#REF!+#REF!+#REF!+#REF!+#REF!+#REF!+#REF!+#REF!+#REF!+#REF!+#REF!+#REF!+#REF!+#REF!+#REF!+#REF!+#REF!+#REF!+#REF!+#REF!","v":{"$error":"#REF!"}},{"$f":"#REF!+#REF!+#REF!+#REF!+#REF!+#REF!+#REF!+#REF!+#REF!+#REF!+#REF!+#REF!+#REF!+#REF!+#REF!+#REF!+#REF!+#REF!+#REF!+#REF!+#REF!+#REF!+#REF!+#REF!+#REF!+#REF!+#REF!+#REF!+#REF!+#REF!+#REF!+#REF!+#REF!","v":{"$error":"#REF!"}},{"$f":"'9_Per Pupil Summary'!L18","v":1918.9224574477539},{"$f":"#REF!+#REF!+#REF!+#REF!+#REF!+#REF!+#REF!+#REF!+#REF!+#REF!+#REF!+#REF!+#REF!+#REF!+#REF!+#REF!+#REF!+#REF!+#REF!+#REF!+#REF!+#REF!+#REF!+#REF!+#REF!+#REF!+#REF!+#REF!+#REF!+#REF!+#REF!+#REF!+#REF!","v":{"$error":"#REF!"}},{"$f":"#REF!+#REF!+#REF!+#REF!+#REF!+#REF!+#REF!+#REF!+#REF!+#REF!+#REF!+#REF!+#REF!+#REF!+#REF!+#REF!+#REF!+#REF!+#REF!+#REF!+#REF!+#REF!+#REF!+#REF!+#REF!+#REF!+#REF!+#REF!+#REF!+#REF!+#REF!+#REF!+#REF!","v":{"$error":"#REF!"}},{"$f":"#REF!+#REF!","v":{"$error":"#REF!"}},{"$f":"#REF!+#REF!+#REF!+#REF!+#REF!+#REF!+#REF!+#REF!+#REF!+#REF!+#REF!+#REF!+#REF!+#REF!+#REF!+#REF!+#REF!+#REF!+#REF!+#REF!+#REF!+#REF!+#REF!+#REF!+#REF!+#REF!+#REF!+#REF!+#REF!+#REF!+#REF!+#REF!+#REF!","v":{"$error":"#REF!"}},{"$f":"#REF!+#REF!+#REF!+#REF!+#REF!+#REF!+#REF!+#REF!+#REF!+#REF!+#REF!+#REF!+#REF!+#REF!+#REF!+#REF!+#REF!+#REF!+#REF!+#REF!+#REF!+#REF!+#REF!+#REF!+#REF!+#REF!+#REF!+#REF!+#REF!+#REF!+#REF!+#REF!+#REF!","v":{"$error":"#REF!"}},{"$f":"#REF!+#REF!+#REF!+#REF!+#REF!+#REF!+#REF!+#REF!+#REF!+#REF!+#REF!+#REF!+#REF!+#REF!+#REF!+#REF!+#REF!+#REF!+#REF!+#REF!+#REF!+#REF!+#REF!+#REF!+#REF!+#REF!+#REF!+#REF!+#REF!+#REF!+#REF!+#REF!+#REF!","v":{"$error":"#REF!"}},{"$f":"#REF!+#REF!+#REF!+#REF!+#REF!+#REF!+#REF!+#REF!+#REF!+#REF!+#REF!+#REF!+#REF!+#REF!+#REF!+#REF!+#REF!+#REF!+#REF!+#REF!+#REF!+#REF!+#REF!+#REF!+#REF!+#REF!+#REF!+#REF!+#REF!+#REF!+#REF!+#REF!+#REF!","v":{"$error":"#REF!"}},{"$f":"#REF!+#REF!+#REF!+#REF!+#REF!+#REF!+#REF!+#REF!+#REF!+#REF!+#REF!+#REF!+#REF!+#REF!+#REF!+#REF!+#REF!+#REF!+#REF!+#REF!+#REF!+#REF!+#REF!+#REF!+#REF!+#REF!+#REF!+#REF!+#REF!+#REF!+#REF!+#REF!+#REF!","v":{"$error":"#REF!"}},{"$f":"#REF!+#REF!+#REF!+#REF!+#REF!+#REF!+#REF!+#REF!+#REF!+#REF!+#REF!+#REF!+#REF!+#REF!+#REF!+#REF!+#REF!+#REF!+#REF!+#REF!+#REF!+#REF!+#REF!+#REF!+#REF!+#REF!+#REF!+#REF!+#REF!+#REF!+#REF!+#REF!+#REF!","v":{"$error":"#REF!"}},{"$f":"#REF!+#REF!+#REF!+#REF!+#REF!+#REF!+#REF!+#REF!+#REF!+#REF!+#REF!+#REF!+#REF!+#REF!+#REF!+#REF!+#REF!+#REF!+#REF!+#REF!+#REF!+#REF!+#REF!+#REF!+#REF!+#REF!+#REF!+#REF!+#REF!+#REF!+#REF!+#REF!+#REF!","v":{"$error":"#REF!"}},{"$f":"#REF!+#REF!+#REF!+#REF!+#REF!+#REF!+#REF!+#REF!+#REF!+#REF!+#REF!+#REF!+#REF!+#REF!+#REF!+#REF!+#REF!+#REF!+#REF!+#REF!+#REF!+#REF!+#REF!+#REF!+#REF!+#REF!+#REF!+#REF!+#REF!+#REF!+#REF!+#REF!+#REF!","v":{"$error":"#REF!"}},{"$f":"#REF!+#REF!+#REF!+#REF!+#REF!+#REF!+#REF!+#REF!+#REF!+#REF!+#REF!+#REF!+#REF!+#REF!+#REF!+#REF!+#REF!+#REF!+#REF!+#REF!+#REF!+#REF!+#REF!+#REF!+#REF!+#REF!+#REF!+#REF!+#REF!+#REF!+#REF!+#REF!+#REF!","v":{"$error":"#REF!"}},{"$f":"#REF!+#REF!+#REF!+#REF!+#REF!+#REF!+#REF!+#REF!+#REF!+#REF!+#REF!+#REF!+#REF!+#REF!+#REF!+#REF!+#REF!+#REF!+#REF!+#REF!+#REF!+#REF!+#REF!+#REF!+#REF!+#REF!+#REF!+#REF!+#REF!+#REF!+#REF!+#REF!+#REF!","v":{"$error":"#REF!"}},{"$f":"#REF!+#REF!+#REF!+#REF!+#REF!+#REF!+#REF!+#REF!+#REF!+#REF!+#REF!+#REF!+#REF!+#REF!+#REF!+#REF!+#REF!+#REF!+#REF!+#REF!+#REF!+#REF!+#REF!+#REF!+#REF!+#REF!+#REF!+#REF!+#REF!+#REF!+#REF!+#REF!+#REF!","v":{"$error":"#REF!"}},{"$f":"#REF!+#REF!+#REF!+#REF!+#REF!+#REF!+#REF!+#REF!+#REF!+#REF!+#REF!+#REF!+#REF!+#REF!+#REF!+#REF!+#REF!+#REF!+#REF!+#REF!+#REF!+#REF!+#REF!+#REF!+#REF!+#REF!+#REF!+#REF!+#REF!+#REF!+#REF!+#REF!+#REF!","v":{"$error":"#REF!"}},{"$f":"'9_Per Pupil Summary'!N18","v":4854},{"$f":"#REF!+#REF!+#REF!+#REF!+#REF!+#REF!+#REF!+#REF!+#REF!+#REF!+#REF!+#REF!+#REF!+#REF!+#REF!+#REF!+#REF!+#REF!+#REF!+#REF!+#REF!+#REF!+#REF!+#REF!+#REF!+#REF!+#REF!+#REF!+#REF!+#REF!+#REF!+#REF!+#REF!","v":{"$error":"#REF!"}},{"$f":"#REF!+#REF!+#REF!+#REF!+#REF!+#REF!+#REF!+#REF!+#REF!+#REF!+#REF!+#REF!+#REF!+#REF!+#REF!+#REF!+#REF!+#REF!+#REF!+#REF!+#REF!+#REF!+#REF!+#REF!+#REF!+#REF!+#REF!+#REF!+#REF!+#REF!+#REF!+#REF!+#REF!","v":{"$error":"#REF!"}},{"$f":"#REF!+#REF!+#REF!+#REF!+#REF!+#REF!+#REF!+#REF!+#REF!+#REF!+#REF!+#REF!+#REF!+#REF!+#REF!+#REF!+#REF!+#REF!+#REF!+#REF!+#REF!+#REF!+#REF!+#REF!+#REF!+#REF!+#REF!+#REF!+#REF!+#REF!+#REF!+#REF!+#REF!","v":{"$error":"#REF!"}},{"$f":"#REF!+#REF!+#REF!+#REF!+#REF!+#REF!+#REF!+#REF!+#REF!+#REF!+#REF!+#REF!+#REF!+#REF!+#REF!+#REF!+#REF!+#REF!+#REF!+#REF!+#REF!+#REF!+#REF!+#REF!+#REF!+#REF!+#REF!+#REF!+#REF!+#REF!+#REF!+#REF!+#REF!","v":{"$error":"#REF!"}},{"$f":"#REF!+#REF!+#REF!+#REF!+#REF!+#REF!+#REF!+#REF!+#REF!+#REF!+#REF!+#REF!+#REF!+#REF!+#REF!+#REF!+#REF!+#REF!+#REF!+#REF!+#REF!+#REF!+#REF!+#REF!+#REF!+#REF!+#REF!+#REF!+#REF!+#REF!+#REF!+#REF!+#REF!","v":{"$error":"#REF!"}},{"$f":"#REF!+#REF!+#REF!+#REF!+#REF!+#REF!+#REF!+#REF!+#REF!+#REF!+#REF!+#REF!+#REF!+#REF!+#REF!+#REF!+#REF!+#REF!+#REF!+#REF!+#REF!+#REF!+#REF!+#REF!+#REF!+#REF!+#REF!+#REF!+#REF!+#REF!+#REF!+#REF!+#REF!","v":{"$error":"#REF!"}},{"$f":"#REF!+#REF!+#REF!+#REF!+#REF!+#REF!+#REF!+#REF!+#REF!+#REF!+#REF!+#REF!+#REF!+#REF!+#REF!+#REF!+#REF!+#REF!+#REF!+#REF!+#REF!+#REF!+#REF!+#REF!+#REF!+#REF!+#REF!+#REF!+#REF!+#REF!+#REF!+#REF!+#REF!","v":{"$error":"#REF!"}},{"$f":"#REF!+#REF!+#REF!+#REF!+#REF!+#REF!+#REF!+#REF!+#REF!+#REF!+#REF!+#REF!+#REF!+#REF!+#REF!+#REF!+#REF!+#REF!+#REF!+#REF!+#REF!+#REF!+#REF!+#REF!+#REF!+#REF!+#REF!+#REF!+#REF!+#REF!+#REF!+#REF!+#REF!","v":{"$error":"#REF!"}},{"$f":"#REF!+#REF!+#REF!+#REF!+#REF!+#REF!+#REF!+#REF!+#REF!+#REF!+#REF!+#REF!+#REF!+#REF!+#REF!+#REF!+#REF!+#REF!+#REF!+#REF!+#REF!+#REF!+#REF!+#REF!+#REF!+#REF!+#REF!+#REF!+#REF!+#REF!+#REF!+#REF!+#REF!","v":{"$error":"#REF!"}},{"$f":"#REF!+#REF!+#REF!+#REF!+#REF!+#REF!+#REF!+#REF!+#REF!+#REF!+#REF!+#REF!+#REF!+#REF!+#REF!+#REF!+#REF!+#REF!+#REF!+#REF!+#REF!+#REF!+#REF!+#REF!+#REF!+#REF!+#REF!+#REF!+#REF!+#REF!+#REF!+#REF!+#REF!","v":{"$error":"#REF!"}},{"$f":"#REF!+#REF!+#REF!+#REF!+#REF!+#REF!+#REF!+#REF!+#REF!+#REF!+#REF!+#REF!+#REF!+#REF!+#REF!+#REF!+#REF!+#REF!+#REF!+#REF!+#REF!+#REF!+#REF!+#REF!+#REF!+#REF!+#REF!+#REF!+#REF!+#REF!+#REF!+#REF!+#REF!","v":{"$error":"#REF!"}},{"$f":"#REF!+#REF!+#REF!+#REF!+#REF!+#REF!+#REF!+#REF!+#REF!+#REF!+#REF!+#REF!+#REF!+#REF!+#REF!+#REF!+#REF!+#REF!+#REF!+#REF!+#REF!+#REF!+#REF!+#REF!+#REF!+#REF!+#REF!+#REF!+#REF!+#REF!+#REF!+#REF!+#REF!","v":{"$error":"#REF!"}},{"$f":"#REF!+#REF!+#REF!+#REF!+#REF!+#REF!+#REF!+#REF!+#REF!+#REF!+#REF!+#REF!+#REF!+#REF!+#REF!+#REF!+#REF!+#REF!+#REF!+#REF!+#REF!+#REF!+#REF!+#REF!+#REF!+#REF!+#REF!+#REF!+#REF!+#REF!+#REF!+#REF!+#REF!","v":{"$error":"#REF!"}},{"$f":"#REF!+#REF!+#REF!+#REF!+#REF!+#REF!+#REF!+#REF!+#REF!+#REF!+#REF!+#REF!+#REF!+#REF!+#REF!+#REF!+#REF!+#REF!+#REF!+#REF!+#REF!+#REF!+#REF!+#REF!+#REF!+#REF!+#REF!+#REF!+#REF!+#REF!+#REF!+#REF!+#REF!","v":{"$error":"#REF!"}},{"$error":"#REF!"},{"$error":"#REF!"},{"$f":"#REF!+#REF!+#REF!+#REF!+#REF!+#REF!+#REF!+#REF!+#REF!+#REF!+#REF!+#REF!+#REF!+#REF!+#REF!+#REF!+#REF!+#REF!+#REF!+#REF!+#REF!+#REF!+#REF!+#REF!+#REF!+#REF!+#REF!+#REF!+#REF!+#REF!+#REF!+#REF!+#REF!","v":{"$error":"#REF!"}},null,{"$error":"#REF!"}]
[14,"Claiborne",{"$f":"#REF!+#REF!+#REF!+#REF!+#REF!+#REF!+#REF!+#REF!+#REF!+#REF!+#REF!+#REF!+#REF!+#REF!+#REF!+#REF!+#REF!+#REF!+#REF!+#REF!+#REF!+#REF!+#REF!+#REF!+#REF!+#REF!+#REF!+#REF!+#REF!+#REF!+#REF!+#REF!+#REF!","v":{"$error":"#REF!"}},{"$f":"'9_Per Pupil Summary'!H19","v":5637.0033187678491},{"$f":"#REF!+#REF!+#REF!+#REF!+#REF!+#REF!+#REF!+#REF!+#REF!+#REF!+#REF!+#REF!+#REF!+#REF!+#REF!+#REF!+#REF!+#REF!+#REF!+#REF!+#REF!+#REF!+#REF!+#REF!+#REF!+#REF!+#REF!+#REF!+#REF!+#REF!+#REF!+#REF!+#REF!","v":{"$error":"#REF!"}},{"$f":"#REF!+#REF!+#REF!+#REF!+#REF!+#REF!+#REF!+#REF!+#REF!+#REF!+#REF!+#REF!+#REF!+#REF!+#REF!+#REF!+#REF!+#REF!+#REF!+#REF!+#REF!+#REF!+#REF!+#REF!+#REF!+#REF!+#REF!+#REF!+#REF!+#REF!+#REF!+#REF!+#REF!","v":{"$error":"#REF!"}},{"$f":"'9_Per Pupil Summary'!I19","v":694.11603162146412},{"$f":"#REF!+#REF!+#REF!+#REF!+#REF!+#REF!+#REF!+#REF!+#REF!+#REF!+#REF!+#REF!+#REF!+#REF!+#REF!+#REF!+#REF!+#REF!+#REF!+#REF!+#REF!+#REF!+#REF!+#REF!+#REF!+#REF!+#REF!+#REF!+#REF!+#REF!+#REF!+#REF!+#REF!","v":{"$error":"#REF!"}},{"$f":"#REF!+#REF!+#REF!+#REF!+#REF!+#REF!+#REF!+#REF!+#REF!+#REF!+#REF!+#REF!+#REF!+#REF!+#REF!+#REF!+#REF!+#REF!+#REF!+#REF!+#REF!+#REF!+#REF!+#REF!+#REF!+#REF!+#REF!+#REF!+#REF!+#REF!+#REF!+#REF!+#REF!","v":{"$error":"#REF!"}},{"$f":"'9_Per Pupil Summary'!J19","v":189.3043722603993},{"$f":"#REF!+#REF!+#REF!+#REF!+#REF!+#REF!+#REF!+#REF!+#REF!+#REF!+#REF!+#REF!+#REF!+#REF!+#REF!+#REF!+#REF!+#REF!+#REF!+#REF!+#REF!+#REF!+#REF!+#REF!+#REF!+#REF!+#REF!+#REF!+#REF!+#REF!+#REF!+#REF!+#REF!","v":{"$error":"#REF!"}},{"$f":"#REF!+#REF!+#REF!+#REF!+#REF!+#REF!+#REF!+#REF!+#REF!+#REF!+#REF!+#REF!+#REF!+#REF!+#REF!+#REF!+#REF!+#REF!+#REF!+#REF!+#REF!+#REF!+#REF!+#REF!+#REF!+#REF!+#REF!+#REF!+#REF!+#REF!+#REF!+#REF!+#REF!","v":{"$error":"#REF!"}},{"$f":"'9_Per Pupil Summary'!K19","v":4732.6093065099831},{"$f":"#REF!+#REF!+#REF!+#REF!+#REF!+#REF!+#REF!+#REF!+#REF!+#REF!+#REF!+#REF!+#REF!+#REF!+#REF!+#REF!+#REF!+#REF!+#REF!+#REF!+#REF!+#REF!+#REF!+#REF!+#REF!+#REF!+#REF!+#REF!+#REF!+#REF!+#REF!+#REF!+#REF!","v":{"$error":"#REF!"}},{"$f":"#REF!+#REF!+#REF!+#REF!+#REF!+#REF!+#REF!+#REF!+#REF!+#REF!+#REF!+#REF!+#REF!+#REF!+#REF!+#REF!+#REF!+#REF!+#REF!+#REF!+#REF!+#REF!+#REF!+#REF!+#REF!+#REF!+#REF!+#REF!+#REF!+#REF!+#REF!+#REF!+#REF!","v":{"$error":"#REF!"}},{"$f":"'9_Per Pupil Summary'!L19","v":1893.0437226039928},{"$f":"#REF!+#REF!+#REF!+#REF!+#REF!+#REF!+#REF!+#REF!+#REF!+#REF!+#REF!+#REF!+#REF!+#REF!+#REF!+#REF!+#REF!+#REF!+#REF!+#REF!+#REF!+#REF!+#REF!+#REF!+#REF!+#REF!+#REF!+#REF!+#REF!+#REF!+#REF!+#REF!+#REF!","v":{"$error":"#REF!"}},{"$f":"#REF!+#REF!+#REF!+#REF!+#REF!+#REF!+#REF!+#REF!+#REF!+#REF!+#REF!+#REF!+#REF!+#REF!+#REF!+#REF!+#REF!+#REF!+#REF!+#REF!+#REF!+#REF!+#REF!+#REF!+#REF!+#REF!+#REF!+#REF!+#REF!+#REF!+#REF!+#REF!+#REF!","v":{"$error":"#REF!"}},{"$f":"#REF!+#REF!","v":{"$error":"#REF!"}},{"$f":"#REF!+#REF!+#REF!+#REF!+#REF!+#REF!+#REF!+#REF!+#REF!+#REF!+#REF!+#REF!+#REF!+#REF!+#REF!+#REF!+#REF!+#REF!+#REF!+#REF!+#REF!+#REF!+#REF!+#REF!+#REF!+#REF!+#REF!+#REF!+#REF!+#REF!+#REF!+#REF!+#REF!","v":{"$error":"#REF!"}},{"$f":"#REF!+#REF!+#REF!+#REF!+#REF!+#REF!+#REF!+#REF!+#REF!+#REF!+#REF!+#REF!+#REF!+#REF!+#REF!+#REF!+#REF!+#REF!+#REF!+#REF!+#REF!+#REF!+#REF!+#REF!+#REF!+#REF!+#REF!+#REF!+#REF!+#REF!+#REF!+#REF!+#REF!","v":{"$error":"#REF!"}},{"$f":"#REF!+#REF!+#REF!+#REF!+#REF!+#REF!+#REF!+#REF!+#REF!+#REF!+#REF!+#REF!+#REF!+#REF!+#REF!+#REF!+#REF!+#REF!+#REF!+#REF!+#REF!+#REF!+#REF!+#REF!+#REF!+#REF!+#REF!+#REF!+#REF!+#REF!+#REF!+#REF!+#REF!","v":{"$error":"#REF!"}},{"$f":"#REF!+#REF!+#REF!+#REF!+#REF!+#REF!+#REF!+#REF!+#REF!+#REF!+#REF!+#REF!+#REF!+#REF!+#REF!+#REF!+#REF!+#REF!+#REF!+#REF!+#REF!+#REF!+#REF!+#REF!+#REF!+#REF!+#REF!+#REF!+#REF!+#REF!+#REF!+#REF!+#REF!","v":{"$error":"#REF!"}},{"$f":"#REF!+#REF!+#REF!+#REF!+#REF!+#REF!+#REF!+#REF!+#REF!+#REF!+#REF!+#REF!+#REF!+#REF!+#REF!+#REF!+#REF!+#REF!+#REF!+#REF!+#REF!+#REF!+#REF!+#REF!+#REF!+#REF!+#REF!+#REF!+#REF!+#REF!+#REF!+#REF!+#REF!","v":{"$error":"#REF!"}},{"$f":"#REF!+#REF!+#REF!+#REF!+#REF!+#REF!+#REF!+#REF!+#REF!+#REF!+#REF!+#REF!+#REF!+#REF!+#REF!+#REF!+#REF!+#REF!+#REF!+#REF!+#REF!+#REF!+#REF!+#REF!+#REF!+#REF!+#REF!+#REF!+#REF!+#REF!+#REF!+#REF!+#REF!","v":{"$error":"#REF!"}},{"$f":"#REF!+#REF!+#REF!+#REF!+#REF!+#REF!+#REF!+#REF!+#REF!+#REF!+#REF!+#REF!+#REF!+#REF!+#REF!+#REF!+#REF!+#REF!+#REF!+#REF!+#REF!+#REF!+#REF!+#REF!+#REF!+#REF!+#REF!+#REF!+#REF!+#REF!+#REF!+#REF!+#REF!","v":{"$error":"#REF!"}},{"$f":"#REF!+#REF!+#REF!+#REF!+#REF!+#REF!+#REF!+#REF!+#REF!+#REF!+#REF!+#REF!+#REF!+#REF!+#REF!+#REF!+#REF!+#REF!+#REF!+#REF!+#REF!+#REF!+#REF!+#REF!+#REF!+#REF!+#REF!+#REF!+#REF!+#REF!+#REF!+#REF!+#REF!","v":{"$error":"#REF!"}},{"$f":"#REF!+#REF!+#REF!+#REF!+#REF!+#REF!+#REF!+#REF!+#REF!+#REF!+#REF!+#REF!+#REF!+#REF!+#REF!+#REF!+#REF!+#REF!+#REF!+#REF!+#REF!+#REF!+#REF!+#REF!+#REF!+#REF!+#REF!+#REF!+#REF!+#REF!+#REF!+#REF!+#REF!","v":{"$error":"#REF!"}},{"$f":"#REF!+#REF!+#REF!+#REF!+#REF!+#REF!+#REF!+#REF!+#REF!+#REF!+#REF!+#REF!+#REF!+#REF!+#REF!+#REF!+#REF!+#REF!+#REF!+#REF!+#REF!+#REF!+#REF!+#REF!+#REF!+#REF!+#REF!+#REF!+#REF!+#REF!+#REF!+#REF!+#REF!","v":{"$error":"#REF!"}},{"$f":"#REF!+#REF!+#REF!+#REF!+#REF!+#REF!+#REF!+#REF!+#REF!+#REF!+#REF!+#REF!+#REF!+#REF!+#REF!+#REF!+#REF!+#REF!+#REF!+#REF!+#REF!+#REF!+#REF!+#REF!+#REF!+#REF!+#REF!+#REF!+#REF!+#REF!+#REF!+#REF!+#REF!","v":{"$error":"#REF!"}},{"$f":"#REF!+#REF!+#REF!+#REF!+#REF!+#REF!+#REF!+#REF!+#REF!+#REF!+#REF!+#REF!+#REF!+#REF!+#REF!+#REF!+#REF!+#REF!+#REF!+#REF!+#REF!+#REF!+#REF!+#REF!+#REF!+#REF!+#REF!+#REF!+#REF!+#REF!+#REF!+#REF!+#REF!","v":{"$error":"#REF!"}},{"$f":"'9_Per Pupil Summary'!N19","v":4391},{"$f":"#REF!+#REF!+#REF!+#REF!+#REF!+#REF!+#REF!+#REF!+#REF!+#REF!+#REF!+#REF!+#REF!+#REF!+#REF!+#REF!+#REF!+#REF!+#REF!+#REF!+#REF!+#REF!+#REF!+#REF!+#REF!+#REF!+#REF!+#REF!+#REF!+#REF!+#REF!+#REF!+#REF!","v":{"$error":"#REF!"}},{"$f":"#REF!+#REF!+#REF!+#REF!+#REF!+#REF!+#REF!+#REF!+#REF!+#REF!+#REF!+#REF!+#REF!+#REF!+#REF!+#REF!+#REF!+#REF!+#REF!+#REF!+#REF!+#REF!+#REF!+#REF!+#REF!+#REF!+#REF!+#REF!+#REF!+#REF!+#REF!+#REF!+#REF!","v":{"$error":"#REF!"}},{"$f":"#REF!+#REF!+#REF!+#REF!+#REF!+#REF!+#REF!+#REF!+#REF!+#REF!+#REF!+#REF!+#REF!+#REF!+#REF!+#REF!+#REF!+#REF!+#REF!+#REF!+#REF!+#REF!+#REF!+#REF!+#REF!+#REF!+#REF!+#REF!+#REF!+#REF!+#REF!+#REF!+#REF!","v":{"$error":"#REF!"}},{"$f":"#REF!+#REF!+#REF!+#REF!+#REF!+#REF!+#REF!+#REF!+#REF!+#REF!+#REF!+#REF!+#REF!+#REF!+#REF!+#REF!+#REF!+#REF!+#REF!+#REF!+#REF!+#REF!+#REF!+#REF!+#REF!+#REF!+#REF!+#REF!+#REF!+#REF!+#REF!+#REF!+#REF!","v":{"$error":"#REF!"}},{"$f":"#REF!+#REF!+#REF!+#REF!+#REF!+#REF!+#REF!+#REF!+#REF!+#REF!+#REF!+#REF!+#REF!+#REF!+#REF!+#REF!+#REF!+#REF!+#REF!+#REF!+#REF!+#REF!+#REF!+#REF!+#REF!+#REF!+#REF!+#REF!+#REF!+#REF!+#REF!+#REF!+#REF!","v":{"$error":"#REF!"}},{"$f":"#REF!+#REF!+#REF!+#REF!+#REF!+#REF!+#REF!+#REF!+#REF!+#REF!+#REF!+#REF!+#REF!+#REF!+#REF!+#REF!+#REF!+#REF!+#REF!+#REF!+#REF!+#REF!+#REF!+#REF!+#REF!+#REF!+#REF!+#REF!+#REF!+#REF!+#REF!+#REF!+#REF!","v":{"$error":"#REF!"}},{"$f":"#REF!+#REF!+#REF!+#REF!+#REF!+#REF!+#REF!+#REF!+#REF!+#REF!+#REF!+#REF!+#REF!+#REF!+#REF!+#REF!+#REF!+#REF!+#REF!+#REF!+#REF!+#REF!+#REF!+#REF!+#REF!+#REF!+#REF!+#REF!+#REF!+#REF!+#REF!+#REF!+#REF!","v":{"$error":"#REF!"}},{"$f":"#REF!+#REF!+#REF!+#REF!+#REF!+#REF!+#REF!+#REF!+#REF!+#REF!+#REF!+#REF!+#REF!+#REF!+#REF!+#REF!+#REF!+#REF!+#REF!+#REF!+#REF!+#REF!+#REF!+#REF!+#REF!+#REF!+#REF!+#REF!+#REF!+#REF!+#REF!+#REF!+#REF!","v":{"$error":"#REF!"}},{"$f":"#REF!+#REF!+#REF!+#REF!+#REF!+#REF!+#REF!+#REF!+#REF!+#REF!+#REF!+#REF!+#REF!+#REF!+#REF!+#REF!+#REF!+#REF!+#REF!+#REF!+#REF!+#REF!+#REF!+#REF!+#REF!+#REF!+#REF!+#REF!+#REF!+#REF!+#REF!+#REF!+#REF!","v":{"$error":"#REF!"}},{"$f":"#REF!+#REF!+#REF!+#REF!+#REF!+#REF!+#REF!+#REF!+#REF!+#REF!+#REF!+#REF!+#REF!+#REF!+#REF!+#REF!+#REF!+#REF!+#REF!+#REF!+#REF!+#REF!+#REF!+#REF!+#REF!+#REF!+#REF!+#REF!+#REF!+#REF!+#REF!+#REF!+#REF!","v":{"$error":"#REF!"}},{"$f":"#REF!+#REF!+#REF!+#REF!+#REF!+#REF!+#REF!+#REF!+#REF!+#REF!+#REF!+#REF!+#REF!+#REF!+#REF!+#REF!+#REF!+#REF!+#REF!+#REF!+#REF!+#REF!+#REF!+#REF!+#REF!+#REF!+#REF!+#REF!+#REF!+#REF!+#REF!+#REF!+#REF!","v":{"$error":"#REF!"}},{"$f":"#REF!+#REF!+#REF!+#REF!+#REF!+#REF!+#REF!+#REF!+#REF!+#REF!+#REF!+#REF!+#REF!+#REF!+#REF!+#REF!+#REF!+#REF!+#REF!+#REF!+#REF!+#REF!+#REF!+#REF!+#REF!+#REF!+#REF!+#REF!+#REF!+#REF!+#REF!+#REF!+#REF!","v":{"$error":"#REF!"}},{"$f":"#REF!+#REF!+#REF!+#REF!+#REF!+#REF!+#REF!+#REF!+#REF!+#REF!+#REF!+#REF!+#REF!+#REF!+#REF!+#REF!+#REF!+#REF!+#REF!+#REF!+#REF!+#REF!+#REF!+#REF!+#REF!+#REF!+#REF!+#REF!+#REF!+#REF!+#REF!+#REF!+#REF!","v":{"$error":"#REF!"}},{"$f":"#REF!+#REF!+#REF!+#REF!+#REF!+#REF!+#REF!+#REF!+#REF!+#REF!+#REF!+#REF!+#REF!+#REF!+#REF!+#REF!+#REF!+#REF!+#REF!+#REF!+#REF!+#REF!+#REF!+#REF!+#REF!+#REF!+#REF!+#REF!+#REF!+#REF!+#REF!+#REF!+#REF!","v":{"$error":"#REF!"}},{"$error":"#REF!"},{"$error":"#REF!"},{"$f":"#REF!+#REF!+#REF!+#REF!+#REF!+#REF!+#REF!+#REF!+#REF!+#REF!+#REF!+#REF!+#REF!+#REF!+#REF!+#REF!+#REF!+#REF!+#REF!+#REF!+#REF!+#REF!+#REF!+#REF!+#REF!+#REF!+#REF!+#REF!+#REF!+#REF!+#REF!+#REF!+#REF!","v":{"$error":"#REF!"}},null,{"$error":"#REF!"}]
[15,"Concordia",{"$f":"#REF!+#REF!+#REF!+#REF!+#REF!+#REF!+#REF!+#REF!+#REF!+#REF!+#REF!+#REF!+#REF!+#REF!+#REF!+#REF!+#REF!+#REF!+#REF!+#REF!+#REF!+#REF!+#REF!+#REF!+#REF!+#REF!+#REF!+#REF!+#REF!+#REF!+#REF!+#REF!+#REF!","v":{"$error":"#REF!"}},{"$f":"'9_Per Pupil Summary'!H20","v":5213.4958579328786},{"$f":"#REF!+#REF!+#REF!+#REF!+#REF!+#REF!+#REF!+#REF!+#REF!+#REF!+#REF!+#REF!+#REF!+#REF!+#REF!+#REF!+#REF!+#REF!+#REF!+#REF!+#REF!+#REF!+#REF!+#REF!+#REF!+#REF!+#REF!+#REF!+#REF!+#REF!+#REF!+#REF!+#REF!","v":{"$error":"#REF!"}},{"$f":"#REF!+#REF!+#REF!+#REF!+#REF!+#REF!+#REF!+#REF!+#REF!+#REF!+#REF!+#REF!+#REF!+#REF!+#REF!+#REF!+#REF!+#REF!+#REF!+#REF!+#REF!+#REF!+#REF!+#REF!+#REF!+#REF!+#REF!+#REF!+#REF!+#REF!+#REF!+#REF!+#REF!","v":{"$error":"#REF!"}},{"$f":"'9_Per Pupil Summary'!I20","v":703.93308874523325},{"$f":"#REF!+#REF!+#REF!+#REF!+#REF!+#REF!+#REF!+#REF!+#REF!+#REF!+#REF!+#REF!+#REF!+#REF!+#REF!+#REF!+#REF!+#REF!+#REF!+#REF!+#REF!+#REF!+#REF!+#REF!+#REF!+#REF!+#REF!+#REF!+#REF!+#REF!+#REF!+#REF!+#REF!","v":{"$error":"#REF!"}},{"$f":"#REF!+#REF!+#REF!+#REF!+#REF!+#REF!+#REF!+#REF!+#REF!+#REF!+#REF!+#REF!+#REF!+#REF!+#REF!+#REF!+#REF!+#REF!+#REF!+#REF!+#REF!+#REF!+#REF!+#REF!+#REF!+#REF!+#REF!+#REF!+#REF!+#REF!+#REF!+#REF!+#REF!","v":{"$error":"#REF!"}},{"$f":"'9_Per Pupil Summary'!J20","v":191.98175147597269},{"$f":"#REF!+#REF!+#REF!+#REF!+#REF!+#REF!+#REF!+#REF!+#REF!+#REF!+#REF!+#REF!+#REF!+#REF!+#REF!+#REF!+#REF!+#REF!+#REF!+#REF!+#REF!+#REF!+#REF!+#REF!+#REF!+#REF!+#REF!+#REF!+#REF!+#REF!+#REF!+#REF!+#REF!","v":{"$error":"#REF!"}},{"$f":"#REF!+#REF!+#REF!+#REF!+#REF!+#REF!+#REF!+#REF!+#REF!+#REF!+#REF!+#REF!+#REF!+#REF!+#REF!+#REF!+#REF!+#REF!+#REF!+#REF!+#REF!+#REF!+#REF!+#REF!+#REF!+#REF!+#REF!+#REF!+#REF!+#REF!+#REF!+#REF!+#REF!","v":{"$error":"#REF!"}},{"$f":"'9_Per Pupil Summary'!K20","v":4799.5437868993176},{"$f":"#REF!+#REF!+#REF!+#REF!+#REF!+#REF!+#REF!+#REF!+#REF!+#REF!+#REF!+#REF!+#REF!+#REF!+#REF!+#REF!+#REF!+#REF!+#REF!+#REF!+#REF!+#REF!+#REF!+#REF!+#REF!+#REF!+#REF!+#REF!+#REF!+#REF!+#REF!+#REF!+#REF!","v":{"$error":"#REF!"}},{"$f":"#REF!+#REF!+#REF!+#REF!+#REF!+#REF!+#REF!+#REF!+#REF!+#REF!+#REF!+#REF!+#REF!+#REF!+#REF!+#REF!+#REF!+#REF!+#REF!+#REF!+#REF!+#REF!+#REF!+#REF!+#REF!+#REF!+#REF!+#REF!+#REF!+#REF!+#REF!+#REF!+#REF!","v":{"$error":"#REF!"}},{"$f":"'9_Per Pupil Summary'!L20","v":1919.8175147597267},{"$f":"#REF!+#REF!+#REF!+#REF!+#REF!+#REF!+#REF!+#REF!+#REF!+#REF!+#REF!+#REF!+#REF!+#REF!+#REF!+#REF!+#REF!+#REF!+#REF!+#REF!+#REF!+#REF!+#REF!+#REF!+#REF!+#REF!+#REF!+#REF!+#REF!+#REF!+#REF!+#REF!+#REF!","v":{"$error":"#REF!"}},{"$f":"#REF!+#REF!+#REF!+#REF!+#REF!+#REF!+#REF!+#REF!+#REF!+#REF!+#REF!+#REF!+#REF!+#REF!+#REF!+#REF!+#REF!+#REF!+#REF!+#REF!+#REF!+#REF!+#REF!+#REF!+#REF!+#REF!+#REF!+#REF!+#REF!+#REF!+#REF!+#REF!+#REF!","v":{"$error":"#REF!"}},{"$f":"#REF!+#REF!","v":{"$error":"#REF!"}},{"$f":"#REF!+#REF!+#REF!+#REF!+#REF!+#REF!+#REF!+#REF!+#REF!+#REF!+#REF!+#REF!+#REF!+#REF!+#REF!+#REF!+#REF!+#REF!+#REF!+#REF!+#REF!+#REF!+#REF!+#REF!+#REF!+#REF!+#REF!+#REF!+#REF!+#REF!+#REF!+#REF!+#REF!","v":{"$error":"#REF!"}},{"$f":"#REF!+#REF!+#REF!+#REF!+#REF!+#REF!+#REF!+#REF!+#REF!+#REF!+#REF!+#REF!+#REF!+#REF!+#REF!+#REF!+#REF!+#REF!+#REF!+#REF!+#REF!+#REF!+#REF!+#REF!+#REF!+#REF!+#REF!+#REF!+#REF!+#REF!+#REF!+#REF!+#REF!","v":{"$error":"#REF!"}},{"$f":"#REF!+#REF!+#REF!+#REF!+#REF!+#REF!+#REF!+#REF!+#REF!+#REF!+#REF!+#REF!+#REF!+#REF!+#REF!+#REF!+#REF!+#REF!+#REF!+#REF!+#REF!+#REF!+#REF!+#REF!+#REF!+#REF!+#REF!+#REF!+#REF!+#REF!+#REF!+#REF!+#REF!","v":{"$error":"#REF!"}},{"$f":"#REF!+#REF!+#REF!+#REF!+#REF!+#REF!+#REF!+#REF!+#REF!+#REF!+#REF!+#REF!+#REF!+#REF!+#REF!+#REF!+#REF!+#REF!+#REF!+#REF!+#REF!+#REF!+#REF!+#REF!+#REF!+#REF!+#REF!+#REF!+#REF!+#REF!+#REF!+#REF!+#REF!","v":{"$error":"#REF!"}},{"$f":"#REF!+#REF!+#REF!+#REF!+#REF!+#REF!+#REF!+#REF!+#REF!+#REF!+#REF!+#REF!+#REF!+#REF!+#REF!+#REF!+#REF!+#REF!+#REF!+#REF!+#REF!+#REF!+#REF!+#REF!+#REF!+#REF!+#REF!+#REF!+#REF!+#REF!+#REF!+#REF!+#REF!","v":{"$error":"#REF!"}},{"$f":"#REF!+#REF!+#REF!+#REF!+#REF!+#REF!+#REF!+#REF!+#REF!+#REF!+#REF!+#REF!+#REF!+#REF!+#REF!+#REF!+#REF!+#REF!+#REF!+#REF!+#REF!+#REF!+#REF!+#REF!+#REF!+#REF!+#REF!+#REF!+#REF!+#REF!+#REF!+#REF!+#REF!","v":{"$error":"#REF!"}},{"$f":"#REF!+#REF!+#REF!+#REF!+#REF!+#REF!+#REF!+#REF!+#REF!+#REF!+#REF!+#REF!+#REF!+#REF!+#REF!+#REF!+#REF!+#REF!+#REF!+#REF!+#REF!+#REF!+#REF!+#REF!+#REF!+#REF!+#REF!+#REF!+#REF!+#REF!+#REF!+#REF!+#REF!","v":{"$error":"#REF!"}},{"$f":"#REF!+#REF!+#REF!+#REF!+#REF!+#REF!+#REF!+#REF!+#REF!+#REF!+#REF!+#REF!+#REF!+#REF!+#REF!+#REF!+#REF!+#REF!+#REF!+#REF!+#REF!+#REF!+#REF!+#REF!+#REF!+#REF!+#REF!+#REF!+#REF!+#REF!+#REF!+#REF!+#REF!","v":{"$error":"#REF!"}},{"$f":"#REF!+#REF!+#REF!+#REF!+#REF!+#REF!+#REF!+#REF!+#REF!+#REF!+#REF!+#REF!+#REF!+#REF!+#REF!+#REF!+#REF!+#REF!+#REF!+#REF!+#REF!+#REF!+#REF!+#REF!+#REF!+#REF!+#REF!+#REF!+#REF!+#REF!+#REF!+#REF!+#REF!","v":{"$error":"#REF!"}},{"$f":"#REF!+#REF!+#REF!+#REF!+#REF!+#REF!+#REF!+#REF!+#REF!+#REF!+#REF!+#REF!+#REF!+#REF!+#REF!+#REF!+#REF!+#REF!+#REF!+#REF!+#REF!+#REF!+#REF!+#REF!+#REF!+#REF!+#REF!+#REF!+#REF!+#REF!+#REF!+#REF!+#REF!","v":{"$error":"#REF!"}},{"$f":"#REF!+#REF!+#REF!+#REF!+#REF!+#REF!+#REF!+#REF!+#REF!+#REF!+#REF!+#REF!+#REF!+#REF!+#REF!+#REF!+#REF!+#REF!+#REF!+#REF!+#REF!+#REF!+#REF!+#REF!+#REF!+#REF!+#REF!+#REF!+#REF!+#REF!+#REF!+#REF!+#REF!","v":{"$error":"#REF!"}},{"$f":"#REF!+#REF!+#REF!+#REF!+#REF!+#REF!+#REF!+#REF!+#REF!+#REF!+#REF!+#REF!+#REF!+#REF!+#REF!+#REF!+#REF!+#REF!+#REF!+#REF!+#REF!+#REF!+#REF!+#REF!+#REF!+#REF!+#REF!+#REF!+#REF!+#REF!+#REF!+#REF!+#REF!","v":{"$error":"#REF!"}},{"$f":"'9_Per Pupil Summary'!N20","v":3846},{"$f":"#REF!+#REF!+#REF!+#REF!+#REF!+#REF!+#REF!+#REF!+#REF!+#REF!+#REF!+#REF!+#REF!+#REF!+#REF!+#REF!+#REF!+#REF!+#REF!+#REF!+#REF!+#REF!+#REF!+#REF!+#REF!+#REF!+#REF!+#REF!+#REF!+#REF!+#REF!+#REF!+#REF!","v":{"$error":"#REF!"}},{"$f":"#REF!+#REF!+#REF!+#REF!+#REF!+#REF!+#REF!+#REF!+#REF!+#REF!+#REF!+#REF!+#REF!+#REF!+#REF!+#REF!+#REF!+#REF!+#REF!+#REF!+#REF!+#REF!+#REF!+#REF!+#REF!+#REF!+#REF!+#REF!+#REF!+#REF!+#REF!+#REF!+#REF!","v":{"$error":"#REF!"}},{"$f":"#REF!+#REF!+#REF!+#REF!+#REF!+#REF!+#REF!+#REF!+#REF!+#REF!+#REF!+#REF!+#REF!+#REF!+#REF!+#REF!+#REF!+#REF!+#REF!+#REF!+#REF!+#REF!+#REF!+#REF!+#REF!+#REF!+#REF!+#REF!+#REF!+#REF!+#REF!+#REF!+#REF!","v":{"$error":"#REF!"}},{"$f":"#REF!+#REF!+#REF!+#REF!+#REF!+#REF!+#REF!+#REF!+#REF!+#REF!+#REF!+#REF!+#REF!+#REF!+#REF!+#REF!+#REF!+#REF!+#REF!+#REF!+#REF!+#REF!+#REF!+#REF!+#REF!+#REF!+#REF!+#REF!+#REF!+#REF!+#REF!+#REF!+#REF!","v":{"$error":"#REF!"}},{"$f":"#REF!+#REF!+#REF!+#REF!+#REF!+#REF!+#REF!+#REF!+#REF!+#REF!+#REF!+#REF!+#REF!+#REF!+#REF!+#REF!+#REF!+#REF!+#REF!+#REF!+#REF!+#REF!+#REF!+#REF!+#REF!+#REF!+#REF!+#REF!+#REF!+#REF!+#REF!+#REF!+#REF!","v":{"$error":"#REF!"}},{"$f":"#REF!+#REF!+#REF!+#REF!+#REF!+#REF!+#REF!+#REF!+#REF!+#REF!+#REF!+#REF!+#REF!+#REF!+#REF!+#REF!+#REF!+#REF!+#REF!+#REF!+#REF!+#REF!+#REF!+#REF!+#REF!+#REF!+#REF!+#REF!+#REF!+#REF!+#REF!+#REF!+#REF!","v":{"$error":"#REF!"}},{"$f":"#REF!+#REF!+#REF!+#REF!+#REF!+#REF!+#REF!+#REF!+#REF!+#REF!+#REF!+#REF!+#REF!+#REF!+#REF!+#REF!+#REF!+#REF!+#REF!+#REF!+#REF!+#REF!+#REF!+#REF!+#REF!+#REF!+#REF!+#REF!+#REF!+#REF!+#REF!+#REF!+#REF!","v":{"$error":"#REF!"}},{"$f":"#REF!+#REF!+#REF!+#REF!+#REF!+#REF!+#REF!+#REF!+#REF!+#REF!+#REF!+#REF!+#REF!+#REF!+#REF!+#REF!+#REF!+#REF!+#REF!+#REF!+#REF!+#REF!+#REF!+#REF!+#REF!+#REF!+#REF!+#REF!+#REF!+#REF!+#REF!+#REF!+#REF!","v":{"$error":"#REF!"}},{"$f":"#REF!+#REF!+#REF!+#REF!+#REF!+#REF!+#REF!+#REF!+#REF!+#REF!+#REF!+#REF!+#REF!+#REF!+#REF!+#REF!+#REF!+#REF!+#REF!+#REF!+#REF!+#REF!+#REF!+#REF!+#REF!+#REF!+#REF!+#REF!+#REF!+#REF!+#REF!+#REF!+#REF!","v":{"$error":"#REF!"}},{"$f":"#REF!+#REF!+#REF!+#REF!+#REF!+#REF!+#REF!+#REF!+#REF!+#REF!+#REF!+#REF!+#REF!+#REF!+#REF!+#REF!+#REF!+#REF!+#REF!+#REF!+#REF!+#REF!+#REF!+#REF!+#REF!+#REF!+#REF!+#REF!+#REF!+#REF!+#REF!+#REF!+#REF!","v":{"$error":"#REF!"}},{"$f":"#REF!+#REF!+#REF!+#REF!+#REF!+#REF!+#REF!+#REF!+#REF!+#REF!+#REF!+#REF!+#REF!+#REF!+#REF!+#REF!+#REF!+#REF!+#REF!+#REF!+#REF!+#REF!+#REF!+#REF!+#REF!+#REF!+#REF!+#REF!+#REF!+#REF!+#REF!+#REF!+#REF!","v":{"$error":"#REF!"}},{"$f":"#REF!+#REF!+#REF!+#REF!+#REF!+#REF!+#REF!+#REF!+#REF!+#REF!+#REF!+#REF!+#REF!+#REF!+#REF!+#REF!+#REF!+#REF!+#REF!+#REF!+#REF!+#REF!+#REF!+#REF!+#REF!+#REF!+#REF!+#REF!+#REF!+#REF!+#REF!+#REF!+#REF!","v":{"$error":"#REF!"}},{"$f":"#REF!+#REF!+#REF!+#REF!+#REF!+#REF!+#REF!+#REF!+#REF!+#REF!+#REF!+#REF!+#REF!+#REF!+#REF!+#REF!+#REF!+#REF!+#REF!+#REF!+#REF!+#REF!+#REF!+#REF!+#REF!+#REF!+#REF!+#REF!+#REF!+#REF!+#REF!+#REF!+#REF!","v":{"$error":"#REF!"}},{"$f":"#REF!+#REF!+#REF!+#REF!+#REF!+#REF!+#REF!+#REF!+#REF!+#REF!+#REF!+#REF!+#REF!+#REF!+#REF!+#REF!+#REF!+#REF!+#REF!+#REF!+#REF!+#REF!+#REF!+#REF!+#REF!+#REF!+#REF!+#REF!+#REF!+#REF!+#REF!+#REF!+#REF!","v":{"$error":"#REF!"}},{"$error":"#REF!"},{"$error":"#REF!"},{"$f":"#REF!+#REF!+#REF!+#REF!+#REF!+#REF!+#REF!+#REF!+#REF!+#REF!+#REF!+#REF!+#REF!+#REF!+#REF!+#REF!+#REF!+#REF!+#REF!+#REF!+#REF!+#REF!+#REF!+#REF!+#REF!+#REF!+#REF!+#REF!+#REF!+#REF!+#REF!+#REF!+#REF!","v":{"$error":"#REF!"}},null,{"$error":"#REF!"}]
[16,"DeSoto",{"$f":"#REF!+#REF!+#REF!+#REF!+#REF!+#REF!+#REF!+#REF!+#REF!+#REF!+#REF!+#REF!+#REF!+#REF!+#REF!+#REF!+#REF!+#REF!+#REF!+#REF!+#REF!+#REF!+#REF!+#REF!+#REF!+#REF!+#REF!+#REF!+#REF!+#REF!+#REF!+#REF!+#REF!","v":{"$error":"#REF!"}},{"$f":"'9_Per Pupil Summary'!H21","v":2470.9324790477931},{"$f":"#REF!+#REF!+#REF!+#REF!+#REF!+#REF!+#REF!+#REF!+#REF!+#REF!+#REF!+#REF!+#REF!+#REF!+#REF!+#REF!+#REF!+#REF!+#REF!+#REF!+#REF!+#REF!+#REF!+#REF!+#REF!+#REF!+#REF!+#REF!+#REF!+#REF!+#REF!+#REF!+#REF!","v":{"$error":"#REF!"}},{"$f":"#REF!+#REF!+#REF!+#REF!+#REF!+#REF!+#REF!+#REF!+#REF!+#REF!+#REF!+#REF!+#REF!+#REF!+#REF!+#REF!+#REF!+#REF!+#REF!+#REF!+#REF!+#REF!+#REF!+#REF!+#REF!+#REF!+#REF!+#REF!+#REF!+#REF!+#REF!+#REF!+#REF!","v":{"$error":"#REF!"}},{"$f":"'9_Per Pupil Summary'!I21","v":354.47547821847826},{"$f":"#REF!+#REF!+#REF!+#REF!+#REF!+#REF!+#REF!+#REF!+#REF!+#REF!+#REF!+#REF!+#REF!+#REF!+#REF!+#REF!+#REF!+#REF!+#REF!+#REF!+#REF!+#REF!+#REF!+#REF!+#REF!+#REF!+#REF!+#REF!+#REF!+#REF!+#REF!+#REF!+#REF!","v":{"$error":"#REF!"}},{"$f":"#REF!+#REF!+#REF!+#REF!+#REF!+#REF!+#REF!+#REF!+#REF!+#REF!+#REF!+#REF!+#REF!+#REF!+#REF!+#REF!+#REF!+#REF!+#REF!+#REF!+#REF!+#REF!+#REF!+#REF!+#REF!+#REF!+#REF!+#REF!+#REF!+#REF!+#REF!+#REF!+#REF!","v":{"$error":"#REF!"}},{"$f":"'9_Per Pupil Summary'!J21","v":96.675130423221333},{"$f":"#REF!+#REF!+#REF!+#REF!+#REF!+#REF!+#REF!+#REF!+#REF!+#REF!+#REF!+#REF!+#REF!+#REF!+#REF!+#REF!+#REF!+#REF!+#REF!+#REF!+#REF!+#REF!+#REF!+#REF!+#REF!+#REF!+#REF!+#REF!+#REF!+#REF!+#REF!+#REF!+#REF!","v":{"$error":"#REF!"}},{"$f":"#REF!+#REF!+#REF!+#REF!+#REF!+#REF!+#REF!+#REF!+#REF!+#REF!+#REF!+#REF!+#REF!+#REF!+#REF!+#REF!+#REF!+#REF!+#REF!+#REF!+#REF!+#REF!+#REF!+#REF!+#REF!+#REF!+#REF!+#REF!+#REF!+#REF!+#REF!+#REF!+#REF!","v":{"$error":"#REF!"}},{"$f":"'9_Per Pupil Summary'!K21","v":2416.8782605805332},{"$f":"#REF!+#REF!+#REF!+#REF!+#REF!+#REF!+#REF!+#REF!+#REF!+#REF!+#REF!+#REF!+#REF!+#REF!+#REF!+#REF!+#REF!+#REF!+#REF!+#REF!+#REF!+#REF!+#REF!+#REF!+#REF!+#REF!+#REF!+#REF!+#REF!+#REF!+#REF!+#REF!+#REF!","v":{"$error":"#REF!"}},{"$f":"#REF!+#REF!+#REF!+#REF!+#REF!+#REF!+#REF!+#REF!+#REF!+#REF!+#REF!+#REF!+#REF!+#REF!+#REF!+#REF!+#REF!+#REF!+#REF!+#REF!+#REF!+#REF!+#REF!+#REF!+#REF!+#REF!+#REF!+#REF!+#REF!+#REF!+#REF!+#REF!+#REF!","v":{"$error":"#REF!"}},{"$f":"'9_Per Pupil Summary'!L21","v":966.75130423221333},{"$f":"#REF!+#REF!+#REF!+#REF!+#REF!+#REF!+#REF!+#REF!+#REF!+#REF!+#REF!+#REF!+#REF!+#REF!+#REF!+#REF!+#REF!+#REF!+#REF!+#REF!+#REF!+#REF!+#REF!+#REF!+#REF!+#REF!+#REF!+#REF!+#REF!+#REF!+#REF!+#REF!+#REF!","v":{"$error":"#REF!"}},{"$f":"#REF!+#REF!+#REF!+#REF!+#REF!+#REF!+#REF!+#REF!+#REF!+#REF!+#REF!+#REF!+#REF!+#REF!+#REF!+#REF!+#REF!+#REF!+#REF!+#REF!+#REF!+#REF!+#REF!+#REF!+#REF!+#REF!+#REF!+#REF!+#REF!+#REF!+#REF!+#REF!+#REF!","v":{"$error":"#REF!"}},{"$f":"#REF!+#REF!","v":{"$error":"#REF!"}},{"$f":"#REF!+#REF!+#REF!+#REF!+#REF!+#REF!+#REF!+#REF!+#REF!+#REF!+#REF!+#REF!+#REF!+#REF!+#REF!+#REF!+#REF!+#REF!+#REF!+#REF!+#REF!+#REF!+#REF!+#REF!+#REF!+#REF!+#REF!+#REF!+#REF!+#REF!+#REF!+#REF!+#REF!","v":{"$error":"#REF!"}},{"$f":"#REF!+#REF!+#REF!+#REF!+#REF!+#REF!+#REF!+#REF!+#REF!+#REF!+#REF!+#REF!+#REF!+#REF!+#REF!+#REF!+#REF!+#REF!+#REF!+#REF!+#REF!+#REF!+#REF!+#REF!+#REF!+#REF!+#REF!+#REF!+#REF!+#REF!+#REF!+#REF!+#REF!","v":{"$error":"#REF!"}},{"$f":"#REF!+#REF!+#REF!+#REF!+#REF!+#REF!+#REF!+#REF!+#REF!+#REF!+#REF!+#REF!+#REF!+#REF!+#REF!+#REF!+#REF!+#REF!+#REF!+#REF!+#REF!+#REF!+#REF!+#REF!+#REF!+#REF!+#REF!+#REF!+#REF!+#REF!+#REF!+#REF!+#REF!","v":{"$error":"#REF!"}},{"$f":"#REF!+#REF!+#REF!+#REF!+#REF!+#REF!+#REF!+#REF!+#REF!+#REF!+#REF!+#REF!+#REF!+#REF!+#REF!+#REF!+#REF!+#REF!+#REF!+#REF!+#REF!+#REF!+#REF!+#REF!+#REF!+#REF!+#REF!+#REF!+#REF!+#REF!+#REF!+#REF!+#REF!","v":{"$error":"#REF!"}},{"$f":"#REF!+#REF!+#REF!+#REF!+#REF!+#REF!+#REF!+#REF!+#REF!+#REF!+#REF!+#REF!+#REF!+#REF!+#REF!+#REF!+#REF!+#REF!+#REF!+#REF!+#REF!+#REF!+#REF!+#REF!+#REF!+#REF!+#REF!+#REF!+#REF!+#REF!+#REF!+#REF!+#REF!","v":{"$error":"#REF!"}},{"$f":"#REF!+#REF!+#REF!+#REF!+#REF!+#REF!+#REF!+#REF!+#REF!+#REF!+#REF!+#REF!+#REF!+#REF!+#REF!+#REF!+#REF!+#REF!+#REF!+#REF!+#REF!+#REF!+#REF!+#REF!+#REF!+#REF!+#REF!+#REF!+#REF!+#REF!+#REF!+#REF!+#REF!","v":{"$error":"#REF!"}},{"$f":"#REF!+#REF!+#REF!+#REF!+#REF!+#REF!+#REF!+#REF!+#REF!+#REF!+#REF!+#REF!+#REF!+#REF!+#REF!+#REF!+#REF!+#REF!+#REF!+#REF!+#REF!+#REF!+#REF!+#REF!+#REF!+#REF!+#REF!+#REF!+#REF!+#REF!+#REF!+#REF!+#REF!","v":{"$error":"#REF!"}},{"$f":"#REF!+#REF!+#REF!+#REF!+#REF!+#REF!+#REF!+#REF!+#REF!+#REF!+#REF!+#REF!+#REF!+#REF!+#REF!+#REF!+#REF!+#REF!+#REF!+#REF!+#REF!+#REF!+#REF!+#REF!+#REF!+#REF!+#REF!+#REF!+#REF!+#REF!+#REF!+#REF!+#REF!","v":{"$error":"#REF!"}},{"$f":"#REF!+#REF!+#REF!+#REF!+#REF!+#REF!+#REF!+#REF!+#REF!+#REF!+#REF!+#REF!+#REF!+#REF!+#REF!+#REF!+#REF!+#REF!+#REF!+#REF!+#REF!+#REF!+#REF!+#REF!+#REF!+#REF!+#REF!+#REF!+#REF!+#REF!+#REF!+#REF!+#REF!","v":{"$error":"#REF!"}},{"$f":"#REF!+#REF!+#REF!+#REF!+#REF!+#REF!+#REF!+#REF!+#REF!+#REF!+#REF!+#REF!+#REF!+#REF!+#REF!+#REF!+#REF!+#REF!+#REF!+#REF!+#REF!+#REF!+#REF!+#REF!+#REF!+#REF!+#REF!+#REF!+#REF!+#REF!+#REF!+#REF!+#REF!","v":{"$error":"#REF!"}},{"$f":"#REF!+#REF!+#REF!+#REF!+#REF!+#REF!+#REF!+#REF!+#REF!+#REF!+#REF!+#REF!+#REF!+#REF!+#REF!+#REF!+#REF!+#REF!+#REF!+#REF!+#REF!+#REF!+#REF!+#REF!+#REF!+#REF!+#REF!+#REF!+#REF!+#REF!+#REF!+#REF!+#REF!","v":{"$error":"#REF!"}},{"$f":"#REF!+#REF!+#REF!+#REF!+#REF!+#REF!+#REF!+#REF!+#REF!+#REF!+#REF!+#REF!+#REF!+#REF!+#REF!+#REF!+#REF!+#REF!+#REF!+#REF!+#REF!+#REF!+#REF!+#REF!+#REF!+#REF!+#REF!+#REF!+#REF!+#REF!+#REF!+#REF!+#REF!","v":{"$error":"#REF!"}},{"$f":"'9_Per Pupil Summary'!N21","v":18328},{"$f":"#REF!+#REF!+#REF!+#REF!+#REF!+#REF!+#REF!+#REF!+#REF!+#REF!+#REF!+#REF!+#REF!+#REF!+#REF!+#REF!+#REF!+#REF!+#REF!+#REF!+#REF!+#REF!+#REF!+#REF!+#REF!+#REF!+#REF!+#REF!+#REF!+#REF!+#REF!+#REF!+#REF!","v":{"$error":"#REF!"}},{"$f":"#REF!+#REF!+#REF!+#REF!+#REF!+#REF!+#REF!+#REF!+#REF!+#REF!+#REF!+#REF!+#REF!+#REF!+#REF!+#REF!+#REF!+#REF!+#REF!+#REF!+#REF!+#REF!+#REF!+#REF!+#REF!+#REF!+#REF!+#REF!+#REF!+#REF!+#REF!+#REF!+#REF!","v":{"$error":"#REF!"}},{"$f":"#REF!+#REF!+#REF!+#REF!+#REF!+#REF!+#REF!+#REF!+#REF!+#REF!+#REF!+#REF!+#REF!+#REF!+#REF!+#REF!+#REF!+#REF!+#REF!+#REF!+#REF!+#REF!+#REF!+#REF!+#REF!+#REF!+#REF!+#REF!+#REF!+#REF!+#REF!+#REF!+#REF!","v":{"$error":"#REF!"}},{"$f":"#REF!+#REF!+#REF!+#REF!+#REF!+#REF!+#REF!+#REF!+#REF!+#REF!+#REF!+#REF!+#REF!+#REF!+#REF!+#REF!+#REF!+#REF!+#REF!+#REF!+#REF!+#REF!+#REF!+#REF!+#REF!+#REF!+#REF!+#REF!+#REF!+#REF!+#REF!+#REF!+#REF!","v":{"$error":"#REF!"}},{"$f":"#REF!+#REF!+#REF!+#REF!+#REF!+#REF!+#REF!+#REF!+#REF!+#REF!+#REF!+#REF!+#REF!+#REF!+#REF!+#REF!+#REF!+#REF!+#REF!+#REF!+#REF!+#REF!+#REF!+#REF!+#REF!+#REF!+#REF!+#REF!+#REF!+#REF!+#REF!+#REF!+#REF!","v":{"$error":"#REF!"}},{"$f":"#REF!+#REF!+#REF!+#REF!+#REF!+#REF!+#REF!+#REF!+#REF!+#REF!+#REF!+#REF!+#REF!+#REF!+#REF!+#REF!+#REF!+#REF!+#REF!+#REF!+#REF!+#REF!+#REF!+#REF!+#REF!+#REF!+#REF!+#REF!+#REF!+#REF!+#REF!+#REF!+#REF!","v":{"$error":"#REF!"}},{"$f":"#REF!+#REF!+#REF!+#REF!+#REF!+#REF!+#REF!+#REF!+#REF!+#REF!+#REF!+#REF!+#REF!+#REF!+#REF!+#REF!+#REF!+#REF!+#REF!+#REF!+#REF!+#REF!+#REF!+#REF!+#REF!+#REF!+#REF!+#REF!+#REF!+#REF!+#REF!+#REF!+#REF!","v":{"$error":"#REF!"}},{"$f":"#REF!+#REF!+#REF!+#REF!+#REF!+#REF!+#REF!+#REF!+#REF!+#REF!+#REF!+#REF!+#REF!+#REF!+#REF!+#REF!+#REF!+#REF!+#REF!+#REF!+#REF!+#REF!+#REF!+#REF!+#REF!+#REF!+#REF!+#REF!+#REF!+#REF!+#REF!+#REF!+#REF!","v":{"$error":"#REF!"}},{"$f":"#REF!+#REF!+#REF!+#REF!+#REF!+#REF!+#REF!+#REF!+#REF!+#REF!+#REF!+#REF!+#REF!+#REF!+#REF!+#REF!+#REF!+#REF!+#REF!+#REF!+#REF!+#REF!+#REF!+#REF!+#REF!+#REF!+#REF!+#REF!+#REF!+#REF!+#REF!+#REF!+#REF!","v":{"$error":"#REF!"}},{"$f":"#REF!+#REF!+#REF!+#REF!+#REF!+#REF!+#REF!+#REF!+#REF!+#REF!+#REF!+#REF!+#REF!+#REF!+#REF!+#REF!+#REF!+#REF!+#REF!+#REF!+#REF!+#REF!+#REF!+#REF!+#REF!+#REF!+#REF!+#REF!+#REF!+#REF!+#REF!+#REF!+#REF!","v":{"$error":"#REF!"}},{"$f":"#REF!+#REF!+#REF!+#REF!+#REF!+#REF!+#REF!+#REF!+#REF!+#REF!+#REF!+#REF!+#REF!+#REF!+#REF!+#REF!+#REF!+#REF!+#REF!+#REF!+#REF!+#REF!+#REF!+#REF!+#REF!+#REF!+#REF!+#REF!+#REF!+#REF!+#REF!+#REF!+#REF!","v":{"$error":"#REF!"}},{"$f":"#REF!+#REF!+#REF!+#REF!+#REF!+#REF!+#REF!+#REF!+#REF!+#REF!+#REF!+#REF!+#REF!+#REF!+#REF!+#REF!+#REF!+#REF!+#REF!+#REF!+#REF!+#REF!+#REF!+#REF!+#REF!+#REF!+#REF!+#REF!+#REF!+#REF!+#REF!+#REF!+#REF!","v":{"$error":"#REF!"}},{"$f":"#REF!+#REF!+#REF!+#REF!+#REF!+#REF!+#REF!+#REF!+#REF!+#REF!+#REF!+#REF!+#REF!+#REF!+#REF!+#REF!+#REF!+#REF!+#REF!+#REF!+#REF!+#REF!+#REF!+#REF!+#REF!+#REF!+#REF!+#REF!+#REF!+#REF!+#REF!+#REF!+#REF!","v":{"$error":"#REF!"}},{"$f":"#REF!+#REF!+#REF!+#REF!+#REF!+#REF!+#REF!+#REF!+#REF!+#REF!+#REF!+#REF!+#REF!+#REF!+#REF!+#REF!+#REF!+#REF!+#REF!+#REF!+#REF!+#REF!+#REF!+#REF!+#REF!+#REF!+#REF!+#REF!+#REF!+#REF!+#REF!+#REF!+#REF!","v":{"$error":"#REF!"}},{"$error":"#REF!"},{"$error":"#REF!"},{"$f":"#REF!+#REF!+#REF!+#REF!+#REF!+#REF!+#REF!+#REF!+#REF!+#REF!+#REF!+#REF!+#REF!+#REF!+#REF!+#REF!+#REF!+#REF!+#REF!+#REF!+#REF!+#REF!+#REF!+#REF!+#REF!+#REF!+#REF!+#REF!+#REF!+#REF!+#REF!+#REF!+#REF!","v":{"$error":"#REF!"}},null,{"$error":"#REF!"}]
[17,"East Baton Rouge",{"$f":"#REF!+#REF!+#REF!+#REF!+#REF!+#REF!+#REF!+#REF!+#REF!+#REF!+#REF!+#REF!+#REF!+#REF!+#REF!+#REF!+#REF!+#REF!+#REF!+#REF!+#REF!+#REF!+#REF!+#REF!+#REF!+#REF!+#REF!+#REF!+#REF!+#REF!+#REF!+#REF!+#REF!","v":{"$error":"#REF!"}},{"$f":"'9_Per Pupil Summary'!H22","v":3408.4578493666609},{"$f":"#REF!+#REF!+#REF!+#REF!+#REF!+#REF!+#REF!+#REF!+#REF!+#REF!+#REF!+#REF!+#REF!+#REF!+#REF!+#REF!+#REF!+#REF!+#REF!+#REF!+#REF!+#REF!+#REF!+#REF!+#REF!+#REF!+#REF!+#REF!+#REF!+#REF!+#REF!+#REF!+#REF!","v":{"$error":"#REF!"}},{"$f":"#REF!+#REF!+#REF!+#REF!+#REF!+#REF!+#REF!+#REF!+#REF!+#REF!+#REF!+#REF!+#REF!+#REF!+#REF!+#REF!+#REF!+#REF!+#REF!+#REF!+#REF!+#REF!+#REF!+#REF!+#REF!+#REF!+#REF!+#REF!+#REF!+#REF!+#REF!+#REF!+#REF!","v":{"$error":"#REF!"}},{"$f":"'9_Per Pupil Summary'!I22","v":431.56544401878006},{"$f":"#REF!+#REF!+#REF!+#REF!+#REF!+#REF!+#REF!+#REF!+#REF!+#REF!+#REF!+#REF!+#REF!+#REF!+#REF!+#REF!+#REF!+#REF!+#REF!+#REF!+#REF!+#REF!+#REF!+#REF!+#REF!+#REF!+#REF!+#REF!+#REF!+#REF!+#REF!+#REF!+#REF!","v":{"$error":"#REF!"}},{"$f":"#REF!+#REF!+#REF!+#REF!+#REF!+#REF!+#REF!+#REF!+#REF!+#REF!+#REF!+#REF!+#REF!+#REF!+#REF!+#REF!+#REF!+#REF!+#REF!+#REF!+#REF!+#REF!+#REF!+#REF!+#REF!+#REF!+#REF!+#REF!+#REF!+#REF!+#REF!+#REF!+#REF!","v":{"$error":"#REF!"}},{"$f":"'9_Per Pupil Summary'!J22","v":117.69966655057637},{"$f":"#REF!+#REF!+#REF!+#REF!+#REF!+#REF!+#REF!+#REF!+#REF!+#REF!+#REF!+#REF!+#REF!+#REF!+#REF!+#REF!+#REF!+#REF!+#REF!+#REF!+#REF!+#REF!+#REF!+#REF!+#REF!+#REF!+#REF!+#REF!+#REF!+#REF!+#REF!+#REF!+#REF!","v":{"$error":"#REF!"}},{"$f":"#REF!+#REF!+#REF!+#REF!+#REF!+#REF!+#REF!+#REF!+#REF!+#REF!+#REF!+#REF!+#REF!+#REF!+#REF!+#REF!+#REF!+#REF!+#REF!+#REF!+#REF!+#REF!+#REF!+#REF!+#REF!+#REF!+#REF!+#REF!+#REF!+#REF!+#REF!+#REF!+#REF!","v":{"$error":"#REF!"}},{"$f":"'9_Per Pupil Summary'!K22","v":2942.4916637644096},{"$f":"#REF!+#REF!+#REF!+#REF!+#REF!+#REF!+#REF!+#REF!+#REF!+#REF!+#REF!+#REF!+#REF!+#REF!+#REF!+#REF!+#REF!+#REF!+#REF!+#REF!+#REF!+#REF!+#REF!+#REF!+#REF!+#REF!+#REF!+#REF!+#REF!+#REF!+#REF!+#REF!+#REF!","v":{"$error":"#REF!"}},{"$f":"#REF!+#REF!+#REF!+#REF!+#REF!+#REF!+#REF!+#REF!+#REF!+#REF!+#REF!+#REF!+#REF!+#REF!+#REF!+#REF!+#REF!+#REF!+#REF!+#REF!+#REF!+#REF!+#REF!+#REF!+#REF!+#REF!+#REF!+#REF!+#REF!+#REF!+#REF!+#REF!+#REF!","v":{"$error":"#REF!"}},{"$f":"'9_Per Pupil Summary'!L22","v":1176.9966655057635},{"$f":"#REF!+#REF!+#REF!+#REF!+#REF!+#REF!+#REF!+#REF!+#REF!+#REF!+#REF!+#REF!+#REF!+#REF!+#REF!+#REF!+#REF!+#REF!+#REF!+#REF!+#REF!+#REF!+#REF!+#REF!+#REF!+#REF!+#REF!+#REF!+#REF!+#REF!+#REF!+#REF!+#REF!","v":{"$error":"#REF!"}},{"$f":"#REF!+#REF!+#REF!+#REF!+#REF!+#REF!+#REF!+#REF!+#REF!+#REF!+#REF!+#REF!+#REF!+#REF!+#REF!+#REF!+#REF!+#REF!+#REF!+#REF!+#REF!+#REF!+#REF!+#REF!+#REF!+#REF!+#REF!+#REF!+#REF!+#REF!+#REF!+#REF!+#REF!","v":{"$error":"#REF!"}},{"$f":"#REF!+#REF!","v":{"$error":"#REF!"}},{"$f":"#REF!+#REF!+#REF!+#REF!+#REF!+#REF!+#REF!+#REF!+#REF!+#REF!+#REF!+#REF!+#REF!+#REF!+#REF!+#REF!+#REF!+#REF!+#REF!+#REF!+#REF!+#REF!+#REF!+#REF!+#REF!+#REF!+#REF!+#REF!+#REF!+#REF!+#REF!+#REF!+#REF!","v":{"$error":"#REF!"}},{"$f":"#REF!+#REF!+#REF!+#REF!+#REF!+#REF!+#REF!+#REF!+#REF!+#REF!+#REF!+#REF!+#REF!+#REF!+#REF!+#REF!+#REF!+#REF!+#REF!+#REF!+#REF!+#REF!+#REF!+#REF!+#REF!+#REF!+#REF!+#REF!+#REF!+#REF!+#REF!+#REF!+#REF!","v":{"$error":"#REF!"}},{"$f":"#REF!+#REF!+#REF!+#REF!+#REF!+#REF!+#REF!+#REF!+#REF!+#REF!+#REF!+#REF!+#REF!+#REF!+#REF!+#REF!+#REF!+#REF!+#REF!+#REF!+#REF!+#REF!+#REF!+#REF!+#REF!+#REF!+#REF!+#REF!+#REF!+#REF!+#REF!+#REF!+#REF!","v":{"$error":"#REF!"}},{"$f":"#REF!+#REF!+#REF!+#REF!+#REF!+#REF!+#REF!+#REF!+#REF!+#REF!+#REF!+#REF!+#REF!+#REF!+#REF!+#REF!+#REF!+#REF!+#REF!+#REF!+#REF!+#REF!+#REF!+#REF!+#REF!+#REF!+#REF!+#REF!+#REF!+#REF!+#REF!+#REF!+#REF!","v":{"$error":"#REF!"}},{"$f":"#REF!+#REF!+#REF!+#REF!+#REF!+#REF!+#REF!+#REF!+#REF!+#REF!+#REF!+#REF!+#REF!+#REF!+#REF!+#REF!+#REF!+#REF!+#REF!+#REF!+#REF!+#REF!+#REF!+#REF!+#REF!+#REF!+#REF!+#REF!+#REF!+#REF!+#REF!+#REF!+#REF!","v":{"$error":"#REF!"}},{"$f":"#REF!+#REF!+#REF!+#REF!+#REF!+#REF!+#REF!+#REF!+#REF!+#REF!+#REF!+#REF!+#REF!+#REF!+#REF!+#REF!+#REF!+#REF!+#REF!+#REF!+#REF!+#REF!+#REF!+#REF!+#REF!+#REF!+#REF!+#REF!+#REF!+#REF!+#REF!+#REF!+#REF!","v":{"$error":"#REF!"}},{"$f":"#REF!+#REF!+#REF!+#REF!+#REF!+#REF!+#REF!+#REF!+#REF!+#REF!+#REF!+#REF!+#REF!+#REF!+#REF!+#REF!+#REF!+#REF!+#REF!+#REF!+#REF!+#REF!+#REF!+#REF!+#REF!+#REF!+#REF!+#REF!+#REF!+#REF!+#REF!+#REF!+#REF!","v":{"$error":"#REF!"}},{"$f":"#REF!+#REF!+#REF!+#REF!+#REF!+#REF!+#REF!+#REF!+#REF!+#REF!+#REF!+#REF!+#REF!+#REF!+#REF!+#REF!+#REF!+#REF!+#REF!+#REF!+#REF!+#REF!+#REF!+#REF!+#REF!+#REF!+#REF!+#REF!+#REF!+#REF!+#REF!+#REF!+#REF!","v":{"$error":"#REF!"}},{"$f":"#REF!+#REF!+#REF!+#REF!+#REF!+#REF!+#REF!+#REF!+#REF!+#REF!+#REF!+#REF!+#REF!+#REF!+#REF!+#REF!+#REF!+#REF!+#REF!+#REF!+#REF!+#REF!+#REF!+#REF!+#REF!+#REF!+#REF!+#REF!+#REF!+#REF!+#REF!+#REF!+#REF!","v":{"$error":"#REF!"}},{"$f":"#REF!+#REF!+#REF!+#REF!+#REF!+#REF!+#REF!+#REF!+#REF!+#REF!+#REF!+#REF!+#REF!+#REF!+#REF!+#REF!+#REF!+#REF!+#REF!+#REF!+#REF!+#REF!+#REF!+#REF!+#REF!+#REF!+#REF!+#REF!+#REF!+#REF!+#REF!+#REF!+#REF!","v":{"$error":"#REF!"}},{"$f":"#REF!+#REF!+#REF!+#REF!+#REF!+#REF!+#REF!+#REF!+#REF!+#REF!+#REF!+#REF!+#REF!+#REF!+#REF!+#REF!+#REF!+#REF!+#REF!+#REF!+#REF!+#REF!+#REF!+#REF!+#REF!+#REF!+#REF!+#REF!+#REF!+#REF!+#REF!+#REF!+#REF!","v":{"$error":"#REF!"}},{"$f":"#REF!+#REF!+#REF!+#REF!+#REF!+#REF!+#REF!+#REF!+#REF!+#REF!+#REF!+#REF!+#REF!+#REF!+#REF!+#REF!+#REF!+#REF!+#REF!+#REF!+#REF!+#REF!+#REF!+#REF!+#REF!+#REF!+#REF!+#REF!+#REF!+#REF!+#REF!+#REF!+#REF!","v":{"$error":"#REF!"}},{"$f":"'9_Per Pupil Summary'!N22","v":9508},{"$f":"#REF!+#REF!+#REF!+#REF!+#REF!+#REF!+#REF!+#REF!+#REF!+#REF!+#REF!+#REF!+#REF!+#REF!+#REF!+#REF!+#REF!+#REF!+#REF!+#REF!+#REF!+#REF!+#REF!+#REF!+#REF!+#REF!+#REF!+#REF!+#REF!+#REF!+#REF!+#REF!+#REF!","v":{"$error":"#REF!"}},{"$f":"#REF!+#REF!+#REF!+#REF!+#REF!+#REF!+#REF!+#REF!+#REF!+#REF!+#REF!+#REF!+#REF!+#REF!+#REF!+#REF!+#REF!+#REF!+#REF!+#REF!+#REF!+#REF!+#REF!+#REF!+#REF!+#REF!+#REF!+#REF!+#REF!+#REF!+#REF!+#REF!+#REF!","v":{"$error":"#REF!"}},{"$f":"#REF!+#REF!+#REF!+#REF!+#REF!+#REF!+#REF!+#REF!+#REF!+#REF!+#REF!+#REF!+#REF!+#REF!+#REF!+#REF!+#REF!+#REF!+#REF!+#REF!+#REF!+#REF!+#REF!+#REF!+#REF!+#REF!+#REF!+#REF!+#REF!+#REF!+#REF!+#REF!+#REF!","v":{"$error":"#REF!"}},{"$f":"#REF!+#REF!+#REF!+#REF!+#REF!+#REF!+#REF!+#REF!+#REF!+#REF!+#REF!+#REF!+#REF!+#REF!+#REF!+#REF!+#REF!+#REF!+#REF!+#REF!+#REF!+#REF!+#REF!+#REF!+#REF!+#REF!+#REF!+#REF!+#REF!+#REF!+#REF!+#REF!+#REF!","v":{"$error":"#REF!"}},{"$f":"#REF!+#REF!+#REF!+#REF!+#REF!+#REF!+#REF!+#REF!+#REF!+#REF!+#REF!+#REF!+#REF!+#REF!+#REF!+#REF!+#REF!+#REF!+#REF!+#REF!+#REF!+#REF!+#REF!+#REF!+#REF!+#REF!+#REF!+#REF!+#REF!+#REF!+#REF!+#REF!+#REF!","v":{"$error":"#REF!"}},{"$f":"#REF!+#REF!+#REF!+#REF!+#REF!+#REF!+#REF!+#REF!+#REF!+#REF!+#REF!+#REF!+#REF!+#REF!+#REF!+#REF!+#REF!+#REF!+#REF!+#REF!+#REF!+#REF!+#REF!+#REF!+#REF!+#REF!+#REF!+#REF!+#REF!+#REF!+#REF!+#REF!+#REF!","v":{"$error":"#REF!"}},{"$f":"#REF!+#REF!+#REF!+#REF!+#REF!+#REF!+#REF!+#REF!+#REF!+#REF!+#REF!+#REF!+#REF!+#REF!+#REF!+#REF!+#REF!+#REF!+#REF!+#REF!+#REF!+#REF!+#REF!+#REF!+#REF!+#REF!+#REF!+#REF!+#REF!+#REF!+#REF!+#REF!+#REF!","v":{"$error":"#REF!"}},{"$f":"#REF!+#REF!+#REF!+#REF!+#REF!+#REF!+#REF!+#REF!+#REF!+#REF!+#REF!+#REF!+#REF!+#REF!+#REF!+#REF!+#REF!+#REF!+#REF!+#REF!+#REF!+#REF!+#REF!+#REF!+#REF!+#REF!+#REF!+#REF!+#REF!+#REF!+#REF!+#REF!+#REF!","v":{"$error":"#REF!"}},{"$f":"#REF!+#REF!+#REF!+#REF!+#REF!+#REF!+#REF!+#REF!+#REF!+#REF!+#REF!+#REF!+#REF!+#REF!+#REF!+#REF!+#REF!+#REF!+#REF!+#REF!+#REF!+#REF!+#REF!+#REF!+#REF!+#REF!+#REF!+#REF!+#REF!+#REF!+#REF!+#REF!+#REF!","v":{"$error":"#REF!"}},{"$f":"#REF!+#REF!+#REF!+#REF!+#REF!+#REF!+#REF!+#REF!+#REF!+#REF!+#REF!+#REF!+#REF!+#REF!+#REF!+#REF!+#REF!+#REF!+#REF!+#REF!+#REF!+#REF!+#REF!+#REF!+#REF!+#REF!+#REF!+#REF!+#REF!+#REF!+#REF!+#REF!+#REF!","v":{"$error":"#REF!"}},{"$f":"#REF!+#REF!+#REF!+#REF!+#REF!+#REF!+#REF!+#REF!+#REF!+#REF!+#REF!+#REF!+#REF!+#REF!+#REF!+#REF!+#REF!+#REF!+#REF!+#REF!+#REF!+#REF!+#REF!+#REF!+#REF!+#REF!+#REF!+#REF!+#REF!+#REF!+#REF!+#REF!+#REF!","v":{"$error":"#REF!"}},{"$f":"#REF!+#REF!+#REF!+#REF!+#REF!+#REF!+#REF!+#REF!+#REF!+#REF!+#REF!+#REF!+#REF!+#REF!+#REF!+#REF!+#REF!+#REF!+#REF!+#REF!+#REF!+#REF!+#REF!+#REF!+#REF!+#REF!+#REF!+#REF!+#REF!+#REF!+#REF!+#REF!+#REF!","v":{"$error":"#REF!"}},{"$f":"#REF!+#REF!+#REF!+#REF!+#REF!+#REF!+#REF!+#REF!+#REF!+#REF!+#REF!+#REF!+#REF!+#REF!+#REF!+#REF!+#REF!+#REF!+#REF!+#REF!+#REF!+#REF!+#REF!+#REF!+#REF!+#REF!+#REF!+#REF!+#REF!+#REF!+#REF!+#REF!+#REF!","v":{"$error":"#REF!"}},{"$f":"#REF!+#REF!+#REF!+#REF!+#REF!+#REF!+#REF!+#REF!+#REF!+#REF!+#REF!+#REF!+#REF!+#REF!+#REF!+#REF!+#REF!+#REF!+#REF!+#REF!+#REF!+#REF!+#REF!+#REF!+#REF!+#REF!+#REF!+#REF!+#REF!+#REF!+#REF!+#REF!+#REF!","v":{"$error":"#REF!"}},{"$error":"#REF!"},{"$error":"#REF!"},{"$f":"#REF!+#REF!+#REF!+#REF!+#REF!+#REF!+#REF!+#REF!+#REF!+#REF!+#REF!+#REF!+#REF!+#REF!+#REF!+#REF!+#REF!+#REF!+#REF!+#REF!+#REF!+#REF!+#REF!+#REF!+#REF!+#REF!+#REF!+#REF!+#REF!+#REF!+#REF!+#REF!+#REF!","v":{"$error":"#REF!"}},null,{"$error":"#REF!"}]
[18,"East Carroll",{"$f":"#REF!+#REF!+#REF!+#REF!+#REF!+#REF!+#REF!+#REF!+#REF!+#REF!+#REF!+#REF!+#REF!+#REF!+#REF!+#REF!+#REF!+#REF!+#REF!+#REF!+#REF!+#REF!+#REF!+#REF!+#REF!+#REF!+#REF!+#REF!+#REF!+#REF!+#REF!+#REF!+#REF!","v":{"$error":"#REF!"}},{"$f":"'9_Per Pupil Summary'!H23","v":5439.7614497390132},{"$f":"#REF!+#REF!+#REF!+#REF!+#REF!+#REF!+#REF!+#REF!+#REF!+#REF!+#REF!+#REF!+#REF!+#REF!+#REF!+#REF!+#REF!+#REF!+#REF!+#REF!+#REF!+#REF!+#REF!+#REF!+#REF!+#REF!+#REF!+#REF!+#REF!+#REF!+#REF!+#REF!+#REF!","v":{"$error":"#REF!"}},{"$f":"#REF!+#REF!+#REF!+#REF!+#REF!+#REF!+#REF!+#REF!+#REF!+#REF!+#REF!+#REF!+#REF!+#REF!+#REF!+#REF!+#REF!+#REF!+#REF!+#REF!+#REF!+#REF!+#REF!+#REF!+#REF!+#REF!+#REF!+#REF!+#REF!+#REF!+#REF!+#REF!+#REF!","v":{"$error":"#REF!"}},{"$f":"'9_Per Pupil Summary'!I23","v":678.44957714364136},{"$f":"#REF!+#REF!+#REF!+#REF!+#REF!+#REF!+#REF!+#REF!+#REF!+#REF!+#REF!+#REF!+#REF!+#REF!+#REF!+#REF!+#REF!+#REF!+#REF!+#REF!+#REF!+#REF!+#REF!+#REF!+#REF!+#REF!+#REF!+#REF!+#REF!+#REF!+#REF!+#REF!+#REF!","v":{"$error":"#REF!"}},{"$f":"#REF!+#REF!+#REF!+#REF!+#REF!+#REF!+#REF!+#REF!+#REF!+#REF!+#REF!+#REF!+#REF!+#REF!+#REF!+#REF!+#REF!+#REF!+#REF!+#REF!+#REF!+#REF!+#REF!+#REF!+#REF!+#REF!+#REF!+#REF!+#REF!+#REF!+#REF!+#REF!+#REF!","v":{"$error":"#REF!"}},{"$f":"'9_Per Pupil Summary'!J23","v":185.03170285735675},{"$f":"#REF!+#REF!+#REF!+#REF!+#REF!+#REF!+#REF!+#REF!+#REF!+#REF!+#REF!+#REF!+#REF!+#REF!+#REF!+#REF!+#REF!+#REF!+#REF!+#REF!+#REF!+#REF!+#REF!+#REF!+#REF!+#REF!+#REF!+#REF!+#REF!+#REF!+#REF!+#REF!+#REF!","v":{"$error":"#REF!"}},{"$f":"#REF!+#REF!+#REF!+#REF!+#REF!+#REF!+#REF!+#REF!+#REF!+#REF!+#REF!+#REF!+#REF!+#REF!+#REF!+#REF!+#REF!+#REF!+#REF!+#REF!+#REF!+#REF!+#REF!+#REF!+#REF!+#REF!+#REF!+#REF!+#REF!+#REF!+#REF!+#REF!+#REF!","v":{"$error":"#REF!"}},{"$f":"'9_Per Pupil Summary'!K23","v":4625.7925714339181},{"$f":"#REF!+#REF!+#REF!+#REF!+#REF!+#REF!+#REF!+#REF!+#REF!+#REF!+#REF!+#REF!+#REF!+#REF!+#REF!+#REF!+#REF!+#REF!+#REF!+#REF!+#REF!+#REF!+#REF!+#REF!+#REF!+#REF!+#REF!+#REF!+#REF!+#REF!+#REF!+#REF!+#REF!","v":{"$error":"#REF!"}},{"$f":"#REF!+#REF!+#REF!+#REF!+#REF!+#REF!+#REF!+#REF!+#REF!+#REF!+#REF!+#REF!+#REF!+#REF!+#REF!+#REF!+#REF!+#REF!+#REF!+#REF!+#REF!+#REF!+#REF!+#REF!+#REF!+#REF!+#REF!+#REF!+#REF!+#REF!+#REF!+#REF!+#REF!","v":{"$error":"#REF!"}},{"$f":"'9_Per Pupil Summary'!L23","v":0},{"$f":"#REF!+#REF!+#REF!+#REF!+#REF!+#REF!+#REF!+#REF!+#REF!+#REF!+#REF!+#REF!+#REF!+#REF!+#REF!+#REF!+#REF!+#REF!+#REF!+#REF!+#REF!+#REF!+#REF!+#REF!+#REF!+#REF!+#REF!+#REF!+#REF!+#REF!+#REF!+#REF!+#REF!","v":{"$error":"#REF!"}},{"$f":"#REF!+#REF!+#REF!+#REF!+#REF!+#REF!+#REF!+#REF!+#REF!+#REF!+#REF!+#REF!+#REF!+#REF!+#REF!+#REF!+#REF!+#REF!+#REF!+#REF!+#REF!+#REF!+#REF!+#REF!+#REF!+#REF!+#REF!+#REF!+#REF!+#REF!+#REF!+#REF!+#REF!","v":{"$error":"#REF!"}},{"$f":"#REF!+#REF!","v":{"$error":"#REF!"}},{"$f":"#REF!+#REF!+#REF!+#REF!+#REF!+#REF!+#REF!+#REF!+#REF!+#REF!+#REF!+#REF!+#REF!+#REF!+#REF!+#REF!+#REF!+#REF!+#REF!+#REF!+#REF!+#REF!+#REF!+#REF!+#REF!+#REF!+#REF!+#REF!+#REF!+#REF!+#REF!+#REF!+#REF!","v":{"$error":"#REF!"}},{"$f":"#REF!+#REF!+#REF!+#REF!+#REF!+#REF!+#REF!+#REF!+#REF!+#REF!+#REF!+#REF!+#REF!+#REF!+#REF!+#REF!+#REF!+#REF!+#REF!+#REF!+#REF!+#REF!+#REF!+#REF!+#REF!+#REF!+#REF!+#REF!+#REF!+#REF!+#REF!+#REF!+#REF!","v":{"$error":"#REF!"}},{"$f":"#REF!+#REF!+#REF!+#REF!+#REF!+#REF!+#REF!+#REF!+#REF!+#REF!+#REF!+#REF!+#REF!+#REF!+#REF!+#REF!+#REF!+#REF!+#REF!+#REF!+#REF!+#REF!+#REF!+#REF!+#REF!+#REF!+#REF!+#REF!+#REF!+#REF!+#REF!+#REF!+#REF!","v":{"$error":"#REF!"}},{"$f":"#REF!+#REF!+#REF!+#REF!+#REF!+#REF!+#REF!+#REF!+#REF!+#REF!+#REF!+#REF!+#REF!+#REF!+#REF!+#REF!+#REF!+#REF!+#REF!+#REF!+#REF!+#REF!+#REF!+#REF!+#REF!+#REF!+#REF!+#REF!+#REF!+#REF!+#REF!+#REF!+#REF!","v":{"$error":"#REF!"}},{"$f":"#REF!+#REF!+#REF!+#REF!+#REF!+#REF!+#REF!+#REF!+#REF!+#REF!+#REF!+#REF!+#REF!+#REF!+#REF!+#REF!+#REF!+#REF!+#REF!+#REF!+#REF!+#REF!+#REF!+#REF!+#REF!+#REF!+#REF!+#REF!+#REF!+#REF!+#REF!+#REF!+#REF!","v":{"$error":"#REF!"}},{"$f":"#REF!+#REF!+#REF!+#REF!+#REF!+#REF!+#REF!+#REF!+#REF!+#REF!+#REF!+#REF!+#REF!+#REF!+#REF!+#REF!+#REF!+#REF!+#REF!+#REF!+#REF!+#REF!+#REF!+#REF!+#REF!+#REF!+#REF!+#REF!+#REF!+#REF!+#REF!+#REF!+#REF!","v":{"$error":"#REF!"}},{"$f":"#REF!+#REF!+#REF!+#REF!+#REF!+#REF!+#REF!+#REF!+#REF!+#REF!+#REF!+#REF!+#REF!+#REF!+#REF!+#REF!+#REF!+#REF!+#REF!+#REF!+#REF!+#REF!+#REF!+#REF!+#REF!+#REF!+#REF!+#REF!+#REF!+#REF!+#REF!+#REF!+#REF!","v":{"$error":"#REF!"}},{"$f":"#REF!+#REF!+#REF!+#REF!+#REF!+#REF!+#REF!+#REF!+#REF!+#REF!+#REF!+#REF!+#REF!+#REF!+#REF!+#REF!+#REF!+#REF!+#REF!+#REF!+#REF!+#REF!+#REF!+#REF!+#REF!+#REF!+#REF!+#REF!+#REF!+#REF!+#REF!+#REF!+#REF!","v":{"$error":"#REF!"}},{"$f":"#REF!+#REF!+#REF!+#REF!+#REF!+#REF!+#REF!+#REF!+#REF!+#REF!+#REF!+#REF!+#REF!+#REF!+#REF!+#REF!+#REF!+#REF!+#REF!+#REF!+#REF!+#REF!+#REF!+#REF!+#REF!+#REF!+#REF!+#REF!+#REF!+#REF!+#REF!+#REF!+#REF!","v":{"$error":"#REF!"}},{"$f":"#REF!+#REF!+#REF!+#REF!+#REF!+#REF!+#REF!+#REF!+#REF!+#REF!+#REF!+#REF!+#REF!+#REF!+#REF!+#REF!+#REF!+#REF!+#REF!+#REF!+#REF!+#REF!+#REF!+#REF!+#REF!+#REF!+#REF!+#REF!+#REF!+#REF!+#REF!+#REF!+#REF!","v":{"$error":"#REF!"}},{"$f":"#REF!+#REF!+#REF!+#REF!+#REF!+#REF!+#REF!+#REF!+#REF!+#REF!+#REF!+#REF!+#REF!+#REF!+#REF!+#REF!+#REF!+#REF!+#REF!+#REF!+#REF!+#REF!+#REF!+#REF!+#REF!+#REF!+#REF!+#REF!+#REF!+#REF!+#REF!+#REF!+#REF!","v":{"$error":"#REF!"}},{"$f":"#REF!+#REF!+#REF!+#REF!+#REF!+#REF!+#REF!+#REF!+#REF!+#REF!+#REF!+#REF!+#REF!+#REF!+#REF!+#REF!+#REF!+#REF!+#REF!+#REF!+#REF!+#REF!+#REF!+#REF!+#REF!+#REF!+#REF!+#REF!+#REF!+#REF!+#REF!+#REF!+#REF!","v":{"$error":"#REF!"}},{"$f":"'9_Per Pupil Summary'!N23","v":4595},{"$f":"#REF!+#REF!+#REF!+#REF!+#REF!+#REF!+#REF!+#REF!+#REF!+#REF!+#REF!+#REF!+#REF!+#REF!+#REF!+#REF!+#REF!+#REF!+#REF!+#REF!+#REF!+#REF!+#REF!+#REF!+#REF!+#REF!+#REF!+#REF!+#REF!+#REF!+#REF!+#REF!+#REF!","v":{"$error":"#REF!"}},{"$f":"#REF!+#REF!+#REF!+#REF!+#REF!+#REF!+#REF!+#REF!+#REF!+#REF!+#REF!+#REF!+#REF!+#REF!+#REF!+#REF!+#REF!+#REF!+#REF!+#REF!+#REF!+#REF!+#REF!+#REF!+#REF!+#REF!+#REF!+#REF!+#REF!+#REF!+#REF!+#REF!+#REF!","v":{"$error":"#REF!"}},{"$f":"#REF!+#REF!+#REF!+#REF!+#REF!+#REF!+#REF!+#REF!+#REF!+#REF!+#REF!+#REF!+#REF!+#REF!+#REF!+#REF!+#REF!+#REF!+#REF!+#REF!+#REF!+#REF!+#REF!+#REF!+#REF!+#REF!+#REF!+#REF!+#REF!+#REF!+#REF!+#REF!+#REF!","v":{"$error":"#REF!"}},{"$f":"#REF!+#REF!+#REF!+#REF!+#REF!+#REF!+#REF!+#REF!+#REF!+#REF!+#REF!+#REF!+#REF!+#REF!+#REF!+#REF!+#REF!+#REF!+#REF!+#REF!+#REF!+#REF!+#REF!+#REF!+#REF!+#REF!+#REF!+#REF!+#REF!+#REF!+#REF!+#REF!+#REF!","v":{"$error":"#REF!"}},{"$f":"#REF!+#REF!+#REF!+#REF!+#REF!+#REF!+#REF!+#REF!+#REF!+#REF!+#REF!+#REF!+#REF!+#REF!+#REF!+#REF!+#REF!+#REF!+#REF!+#REF!+#REF!+#REF!+#REF!+#REF!+#REF!+#REF!+#REF!+#REF!+#REF!+#REF!+#REF!+#REF!+#REF!","v":{"$error":"#REF!"}},{"$f":"#REF!+#REF!+#REF!+#REF!+#REF!+#REF!+#REF!+#REF!+#REF!+#REF!+#REF!+#REF!+#REF!+#REF!+#REF!+#REF!+#REF!+#REF!+#REF!+#REF!+#REF!+#REF!+#REF!+#REF!+#REF!+#REF!+#REF!+#REF!+#REF!+#REF!+#REF!+#REF!+#REF!","v":{"$error":"#REF!"}},{"$f":"#REF!+#REF!+#REF!+#REF!+#REF!+#REF!+#REF!+#REF!+#REF!+#REF!+#REF!+#REF!+#REF!+#REF!+#REF!+#REF!+#REF!+#REF!+#REF!+#REF!+#REF!+#REF!+#REF!+#REF!+#REF!+#REF!+#REF!+#REF!+#REF!+#REF!+#REF!+#REF!+#REF!","v":{"$error":"#REF!"}},{"$f":"#REF!+#REF!+#REF!+#REF!+#REF!+#REF!+#REF!+#REF!+#REF!+#REF!+#REF!+#REF!+#REF!+#REF!+#REF!+#REF!+#REF!+#REF!+#REF!+#REF!+#REF!+#REF!+#REF!+#REF!+#REF!+#REF!+#REF!+#REF!+#REF!+#REF!+#REF!+#REF!+#REF!","v":{"$error":"#REF!"}},{"$f":"#REF!+#REF!+#REF!+#REF!+#REF!+#REF!+#REF!+#REF!+#REF!+#REF!+#REF!+#REF!+#REF!+#REF!+#REF!+#REF!+#REF!+#REF!+#REF!+#REF!+#REF!+#REF!+#REF!+#REF!+#REF!+#REF!+#REF!+#REF!+#REF!+#REF!+#REF!+#REF!+#REF!","v":{"$error":"#REF!"}},{"$f":"#REF!+#REF!+#REF!+#REF!+#REF!+#REF!+#REF!+#REF!+#REF!+#REF!+#REF!+#REF!+#REF!+#REF!+#REF!+#REF!+#REF!+#REF!+#REF!+#REF!+#REF!+#REF!+#REF!+#REF!+#REF!+#REF!+#REF!+#REF!+#REF!+#REF!+#REF!+#REF!+#REF!","v":{"$error":"#REF!"}},{"$f":"#REF!+#REF!+#REF!+#REF!+#REF!+#REF!+#REF!+#REF!+#REF!+#REF!+#REF!+#REF!+#REF!+#REF!+#REF!+#REF!+#REF!+#REF!+#REF!+#REF!+#REF!+#REF!+#REF!+#REF!+#REF!+#REF!+#REF!+#REF!+#REF!+#REF!+#REF!+#REF!+#REF!","v":{"$error":"#REF!"}},{"$f":"#REF!+#REF!+#REF!+#REF!+#REF!+#REF!+#REF!+#REF!+#REF!+#REF!+#REF!+#REF!+#REF!+#REF!+#REF!+#REF!+#REF!+#REF!+#REF!+#REF!+#REF!+#REF!+#REF!+#REF!+#REF!+#REF!+#REF!+#REF!+#REF!+#REF!+#REF!+#REF!+#REF!","v":{"$error":"#REF!"}},{"$f":"#REF!+#REF!+#REF!+#REF!+#REF!+#REF!+#REF!+#REF!+#REF!+#REF!+#REF!+#REF!+#REF!+#REF!+#REF!+#REF!+#REF!+#REF!+#REF!+#REF!+#REF!+#REF!+#REF!+#REF!+#REF!+#REF!+#REF!+#REF!+#REF!+#REF!+#REF!+#REF!+#REF!","v":{"$error":"#REF!"}},{"$f":"#REF!+#REF!+#REF!+#REF!+#REF!+#REF!+#REF!+#REF!+#REF!+#REF!+#REF!+#REF!+#REF!+#REF!+#REF!+#REF!+#REF!+#REF!+#REF!+#REF!+#REF!+#REF!+#REF!+#REF!+#REF!+#REF!+#REF!+#REF!+#REF!+#REF!+#REF!+#REF!+#REF!","v":{"$error":"#REF!"}},{"$error":"#REF!"},{"$error":"#REF!"},{"$f":"#REF!+#REF!+#REF!+#REF!+#REF!+#REF!+#REF!+#REF!+#REF!+#REF!+#REF!+#REF!+#REF!+#REF!+#REF!+#REF!+#REF!+#REF!+#REF!+#REF!+#REF!+#REF!+#REF!+#REF!+#REF!+#REF!+#REF!+#REF!+#REF!+#REF!+#REF!+#REF!+#REF!","v":{"$error":"#REF!"}},null,{"$error":"#REF!"}]
[19,"East Feliciana",{"$f":"#REF!+#REF!+#REF!+#REF!+#REF!+#REF!+#REF!+#REF!+#REF!+#REF!+#REF!+#REF!+#REF!+#REF!+#REF!+#REF!+#REF!+#REF!+#REF!+#REF!+#REF!+#REF!+#REF!+#REF!+#REF!+#REF!+#REF!+#REF!+#REF!+#REF!+#REF!+#REF!+#REF!","v":{"$error":"#REF!"}},{"$f":"'9_Per Pupil Summary'!H24","v":4217.6134081884475},{"$f":"#REF!+#REF!+#REF!+#REF!+#REF!+#REF!+#REF!+#REF!+#REF!+#REF!+#REF!+#REF!+#REF!+#REF!+#REF!+#REF!+#REF!+#REF!+#REF!+#REF!+#REF!+#REF!+#REF!+#REF!+#REF!+#REF!+#REF!+#REF!+#REF!+#REF!+#REF!+#REF!+#REF!","v":{"$error":"#REF!"}},{"$f":"#REF!+#REF!+#REF!+#REF!+#REF!+#REF!+#REF!+#REF!+#REF!+#REF!+#REF!+#REF!+#REF!+#REF!+#REF!+#REF!+#REF!+#REF!+#REF!+#REF!+#REF!+#REF!+#REF!+#REF!+#REF!+#REF!+#REF!+#REF!+#REF!+#REF!+#REF!+#REF!+#REF!","v":{"$error":"#REF!"}},{"$f":"'9_Per Pupil Summary'!I24","v":536.63130247509093},{"$f":"#REF!+#REF!+#REF!+#REF!+#REF!+#REF!+#REF!+#REF!+#REF!+#REF!+#REF!+#REF!+#REF!+#REF!+#REF!+#REF!+#REF!+#REF!+#REF!+#REF!+#REF!+#REF!+#REF!+#REF!+#REF!+#REF!+#REF!+#REF!+#REF!+#REF!+#REF!+#REF!+#REF!","v":{"$error":"#REF!"}},{"$f":"#REF!+#REF!+#REF!+#REF!+#REF!+#REF!+#REF!+#REF!+#REF!+#REF!+#REF!+#REF!+#REF!+#REF!+#REF!+#REF!+#REF!+#REF!+#REF!+#REF!+#REF!+#REF!+#REF!+#REF!+#REF!+#REF!+#REF!+#REF!+#REF!+#REF!+#REF!+#REF!+#REF!","v":{"$error":"#REF!"}},{"$f":"'9_Per Pupil Summary'!J24","v":146.35399158411568},{"$f":"#REF!+#REF!+#REF!+#REF!+#REF!+#REF!+#REF!+#REF!+#REF!+#REF!+#REF!+#REF!+#REF!+#REF!+#REF!+#REF!+#REF!+#REF!+#REF!+#REF!+#REF!+#REF!+#REF!+#REF!+#REF!+#REF!+#REF!+#REF!+#REF!+#REF!+#REF!+#REF!+#REF!","v":{"$error":"#REF!"}},{"$f":"#REF!+#REF!+#REF!+#REF!+#REF!+#REF!+#REF!+#REF!+#REF!+#REF!+#REF!+#REF!+#REF!+#REF!+#REF!+#REF!+#REF!+#REF!+#REF!+#REF!+#REF!+#REF!+#REF!+#REF!+#REF!+#REF!+#REF!+#REF!+#REF!+#REF!+#REF!+#REF!+#REF!","v":{"$error":"#REF!"}},{"$f":"'9_Per Pupil Summary'!K24","v":3658.849789602893},{"$f":"#REF!+#REF!+#REF!+#REF!+#REF!+#REF!+#REF!+#REF!+#REF!+#REF!+#REF!+#REF!+#REF!+#REF!+#REF!+#REF!+#REF!+#REF!+#REF!+#REF!+#REF!+#REF!+#REF!+#REF!+#REF!+#REF!+#REF!+#REF!+#REF!+#REF!+#REF!+#REF!+#REF!","v":{"$error":"#REF!"}},{"$f":"#REF!+#REF!+#REF!+#REF!+#REF!+#REF!+#REF!+#REF!+#REF!+#REF!+#REF!+#REF!+#REF!+#REF!+#REF!+#REF!+#REF!+#REF!+#REF!+#REF!+#REF!+#REF!+#REF!+#REF!+#REF!+#REF!+#REF!+#REF!+#REF!+#REF!+#REF!+#REF!+#REF!","v":{"$error":"#REF!"}},{"$f":"'9_Per Pupil Summary'!L24","v":1463.5399158411569},{"$f":"#REF!+#REF!+#REF!+#REF!+#REF!+#REF!+#REF!+#REF!+#REF!+#REF!+#REF!+#REF!+#REF!+#REF!+#REF!+#REF!+#REF!+#REF!+#REF!+#REF!+#REF!+#REF!+#REF!+#REF!+#REF!+#REF!+#REF!+#REF!+#REF!+#REF!+#REF!+#REF!+#REF!","v":{"$error":"#REF!"}},{"$f":"#REF!+#REF!+#REF!+#REF!+#REF!+#REF!+#REF!+#REF!+#REF!+#REF!+#REF!+#REF!+#REF!+#REF!+#REF!+#REF!+#REF!+#REF!+#REF!+#REF!+#REF!+#REF!+#REF!+#REF!+#REF!+#REF!+#REF!+#REF!+#REF!+#REF!+#REF!+#REF!+#REF!","v":{"$error":"#REF!"}},{"$f":"#REF!+#REF!","v":{"$error":"#REF!"}},{"$f":"#REF!+#REF!+#REF!+#REF!+#REF!+#REF!+#REF!+#REF!+#REF!+#REF!+#REF!+#REF!+#REF!+#REF!+#REF!+#REF!+#REF!+#REF!+#REF!+#REF!+#REF!+#REF!+#REF!+#REF!+#REF!+#REF!+#REF!+#REF!+#REF!+#REF!+#REF!+#REF!+#REF!","v":{"$error":"#REF!"}},{"$f":"#REF!+#REF!+#REF!+#REF!+#REF!+#REF!+#REF!+#REF!+#REF!+#REF!+#REF!+#REF!+#REF!+#REF!+#REF!+#REF!+#REF!+#REF!+#REF!+#REF!+#REF!+#REF!+#REF!+#REF!+#REF!+#REF!+#REF!+#REF!+#REF!+#REF!+#REF!+#REF!+#REF!","v":{"$error":"#REF!"}},{"$f":"#REF!+#REF!+#REF!+#REF!+#REF!+#REF!+#REF!+#REF!+#REF!+#REF!+#REF!+#REF!+#REF!+#REF!+#REF!+#REF!+#REF!+#REF!+#REF!+#REF!+#REF!+#REF!+#REF!+#REF!+#REF!+#REF!+#REF!+#REF!+#REF!+#REF!+#REF!+#REF!+#REF!","v":{"$error":"#REF!"}},{"$f":"#REF!+#REF!+#REF!+#REF!+#REF!+#REF!+#REF!+#REF!+#REF!+#REF!+#REF!+#REF!+#REF!+#REF!+#REF!+#REF!+#REF!+#REF!+#REF!+#REF!+#REF!+#REF!+#REF!+#REF!+#REF!+#REF!+#REF!+#REF!+#REF!+#REF!+#REF!+#REF!+#REF!","v":{"$error":"#REF!"}},{"$f":"#REF!+#REF!+#REF!+#REF!+#REF!+#REF!+#REF!+#REF!+#REF!+#REF!+#REF!+#REF!+#REF!+#REF!+#REF!+#REF!+#REF!+#REF!+#REF!+#REF!+#REF!+#REF!+#REF!+#REF!+#REF!+#REF!+#REF!+#REF!+#REF!+#REF!+#REF!+#REF!+#REF!","v":{"$error":"#REF!"}},{"$f":"#REF!+#REF!+#REF!+#REF!+#REF!+#REF!+#REF!+#REF!+#REF!+#REF!+#REF!+#REF!+#REF!+#REF!+#REF!+#REF!+#REF!+#REF!+#REF!+#REF!+#REF!+#REF!+#REF!+#REF!+#REF!+#REF!+#REF!+#REF!+#REF!+#REF!+#REF!+#REF!+#REF!","v":{"$error":"#REF!"}},{"$f":"#REF!+#REF!+#REF!+#REF!+#REF!+#REF!+#REF!+#REF!+#REF!+#REF!+#REF!+#REF!+#REF!+#REF!+#REF!+#REF!+#REF!+#REF!+#REF!+#REF!+#REF!+#REF!+#REF!+#REF!+#REF!+#REF!+#REF!+#REF!+#REF!+#REF!+#REF!+#REF!+#REF!","v":{"$error":"#REF!"}},{"$f":"#REF!+#REF!+#REF!+#REF!+#REF!+#REF!+#REF!+#REF!+#REF!+#REF!+#REF!+#REF!+#REF!+#REF!+#REF!+#REF!+#REF!+#REF!+#REF!+#REF!+#REF!+#REF!+#REF!+#REF!+#REF!+#REF!+#REF!+#REF!+#REF!+#REF!+#REF!+#REF!+#REF!","v":{"$error":"#REF!"}},{"$f":"#REF!+#REF!+#REF!+#REF!+#REF!+#REF!+#REF!+#REF!+#REF!+#REF!+#REF!+#REF!+#REF!+#REF!+#REF!+#REF!+#REF!+#REF!+#REF!+#REF!+#REF!+#REF!+#REF!+#REF!+#REF!+#REF!+#REF!+#REF!+#REF!+#REF!+#REF!+#REF!+#REF!","v":{"$error":"#REF!"}},{"$f":"#REF!+#REF!+#REF!+#REF!+#REF!+#REF!+#REF!+#REF!+#REF!+#REF!+#REF!+#REF!+#REF!+#REF!+#REF!+#REF!+#REF!+#REF!+#REF!+#REF!+#REF!+#REF!+#REF!+#REF!+#REF!+#REF!+#REF!+#REF!+#REF!+#REF!+#REF!+#REF!+#REF!","v":{"$error":"#REF!"}},{"$f":"#REF!+#REF!+#REF!+#REF!+#REF!+#REF!+#REF!+#REF!+#REF!+#REF!+#REF!+#REF!+#REF!+#REF!+#REF!+#REF!+#REF!+#REF!+#REF!+#REF!+#REF!+#REF!+#REF!+#REF!+#REF!+#REF!+#REF!+#REF!+#REF!+#REF!+#REF!+#REF!+#REF!","v":{"$error":"#REF!"}},{"$f":"#REF!+#REF!+#REF!+#REF!+#REF!+#REF!+#REF!+#REF!+#REF!+#REF!+#REF!+#REF!+#REF!+#REF!+#REF!+#REF!+#REF!+#REF!+#REF!+#REF!+#REF!+#REF!+#REF!+#REF!+#REF!+#REF!+#REF!+#REF!+#REF!+#REF!+#REF!+#REF!+#REF!","v":{"$error":"#REF!"}},{"$f":"'9_Per Pupil Summary'!N24","v":6208},{"$f":"#REF!+#REF!+#REF!+#REF!+#REF!+#REF!+#REF!+#REF!+#REF!+#REF!+#REF!+#REF!+#REF!+#REF!+#REF!+#REF!+#REF!+#REF!+#REF!+#REF!+#REF!+#REF!+#REF!+#REF!+#REF!+#REF!+#REF!+#REF!+#REF!+#REF!+#REF!+#REF!+#REF!","v":{"$error":"#REF!"}},{"$f":"#REF!+#REF!+#REF!+#REF!+#REF!+#REF!+#REF!+#REF!+#REF!+#REF!+#REF!+#REF!+#REF!+#REF!+#REF!+#REF!+#REF!+#REF!+#REF!+#REF!+#REF!+#REF!+#REF!+#REF!+#REF!+#REF!+#REF!+#REF!+#REF!+#REF!+#REF!+#REF!+#REF!","v":{"$error":"#REF!"}},{"$f":"#REF!+#REF!+#REF!+#REF!+#REF!+#REF!+#REF!+#REF!+#REF!+#REF!+#REF!+#REF!+#REF!+#REF!+#REF!+#REF!+#REF!+#REF!+#REF!+#REF!+#REF!+#REF!+#REF!+#REF!+#REF!+#REF!+#REF!+#REF!+#REF!+#REF!+#REF!+#REF!+#REF!","v":{"$error":"#REF!"}},{"$f":"#REF!+#REF!+#REF!+#REF!+#REF!+#REF!+#REF!+#REF!+#REF!+#REF!+#REF!+#REF!+#REF!+#REF!+#REF!+#REF!+#REF!+#REF!+#REF!+#REF!+#REF!+#REF!+#REF!+#REF!+#REF!+#REF!+#REF!+#REF!+#REF!+#REF!+#REF!+#REF!+#REF!","v":{"$error":"#REF!"}},{"$f":"#REF!+#REF!+#REF!+#REF!+#REF!+#REF!+#REF!+#REF!+#REF!+#REF!+#REF!+#REF!+#REF!+#REF!+#REF!+#REF!+#REF!+#REF!+#REF!+#REF!+#REF!+#REF!+#REF!+#REF!+#REF!+#REF!+#REF!+#REF!+#REF!+#REF!+#REF!+#REF!+#REF!","v":{"$error":"#REF!"}},{"$f":"#REF!+#REF!+#REF!+#REF!+#REF!+#REF!+#REF!+#REF!+#REF!+#REF!+#REF!+#REF!+#REF!+#REF!+#REF!+#REF!+#REF!+#REF!+#REF!+#REF!+#REF!+#REF!+#REF!+#REF!+#REF!+#REF!+#REF!+#REF!+#REF!+#REF!+#REF!+#REF!+#REF!","v":{"$error":"#REF!"}},{"$f":"#REF!+#REF!+#REF!+#REF!+#REF!+#REF!+#REF!+#REF!+#REF!+#REF!+#REF!+#REF!+#REF!+#REF!+#REF!+#REF!+#REF!+#REF!+#REF!+#REF!+#REF!+#REF!+#REF!+#REF!+#REF!+#REF!+#REF!+#REF!+#REF!+#REF!+#REF!+#REF!+#REF!","v":{"$error":"#REF!"}},{"$f":"#REF!+#REF!+#REF!+#REF!+#REF!+#REF!+#REF!+#REF!+#REF!+#REF!+#REF!+#REF!+#REF!+#REF!+#REF!+#REF!+#REF!+#REF!+#REF!+#REF!+#REF!+#REF!+#REF!+#REF!+#REF!+#REF!+#REF!+#REF!+#REF!+#REF!+#REF!+#REF!+#REF!","v":{"$error":"#REF!"}},{"$f":"#REF!+#REF!+#REF!+#REF!+#REF!+#REF!+#REF!+#REF!+#REF!+#REF!+#REF!+#REF!+#REF!+#REF!+#REF!+#REF!+#REF!+#REF!+#REF!+#REF!+#REF!+#REF!+#REF!+#REF!+#REF!+#REF!+#REF!+#REF!+#REF!+#REF!+#REF!+#REF!+#REF!","v":{"$error":"#REF!"}},{"$f":"#REF!+#REF!+#REF!+#REF!+#REF!+#REF!+#REF!+#REF!+#REF!+#REF!+#REF!+#REF!+#REF!+#REF!+#REF!+#REF!+#REF!+#REF!+#REF!+#REF!+#REF!+#REF!+#REF!+#REF!+#REF!+#REF!+#REF!+#REF!+#REF!+#REF!+#REF!+#REF!+#REF!","v":{"$error":"#REF!"}},{"$f":"#REF!+#REF!+#REF!+#REF!+#REF!+#REF!+#REF!+#REF!+#REF!+#REF!+#REF!+#REF!+#REF!+#REF!+#REF!+#REF!+#REF!+#REF!+#REF!+#REF!+#REF!+#REF!+#REF!+#REF!+#REF!+#REF!+#REF!+#REF!+#REF!+#REF!+#REF!+#REF!+#REF!","v":{"$error":"#REF!"}},{"$f":"#REF!+#REF!+#REF!+#REF!+#REF!+#REF!+#REF!+#REF!+#REF!+#REF!+#REF!+#REF!+#REF!+#REF!+#REF!+#REF!+#REF!+#REF!+#REF!+#REF!+#REF!+#REF!+#REF!+#REF!+#REF!+#REF!+#REF!+#REF!+#REF!+#REF!+#REF!+#REF!+#REF!","v":{"$error":"#REF!"}},{"$f":"#REF!+#REF!+#REF!+#REF!+#REF!+#REF!+#REF!+#REF!+#REF!+#REF!+#REF!+#REF!+#REF!+#REF!+#REF!+#REF!+#REF!+#REF!+#REF!+#REF!+#REF!+#REF!+#REF!+#REF!+#REF!+#REF!+#REF!+#REF!+#REF!+#REF!+#REF!+#REF!+#REF!","v":{"$error":"#REF!"}},{"$f":"#REF!+#REF!+#REF!+#REF!+#REF!+#REF!+#REF!+#REF!+#REF!+#REF!+#REF!+#REF!+#REF!+#REF!+#REF!+#REF!+#REF!+#REF!+#REF!+#REF!+#REF!+#REF!+#REF!+#REF!+#REF!+#REF!+#REF!+#REF!+#REF!+#REF!+#REF!+#REF!+#REF!","v":{"$error":"#REF!"}},{"$error":"#REF!"},{"$error":"#REF!"},{"$f":"#REF!+#REF!+#REF!+#REF!+#REF!+#REF!+#REF!+#REF!+#REF!+#REF!+#REF!+#REF!+#REF!+#REF!+#REF!+#REF!+#REF!+#REF!+#REF!+#REF!+#REF!+#REF!+#REF!+#REF!+#REF!+#REF!+#REF!+#REF!+#REF!+#REF!+#REF!+#REF!+#REF!","v":{"$error":"#REF!"}},null,{"$error":"#REF!"}]
[20,"Evangeline",{"$f":"#REF!+#REF!+#REF!+#REF!+#REF!+#REF!+#REF!+#REF!+#REF!+#REF!+#REF!+#REF!+#REF!+#REF!+#REF!+#REF!+#REF!+#REF!+#REF!+#REF!+#REF!+#REF!+#REF!+#REF!+#REF!+#REF!+#REF!+#REF!+#REF!+#REF!+#REF!+#REF!+#REF!","v":{"$error":"#REF!"}},{"$f":"'9_Per Pupil Summary'!H25","v":5362.2089180691219},{"$f":"#REF!+#REF!+#REF!+#REF!+#REF!+#REF!+#REF!+#REF!+#REF!+#REF!+#REF!+#REF!+#REF!+#REF!+#REF!+#REF!+#REF!+#REF!+#REF!+#REF!+#REF!+#REF!+#REF!+#REF!+#REF!+#REF!+#REF!+#REF!+#REF!+#REF!+#REF!+#REF!+#REF!","v":{"$error":"#REF!"}},{"$f":"#REF!+#REF!+#REF!+#REF!+#REF!+#REF!+#REF!+#REF!+#REF!+#REF!+#REF!+#REF!+#REF!+#REF!+#REF!+#REF!+#REF!+#REF!+#REF!+#REF!+#REF!+#REF!+#REF!+#REF!+#REF!+#REF!+#REF!+#REF!+#REF!+#REF!+#REF!+#REF!+#REF!","v":{"$error":"#REF!"}},{"$f":"'9_Per Pupil Summary'!I25","v":717.86856197520683},{"$f":"#REF!+#REF!+#REF!+#REF!+#REF!+#REF!+#REF!+#REF!+#REF!+#REF!+#REF!+#REF!+#REF!+#REF!+#REF!+#REF!+#REF!+#REF!+#REF!+#REF!+#REF!+#REF!+#REF!+#REF!+#REF!+#REF!+#REF!+#REF!+#REF!+#REF!+#REF!+#REF!+#REF!","v":{"$error":"#REF!"}},{"$f":"#REF!+#REF!+#REF!+#REF!+#REF!+#REF!+#REF!+#REF!+#REF!+#REF!+#REF!+#REF!+#REF!+#REF!+#REF!+#REF!+#REF!+#REF!+#REF!+#REF!+#REF!+#REF!+#REF!+#REF!+#REF!+#REF!+#REF!+#REF!+#REF!+#REF!+#REF!+#REF!+#REF!","v":{"$error":"#REF!"}},{"$f":"'9_Per Pupil Summary'!J25","v":195.78233508414732},{"$f":"#REF!+#REF!+#REF!+#REF!+#REF!+#REF!+#REF!+#REF!+#REF!+#REF!+#REF!+#REF!+#REF!+#REF!+#REF!+#REF!+#REF!+#REF!+#REF!+#REF!+#REF!+#REF!+#REF!+#REF!+#REF!+#REF!+#REF!+#REF!+#REF!+#REF!+#REF!+#REF!+#REF!","v":{"$error":"#REF!"}},{"$f":"#REF!+#REF!+#REF!+#REF!+#REF!+#REF!+#REF!+#REF!+#REF!+#REF!+#REF!+#REF!+#REF!+#REF!+#REF!+#REF!+#REF!+#REF!+#REF!+#REF!+#REF!+#REF!+#REF!+#REF!+#REF!+#REF!+#REF!+#REF!+#REF!+#REF!+#REF!+#REF!+#REF!","v":{"$error":"#REF!"}},{"$f":"'9_Per Pupil Summary'!K25","v":4894.5583771036827},{"$f":"#REF!+#REF!+#REF!+#REF!+#REF!+#REF!+#REF!+#REF!+#REF!+#REF!+#REF!+#REF!+#REF!+#REF!+#REF!+#REF!+#REF!+#REF!+#REF!+#REF!+#REF!+#REF!+#REF!+#REF!+#REF!+#REF!+#REF!+#REF!+#REF!+#REF!+#REF!+#REF!+#REF!","v":{"$error":"#REF!"}},{"$f":"#REF!+#REF!+#REF!+#REF!+#REF!+#REF!+#REF!+#REF!+#REF!+#REF!+#REF!+#REF!+#REF!+#REF!+#REF!+#REF!+#REF!+#REF!+#REF!+#REF!+#REF!+#REF!+#REF!+#REF!+#REF!+#REF!+#REF!+#REF!+#REF!+#REF!+#REF!+#REF!+#REF!","v":{"$error":"#REF!"}},{"$f":"'9_Per Pupil Summary'!L25","v":1957.8233508414728},{"$f":"#REF!+#REF!+#REF!+#REF!+#REF!+#REF!+#REF!+#REF!+#REF!+#REF!+#REF!+#REF!+#REF!+#REF!+#REF!+#REF!+#REF!+#REF!+#REF!+#REF!+#REF!+#REF!+#REF!+#REF!+#REF!+#REF!+#REF!+#REF!+#REF!+#REF!+#REF!+#REF!+#REF!","v":{"$error":"#REF!"}},{"$f":"#REF!+#REF!+#REF!+#REF!+#REF!+#REF!+#REF!+#REF!+#REF!+#REF!+#REF!+#REF!+#REF!+#REF!+#REF!+#REF!+#REF!+#REF!+#REF!+#REF!+#REF!+#REF!+#REF!+#REF!+#REF!+#REF!+#REF!+#REF!+#REF!+#REF!+#REF!+#REF!+#REF!","v":{"$error":"#REF!"}},{"$f":"#REF!+#REF!","v":{"$error":"#REF!"}},{"$f":"#REF!+#REF!+#REF!+#REF!+#REF!+#REF!+#REF!+#REF!+#REF!+#REF!+#REF!+#REF!+#REF!+#REF!+#REF!+#REF!+#REF!+#REF!+#REF!+#REF!+#REF!+#REF!+#REF!+#REF!+#REF!+#REF!+#REF!+#REF!+#REF!+#REF!+#REF!+#REF!+#REF!","v":{"$error":"#REF!"}},{"$f":"#REF!+#REF!+#REF!+#REF!+#REF!+#REF!+#REF!+#REF!+#REF!+#REF!+#REF!+#REF!+#REF!+#REF!+#REF!+#REF!+#REF!+#REF!+#REF!+#REF!+#REF!+#REF!+#REF!+#REF!+#REF!+#REF!+#REF!+#REF!+#REF!+#REF!+#REF!+#REF!+#REF!","v":{"$error":"#REF!"}},{"$f":"#REF!+#REF!+#REF!+#REF!+#REF!+#REF!+#REF!+#REF!+#REF!+#REF!+#REF!+#REF!+#REF!+#REF!+#REF!+#REF!+#REF!+#REF!+#REF!+#REF!+#REF!+#REF!+#REF!+#REF!+#REF!+#REF!+#REF!+#REF!+#REF!+#REF!+#REF!+#REF!+#REF!","v":{"$error":"#REF!"}},{"$f":"#REF!+#REF!+#REF!+#REF!+#REF!+#REF!+#REF!+#REF!+#REF!+#REF!+#REF!+#REF!+#REF!+#REF!+#REF!+#REF!+#REF!+#REF!+#REF!+#REF!+#REF!+#REF!+#REF!+#REF!+#REF!+#REF!+#REF!+#REF!+#REF!+#REF!+#REF!+#REF!+#REF!","v":{"$error":"#REF!"}},{"$f":"#REF!+#REF!+#REF!+#REF!+#REF!+#REF!+#REF!+#REF!+#REF!+#REF!+#REF!+#REF!+#REF!+#REF!+#REF!+#REF!+#REF!+#REF!+#REF!+#REF!+#REF!+#REF!+#REF!+#REF!+#REF!+#REF!+#REF!+#REF!+#REF!+#REF!+#REF!+#REF!+#REF!","v":{"$error":"#REF!"}},{"$f":"#REF!+#REF!+#REF!+#REF!+#REF!+#REF!+#REF!+#REF!+#REF!+#REF!+#REF!+#REF!+#REF!+#REF!+#REF!+#REF!+#REF!+#REF!+#REF!+#REF!+#REF!+#REF!+#REF!+#REF!+#REF!+#REF!+#REF!+#REF!+#REF!+#REF!+#REF!+#REF!+#REF!","v":{"$error":"#REF!"}},{"$f":"#REF!+#REF!+#REF!+#REF!+#REF!+#REF!+#REF!+#REF!+#REF!+#REF!+#REF!+#REF!+#REF!+#REF!+#REF!+#REF!+#REF!+#REF!+#REF!+#REF!+#REF!+#REF!+#REF!+#REF!+#REF!+#REF!+#REF!+#REF!+#REF!+#REF!+#REF!+#REF!+#REF!","v":{"$error":"#REF!"}},{"$f":"#REF!+#REF!+#REF!+#REF!+#REF!+#REF!+#REF!+#REF!+#REF!+#REF!+#REF!+#REF!+#REF!+#REF!+#REF!+#REF!+#REF!+#REF!+#REF!+#REF!+#REF!+#REF!+#REF!+#REF!+#REF!+#REF!+#REF!+#REF!+#REF!+#REF!+#REF!+#REF!+#REF!","v":{"$error":"#REF!"}},{"$f":"#REF!+#REF!+#REF!+#REF!+#REF!+#REF!+#REF!+#REF!+#REF!+#REF!+#REF!+#REF!+#REF!+#REF!+#REF!+#REF!+#REF!+#REF!+#REF!+#REF!+#REF!+#REF!+#REF!+#REF!+#REF!+#REF!+#REF!+#REF!+#REF!+#REF!+#REF!+#REF!+#REF!","v":{"$error":"#REF!"}},{"$f":"#REF!+#REF!+#REF!+#REF!+#REF!+#REF!+#REF!+#REF!+#REF!+#REF!+#REF!+#REF!+#REF!+#REF!+#REF!+#REF!+#REF!+#REF!+#REF!+#REF!+#REF!+#REF!+#REF!+#REF!+#REF!+#REF!+#REF!+#REF!+#REF!+#REF!+#REF!+#REF!+#REF!","v":{"$error":"#REF!"}},{"$f":"#REF!+#REF!+#REF!+#REF!+#REF!+#REF!+#REF!+#REF!+#REF!+#REF!+#REF!+#REF!+#REF!+#REF!+#REF!+#REF!+#REF!+#REF!+#REF!+#REF!+#REF!+#REF!+#REF!+#REF!+#REF!+#REF!+#REF!+#REF!+#REF!+#REF!+#REF!+#REF!+#REF!","v":{"$error":"#REF!"}},{"$f":"#REF!+#REF!+#REF!+#REF!+#REF!+#REF!+#REF!+#REF!+#REF!+#REF!+#REF!+#REF!+#REF!+#REF!+#REF!+#REF!+#REF!+#REF!+#REF!+#REF!+#REF!+#REF!+#REF!+#REF!+#REF!+#REF!+#REF!+#REF!+#REF!+#REF!+#REF!+#REF!+#REF!","v":{"$error":"#REF!"}},{"$f":"'9_Per Pupil Summary'!N25","v":3409},{"$f":"#REF!+#REF!+#REF!+#REF!+#REF!+#REF!+#REF!+#REF!+#REF!+#REF!+#REF!+#REF!+#REF!+#REF!+#REF!+#REF!+#REF!+#REF!+#REF!+#REF!+#REF!+#REF!+#REF!+#REF!+#REF!+#REF!+#REF!+#REF!+#REF!+#REF!+#REF!+#REF!+#REF!","v":{"$error":"#REF!"}},{"$f":"#REF!+#REF!+#REF!+#REF!+#REF!+#REF!+#REF!+#REF!+#REF!+#REF!+#REF!+#REF!+#REF!+#REF!+#REF!+#REF!+#REF!+#REF!+#REF!+#REF!+#REF!+#REF!+#REF!+#REF!+#REF!+#REF!+#REF!+#REF!+#REF!+#REF!+#REF!+#REF!+#REF!","v":{"$error":"#REF!"}},{"$f":"#REF!+#REF!+#REF!+#REF!+#REF!+#REF!+#REF!+#REF!+#REF!+#REF!+#REF!+#REF!+#REF!+#REF!+#REF!+#REF!+#REF!+#REF!+#REF!+#REF!+#REF!+#REF!+#REF!+#REF!+#REF!+#REF!+#REF!+#REF!+#REF!+#REF!+#REF!+#REF!+#REF!","v":{"$error":"#REF!"}},{"$f":"#REF!+#REF!+#REF!+#REF!+#REF!+#REF!+#REF!+#REF!+#REF!+#REF!+#REF!+#REF!+#REF!+#REF!+#REF!+#REF!+#REF!+#REF!+#REF!+#REF!+#REF!+#REF!+#REF!+#REF!+#REF!+#REF!+#REF!+#REF!+#REF!+#REF!+#REF!+#REF!+#REF!","v":{"$error":"#REF!"}},{"$f":"#REF!+#REF!+#REF!+#REF!+#REF!+#REF!+#REF!+#REF!+#REF!+#REF!+#REF!+#REF!+#REF!+#REF!+#REF!+#REF!+#REF!+#REF!+#REF!+#REF!+#REF!+#REF!+#REF!+#REF!+#REF!+#REF!+#REF!+#REF!+#REF!+#REF!+#REF!+#REF!+#REF!","v":{"$error":"#REF!"}},{"$f":"#REF!+#REF!+#REF!+#REF!+#REF!+#REF!+#REF!+#REF!+#REF!+#REF!+#REF!+#REF!+#REF!+#REF!+#REF!+#REF!+#REF!+#REF!+#REF!+#REF!+#REF!+#REF!+#REF!+#REF!+#REF!+#REF!+#REF!+#REF!+#REF!+#REF!+#REF!+#REF!+#REF!","v":{"$error":"#REF!"}},{"$f":"#REF!+#REF!+#REF!+#REF!+#REF!+#REF!+#REF!+#REF!+#REF!+#REF!+#REF!+#REF!+#REF!+#REF!+#REF!+#REF!+#REF!+#REF!+#REF!+#REF!+#REF!+#REF!+#REF!+#REF!+#REF!+#REF!+#REF!+#REF!+#REF!+#REF!+#REF!+#REF!+#REF!","v":{"$error":"#REF!"}},{"$f":"#REF!+#REF!+#REF!+#REF!+#REF!+#REF!+#REF!+#REF!+#REF!+#REF!+#REF!+#REF!+#REF!+#REF!+#REF!+#REF!+#REF!+#REF!+#REF!+#REF!+#REF!+#REF!+#REF!+#REF!+#REF!+#REF!+#REF!+#REF!+#REF!+#REF!+#REF!+#REF!+#REF!","v":{"$error":"#REF!"}},{"$f":"#REF!+#REF!+#REF!+#REF!+#REF!+#REF!+#REF!+#REF!+#REF!+#REF!+#REF!+#REF!+#REF!+#REF!+#REF!+#REF!+#REF!+#REF!+#REF!+#REF!+#REF!+#REF!+#REF!+#REF!+#REF!+#REF!+#REF!+#REF!+#REF!+#REF!+#REF!+#REF!+#REF!","v":{"$error":"#REF!"}},{"$f":"#REF!+#REF!+#REF!+#REF!+#REF!+#REF!+#REF!+#REF!+#REF!+#REF!+#REF!+#REF!+#REF!+#REF!+#REF!+#REF!+#REF!+#REF!+#REF!+#REF!+#REF!+#REF!+#REF!+#REF!+#REF!+#REF!+#REF!+#REF!+#REF!+#REF!+#REF!+#REF!+#REF!","v":{"$error":"#REF!"}},{"$f":"#REF!+#REF!+#REF!+#REF!+#REF!+#REF!+#REF!+#REF!+#REF!+#REF!+#REF!+#REF!+#REF!+#REF!+#REF!+#REF!+#REF!+#REF!+#REF!+#REF!+#REF!+#REF!+#REF!+#REF!+#REF!+#REF!+#REF!+#REF!+#REF!+#REF!+#REF!+#REF!+#REF!","v":{"$error":"#REF!"}},{"$f":"#REF!+#REF!+#REF!+#REF!+#REF!+#REF!+#REF!+#REF!+#REF!+#REF!+#REF!+#REF!+#REF!+#REF!+#REF!+#REF!+#REF!+#REF!+#REF!+#REF!+#REF!+#REF!+#REF!+#REF!+#REF!+#REF!+#REF!+#REF!+#REF!+#REF!+#REF!+#REF!+#REF!","v":{"$error":"#REF!"}},{"$f":"#REF!+#REF!+#REF!+#REF!+#REF!+#REF!+#REF!+#REF!+#REF!+#REF!+#REF!+#REF!+#REF!+#REF!+#REF!+#REF!+#REF!+#REF!+#REF!+#REF!+#REF!+#REF!+#REF!+#REF!+#REF!+#REF!+#REF!+#REF!+#REF!+#REF!+#REF!+#REF!+#REF!","v":{"$error":"#REF!"}},{"$f":"#REF!+#REF!+#REF!+#REF!+#REF!+#REF!+#REF!+#REF!+#REF!+#REF!+#REF!+#REF!+#REF!+#REF!+#REF!+#REF!+#REF!+#REF!+#REF!+#REF!+#REF!+#REF!+#REF!+#REF!+#REF!+#REF!+#REF!+#REF!+#REF!+#REF!+#REF!+#REF!+#REF!","v":{"$error":"#REF!"}},{"$error":"#REF!"},{"$error":"#REF!"},{"$f":"#REF!+#REF!+#REF!+#REF!+#REF!+#REF!+#REF!+#REF!+#REF!+#REF!+#REF!+#REF!+#REF!+#REF!+#REF!+#REF!+#REF!+#REF!+#REF!+#REF!+#REF!+#REF!+#REF!+#REF!+#REF!+#REF!+#REF!+#REF!+#REF!+#REF!+#REF!+#REF!+#REF!","v":{"$error":"#REF!"}},null,{"$error":"#REF!"}]
[21,"Franklin",{"$f":"#REF!+#REF!+#REF!+#REF!+#REF!+#REF!+#REF!+#REF!+#REF!+#REF!+#REF!+#REF!+#REF!+#REF!+#REF!+#REF!+#REF!+#REF!+#REF!+#REF!+#REF!+#REF!+#REF!+#REF!+#REF!+#REF!+#REF!+#REF!+#REF!+#REF!+#REF!+#REF!+#REF!","v":{"$error":"#REF!"}},{"$f":"'9_Per Pupil Summary'!H26","v":5449.6497450757433},{"$f":"#REF!+#REF!+#REF!+#REF!+#REF!+#REF!+#REF!+#REF!+#REF!+#REF!+#REF!+#REF!+#REF!+#REF!+#REF!+#REF!+#REF!+#REF!+#REF!+#REF!+#REF!+#REF!+#REF!+#REF!+#REF!+#REF!+#REF!+#REF!+#REF!+#REF!+#REF!+#REF!+#REF!","v":{"$error":"#REF!"}},{"$f":"#REF!+#REF!+#REF!+#REF!+#REF!+#REF!+#REF!+#REF!+#REF!+#REF!+#REF!+#REF!+#REF!+#REF!+#REF!+#REF!+#REF!+#REF!+#REF!+#REF!+#REF!+#REF!+#REF!+#REF!+#REF!+#REF!+#REF!+#REF!+#REF!+#REF!+#REF!+#REF!+#REF!","v":{"$error":"#REF!"}},{"$f":"'9_Per Pupil Summary'!I26","v":707.81691438079838},{"$f":"#REF!+#REF!+#REF!+#REF!+#REF!+#REF!+#REF!+#REF!+#REF!+#REF!+#REF!+#REF!+#REF!+#REF!+#REF!+#REF!+#REF!+#REF!+#REF!+#REF!+#REF!+#REF!+#REF!+#REF!+#REF!+#REF!+#REF!+#REF!+#REF!+#REF!+#REF!+#REF!+#REF!","v":{"$error":"#REF!"}},{"$f":"#REF!+#REF!+#REF!+#REF!+#REF!+#REF!+#REF!+#REF!+#REF!+#REF!+#REF!+#REF!+#REF!+#REF!+#REF!+#REF!+#REF!+#REF!+#REF!+#REF!+#REF!+#REF!+#REF!+#REF!+#REF!+#REF!+#REF!+#REF!+#REF!+#REF!+#REF!+#REF!+#REF!","v":{"$error":"#REF!"}},{"$f":"'9_Per Pupil Summary'!J26","v":193.04097664930865},{"$f":"#REF!+#REF!+#REF!+#REF!+#REF!+#REF!+#REF!+#REF!+#REF!+#REF!+#REF!+#REF!+#REF!+#REF!+#REF!+#REF!+#REF!+#REF!+#REF!+#REF!+#REF!+#REF!+#REF!+#REF!+#REF!+#REF!+#REF!+#REF!+#REF!+#REF!+#REF!+#REF!+#REF!","v":{"$error":"#REF!"}},{"$f":"#REF!+#REF!+#REF!+#REF!+#REF!+#REF!+#REF!+#REF!+#REF!+#REF!+#REF!+#REF!+#REF!+#REF!+#REF!+#REF!+#REF!+#REF!+#REF!+#REF!+#REF!+#REF!+#REF!+#REF!+#REF!+#REF!+#REF!+#REF!+#REF!+#REF!+#REF!+#REF!+#REF!","v":{"$error":"#REF!"}},{"$f":"'9_Per Pupil Summary'!K26","v":4826.0244162327162},{"$f":"#REF!+#REF!+#REF!+#REF!+#REF!+#REF!+#REF!+#REF!+#REF!+#REF!+#REF!+#REF!+#REF!+#REF!+#REF!+#REF!+#REF!+#REF!+#REF!+#REF!+#REF!+#REF!+#REF!+#REF!+#REF!+#REF!+#REF!+#REF!+#REF!+#REF!+#REF!+#REF!+#REF!","v":{"$error":"#REF!"}},{"$f":"#REF!+#REF!+#REF!+#REF!+#REF!+#REF!+#REF!+#REF!+#REF!+#REF!+#REF!+#REF!+#REF!+#REF!+#REF!+#REF!+#REF!+#REF!+#REF!+#REF!+#REF!+#REF!+#REF!+#REF!+#REF!+#REF!+#REF!+#REF!+#REF!+#REF!+#REF!+#REF!+#REF!","v":{"$error":"#REF!"}},{"$f":"'9_Per Pupil Summary'!L26","v":1930.4097664930862},{"$f":"#REF!+#REF!+#REF!+#REF!+#REF!+#REF!+#REF!+#REF!+#REF!+#REF!+#REF!+#REF!+#REF!+#REF!+#REF!+#REF!+#REF!+#REF!+#REF!+#REF!+#REF!+#REF!+#REF!+#REF!+#REF!+#REF!+#REF!+#REF!+#REF!+#REF!+#REF!+#REF!+#REF!","v":{"$error":"#REF!"}},{"$f":"#REF!+#REF!+#REF!+#REF!+#REF!+#REF!+#REF!+#REF!+#REF!+#REF!+#REF!+#REF!+#REF!+#REF!+#REF!+#REF!+#REF!+#REF!+#REF!+#REF!+#REF!+#REF!+#REF!+#REF!+#REF!+#REF!+#REF!+#REF!+#REF!+#REF!+#REF!+#REF!+#REF!","v":{"$error":"#REF!"}},{"$f":"#REF!+#REF!","v":{"$error":"#REF!"}},{"$f":"#REF!+#REF!+#REF!+#REF!+#REF!+#REF!+#REF!+#REF!+#REF!+#REF!+#REF!+#REF!+#REF!+#REF!+#REF!+#REF!+#REF!+#REF!+#REF!+#REF!+#REF!+#REF!+#REF!+#REF!+#REF!+#REF!+#REF!+#REF!+#REF!+#REF!+#REF!+#REF!+#REF!","v":{"$error":"#REF!"}},{"$f":"#REF!+#REF!+#REF!+#REF!+#REF!+#REF!+#REF!+#REF!+#REF!+#REF!+#REF!+#REF!+#REF!+#REF!+#REF!+#REF!+#REF!+#REF!+#REF!+#REF!+#REF!+#REF!+#REF!+#REF!+#REF!+#REF!+#REF!+#REF!+#REF!+#REF!+#REF!+#REF!+#REF!","v":{"$error":"#REF!"}},{"$f":"#REF!+#REF!+#REF!+#REF!+#REF!+#REF!+#REF!+#REF!+#REF!+#REF!+#REF!+#REF!+#REF!+#REF!+#REF!+#REF!+#REF!+#REF!+#REF!+#REF!+#REF!+#REF!+#REF!+#REF!+#REF!+#REF!+#REF!+#REF!+#REF!+#REF!+#REF!+#REF!+#REF!","v":{"$error":"#REF!"}},{"$f":"#REF!+#REF!+#REF!+#REF!+#REF!+#REF!+#REF!+#REF!+#REF!+#REF!+#REF!+#REF!+#REF!+#REF!+#REF!+#REF!+#REF!+#REF!+#REF!+#REF!+#REF!+#REF!+#REF!+#REF!+#REF!+#REF!+#REF!+#REF!+#REF!+#REF!+#REF!+#REF!+#REF!","v":{"$error":"#REF!"}},{"$f":"#REF!+#REF!+#REF!+#REF!+#REF!+#REF!+#REF!+#REF!+#REF!+#REF!+#REF!+#REF!+#REF!+#REF!+#REF!+#REF!+#REF!+#REF!+#REF!+#REF!+#REF!+#REF!+#REF!+#REF!+#REF!+#REF!+#REF!+#REF!+#REF!+#REF!+#REF!+#REF!+#REF!","v":{"$error":"#REF!"}},{"$f":"#REF!+#REF!+#REF!+#REF!+#REF!+#REF!+#REF!+#REF!+#REF!+#REF!+#REF!+#REF!+#REF!+#REF!+#REF!+#REF!+#REF!+#REF!+#REF!+#REF!+#REF!+#REF!+#REF!+#REF!+#REF!+#REF!+#REF!+#REF!+#REF!+#REF!+#REF!+#REF!+#REF!","v":{"$error":"#REF!"}},{"$f":"#REF!+#REF!+#REF!+#REF!+#REF!+#REF!+#REF!+#REF!+#REF!+#REF!+#REF!+#REF!+#REF!+#REF!+#REF!+#REF!+#REF!+#REF!+#REF!+#REF!+#REF!+#REF!+#REF!+#REF!+#REF!+#REF!+#REF!+#REF!+#REF!+#REF!+#REF!+#REF!+#REF!","v":{"$error":"#REF!"}},{"$f":"#REF!+#REF!+#REF!+#REF!+#REF!+#REF!+#REF!+#REF!+#REF!+#REF!+#REF!+#REF!+#REF!+#REF!+#REF!+#REF!+#REF!+#REF!+#REF!+#REF!+#REF!+#REF!+#REF!+#REF!+#REF!+#REF!+#REF!+#REF!+#REF!+#REF!+#REF!+#REF!+#REF!","v":{"$error":"#REF!"}},{"$f":"#REF!+#REF!+#REF!+#REF!+#REF!+#REF!+#REF!+#REF!+#REF!+#REF!+#REF!+#REF!+#REF!+#REF!+#REF!+#REF!+#REF!+#REF!+#REF!+#REF!+#REF!+#REF!+#REF!+#REF!+#REF!+#REF!+#REF!+#REF!+#REF!+#REF!+#REF!+#REF!+#REF!","v":{"$error":"#REF!"}},{"$f":"#REF!+#REF!+#REF!+#REF!+#REF!+#REF!+#REF!+#REF!+#REF!+#REF!+#REF!+#REF!+#REF!+#REF!+#REF!+#REF!+#REF!+#REF!+#REF!+#REF!+#REF!+#REF!+#REF!+#REF!+#REF!+#REF!+#REF!+#REF!+#REF!+#REF!+#REF!+#REF!+#REF!","v":{"$error":"#REF!"}},{"$f":"#REF!+#REF!+#REF!+#REF!+#REF!+#REF!+#REF!+#REF!+#REF!+#REF!+#REF!+#REF!+#REF!+#REF!+#REF!+#REF!+#REF!+#REF!+#REF!+#REF!+#REF!+#REF!+#REF!+#REF!+#REF!+#REF!+#REF!+#REF!+#REF!+#REF!+#REF!+#REF!+#REF!","v":{"$error":"#REF!"}},{"$f":"#REF!+#REF!+#REF!+#REF!+#REF!+#REF!+#REF!+#REF!+#REF!+#REF!+#REF!+#REF!+#REF!+#REF!+#REF!+#REF!+#REF!+#REF!+#REF!+#REF!+#REF!+#REF!+#REF!+#REF!+#REF!+#REF!+#REF!+#REF!+#REF!+#REF!+#REF!+#REF!+#REF!","v":{"$error":"#REF!"}},{"$f":"'9_Per Pupil Summary'!N26","v":3704},{"$f":"#REF!+#REF!+#REF!+#REF!+#REF!+#REF!+#REF!+#REF!+#REF!+#REF!+#REF!+#REF!+#REF!+#REF!+#REF!+#REF!+#REF!+#REF!+#REF!+#REF!+#REF!+#REF!+#REF!+#REF!+#REF!+#REF!+#REF!+#REF!+#REF!+#REF!+#REF!+#REF!+#REF!","v":{"$error":"#REF!"}},{"$f":"#REF!+#REF!+#REF!+#REF!+#REF!+#REF!+#REF!+#REF!+#REF!+#REF!+#REF!+#REF!+#REF!+#REF!+#REF!+#REF!+#REF!+#REF!+#REF!+#REF!+#REF!+#REF!+#REF!+#REF!+#REF!+#REF!+#REF!+#REF!+#REF!+#REF!+#REF!+#REF!+#REF!","v":{"$error":"#REF!"}},{"$f":"#REF!+#REF!+#REF!+#REF!+#REF!+#REF!+#REF!+#REF!+#REF!+#REF!+#REF!+#REF!+#REF!+#REF!+#REF!+#REF!+#REF!+#REF!+#REF!+#REF!+#REF!+#REF!+#REF!+#REF!+#REF!+#REF!+#REF!+#REF!+#REF!+#REF!+#REF!+#REF!+#REF!","v":{"$error":"#REF!"}},{"$f":"#REF!+#REF!+#REF!+#REF!+#REF!+#REF!+#REF!+#REF!+#REF!+#REF!+#REF!+#REF!+#REF!+#REF!+#REF!+#REF!+#REF!+#REF!+#REF!+#REF!+#REF!+#REF!+#REF!+#REF!+#REF!+#REF!+#REF!+#REF!+#REF!+#REF!+#REF!+#REF!+#REF!","v":{"$error":"#REF!"}},{"$f":"#REF!+#REF!+#REF!+#REF!+#REF!+#REF!+#REF!+#REF!+#REF!+#REF!+#REF!+#REF!+#REF!+#REF!+#REF!+#REF!+#REF!+#REF!+#REF!+#REF!+#REF!+#REF!+#REF!+#REF!+#REF!+#REF!+#REF!+#REF!+#REF!+#REF!+#REF!+#REF!+#REF!","v":{"$error":"#REF!"}},{"$f":"#REF!+#REF!+#REF!+#REF!+#REF!+#REF!+#REF!+#REF!+#REF!+#REF!+#REF!+#REF!+#REF!+#REF!+#REF!+#REF!+#REF!+#REF!+#REF!+#REF!+#REF!+#REF!+#REF!+#REF!+#REF!+#REF!+#REF!+#REF!+#REF!+#REF!+#REF!+#REF!+#REF!","v":{"$error":"#REF!"}},{"$f":"#REF!+#REF!+#REF!+#REF!+#REF!+#REF!+#REF!+#REF!+#REF!+#REF!+#REF!+#REF!+#REF!+#REF!+#REF!+#REF!+#REF!+#REF!+#REF!+#REF!+#REF!+#REF!+#REF!+#REF!+#REF!+#REF!+#REF!+#REF!+#REF!+#REF!+#REF!+#REF!+#REF!","v":{"$error":"#REF!"}},{"$f":"#REF!+#REF!+#REF!+#REF!+#REF!+#REF!+#REF!+#REF!+#REF!+#REF!+#REF!+#REF!+#REF!+#REF!+#REF!+#REF!+#REF!+#REF!+#REF!+#REF!+#REF!+#REF!+#REF!+#REF!+#REF!+#REF!+#REF!+#REF!+#REF!+#REF!+#REF!+#REF!+#REF!","v":{"$error":"#REF!"}},{"$f":"#REF!+#REF!+#REF!+#REF!+#REF!+#REF!+#REF!+#REF!+#REF!+#REF!+#REF!+#REF!+#REF!+#REF!+#REF!+#REF!+#REF!+#REF!+#REF!+#REF!+#REF!+#REF!+#REF!+#REF!+#REF!+#REF!+#REF!+#REF!+#REF!+#REF!+#REF!+#REF!+#REF!","v":{"$error":"#REF!"}},{"$f":"#REF!+#REF!+#REF!+#REF!+#REF!+#REF!+#REF!+#REF!+#REF!+#REF!+#REF!+#REF!+#REF!+#REF!+#REF!+#REF!+#REF!+#REF!+#REF!+#REF!+#REF!+#REF!+#REF!+#REF!+#REF!+#REF!+#REF!+#REF!+#REF!+#REF!+#REF!+#REF!+#REF!","v":{"$error":"#REF!"}},{"$f":"#REF!+#REF!+#REF!+#REF!+#REF!+#REF!+#REF!+#REF!+#REF!+#REF!+#REF!+#REF!+#REF!+#REF!+#REF!+#REF!+#REF!+#REF!+#REF!+#REF!+#REF!+#REF!+#REF!+#REF!+#REF!+#REF!+#REF!+#REF!+#REF!+#REF!+#REF!+#REF!+#REF!","v":{"$error":"#REF!"}},{"$f":"#REF!+#REF!+#REF!+#REF!+#REF!+#REF!+#REF!+#REF!+#REF!+#REF!+#REF!+#REF!+#REF!+#REF!+#REF!+#REF!+#REF!+#REF!+#REF!+#REF!+#REF!+#REF!+#REF!+#REF!+#REF!+#REF!+#REF!+#REF!+#REF!+#REF!+#REF!+#REF!+#REF!","v":{"$error":"#REF!"}},{"$f":"#REF!+#REF!+#REF!+#REF!+#REF!+#REF!+#REF!+#REF!+#REF!+#REF!+#REF!+#REF!+#REF!+#REF!+#REF!+#REF!+#REF!+#REF!+#REF!+#REF!+#REF!+#REF!+#REF!+#REF!+#REF!+#REF!+#REF!+#REF!+#REF!+#REF!+#REF!+#REF!+#REF!","v":{"$error":"#REF!"}},{"$f":"#REF!+#REF!+#REF!+#REF!+#REF!+#REF!+#REF!+#REF!+#REF!+#REF!+#REF!+#REF!+#REF!+#REF!+#REF!+#REF!+#REF!+#REF!+#REF!+#REF!+#REF!+#REF!+#REF!+#REF!+#REF!+#REF!+#REF!+#REF!+#REF!+#REF!+#REF!+#REF!+#REF!","v":{"$error":"#REF!"}},{"$error":"#REF!"},{"$error":"#REF!"},{"$f":"#REF!+#REF!+#REF!+#REF!+#REF!+#REF!+#REF!+#REF!+#REF!+#REF!+#REF!+#REF!+#REF!+#REF!+#REF!+#REF!+#REF!+#REF!+#REF!+#REF!+#REF!+#REF!+#REF!+#REF!+#REF!+#REF!+#REF!+#REF!+#REF!+#REF!+#REF!+#REF!+#REF!","v":{"$error":"#REF!"}},null,{"$error":"#REF!"}]
[22,"Grant",{"$f":"#REF!+#REF!+#REF!+#REF!+#REF!+#REF!+#REF!+#REF!+#REF!+#REF!+#REF!+#REF!+#REF!+#REF!+#REF!+#REF!+#REF!+#REF!+#REF!+#REF!+#REF!+#REF!+#REF!+#REF!+#REF!+#REF!+#REF!+#REF!+#REF!+#REF!+#REF!+#REF!+#REF!","v":{"$error":"#REF!"}},{"$f":"'9_Per Pupil Summary'!H27","v":5705.8232708037867},{"$f":"#REF!+#REF!+#REF!+#REF!+#REF!+#REF!+#REF!+#REF!+#REF!+#REF!+#REF!+#REF!+#REF!+#REF!+#REF!+#REF!+#REF!+#REF!+#REF!+#REF!+#REF!+#REF!+#REF!+#REF!+#REF!+#REF!+#REF!+#REF!+#REF!+#REF!+#REF!+#REF!+#REF!","v":{"$error":"#REF!"}},{"$f":"#REF!+#REF!+#REF!+#REF!+#REF!+#REF!+#REF!+#REF!+#REF!+#REF!+#REF!+#REF!+#REF!+#REF!+#REF!+#REF!+#REF!+#REF!+#REF!+#REF!+#REF!+#REF!+#REF!+#REF!+#REF!+#REF!+#REF!+#REF!+#REF!+#REF!+#REF!+#REF!+#REF!","v":{"$error":"#REF!"}},{"$f":"'9_Per Pupil Summary'!I27","v":768.79289500497907},{"$f":"#REF!+#REF!+#REF!+#REF!+#REF!+#REF!+#REF!+#REF!+#REF!+#REF!+#REF!+#REF!+#REF!+#REF!+#REF!+#REF!+#REF!+#REF!+#REF!+#REF!+#REF!+#REF!+#REF!+#REF!+#REF!+#REF!+#REF!+#REF!+#REF!+#REF!+#REF!+#REF!+#REF!","v":{"$error":"#REF!"}},{"$f":"#REF!+#REF!+#REF!+#REF!+#REF!+#REF!+#REF!+#REF!+#REF!+#REF!+#REF!+#REF!+#REF!+#REF!+#REF!+#REF!+#REF!+#REF!+#REF!+#REF!+#REF!+#REF!+#REF!+#REF!+#REF!+#REF!+#REF!+#REF!+#REF!+#REF!+#REF!+#REF!+#REF!","v":{"$error":"#REF!"}},{"$f":"'9_Per Pupil Summary'!J27","v":209.67078954681244},{"$f":"#REF!+#REF!+#REF!+#REF!+#REF!+#REF!+#REF!+#REF!+#REF!+#REF!+#REF!+#REF!+#REF!+#REF!+#REF!+#REF!+#REF!+#REF!+#REF!+#REF!+#REF!+#REF!+#REF!+#REF!+#REF!+#REF!+#REF!+#REF!+#REF!+#REF!+#REF!+#REF!+#REF!","v":{"$error":"#REF!"}},{"$f":"#REF!+#REF!+#REF!+#REF!+#REF!+#REF!+#REF!+#REF!+#REF!+#REF!+#REF!+#REF!+#REF!+#REF!+#REF!+#REF!+#REF!+#REF!+#REF!+#REF!+#REF!+#REF!+#REF!+#REF!+#REF!+#REF!+#REF!+#REF!+#REF!+#REF!+#REF!+#REF!+#REF!","v":{"$error":"#REF!"}},{"$f":"'9_Per Pupil Summary'!K27","v":5241.7697386703112},{"$f":"#REF!+#REF!+#REF!+#REF!+#REF!+#REF!+#REF!+#REF!+#REF!+#REF!+#REF!+#REF!+#REF!+#REF!+#REF!+#REF!+#REF!+#REF!+#REF!+#REF!+#REF!+#REF!+#REF!+#REF!+#REF!+#REF!+#REF!+#REF!+#REF!+#REF!+#REF!+#REF!+#REF!","v":{"$error":"#REF!"}},{"$f":"#REF!+#REF!+#REF!+#REF!+#REF!+#REF!+#REF!+#REF!+#REF!+#REF!+#REF!+#REF!+#REF!+#REF!+#REF!+#REF!+#REF!+#REF!+#REF!+#REF!+#REF!+#REF!+#REF!+#REF!+#REF!+#REF!+#REF!+#REF!+#REF!+#REF!+#REF!+#REF!+#REF!","v":{"$error":"#REF!"}},{"$f":"'9_Per Pupil Summary'!L27","v":2096.7078954681242},{"$f":"#REF!+#REF!+#REF!+#REF!+#REF!+#REF!+#REF!+#REF!+#REF!+#REF!+#REF!+#REF!+#REF!+#REF!+#REF!+#REF!+#REF!+#REF!+#REF!+#REF!+#REF!+#REF!+#REF!+#REF!+#REF!+#REF!+#REF!+#REF!+#REF!+#REF!+#REF!+#REF!+#REF!","v":{"$error":"#REF!"}},{"$f":"#REF!+#REF!+#REF!+#REF!+#REF!+#REF!+#REF!+#REF!+#REF!+#REF!+#REF!+#REF!+#REF!+#REF!+#REF!+#REF!+#REF!+#REF!+#REF!+#REF!+#REF!+#REF!+#REF!+#REF!+#REF!+#REF!+#REF!+#REF!+#REF!+#REF!+#REF!+#REF!+#REF!","v":{"$error":"#REF!"}},{"$f":"#REF!+#REF!","v":{"$error":"#REF!"}},{"$f":"#REF!+#REF!+#REF!+#REF!+#REF!+#REF!+#REF!+#REF!+#REF!+#REF!+#REF!+#REF!+#REF!+#REF!+#REF!+#REF!+#REF!+#REF!+#REF!+#REF!+#REF!+#REF!+#REF!+#REF!+#REF!+#REF!+#REF!+#REF!+#REF!+#REF!+#REF!+#REF!+#REF!","v":{"$error":"#REF!"}},{"$f":"#REF!+#REF!+#REF!+#REF!+#REF!+#REF!+#REF!+#REF!+#REF!+#REF!+#REF!+#REF!+#REF!+#REF!+#REF!+#REF!+#REF!+#REF!+#REF!+#REF!+#REF!+#REF!+#REF!+#REF!+#REF!+#REF!+#REF!+#REF!+#REF!+#REF!+#REF!+#REF!+#REF!","v":{"$error":"#REF!"}},{"$f":"#REF!+#REF!+#REF!+#REF!+#REF!+#REF!+#REF!+#REF!+#REF!+#REF!+#REF!+#REF!+#REF!+#REF!+#REF!+#REF!+#REF!+#REF!+#REF!+#REF!+#REF!+#REF!+#REF!+#REF!+#REF!+#REF!+#REF!+#REF!+#REF!+#REF!+#REF!+#REF!+#REF!","v":{"$error":"#REF!"}},{"$f":"#REF!+#REF!+#REF!+#REF!+#REF!+#REF!+#REF!+#REF!+#REF!+#REF!+#REF!+#REF!+#REF!+#REF!+#REF!+#REF!+#REF!+#REF!+#REF!+#REF!+#REF!+#REF!+#REF!+#REF!+#REF!+#REF!+#REF!+#REF!+#REF!+#REF!+#REF!+#REF!+#REF!","v":{"$error":"#REF!"}},{"$f":"#REF!+#REF!+#REF!+#REF!+#REF!+#REF!+#REF!+#REF!+#REF!+#REF!+#REF!+#REF!+#REF!+#REF!+#REF!+#REF!+#REF!+#REF!+#REF!+#REF!+#REF!+#REF!+#REF!+#REF!+#REF!+#REF!+#REF!+#REF!+#REF!+#REF!+#REF!+#REF!+#REF!","v":{"$error":"#REF!"}},{"$f":"#REF!+#REF!+#REF!+#REF!+#REF!+#REF!+#REF!+#REF!+#REF!+#REF!+#REF!+#REF!+#REF!+#REF!+#REF!+#REF!+#REF!+#REF!+#REF!+#REF!+#REF!+#REF!+#REF!+#REF!+#REF!+#REF!+#REF!+#REF!+#REF!+#REF!+#REF!+#REF!+#REF!","v":{"$error":"#REF!"}},{"$f":"#REF!+#REF!+#REF!+#REF!+#REF!+#REF!+#REF!+#REF!+#REF!+#REF!+#REF!+#REF!+#REF!+#REF!+#REF!+#REF!+#REF!+#REF!+#REF!+#REF!+#REF!+#REF!+#REF!+#REF!+#REF!+#REF!+#REF!+#REF!+#REF!+#REF!+#REF!+#REF!+#REF!","v":{"$error":"#REF!"}},{"$f":"#REF!+#REF!+#REF!+#REF!+#REF!+#REF!+#REF!+#REF!+#REF!+#REF!+#REF!+#REF!+#REF!+#REF!+#REF!+#REF!+#REF!+#REF!+#REF!+#REF!+#REF!+#REF!+#REF!+#REF!+#REF!+#REF!+#REF!+#REF!+#REF!+#REF!+#REF!+#REF!+#REF!","v":{"$error":"#REF!"}},{"$f":"#REF!+#REF!+#REF!+#REF!+#REF!+#REF!+#REF!+#REF!+#REF!+#REF!+#REF!+#REF!+#REF!+#REF!+#REF!+#REF!+#REF!+#REF!+#REF!+#REF!+#REF!+#REF!+#REF!+#REF!+#REF!+#REF!+#REF!+#REF!+#REF!+#REF!+#REF!+#REF!+#REF!","v":{"$error":"#REF!"}},{"$f":"#REF!+#REF!+#REF!+#REF!+#REF!+#REF!+#REF!+#REF!+#REF!+#REF!+#REF!+#REF!+#REF!+#REF!+#REF!+#REF!+#REF!+#REF!+#REF!+#REF!+#REF!+#REF!+#REF!+#REF!+#REF!+#REF!+#REF!+#REF!+#REF!+#REF!+#REF!+#REF!+#REF!","v":{"$error":"#REF!"}},{"$f":"#REF!+#REF!+#REF!+#REF!+#REF!+#REF!+#REF!+#REF!+#REF!+#REF!+#REF!+#REF!+#REF!+#REF!+#REF!+#REF!+#REF!+#REF!+#REF!+#REF!+#REF!+#REF!+#REF!+#REF!+#REF!+#REF!+#REF!+#REF!+#REF!+#REF!+#REF!+#REF!+#REF!","v":{"$error":"#REF!"}},{"$f":"#REF!+#REF!+#REF!+#REF!+#REF!+#REF!+#REF!+#REF!+#REF!+#REF!+#REF!+#REF!+#REF!+#REF!+#REF!+#REF!+#REF!+#REF!+#REF!+#REF!+#REF!+#REF!+#REF!+#REF!+#REF!+#REF!+#REF!+#REF!+#REF!+#REF!+#REF!+#REF!+#REF!","v":{"$error":"#REF!"}},{"$f":"'9_Per Pupil Summary'!N27","v":2760},{"$f":"#REF!+#REF!+#REF!+#REF!+#REF!+#REF!+#REF!+#REF!+#REF!+#REF!+#REF!+#REF!+#REF!+#REF!+#REF!+#REF!+#REF!+#REF!+#REF!+#REF!+#REF!+#REF!+#REF!+#REF!+#REF!+#REF!+#REF!+#REF!+#REF!+#REF!+#REF!+#REF!+#REF!","v":{"$error":"#REF!"}},{"$f":"#REF!+#REF!+#REF!+#REF!+#REF!+#REF!+#REF!+#REF!+#REF!+#REF!+#REF!+#REF!+#REF!+#REF!+#REF!+#REF!+#REF!+#REF!+#REF!+#REF!+#REF!+#REF!+#REF!+#REF!+#REF!+#REF!+#REF!+#REF!+#REF!+#REF!+#REF!+#REF!+#REF!","v":{"$error":"#REF!"}},{"$f":"#REF!+#REF!+#REF!+#REF!+#REF!+#REF!+#REF!+#REF!+#REF!+#REF!+#REF!+#REF!+#REF!+#REF!+#REF!+#REF!+#REF!+#REF!+#REF!+#REF!+#REF!+#REF!+#REF!+#REF!+#REF!+#REF!+#REF!+#REF!+#REF!+#REF!+#REF!+#REF!+#REF!","v":{"$error":"#REF!"}},{"$f":"#REF!+#REF!+#REF!+#REF!+#REF!+#REF!+#REF!+#REF!+#REF!+#REF!+#REF!+#REF!+#REF!+#REF!+#REF!+#REF!+#REF!+#REF!+#REF!+#REF!+#REF!+#REF!+#REF!+#REF!+#REF!+#REF!+#REF!+#REF!+#REF!+#REF!+#REF!+#REF!+#REF!","v":{"$error":"#REF!"}},{"$f":"#REF!+#REF!+#REF!+#REF!+#REF!+#REF!+#REF!+#REF!+#REF!+#REF!+#REF!+#REF!+#REF!+#REF!+#REF!+#REF!+#REF!+#REF!+#REF!+#REF!+#REF!+#REF!+#REF!+#REF!+#REF!+#REF!+#REF!+#REF!+#REF!+#REF!+#REF!+#REF!+#REF!","v":{"$error":"#REF!"}},{"$f":"#REF!+#REF!+#REF!+#REF!+#REF!+#REF!+#REF!+#REF!+#REF!+#REF!+#REF!+#REF!+#REF!+#REF!+#REF!+#REF!+#REF!+#REF!+#REF!+#REF!+#REF!+#REF!+#REF!+#REF!+#REF!+#REF!+#REF!+#REF!+#REF!+#REF!+#REF!+#REF!+#REF!","v":{"$error":"#REF!"}},{"$f":"#REF!+#REF!+#REF!+#REF!+#REF!+#REF!+#REF!+#REF!+#REF!+#REF!+#REF!+#REF!+#REF!+#REF!+#REF!+#REF!+#REF!+#REF!+#REF!+#REF!+#REF!+#REF!+#REF!+#REF!+#REF!+#REF!+#REF!+#REF!+#REF!+#REF!+#REF!+#REF!+#REF!","v":{"$error":"#REF!"}},{"$f":"#REF!+#REF!+#REF!+#REF!+#REF!+#REF!+#REF!+#REF!+#REF!+#REF!+#REF!+#REF!+#REF!+#REF!+#REF!+#REF!+#REF!+#REF!+#REF!+#REF!+#REF!+#REF!+#REF!+#REF!+#REF!+#REF!+#REF!+#REF!+#REF!+#REF!+#REF!+#REF!+#REF!","v":{"$error":"#REF!"}},{"$f":"#REF!+#REF!+#REF!+#REF!+#REF!+#REF!+#REF!+#REF!+#REF!+#REF!+#REF!+#REF!+#REF!+#REF!+#REF!+#REF!+#REF!+#REF!+#REF!+#REF!+#REF!+#REF!+#REF!+#REF!+#REF!+#REF!+#REF!+#REF!+#REF!+#REF!+#REF!+#REF!+#REF!","v":{"$error":"#REF!"}},{"$f":"#REF!+#REF!+#REF!+#REF!+#REF!+#REF!+#REF!+#REF!+#REF!+#REF!+#REF!+#REF!+#REF!+#REF!+#REF!+#REF!+#REF!+#REF!+#REF!+#REF!+#REF!+#REF!+#REF!+#REF!+#REF!+#REF!+#REF!+#REF!+#REF!+#REF!+#REF!+#REF!+#REF!","v":{"$error":"#REF!"}},{"$f":"#REF!+#REF!+#REF!+#REF!+#REF!+#REF!+#REF!+#REF!+#REF!+#REF!+#REF!+#REF!+#REF!+#REF!+#REF!+#REF!+#REF!+#REF!+#REF!+#REF!+#REF!+#REF!+#REF!+#REF!+#REF!+#REF!+#REF!+#REF!+#REF!+#REF!+#REF!+#REF!+#REF!","v":{"$error":"#REF!"}},{"$f":"#REF!+#REF!+#REF!+#REF!+#REF!+#REF!+#REF!+#REF!+#REF!+#REF!+#REF!+#REF!+#REF!+#REF!+#REF!+#REF!+#REF!+#REF!+#REF!+#REF!+#REF!+#REF!+#REF!+#REF!+#REF!+#REF!+#REF!+#REF!+#REF!+#REF!+#REF!+#REF!+#REF!","v":{"$error":"#REF!"}},{"$f":"#REF!+#REF!+#REF!+#REF!+#REF!+#REF!+#REF!+#REF!+#REF!+#REF!+#REF!+#REF!+#REF!+#REF!+#REF!+#REF!+#REF!+#REF!+#REF!+#REF!+#REF!+#REF!+#REF!+#REF!+#REF!+#REF!+#REF!+#REF!+#REF!+#REF!+#REF!+#REF!+#REF!","v":{"$error":"#REF!"}},{"$f":"#REF!+#REF!+#REF!+#REF!+#REF!+#REF!+#REF!+#REF!+#REF!+#REF!+#REF!+#REF!+#REF!+#REF!+#REF!+#REF!+#REF!+#REF!+#REF!+#REF!+#REF!+#REF!+#REF!+#REF!+#REF!+#REF!+#REF!+#REF!+#REF!+#REF!+#REF!+#REF!+#REF!","v":{"$error":"#REF!"}},{"$error":"#REF!"},{"$error":"#REF!"},{"$f":"#REF!+#REF!+#REF!+#REF!+#REF!+#REF!+#REF!+#REF!+#REF!+#REF!+#REF!+#REF!+#REF!+#REF!+#REF!+#REF!+#REF!+#REF!+#REF!+#REF!+#REF!+#REF!+#REF!+#REF!+#REF!+#REF!+#REF!+#REF!+#REF!+#REF!+#REF!+#REF!+#REF!","v":{"$error":"#REF!"}},null,{"$error":"#REF!"}]
[23,"Iberia",{"$f":"#REF!+#REF!+#REF!+#REF!+#REF!+#REF!+#REF!+#REF!+#REF!+#REF!+#REF!+#REF!+#REF!+#REF!+#REF!+#REF!+#REF!+#REF!+#REF!+#REF!+#REF!+#REF!+#REF!+#REF!+#REF!+#REF!+#REF!+#REF!+#REF!+#REF!+#REF!+#REF!+#REF!","v":{"$error":"#REF!"}},{"$f":"'9_Per Pupil Summary'!H28","v":4952.8104805846069},{"$f":"#REF!+#REF!+#REF!+#REF!+#REF!+#REF!+#REF!+#REF!+#REF!+#REF!+#REF!+#REF!+#REF!+#REF!+#REF!+#REF!+#REF!+#REF!+#REF!+#REF!+#REF!+#REF!+#REF!+#REF!+#REF!+#REF!+#REF!+#REF!+#REF!+#REF!+#REF!+#REF!+#REF!","v":{"$error":"#REF!"}},{"$f":"#REF!+#REF!+#REF!+#REF!+#REF!+#REF!+#REF!+#REF!+#REF!+#REF!+#REF!+#REF!+#REF!+#REF!+#REF!+#REF!+#REF!+#REF!+#REF!+#REF!+#REF!+#REF!+#REF!+#REF!+#REF!+#REF!+#REF!+#REF!+#REF!+#REF!+#REF!+#REF!+#REF!","v":{"$error":"#REF!"}},{"$f":"'9_Per Pupil Summary'!I28","v":657.64165703406115},{"$f":"#REF!+#REF!+#REF!+#REF!+#REF!+#REF!+#REF!+#REF!+#REF!+#REF!+#REF!+#REF!+#REF!+#REF!+#REF!+#REF!+#REF!+#REF!+#REF!+#REF!+#REF!+#REF!+#REF!+#REF!+#REF!+#REF!+#REF!+#REF!+#REF!+#REF!+#REF!+#REF!+#REF!","v":{"$error":"#REF!"}},{"$f":"#REF!+#REF!+#REF!+#REF!+#REF!+#REF!+#REF!+#REF!+#REF!+#REF!+#REF!+#REF!+#REF!+#REF!+#REF!+#REF!+#REF!+#REF!+#REF!+#REF!+#REF!+#REF!+#REF!+#REF!+#REF!+#REF!+#REF!+#REF!+#REF!+#REF!+#REF!+#REF!+#REF!","v":{"$error":"#REF!"}},{"$f":"'9_Per Pupil Summary'!J28","v":179.35681555474395},{"$f":"#REF!+#REF!+#REF!+#REF!+#REF!+#REF!+#REF!+#REF!+#REF!+#REF!+#REF!+#REF!+#REF!+#REF!+#REF!+#REF!+#REF!+#REF!+#REF!+#REF!+#REF!+#REF!+#REF!+#REF!+#REF!+#REF!+#REF!+#REF!+#REF!+#REF!+#REF!+#REF!+#REF!","v":{"$error":"#REF!"}},{"$f":"#REF!+#REF!+#REF!+#REF!+#REF!+#REF!+#REF!+#REF!+#REF!+#REF!+#REF!+#REF!+#REF!+#REF!+#REF!+#REF!+#REF!+#REF!+#REF!+#REF!+#REF!+#REF!+#REF!+#REF!+#REF!+#REF!+#REF!+#REF!+#REF!+#REF!+#REF!+#REF!+#REF!","v":{"$error":"#REF!"}},{"$f":"'9_Per Pupil Summary'!K28","v":4483.9203888685997},{"$f":"#REF!+#REF!+#REF!+#REF!+#REF!+#REF!+#REF!+#REF!+#REF!+#REF!+#REF!+#REF!+#REF!+#REF!+#REF!+#REF!+#REF!+#REF!+#REF!+#REF!+#REF!+#REF!+#REF!+#REF!+#REF!+#REF!+#REF!+#REF!+#REF!+#REF!+#REF!+#REF!+#REF!","v":{"$error":"#REF!"}},{"$f":"#REF!+#REF!+#REF!+#REF!+#REF!+#REF!+#REF!+#REF!+#REF!+#REF!+#REF!+#REF!+#REF!+#REF!+#REF!+#REF!+#REF!+#REF!+#REF!+#REF!+#REF!+#REF!+#REF!+#REF!+#REF!+#REF!+#REF!+#REF!+#REF!+#REF!+#REF!+#REF!+#REF!","v":{"$error":"#REF!"}},{"$f":"'9_Per Pupil Summary'!L28","v":1793.5681555474393},{"$f":"#REF!+#REF!+#REF!+#REF!+#REF!+#REF!+#REF!+#REF!+#REF!+#REF!+#REF!+#REF!+#REF!+#REF!+#REF!+#REF!+#REF!+#REF!+#REF!+#REF!+#REF!+#REF!+#REF!+#REF!+#REF!+#REF!+#REF!+#REF!+#REF!+#REF!+#REF!+#REF!+#REF!","v":{"$error":"#REF!"}},{"$f":"#REF!+#REF!+#REF!+#REF!+#REF!+#REF!+#REF!+#REF!+#REF!+#REF!+#REF!+#REF!+#REF!+#REF!+#REF!+#REF!+#REF!+#REF!+#REF!+#REF!+#REF!+#REF!+#REF!+#REF!+#REF!+#REF!+#REF!+#REF!+#REF!+#REF!+#REF!+#REF!+#REF!","v":{"$error":"#REF!"}},{"$f":"#REF!+#REF!","v":{"$error":"#REF!"}},{"$f":"#REF!+#REF!+#REF!+#REF!+#REF!+#REF!+#REF!+#REF!+#REF!+#REF!+#REF!+#REF!+#REF!+#REF!+#REF!+#REF!+#REF!+#REF!+#REF!+#REF!+#REF!+#REF!+#REF!+#REF!+#REF!+#REF!+#REF!+#REF!+#REF!+#REF!+#REF!+#REF!+#REF!","v":{"$error":"#REF!"}},{"$f":"#REF!+#REF!+#REF!+#REF!+#REF!+#REF!+#REF!+#REF!+#REF!+#REF!+#REF!+#REF!+#REF!+#REF!+#REF!+#REF!+#REF!+#REF!+#REF!+#REF!+#REF!+#REF!+#REF!+#REF!+#REF!+#REF!+#REF!+#REF!+#REF!+#REF!+#REF!+#REF!+#REF!","v":{"$error":"#REF!"}},{"$f":"#REF!+#REF!+#REF!+#REF!+#REF!+#REF!+#REF!+#REF!+#REF!+#REF!+#REF!+#REF!+#REF!+#REF!+#REF!+#REF!+#REF!+#REF!+#REF!+#REF!+#REF!+#REF!+#REF!+#REF!+#REF!+#REF!+#REF!+#REF!+#REF!+#REF!+#REF!+#REF!+#REF!","v":{"$error":"#REF!"}},{"$f":"#REF!+#REF!+#REF!+#REF!+#REF!+#REF!+#REF!+#REF!+#REF!+#REF!+#REF!+#REF!+#REF!+#REF!+#REF!+#REF!+#REF!+#REF!+#REF!+#REF!+#REF!+#REF!+#REF!+#REF!+#REF!+#REF!+#REF!+#REF!+#REF!+#REF!+#REF!+#REF!+#REF!","v":{"$error":"#REF!"}},{"$f":"#REF!+#REF!+#REF!+#REF!+#REF!+#REF!+#REF!+#REF!+#REF!+#REF!+#REF!+#REF!+#REF!+#REF!+#REF!+#REF!+#REF!+#REF!+#REF!+#REF!+#REF!+#REF!+#REF!+#REF!+#REF!+#REF!+#REF!+#REF!+#REF!+#REF!+#REF!+#REF!+#REF!","v":{"$error":"#REF!"}},{"$f":"#REF!+#REF!+#REF!+#REF!+#REF!+#REF!+#REF!+#REF!+#REF!+#REF!+#REF!+#REF!+#REF!+#REF!+#REF!+#REF!+#REF!+#REF!+#REF!+#REF!+#REF!+#REF!+#REF!+#REF!+#REF!+#REF!+#REF!+#REF!+#REF!+#REF!+#REF!+#REF!+#REF!","v":{"$error":"#REF!"}},{"$f":"#REF!+#REF!+#REF!+#REF!+#REF!+#REF!+#REF!+#REF!+#REF!+#REF!+#REF!+#REF!+#REF!+#REF!+#REF!+#REF!+#REF!+#REF!+#REF!+#REF!+#REF!+#REF!+#REF!+#REF!+#REF!+#REF!+#REF!+#REF!+#REF!+#REF!+#REF!+#REF!+#REF!","v":{"$error":"#REF!"}},{"$f":"#REF!+#REF!+#REF!+#REF!+#REF!+#REF!+#REF!+#REF!+#REF!+#REF!+#REF!+#REF!+#REF!+#REF!+#REF!+#REF!+#REF!+#REF!+#REF!+#REF!+#REF!+#REF!+#REF!+#REF!+#REF!+#REF!+#REF!+#REF!+#REF!+#REF!+#REF!+#REF!+#REF!","v":{"$error":"#REF!"}},{"$f":"#REF!+#REF!+#REF!+#REF!+#REF!+#REF!+#REF!+#REF!+#REF!+#REF!+#REF!+#REF!+#REF!+#REF!+#REF!+#REF!+#REF!+#REF!+#REF!+#REF!+#REF!+#REF!+#REF!+#REF!+#REF!+#REF!+#REF!+#REF!+#REF!+#REF!+#REF!+#REF!+#REF!","v":{"$error":"#REF!"}},{"$f":"#REF!+#REF!+#REF!+#REF!+#REF!+#REF!+#REF!+#REF!+#REF!+#REF!+#REF!+#REF!+#REF!+#REF!+#REF!+#REF!+#REF!+#REF!+#REF!+#REF!+#REF!+#REF!+#REF!+#REF!+#REF!+#REF!+#REF!+#REF!+#REF!+#REF!+#REF!+#REF!+#REF!","v":{"$error":"#REF!"}},{"$f":"#REF!+#REF!+#REF!+#REF!+#REF!+#REF!+#REF!+#REF!+#REF!+#REF!+#REF!+#REF!+#REF!+#REF!+#REF!+#REF!+#REF!+#REF!+#REF!+#REF!+#REF!+#REF!+#REF!+#REF!+#REF!+#REF!+#REF!+#REF!+#REF!+#REF!+#REF!+#REF!+#REF!","v":{"$error":"#REF!"}},{"$f":"#REF!+#REF!+#REF!+#REF!+#REF!+#REF!+#REF!+#REF!+#REF!+#REF!+#REF!+#REF!+#REF!+#REF!+#REF!+#REF!+#REF!+#REF!+#REF!+#REF!+#REF!+#REF!+#REF!+#REF!+#REF!+#REF!+#REF!+#REF!+#REF!+#REF!+#REF!+#REF!+#REF!","v":{"$error":"#REF!"}},{"$f":"'9_Per Pupil Summary'!N28","v":4629},{"$f":"#REF!+#REF!+#REF!+#REF!+#REF!+#REF!+#REF!+#REF!+#REF!+#REF!+#REF!+#REF!+#REF!+#REF!+#REF!+#REF!+#REF!+#REF!+#REF!+#REF!+#REF!+#REF!+#REF!+#REF!+#REF!+#REF!+#REF!+#REF!+#REF!+#REF!+#REF!+#REF!+#REF!","v":{"$error":"#REF!"}},{"$f":"#REF!+#REF!+#REF!+#REF!+#REF!+#REF!+#REF!+#REF!+#REF!+#REF!+#REF!+#REF!+#REF!+#REF!+#REF!+#REF!+#REF!+#REF!+#REF!+#REF!+#REF!+#REF!+#REF!+#REF!+#REF!+#REF!+#REF!+#REF!+#REF!+#REF!+#REF!+#REF!+#REF!","v":{"$error":"#REF!"}},{"$f":"#REF!+#REF!+#REF!+#REF!+#REF!+#REF!+#REF!+#REF!+#REF!+#REF!+#REF!+#REF!+#REF!+#REF!+#REF!+#REF!+#REF!+#REF!+#REF!+#REF!+#REF!+#REF!+#REF!+#REF!+#REF!+#REF!+#REF!+#REF!+#REF!+#REF!+#REF!+#REF!+#REF!","v":{"$error":"#REF!"}},{"$f":"#REF!+#REF!+#REF!+#REF!+#REF!+#REF!+#REF!+#REF!+#REF!+#REF!+#REF!+#REF!+#REF!+#REF!+#REF!+#REF!+#REF!+#REF!+#REF!+#REF!+#REF!+#REF!+#REF!+#REF!+#REF!+#REF!+#REF!+#REF!+#REF!+#REF!+#REF!+#REF!+#REF!","v":{"$error":"#REF!"}},{"$f":"#REF!+#REF!+#REF!+#REF!+#REF!+#REF!+#REF!+#REF!+#REF!+#REF!+#REF!+#REF!+#REF!+#REF!+#REF!+#REF!+#REF!+#REF!+#REF!+#REF!+#REF!+#REF!+#REF!+#REF!+#REF!+#REF!+#REF!+#REF!+#REF!+#REF!+#REF!+#REF!+#REF!","v":{"$error":"#REF!"}},{"$f":"#REF!+#REF!+#REF!+#REF!+#REF!+#REF!+#REF!+#REF!+#REF!+#REF!+#REF!+#REF!+#REF!+#REF!+#REF!+#REF!+#REF!+#REF!+#REF!+#REF!+#REF!+#REF!+#REF!+#REF!+#REF!+#REF!+#REF!+#REF!+#REF!+#REF!+#REF!+#REF!+#REF!","v":{"$error":"#REF!"}},{"$f":"#REF!+#REF!+#REF!+#REF!+#REF!+#REF!+#REF!+#REF!+#REF!+#REF!+#REF!+#REF!+#REF!+#REF!+#REF!+#REF!+#REF!+#REF!+#REF!+#REF!+#REF!+#REF!+#REF!+#REF!+#REF!+#REF!+#REF!+#REF!+#REF!+#REF!+#REF!+#REF!+#REF!","v":{"$error":"#REF!"}},{"$f":"#REF!+#REF!+#REF!+#REF!+#REF!+#REF!+#REF!+#REF!+#REF!+#REF!+#REF!+#REF!+#REF!+#REF!+#REF!+#REF!+#REF!+#REF!+#REF!+#REF!+#REF!+#REF!+#REF!+#REF!+#REF!+#REF!+#REF!+#REF!+#REF!+#REF!+#REF!+#REF!+#REF!","v":{"$error":"#REF!"}},{"$f":"#REF!+#REF!+#REF!+#REF!+#REF!+#REF!+#REF!+#REF!+#REF!+#REF!+#REF!+#REF!+#REF!+#REF!+#REF!+#REF!+#REF!+#REF!+#REF!+#REF!+#REF!+#REF!+#REF!+#REF!+#REF!+#REF!+#REF!+#REF!+#REF!+#REF!+#REF!+#REF!+#REF!","v":{"$error":"#REF!"}},{"$f":"#REF!+#REF!+#REF!+#REF!+#REF!+#REF!+#REF!+#REF!+#REF!+#REF!+#REF!+#REF!+#REF!+#REF!+#REF!+#REF!+#REF!+#REF!+#REF!+#REF!+#REF!+#REF!+#REF!+#REF!+#REF!+#REF!+#REF!+#REF!+#REF!+#REF!+#REF!+#REF!+#REF!","v":{"$error":"#REF!"}},{"$f":"#REF!+#REF!+#REF!+#REF!+#REF!+#REF!+#REF!+#REF!+#REF!+#REF!+#REF!+#REF!+#REF!+#REF!+#REF!+#REF!+#REF!+#REF!+#REF!+#REF!+#REF!+#REF!+#REF!+#REF!+#REF!+#REF!+#REF!+#REF!+#REF!+#REF!+#REF!+#REF!+#REF!","v":{"$error":"#REF!"}},{"$f":"#REF!+#REF!+#REF!+#REF!+#REF!+#REF!+#REF!+#REF!+#REF!+#REF!+#REF!+#REF!+#REF!+#REF!+#REF!+#REF!+#REF!+#REF!+#REF!+#REF!+#REF!+#REF!+#REF!+#REF!+#REF!+#REF!+#REF!+#REF!+#REF!+#REF!+#REF!+#REF!+#REF!","v":{"$error":"#REF!"}},{"$f":"#REF!+#REF!+#REF!+#REF!+#REF!+#REF!+#REF!+#REF!+#REF!+#REF!+#REF!+#REF!+#REF!+#REF!+#REF!+#REF!+#REF!+#REF!+#REF!+#REF!+#REF!+#REF!+#REF!+#REF!+#REF!+#REF!+#REF!+#REF!+#REF!+#REF!+#REF!+#REF!+#REF!","v":{"$error":"#REF!"}},{"$f":"#REF!+#REF!+#REF!+#REF!+#REF!+#REF!+#REF!+#REF!+#REF!+#REF!+#REF!+#REF!+#REF!+#REF!+#REF!+#REF!+#REF!+#REF!+#REF!+#REF!+#REF!+#REF!+#REF!+#REF!+#REF!+#REF!+#REF!+#REF!+#REF!+#REF!+#REF!+#REF!+#REF!","v":{"$error":"#REF!"}},{"$error":"#REF!"},{"$error":"#REF!"},{"$f":"#REF!+#REF!+#REF!+#REF!+#REF!+#REF!+#REF!+#REF!+#REF!+#REF!+#REF!+#REF!+#REF!+#REF!+#REF!+#REF!+#REF!+#REF!+#REF!+#REF!+#REF!+#REF!+#REF!+#REF!+#REF!+#REF!+#REF!+#REF!+#REF!+#REF!+#REF!+#REF!+#REF!","v":{"$error":"#REF!"}},null,{"$error":"#REF!"}]
[24,"Iberville",{"$f":"#REF!+#REF!+#REF!+#REF!+#REF!+#REF!+#REF!+#REF!+#REF!+#REF!+#REF!+#REF!+#REF!+#REF!+#REF!+#REF!+#REF!+#REF!+#REF!+#REF!+#REF!+#REF!+#REF!+#REF!+#REF!+#REF!+#REF!+#REF!+#REF!+#REF!+#REF!+#REF!+#REF!","v":{"$error":"#REF!"}},{"$f":"'9_Per Pupil Summary'!H29","v":2358.7590265892168},{"$f":"#REF!+#REF!+#REF!+#REF!+#REF!+#REF!+#REF!+#REF!+#REF!+#REF!+#REF!+#REF!+#REF!+#REF!+#REF!+#REF!+#REF!+#REF!+#REF!+#REF!+#REF!+#REF!+#REF!+#REF!+#REF!+#REF!+#REF!+#REF!+#REF!+#REF!+#REF!+#REF!+#REF!","v":{"$error":"#REF!"}},{"$f":"#REF!+#REF!+#REF!+#REF!+#REF!+#REF!+#REF!+#REF!+#REF!+#REF!+#REF!+#REF!+#REF!+#REF!+#REF!+#REF!+#REF!+#REF!+#REF!+#REF!+#REF!+#REF!+#REF!+#REF!+#REF!+#REF!+#REF!+#REF!+#REF!+#REF!+#REF!+#REF!+#REF!","v":{"$error":"#REF!"}},{"$f":"'9_Per Pupil Summary'!I29","v":220.82500110755942},{"$f":"#REF!+#REF!+#REF!+#REF!+#REF!+#REF!+#REF!+#REF!+#REF!+#REF!+#REF!+#REF!+#REF!+#REF!+#REF!+#REF!+#REF!+#REF!+#REF!+#REF!+#REF!+#REF!+#REF!+#REF!+#REF!+#REF!+#REF!+#REF!+#REF!+#REF!+#REF!+#REF!+#REF!","v":{"$error":"#REF!"}},{"$f":"#REF!+#REF!+#REF!+#REF!+#REF!+#REF!+#REF!+#REF!+#REF!+#REF!+#REF!+#REF!+#REF!+#REF!+#REF!+#REF!+#REF!+#REF!+#REF!+#REF!+#REF!+#REF!+#REF!+#REF!+#REF!+#REF!+#REF!+#REF!+#REF!+#REF!+#REF!+#REF!+#REF!","v":{"$error":"#REF!"}},{"$f":"'9_Per Pupil Summary'!J29","v":60.225000302061645},{"$f":"#REF!+#REF!+#REF!+#REF!+#REF!+#REF!+#REF!+#REF!+#REF!+#REF!+#REF!+#REF!+#REF!+#REF!+#REF!+#REF!+#REF!+#REF!+#REF!+#REF!+#REF!+#REF!+#REF!+#REF!+#REF!+#REF!+#REF!+#REF!+#REF!+#REF!+#REF!+#REF!+#REF!","v":{"$error":"#REF!"}},{"$f":"#REF!+#REF!+#REF!+#REF!+#REF!+#REF!+#REF!+#REF!+#REF!+#REF!+#REF!+#REF!+#REF!+#REF!+#REF!+#REF!+#REF!+#REF!+#REF!+#REF!+#REF!+#REF!+#REF!+#REF!+#REF!+#REF!+#REF!+#REF!+#REF!+#REF!+#REF!+#REF!+#REF!","v":{"$error":"#REF!"}},{"$f":"'9_Per Pupil Summary'!K29","v":1505.6250075515413},{"$f":"#REF!+#REF!+#REF!+#REF!+#REF!+#REF!+#REF!+#REF!+#REF!+#REF!+#REF!+#REF!+#REF!+#REF!+#REF!+#REF!+#REF!+#REF!+#REF!+#REF!+#REF!+#REF!+#REF!+#REF!+#REF!+#REF!+#REF!+#REF!+#REF!+#REF!+#REF!+#REF!+#REF!","v":{"$error":"#REF!"}},{"$f":"#REF!+#REF!+#REF!+#REF!+#REF!+#REF!+#REF!+#REF!+#REF!+#REF!+#REF!+#REF!+#REF!+#REF!+#REF!+#REF!+#REF!+#REF!+#REF!+#REF!+#REF!+#REF!+#REF!+#REF!+#REF!+#REF!+#REF!+#REF!+#REF!+#REF!+#REF!+#REF!+#REF!","v":{"$error":"#REF!"}},{"$f":"'9_Per Pupil Summary'!L29","v":602.25000302061642},{"$f":"#REF!+#REF!+#REF!+#REF!+#REF!+#REF!+#REF!+#REF!+#REF!+#REF!+#REF!+#REF!+#REF!+#REF!+#REF!+#REF!+#REF!+#REF!+#REF!+#REF!+#REF!+#REF!+#REF!+#REF!+#REF!+#REF!+#REF!+#REF!+#REF!+#REF!+#REF!+#REF!+#REF!","v":{"$error":"#REF!"}},{"$f":"#REF!+#REF!+#REF!+#REF!+#REF!+#REF!+#REF!+#REF!+#REF!+#REF!+#REF!+#REF!+#REF!+#REF!+#REF!+#REF!+#REF!+#REF!+#REF!+#REF!+#REF!+#REF!+#REF!+#REF!+#REF!+#REF!+#REF!+#REF!+#REF!+#REF!+#REF!+#REF!+#REF!","v":{"$error":"#REF!"}},{"$f":"#REF!+#REF!","v":{"$error":"#REF!"}},{"$f":"#REF!+#REF!+#REF!+#REF!+#REF!+#REF!+#REF!+#REF!+#REF!+#REF!+#REF!+#REF!+#REF!+#REF!+#REF!+#REF!+#REF!+#REF!+#REF!+#REF!+#REF!+#REF!+#REF!+#REF!+#REF!+#REF!+#REF!+#REF!+#REF!+#REF!+#REF!+#REF!+#REF!","v":{"$error":"#REF!"}},{"$f":"#REF!+#REF!+#REF!+#REF!+#REF!+#REF!+#REF!+#REF!+#REF!+#REF!+#REF!+#REF!+#REF!+#REF!+#REF!+#REF!+#REF!+#REF!+#REF!+#REF!+#REF!+#REF!+#REF!+#REF!+#REF!+#REF!+#REF!+#REF!+#REF!+#REF!+#REF!+#REF!+#REF!","v":{"$error":"#REF!"}},{"$f":"#REF!+#REF!+#REF!+#REF!+#REF!+#REF!+#REF!+#REF!+#REF!+#REF!+#REF!+#REF!+#REF!+#REF!+#REF!+#REF!+#REF!+#REF!+#REF!+#REF!+#REF!+#REF!+#REF!+#REF!+#REF!+#REF!+#REF!+#REF!+#REF!+#REF!+#REF!+#REF!+#REF!","v":{"$error":"#REF!"}},{"$f":"#REF!+#REF!+#REF!+#REF!+#REF!+#REF!+#REF!+#REF!+#REF!+#REF!+#REF!+#REF!+#REF!+#REF!+#REF!+#REF!+#REF!+#REF!+#REF!+#REF!+#REF!+#REF!+#REF!+#REF!+#REF!+#REF!+#REF!+#REF!+#REF!+#REF!+#REF!+#REF!+#REF!","v":{"$error":"#REF!"}},{"$f":"#REF!+#REF!+#REF!+#REF!+#REF!+#REF!+#REF!+#REF!+#REF!+#REF!+#REF!+#REF!+#REF!+#REF!+#REF!+#REF!+#REF!+#REF!+#REF!+#REF!+#REF!+#REF!+#REF!+#REF!+#REF!+#REF!+#REF!+#REF!+#REF!+#REF!+#REF!+#REF!+#REF!","v":{"$error":"#REF!"}},{"$f":"#REF!+#REF!+#REF!+#REF!+#REF!+#REF!+#REF!+#REF!+#REF!+#REF!+#REF!+#REF!+#REF!+#REF!+#REF!+#REF!+#REF!+#REF!+#REF!+#REF!+#REF!+#REF!+#REF!+#REF!+#REF!+#REF!+#REF!+#REF!+#REF!+#REF!+#REF!+#REF!+#REF!","v":{"$error":"#REF!"}},{"$f":"#REF!+#REF!+#REF!+#REF!+#REF!+#REF!+#REF!+#REF!+#REF!+#REF!+#REF!+#REF!+#REF!+#REF!+#REF!+#REF!+#REF!+#REF!+#REF!+#REF!+#REF!+#REF!+#REF!+#REF!+#REF!+#REF!+#REF!+#REF!+#REF!+#REF!+#REF!+#REF!+#REF!","v":{"$error":"#REF!"}},{"$f":"#REF!+#REF!+#REF!+#REF!+#REF!+#REF!+#REF!+#REF!+#REF!+#REF!+#REF!+#REF!+#REF!+#REF!+#REF!+#REF!+#REF!+#REF!+#REF!+#REF!+#REF!+#REF!+#REF!+#REF!+#REF!+#REF!+#REF!+#REF!+#REF!+#REF!+#REF!+#REF!+#REF!","v":{"$error":"#REF!"}},{"$f":"#REF!+#REF!+#REF!+#REF!+#REF!+#REF!+#REF!+#REF!+#REF!+#REF!+#REF!+#REF!+#REF!+#REF!+#REF!+#REF!+#REF!+#REF!+#REF!+#REF!+#REF!+#REF!+#REF!+#REF!+#REF!+#REF!+#REF!+#REF!+#REF!+#REF!+#REF!+#REF!+#REF!","v":{"$error":"#REF!"}},{"$f":"#REF!+#REF!+#REF!+#REF!+#REF!+#REF!+#REF!+#REF!+#REF!+#REF!+#REF!+#REF!+#REF!+#REF!+#REF!+#REF!+#REF!+#REF!+#REF!+#REF!+#REF!+#REF!+#REF!+#REF!+#REF!+#REF!+#REF!+#REF!+#REF!+#REF!+#REF!+#REF!+#REF!","v":{"$error":"#REF!"}},{"$f":"#REF!+#REF!+#REF!+#REF!+#REF!+#REF!+#REF!+#REF!+#REF!+#REF!+#REF!+#REF!+#REF!+#REF!+#REF!+#REF!+#REF!+#REF!+#REF!+#REF!+#REF!+#REF!+#REF!+#REF!+#REF!+#REF!+#REF!+#REF!+#REF!+#REF!+#REF!+#REF!+#REF!","v":{"$error":"#REF!"}},{"$f":"#REF!+#REF!+#REF!+#REF!+#REF!+#REF!+#REF!+#REF!+#REF!+#REF!+#REF!+#REF!+#REF!+#REF!+#REF!+#REF!+#REF!+#REF!+#REF!+#REF!+#REF!+#REF!+#REF!+#REF!+#REF!+#REF!+#REF!+#REF!+#REF!+#REF!+#REF!+#REF!+#REF!","v":{"$error":"#REF!"}},{"$f":"'9_Per Pupil Summary'!N29","v":23645},{"$f":"#REF!+#REF!+#REF!+#REF!+#REF!+#REF!+#REF!+#REF!+#REF!+#REF!+#REF!+#REF!+#REF!+#REF!+#REF!+#REF!+#REF!+#REF!+#REF!+#REF!+#REF!+#REF!+#REF!+#REF!+#REF!+#REF!+#REF!+#REF!+#REF!+#REF!+#REF!+#REF!+#REF!","v":{"$error":"#REF!"}},{"$f":"#REF!+#REF!+#REF!+#REF!+#REF!+#REF!+#REF!+#REF!+#REF!+#REF!+#REF!+#REF!+#REF!+#REF!+#REF!+#REF!+#REF!+#REF!+#REF!+#REF!+#REF!+#REF!+#REF!+#REF!+#REF!+#REF!+#REF!+#REF!+#REF!+#REF!+#REF!+#REF!+#REF!","v":{"$error":"#REF!"}},{"$f":"#REF!+#REF!+#REF!+#REF!+#REF!+#REF!+#REF!+#REF!+#REF!+#REF!+#REF!+#REF!+#REF!+#REF!+#REF!+#REF!+#REF!+#REF!+#REF!+#REF!+#REF!+#REF!+#REF!+#REF!+#REF!+#REF!+#REF!+#REF!+#REF!+#REF!+#REF!+#REF!+#REF!","v":{"$error":"#REF!"}},{"$f":"#REF!+#REF!+#REF!+#REF!+#REF!+#REF!+#REF!+#REF!+#REF!+#REF!+#REF!+#REF!+#REF!+#REF!+#REF!+#REF!+#REF!+#REF!+#REF!+#REF!+#REF!+#REF!+#REF!+#REF!+#REF!+#REF!+#REF!+#REF!+#REF!+#REF!+#REF!+#REF!+#REF!","v":{"$error":"#REF!"}},{"$f":"#REF!+#REF!+#REF!+#REF!+#REF!+#REF!+#REF!+#REF!+#REF!+#REF!+#REF!+#REF!+#REF!+#REF!+#REF!+#REF!+#REF!+#REF!+#REF!+#REF!+#REF!+#REF!+#REF!+#REF!+#REF!+#REF!+#REF!+#REF!+#REF!+#REF!+#REF!+#REF!+#REF!","v":{"$error":"#REF!"}},{"$f":"#REF!+#REF!+#REF!+#REF!+#REF!+#REF!+#REF!+#REF!+#REF!+#REF!+#REF!+#REF!+#REF!+#REF!+#REF!+#REF!+#REF!+#REF!+#REF!+#REF!+#REF!+#REF!+#REF!+#REF!+#REF!+#REF!+#REF!+#REF!+#REF!+#REF!+#REF!+#REF!+#REF!","v":{"$error":"#REF!"}},{"$f":"#REF!+#REF!+#REF!+#REF!+#REF!+#REF!+#REF!+#REF!+#REF!+#REF!+#REF!+#REF!+#REF!+#REF!+#REF!+#REF!+#REF!+#REF!+#REF!+#REF!+#REF!+#REF!+#REF!+#REF!+#REF!+#REF!+#REF!+#REF!+#REF!+#REF!+#REF!+#REF!+#REF!","v":{"$error":"#REF!"}},{"$f":"#REF!+#REF!+#REF!+#REF!+#REF!+#REF!+#REF!+#REF!+#REF!+#REF!+#REF!+#REF!+#REF!+#REF!+#REF!+#REF!+#REF!+#REF!+#REF!+#REF!+#REF!+#REF!+#REF!+#REF!+#REF!+#REF!+#REF!+#REF!+#REF!+#REF!+#REF!+#REF!+#REF!","v":{"$error":"#REF!"}},{"$f":"#REF!+#REF!+#REF!+#REF!+#REF!+#REF!+#REF!+#REF!+#REF!+#REF!+#REF!+#REF!+#REF!+#REF!+#REF!+#REF!+#REF!+#REF!+#REF!+#REF!+#REF!+#REF!+#REF!+#REF!+#REF!+#REF!+#REF!+#REF!+#REF!+#REF!+#REF!+#REF!+#REF!","v":{"$error":"#REF!"}},{"$f":"#REF!+#REF!+#REF!+#REF!+#REF!+#REF!+#REF!+#REF!+#REF!+#REF!+#REF!+#REF!+#REF!+#REF!+#REF!+#REF!+#REF!+#REF!+#REF!+#REF!+#REF!+#REF!+#REF!+#REF!+#REF!+#REF!+#REF!+#REF!+#REF!+#REF!+#REF!+#REF!+#REF!","v":{"$error":"#REF!"}},{"$f":"#REF!+#REF!+#REF!+#REF!+#REF!+#REF!+#REF!+#REF!+#REF!+#REF!+#REF!+#REF!+#REF!+#REF!+#REF!+#REF!+#REF!+#REF!+#REF!+#REF!+#REF!+#REF!+#REF!+#REF!+#REF!+#REF!+#REF!+#REF!+#REF!+#REF!+#REF!+#REF!+#REF!","v":{"$error":"#REF!"}},{"$f":"#REF!+#REF!+#REF!+#REF!+#REF!+#REF!+#REF!+#REF!+#REF!+#REF!+#REF!+#REF!+#REF!+#REF!+#REF!+#REF!+#REF!+#REF!+#REF!+#REF!+#REF!+#REF!+#REF!+#REF!+#REF!+#REF!+#REF!+#REF!+#REF!+#REF!+#REF!+#REF!+#REF!","v":{"$error":"#REF!"}},{"$f":"#REF!+#REF!+#REF!+#REF!+#REF!+#REF!+#REF!+#REF!+#REF!+#REF!+#REF!+#REF!+#REF!+#REF!+#REF!+#REF!+#REF!+#REF!+#REF!+#REF!+#REF!+#REF!+#REF!+#REF!+#REF!+#REF!+#REF!+#REF!+#REF!+#REF!+#REF!+#REF!+#REF!","v":{"$error":"#REF!"}},{"$f":"#REF!+#REF!+#REF!+#REF!+#REF!+#REF!+#REF!+#REF!+#REF!+#REF!+#REF!+#REF!+#REF!+#REF!+#REF!+#REF!+#REF!+#REF!+#REF!+#REF!+#REF!+#REF!+#REF!+#REF!+#REF!+#REF!+#REF!+#REF!+#REF!+#REF!+#REF!+#REF!+#REF!","v":{"$error":"#REF!"}},{"$error":"#REF!"},{"$error":"#REF!"},{"$f":"#REF!+#REF!+#REF!+#REF!+#REF!+#REF!+#REF!+#REF!+#REF!+#REF!+#REF!+#REF!+#REF!+#REF!+#REF!+#REF!+#REF!+#REF!+#REF!+#REF!+#REF!+#REF!+#REF!+#REF!+#REF!+#REF!+#REF!+#REF!+#REF!+#REF!+#REF!+#REF!+#REF!","v":{"$error":"#REF!"}},null,{"$error":"#REF!"}]
[25,"Jackson",{"$f":"#REF!+#REF!+#REF!+#REF!+#REF!+#REF!+#REF!+#REF!+#REF!+#REF!+#REF!+#REF!+#REF!+#REF!+#REF!+#REF!+#REF!+#REF!+#REF!+#REF!+#REF!+#REF!+#REF!+#REF!+#REF!+#REF!+#REF!+#REF!+#REF!+#REF!+#REF!+#REF!+#REF!","v":{"$error":"#REF!"}},{"$f":"'9_Per Pupil Summary'!H30","v":4671.5949586075667},{"$f":"#REF!+#REF!+#REF!+#REF!+#REF!+#REF!+#REF!+#REF!+#REF!+#REF!+#REF!+#REF!+#REF!+#REF!+#REF!+#REF!+#REF!+#REF!+#REF!+#REF!+#REF!+#REF!+#REF!+#REF!+#REF!+#REF!+#REF!+#REF!+#REF!+#REF!+#REF!+#REF!+#REF!","v":{"$error":"#REF!"}},{"$f":"#REF!+#REF!+#REF!+#REF!+#REF!+#REF!+#REF!+#REF!+#REF!+#REF!+#REF!+#REF!+#REF!+#REF!+#REF!+#REF!+#REF!+#REF!+#REF!+#REF!+#REF!+#REF!+#REF!+#REF!+#REF!+#REF!+#REF!+#REF!+#REF!+#REF!+#REF!+#REF!+#REF!","v":{"$error":"#REF!"}},{"$f":"'9_Per Pupil Summary'!I30","v":619.06126978042096},{"$f":"#REF!+#REF!+#REF!+#REF!+#REF!+#REF!+#REF!+#REF!+#REF!+#REF!+#REF!+#REF!+#REF!+#REF!+#REF!+#REF!+#REF!+#REF!+#REF!+#REF!+#REF!+#REF!+#REF!+#REF!+#REF!+#REF!+#REF!+#REF!+#REF!+#REF!+#REF!+#REF!+#REF!","v":{"$error":"#REF!"}},{"$f":"#REF!+#REF!+#REF!+#REF!+#REF!+#REF!+#REF!+#REF!+#REF!+#REF!+#REF!+#REF!+#REF!+#REF!+#REF!+#REF!+#REF!+#REF!+#REF!+#REF!+#REF!+#REF!+#REF!+#REF!+#REF!+#REF!+#REF!+#REF!+#REF!+#REF!+#REF!+#REF!+#REF!","v":{"$error":"#REF!"}},{"$f":"'9_Per Pupil Summary'!J30","v":168.83489175829661},{"$f":"#REF!+#REF!+#REF!+#REF!+#REF!+#REF!+#REF!+#REF!+#REF!+#REF!+#REF!+#REF!+#REF!+#REF!+#REF!+#REF!+#REF!+#REF!+#REF!+#REF!+#REF!+#REF!+#REF!+#REF!+#REF!+#REF!+#REF!+#REF!+#REF!+#REF!+#REF!+#REF!+#REF!","v":{"$error":"#REF!"}},{"$f":"#REF!+#REF!+#REF!+#REF!+#REF!+#REF!+#REF!+#REF!+#REF!+#REF!+#REF!+#REF!+#REF!+#REF!+#REF!+#REF!+#REF!+#REF!+#REF!+#REF!+#REF!+#REF!+#REF!+#REF!+#REF!+#REF!+#REF!+#REF!+#REF!+#REF!+#REF!+#REF!+#REF!","v":{"$error":"#REF!"}},{"$f":"'9_Per Pupil Summary'!K30","v":4220.8722939574154},{"$f":"#REF!+#REF!+#REF!+#REF!+#REF!+#REF!+#REF!+#REF!+#REF!+#REF!+#REF!+#REF!+#REF!+#REF!+#REF!+#REF!+#REF!+#REF!+#REF!+#REF!+#REF!+#REF!+#REF!+#REF!+#REF!+#REF!+#REF!+#REF!+#REF!+#REF!+#REF!+#REF!+#REF!","v":{"$error":"#REF!"}},{"$f":"#REF!+#REF!+#REF!+#REF!+#REF!+#REF!+#REF!+#REF!+#REF!+#REF!+#REF!+#REF!+#REF!+#REF!+#REF!+#REF!+#REF!+#REF!+#REF!+#REF!+#REF!+#REF!+#REF!+#REF!+#REF!+#REF!+#REF!+#REF!+#REF!+#REF!+#REF!+#REF!+#REF!","v":{"$error":"#REF!"}},{"$f":"'9_Per Pupil Summary'!L30","v":1688.3489175829659},{"$f":"#REF!+#REF!+#REF!+#REF!+#REF!+#REF!+#REF!+#REF!+#REF!+#REF!+#REF!+#REF!+#REF!+#REF!+#REF!+#REF!+#REF!+#REF!+#REF!+#REF!+#REF!+#REF!+#REF!+#REF!+#REF!+#REF!+#REF!+#REF!+#REF!+#REF!+#REF!+#REF!+#REF!","v":{"$error":"#REF!"}},{"$f":"#REF!+#REF!+#REF!+#REF!+#REF!+#REF!+#REF!+#REF!+#REF!+#REF!+#REF!+#REF!+#REF!+#REF!+#REF!+#REF!+#REF!+#REF!+#REF!+#REF!+#REF!+#REF!+#REF!+#REF!+#REF!+#REF!+#REF!+#REF!+#REF!+#REF!+#REF!+#REF!+#REF!","v":{"$error":"#REF!"}},{"$f":"#REF!+#REF!","v":{"$error":"#REF!"}},{"$f":"#REF!+#REF!+#REF!+#REF!+#REF!+#REF!+#REF!+#REF!+#REF!+#REF!+#REF!+#REF!+#REF!+#REF!+#REF!+#REF!+#REF!+#REF!+#REF!+#REF!+#REF!+#REF!+#REF!+#REF!+#REF!+#REF!+#REF!+#REF!+#REF!+#REF!+#REF!+#REF!+#REF!","v":{"$error":"#REF!"}},{"$f":"#REF!+#REF!+#REF!+#REF!+#REF!+#REF!+#REF!+#REF!+#REF!+#REF!+#REF!+#REF!+#REF!+#REF!+#REF!+#REF!+#REF!+#REF!+#REF!+#REF!+#REF!+#REF!+#REF!+#REF!+#REF!+#REF!+#REF!+#REF!+#REF!+#REF!+#REF!+#REF!+#REF!","v":{"$error":"#REF!"}},{"$f":"#REF!+#REF!+#REF!+#REF!+#REF!+#REF!+#REF!+#REF!+#REF!+#REF!+#REF!+#REF!+#REF!+#REF!+#REF!+#REF!+#REF!+#REF!+#REF!+#REF!+#REF!+#REF!+#REF!+#REF!+#REF!+#REF!+#REF!+#REF!+#REF!+#REF!+#REF!+#REF!+#REF!","v":{"$error":"#REF!"}},{"$f":"#REF!+#REF!+#REF!+#REF!+#REF!+#REF!+#REF!+#REF!+#REF!+#REF!+#REF!+#REF!+#REF!+#REF!+#REF!+#REF!+#REF!+#REF!+#REF!+#REF!+#REF!+#REF!+#REF!+#REF!+#REF!+#REF!+#REF!+#REF!+#REF!+#REF!+#REF!+#REF!+#REF!","v":{"$error":"#REF!"}},{"$f":"#REF!+#REF!+#REF!+#REF!+#REF!+#REF!+#REF!+#REF!+#REF!+#REF!+#REF!+#REF!+#REF!+#REF!+#REF!+#REF!+#REF!+#REF!+#REF!+#REF!+#REF!+#REF!+#REF!+#REF!+#REF!+#REF!+#REF!+#REF!+#REF!+#REF!+#REF!+#REF!+#REF!","v":{"$error":"#REF!"}},{"$f":"#REF!+#REF!+#REF!+#REF!+#REF!+#REF!+#REF!+#REF!+#REF!+#REF!+#REF!+#REF!+#REF!+#REF!+#REF!+#REF!+#REF!+#REF!+#REF!+#REF!+#REF!+#REF!+#REF!+#REF!+#REF!+#REF!+#REF!+#REF!+#REF!+#REF!+#REF!+#REF!+#REF!","v":{"$error":"#REF!"}},{"$f":"#REF!+#REF!+#REF!+#REF!+#REF!+#REF!+#REF!+#REF!+#REF!+#REF!+#REF!+#REF!+#REF!+#REF!+#REF!+#REF!+#REF!+#REF!+#REF!+#REF!+#REF!+#REF!+#REF!+#REF!+#REF!+#REF!+#REF!+#REF!+#REF!+#REF!+#REF!+#REF!+#REF!","v":{"$error":"#REF!"}},{"$f":"#REF!+#REF!+#REF!+#REF!+#REF!+#REF!+#REF!+#REF!+#REF!+#REF!+#REF!+#REF!+#REF!+#REF!+#REF!+#REF!+#REF!+#REF!+#REF!+#REF!+#REF!+#REF!+#REF!+#REF!+#REF!+#REF!+#REF!+#REF!+#REF!+#REF!+#REF!+#REF!+#REF!","v":{"$error":"#REF!"}},{"$f":"#REF!+#REF!+#REF!+#REF!+#REF!+#REF!+#REF!+#REF!+#REF!+#REF!+#REF!+#REF!+#REF!+#REF!+#REF!+#REF!+#REF!+#REF!+#REF!+#REF!+#REF!+#REF!+#REF!+#REF!+#REF!+#REF!+#REF!+#REF!+#REF!+#REF!+#REF!+#REF!+#REF!","v":{"$error":"#REF!"}},{"$f":"#REF!+#REF!+#REF!+#REF!+#REF!+#REF!+#REF!+#REF!+#REF!+#REF!+#REF!+#REF!+#REF!+#REF!+#REF!+#REF!+#REF!+#REF!+#REF!+#REF!+#REF!+#REF!+#REF!+#REF!+#REF!+#REF!+#REF!+#REF!+#REF!+#REF!+#REF!+#REF!+#REF!","v":{"$error":"#REF!"}},{"$f":"#REF!+#REF!+#REF!+#REF!+#REF!+#REF!+#REF!+#REF!+#REF!+#REF!+#REF!+#REF!+#REF!+#REF!+#REF!+#REF!+#REF!+#REF!+#REF!+#REF!+#REF!+#REF!+#REF!+#REF!+#REF!+#REF!+#REF!+#REF!+#REF!+#REF!+#REF!+#REF!+#REF!","v":{"$error":"#REF!"}},{"$f":"#REF!+#REF!+#REF!+#REF!+#REF!+#REF!+#REF!+#REF!+#REF!+#REF!+#REF!+#REF!+#REF!+#REF!+#REF!+#REF!+#REF!+#REF!+#REF!+#REF!+#REF!+#REF!+#REF!+#REF!+#REF!+#REF!+#REF!+#REF!+#REF!+#REF!+#REF!+#REF!+#REF!","v":{"$error":"#REF!"}},{"$f":"'9_Per Pupil Summary'!N30","v":5834},{"$f":"#REF!+#REF!+#REF!+#REF!+#REF!+#REF!+#REF!+#REF!+#REF!+#REF!+#REF!+#REF!+#REF!+#REF!+#REF!+#REF!+#REF!+#REF!+#REF!+#REF!+#REF!+#REF!+#REF!+#REF!+#REF!+#REF!+#REF!+#REF!+#REF!+#REF!+#REF!+#REF!+#REF!","v":{"$error":"#REF!"}},{"$f":"#REF!+#REF!+#REF!+#REF!+#REF!+#REF!+#REF!+#REF!+#REF!+#REF!+#REF!+#REF!+#REF!+#REF!+#REF!+#REF!+#REF!+#REF!+#REF!+#REF!+#REF!+#REF!+#REF!+#REF!+#REF!+#REF!+#REF!+#REF!+#REF!+#REF!+#REF!+#REF!+#REF!","v":{"$error":"#REF!"}},{"$f":"#REF!+#REF!+#REF!+#REF!+#REF!+#REF!+#REF!+#REF!+#REF!+#REF!+#REF!+#REF!+#REF!+#REF!+#REF!+#REF!+#REF!+#REF!+#REF!+#REF!+#REF!+#REF!+#REF!+#REF!+#REF!+#REF!+#REF!+#REF!+#REF!+#REF!+#REF!+#REF!+#REF!","v":{"$error":"#REF!"}},{"$f":"#REF!+#REF!+#REF!+#REF!+#REF!+#REF!+#REF!+#REF!+#REF!+#REF!+#REF!+#REF!+#REF!+#REF!+#REF!+#REF!+#REF!+#REF!+#REF!+#REF!+#REF!+#REF!+#REF!+#REF!+#REF!+#REF!+#REF!+#REF!+#REF!+#REF!+#REF!+#REF!+#REF!","v":{"$error":"#REF!"}},{"$f":"#REF!+#REF!+#REF!+#REF!+#REF!+#REF!+#REF!+#REF!+#REF!+#REF!+#REF!+#REF!+#REF!+#REF!+#REF!+#REF!+#REF!+#REF!+#REF!+#REF!+#REF!+#REF!+#REF!+#REF!+#REF!+#REF!+#REF!+#REF!+#REF!+#REF!+#REF!+#REF!+#REF!","v":{"$error":"#REF!"}},{"$f":"#REF!+#REF!+#REF!+#REF!+#REF!+#REF!+#REF!+#REF!+#REF!+#REF!+#REF!+#REF!+#REF!+#REF!+#REF!+#REF!+#REF!+#REF!+#REF!+#REF!+#REF!+#REF!+#REF!+#REF!+#REF!+#REF!+#REF!+#REF!+#REF!+#REF!+#REF!+#REF!+#REF!","v":{"$error":"#REF!"}},{"$f":"#REF!+#REF!+#REF!+#REF!+#REF!+#REF!+#REF!+#REF!+#REF!+#REF!+#REF!+#REF!+#REF!+#REF!+#REF!+#REF!+#REF!+#REF!+#REF!+#REF!+#REF!+#REF!+#REF!+#REF!+#REF!+#REF!+#REF!+#REF!+#REF!+#REF!+#REF!+#REF!+#REF!","v":{"$error":"#REF!"}},{"$f":"#REF!+#REF!+#REF!+#REF!+#REF!+#REF!+#REF!+#REF!+#REF!+#REF!+#REF!+#REF!+#REF!+#REF!+#REF!+#REF!+#REF!+#REF!+#REF!+#REF!+#REF!+#REF!+#REF!+#REF!+#REF!+#REF!+#REF!+#REF!+#REF!+#REF!+#REF!+#REF!+#REF!","v":{"$error":"#REF!"}},{"$f":"#REF!+#REF!+#REF!+#REF!+#REF!+#REF!+#REF!+#REF!+#REF!+#REF!+#REF!+#REF!+#REF!+#REF!+#REF!+#REF!+#REF!+#REF!+#REF!+#REF!+#REF!+#REF!+#REF!+#REF!+#REF!+#REF!+#REF!+#REF!+#REF!+#REF!+#REF!+#REF!+#REF!","v":{"$error":"#REF!"}},{"$f":"#REF!+#REF!+#REF!+#REF!+#REF!+#REF!+#REF!+#REF!+#REF!+#REF!+#REF!+#REF!+#REF!+#REF!+#REF!+#REF!+#REF!+#REF!+#REF!+#REF!+#REF!+#REF!+#REF!+#REF!+#REF!+#REF!+#REF!+#REF!+#REF!+#REF!+#REF!+#REF!+#REF!","v":{"$error":"#REF!"}},{"$f":"#REF!+#REF!+#REF!+#REF!+#REF!+#REF!+#REF!+#REF!+#REF!+#REF!+#REF!+#REF!+#REF!+#REF!+#REF!+#REF!+#REF!+#REF!+#REF!+#REF!+#REF!+#REF!+#REF!+#REF!+#REF!+#REF!+#REF!+#REF!+#REF!+#REF!+#REF!+#REF!+#REF!","v":{"$error":"#REF!"}},{"$f":"#REF!+#REF!+#REF!+#REF!+#REF!+#REF!+#REF!+#REF!+#REF!+#REF!+#REF!+#REF!+#REF!+#REF!+#REF!+#REF!+#REF!+#REF!+#REF!+#REF!+#REF!+#REF!+#REF!+#REF!+#REF!+#REF!+#REF!+#REF!+#REF!+#REF!+#REF!+#REF!+#REF!","v":{"$error":"#REF!"}},{"$f":"#REF!+#REF!+#REF!+#REF!+#REF!+#REF!+#REF!+#REF!+#REF!+#REF!+#REF!+#REF!+#REF!+#REF!+#REF!+#REF!+#REF!+#REF!+#REF!+#REF!+#REF!+#REF!+#REF!+#REF!+#REF!+#REF!+#REF!+#REF!+#REF!+#REF!+#REF!+#REF!+#REF!","v":{"$error":"#REF!"}},{"$f":"#REF!+#REF!+#REF!+#REF!+#REF!+#REF!+#REF!+#REF!+#REF!+#REF!+#REF!+#REF!+#REF!+#REF!+#REF!+#REF!+#REF!+#REF!+#REF!+#REF!+#REF!+#REF!+#REF!+#REF!+#REF!+#REF!+#REF!+#REF!+#REF!+#REF!+#REF!+#REF!+#REF!","v":{"$error":"#REF!"}},{"$error":"#REF!"},{"$error":"#REF!"},{"$f":"#REF!+#REF!+#REF!+#REF!+#REF!+#REF!+#REF!+#REF!+#REF!+#REF!+#REF!+#REF!+#REF!+#REF!+#REF!+#REF!+#REF!+#REF!+#REF!+#REF!+#REF!+#REF!+#REF!+#REF!+#REF!+#REF!+#REF!+#REF!+#REF!+#REF!+#REF!+#REF!+#REF!","v":{"$error":"#REF!"}},null,{"$error":"#REF!"}]
[26,"Jefferson",{"$f":"#REF!+#REF!+#REF!+#REF!+#REF!+#REF!+#REF!+#REF!+#REF!+#REF!+#REF!+#REF!+#REF!+#REF!+#REF!+#REF!+#REF!+#REF!+#REF!+#REF!+#REF!+#REF!+#REF!+#REF!+#REF!+#REF!+#REF!+#REF!+#REF!+#REF!+#REF!+#REF!+#REF!","v":{"$error":"#REF!"}},{"$f":"'9_Per Pupil Summary'!H31","v":3799.7733898999386},{"$f":"#REF!+#REF!+#REF!+#REF!+#REF!+#REF!+#REF!+#REF!+#REF!+#REF!+#REF!+#REF!+#REF!+#REF!+#REF!+#REF!+#REF!+#REF!+#REF!+#REF!+#REF!+#REF!+#REF!+#REF!+#REF!+#REF!+#REF!+#REF!+#REF!+#REF!+#REF!+#REF!+#REF!","v":{"$error":"#REF!"}},{"$f":"#REF!+#REF!+#REF!+#REF!+#REF!+#REF!+#REF!+#REF!+#REF!+#REF!+#REF!+#REF!+#REF!+#REF!+#REF!+#REF!+#REF!+#REF!+#REF!+#REF!+#REF!+#REF!+#REF!+#REF!+#REF!+#REF!+#REF!+#REF!+#REF!+#REF!+#REF!+#REF!+#REF!","v":{"$error":"#REF!"}},{"$f":"'9_Per Pupil Summary'!I31","v":474.33372044939267},{"$f":"#REF!+#REF!+#REF!+#REF!+#REF!+#REF!+#REF!+#REF!+#REF!+#REF!+#REF!+#REF!+#REF!+#REF!+#REF!+#REF!+#REF!+#REF!+#REF!+#REF!+#REF!+#REF!+#REF!+#REF!+#REF!+#REF!+#REF!+#REF!+#REF!+#REF!+#REF!+#REF!+#REF!","v":{"$error":"#REF!"}},{"$f":"#REF!+#REF!+#REF!+#REF!+#REF!+#REF!+#REF!+#REF!+#REF!+#REF!+#REF!+#REF!+#REF!+#REF!+#REF!+#REF!+#REF!+#REF!+#REF!+#REF!+#REF!+#REF!+#REF!+#REF!+#REF!+#REF!+#REF!+#REF!+#REF!+#REF!+#REF!+#REF!+#REF!","v":{"$error":"#REF!"}},{"$f":"'9_Per Pupil Summary'!J31","v":129.36374194074347},{"$f":"#REF!+#REF!+#REF!+#REF!+#REF!+#REF!+#REF!+#REF!+#REF!+#REF!+#REF!+#REF!+#REF!+#REF!+#REF!+#REF!+#REF!+#REF!+#REF!+#REF!+#REF!+#REF!+#REF!+#REF!+#REF!+#REF!+#REF!+#REF!+#REF!+#REF!+#REF!+#REF!+#REF!","v":{"$error":"#REF!"}},{"$f":"#REF!+#REF!+#REF!+#REF!+#REF!+#REF!+#REF!+#REF!+#REF!+#REF!+#REF!+#REF!+#REF!+#REF!+#REF!+#REF!+#REF!+#REF!+#REF!+#REF!+#REF!+#REF!+#REF!+#REF!+#REF!+#REF!+#REF!+#REF!+#REF!+#REF!+#REF!+#REF!+#REF!","v":{"$error":"#REF!"}},{"$f":"'9_Per Pupil Summary'!K31","v":3234.0935485185864},{"$f":"#REF!+#REF!+#REF!+#REF!+#REF!+#REF!+#REF!+#REF!+#REF!+#REF!+#REF!+#REF!+#REF!+#REF!+#REF!+#REF!+#REF!+#REF!+#REF!+#REF!+#REF!+#REF!+#REF!+#REF!+#REF!+#REF!+#REF!+#REF!+#REF!+#REF!+#REF!+#REF!+#REF!","v":{"$error":"#REF!"}},{"$f":"#REF!+#REF!+#REF!+#REF!+#REF!+#REF!+#REF!+#REF!+#REF!+#REF!+#REF!+#REF!+#REF!+#REF!+#REF!+#REF!+#REF!+#REF!+#REF!+#REF!+#REF!+#REF!+#REF!+#REF!+#REF!+#REF!+#REF!+#REF!+#REF!+#REF!+#REF!+#REF!+#REF!","v":{"$error":"#REF!"}},{"$f":"'9_Per Pupil Summary'!L31","v":1293.6374194074344},{"$f":"#REF!+#REF!+#REF!+#REF!+#REF!+#REF!+#REF!+#REF!+#REF!+#REF!+#REF!+#REF!+#REF!+#REF!+#REF!+#REF!+#REF!+#REF!+#REF!+#REF!+#REF!+#REF!+#REF!+#REF!+#REF!+#REF!+#REF!+#REF!+#REF!+#REF!+#REF!+#REF!+#REF!","v":{"$error":"#REF!"}},{"$f":"#REF!+#REF!+#REF!+#REF!+#REF!+#REF!+#REF!+#REF!+#REF!+#REF!+#REF!+#REF!+#REF!+#REF!+#REF!+#REF!+#REF!+#REF!+#REF!+#REF!+#REF!+#REF!+#REF!+#REF!+#REF!+#REF!+#REF!+#REF!+#REF!+#REF!+#REF!+#REF!+#REF!","v":{"$error":"#REF!"}},{"$f":"#REF!+#REF!","v":{"$error":"#REF!"}},{"$f":"#REF!+#REF!+#REF!+#REF!+#REF!+#REF!+#REF!+#REF!+#REF!+#REF!+#REF!+#REF!+#REF!+#REF!+#REF!+#REF!+#REF!+#REF!+#REF!+#REF!+#REF!+#REF!+#REF!+#REF!+#REF!+#REF!+#REF!+#REF!+#REF!+#REF!+#REF!+#REF!+#REF!","v":{"$error":"#REF!"}},{"$f":"#REF!+#REF!+#REF!+#REF!+#REF!+#REF!+#REF!+#REF!+#REF!+#REF!+#REF!+#REF!+#REF!+#REF!+#REF!+#REF!+#REF!+#REF!+#REF!+#REF!+#REF!+#REF!+#REF!+#REF!+#REF!+#REF!+#REF!+#REF!+#REF!+#REF!+#REF!+#REF!+#REF!","v":{"$error":"#REF!"}},{"$f":"#REF!+#REF!+#REF!+#REF!+#REF!+#REF!+#REF!+#REF!+#REF!+#REF!+#REF!+#REF!+#REF!+#REF!+#REF!+#REF!+#REF!+#REF!+#REF!+#REF!+#REF!+#REF!+#REF!+#REF!+#REF!+#REF!+#REF!+#REF!+#REF!+#REF!+#REF!+#REF!+#REF!","v":{"$error":"#REF!"}},{"$f":"#REF!+#REF!+#REF!+#REF!+#REF!+#REF!+#REF!+#REF!+#REF!+#REF!+#REF!+#REF!+#REF!+#REF!+#REF!+#REF!+#REF!+#REF!+#REF!+#REF!+#REF!+#REF!+#REF!+#REF!+#REF!+#REF!+#REF!+#REF!+#REF!+#REF!+#REF!+#REF!+#REF!","v":{"$error":"#REF!"}},{"$f":"#REF!+#REF!+#REF!+#REF!+#REF!+#REF!+#REF!+#REF!+#REF!+#REF!+#REF!+#REF!+#REF!+#REF!+#REF!+#REF!+#REF!+#REF!+#REF!+#REF!+#REF!+#REF!+#REF!+#REF!+#REF!+#REF!+#REF!+#REF!+#REF!+#REF!+#REF!+#REF!+#REF!","v":{"$error":"#REF!"}},{"$f":"#REF!+#REF!+#REF!+#REF!+#REF!+#REF!+#REF!+#REF!+#REF!+#REF!+#REF!+#REF!+#REF!+#REF!+#REF!+#REF!+#REF!+#REF!+#REF!+#REF!+#REF!+#REF!+#REF!+#REF!+#REF!+#REF!+#REF!+#REF!+#REF!+#REF!+#REF!+#REF!+#REF!","v":{"$error":"#REF!"}},{"$f":"#REF!+#REF!+#REF!+#REF!+#REF!+#REF!+#REF!+#REF!+#REF!+#REF!+#REF!+#REF!+#REF!+#REF!+#REF!+#REF!+#REF!+#REF!+#REF!+#REF!+#REF!+#REF!+#REF!+#REF!+#REF!+#REF!+#REF!+#REF!+#REF!+#REF!+#REF!+#REF!+#REF!","v":{"$error":"#REF!"}},{"$f":"#REF!+#REF!+#REF!+#REF!+#REF!+#REF!+#REF!+#REF!+#REF!+#REF!+#REF!+#REF!+#REF!+#REF!+#REF!+#REF!+#REF!+#REF!+#REF!+#REF!+#REF!+#REF!+#REF!+#REF!+#REF!+#REF!+#REF!+#REF!+#REF!+#REF!+#REF!+#REF!+#REF!","v":{"$error":"#REF!"}},{"$f":"#REF!+#REF!+#REF!+#REF!+#REF!+#REF!+#REF!+#REF!+#REF!+#REF!+#REF!+#REF!+#REF!+#REF!+#REF!+#REF!+#REF!+#REF!+#REF!+#REF!+#REF!+#REF!+#REF!+#REF!+#REF!+#REF!+#REF!+#REF!+#REF!+#REF!+#REF!+#REF!+#REF!","v":{"$error":"#REF!"}},{"$f":"#REF!+#REF!+#REF!+#REF!+#REF!+#REF!+#REF!+#REF!+#REF!+#REF!+#REF!+#REF!+#REF!+#REF!+#REF!+#REF!+#REF!+#REF!+#REF!+#REF!+#REF!+#REF!+#REF!+#REF!+#REF!+#REF!+#REF!+#REF!+#REF!+#REF!+#REF!+#REF!+#REF!","v":{"$error":"#REF!"}},{"$f":"#REF!+#REF!+#REF!+#REF!+#REF!+#REF!+#REF!+#REF!+#REF!+#REF!+#REF!+#REF!+#REF!+#REF!+#REF!+#REF!+#REF!+#REF!+#REF!+#REF!+#REF!+#REF!+#REF!+#REF!+#REF!+#REF!+#REF!+#REF!+#REF!+#REF!+#REF!+#REF!+#REF!","v":{"$error":"#REF!"}},{"$f":"#REF!+#REF!+#REF!+#REF!+#REF!+#REF!+#REF!+#REF!+#REF!+#REF!+#REF!+#REF!+#REF!+#REF!+#REF!+#REF!+#REF!+#REF!+#REF!+#REF!+#REF!+#REF!+#REF!+#REF!+#REF!+#REF!+#REF!+#REF!+#REF!+#REF!+#REF!+#REF!+#REF!","v":{"$error":"#REF!"}},{"$f":"'9_Per Pupil Summary'!N31","v":7632},{"$f":"#REF!+#REF!+#REF!+#REF!+#REF!+#REF!+#REF!+#REF!+#REF!+#REF!+#REF!+#REF!+#REF!+#REF!+#REF!+#REF!+#REF!+#REF!+#REF!+#REF!+#REF!+#REF!+#REF!+#REF!+#REF!+#REF!+#REF!+#REF!+#REF!+#REF!+#REF!+#REF!+#REF!","v":{"$error":"#REF!"}},{"$f":"#REF!+#REF!+#REF!+#REF!+#REF!+#REF!+#REF!+#REF!+#REF!+#REF!+#REF!+#REF!+#REF!+#REF!+#REF!+#REF!+#REF!+#REF!+#REF!+#REF!+#REF!+#REF!+#REF!+#REF!+#REF!+#REF!+#REF!+#REF!+#REF!+#REF!+#REF!+#REF!+#REF!","v":{"$error":"#REF!"}},{"$f":"#REF!+#REF!+#REF!+#REF!+#REF!+#REF!+#REF!+#REF!+#REF!+#REF!+#REF!+#REF!+#REF!+#REF!+#REF!+#REF!+#REF!+#REF!+#REF!+#REF!+#REF!+#REF!+#REF!+#REF!+#REF!+#REF!+#REF!+#REF!+#REF!+#REF!+#REF!+#REF!+#REF!","v":{"$error":"#REF!"}},{"$f":"#REF!+#REF!+#REF!+#REF!+#REF!+#REF!+#REF!+#REF!+#REF!+#REF!+#REF!+#REF!+#REF!+#REF!+#REF!+#REF!+#REF!+#REF!+#REF!+#REF!+#REF!+#REF!+#REF!+#REF!+#REF!+#REF!+#REF!+#REF!+#REF!+#REF!+#REF!+#REF!+#REF!","v":{"$error":"#REF!"}},{"$f":"#REF!+#REF!+#REF!+#REF!+#REF!+#REF!+#REF!+#REF!+#REF!+#REF!+#REF!+#REF!+#REF!+#REF!+#REF!+#REF!+#REF!+#REF!+#REF!+#REF!+#REF!+#REF!+#REF!+#REF!+#REF!+#REF!+#REF!+#REF!+#REF!+#REF!+#REF!+#REF!+#REF!","v":{"$error":"#REF!"}},{"$f":"#REF!+#REF!+#REF!+#REF!+#REF!+#REF!+#REF!+#REF!+#REF!+#REF!+#REF!+#REF!+#REF!+#REF!+#REF!+#REF!+#REF!+#REF!+#REF!+#REF!+#REF!+#REF!+#REF!+#REF!+#REF!+#REF!+#REF!+#REF!+#REF!+#REF!+#REF!+#REF!+#REF!","v":{"$error":"#REF!"}},{"$f":"#REF!+#REF!+#REF!+#REF!+#REF!+#REF!+#REF!+#REF!+#REF!+#REF!+#REF!+#REF!+#REF!+#REF!+#REF!+#REF!+#REF!+#REF!+#REF!+#REF!+#REF!+#REF!+#REF!+#REF!+#REF!+#REF!+#REF!+#REF!+#REF!+#REF!+#REF!+#REF!+#REF!","v":{"$error":"#REF!"}},{"$f":"#REF!+#REF!+#REF!+#REF!+#REF!+#REF!+#REF!+#REF!+#REF!+#REF!+#REF!+#REF!+#REF!+#REF!+#REF!+#REF!+#REF!+#REF!+#REF!+#REF!+#REF!+#REF!+#REF!+#REF!+#REF!+#REF!+#REF!+#REF!+#REF!+#REF!+#REF!+#REF!+#REF!","v":{"$error":"#REF!"}},{"$f":"#REF!+#REF!+#REF!+#REF!+#REF!+#REF!+#REF!+#REF!+#REF!+#REF!+#REF!+#REF!+#REF!+#REF!+#REF!+#REF!+#REF!+#REF!+#REF!+#REF!+#REF!+#REF!+#REF!+#REF!+#REF!+#REF!+#REF!+#REF!+#REF!+#REF!+#REF!+#REF!+#REF!","v":{"$error":"#REF!"}},{"$f":"#REF!+#REF!+#REF!+#REF!+#REF!+#REF!+#REF!+#REF!+#REF!+#REF!+#REF!+#REF!+#REF!+#REF!+#REF!+#REF!+#REF!+#REF!+#REF!+#REF!+#REF!+#REF!+#REF!+#REF!+#REF!+#REF!+#REF!+#REF!+#REF!+#REF!+#REF!+#REF!+#REF!","v":{"$error":"#REF!"}},{"$f":"#REF!+#REF!+#REF!+#REF!+#REF!+#REF!+#REF!+#REF!+#REF!+#REF!+#REF!+#REF!+#REF!+#REF!+#REF!+#REF!+#REF!+#REF!+#REF!+#REF!+#REF!+#REF!+#REF!+#REF!+#REF!+#REF!+#REF!+#REF!+#REF!+#REF!+#REF!+#REF!+#REF!","v":{"$error":"#REF!"}},{"$f":"#REF!+#REF!+#REF!+#REF!+#REF!+#REF!+#REF!+#REF!+#REF!+#REF!+#REF!+#REF!+#REF!+#REF!+#REF!+#REF!+#REF!+#REF!+#REF!+#REF!+#REF!+#REF!+#REF!+#REF!+#REF!+#REF!+#REF!+#REF!+#REF!+#REF!+#REF!+#REF!+#REF!","v":{"$error":"#REF!"}},{"$f":"#REF!+#REF!+#REF!+#REF!+#REF!+#REF!+#REF!+#REF!+#REF!+#REF!+#REF!+#REF!+#REF!+#REF!+#REF!+#REF!+#REF!+#REF!+#REF!+#REF!+#REF!+#REF!+#REF!+#REF!+#REF!+#REF!+#REF!+#REF!+#REF!+#REF!+#REF!+#REF!+#REF!","v":{"$error":"#REF!"}},{"$f":"#REF!+#REF!+#REF!+#REF!+#REF!+#REF!+#REF!+#REF!+#REF!+#REF!+#REF!+#REF!+#REF!+#REF!+#REF!+#REF!+#REF!+#REF!+#REF!+#REF!+#REF!+#REF!+#REF!+#REF!+#REF!+#REF!+#REF!+#REF!+#REF!+#REF!+#REF!+#REF!+#REF!","v":{"$error":"#REF!"}},{"$error":"#REF!"},{"$error":"#REF!"},{"$f":"#REF!+#REF!+#REF!+#REF!+#REF!+#REF!+#REF!+#REF!+#REF!+#REF!+#REF!+#REF!+#REF!+#REF!+#REF!+#REF!+#REF!+#REF!+#REF!+#REF!+#REF!+#REF!+#REF!+#REF!+#REF!+#REF!+#REF!+#REF!+#REF!+#REF!+#REF!+#REF!+#REF!","v":{"$error":"#REF!"}},null,{"$error":"#REF!"}]
[27,"Jefferson Davis",{"$f":"#REF!+#REF!+#REF!+#REF!+#REF!+#REF!+#REF!+#REF!+#REF!+#REF!+#REF!+#REF!+#REF!+#REF!+#REF!+#REF!+#REF!+#REF!+#REF!+#REF!+#REF!+#REF!+#REF!+#REF!+#REF!+#REF!+#REF!+#REF!+#REF!+#REF!+#REF!+#REF!+#REF!","v":{"$error":"#REF!"}},{"$f":"'9_Per Pupil Summary'!H32","v":5249.0863608314885},{"$f":"#REF!+#REF!+#REF!+#REF!+#REF!+#REF!+#REF!+#REF!+#REF!+#REF!+#REF!+#REF!+#REF!+#REF!+#REF!+#REF!+#REF!+#REF!+#REF!+#REF!+#REF!+#REF!+#REF!+#REF!+#REF!+#REF!+#REF!+#REF!+#REF!+#REF!+#REF!+#REF!+#REF!","v":{"$error":"#REF!"}},{"$f":"#REF!+#REF!+#REF!+#REF!+#REF!+#REF!+#REF!+#REF!+#REF!+#REF!+#REF!+#REF!+#REF!+#REF!+#REF!+#REF!+#REF!+#REF!+#REF!+#REF!+#REF!+#REF!+#REF!+#REF!+#REF!+#REF!+#REF!+#REF!+#REF!+#REF!+#REF!+#REF!+#REF!","v":{"$error":"#REF!"}},{"$f":"'9_Per Pupil Summary'!I32","v":685.31673955386759},{"$f":"#REF!+#REF!+#REF!+#REF!+#REF!+#REF!+#REF!+#REF!+#REF!+#REF!+#REF!+#REF!+#REF!+#REF!+#REF!+#REF!+#REF!+#REF!+#REF!+#REF!+#REF!+#REF!+#REF!+#REF!+#REF!+#REF!+#REF!+#REF!+#REF!+#REF!+#REF!+#REF!+#REF!","v":{"$error":"#REF!"}},{"$f":"#REF!+#REF!+#REF!+#REF!+#REF!+#REF!+#REF!+#REF!+#REF!+#REF!+#REF!+#REF!+#REF!+#REF!+#REF!+#REF!+#REF!+#REF!+#REF!+#REF!+#REF!+#REF!+#REF!+#REF!+#REF!+#REF!+#REF!+#REF!+#REF!+#REF!+#REF!+#REF!+#REF!","v":{"$error":"#REF!"}},{"$f":"'9_Per Pupil Summary'!J32","v":186.90456533287301},{"$f":"#REF!+#REF!+#REF!+#REF!+#REF!+#REF!+#REF!+#REF!+#REF!+#REF!+#REF!+#REF!+#REF!+#REF!+#REF!+#REF!+#REF!+#REF!+#REF!+#REF!+#REF!+#REF!+#REF!+#REF!+#REF!+#REF!+#REF!+#REF!+#REF!+#REF!+#REF!+#REF!+#REF!","v":{"$error":"#REF!"}},{"$f":"#REF!+#REF!+#REF!+#REF!+#REF!+#REF!+#REF!+#REF!+#REF!+#REF!+#REF!+#REF!+#REF!+#REF!+#REF!+#REF!+#REF!+#REF!+#REF!+#REF!+#REF!+#REF!+#REF!+#REF!+#REF!+#REF!+#REF!+#REF!+#REF!+#REF!+#REF!+#REF!+#REF!","v":{"$error":"#REF!"}},{"$f":"'9_Per Pupil Summary'!K32","v":4672.6141333218238},{"$f":"#REF!+#REF!+#REF!+#REF!+#REF!+#REF!+#REF!+#REF!+#REF!+#REF!+#REF!+#REF!+#REF!+#REF!+#REF!+#REF!+#REF!+#REF!+#REF!+#REF!+#REF!+#REF!+#REF!+#REF!+#REF!+#REF!+#REF!+#REF!+#REF!+#REF!+#REF!+#REF!+#REF!","v":{"$error":"#REF!"}},{"$f":"#REF!+#REF!+#REF!+#REF!+#REF!+#REF!+#REF!+#REF!+#REF!+#REF!+#REF!+#REF!+#REF!+#REF!+#REF!+#REF!+#REF!+#REF!+#REF!+#REF!+#REF!+#REF!+#REF!+#REF!+#REF!+#REF!+#REF!+#REF!+#REF!+#REF!+#REF!+#REF!+#REF!","v":{"$error":"#REF!"}},{"$f":"'9_Per Pupil Summary'!L32","v":1869.0456533287297},{"$f":"#REF!+#REF!+#REF!+#REF!+#REF!+#REF!+#REF!+#REF!+#REF!+#REF!+#REF!+#REF!+#REF!+#REF!+#REF!+#REF!+#REF!+#REF!+#REF!+#REF!+#REF!+#REF!+#REF!+#REF!+#REF!+#REF!+#REF!+#REF!+#REF!+#REF!+#REF!+#REF!+#REF!","v":{"$error":"#REF!"}},{"$f":"#REF!+#REF!+#REF!+#REF!+#REF!+#REF!+#REF!+#REF!+#REF!+#REF!+#REF!+#REF!+#REF!+#REF!+#REF!+#REF!+#REF!+#REF!+#REF!+#REF!+#REF!+#REF!+#REF!+#REF!+#REF!+#REF!+#REF!+#REF!+#REF!+#REF!+#REF!+#REF!+#REF!","v":{"$error":"#REF!"}},{"$f":"#REF!+#REF!","v":{"$error":"#REF!"}},{"$f":"#REF!+#REF!+#REF!+#REF!+#REF!+#REF!+#REF!+#REF!+#REF!+#REF!+#REF!+#REF!+#REF!+#REF!+#REF!+#REF!+#REF!+#REF!+#REF!+#REF!+#REF!+#REF!+#REF!+#REF!+#REF!+#REF!+#REF!+#REF!+#REF!+#REF!+#REF!+#REF!+#REF!","v":{"$error":"#REF!"}},{"$f":"#REF!+#REF!+#REF!+#REF!+#REF!+#REF!+#REF!+#REF!+#REF!+#REF!+#REF!+#REF!+#REF!+#REF!+#REF!+#REF!+#REF!+#REF!+#REF!+#REF!+#REF!+#REF!+#REF!+#REF!+#REF!+#REF!+#REF!+#REF!+#REF!+#REF!+#REF!+#REF!+#REF!","v":{"$error":"#REF!"}},{"$f":"#REF!+#REF!+#REF!+#REF!+#REF!+#REF!+#REF!+#REF!+#REF!+#REF!+#REF!+#REF!+#REF!+#REF!+#REF!+#REF!+#REF!+#REF!+#REF!+#REF!+#REF!+#REF!+#REF!+#REF!+#REF!+#REF!+#REF!+#REF!+#REF!+#REF!+#REF!+#REF!+#REF!","v":{"$error":"#REF!"}},{"$f":"#REF!+#REF!+#REF!+#REF!+#REF!+#REF!+#REF!+#REF!+#REF!+#REF!+#REF!+#REF!+#REF!+#REF!+#REF!+#REF!+#REF!+#REF!+#REF!+#REF!+#REF!+#REF!+#REF!+#REF!+#REF!+#REF!+#REF!+#REF!+#REF!+#REF!+#REF!+#REF!+#REF!","v":{"$error":"#REF!"}},{"$f":"#REF!+#REF!+#REF!+#REF!+#REF!+#REF!+#REF!+#REF!+#REF!+#REF!+#REF!+#REF!+#REF!+#REF!+#REF!+#REF!+#REF!+#REF!+#REF!+#REF!+#REF!+#REF!+#REF!+#REF!+#REF!+#REF!+#REF!+#REF!+#REF!+#REF!+#REF!+#REF!+#REF!","v":{"$error":"#REF!"}},{"$f":"#REF!+#REF!+#REF!+#REF!+#REF!+#REF!+#REF!+#REF!+#REF!+#REF!+#REF!+#REF!+#REF!+#REF!+#REF!+#REF!+#REF!+#REF!+#REF!+#REF!+#REF!+#REF!+#REF!+#REF!+#REF!+#REF!+#REF!+#REF!+#REF!+#REF!+#REF!+#REF!+#REF!","v":{"$error":"#REF!"}},{"$f":"#REF!+#REF!+#REF!+#REF!+#REF!+#REF!+#REF!+#REF!+#REF!+#REF!+#REF!+#REF!+#REF!+#REF!+#REF!+#REF!+#REF!+#REF!+#REF!+#REF!+#REF!+#REF!+#REF!+#REF!+#REF!+#REF!+#REF!+#REF!+#REF!+#REF!+#REF!+#REF!+#REF!","v":{"$error":"#REF!"}},{"$f":"#REF!+#REF!+#REF!+#REF!+#REF!+#REF!+#REF!+#REF!+#REF!+#REF!+#REF!+#REF!+#REF!+#REF!+#REF!+#REF!+#REF!+#REF!+#REF!+#REF!+#REF!+#REF!+#REF!+#REF!+#REF!+#REF!+#REF!+#REF!+#REF!+#REF!+#REF!+#REF!+#REF!","v":{"$error":"#REF!"}},{"$f":"#REF!+#REF!+#REF!+#REF!+#REF!+#REF!+#REF!+#REF!+#REF!+#REF!+#REF!+#REF!+#REF!+#REF!+#REF!+#REF!+#REF!+#REF!+#REF!+#REF!+#REF!+#REF!+#REF!+#REF!+#REF!+#REF!+#REF!+#REF!+#REF!+#REF!+#REF!+#REF!+#REF!","v":{"$error":"#REF!"}},{"$f":"#REF!+#REF!+#REF!+#REF!+#REF!+#REF!+#REF!+#REF!+#REF!+#REF!+#REF!+#REF!+#REF!+#REF!+#REF!+#REF!+#REF!+#REF!+#REF!+#REF!+#REF!+#REF!+#REF!+#REF!+#REF!+#REF!+#REF!+#REF!+#REF!+#REF!+#REF!+#REF!+#REF!","v":{"$error":"#REF!"}},{"$f":"#REF!+#REF!+#REF!+#REF!+#REF!+#REF!+#REF!+#REF!+#REF!+#REF!+#REF!+#REF!+#REF!+#REF!+#REF!+#REF!+#REF!+#REF!+#REF!+#REF!+#REF!+#REF!+#REF!+#REF!+#REF!+#REF!+#REF!+#REF!+#REF!+#REF!+#REF!+#REF!+#REF!","v":{"$error":"#REF!"}},{"$f":"#REF!+#REF!+#REF!+#REF!+#REF!+#REF!+#REF!+#REF!+#REF!+#REF!+#REF!+#REF!+#REF!+#REF!+#REF!+#REF!+#REF!+#REF!+#REF!+#REF!+#REF!+#REF!+#REF!+#REF!+#REF!+#REF!+#REF!+#REF!+#REF!+#REF!+#REF!+#REF!+#REF!","v":{"$error":"#REF!"}},{"$f":"'9_Per Pupil Summary'!N32","v":4861},{"$f":"#REF!+#REF!+#REF!+#REF!+#REF!+#REF!+#REF!+#REF!+#REF!+#REF!+#REF!+#REF!+#REF!+#REF!+#REF!+#REF!+#REF!+#REF!+#REF!+#REF!+#REF!+#REF!+#REF!+#REF!+#REF!+#REF!+#REF!+#REF!+#REF!+#REF!+#REF!+#REF!+#REF!","v":{"$error":"#REF!"}},{"$f":"#REF!+#REF!+#REF!+#REF!+#REF!+#REF!+#REF!+#REF!+#REF!+#REF!+#REF!+#REF!+#REF!+#REF!+#REF!+#REF!+#REF!+#REF!+#REF!+#REF!+#REF!+#REF!+#REF!+#REF!+#REF!+#REF!+#REF!+#REF!+#REF!+#REF!+#REF!+#REF!+#REF!","v":{"$error":"#REF!"}},{"$f":"#REF!+#REF!+#REF!+#REF!+#REF!+#REF!+#REF!+#REF!+#REF!+#REF!+#REF!+#REF!+#REF!+#REF!+#REF!+#REF!+#REF!+#REF!+#REF!+#REF!+#REF!+#REF!+#REF!+#REF!+#REF!+#REF!+#REF!+#REF!+#REF!+#REF!+#REF!+#REF!+#REF!","v":{"$error":"#REF!"}},{"$f":"#REF!+#REF!+#REF!+#REF!+#REF!+#REF!+#REF!+#REF!+#REF!+#REF!+#REF!+#REF!+#REF!+#REF!+#REF!+#REF!+#REF!+#REF!+#REF!+#REF!+#REF!+#REF!+#REF!+#REF!+#REF!+#REF!+#REF!+#REF!+#REF!+#REF!+#REF!+#REF!+#REF!","v":{"$error":"#REF!"}},{"$f":"#REF!+#REF!+#REF!+#REF!+#REF!+#REF!+#REF!+#REF!+#REF!+#REF!+#REF!+#REF!+#REF!+#REF!+#REF!+#REF!+#REF!+#REF!+#REF!+#REF!+#REF!+#REF!+#REF!+#REF!+#REF!+#REF!+#REF!+#REF!+#REF!+#REF!+#REF!+#REF!+#REF!","v":{"$error":"#REF!"}},{"$f":"#REF!+#REF!+#REF!+#REF!+#REF!+#REF!+#REF!+#REF!+#REF!+#REF!+#REF!+#REF!+#REF!+#REF!+#REF!+#REF!+#REF!+#REF!+#REF!+#REF!+#REF!+#REF!+#REF!+#REF!+#REF!+#REF!+#REF!+#REF!+#REF!+#REF!+#REF!+#REF!+#REF!","v":{"$error":"#REF!"}},{"$f":"#REF!+#REF!+#REF!+#REF!+#REF!+#REF!+#REF!+#REF!+#REF!+#REF!+#REF!+#REF!+#REF!+#REF!+#REF!+#REF!+#REF!+#REF!+#REF!+#REF!+#REF!+#REF!+#REF!+#REF!+#REF!+#REF!+#REF!+#REF!+#REF!+#REF!+#REF!+#REF!+#REF!","v":{"$error":"#REF!"}},{"$f":"#REF!+#REF!+#REF!+#REF!+#REF!+#REF!+#REF!+#REF!+#REF!+#REF!+#REF!+#REF!+#REF!+#REF!+#REF!+#REF!+#REF!+#REF!+#REF!+#REF!+#REF!+#REF!+#REF!+#REF!+#REF!+#REF!+#REF!+#REF!+#REF!+#REF!+#REF!+#REF!+#REF!","v":{"$error":"#REF!"}},{"$f":"#REF!+#REF!+#REF!+#REF!+#REF!+#REF!+#REF!+#REF!+#REF!+#REF!+#REF!+#REF!+#REF!+#REF!+#REF!+#REF!+#REF!+#REF!+#REF!+#REF!+#REF!+#REF!+#REF!+#REF!+#REF!+#REF!+#REF!+#REF!+#REF!+#REF!+#REF!+#REF!+#REF!","v":{"$error":"#REF!"}},{"$f":"#REF!+#REF!+#REF!+#REF!+#REF!+#REF!+#REF!+#REF!+#REF!+#REF!+#REF!+#REF!+#REF!+#REF!+#REF!+#REF!+#REF!+#REF!+#REF!+#REF!+#REF!+#REF!+#REF!+#REF!+#REF!+#REF!+#REF!+#REF!+#REF!+#REF!+#REF!+#REF!+#REF!","v":{"$error":"#REF!"}},{"$f":"#REF!+#REF!+#REF!+#REF!+#REF!+#REF!+#REF!+#REF!+#REF!+#REF!+#REF!+#REF!+#REF!+#REF!+#REF!+#REF!+#REF!+#REF!+#REF!+#REF!+#REF!+#REF!+#REF!+#REF!+#REF!+#REF!+#REF!+#REF!+#REF!+#REF!+#REF!+#REF!+#REF!","v":{"$error":"#REF!"}},{"$f":"#REF!+#REF!+#REF!+#REF!+#REF!+#REF!+#REF!+#REF!+#REF!+#REF!+#REF!+#REF!+#REF!+#REF!+#REF!+#REF!+#REF!+#REF!+#REF!+#REF!+#REF!+#REF!+#REF!+#REF!+#REF!+#REF!+#REF!+#REF!+#REF!+#REF!+#REF!+#REF!+#REF!","v":{"$error":"#REF!"}},{"$f":"#REF!+#REF!+#REF!+#REF!+#REF!+#REF!+#REF!+#REF!+#REF!+#REF!+#REF!+#REF!+#REF!+#REF!+#REF!+#REF!+#REF!+#REF!+#REF!+#REF!+#REF!+#REF!+#REF!+#REF!+#REF!+#REF!+#REF!+#REF!+#REF!+#REF!+#REF!+#REF!+#REF!","v":{"$error":"#REF!"}},{"$f":"#REF!+#REF!+#REF!+#REF!+#REF!+#REF!+#REF!+#REF!+#REF!+#REF!+#REF!+#REF!+#REF!+#REF!+#REF!+#REF!+#REF!+#REF!+#REF!+#REF!+#REF!+#REF!+#REF!+#REF!+#REF!+#REF!+#REF!+#REF!+#REF!+#REF!+#REF!+#REF!+#REF!","v":{"$error":"#REF!"}},{"$error":"#REF!"},{"$error":"#REF!"},{"$f":"#REF!+#REF!+#REF!+#REF!+#REF!+#REF!+#REF!+#REF!+#REF!+#REF!+#REF!+#REF!+#REF!+#REF!+#REF!+#REF!+#REF!+#REF!+#REF!+#REF!+#REF!+#REF!+#REF!+#REF!+#REF!+#REF!+#REF!+#REF!+#REF!+#REF!+#REF!+#REF!+#REF!","v":{"$error":"#REF!"}},null,{"$error":"#REF!"}]
[28,"Lafayette",{"$f":"#REF!+#REF!+#REF!+#REF!+#REF!+#REF!+#REF!+#REF!+#REF!+#REF!+#REF!+#REF!+#REF!+#REF!+#REF!+#REF!+#REF!+#REF!+#REF!+#REF!+#REF!+#REF!+#REF!+#REF!+#REF!+#REF!+#REF!+#REF!+#REF!+#REF!+#REF!+#REF!+#REF!","v":{"$error":"#REF!"}},{"$f":"'9_Per Pupil Summary'!H33","v":3844.5518806842852},{"$f":"#REF!+#REF!+#REF!+#REF!+#REF!+#REF!+#REF!+#REF!+#REF!+#REF!+#REF!+#REF!+#REF!+#REF!+#REF!+#REF!+#REF!+#REF!+#REF!+#REF!+#REF!+#REF!+#REF!+#REF!+#REF!+#REF!+#REF!+#REF!+#REF!+#REF!+#REF!+#REF!+#REF!","v":{"$error":"#REF!"}},{"$f":"#REF!+#REF!+#REF!+#REF!+#REF!+#REF!+#REF!+#REF!+#REF!+#REF!+#REF!+#REF!+#REF!+#REF!+#REF!+#REF!+#REF!+#REF!+#REF!+#REF!+#REF!+#REF!+#REF!+#REF!+#REF!+#REF!+#REF!+#REF!+#REF!+#REF!+#REF!+#REF!+#REF!","v":{"$error":"#REF!"}},{"$f":"'9_Per Pupil Summary'!I33","v":522.3267074892774},{"$f":"#REF!+#REF!+#REF!+#REF!+#REF!+#REF!+#REF!+#REF!+#REF!+#REF!+#REF!+#REF!+#REF!+#REF!+#REF!+#REF!+#REF!+#REF!+#REF!+#REF!+#REF!+#REF!+#REF!+#REF!+#REF!+#REF!+#REF!+#REF!+#REF!+#REF!+#REF!+#REF!+#REF!","v":{"$error":"#REF!"}},{"$f":"#REF!+#REF!+#REF!+#REF!+#REF!+#REF!+#REF!+#REF!+#REF!+#REF!+#REF!+#REF!+#REF!+#REF!+#REF!+#REF!+#REF!+#REF!+#REF!+#REF!+#REF!+#REF!+#REF!+#REF!+#REF!+#REF!+#REF!+#REF!+#REF!+#REF!+#REF!+#REF!+#REF!","v":{"$error":"#REF!"}},{"$f":"'9_Per Pupil Summary'!J33","v":142.45273840616659},{"$f":"#REF!+#REF!+#REF!+#REF!+#REF!+#REF!+#REF!+#REF!+#REF!+#REF!+#REF!+#REF!+#REF!+#REF!+#REF!+#REF!+#REF!+#REF!+#REF!+#REF!+#REF!+#REF!+#REF!+#REF!+#REF!+#REF!+#REF!+#REF!+#REF!+#REF!+#REF!+#REF!+#REF!","v":{"$error":"#REF!"}},{"$f":"#REF!+#REF!+#REF!+#REF!+#REF!+#REF!+#REF!+#REF!+#REF!+#REF!+#REF!+#REF!+#REF!+#REF!+#REF!+#REF!+#REF!+#REF!+#REF!+#REF!+#REF!+#REF!+#REF!+#REF!+#REF!+#REF!+#REF!+#REF!+#REF!+#REF!+#REF!+#REF!+#REF!","v":{"$error":"#REF!"}},{"$f":"'9_Per Pupil Summary'!K33","v":3561.3184601541639},{"$f":"#REF!+#REF!+#REF!+#REF!+#REF!+#REF!+#REF!+#REF!+#REF!+#REF!+#REF!+#REF!+#REF!+#REF!+#REF!+#REF!+#REF!+#REF!+#REF!+#REF!+#REF!+#REF!+#REF!+#REF!+#REF!+#REF!+#REF!+#REF!+#REF!+#REF!+#REF!+#REF!+#REF!","v":{"$error":"#REF!"}},{"$f":"#REF!+#REF!+#REF!+#REF!+#REF!+#REF!+#REF!+#REF!+#REF!+#REF!+#REF!+#REF!+#REF!+#REF!+#REF!+#REF!+#REF!+#REF!+#REF!+#REF!+#REF!+#REF!+#REF!+#REF!+#REF!+#REF!+#REF!+#REF!+#REF!+#REF!+#REF!+#REF!+#REF!","v":{"$error":"#REF!"}},{"$f":"'9_Per Pupil Summary'!L33","v":1424.5273840616655},{"$f":"#REF!+#REF!+#REF!+#REF!+#REF!+#REF!+#REF!+#REF!+#REF!+#REF!+#REF!+#REF!+#REF!+#REF!+#REF!+#REF!+#REF!+#REF!+#REF!+#REF!+#REF!+#REF!+#REF!+#REF!+#REF!+#REF!+#REF!+#REF!+#REF!+#REF!+#REF!+#REF!+#REF!","v":{"$error":"#REF!"}},{"$f":"#REF!+#REF!+#REF!+#REF!+#REF!+#REF!+#REF!+#REF!+#REF!+#REF!+#REF!+#REF!+#REF!+#REF!+#REF!+#REF!+#REF!+#REF!+#REF!+#REF!+#REF!+#REF!+#REF!+#REF!+#REF!+#REF!+#REF!+#REF!+#REF!+#REF!+#REF!+#REF!+#REF!","v":{"$error":"#REF!"}},{"$f":"#REF!+#REF!","v":{"$error":"#REF!"}},{"$f":"#REF!+#REF!+#REF!+#REF!+#REF!+#REF!+#REF!+#REF!+#REF!+#REF!+#REF!+#REF!+#REF!+#REF!+#REF!+#REF!+#REF!+#REF!+#REF!+#REF!+#REF!+#REF!+#REF!+#REF!+#REF!+#REF!+#REF!+#REF!+#REF!+#REF!+#REF!+#REF!+#REF!","v":{"$error":"#REF!"}},{"$f":"#REF!+#REF!+#REF!+#REF!+#REF!+#REF!+#REF!+#REF!+#REF!+#REF!+#REF!+#REF!+#REF!+#REF!+#REF!+#REF!+#REF!+#REF!+#REF!+#REF!+#REF!+#REF!+#REF!+#REF!+#REF!+#REF!+#REF!+#REF!+#REF!+#REF!+#REF!+#REF!+#REF!","v":{"$error":"#REF!"}},{"$f":"#REF!+#REF!+#REF!+#REF!+#REF!+#REF!+#REF!+#REF!+#REF!+#REF!+#REF!+#REF!+#REF!+#REF!+#REF!+#REF!+#REF!+#REF!+#REF!+#REF!+#REF!+#REF!+#REF!+#REF!+#REF!+#REF!+#REF!+#REF!+#REF!+#REF!+#REF!+#REF!+#REF!","v":{"$error":"#REF!"}},{"$f":"#REF!+#REF!+#REF!+#REF!+#REF!+#REF!+#REF!+#REF!+#REF!+#REF!+#REF!+#REF!+#REF!+#REF!+#REF!+#REF!+#REF!+#REF!+#REF!+#REF!+#REF!+#REF!+#REF!+#REF!+#REF!+#REF!+#REF!+#REF!+#REF!+#REF!+#REF!+#REF!+#REF!","v":{"$error":"#REF!"}},{"$f":"#REF!+#REF!+#REF!+#REF!+#REF!+#REF!+#REF!+#REF!+#REF!+#REF!+#REF!+#REF!+#REF!+#REF!+#REF!+#REF!+#REF!+#REF!+#REF!+#REF!+#REF!+#REF!+#REF!+#REF!+#REF!+#REF!+#REF!+#REF!+#REF!+#REF!+#REF!+#REF!+#REF!","v":{"$error":"#REF!"}},{"$f":"#REF!+#REF!+#REF!+#REF!+#REF!+#REF!+#REF!+#REF!+#REF!+#REF!+#REF!+#REF!+#REF!+#REF!+#REF!+#REF!+#REF!+#REF!+#REF!+#REF!+#REF!+#REF!+#REF!+#REF!+#REF!+#REF!+#REF!+#REF!+#REF!+#REF!+#REF!+#REF!+#REF!","v":{"$error":"#REF!"}},{"$f":"#REF!+#REF!+#REF!+#REF!+#REF!+#REF!+#REF!+#REF!+#REF!+#REF!+#REF!+#REF!+#REF!+#REF!+#REF!+#REF!+#REF!+#REF!+#REF!+#REF!+#REF!+#REF!+#REF!+#REF!+#REF!+#REF!+#REF!+#REF!+#REF!+#REF!+#REF!+#REF!+#REF!","v":{"$error":"#REF!"}},{"$f":"#REF!+#REF!+#REF!+#REF!+#REF!+#REF!+#REF!+#REF!+#REF!+#REF!+#REF!+#REF!+#REF!+#REF!+#REF!+#REF!+#REF!+#REF!+#REF!+#REF!+#REF!+#REF!+#REF!+#REF!+#REF!+#REF!+#REF!+#REF!+#REF!+#REF!+#REF!+#REF!+#REF!","v":{"$error":"#REF!"}},{"$f":"#REF!+#REF!+#REF!+#REF!+#REF!+#REF!+#REF!+#REF!+#REF!+#REF!+#REF!+#REF!+#REF!+#REF!+#REF!+#REF!+#REF!+#REF!+#REF!+#REF!+#REF!+#REF!+#REF!+#REF!+#REF!+#REF!+#REF!+#REF!+#REF!+#REF!+#REF!+#REF!+#REF!","v":{"$error":"#REF!"}},{"$f":"#REF!+#REF!+#REF!+#REF!+#REF!+#REF!+#REF!+#REF!+#REF!+#REF!+#REF!+#REF!+#REF!+#REF!+#REF!+#REF!+#REF!+#REF!+#REF!+#REF!+#REF!+#REF!+#REF!+#REF!+#REF!+#REF!+#REF!+#REF!+#REF!+#REF!+#REF!+#REF!+#REF!","v":{"$error":"#REF!"}},{"$f":"#REF!+#REF!+#REF!+#REF!+#REF!+#REF!+#REF!+#REF!+#REF!+#REF!+#REF!+#REF!+#REF!+#REF!+#REF!+#REF!+#REF!+#REF!+#REF!+#REF!+#REF!+#REF!+#REF!+#REF!+#REF!+#REF!+#REF!+#REF!+#REF!+#REF!+#REF!+#REF!+#REF!","v":{"$error":"#REF!"}},{"$f":"#REF!+#REF!+#REF!+#REF!+#REF!+#REF!+#REF!+#REF!+#REF!+#REF!+#REF!+#REF!+#REF!+#REF!+#REF!+#REF!+#REF!+#REF!+#REF!+#REF!+#REF!+#REF!+#REF!+#REF!+#REF!+#REF!+#REF!+#REF!+#REF!+#REF!+#REF!+#REF!+#REF!","v":{"$error":"#REF!"}},{"$f":"'9_Per Pupil Summary'!N33","v":7044},{"$f":"#REF!+#REF!+#REF!+#REF!+#REF!+#REF!+#REF!+#REF!+#REF!+#REF!+#REF!+#REF!+#REF!+#REF!+#REF!+#REF!+#REF!+#REF!+#REF!+#REF!+#REF!+#REF!+#REF!+#REF!+#REF!+#REF!+#REF!+#REF!+#REF!+#REF!+#REF!+#REF!+#REF!","v":{"$error":"#REF!"}},{"$f":"#REF!+#REF!+#REF!+#REF!+#REF!+#REF!+#REF!+#REF!+#REF!+#REF!+#REF!+#REF!+#REF!+#REF!+#REF!+#REF!+#REF!+#REF!+#REF!+#REF!+#REF!+#REF!+#REF!+#REF!+#REF!+#REF!+#REF!+#REF!+#REF!+#REF!+#REF!+#REF!+#REF!","v":{"$error":"#REF!"}},{"$f":"#REF!+#REF!+#REF!+#REF!+#REF!+#REF!+#REF!+#REF!+#REF!+#REF!+#REF!+#REF!+#REF!+#REF!+#REF!+#REF!+#REF!+#REF!+#REF!+#REF!+#REF!+#REF!+#REF!+#REF!+#REF!+#REF!+#REF!+#REF!+#REF!+#REF!+#REF!+#REF!+#REF!","v":{"$error":"#REF!"}},{"$f":"#REF!+#REF!+#REF!+#REF!+#REF!+#REF!+#REF!+#REF!+#REF!+#REF!+#REF!+#REF!+#REF!+#REF!+#REF!+#REF!+#REF!+#REF!+#REF!+#REF!+#REF!+#REF!+#REF!+#REF!+#REF!+#REF!+#REF!+#REF!+#REF!+#REF!+#REF!+#REF!+#REF!","v":{"$error":"#REF!"}},{"$f":"#REF!+#REF!+#REF!+#REF!+#REF!+#REF!+#REF!+#REF!+#REF!+#REF!+#REF!+#REF!+#REF!+#REF!+#REF!+#REF!+#REF!+#REF!+#REF!+#REF!+#REF!+#REF!+#REF!+#REF!+#REF!+#REF!+#REF!+#REF!+#REF!+#REF!+#REF!+#REF!+#REF!","v":{"$error":"#REF!"}},{"$f":"#REF!+#REF!+#REF!+#REF!+#REF!+#REF!+#REF!+#REF!+#REF!+#REF!+#REF!+#REF!+#REF!+#REF!+#REF!+#REF!+#REF!+#REF!+#REF!+#REF!+#REF!+#REF!+#REF!+#REF!+#REF!+#REF!+#REF!+#REF!+#REF!+#REF!+#REF!+#REF!+#REF!","v":{"$error":"#REF!"}},{"$f":"#REF!+#REF!+#REF!+#REF!+#REF!+#REF!+#REF!+#REF!+#REF!+#REF!+#REF!+#REF!+#REF!+#REF!+#REF!+#REF!+#REF!+#REF!+#REF!+#REF!+#REF!+#REF!+#REF!+#REF!+#REF!+#REF!+#REF!+#REF!+#REF!+#REF!+#REF!+#REF!+#REF!","v":{"$error":"#REF!"}},{"$f":"#REF!+#REF!+#REF!+#REF!+#REF!+#REF!+#REF!+#REF!+#REF!+#REF!+#REF!+#REF!+#REF!+#REF!+#REF!+#REF!+#REF!+#REF!+#REF!+#REF!+#REF!+#REF!+#REF!+#REF!+#REF!+#REF!+#REF!+#REF!+#REF!+#REF!+#REF!+#REF!+#REF!","v":{"$error":"#REF!"}},{"$f":"#REF!+#REF!+#REF!+#REF!+#REF!+#REF!+#REF!+#REF!+#REF!+#REF!+#REF!+#REF!+#REF!+#REF!+#REF!+#REF!+#REF!+#REF!+#REF!+#REF!+#REF!+#REF!+#REF!+#REF!+#REF!+#REF!+#REF!+#REF!+#REF!+#REF!+#REF!+#REF!+#REF!","v":{"$error":"#REF!"}},{"$f":"#REF!+#REF!+#REF!+#REF!+#REF!+#REF!+#REF!+#REF!+#REF!+#REF!+#REF!+#REF!+#REF!+#REF!+#REF!+#REF!+#REF!+#REF!+#REF!+#REF!+#REF!+#REF!+#REF!+#REF!+#REF!+#REF!+#REF!+#REF!+#REF!+#REF!+#REF!+#REF!+#REF!","v":{"$error":"#REF!"}},{"$f":"#REF!+#REF!+#REF!+#REF!+#REF!+#REF!+#REF!+#REF!+#REF!+#REF!+#REF!+#REF!+#REF!+#REF!+#REF!+#REF!+#REF!+#REF!+#REF!+#REF!+#REF!+#REF!+#REF!+#REF!+#REF!+#REF!+#REF!+#REF!+#REF!+#REF!+#REF!+#REF!+#REF!","v":{"$error":"#REF!"}},{"$f":"#REF!+#REF!+#REF!+#REF!+#REF!+#REF!+#REF!+#REF!+#REF!+#REF!+#REF!+#REF!+#REF!+#REF!+#REF!+#REF!+#REF!+#REF!+#REF!+#REF!+#REF!+#REF!+#REF!+#REF!+#REF!+#REF!+#REF!+#REF!+#REF!+#REF!+#REF!+#REF!+#REF!","v":{"$error":"#REF!"}},{"$f":"#REF!+#REF!+#REF!+#REF!+#REF!+#REF!+#REF!+#REF!+#REF!+#REF!+#REF!+#REF!+#REF!+#REF!+#REF!+#REF!+#REF!+#REF!+#REF!+#REF!+#REF!+#REF!+#REF!+#REF!+#REF!+#REF!+#REF!+#REF!+#REF!+#REF!+#REF!+#REF!+#REF!","v":{"$error":"#REF!"}},{"$f":"#REF!+#REF!+#REF!+#REF!+#REF!+#REF!+#REF!+#REF!+#REF!+#REF!+#REF!+#REF!+#REF!+#REF!+#REF!+#REF!+#REF!+#REF!+#REF!+#REF!+#REF!+#REF!+#REF!+#REF!+#REF!+#REF!+#REF!+#REF!+#REF!+#REF!+#REF!+#REF!+#REF!","v":{"$error":"#REF!"}},{"$error":"#REF!"},{"$error":"#REF!"},{"$f":"#REF!+#REF!+#REF!+#REF!+#REF!+#REF!+#REF!+#REF!+#REF!+#REF!+#REF!+#REF!+#REF!+#REF!+#REF!+#REF!+#REF!+#REF!+#REF!+#REF!+#REF!+#REF!+#REF!+#REF!+#REF!+#REF!+#REF!+#REF!+#REF!+#REF!+#REF!+#REF!+#REF!","v":{"$error":"#REF!"}},null,{"$error":"#REF!"}]
[29,"Lafourche",{"$f":"#REF!+#REF!+#REF!+#REF!+#REF!+#REF!+#REF!+#REF!+#REF!+#REF!+#REF!+#REF!+#REF!+#REF!+#REF!+#REF!+#REF!+#REF!+#REF!+#REF!+#REF!+#REF!+#REF!+#REF!+#REF!+#REF!+#REF!+#REF!+#REF!+#REF!+#REF!+#REF!+#REF!","v":{"$error":"#REF!"}},{"$f":"'9_Per Pupil Summary'!H34","v":4641.0750027942868},{"$f":"#REF!+#REF!+#REF!+#REF!+#REF!+#REF!+#REF!+#REF!+#REF!+#REF!+#REF!+#REF!+#REF!+#REF!+#REF!+#REF!+#REF!+#REF!+#REF!+#REF!+#REF!+#REF!+#REF!+#REF!+#REF!+#REF!+#REF!+#REF!+#REF!+#REF!+#REF!+#REF!+#REF!","v":{"$error":"#REF!"}},{"$f":"#REF!+#REF!+#REF!+#REF!+#REF!+#REF!+#REF!+#REF!+#REF!+#REF!+#REF!+#REF!+#REF!+#REF!+#REF!+#REF!+#REF!+#REF!+#REF!+#REF!+#REF!+#REF!+#REF!+#REF!+#REF!+#REF!+#REF!+#REF!+#REF!+#REF!+#REF!+#REF!+#REF!","v":{"$error":"#REF!"}},{"$f":"'9_Per Pupil Summary'!I34","v":619.11845669098818},{"$f":"#REF!+#REF!+#REF!+#REF!+#REF!+#REF!+#REF!+#REF!+#REF!+#REF!+#REF!+#REF!+#REF!+#REF!+#REF!+#REF!+#REF!+#REF!+#REF!+#REF!+#REF!+#REF!+#REF!+#REF!+#REF!+#REF!+#REF!+#REF!+#REF!+#REF!+#REF!+#REF!+#REF!","v":{"$error":"#REF!"}},{"$f":"#REF!+#REF!+#REF!+#REF!+#REF!+#REF!+#REF!+#REF!+#REF!+#REF!+#REF!+#REF!+#REF!+#REF!+#REF!+#REF!+#REF!+#REF!+#REF!+#REF!+#REF!+#REF!+#REF!+#REF!+#REF!+#REF!+#REF!+#REF!+#REF!+#REF!+#REF!+#REF!+#REF!","v":{"$error":"#REF!"}},{"$f":"'9_Per Pupil Summary'!J34","v":168.85048818845129},{"$f":"#REF!+#REF!+#REF!+#REF!+#REF!+#REF!+#REF!+#REF!+#REF!+#REF!+#REF!+#REF!+#REF!+#REF!+#REF!+#REF!+#REF!+#REF!+#REF!+#REF!+#REF!+#REF!+#REF!+#REF!+#REF!+#REF!+#REF!+#REF!+#REF!+#REF!+#REF!+#REF!+#REF!","v":{"$error":"#REF!"}},{"$f":"#REF!+#REF!+#REF!+#REF!+#REF!+#REF!+#REF!+#REF!+#REF!+#REF!+#REF!+#REF!+#REF!+#REF!+#REF!+#REF!+#REF!+#REF!+#REF!+#REF!+#REF!+#REF!+#REF!+#REF!+#REF!+#REF!+#REF!+#REF!+#REF!+#REF!+#REF!+#REF!+#REF!","v":{"$error":"#REF!"}},{"$f":"'9_Per Pupil Summary'!K34","v":4221.2622047112827},{"$f":"#REF!+#REF!+#REF!+#REF!+#REF!+#REF!+#REF!+#REF!+#REF!+#REF!+#REF!+#REF!+#REF!+#REF!+#REF!+#REF!+#REF!+#REF!+#REF!+#REF!+#REF!+#REF!+#REF!+#REF!+#REF!+#REF!+#REF!+#REF!+#REF!+#REF!+#REF!+#REF!+#REF!","v":{"$error":"#REF!"}},{"$f":"#REF!+#REF!+#REF!+#REF!+#REF!+#REF!+#REF!+#REF!+#REF!+#REF!+#REF!+#REF!+#REF!+#REF!+#REF!+#REF!+#REF!+#REF!+#REF!+#REF!+#REF!+#REF!+#REF!+#REF!+#REF!+#REF!+#REF!+#REF!+#REF!+#REF!+#REF!+#REF!+#REF!","v":{"$error":"#REF!"}},{"$f":"'9_Per Pupil Summary'!L34","v":1688.504881884513},{"$f":"#REF!+#REF!+#REF!+#REF!+#REF!+#REF!+#REF!+#REF!+#REF!+#REF!+#REF!+#REF!+#REF!+#REF!+#REF!+#REF!+#REF!+#REF!+#REF!+#REF!+#REF!+#REF!+#REF!+#REF!+#REF!+#REF!+#REF!+#REF!+#REF!+#REF!+#REF!+#REF!+#REF!","v":{"$error":"#REF!"}},{"$f":"#REF!+#REF!+#REF!+#REF!+#REF!+#REF!+#REF!+#REF!+#REF!+#REF!+#REF!+#REF!+#REF!+#REF!+#REF!+#REF!+#REF!+#REF!+#REF!+#REF!+#REF!+#REF!+#REF!+#REF!+#REF!+#REF!+#REF!+#REF!+#REF!+#REF!+#REF!+#REF!+#REF!","v":{"$error":"#REF!"}},{"$f":"#REF!+#REF!","v":{"$error":"#REF!"}},{"$f":"#REF!+#REF!+#REF!+#REF!+#REF!+#REF!+#REF!+#REF!+#REF!+#REF!+#REF!+#REF!+#REF!+#REF!+#REF!+#REF!+#REF!+#REF!+#REF!+#REF!+#REF!+#REF!+#REF!+#REF!+#REF!+#REF!+#REF!+#REF!+#REF!+#REF!+#REF!+#REF!+#REF!","v":{"$error":"#REF!"}},{"$f":"#REF!+#REF!+#REF!+#REF!+#REF!+#REF!+#REF!+#REF!+#REF!+#REF!+#REF!+#REF!+#REF!+#REF!+#REF!+#REF!+#REF!+#REF!+#REF!+#REF!+#REF!+#REF!+#REF!+#REF!+#REF!+#REF!+#REF!+#REF!+#REF!+#REF!+#REF!+#REF!+#REF!","v":{"$error":"#REF!"}},{"$f":"#REF!+#REF!+#REF!+#REF!+#REF!+#REF!+#REF!+#REF!+#REF!+#REF!+#REF!+#REF!+#REF!+#REF!+#REF!+#REF!+#REF!+#REF!+#REF!+#REF!+#REF!+#REF!+#REF!+#REF!+#REF!+#REF!+#REF!+#REF!+#REF!+#REF!+#REF!+#REF!+#REF!","v":{"$error":"#REF!"}},{"$f":"#REF!+#REF!+#REF!+#REF!+#REF!+#REF!+#REF!+#REF!+#REF!+#REF!+#REF!+#REF!+#REF!+#REF!+#REF!+#REF!+#REF!+#REF!+#REF!+#REF!+#REF!+#REF!+#REF!+#REF!+#REF!+#REF!+#REF!+#REF!+#REF!+#REF!+#REF!+#REF!+#REF!","v":{"$error":"#REF!"}},{"$f":"#REF!+#REF!+#REF!+#REF!+#REF!+#REF!+#REF!+#REF!+#REF!+#REF!+#REF!+#REF!+#REF!+#REF!+#REF!+#REF!+#REF!+#REF!+#REF!+#REF!+#REF!+#REF!+#REF!+#REF!+#REF!+#REF!+#REF!+#REF!+#REF!+#REF!+#REF!+#REF!+#REF!","v":{"$error":"#REF!"}},{"$f":"#REF!+#REF!+#REF!+#REF!+#REF!+#REF!+#REF!+#REF!+#REF!+#REF!+#REF!+#REF!+#REF!+#REF!+#REF!+#REF!+#REF!+#REF!+#REF!+#REF!+#REF!+#REF!+#REF!+#REF!+#REF!+#REF!+#REF!+#REF!+#REF!+#REF!+#REF!+#REF!+#REF!","v":{"$error":"#REF!"}},{"$f":"#REF!+#REF!+#REF!+#REF!+#REF!+#REF!+#REF!+#REF!+#REF!+#REF!+#REF!+#REF!+#REF!+#REF!+#REF!+#REF!+#REF!+#REF!+#REF!+#REF!+#REF!+#REF!+#REF!+#REF!+#REF!+#REF!+#REF!+#REF!+#REF!+#REF!+#REF!+#REF!+#REF!","v":{"$error":"#REF!"}},{"$f":"#REF!+#REF!+#REF!+#REF!+#REF!+#REF!+#REF!+#REF!+#REF!+#REF!+#REF!+#REF!+#REF!+#REF!+#REF!+#REF!+#REF!+#REF!+#REF!+#REF!+#REF!+#REF!+#REF!+#REF!+#REF!+#REF!+#REF!+#REF!+#REF!+#REF!+#REF!+#REF!+#REF!","v":{"$error":"#REF!"}},{"$f":"#REF!+#REF!+#REF!+#REF!+#REF!+#REF!+#REF!+#REF!+#REF!+#REF!+#REF!+#REF!+#REF!+#REF!+#REF!+#REF!+#REF!+#REF!+#REF!+#REF!+#REF!+#REF!+#REF!+#REF!+#REF!+#REF!+#REF!+#REF!+#REF!+#REF!+#REF!+#REF!+#REF!","v":{"$error":"#REF!"}},{"$f":"#REF!+#REF!+#REF!+#REF!+#REF!+#REF!+#REF!+#REF!+#REF!+#REF!+#REF!+#REF!+#REF!+#REF!+#REF!+#REF!+#REF!+#REF!+#REF!+#REF!+#REF!+#REF!+#REF!+#REF!+#REF!+#REF!+#REF!+#REF!+#REF!+#REF!+#REF!+#REF!+#REF!","v":{"$error":"#REF!"}},{"$f":"#REF!+#REF!+#REF!+#REF!+#REF!+#REF!+#REF!+#REF!+#REF!+#REF!+#REF!+#REF!+#REF!+#REF!+#REF!+#REF!+#REF!+#REF!+#REF!+#REF!+#REF!+#REF!+#REF!+#REF!+#REF!+#REF!+#REF!+#REF!+#REF!+#REF!+#REF!+#REF!+#REF!","v":{"$error":"#REF!"}},{"$f":"#REF!+#REF!+#REF!+#REF!+#REF!+#REF!+#REF!+#REF!+#REF!+#REF!+#REF!+#REF!+#REF!+#REF!+#REF!+#REF!+#REF!+#REF!+#REF!+#REF!+#REF!+#REF!+#REF!+#REF!+#REF!+#REF!+#REF!+#REF!+#REF!+#REF!+#REF!+#REF!+#REF!","v":{"$error":"#REF!"}},{"$f":"'9_Per Pupil Summary'!N34","v":6035},{"$f":"#REF!+#REF!+#REF!+#REF!+#REF!+#REF!+#REF!+#REF!+#REF!+#REF!+#REF!+#REF!+#REF!+#REF!+#REF!+#REF!+#REF!+#REF!+#REF!+#REF!+#REF!+#REF!+#REF!+#REF!+#REF!+#REF!+#REF!+#REF!+#REF!+#REF!+#REF!+#REF!+#REF!","v":{"$error":"#REF!"}},{"$f":"#REF!+#REF!+#REF!+#REF!+#REF!+#REF!+#REF!+#REF!+#REF!+#REF!+#REF!+#REF!+#REF!+#REF!+#REF!+#REF!+#REF!+#REF!+#REF!+#REF!+#REF!+#REF!+#REF!+#REF!+#REF!+#REF!+#REF!+#REF!+#REF!+#REF!+#REF!+#REF!+#REF!","v":{"$error":"#REF!"}},{"$f":"#REF!+#REF!+#REF!+#REF!+#REF!+#REF!+#REF!+#REF!+#REF!+#REF!+#REF!+#REF!+#REF!+#REF!+#REF!+#REF!+#REF!+#REF!+#REF!+#REF!+#REF!+#REF!+#REF!+#REF!+#REF!+#REF!+#REF!+#REF!+#REF!+#REF!+#REF!+#REF!+#REF!","v":{"$error":"#REF!"}},{"$f":"#REF!+#REF!+#REF!+#REF!+#REF!+#REF!+#REF!+#REF!+#REF!+#REF!+#REF!+#REF!+#REF!+#REF!+#REF!+#REF!+#REF!+#REF!+#REF!+#REF!+#REF!+#REF!+#REF!+#REF!+#REF!+#REF!+#REF!+#REF!+#REF!+#REF!+#REF!+#REF!+#REF!","v":{"$error":"#REF!"}},{"$f":"#REF!+#REF!+#REF!+#REF!+#REF!+#REF!+#REF!+#REF!+#REF!+#REF!+#REF!+#REF!+#REF!+#REF!+#REF!+#REF!+#REF!+#REF!+#REF!+#REF!+#REF!+#REF!+#REF!+#REF!+#REF!+#REF!+#REF!+#REF!+#REF!+#REF!+#REF!+#REF!+#REF!","v":{"$error":"#REF!"}},{"$f":"#REF!+#REF!+#REF!+#REF!+#REF!+#REF!+#REF!+#REF!+#REF!+#REF!+#REF!+#REF!+#REF!+#REF!+#REF!+#REF!+#REF!+#REF!+#REF!+#REF!+#REF!+#REF!+#REF!+#REF!+#REF!+#REF!+#REF!+#REF!+#REF!+#REF!+#REF!+#REF!+#REF!","v":{"$error":"#REF!"}},{"$f":"#REF!+#REF!+#REF!+#REF!+#REF!+#REF!+#REF!+#REF!+#REF!+#REF!+#REF!+#REF!+#REF!+#REF!+#REF!+#REF!+#REF!+#REF!+#REF!+#REF!+#REF!+#REF!+#REF!+#REF!+#REF!+#REF!+#REF!+#REF!+#REF!+#REF!+#REF!+#REF!+#REF!","v":{"$error":"#REF!"}},{"$f":"#REF!+#REF!+#REF!+#REF!+#REF!+#REF!+#REF!+#REF!+#REF!+#REF!+#REF!+#REF!+#REF!+#REF!+#REF!+#REF!+#REF!+#REF!+#REF!+#REF!+#REF!+#REF!+#REF!+#REF!+#REF!+#REF!+#REF!+#REF!+#REF!+#REF!+#REF!+#REF!+#REF!","v":{"$error":"#REF!"}},{"$f":"#REF!+#REF!+#REF!+#REF!+#REF!+#REF!+#REF!+#REF!+#REF!+#REF!+#REF!+#REF!+#REF!+#REF!+#REF!+#REF!+#REF!+#REF!+#REF!+#REF!+#REF!+#REF!+#REF!+#REF!+#REF!+#REF!+#REF!+#REF!+#REF!+#REF!+#REF!+#REF!+#REF!","v":{"$error":"#REF!"}},{"$f":"#REF!+#REF!+#REF!+#REF!+#REF!+#REF!+#REF!+#REF!+#REF!+#REF!+#REF!+#REF!+#REF!+#REF!+#REF!+#REF!+#REF!+#REF!+#REF!+#REF!+#REF!+#REF!+#REF!+#REF!+#REF!+#REF!+#REF!+#REF!+#REF!+#REF!+#REF!+#REF!+#REF!","v":{"$error":"#REF!"}},{"$f":"#REF!+#REF!+#REF!+#REF!+#REF!+#REF!+#REF!+#REF!+#REF!+#REF!+#REF!+#REF!+#REF!+#REF!+#REF!+#REF!+#REF!+#REF!+#REF!+#REF!+#REF!+#REF!+#REF!+#REF!+#REF!+#REF!+#REF!+#REF!+#REF!+#REF!+#REF!+#REF!+#REF!","v":{"$error":"#REF!"}},{"$f":"#REF!+#REF!+#REF!+#REF!+#REF!+#REF!+#REF!+#REF!+#REF!+#REF!+#REF!+#REF!+#REF!+#REF!+#REF!+#REF!+#REF!+#REF!+#REF!+#REF!+#REF!+#REF!+#REF!+#REF!+#REF!+#REF!+#REF!+#REF!+#REF!+#REF!+#REF!+#REF!+#REF!","v":{"$error":"#REF!"}},{"$f":"#REF!+#REF!+#REF!+#REF!+#REF!+#REF!+#REF!+#REF!+#REF!+#REF!+#REF!+#REF!+#REF!+#REF!+#REF!+#REF!+#REF!+#REF!+#REF!+#REF!+#REF!+#REF!+#REF!+#REF!+#REF!+#REF!+#REF!+#REF!+#REF!+#REF!+#REF!+#REF!+#REF!","v":{"$error":"#REF!"}},{"$f":"#REF!+#REF!+#REF!+#REF!+#REF!+#REF!+#REF!+#REF!+#REF!+#REF!+#REF!+#REF!+#REF!+#REF!+#REF!+#REF!+#REF!+#REF!+#REF!+#REF!+#REF!+#REF!+#REF!+#REF!+#REF!+#REF!+#REF!+#REF!+#REF!+#REF!+#REF!+#REF!+#REF!","v":{"$error":"#REF!"}},{"$error":"#REF!"},{"$error":"#REF!"},{"$f":"#REF!+#REF!+#REF!+#REF!+#REF!+#REF!+#REF!+#REF!+#REF!+#REF!+#REF!+#REF!+#REF!+#REF!+#REF!+#REF!+#REF!+#REF!+#REF!+#REF!+#REF!+#REF!+#REF!+#REF!+#REF!+#REF!+#REF!+#REF!+#REF!+#REF!+#REF!+#REF!+#REF!","v":{"$error":"#REF!"}},null,{"$error":"#REF!"}]
[30,"LaSalle",{"$f":"#REF!+#REF!+#REF!+#REF!+#REF!+#REF!+#REF!+#REF!+#REF!+#REF!+#REF!+#REF!+#REF!+#REF!+#REF!+#REF!+#REF!+#REF!+#REF!+#REF!+#REF!+#REF!+#REF!+#REF!+#REF!+#REF!+#REF!+#REF!+#REF!+#REF!+#REF!+#REF!+#REF!","v":{"$error":"#REF!"}},{"$f":"'9_Per Pupil Summary'!H35","v":5444.5702488220813},{"$f":"#REF!+#REF!+#REF!+#REF!+#REF!+#REF!+#REF!+#REF!+#REF!+#REF!+#REF!+#REF!+#REF!+#REF!+#REF!+#REF!+#REF!+#REF!+#REF!+#REF!+#REF!+#REF!+#REF!+#REF!+#REF!+#REF!+#REF!+#REF!+#REF!+#REF!+#REF!+#REF!+#REF!","v":{"$error":"#REF!"}},{"$f":"#REF!+#REF!+#REF!+#REF!+#REF!+#REF!+#REF!+#REF!+#REF!+#REF!+#REF!+#REF!+#REF!+#REF!+#REF!+#REF!+#REF!+#REF!+#REF!+#REF!+#REF!+#REF!+#REF!+#REF!+#REF!+#REF!+#REF!+#REF!+#REF!+#REF!+#REF!+#REF!+#REF!","v":{"$error":"#REF!"}},{"$f":"'9_Per Pupil Summary'!I35","v":707.17901364496743},{"$f":"#REF!+#REF!+#REF!+#REF!+#REF!+#REF!+#REF!+#REF!+#REF!+#REF!+#REF!+#REF!+#REF!+#REF!+#REF!+#REF!+#REF!+#REF!+#REF!+#REF!+#REF!+#REF!+#REF!+#REF!+#REF!+#REF!+#REF!+#REF!+#REF!+#REF!+#REF!+#REF!+#REF!","v":{"$error":"#REF!"}},{"$f":"#REF!+#REF!+#REF!+#REF!+#REF!+#REF!+#REF!+#REF!+#REF!+#REF!+#REF!+#REF!+#REF!+#REF!+#REF!+#REF!+#REF!+#REF!+#REF!+#REF!+#REF!+#REF!+#REF!+#REF!+#REF!+#REF!+#REF!+#REF!+#REF!+#REF!+#REF!+#REF!+#REF!","v":{"$error":"#REF!"}},{"$f":"'9_Per Pupil Summary'!J35","v":192.86700372135473},{"$f":"#REF!+#REF!+#REF!+#REF!+#REF!+#REF!+#REF!+#REF!+#REF!+#REF!+#REF!+#REF!+#REF!+#REF!+#REF!+#REF!+#REF!+#REF!+#REF!+#REF!+#REF!+#REF!+#REF!+#REF!+#REF!+#REF!+#REF!+#REF!+#REF!+#REF!+#REF!+#REF!+#REF!","v":{"$error":"#REF!"}},{"$f":"#REF!+#REF!+#REF!+#REF!+#REF!+#REF!+#REF!+#REF!+#REF!+#REF!+#REF!+#REF!+#REF!+#REF!+#REF!+#REF!+#REF!+#REF!+#REF!+#REF!+#REF!+#REF!+#REF!+#REF!+#REF!+#REF!+#REF!+#REF!+#REF!+#REF!+#REF!+#REF!+#REF!","v":{"$error":"#REF!"}},{"$f":"'9_Per Pupil Summary'!K35","v":4821.6750930338685},{"$f":"#REF!+#REF!+#REF!+#REF!+#REF!+#REF!+#REF!+#REF!+#REF!+#REF!+#REF!+#REF!+#REF!+#REF!+#REF!+#REF!+#REF!+#REF!+#REF!+#REF!+#REF!+#REF!+#REF!+#REF!+#REF!+#REF!+#REF!+#REF!+#REF!+#REF!+#REF!+#REF!+#REF!","v":{"$error":"#REF!"}},{"$f":"#REF!+#REF!+#REF!+#REF!+#REF!+#REF!+#REF!+#REF!+#REF!+#REF!+#REF!+#REF!+#REF!+#REF!+#REF!+#REF!+#REF!+#REF!+#REF!+#REF!+#REF!+#REF!+#REF!+#REF!+#REF!+#REF!+#REF!+#REF!+#REF!+#REF!+#REF!+#REF!+#REF!","v":{"$error":"#REF!"}},{"$f":"'9_Per Pupil Summary'!L35","v":1928.6700372135476},{"$f":"#REF!+#REF!+#REF!+#REF!+#REF!+#REF!+#REF!+#REF!+#REF!+#REF!+#REF!+#REF!+#REF!+#REF!+#REF!+#REF!+#REF!+#REF!+#REF!+#REF!+#REF!+#REF!+#REF!+#REF!+#REF!+#REF!+#REF!+#REF!+#REF!+#REF!+#REF!+#REF!+#REF!","v":{"$error":"#REF!"}},{"$f":"#REF!+#REF!+#REF!+#REF!+#REF!+#REF!+#REF!+#REF!+#REF!+#REF!+#REF!+#REF!+#REF!+#REF!+#REF!+#REF!+#REF!+#REF!+#REF!+#REF!+#REF!+#REF!+#REF!+#REF!+#REF!+#REF!+#REF!+#REF!+#REF!+#REF!+#REF!+#REF!+#REF!","v":{"$error":"#REF!"}},{"$f":"#REF!+#REF!","v":{"$error":"#REF!"}},{"$f":"#REF!+#REF!+#REF!+#REF!+#REF!+#REF!+#REF!+#REF!+#REF!+#REF!+#REF!+#REF!+#REF!+#REF!+#REF!+#REF!+#REF!+#REF!+#REF!+#REF!+#REF!+#REF!+#REF!+#REF!+#REF!+#REF!+#REF!+#REF!+#REF!+#REF!+#REF!+#REF!+#REF!","v":{"$error":"#REF!"}},{"$f":"#REF!+#REF!+#REF!+#REF!+#REF!+#REF!+#REF!+#REF!+#REF!+#REF!+#REF!+#REF!+#REF!+#REF!+#REF!+#REF!+#REF!+#REF!+#REF!+#REF!+#REF!+#REF!+#REF!+#REF!+#REF!+#REF!+#REF!+#REF!+#REF!+#REF!+#REF!+#REF!+#REF!","v":{"$error":"#REF!"}},{"$f":"#REF!+#REF!+#REF!+#REF!+#REF!+#REF!+#REF!+#REF!+#REF!+#REF!+#REF!+#REF!+#REF!+#REF!+#REF!+#REF!+#REF!+#REF!+#REF!+#REF!+#REF!+#REF!+#REF!+#REF!+#REF!+#REF!+#REF!+#REF!+#REF!+#REF!+#REF!+#REF!+#REF!","v":{"$error":"#REF!"}},{"$f":"#REF!+#REF!+#REF!+#REF!+#REF!+#REF!+#REF!+#REF!+#REF!+#REF!+#REF!+#REF!+#REF!+#REF!+#REF!+#REF!+#REF!+#REF!+#REF!+#REF!+#REF!+#REF!+#REF!+#REF!+#REF!+#REF!+#REF!+#REF!+#REF!+#REF!+#REF!+#REF!+#REF!","v":{"$error":"#REF!"}},{"$f":"#REF!+#REF!+#REF!+#REF!+#REF!+#REF!+#REF!+#REF!+#REF!+#REF!+#REF!+#REF!+#REF!+#REF!+#REF!+#REF!+#REF!+#REF!+#REF!+#REF!+#REF!+#REF!+#REF!+#REF!+#REF!+#REF!+#REF!+#REF!+#REF!+#REF!+#REF!+#REF!+#REF!","v":{"$error":"#REF!"}},{"$f":"#REF!+#REF!+#REF!+#REF!+#REF!+#REF!+#REF!+#REF!+#REF!+#REF!+#REF!+#REF!+#REF!+#REF!+#REF!+#REF!+#REF!+#REF!+#REF!+#REF!+#REF!+#REF!+#REF!+#REF!+#REF!+#REF!+#REF!+#REF!+#REF!+#REF!+#REF!+#REF!+#REF!","v":{"$error":"#REF!"}},{"$f":"#REF!+#REF!+#REF!+#REF!+#REF!+#REF!+#REF!+#REF!+#REF!+#REF!+#REF!+#REF!+#REF!+#REF!+#REF!+#REF!+#REF!+#REF!+#REF!+#REF!+#REF!+#REF!+#REF!+#REF!+#REF!+#REF!+#REF!+#REF!+#REF!+#REF!+#REF!+#REF!+#REF!","v":{"$error":"#REF!"}},{"$f":"#REF!+#REF!+#REF!+#REF!+#REF!+#REF!+#REF!+#REF!+#REF!+#REF!+#REF!+#REF!+#REF!+#REF!+#REF!+#REF!+#REF!+#REF!+#REF!+#REF!+#REF!+#REF!+#REF!+#REF!+#REF!+#REF!+#REF!+#REF!+#REF!+#REF!+#REF!+#REF!+#REF!","v":{"$error":"#REF!"}},{"$f":"#REF!+#REF!+#REF!+#REF!+#REF!+#REF!+#REF!+#REF!+#REF!+#REF!+#REF!+#REF!+#REF!+#REF!+#REF!+#REF!+#REF!+#REF!+#REF!+#REF!+#REF!+#REF!+#REF!+#REF!+#REF!+#REF!+#REF!+#REF!+#REF!+#REF!+#REF!+#REF!+#REF!","v":{"$error":"#REF!"}},{"$f":"#REF!+#REF!+#REF!+#REF!+#REF!+#REF!+#REF!+#REF!+#REF!+#REF!+#REF!+#REF!+#REF!+#REF!+#REF!+#REF!+#REF!+#REF!+#REF!+#REF!+#REF!+#REF!+#REF!+#REF!+#REF!+#REF!+#REF!+#REF!+#REF!+#REF!+#REF!+#REF!+#REF!","v":{"$error":"#REF!"}},{"$f":"#REF!+#REF!+#REF!+#REF!+#REF!+#REF!+#REF!+#REF!+#REF!+#REF!+#REF!+#REF!+#REF!+#REF!+#REF!+#REF!+#REF!+#REF!+#REF!+#REF!+#REF!+#REF!+#REF!+#REF!+#REF!+#REF!+#REF!+#REF!+#REF!+#REF!+#REF!+#REF!+#REF!","v":{"$error":"#REF!"}},{"$f":"#REF!+#REF!+#REF!+#REF!+#REF!+#REF!+#REF!+#REF!+#REF!+#REF!+#REF!+#REF!+#REF!+#REF!+#REF!+#REF!+#REF!+#REF!+#REF!+#REF!+#REF!+#REF!+#REF!+#REF!+#REF!+#REF!+#REF!+#REF!+#REF!+#REF!+#REF!+#REF!+#REF!","v":{"$error":"#REF!"}},{"$f":"'9_Per Pupil Summary'!N35","v":5731},{"$f":"#REF!+#REF!+#REF!+#REF!+#REF!+#REF!+#REF!+#REF!+#REF!+#REF!+#REF!+#REF!+#REF!+#REF!+#REF!+#REF!+#REF!+#REF!+#REF!+#REF!+#REF!+#REF!+#REF!+#REF!+#REF!+#REF!+#REF!+#REF!+#REF!+#REF!+#REF!+#REF!+#REF!","v":{"$error":"#REF!"}},{"$f":"#REF!+#REF!+#REF!+#REF!+#REF!+#REF!+#REF!+#REF!+#REF!+#REF!+#REF!+#REF!+#REF!+#REF!+#REF!+#REF!+#REF!+#REF!+#REF!+#REF!+#REF!+#REF!+#REF!+#REF!+#REF!+#REF!+#REF!+#REF!+#REF!+#REF!+#REF!+#REF!+#REF!","v":{"$error":"#REF!"}},{"$f":"#REF!+#REF!+#REF!+#REF!+#REF!+#REF!+#REF!+#REF!+#REF!+#REF!+#REF!+#REF!+#REF!+#REF!+#REF!+#REF!+#REF!+#REF!+#REF!+#REF!+#REF!+#REF!+#REF!+#REF!+#REF!+#REF!+#REF!+#REF!+#REF!+#REF!+#REF!+#REF!+#REF!","v":{"$error":"#REF!"}},{"$f":"#REF!+#REF!+#REF!+#REF!+#REF!+#REF!+#REF!+#REF!+#REF!+#REF!+#REF!+#REF!+#REF!+#REF!+#REF!+#REF!+#REF!+#REF!+#REF!+#REF!+#REF!+#REF!+#REF!+#REF!+#REF!+#REF!+#REF!+#REF!+#REF!+#REF!+#REF!+#REF!+#REF!","v":{"$error":"#REF!"}},{"$f":"#REF!+#REF!+#REF!+#REF!+#REF!+#REF!+#REF!+#REF!+#REF!+#REF!+#REF!+#REF!+#REF!+#REF!+#REF!+#REF!+#REF!+#REF!+#REF!+#REF!+#REF!+#REF!+#REF!+#REF!+#REF!+#REF!+#REF!+#REF!+#REF!+#REF!+#REF!+#REF!+#REF!","v":{"$error":"#REF!"}},{"$f":"#REF!+#REF!+#REF!+#REF!+#REF!+#REF!+#REF!+#REF!+#REF!+#REF!+#REF!+#REF!+#REF!+#REF!+#REF!+#REF!+#REF!+#REF!+#REF!+#REF!+#REF!+#REF!+#REF!+#REF!+#REF!+#REF!+#REF!+#REF!+#REF!+#REF!+#REF!+#REF!+#REF!","v":{"$error":"#REF!"}},{"$f":"#REF!+#REF!+#REF!+#REF!+#REF!+#REF!+#REF!+#REF!+#REF!+#REF!+#REF!+#REF!+#REF!+#REF!+#REF!+#REF!+#REF!+#REF!+#REF!+#REF!+#REF!+#REF!+#REF!+#REF!+#REF!+#REF!+#REF!+#REF!+#REF!+#REF!+#REF!+#REF!+#REF!","v":{"$error":"#REF!"}},{"$f":"#REF!+#REF!+#REF!+#REF!+#REF!+#REF!+#REF!+#REF!+#REF!+#REF!+#REF!+#REF!+#REF!+#REF!+#REF!+#REF!+#REF!+#REF!+#REF!+#REF!+#REF!+#REF!+#REF!+#REF!+#REF!+#REF!+#REF!+#REF!+#REF!+#REF!+#REF!+#REF!+#REF!","v":{"$error":"#REF!"}},{"$f":"#REF!+#REF!+#REF!+#REF!+#REF!+#REF!+#REF!+#REF!+#REF!+#REF!+#REF!+#REF!+#REF!+#REF!+#REF!+#REF!+#REF!+#REF!+#REF!+#REF!+#REF!+#REF!+#REF!+#REF!+#REF!+#REF!+#REF!+#REF!+#REF!+#REF!+#REF!+#REF!+#REF!","v":{"$error":"#REF!"}},{"$f":"#REF!+#REF!+#REF!+#REF!+#REF!+#REF!+#REF!+#REF!+#REF!+#REF!+#REF!+#REF!+#REF!+#REF!+#REF!+#REF!+#REF!+#REF!+#REF!+#REF!+#REF!+#REF!+#REF!+#REF!+#REF!+#REF!+#REF!+#REF!+#REF!+#REF!+#REF!+#REF!+#REF!","v":{"$error":"#REF!"}},{"$f":"#REF!+#REF!+#REF!+#REF!+#REF!+#REF!+#REF!+#REF!+#REF!+#REF!+#REF!+#REF!+#REF!+#REF!+#REF!+#REF!+#REF!+#REF!+#REF!+#REF!+#REF!+#REF!+#REF!+#REF!+#REF!+#REF!+#REF!+#REF!+#REF!+#REF!+#REF!+#REF!+#REF!","v":{"$error":"#REF!"}},{"$f":"#REF!+#REF!+#REF!+#REF!+#REF!+#REF!+#REF!+#REF!+#REF!+#REF!+#REF!+#REF!+#REF!+#REF!+#REF!+#REF!+#REF!+#REF!+#REF!+#REF!+#REF!+#REF!+#REF!+#REF!+#REF!+#REF!+#REF!+#REF!+#REF!+#REF!+#REF!+#REF!+#REF!","v":{"$error":"#REF!"}},{"$f":"#REF!+#REF!+#REF!+#REF!+#REF!+#REF!+#REF!+#REF!+#REF!+#REF!+#REF!+#REF!+#REF!+#REF!+#REF!+#REF!+#REF!+#REF!+#REF!+#REF!+#REF!+#REF!+#REF!+#REF!+#REF!+#REF!+#REF!+#REF!+#REF!+#REF!+#REF!+#REF!+#REF!","v":{"$error":"#REF!"}},{"$f":"#REF!+#REF!+#REF!+#REF!+#REF!+#REF!+#REF!+#REF!+#REF!+#REF!+#REF!+#REF!+#REF!+#REF!+#REF!+#REF!+#REF!+#REF!+#REF!+#REF!+#REF!+#REF!+#REF!+#REF!+#REF!+#REF!+#REF!+#REF!+#REF!+#REF!+#REF!+#REF!+#REF!","v":{"$error":"#REF!"}},{"$error":"#REF!"},{"$error":"#REF!"},{"$f":"#REF!+#REF!+#REF!+#REF!+#REF!+#REF!+#REF!+#REF!+#REF!+#REF!+#REF!+#REF!+#REF!+#REF!+#REF!+#REF!+#REF!+#REF!+#REF!+#REF!+#REF!+#REF!+#REF!+#REF!+#REF!+#REF!+#REF!+#REF!+#REF!+#REF!+#REF!+#REF!+#REF!","v":{"$error":"#REF!"}},null,{"$error":"#REF!"}]
[31,"Lincoln",{"$f":"#REF!+#REF!+#REF!+#REF!+#REF!+#REF!+#REF!+#REF!+#REF!+#REF!+#REF!+#REF!+#REF!+#REF!+#REF!+#REF!+#REF!+#REF!+#REF!+#REF!+#REF!+#REF!+#REF!+#REF!+#REF!+#REF!+#REF!+#REF!+#REF!+#REF!+#REF!+#REF!+#REF!","v":{"$error":"#REF!"}},{"$f":"'9_Per Pupil Summary'!H36","v":4252.0711243037367},{"$f":"#REF!+#REF!+#REF!+#REF!+#REF!+#REF!+#REF!+#REF!+#REF!+#REF!+#REF!+#REF!+#REF!+#REF!+#REF!+#REF!+#REF!+#REF!+#REF!+#REF!+#REF!+#REF!+#REF!+#REF!+#REF!+#REF!+#REF!+#REF!+#REF!+#REF!+#REF!+#REF!+#REF!","v":{"$error":"#REF!"}},{"$f":"#REF!+#REF!+#REF!+#REF!+#REF!+#REF!+#REF!+#REF!+#REF!+#REF!+#REF!+#REF!+#REF!+#REF!+#REF!+#REF!+#REF!+#REF!+#REF!+#REF!+#REF!+#REF!+#REF!+#REF!+#REF!+#REF!+#REF!+#REF!+#REF!+#REF!+#REF!+#REF!+#REF!","v":{"$error":"#REF!"}},{"$f":"'9_Per Pupil Summary'!I36","v":578.44399068230177},{"$f":"#REF!+#REF!+#REF!+#REF!+#REF!+#REF!+#REF!+#REF!+#REF!+#REF!+#REF!+#REF!+#REF!+#REF!+#REF!+#REF!+#REF!+#REF!+#REF!+#REF!+#REF!+#REF!+#REF!+#REF!+#REF!+#REF!+#REF!+#REF!+#REF!+#REF!+#REF!+#REF!+#REF!","v":{"$error":"#REF!"}},{"$f":"#REF!+#REF!+#REF!+#REF!+#REF!+#REF!+#REF!+#REF!+#REF!+#REF!+#REF!+#REF!+#REF!+#REF!+#REF!+#REF!+#REF!+#REF!+#REF!+#REF!+#REF!+#REF!+#REF!+#REF!+#REF!+#REF!+#REF!+#REF!+#REF!+#REF!+#REF!+#REF!+#REF!","v":{"$error":"#REF!"}},{"$f":"'9_Per Pupil Summary'!J36","v":157.75745200426411},{"$f":"#REF!+#REF!+#REF!+#REF!+#REF!+#REF!+#REF!+#REF!+#REF!+#REF!+#REF!+#REF!+#REF!+#REF!+#REF!+#REF!+#REF!+#REF!+#REF!+#REF!+#REF!+#REF!+#REF!+#REF!+#REF!+#REF!+#REF!+#REF!+#REF!+#REF!+#REF!+#REF!+#REF!","v":{"$error":"#REF!"}},{"$f":"#REF!+#REF!+#REF!+#REF!+#REF!+#REF!+#REF!+#REF!+#REF!+#REF!+#REF!+#REF!+#REF!+#REF!+#REF!+#REF!+#REF!+#REF!+#REF!+#REF!+#REF!+#REF!+#REF!+#REF!+#REF!+#REF!+#REF!+#REF!+#REF!+#REF!+#REF!+#REF!+#REF!","v":{"$error":"#REF!"}},{"$f":"'9_Per Pupil Summary'!K36","v":3943.9363001066026},{"$f":"#REF!+#REF!+#REF!+#REF!+#REF!+#REF!+#REF!+#REF!+#REF!+#REF!+#REF!+#REF!+#REF!+#REF!+#REF!+#REF!+#REF!+#REF!+#REF!+#REF!+#REF!+#REF!+#REF!+#REF!+#REF!+#REF!+#REF!+#REF!+#REF!+#REF!+#REF!+#REF!+#REF!","v":{"$error":"#REF!"}},{"$f":"#REF!+#REF!+#REF!+#REF!+#REF!+#REF!+#REF!+#REF!+#REF!+#REF!+#REF!+#REF!+#REF!+#REF!+#REF!+#REF!+#REF!+#REF!+#REF!+#REF!+#REF!+#REF!+#REF!+#REF!+#REF!+#REF!+#REF!+#REF!+#REF!+#REF!+#REF!+#REF!+#REF!","v":{"$error":"#REF!"}},{"$f":"'9_Per Pupil Summary'!L36","v":1577.5745200426411},{"$f":"#REF!+#REF!+#REF!+#REF!+#REF!+#REF!+#REF!+#REF!+#REF!+#REF!+#REF!+#REF!+#REF!+#REF!+#REF!+#REF!+#REF!+#REF!+#REF!+#REF!+#REF!+#REF!+#REF!+#REF!+#REF!+#REF!+#REF!+#REF!+#REF!+#REF!+#REF!+#REF!+#REF!","v":{"$error":"#REF!"}},{"$f":"#REF!+#REF!+#REF!+#REF!+#REF!+#REF!+#REF!+#REF!+#REF!+#REF!+#REF!+#REF!+#REF!+#REF!+#REF!+#REF!+#REF!+#REF!+#REF!+#REF!+#REF!+#REF!+#REF!+#REF!+#REF!+#REF!+#REF!+#REF!+#REF!+#REF!+#REF!+#REF!+#REF!","v":{"$error":"#REF!"}},{"$f":"#REF!+#REF!","v":{"$error":"#REF!"}},{"$f":"#REF!+#REF!+#REF!+#REF!+#REF!+#REF!+#REF!+#REF!+#REF!+#REF!+#REF!+#REF!+#REF!+#REF!+#REF!+#REF!+#REF!+#REF!+#REF!+#REF!+#REF!+#REF!+#REF!+#REF!+#REF!+#REF!+#REF!+#REF!+#REF!+#REF!+#REF!+#REF!+#REF!","v":{"$error":"#REF!"}},{"$f":"#REF!+#REF!+#REF!+#REF!+#REF!+#REF!+#REF!+#REF!+#REF!+#REF!+#REF!+#REF!+#REF!+#REF!+#REF!+#REF!+#REF!+#REF!+#REF!+#REF!+#REF!+#REF!+#REF!+#REF!+#REF!+#REF!+#REF!+#REF!+#REF!+#REF!+#REF!+#REF!+#REF!","v":{"$error":"#REF!"}},{"$f":"#REF!+#REF!+#REF!+#REF!+#REF!+#REF!+#REF!+#REF!+#REF!+#REF!+#REF!+#REF!+#REF!+#REF!+#REF!+#REF!+#REF!+#REF!+#REF!+#REF!+#REF!+#REF!+#REF!+#REF!+#REF!+#REF!+#REF!+#REF!+#REF!+#REF!+#REF!+#REF!+#REF!","v":{"$error":"#REF!"}},{"$f":"#REF!+#REF!+#REF!+#REF!+#REF!+#REF!+#REF!+#REF!+#REF!+#REF!+#REF!+#REF!+#REF!+#REF!+#REF!+#REF!+#REF!+#REF!+#REF!+#REF!+#REF!+#REF!+#REF!+#REF!+#REF!+#REF!+#REF!+#REF!+#REF!+#REF!+#REF!+#REF!+#REF!","v":{"$error":"#REF!"}},{"$f":"#REF!+#REF!+#REF!+#REF!+#REF!+#REF!+#REF!+#REF!+#REF!+#REF!+#REF!+#REF!+#REF!+#REF!+#REF!+#REF!+#REF!+#REF!+#REF!+#REF!+#REF!+#REF!+#REF!+#REF!+#REF!+#REF!+#REF!+#REF!+#REF!+#REF!+#REF!+#REF!+#REF!","v":{"$error":"#REF!"}},{"$f":"#REF!+#REF!+#REF!+#REF!+#REF!+#REF!+#REF!+#REF!+#REF!+#REF!+#REF!+#REF!+#REF!+#REF!+#REF!+#REF!+#REF!+#REF!+#REF!+#REF!+#REF!+#REF!+#REF!+#REF!+#REF!+#REF!+#REF!+#REF!+#REF!+#REF!+#REF!+#REF!+#REF!","v":{"$error":"#REF!"}},{"$f":"#REF!+#REF!+#REF!+#REF!+#REF!+#REF!+#REF!+#REF!+#REF!+#REF!+#REF!+#REF!+#REF!+#REF!+#REF!+#REF!+#REF!+#REF!+#REF!+#REF!+#REF!+#REF!+#REF!+#REF!+#REF!+#REF!+#REF!+#REF!+#REF!+#REF!+#REF!+#REF!+#REF!","v":{"$error":"#REF!"}},{"$f":"#REF!+#REF!+#REF!+#REF!+#REF!+#REF!+#REF!+#REF!+#REF!+#REF!+#REF!+#REF!+#REF!+#REF!+#REF!+#REF!+#REF!+#REF!+#REF!+#REF!+#REF!+#REF!+#REF!+#REF!+#REF!+#REF!+#REF!+#REF!+#REF!+#REF!+#REF!+#REF!+#REF!","v":{"$error":"#REF!"}},{"$f":"#REF!+#REF!+#REF!+#REF!+#REF!+#REF!+#REF!+#REF!+#REF!+#REF!+#REF!+#REF!+#REF!+#REF!+#REF!+#REF!+#REF!+#REF!+#REF!+#REF!+#REF!+#REF!+#REF!+#REF!+#REF!+#REF!+#REF!+#REF!+#REF!+#REF!+#REF!+#REF!+#REF!","v":{"$error":"#REF!"}},{"$f":"#REF!+#REF!+#REF!+#REF!+#REF!+#REF!+#REF!+#REF!+#REF!+#REF!+#REF!+#REF!+#REF!+#REF!+#REF!+#REF!+#REF!+#REF!+#REF!+#REF!+#REF!+#REF!+#REF!+#REF!+#REF!+#REF!+#REF!+#REF!+#REF!+#REF!+#REF!+#REF!+#REF!","v":{"$error":"#REF!"}},{"$f":"#REF!+#REF!+#REF!+#REF!+#REF!+#REF!+#REF!+#REF!+#REF!+#REF!+#REF!+#REF!+#REF!+#REF!+#REF!+#REF!+#REF!+#REF!+#REF!+#REF!+#REF!+#REF!+#REF!+#REF!+#REF!+#REF!+#REF!+#REF!+#REF!+#REF!+#REF!+#REF!+#REF!","v":{"$error":"#REF!"}},{"$f":"#REF!+#REF!+#REF!+#REF!+#REF!+#REF!+#REF!+#REF!+#REF!+#REF!+#REF!+#REF!+#REF!+#REF!+#REF!+#REF!+#REF!+#REF!+#REF!+#REF!+#REF!+#REF!+#REF!+#REF!+#REF!+#REF!+#REF!+#REF!+#REF!+#REF!+#REF!+#REF!+#REF!","v":{"$error":"#REF!"}},{"$f":"'9_Per Pupil Summary'!N36","v":8309},{"$f":"#REF!+#REF!+#REF!+#REF!+#REF!+#REF!+#REF!+#REF!+#REF!+#REF!+#REF!+#REF!+#REF!+#REF!+#REF!+#REF!+#REF!+#REF!+#REF!+#REF!+#REF!+#REF!+#REF!+#REF!+#REF!+#REF!+#REF!+#REF!+#REF!+#REF!+#REF!+#REF!+#REF!","v":{"$error":"#REF!"}},{"$f":"#REF!+#REF!+#REF!+#REF!+#REF!+#REF!+#REF!+#REF!+#REF!+#REF!+#REF!+#REF!+#REF!+#REF!+#REF!+#REF!+#REF!+#REF!+#REF!+#REF!+#REF!+#REF!+#REF!+#REF!+#REF!+#REF!+#REF!+#REF!+#REF!+#REF!+#REF!+#REF!+#REF!","v":{"$error":"#REF!"}},{"$f":"#REF!+#REF!+#REF!+#REF!+#REF!+#REF!+#REF!+#REF!+#REF!+#REF!+#REF!+#REF!+#REF!+#REF!+#REF!+#REF!+#REF!+#REF!+#REF!+#REF!+#REF!+#REF!+#REF!+#REF!+#REF!+#REF!+#REF!+#REF!+#REF!+#REF!+#REF!+#REF!+#REF!","v":{"$error":"#REF!"}},{"$f":"#REF!+#REF!+#REF!+#REF!+#REF!+#REF!+#REF!+#REF!+#REF!+#REF!+#REF!+#REF!+#REF!+#REF!+#REF!+#REF!+#REF!+#REF!+#REF!+#REF!+#REF!+#REF!+#REF!+#REF!+#REF!+#REF!+#REF!+#REF!+#REF!+#REF!+#REF!+#REF!+#REF!","v":{"$error":"#REF!"}},{"$f":"#REF!+#REF!+#REF!+#REF!+#REF!+#REF!+#REF!+#REF!+#REF!+#REF!+#REF!+#REF!+#REF!+#REF!+#REF!+#REF!+#REF!+#REF!+#REF!+#REF!+#REF!+#REF!+#REF!+#REF!+#REF!+#REF!+#REF!+#REF!+#REF!+#REF!+#REF!+#REF!+#REF!","v":{"$error":"#REF!"}},{"$f":"#REF!+#REF!+#REF!+#REF!+#REF!+#REF!+#REF!+#REF!+#REF!+#REF!+#REF!+#REF!+#REF!+#REF!+#REF!+#REF!+#REF!+#REF!+#REF!+#REF!+#REF!+#REF!+#REF!+#REF!+#REF!+#REF!+#REF!+#REF!+#REF!+#REF!+#REF!+#REF!+#REF!","v":{"$error":"#REF!"}},{"$f":"#REF!+#REF!+#REF!+#REF!+#REF!+#REF!+#REF!+#REF!+#REF!+#REF!+#REF!+#REF!+#REF!+#REF!+#REF!+#REF!+#REF!+#REF!+#REF!+#REF!+#REF!+#REF!+#REF!+#REF!+#REF!+#REF!+#REF!+#REF!+#REF!+#REF!+#REF!+#REF!+#REF!","v":{"$error":"#REF!"}},{"$f":"#REF!+#REF!+#REF!+#REF!+#REF!+#REF!+#REF!+#REF!+#REF!+#REF!+#REF!+#REF!+#REF!+#REF!+#REF!+#REF!+#REF!+#REF!+#REF!+#REF!+#REF!+#REF!+#REF!+#REF!+#REF!+#REF!+#REF!+#REF!+#REF!+#REF!+#REF!+#REF!+#REF!","v":{"$error":"#REF!"}},{"$f":"#REF!+#REF!+#REF!+#REF!+#REF!+#REF!+#REF!+#REF!+#REF!+#REF!+#REF!+#REF!+#REF!+#REF!+#REF!+#REF!+#REF!+#REF!+#REF!+#REF!+#REF!+#REF!+#REF!+#REF!+#REF!+#REF!+#REF!+#REF!+#REF!+#REF!+#REF!+#REF!+#REF!","v":{"$error":"#REF!"}},{"$f":"#REF!+#REF!+#REF!+#REF!+#REF!+#REF!+#REF!+#REF!+#REF!+#REF!+#REF!+#REF!+#REF!+#REF!+#REF!+#REF!+#REF!+#REF!+#REF!+#REF!+#REF!+#REF!+#REF!+#REF!+#REF!+#REF!+#REF!+#REF!+#REF!+#REF!+#REF!+#REF!+#REF!","v":{"$error":"#REF!"}},{"$f":"#REF!+#REF!+#REF!+#REF!+#REF!+#REF!+#REF!+#REF!+#REF!+#REF!+#REF!+#REF!+#REF!+#REF!+#REF!+#REF!+#REF!+#REF!+#REF!+#REF!+#REF!+#REF!+#REF!+#REF!+#REF!+#REF!+#REF!+#REF!+#REF!+#REF!+#REF!+#REF!+#REF!","v":{"$error":"#REF!"}},{"$f":"#REF!+#REF!+#REF!+#REF!+#REF!+#REF!+#REF!+#REF!+#REF!+#REF!+#REF!+#REF!+#REF!+#REF!+#REF!+#REF!+#REF!+#REF!+#REF!+#REF!+#REF!+#REF!+#REF!+#REF!+#REF!+#REF!+#REF!+#REF!+#REF!+#REF!+#REF!+#REF!+#REF!","v":{"$error":"#REF!"}},{"$f":"#REF!+#REF!+#REF!+#REF!+#REF!+#REF!+#REF!+#REF!+#REF!+#REF!+#REF!+#REF!+#REF!+#REF!+#REF!+#REF!+#REF!+#REF!+#REF!+#REF!+#REF!+#REF!+#REF!+#REF!+#REF!+#REF!+#REF!+#REF!+#REF!+#REF!+#REF!+#REF!+#REF!","v":{"$error":"#REF!"}},{"$f":"#REF!+#REF!+#REF!+#REF!+#REF!+#REF!+#REF!+#REF!+#REF!+#REF!+#REF!+#REF!+#REF!+#REF!+#REF!+#REF!+#REF!+#REF!+#REF!+#REF!+#REF!+#REF!+#REF!+#REF!+#REF!+#REF!+#REF!+#REF!+#REF!+#REF!+#REF!+#REF!+#REF!","v":{"$error":"#REF!"}},{"$error":"#REF!"},{"$error":"#REF!"},{"$f":"#REF!+#REF!+#REF!+#REF!+#REF!+#REF!+#REF!+#REF!+#REF!+#REF!+#REF!+#REF!+#REF!+#REF!+#REF!+#REF!+#REF!+#REF!+#REF!+#REF!+#REF!+#REF!+#REF!+#REF!+#REF!+#REF!+#REF!+#REF!+#REF!+#REF!+#REF!+#REF!+#REF!","v":{"$error":"#REF!"}},null,{"$error":"#REF!"}]
[32,"Livingston",{"$f":"#REF!+#REF!+#REF!+#REF!+#REF!+#REF!+#REF!+#REF!+#REF!+#REF!+#REF!+#REF!+#REF!+#REF!+#REF!+#REF!+#REF!+#REF!+#REF!+#REF!+#REF!+#REF!+#REF!+#REF!+#REF!+#REF!+#REF!+#REF!+#REF!+#REF!+#REF!+#REF!+#REF!","v":{"$error":"#REF!"}},{"$f":"'9_Per Pupil Summary'!H37","v":5369.9172843957167},{"$f":"#REF!+#REF!+#REF!+#REF!+#REF!+#REF!+#REF!+#REF!+#REF!+#REF!+#REF!+#REF!+#REF!+#REF!+#REF!+#REF!+#REF!+#REF!+#REF!+#REF!+#REF!+#REF!+#REF!+#REF!+#REF!+#REF!+#REF!+#REF!+#REF!+#REF!+#REF!+#REF!+#REF!","v":{"$error":"#REF!"}},{"$f":"#REF!+#REF!+#REF!+#REF!+#REF!+#REF!+#REF!+#REF!+#REF!+#REF!+#REF!+#REF!+#REF!+#REF!+#REF!+#REF!+#REF!+#REF!+#REF!+#REF!+#REF!+#REF!+#REF!+#REF!+#REF!+#REF!+#REF!+#REF!+#REF!+#REF!+#REF!+#REF!+#REF!","v":{"$error":"#REF!"}},{"$f":"'9_Per Pupil Summary'!I37","v":725.82335309179541},{"$f":"#REF!+#REF!+#REF!+#REF!+#REF!+#REF!+#REF!+#REF!+#REF!+#REF!+#REF!+#REF!+#REF!+#REF!+#REF!+#REF!+#REF!+#REF!+#REF!+#REF!+#REF!+#REF!+#REF!+#REF!+#REF!+#REF!+#REF!+#REF!+#REF!+#REF!+#REF!+#REF!+#REF!","v":{"$error":"#REF!"}},{"$f":"#REF!+#REF!+#REF!+#REF!+#REF!+#REF!+#REF!+#REF!+#REF!+#REF!+#REF!+#REF!+#REF!+#REF!+#REF!+#REF!+#REF!+#REF!+#REF!+#REF!+#REF!+#REF!+#REF!+#REF!+#REF!+#REF!+#REF!+#REF!+#REF!+#REF!+#REF!+#REF!+#REF!","v":{"$error":"#REF!"}},{"$f":"'9_Per Pupil Summary'!J37","v":197.95182357048964},{"$f":"#REF!+#REF!+#REF!+#REF!+#REF!+#REF!+#REF!+#REF!+#REF!+#REF!+#REF!+#REF!+#REF!+#REF!+#REF!+#REF!+#REF!+#REF!+#REF!+#REF!+#REF!+#REF!+#REF!+#REF!+#REF!+#REF!+#REF!+#REF!+#REF!+#REF!+#REF!+#REF!+#REF!","v":{"$error":"#REF!"}},{"$f":"#REF!+#REF!+#REF!+#REF!+#REF!+#REF!+#REF!+#REF!+#REF!+#REF!+#REF!+#REF!+#REF!+#REF!+#REF!+#REF!+#REF!+#REF!+#REF!+#REF!+#REF!+#REF!+#REF!+#REF!+#REF!+#REF!+#REF!+#REF!+#REF!+#REF!+#REF!+#REF!+#REF!","v":{"$error":"#REF!"}},{"$f":"'9_Per Pupil Summary'!K37","v":4948.7955892622413},{"$f":"#REF!+#REF!+#REF!+#REF!+#REF!+#REF!+#REF!+#REF!+#REF!+#REF!+#REF!+#REF!+#REF!+#REF!+#REF!+#REF!+#REF!+#REF!+#REF!+#REF!+#REF!+#REF!+#REF!+#REF!+#REF!+#REF!+#REF!+#REF!+#REF!+#REF!+#REF!+#REF!+#REF!","v":{"$error":"#REF!"}},{"$f":"#REF!+#REF!+#REF!+#REF!+#REF!+#REF!+#REF!+#REF!+#REF!+#REF!+#REF!+#REF!+#REF!+#REF!+#REF!+#REF!+#REF!+#REF!+#REF!+#REF!+#REF!+#REF!+#REF!+#REF!+#REF!+#REF!+#REF!+#REF!+#REF!+#REF!+#REF!+#REF!+#REF!","v":{"$error":"#REF!"}},{"$f":"'9_Per Pupil Summary'!L37","v":1979.5182357048966},{"$f":"#REF!+#REF!+#REF!+#REF!+#REF!+#REF!+#REF!+#REF!+#REF!+#REF!+#REF!+#REF!+#REF!+#REF!+#REF!+#REF!+#REF!+#REF!+#REF!+#REF!+#REF!+#REF!+#REF!+#REF!+#REF!+#REF!+#REF!+#REF!+#REF!+#REF!+#REF!+#REF!+#REF!","v":{"$error":"#REF!"}},{"$f":"#REF!+#REF!+#REF!+#REF!+#REF!+#REF!+#REF!+#REF!+#REF!+#REF!+#REF!+#REF!+#REF!+#REF!+#REF!+#REF!+#REF!+#REF!+#REF!+#REF!+#REF!+#REF!+#REF!+#REF!+#REF!+#REF!+#REF!+#REF!+#REF!+#REF!+#REF!+#REF!+#REF!","v":{"$error":"#REF!"}},{"$f":"#REF!+#REF!","v":{"$error":"#REF!"}},{"$f":"#REF!+#REF!+#REF!+#REF!+#REF!+#REF!+#REF!+#REF!+#REF!+#REF!+#REF!+#REF!+#REF!+#REF!+#REF!+#REF!+#REF!+#REF!+#REF!+#REF!+#REF!+#REF!+#REF!+#REF!+#REF!+#REF!+#REF!+#REF!+#REF!+#REF!+#REF!+#REF!+#REF!","v":{"$error":"#REF!"}},{"$f":"#REF!+#REF!+#REF!+#REF!+#REF!+#REF!+#REF!+#REF!+#REF!+#REF!+#REF!+#REF!+#REF!+#REF!+#REF!+#REF!+#REF!+#REF!+#REF!+#REF!+#REF!+#REF!+#REF!+#REF!+#REF!+#REF!+#REF!+#REF!+#REF!+#REF!+#REF!+#REF!+#REF!","v":{"$error":"#REF!"}},{"$f":"#REF!+#REF!+#REF!+#REF!+#REF!+#REF!+#REF!+#REF!+#REF!+#REF!+#REF!+#REF!+#REF!+#REF!+#REF!+#REF!+#REF!+#REF!+#REF!+#REF!+#REF!+#REF!+#REF!+#REF!+#REF!+#REF!+#REF!+#REF!+#REF!+#REF!+#REF!+#REF!+#REF!","v":{"$error":"#REF!"}},{"$f":"#REF!+#REF!+#REF!+#REF!+#REF!+#REF!+#REF!+#REF!+#REF!+#REF!+#REF!+#REF!+#REF!+#REF!+#REF!+#REF!+#REF!+#REF!+#REF!+#REF!+#REF!+#REF!+#REF!+#REF!+#REF!+#REF!+#REF!+#REF!+#REF!+#REF!+#REF!+#REF!+#REF!","v":{"$error":"#REF!"}},{"$f":"#REF!+#REF!+#REF!+#REF!+#REF!+#REF!+#REF!+#REF!+#REF!+#REF!+#REF!+#REF!+#REF!+#REF!+#REF!+#REF!+#REF!+#REF!+#REF!+#REF!+#REF!+#REF!+#REF!+#REF!+#REF!+#REF!+#REF!+#REF!+#REF!+#REF!+#REF!+#REF!+#REF!","v":{"$error":"#REF!"}},{"$f":"#REF!+#REF!+#REF!+#REF!+#REF!+#REF!+#REF!+#REF!+#REF!+#REF!+#REF!+#REF!+#REF!+#REF!+#REF!+#REF!+#REF!+#REF!+#REF!+#REF!+#REF!+#REF!+#REF!+#REF!+#REF!+#REF!+#REF!+#REF!+#REF!+#REF!+#REF!+#REF!+#REF!","v":{"$error":"#REF!"}},{"$f":"#REF!+#REF!+#REF!+#REF!+#REF!+#REF!+#REF!+#REF!+#REF!+#REF!+#REF!+#REF!+#REF!+#REF!+#REF!+#REF!+#REF!+#REF!+#REF!+#REF!+#REF!+#REF!+#REF!+#REF!+#REF!+#REF!+#REF!+#REF!+#REF!+#REF!+#REF!+#REF!+#REF!","v":{"$error":"#REF!"}},{"$f":"#REF!+#REF!+#REF!+#REF!+#REF!+#REF!+#REF!+#REF!+#REF!+#REF!+#REF!+#REF!+#REF!+#REF!+#REF!+#REF!+#REF!+#REF!+#REF!+#REF!+#REF!+#REF!+#REF!+#REF!+#REF!+#REF!+#REF!+#REF!+#REF!+#REF!+#REF!+#REF!+#REF!","v":{"$error":"#REF!"}},{"$f":"#REF!+#REF!+#REF!+#REF!+#REF!+#REF!+#REF!+#REF!+#REF!+#REF!+#REF!+#REF!+#REF!+#REF!+#REF!+#REF!+#REF!+#REF!+#REF!+#REF!+#REF!+#REF!+#REF!+#REF!+#REF!+#REF!+#REF!+#REF!+#REF!+#REF!+#REF!+#REF!+#REF!","v":{"$error":"#REF!"}},{"$f":"#REF!+#REF!+#REF!+#REF!+#REF!+#REF!+#REF!+#REF!+#REF!+#REF!+#REF!+#REF!+#REF!+#REF!+#REF!+#REF!+#REF!+#REF!+#REF!+#REF!+#REF!+#REF!+#REF!+#REF!+#REF!+#REF!+#REF!+#REF!+#REF!+#REF!+#REF!+#REF!+#REF!","v":{"$error":"#REF!"}},{"$f":"#REF!+#REF!+#REF!+#REF!+#REF!+#REF!+#REF!+#REF!+#REF!+#REF!+#REF!+#REF!+#REF!+#REF!+#REF!+#REF!+#REF!+#REF!+#REF!+#REF!+#REF!+#REF!+#REF!+#REF!+#REF!+#REF!+#REF!+#REF!+#REF!+#REF!+#REF!+#REF!+#REF!","v":{"$error":"#REF!"}},{"$f":"#REF!+#REF!+#REF!+#REF!+#REF!+#REF!+#REF!+#REF!+#REF!+#REF!+#REF!+#REF!+#REF!+#REF!+#REF!+#REF!+#REF!+#REF!+#REF!+#REF!+#REF!+#REF!+#REF!+#REF!+#REF!+#REF!+#REF!+#REF!+#REF!+#REF!+#REF!+#REF!+#REF!","v":{"$error":"#REF!"}},{"$f":"'9_Per Pupil Summary'!N37","v":3621},{"$f":"#REF!+#REF!+#REF!+#REF!+#REF!+#REF!+#REF!+#REF!+#REF!+#REF!+#REF!+#REF!+#REF!+#REF!+#REF!+#REF!+#REF!+#REF!+#REF!+#REF!+#REF!+#REF!+#REF!+#REF!+#REF!+#REF!+#REF!+#REF!+#REF!+#REF!+#REF!+#REF!+#REF!","v":{"$error":"#REF!"}},{"$f":"#REF!+#REF!+#REF!+#REF!+#REF!+#REF!+#REF!+#REF!+#REF!+#REF!+#REF!+#REF!+#REF!+#REF!+#REF!+#REF!+#REF!+#REF!+#REF!+#REF!+#REF!+#REF!+#REF!+#REF!+#REF!+#REF!+#REF!+#REF!+#REF!+#REF!+#REF!+#REF!+#REF!","v":{"$error":"#REF!"}},{"$f":"#REF!+#REF!+#REF!+#REF!+#REF!+#REF!+#REF!+#REF!+#REF!+#REF!+#REF!+#REF!+#REF!+#REF!+#REF!+#REF!+#REF!+#REF!+#REF!+#REF!+#REF!+#REF!+#REF!+#REF!+#REF!+#REF!+#REF!+#REF!+#REF!+#REF!+#REF!+#REF!+#REF!","v":{"$error":"#REF!"}},{"$f":"#REF!+#REF!+#REF!+#REF!+#REF!+#REF!+#REF!+#REF!+#REF!+#REF!+#REF!+#REF!+#REF!+#REF!+#REF!+#REF!+#REF!+#REF!+#REF!+#REF!+#REF!+#REF!+#REF!+#REF!+#REF!+#REF!+#REF!+#REF!+#REF!+#REF!+#REF!+#REF!+#REF!","v":{"$error":"#REF!"}},{"$f":"#REF!+#REF!+#REF!+#REF!+#REF!+#REF!+#REF!+#REF!+#REF!+#REF!+#REF!+#REF!+#REF!+#REF!+#REF!+#REF!+#REF!+#REF!+#REF!+#REF!+#REF!+#REF!+#REF!+#REF!+#REF!+#REF!+#REF!+#REF!+#REF!+#REF!+#REF!+#REF!+#REF!","v":{"$error":"#REF!"}},{"$f":"#REF!+#REF!+#REF!+#REF!+#REF!+#REF!+#REF!+#REF!+#REF!+#REF!+#REF!+#REF!+#REF!+#REF!+#REF!+#REF!+#REF!+#REF!+#REF!+#REF!+#REF!+#REF!+#REF!+#REF!+#REF!+#REF!+#REF!+#REF!+#REF!+#REF!+#REF!+#REF!+#REF!","v":{"$error":"#REF!"}},{"$f":"#REF!+#REF!+#REF!+#REF!+#REF!+#REF!+#REF!+#REF!+#REF!+#REF!+#REF!+#REF!+#REF!+#REF!+#REF!+#REF!+#REF!+#REF!+#REF!+#REF!+#REF!+#REF!+#REF!+#REF!+#REF!+#REF!+#REF!+#REF!+#REF!+#REF!+#REF!+#REF!+#REF!","v":{"$error":"#REF!"}},{"$f":"#REF!+#REF!+#REF!+#REF!+#REF!+#REF!+#REF!+#REF!+#REF!+#REF!+#REF!+#REF!+#REF!+#REF!+#REF!+#REF!+#REF!+#REF!+#REF!+#REF!+#REF!+#REF!+#REF!+#REF!+#REF!+#REF!+#REF!+#REF!+#REF!+#REF!+#REF!+#REF!+#REF!","v":{"$error":"#REF!"}},{"$f":"#REF!+#REF!+#REF!+#REF!+#REF!+#REF!+#REF!+#REF!+#REF!+#REF!+#REF!+#REF!+#REF!+#REF!+#REF!+#REF!+#REF!+#REF!+#REF!+#REF!+#REF!+#REF!+#REF!+#REF!+#REF!+#REF!+#REF!+#REF!+#REF!+#REF!+#REF!+#REF!+#REF!","v":{"$error":"#REF!"}},{"$f":"#REF!+#REF!+#REF!+#REF!+#REF!+#REF!+#REF!+#REF!+#REF!+#REF!+#REF!+#REF!+#REF!+#REF!+#REF!+#REF!+#REF!+#REF!+#REF!+#REF!+#REF!+#REF!+#REF!+#REF!+#REF!+#REF!+#REF!+#REF!+#REF!+#REF!+#REF!+#REF!+#REF!","v":{"$error":"#REF!"}},{"$f":"#REF!+#REF!+#REF!+#REF!+#REF!+#REF!+#REF!+#REF!+#REF!+#REF!+#REF!+#REF!+#REF!+#REF!+#REF!+#REF!+#REF!+#REF!+#REF!+#REF!+#REF!+#REF!+#REF!+#REF!+#REF!+#REF!+#REF!+#REF!+#REF!+#REF!+#REF!+#REF!+#REF!","v":{"$error":"#REF!"}},{"$f":"#REF!+#REF!+#REF!+#REF!+#REF!+#REF!+#REF!+#REF!+#REF!+#REF!+#REF!+#REF!+#REF!+#REF!+#REF!+#REF!+#REF!+#REF!+#REF!+#REF!+#REF!+#REF!+#REF!+#REF!+#REF!+#REF!+#REF!+#REF!+#REF!+#REF!+#REF!+#REF!+#REF!","v":{"$error":"#REF!"}},{"$f":"#REF!+#REF!+#REF!+#REF!+#REF!+#REF!+#REF!+#REF!+#REF!+#REF!+#REF!+#REF!+#REF!+#REF!+#REF!+#REF!+#REF!+#REF!+#REF!+#REF!+#REF!+#REF!+#REF!+#REF!+#REF!+#REF!+#REF!+#REF!+#REF!+#REF!+#REF!+#REF!+#REF!","v":{"$error":"#REF!"}},{"$f":"#REF!+#REF!+#REF!+#REF!+#REF!+#REF!+#REF!+#REF!+#REF!+#REF!+#REF!+#REF!+#REF!+#REF!+#REF!+#REF!+#REF!+#REF!+#REF!+#REF!+#REF!+#REF!+#REF!+#REF!+#REF!+#REF!+#REF!+#REF!+#REF!+#REF!+#REF!+#REF!+#REF!","v":{"$error":"#REF!"}},{"$error":"#REF!"},{"$error":"#REF!"},{"$f":"#REF!+#REF!+#REF!+#REF!+#REF!+#REF!+#REF!+#REF!+#REF!+#REF!+#REF!+#REF!+#REF!+#REF!+#REF!+#REF!+#REF!+#REF!+#REF!+#REF!+#REF!+#REF!+#REF!+#REF!+#REF!+#REF!+#REF!+#REF!+#REF!+#REF!+#REF!+#REF!+#REF!","v":{"$error":"#REF!"}},null,{"$error":"#REF!"}]
[33,"Madison",{"$f":"#REF!+#REF!+#REF!+#REF!+#REF!+#REF!+#REF!+#REF!+#REF!+#REF!+#REF!+#REF!+#REF!+#REF!+#REF!+#REF!+#REF!+#REF!+#REF!+#REF!+#REF!+#REF!+#REF!+#REF!+#REF!+#REF!+#REF!+#REF!+#REF!+#REF!+#REF!+#REF!+#REF!","v":{"$error":"#REF!"}},{"$f":"'9_Per Pupil Summary'!H38","v":4826.3210133020584},{"$f":"#REF!+#REF!+#REF!+#REF!+#REF!+#REF!+#REF!+#REF!+#REF!+#REF!+#REF!+#REF!+#REF!+#REF!+#REF!+#REF!+#REF!+#REF!+#REF!+#REF!+#REF!+#REF!+#REF!+#REF!+#REF!+#REF!+#REF!+#REF!+#REF!+#REF!+#REF!+#REF!+#REF!","v":{"$error":"#REF!"}},{"$f":"#REF!+#REF!+#REF!+#REF!+#REF!+#REF!+#REF!+#REF!+#REF!+#REF!+#REF!+#REF!+#REF!+#REF!+#REF!+#REF!+#REF!+#REF!+#REF!+#REF!+#REF!+#REF!+#REF!+#REF!+#REF!+#REF!+#REF!+#REF!+#REF!+#REF!+#REF!+#REF!+#REF!","v":{"$error":"#REF!"}},{"$f":"'9_Per Pupil Summary'!I38","v":629.65331401556159},{"$f":"#REF!+#REF!+#REF!+#REF!+#REF!+#REF!+#REF!+#REF!+#REF!+#REF!+#REF!+#REF!+#REF!+#REF!+#REF!+#REF!+#REF!+#REF!+#REF!+#REF!+#REF!+#REF!+#REF!+#REF!+#REF!+#REF!+#REF!+#REF!+#REF!+#REF!+#REF!+#REF!+#REF!","v":{"$error":"#REF!"}},{"$f":"#REF!+#REF!+#REF!+#REF!+#REF!+#REF!+#REF!+#REF!+#REF!+#REF!+#REF!+#REF!+#REF!+#REF!+#REF!+#REF!+#REF!+#REF!+#REF!+#REF!+#REF!+#REF!+#REF!+#REF!+#REF!+#REF!+#REF!+#REF!+#REF!+#REF!+#REF!+#REF!+#REF!","v":{"$error":"#REF!"}},{"$f":"'9_Per Pupil Summary'!J38","v":171.72363109515319},{"$f":"#REF!+#REF!+#REF!+#REF!+#REF!+#REF!+#REF!+#REF!+#REF!+#REF!+#REF!+#REF!+#REF!+#REF!+#REF!+#REF!+#REF!+#REF!+#REF!+#REF!+#REF!+#REF!+#REF!+#REF!+#REF!+#REF!+#REF!+#REF!+#REF!+#REF!+#REF!+#REF!+#REF!","v":{"$error":"#REF!"}},{"$f":"#REF!+#REF!+#REF!+#REF!+#REF!+#REF!+#REF!+#REF!+#REF!+#REF!+#REF!+#REF!+#REF!+#REF!+#REF!+#REF!+#REF!+#REF!+#REF!+#REF!+#REF!+#REF!+#REF!+#REF!+#REF!+#REF!+#REF!+#REF!+#REF!+#REF!+#REF!+#REF!+#REF!","v":{"$error":"#REF!"}},{"$f":"'9_Per Pupil Summary'!K38","v":4293.0907773788304},{"$f":"#REF!+#REF!+#REF!+#REF!+#REF!+#REF!+#REF!+#REF!+#REF!+#REF!+#REF!+#REF!+#REF!+#REF!+#REF!+#REF!+#REF!+#REF!+#REF!+#REF!+#REF!+#REF!+#REF!+#REF!+#REF!+#REF!+#REF!+#REF!+#REF!+#REF!+#REF!+#REF!+#REF!","v":{"$error":"#REF!"}},{"$f":"#REF!+#REF!+#REF!+#REF!+#REF!+#REF!+#REF!+#REF!+#REF!+#REF!+#REF!+#REF!+#REF!+#REF!+#REF!+#REF!+#REF!+#REF!+#REF!+#REF!+#REF!+#REF!+#REF!+#REF!+#REF!+#REF!+#REF!+#REF!+#REF!+#REF!+#REF!+#REF!+#REF!","v":{"$error":"#REF!"}},{"$f":"'9_Per Pupil Summary'!L38","v":1717.2363109515318},{"$f":"#REF!+#REF!+#REF!+#REF!+#REF!+#REF!+#REF!+#REF!+#REF!+#REF!+#REF!+#REF!+#REF!+#REF!+#REF!+#REF!+#REF!+#REF!+#REF!+#REF!+#REF!+#REF!+#REF!+#REF!+#REF!+#REF!+#REF!+#REF!+#REF!+#REF!+#REF!+#REF!+#REF!","v":{"$error":"#REF!"}},{"$f":"#REF!+#REF!+#REF!+#REF!+#REF!+#REF!+#REF!+#REF!+#REF!+#REF!+#REF!+#REF!+#REF!+#REF!+#REF!+#REF!+#REF!+#REF!+#REF!+#REF!+#REF!+#REF!+#REF!+#REF!+#REF!+#REF!+#REF!+#REF!+#REF!+#REF!+#REF!+#REF!+#REF!","v":{"$error":"#REF!"}},{"$f":"#REF!+#REF!","v":{"$error":"#REF!"}},{"$f":"#REF!+#REF!+#REF!+#REF!+#REF!+#REF!+#REF!+#REF!+#REF!+#REF!+#REF!+#REF!+#REF!+#REF!+#REF!+#REF!+#REF!+#REF!+#REF!+#REF!+#REF!+#REF!+#REF!+#REF!+#REF!+#REF!+#REF!+#REF!+#REF!+#REF!+#REF!+#REF!+#REF!","v":{"$error":"#REF!"}},{"$f":"#REF!+#REF!+#REF!+#REF!+#REF!+#REF!+#REF!+#REF!+#REF!+#REF!+#REF!+#REF!+#REF!+#REF!+#REF!+#REF!+#REF!+#REF!+#REF!+#REF!+#REF!+#REF!+#REF!+#REF!+#REF!+#REF!+#REF!+#REF!+#REF!+#REF!+#REF!+#REF!+#REF!","v":{"$error":"#REF!"}},{"$f":"#REF!+#REF!+#REF!+#REF!+#REF!+#REF!+#REF!+#REF!+#REF!+#REF!+#REF!+#REF!+#REF!+#REF!+#REF!+#REF!+#REF!+#REF!+#REF!+#REF!+#REF!+#REF!+#REF!+#REF!+#REF!+#REF!+#REF!+#REF!+#REF!+#REF!+#REF!+#REF!+#REF!","v":{"$error":"#REF!"}},{"$f":"#REF!+#REF!+#REF!+#REF!+#REF!+#REF!+#REF!+#REF!+#REF!+#REF!+#REF!+#REF!+#REF!+#REF!+#REF!+#REF!+#REF!+#REF!+#REF!+#REF!+#REF!+#REF!+#REF!+#REF!+#REF!+#REF!+#REF!+#REF!+#REF!+#REF!+#REF!+#REF!+#REF!","v":{"$error":"#REF!"}},{"$f":"#REF!+#REF!+#REF!+#REF!+#REF!+#REF!+#REF!+#REF!+#REF!+#REF!+#REF!+#REF!+#REF!+#REF!+#REF!+#REF!+#REF!+#REF!+#REF!+#REF!+#REF!+#REF!+#REF!+#REF!+#REF!+#REF!+#REF!+#REF!+#REF!+#REF!+#REF!+#REF!+#REF!","v":{"$error":"#REF!"}},{"$f":"#REF!+#REF!+#REF!+#REF!+#REF!+#REF!+#REF!+#REF!+#REF!+#REF!+#REF!+#REF!+#REF!+#REF!+#REF!+#REF!+#REF!+#REF!+#REF!+#REF!+#REF!+#REF!+#REF!+#REF!+#REF!+#REF!+#REF!+#REF!+#REF!+#REF!+#REF!+#REF!+#REF!","v":{"$error":"#REF!"}},{"$f":"#REF!+#REF!+#REF!+#REF!+#REF!+#REF!+#REF!+#REF!+#REF!+#REF!+#REF!+#REF!+#REF!+#REF!+#REF!+#REF!+#REF!+#REF!+#REF!+#REF!+#REF!+#REF!+#REF!+#REF!+#REF!+#REF!+#REF!+#REF!+#REF!+#REF!+#REF!+#REF!+#REF!","v":{"$error":"#REF!"}},{"$f":"#REF!+#REF!+#REF!+#REF!+#REF!+#REF!+#REF!+#REF!+#REF!+#REF!+#REF!+#REF!+#REF!+#REF!+#REF!+#REF!+#REF!+#REF!+#REF!+#REF!+#REF!+#REF!+#REF!+#REF!+#REF!+#REF!+#REF!+#REF!+#REF!+#REF!+#REF!+#REF!+#REF!","v":{"$error":"#REF!"}},{"$f":"#REF!+#REF!+#REF!+#REF!+#REF!+#REF!+#REF!+#REF!+#REF!+#REF!+#REF!+#REF!+#REF!+#REF!+#REF!+#REF!+#REF!+#REF!+#REF!+#REF!+#REF!+#REF!+#REF!+#REF!+#REF!+#REF!+#REF!+#REF!+#REF!+#REF!+#REF!+#REF!+#REF!","v":{"$error":"#REF!"}},{"$f":"#REF!+#REF!+#REF!+#REF!+#REF!+#REF!+#REF!+#REF!+#REF!+#REF!+#REF!+#REF!+#REF!+#REF!+#REF!+#REF!+#REF!+#REF!+#REF!+#REF!+#REF!+#REF!+#REF!+#REF!+#REF!+#REF!+#REF!+#REF!+#REF!+#REF!+#REF!+#REF!+#REF!","v":{"$error":"#REF!"}},{"$f":"#REF!+#REF!+#REF!+#REF!+#REF!+#REF!+#REF!+#REF!+#REF!+#REF!+#REF!+#REF!+#REF!+#REF!+#REF!+#REF!+#REF!+#REF!+#REF!+#REF!+#REF!+#REF!+#REF!+#REF!+#REF!+#REF!+#REF!+#REF!+#REF!+#REF!+#REF!+#REF!+#REF!","v":{"$error":"#REF!"}},{"$f":"#REF!+#REF!+#REF!+#REF!+#REF!+#REF!+#REF!+#REF!+#REF!+#REF!+#REF!+#REF!+#REF!+#REF!+#REF!+#REF!+#REF!+#REF!+#REF!+#REF!+#REF!+#REF!+#REF!+#REF!+#REF!+#REF!+#REF!+#REF!+#REF!+#REF!+#REF!+#REF!+#REF!","v":{"$error":"#REF!"}},{"$f":"'9_Per Pupil Summary'!N38","v":5102},{"$f":"#REF!+#REF!+#REF!+#REF!+#REF!+#REF!+#REF!+#REF!+#REF!+#REF!+#REF!+#REF!+#REF!+#REF!+#REF!+#REF!+#REF!+#REF!+#REF!+#REF!+#REF!+#REF!+#REF!+#REF!+#REF!+#REF!+#REF!+#REF!+#REF!+#REF!+#REF!+#REF!+#REF!","v":{"$error":"#REF!"}},{"$f":"#REF!+#REF!+#REF!+#REF!+#REF!+#REF!+#REF!+#REF!+#REF!+#REF!+#REF!+#REF!+#REF!+#REF!+#REF!+#REF!+#REF!+#REF!+#REF!+#REF!+#REF!+#REF!+#REF!+#REF!+#REF!+#REF!+#REF!+#REF!+#REF!+#REF!+#REF!+#REF!+#REF!","v":{"$error":"#REF!"}},{"$f":"#REF!+#REF!+#REF!+#REF!+#REF!+#REF!+#REF!+#REF!+#REF!+#REF!+#REF!+#REF!+#REF!+#REF!+#REF!+#REF!+#REF!+#REF!+#REF!+#REF!+#REF!+#REF!+#REF!+#REF!+#REF!+#REF!+#REF!+#REF!+#REF!+#REF!+#REF!+#REF!+#REF!","v":{"$error":"#REF!"}},{"$f":"#REF!+#REF!+#REF!+#REF!+#REF!+#REF!+#REF!+#REF!+#REF!+#REF!+#REF!+#REF!+#REF!+#REF!+#REF!+#REF!+#REF!+#REF!+#REF!+#REF!+#REF!+#REF!+#REF!+#REF!+#REF!+#REF!+#REF!+#REF!+#REF!+#REF!+#REF!+#REF!+#REF!","v":{"$error":"#REF!"}},{"$f":"#REF!+#REF!+#REF!+#REF!+#REF!+#REF!+#REF!+#REF!+#REF!+#REF!+#REF!+#REF!+#REF!+#REF!+#REF!+#REF!+#REF!+#REF!+#REF!+#REF!+#REF!+#REF!+#REF!+#REF!+#REF!+#REF!+#REF!+#REF!+#REF!+#REF!+#REF!+#REF!+#REF!","v":{"$error":"#REF!"}},{"$f":"#REF!+#REF!+#REF!+#REF!+#REF!+#REF!+#REF!+#REF!+#REF!+#REF!+#REF!+#REF!+#REF!+#REF!+#REF!+#REF!+#REF!+#REF!+#REF!+#REF!+#REF!+#REF!+#REF!+#REF!+#REF!+#REF!+#REF!+#REF!+#REF!+#REF!+#REF!+#REF!+#REF!","v":{"$error":"#REF!"}},{"$f":"#REF!+#REF!+#REF!+#REF!+#REF!+#REF!+#REF!+#REF!+#REF!+#REF!+#REF!+#REF!+#REF!+#REF!+#REF!+#REF!+#REF!+#REF!+#REF!+#REF!+#REF!+#REF!+#REF!+#REF!+#REF!+#REF!+#REF!+#REF!+#REF!+#REF!+#REF!+#REF!+#REF!","v":{"$error":"#REF!"}},{"$f":"#REF!+#REF!+#REF!+#REF!+#REF!+#REF!+#REF!+#REF!+#REF!+#REF!+#REF!+#REF!+#REF!+#REF!+#REF!+#REF!+#REF!+#REF!+#REF!+#REF!+#REF!+#REF!+#REF!+#REF!+#REF!+#REF!+#REF!+#REF!+#REF!+#REF!+#REF!+#REF!+#REF!","v":{"$error":"#REF!"}},{"$f":"#REF!+#REF!+#REF!+#REF!+#REF!+#REF!+#REF!+#REF!+#REF!+#REF!+#REF!+#REF!+#REF!+#REF!+#REF!+#REF!+#REF!+#REF!+#REF!+#REF!+#REF!+#REF!+#REF!+#REF!+#REF!+#REF!+#REF!+#REF!+#REF!+#REF!+#REF!+#REF!+#REF!","v":{"$error":"#REF!"}},{"$f":"#REF!+#REF!+#REF!+#REF!+#REF!+#REF!+#REF!+#REF!+#REF!+#REF!+#REF!+#REF!+#REF!+#REF!+#REF!+#REF!+#REF!+#REF!+#REF!+#REF!+#REF!+#REF!+#REF!+#REF!+#REF!+#REF!+#REF!+#REF!+#REF!+#REF!+#REF!+#REF!+#REF!","v":{"$error":"#REF!"}},{"$f":"#REF!+#REF!+#REF!+#REF!+#REF!+#REF!+#REF!+#REF!+#REF!+#REF!+#REF!+#REF!+#REF!+#REF!+#REF!+#REF!+#REF!+#REF!+#REF!+#REF!+#REF!+#REF!+#REF!+#REF!+#REF!+#REF!+#REF!+#REF!+#REF!+#REF!+#REF!+#REF!+#REF!","v":{"$error":"#REF!"}},{"$f":"#REF!+#REF!+#REF!+#REF!+#REF!+#REF!+#REF!+#REF!+#REF!+#REF!+#REF!+#REF!+#REF!+#REF!+#REF!+#REF!+#REF!+#REF!+#REF!+#REF!+#REF!+#REF!+#REF!+#REF!+#REF!+#REF!+#REF!+#REF!+#REF!+#REF!+#REF!+#REF!+#REF!","v":{"$error":"#REF!"}},{"$f":"#REF!+#REF!+#REF!+#REF!+#REF!+#REF!+#REF!+#REF!+#REF!+#REF!+#REF!+#REF!+#REF!+#REF!+#REF!+#REF!+#REF!+#REF!+#REF!+#REF!+#REF!+#REF!+#REF!+#REF!+#REF!+#REF!+#REF!+#REF!+#REF!+#REF!+#REF!+#REF!+#REF!","v":{"$error":"#REF!"}},{"$f":"#REF!+#REF!+#REF!+#REF!+#REF!+#REF!+#REF!+#REF!+#REF!+#REF!+#REF!+#REF!+#REF!+#REF!+#REF!+#REF!+#REF!+#REF!+#REF!+#REF!+#REF!+#REF!+#REF!+#REF!+#REF!+#REF!+#REF!+#REF!+#REF!+#REF!+#REF!+#REF!+#REF!","v":{"$error":"#REF!"}},{"$error":"#REF!"},{"$error":"#REF!"},{"$f":"#REF!+#REF!+#REF!+#REF!+#REF!+#REF!+#REF!+#REF!+#REF!+#REF!+#REF!+#REF!+#REF!+#REF!+#REF!+#REF!+#REF!+#REF!+#REF!+#REF!+#REF!+#REF!+#REF!+#REF!+#REF!+#REF!+#REF!+#REF!+#REF!+#REF!+#REF!+#REF!+#REF!","v":{"$error":"#REF!"}},null,{"$error":"#REF!"}]
[34,"Morehouse",{"$f":"#REF!+#REF!+#REF!+#REF!+#REF!+#REF!+#REF!+#REF!+#REF!+#REF!+#REF!+#REF!+#REF!+#REF!+#REF!+#REF!+#REF!+#REF!+#REF!+#REF!+#REF!+#REF!+#REF!+#REF!+#REF!+#REF!+#REF!+#REF!+#REF!+#REF!+#REF!+#REF!+#REF!","v":{"$error":"#REF!"}},{"$f":"'9_Per Pupil Summary'!H39","v":5281.3373245298935},{"$f":"#REF!+#REF!+#REF!+#REF!+#REF!+#REF!+#REF!+#REF!+#REF!+#REF!+#REF!+#REF!+#REF!+#REF!+#REF!+#REF!+#REF!+#REF!+#REF!+#REF!+#REF!+#REF!+#REF!+#REF!+#REF!+#REF!+#REF!+#REF!+#REF!+#REF!+#REF!+#REF!+#REF!","v":{"$error":"#REF!"}},{"$f":"#REF!+#REF!+#REF!+#REF!+#REF!+#REF!+#REF!+#REF!+#REF!+#REF!+#REF!+#REF!+#REF!+#REF!+#REF!+#REF!+#REF!+#REF!+#REF!+#REF!+#REF!+#REF!+#REF!+#REF!+#REF!+#REF!+#REF!+#REF!+#REF!+#REF!+#REF!+#REF!+#REF!","v":{"$error":"#REF!"}},{"$f":"'9_Per Pupil Summary'!I39","v":688.66095598095944},{"$f":"#REF!+#REF!+#REF!+#REF!+#REF!+#REF!+#REF!+#REF!+#REF!+#REF!+#REF!+#REF!+#REF!+#REF!+#REF!+#REF!+#REF!+#REF!+#REF!+#REF!+#REF!+#REF!+#REF!+#REF!+#REF!+#REF!+#REF!+#REF!+#REF!+#REF!+#REF!+#REF!+#REF!","v":{"$error":"#REF!"}},{"$f":"#REF!+#REF!+#REF!+#REF!+#REF!+#REF!+#REF!+#REF!+#REF!+#REF!+#REF!+#REF!+#REF!+#REF!+#REF!+#REF!+#REF!+#REF!+#REF!+#REF!+#REF!+#REF!+#REF!+#REF!+#REF!+#REF!+#REF!+#REF!+#REF!+#REF!+#REF!+#REF!+#REF!","v":{"$error":"#REF!"}},{"$f":"'9_Per Pupil Summary'!J39","v":187.81662435844345},{"$f":"#REF!+#REF!+#REF!+#REF!+#REF!+#REF!+#REF!+#REF!+#REF!+#REF!+#REF!+#REF!+#REF!+#REF!+#REF!+#REF!+#REF!+#REF!+#REF!+#REF!+#REF!+#REF!+#REF!+#REF!+#REF!+#REF!+#REF!+#REF!+#REF!+#REF!+#REF!+#REF!+#REF!","v":{"$error":"#REF!"}},{"$f":"#REF!+#REF!+#REF!+#REF!+#REF!+#REF!+#REF!+#REF!+#REF!+#REF!+#REF!+#REF!+#REF!+#REF!+#REF!+#REF!+#REF!+#REF!+#REF!+#REF!+#REF!+#REF!+#REF!+#REF!+#REF!+#REF!+#REF!+#REF!+#REF!+#REF!+#REF!+#REF!+#REF!","v":{"$error":"#REF!"}},{"$f":"'9_Per Pupil Summary'!K39","v":4695.4156089610869},{"$f":"#REF!+#REF!+#REF!+#REF!+#REF!+#REF!+#REF!+#REF!+#REF!+#REF!+#REF!+#REF!+#REF!+#REF!+#REF!+#REF!+#REF!+#REF!+#REF!+#REF!+#REF!+#REF!+#REF!+#REF!+#REF!+#REF!+#REF!+#REF!+#REF!+#REF!+#REF!+#REF!+#REF!","v":{"$error":"#REF!"}},{"$f":"#REF!+#REF!+#REF!+#REF!+#REF!+#REF!+#REF!+#REF!+#REF!+#REF!+#REF!+#REF!+#REF!+#REF!+#REF!+#REF!+#REF!+#REF!+#REF!+#REF!+#REF!+#REF!+#REF!+#REF!+#REF!+#REF!+#REF!+#REF!+#REF!+#REF!+#REF!+#REF!+#REF!","v":{"$error":"#REF!"}},{"$f":"'9_Per Pupil Summary'!L39","v":1878.1662435844341},{"$f":"#REF!+#REF!+#REF!+#REF!+#REF!+#REF!+#REF!+#REF!+#REF!+#REF!+#REF!+#REF!+#REF!+#REF!+#REF!+#REF!+#REF!+#REF!+#REF!+#REF!+#REF!+#REF!+#REF!+#REF!+#REF!+#REF!+#REF!+#REF!+#REF!+#REF!+#REF!+#REF!+#REF!","v":{"$error":"#REF!"}},{"$f":"#REF!+#REF!+#REF!+#REF!+#REF!+#REF!+#REF!+#REF!+#REF!+#REF!+#REF!+#REF!+#REF!+#REF!+#REF!+#REF!+#REF!+#REF!+#REF!+#REF!+#REF!+#REF!+#REF!+#REF!+#REF!+#REF!+#REF!+#REF!+#REF!+#REF!+#REF!+#REF!+#REF!","v":{"$error":"#REF!"}},{"$f":"#REF!+#REF!","v":{"$error":"#REF!"}},{"$f":"#REF!+#REF!+#REF!+#REF!+#REF!+#REF!+#REF!+#REF!+#REF!+#REF!+#REF!+#REF!+#REF!+#REF!+#REF!+#REF!+#REF!+#REF!+#REF!+#REF!+#REF!+#REF!+#REF!+#REF!+#REF!+#REF!+#REF!+#REF!+#REF!+#REF!+#REF!+#REF!+#REF!","v":{"$error":"#REF!"}},{"$f":"#REF!+#REF!+#REF!+#REF!+#REF!+#REF!+#REF!+#REF!+#REF!+#REF!+#REF!+#REF!+#REF!+#REF!+#REF!+#REF!+#REF!+#REF!+#REF!+#REF!+#REF!+#REF!+#REF!+#REF!+#REF!+#REF!+#REF!+#REF!+#REF!+#REF!+#REF!+#REF!+#REF!","v":{"$error":"#REF!"}},{"$f":"#REF!+#REF!+#REF!+#REF!+#REF!+#REF!+#REF!+#REF!+#REF!+#REF!+#REF!+#REF!+#REF!+#REF!+#REF!+#REF!+#REF!+#REF!+#REF!+#REF!+#REF!+#REF!+#REF!+#REF!+#REF!+#REF!+#REF!+#REF!+#REF!+#REF!+#REF!+#REF!+#REF!","v":{"$error":"#REF!"}},{"$f":"#REF!+#REF!+#REF!+#REF!+#REF!+#REF!+#REF!+#REF!+#REF!+#REF!+#REF!+#REF!+#REF!+#REF!+#REF!+#REF!+#REF!+#REF!+#REF!+#REF!+#REF!+#REF!+#REF!+#REF!+#REF!+#REF!+#REF!+#REF!+#REF!+#REF!+#REF!+#REF!+#REF!","v":{"$error":"#REF!"}},{"$f":"#REF!+#REF!+#REF!+#REF!+#REF!+#REF!+#REF!+#REF!+#REF!+#REF!+#REF!+#REF!+#REF!+#REF!+#REF!+#REF!+#REF!+#REF!+#REF!+#REF!+#REF!+#REF!+#REF!+#REF!+#REF!+#REF!+#REF!+#REF!+#REF!+#REF!+#REF!+#REF!+#REF!","v":{"$error":"#REF!"}},{"$f":"#REF!+#REF!+#REF!+#REF!+#REF!+#REF!+#REF!+#REF!+#REF!+#REF!+#REF!+#REF!+#REF!+#REF!+#REF!+#REF!+#REF!+#REF!+#REF!+#REF!+#REF!+#REF!+#REF!+#REF!+#REF!+#REF!+#REF!+#REF!+#REF!+#REF!+#REF!+#REF!+#REF!","v":{"$error":"#REF!"}},{"$f":"#REF!+#REF!+#REF!+#REF!+#REF!+#REF!+#REF!+#REF!+#REF!+#REF!+#REF!+#REF!+#REF!+#REF!+#REF!+#REF!+#REF!+#REF!+#REF!+#REF!+#REF!+#REF!+#REF!+#REF!+#REF!+#REF!+#REF!+#REF!+#REF!+#REF!+#REF!+#REF!+#REF!","v":{"$error":"#REF!"}},{"$f":"#REF!+#REF!+#REF!+#REF!+#REF!+#REF!+#REF!+#REF!+#REF!+#REF!+#REF!+#REF!+#REF!+#REF!+#REF!+#REF!+#REF!+#REF!+#REF!+#REF!+#REF!+#REF!+#REF!+#REF!+#REF!+#REF!+#REF!+#REF!+#REF!+#REF!+#REF!+#REF!+#REF!","v":{"$error":"#REF!"}},{"$f":"#REF!+#REF!+#REF!+#REF!+#REF!+#REF!+#REF!+#REF!+#REF!+#REF!+#REF!+#REF!+#REF!+#REF!+#REF!+#REF!+#REF!+#REF!+#REF!+#REF!+#REF!+#REF!+#REF!+#REF!+#REF!+#REF!+#REF!+#REF!+#REF!+#REF!+#REF!+#REF!+#REF!","v":{"$error":"#REF!"}},{"$f":"#REF!+#REF!+#REF!+#REF!+#REF!+#REF!+#REF!+#REF!+#REF!+#REF!+#REF!+#REF!+#REF!+#REF!+#REF!+#REF!+#REF!+#REF!+#REF!+#REF!+#REF!+#REF!+#REF!+#REF!+#REF!+#REF!+#REF!+#REF!+#REF!+#REF!+#REF!+#REF!+#REF!","v":{"$error":"#REF!"}},{"$f":"#REF!+#REF!+#REF!+#REF!+#REF!+#REF!+#REF!+#REF!+#REF!+#REF!+#REF!+#REF!+#REF!+#REF!+#REF!+#REF!+#REF!+#REF!+#REF!+#REF!+#REF!+#REF!+#REF!+#REF!+#REF!+#REF!+#REF!+#REF!+#REF!+#REF!+#REF!+#REF!+#REF!","v":{"$error":"#REF!"}},{"$f":"#REF!+#REF!+#REF!+#REF!+#REF!+#REF!+#REF!+#REF!+#REF!+#REF!+#REF!+#REF!+#REF!+#REF!+#REF!+#REF!+#REF!+#REF!+#REF!+#REF!+#REF!+#REF!+#REF!+#REF!+#REF!+#REF!+#REF!+#REF!+#REF!+#REF!+#REF!+#REF!+#REF!","v":{"$error":"#REF!"}},{"$f":"'9_Per Pupil Summary'!N39","v":4996},{"$f":"#REF!+#REF!+#REF!+#REF!+#REF!+#REF!+#REF!+#REF!+#REF!+#REF!+#REF!+#REF!+#REF!+#REF!+#REF!+#REF!+#REF!+#REF!+#REF!+#REF!+#REF!+#REF!+#REF!+#REF!+#REF!+#REF!+#REF!+#REF!+#REF!+#REF!+#REF!+#REF!+#REF!","v":{"$error":"#REF!"}},{"$f":"#REF!+#REF!+#REF!+#REF!+#REF!+#REF!+#REF!+#REF!+#REF!+#REF!+#REF!+#REF!+#REF!+#REF!+#REF!+#REF!+#REF!+#REF!+#REF!+#REF!+#REF!+#REF!+#REF!+#REF!+#REF!+#REF!+#REF!+#REF!+#REF!+#REF!+#REF!+#REF!+#REF!","v":{"$error":"#REF!"}},{"$f":"#REF!+#REF!+#REF!+#REF!+#REF!+#REF!+#REF!+#REF!+#REF!+#REF!+#REF!+#REF!+#REF!+#REF!+#REF!+#REF!+#REF!+#REF!+#REF!+#REF!+#REF!+#REF!+#REF!+#REF!+#REF!+#REF!+#REF!+#REF!+#REF!+#REF!+#REF!+#REF!+#REF!","v":{"$error":"#REF!"}},{"$f":"#REF!+#REF!+#REF!+#REF!+#REF!+#REF!+#REF!+#REF!+#REF!+#REF!+#REF!+#REF!+#REF!+#REF!+#REF!+#REF!+#REF!+#REF!+#REF!+#REF!+#REF!+#REF!+#REF!+#REF!+#REF!+#REF!+#REF!+#REF!+#REF!+#REF!+#REF!+#REF!+#REF!","v":{"$error":"#REF!"}},{"$f":"#REF!+#REF!+#REF!+#REF!+#REF!+#REF!+#REF!+#REF!+#REF!+#REF!+#REF!+#REF!+#REF!+#REF!+#REF!+#REF!+#REF!+#REF!+#REF!+#REF!+#REF!+#REF!+#REF!+#REF!+#REF!+#REF!+#REF!+#REF!+#REF!+#REF!+#REF!+#REF!+#REF!","v":{"$error":"#REF!"}},{"$f":"#REF!+#REF!+#REF!+#REF!+#REF!+#REF!+#REF!+#REF!+#REF!+#REF!+#REF!+#REF!+#REF!+#REF!+#REF!+#REF!+#REF!+#REF!+#REF!+#REF!+#REF!+#REF!+#REF!+#REF!+#REF!+#REF!+#REF!+#REF!+#REF!+#REF!+#REF!+#REF!+#REF!","v":{"$error":"#REF!"}},{"$f":"#REF!+#REF!+#REF!+#REF!+#REF!+#REF!+#REF!+#REF!+#REF!+#REF!+#REF!+#REF!+#REF!+#REF!+#REF!+#REF!+#REF!+#REF!+#REF!+#REF!+#REF!+#REF!+#REF!+#REF!+#REF!+#REF!+#REF!+#REF!+#REF!+#REF!+#REF!+#REF!+#REF!","v":{"$error":"#REF!"}},{"$f":"#REF!+#REF!+#REF!+#REF!+#REF!+#REF!+#REF!+#REF!+#REF!+#REF!+#REF!+#REF!+#REF!+#REF!+#REF!+#REF!+#REF!+#REF!+#REF!+#REF!+#REF!+#REF!+#REF!+#REF!+#REF!+#REF!+#REF!+#REF!+#REF!+#REF!+#REF!+#REF!+#REF!","v":{"$error":"#REF!"}},{"$f":"#REF!+#REF!+#REF!+#REF!+#REF!+#REF!+#REF!+#REF!+#REF!+#REF!+#REF!+#REF!+#REF!+#REF!+#REF!+#REF!+#REF!+#REF!+#REF!+#REF!+#REF!+#REF!+#REF!+#REF!+#REF!+#REF!+#REF!+#REF!+#REF!+#REF!+#REF!+#REF!+#REF!","v":{"$error":"#REF!"}},{"$f":"#REF!+#REF!+#REF!+#REF!+#REF!+#REF!+#REF!+#REF!+#REF!+#REF!+#REF!+#REF!+#REF!+#REF!+#REF!+#REF!+#REF!+#REF!+#REF!+#REF!+#REF!+#REF!+#REF!+#REF!+#REF!+#REF!+#REF!+#REF!+#REF!+#REF!+#REF!+#REF!+#REF!","v":{"$error":"#REF!"}},{"$f":"#REF!+#REF!+#REF!+#REF!+#REF!+#REF!+#REF!+#REF!+#REF!+#REF!+#REF!+#REF!+#REF!+#REF!+#REF!+#REF!+#REF!+#REF!+#REF!+#REF!+#REF!+#REF!+#REF!+#REF!+#REF!+#REF!+#REF!+#REF!+#REF!+#REF!+#REF!+#REF!+#REF!","v":{"$error":"#REF!"}},{"$f":"#REF!+#REF!+#REF!+#REF!+#REF!+#REF!+#REF!+#REF!+#REF!+#REF!+#REF!+#REF!+#REF!+#REF!+#REF!+#REF!+#REF!+#REF!+#REF!+#REF!+#REF!+#REF!+#REF!+#REF!+#REF!+#REF!+#REF!+#REF!+#REF!+#REF!+#REF!+#REF!+#REF!","v":{"$error":"#REF!"}},{"$f":"#REF!+#REF!+#REF!+#REF!+#REF!+#REF!+#REF!+#REF!+#REF!+#REF!+#REF!+#REF!+#REF!+#REF!+#REF!+#REF!+#REF!+#REF!+#REF!+#REF!+#REF!+#REF!+#REF!+#REF!+#REF!+#REF!+#REF!+#REF!+#REF!+#REF!+#REF!+#REF!+#REF!","v":{"$error":"#REF!"}},{"$f":"#REF!+#REF!+#REF!+#REF!+#REF!+#REF!+#REF!+#REF!+#REF!+#REF!+#REF!+#REF!+#REF!+#REF!+#REF!+#REF!+#REF!+#REF!+#REF!+#REF!+#REF!+#REF!+#REF!+#REF!+#REF!+#REF!+#REF!+#REF!+#REF!+#REF!+#REF!+#REF!+#REF!","v":{"$error":"#REF!"}},{"$error":"#REF!"},{"$error":"#REF!"},{"$f":"#REF!+#REF!+#REF!+#REF!+#REF!+#REF!+#REF!+#REF!+#REF!+#REF!+#REF!+#REF!+#REF!+#REF!+#REF!+#REF!+#REF!+#REF!+#REF!+#REF!+#REF!+#REF!+#REF!+#REF!+#REF!+#REF!+#REF!+#REF!+#REF!+#REF!+#REF!+#REF!+#REF!","v":{"$error":"#REF!"}},null,{"$error":"#REF!"}]
[35,"Natchitoches",{"$f":"#REF!+#REF!+#REF!+#REF!+#REF!+#REF!+#REF!+#REF!+#REF!+#REF!+#REF!+#REF!+#REF!+#REF!+#REF!+#REF!+#REF!+#REF!+#REF!+#REF!+#REF!+#REF!+#REF!+#REF!+#REF!+#REF!+#REF!+#REF!+#REF!+#REF!+#REF!+#REF!+#REF!","v":{"$error":"#REF!"}},{"$f":"'9_Per Pupil Summary'!H40","v":4144.3747837484843},{"$f":"#REF!+#REF!+#REF!+#REF!+#REF!+#REF!+#REF!+#REF!+#REF!+#REF!+#REF!+#REF!+#REF!+#REF!+#REF!+#REF!+#REF!+#REF!+#REF!+#REF!+#REF!+#REF!+#REF!+#REF!+#REF!+#REF!+#REF!+#REF!+#REF!+#REF!+#REF!+#REF!+#REF!","v":{"$error":"#REF!"}},{"$f":"#REF!+#REF!+#REF!+#REF!+#REF!+#REF!+#REF!+#REF!+#REF!+#REF!+#REF!+#REF!+#REF!+#REF!+#REF!+#REF!+#REF!+#REF!+#REF!+#REF!+#REF!+#REF!+#REF!+#REF!+#REF!+#REF!+#REF!+#REF!+#REF!+#REF!+#REF!+#REF!+#REF!","v":{"$error":"#REF!"}},{"$f":"'9_Per Pupil Summary'!I40","v":575.84220185500828},{"$f":"#REF!+#REF!+#REF!+#REF!+#REF!+#REF!+#REF!+#REF!+#REF!+#REF!+#REF!+#REF!+#REF!+#REF!+#REF!+#REF!+#REF!+#REF!+#REF!+#REF!+#REF!+#REF!+#REF!+#REF!+#REF!+#REF!+#REF!+#REF!+#REF!+#REF!+#REF!+#REF!+#REF!","v":{"$error":"#REF!"}},{"$f":"#REF!+#REF!+#REF!+#REF!+#REF!+#REF!+#REF!+#REF!+#REF!+#REF!+#REF!+#REF!+#REF!+#REF!+#REF!+#REF!+#REF!+#REF!+#REF!+#REF!+#REF!+#REF!+#REF!+#REF!+#REF!+#REF!+#REF!+#REF!+#REF!+#REF!+#REF!+#REF!+#REF!","v":{"$error":"#REF!"}},{"$f":"'9_Per Pupil Summary'!J40","v":157.04787323318405},{"$f":"#REF!+#REF!+#REF!+#REF!+#REF!+#REF!+#REF!+#REF!+#REF!+#REF!+#REF!+#REF!+#REF!+#REF!+#REF!+#REF!+#REF!+#REF!+#REF!+#REF!+#REF!+#REF!+#REF!+#REF!+#REF!+#REF!+#REF!+#REF!+#REF!+#REF!+#REF!+#REF!+#REF!","v":{"$error":"#REF!"}},{"$f":"#REF!+#REF!+#REF!+#REF!+#REF!+#REF!+#REF!+#REF!+#REF!+#REF!+#REF!+#REF!+#REF!+#REF!+#REF!+#REF!+#REF!+#REF!+#REF!+#REF!+#REF!+#REF!+#REF!+#REF!+#REF!+#REF!+#REF!+#REF!+#REF!+#REF!+#REF!+#REF!+#REF!","v":{"$error":"#REF!"}},{"$f":"'9_Per Pupil Summary'!K40","v":3926.1968308296014},{"$f":"#REF!+#REF!+#REF!+#REF!+#REF!+#REF!+#REF!+#REF!+#REF!+#REF!+#REF!+#REF!+#REF!+#REF!+#REF!+#REF!+#REF!+#REF!+#REF!+#REF!+#REF!+#REF!+#REF!+#REF!+#REF!+#REF!+#REF!+#REF!+#REF!+#REF!+#REF!+#REF!+#REF!","v":{"$error":"#REF!"}},{"$f":"#REF!+#REF!+#REF!+#REF!+#REF!+#REF!+#REF!+#REF!+#REF!+#REF!+#REF!+#REF!+#REF!+#REF!+#REF!+#REF!+#REF!+#REF!+#REF!+#REF!+#REF!+#REF!+#REF!+#REF!+#REF!+#REF!+#REF!+#REF!+#REF!+#REF!+#REF!+#REF!+#REF!","v":{"$error":"#REF!"}},{"$f":"'9_Per Pupil Summary'!L40","v":1570.4787323318403},{"$f":"#REF!+#REF!+#REF!+#REF!+#REF!+#REF!+#REF!+#REF!+#REF!+#REF!+#REF!+#REF!+#REF!+#REF!+#REF!+#REF!+#REF!+#REF!+#REF!+#REF!+#REF!+#REF!+#REF!+#REF!+#REF!+#REF!+#REF!+#REF!+#REF!+#REF!+#REF!+#REF!+#REF!","v":{"$error":"#REF!"}},{"$f":"#REF!+#REF!+#REF!+#REF!+#REF!+#REF!+#REF!+#REF!+#REF!+#REF!+#REF!+#REF!+#REF!+#REF!+#REF!+#REF!+#REF!+#REF!+#REF!+#REF!+#REF!+#REF!+#REF!+#REF!+#REF!+#REF!+#REF!+#REF!+#REF!+#REF!+#REF!+#REF!+#REF!","v":{"$error":"#REF!"}},{"$f":"#REF!+#REF!","v":{"$error":"#REF!"}},{"$f":"#REF!+#REF!+#REF!+#REF!+#REF!+#REF!+#REF!+#REF!+#REF!+#REF!+#REF!+#REF!+#REF!+#REF!+#REF!+#REF!+#REF!+#REF!+#REF!+#REF!+#REF!+#REF!+#REF!+#REF!+#REF!+#REF!+#REF!+#REF!+#REF!+#REF!+#REF!+#REF!+#REF!","v":{"$error":"#REF!"}},{"$f":"#REF!+#REF!+#REF!+#REF!+#REF!+#REF!+#REF!+#REF!+#REF!+#REF!+#REF!+#REF!+#REF!+#REF!+#REF!+#REF!+#REF!+#REF!+#REF!+#REF!+#REF!+#REF!+#REF!+#REF!+#REF!+#REF!+#REF!+#REF!+#REF!+#REF!+#REF!+#REF!+#REF!","v":{"$error":"#REF!"}},{"$f":"#REF!+#REF!+#REF!+#REF!+#REF!+#REF!+#REF!+#REF!+#REF!+#REF!+#REF!+#REF!+#REF!+#REF!+#REF!+#REF!+#REF!+#REF!+#REF!+#REF!+#REF!+#REF!+#REF!+#REF!+#REF!+#REF!+#REF!+#REF!+#REF!+#REF!+#REF!+#REF!+#REF!","v":{"$error":"#REF!"}},{"$f":"#REF!+#REF!+#REF!+#REF!+#REF!+#REF!+#REF!+#REF!+#REF!+#REF!+#REF!+#REF!+#REF!+#REF!+#REF!+#REF!+#REF!+#REF!+#REF!+#REF!+#REF!+#REF!+#REF!+#REF!+#REF!+#REF!+#REF!+#REF!+#REF!+#REF!+#REF!+#REF!+#REF!","v":{"$error":"#REF!"}},{"$f":"#REF!+#REF!+#REF!+#REF!+#REF!+#REF!+#REF!+#REF!+#REF!+#REF!+#REF!+#REF!+#REF!+#REF!+#REF!+#REF!+#REF!+#REF!+#REF!+#REF!+#REF!+#REF!+#REF!+#REF!+#REF!+#REF!+#REF!+#REF!+#REF!+#REF!+#REF!+#REF!+#REF!","v":{"$error":"#REF!"}},{"$f":"#REF!+#REF!+#REF!+#REF!+#REF!+#REF!+#REF!+#REF!+#REF!+#REF!+#REF!+#REF!+#REF!+#REF!+#REF!+#REF!+#REF!+#REF!+#REF!+#REF!+#REF!+#REF!+#REF!+#REF!+#REF!+#REF!+#REF!+#REF!+#REF!+#REF!+#REF!+#REF!+#REF!","v":{"$error":"#REF!"}},{"$f":"#REF!+#REF!+#REF!+#REF!+#REF!+#REF!+#REF!+#REF!+#REF!+#REF!+#REF!+#REF!+#REF!+#REF!+#REF!+#REF!+#REF!+#REF!+#REF!+#REF!+#REF!+#REF!+#REF!+#REF!+#REF!+#REF!+#REF!+#REF!+#REF!+#REF!+#REF!+#REF!+#REF!","v":{"$error":"#REF!"}},{"$f":"#REF!+#REF!+#REF!+#REF!+#REF!+#REF!+#REF!+#REF!+#REF!+#REF!+#REF!+#REF!+#REF!+#REF!+#REF!+#REF!+#REF!+#REF!+#REF!+#REF!+#REF!+#REF!+#REF!+#REF!+#REF!+#REF!+#REF!+#REF!+#REF!+#REF!+#REF!+#REF!+#REF!","v":{"$error":"#REF!"}},{"$f":"#REF!+#REF!+#REF!+#REF!+#REF!+#REF!+#REF!+#REF!+#REF!+#REF!+#REF!+#REF!+#REF!+#REF!+#REF!+#REF!+#REF!+#REF!+#REF!+#REF!+#REF!+#REF!+#REF!+#REF!+#REF!+#REF!+#REF!+#REF!+#REF!+#REF!+#REF!+#REF!+#REF!","v":{"$error":"#REF!"}},{"$f":"#REF!+#REF!+#REF!+#REF!+#REF!+#REF!+#REF!+#REF!+#REF!+#REF!+#REF!+#REF!+#REF!+#REF!+#REF!+#REF!+#REF!+#REF!+#REF!+#REF!+#REF!+#REF!+#REF!+#REF!+#REF!+#REF!+#REF!+#REF!+#REF!+#REF!+#REF!+#REF!+#REF!","v":{"$error":"#REF!"}},{"$f":"#REF!+#REF!+#REF!+#REF!+#REF!+#REF!+#REF!+#REF!+#REF!+#REF!+#REF!+#REF!+#REF!+#REF!+#REF!+#REF!+#REF!+#REF!+#REF!+#REF!+#REF!+#REF!+#REF!+#REF!+#REF!+#REF!+#REF!+#REF!+#REF!+#REF!+#REF!+#REF!+#REF!","v":{"$error":"#REF!"}},{"$f":"#REF!+#REF!+#REF!+#REF!+#REF!+#REF!+#REF!+#REF!+#REF!+#REF!+#REF!+#REF!+#REF!+#REF!+#REF!+#REF!+#REF!+#REF!+#REF!+#REF!+#REF!+#REF!+#REF!+#REF!+#REF!+#REF!+#REF!+#REF!+#REF!+#REF!+#REF!+#REF!+#REF!","v":{"$error":"#REF!"}},{"$f":"'9_Per Pupil Summary'!N40","v":7001},{"$f":"#REF!+#REF!+#REF!+#REF!+#REF!+#REF!+#REF!+#REF!+#REF!+#REF!+#REF!+#REF!+#REF!+#REF!+#REF!+#REF!+#REF!+#REF!+#REF!+#REF!+#REF!+#REF!+#REF!+#REF!+#REF!+#REF!+#REF!+#REF!+#REF!+#REF!+#REF!+#REF!+#REF!","v":{"$error":"#REF!"}},{"$f":"#REF!+#REF!+#REF!+#REF!+#REF!+#REF!+#REF!+#REF!+#REF!+#REF!+#REF!+#REF!+#REF!+#REF!+#REF!+#REF!+#REF!+#REF!+#REF!+#REF!+#REF!+#REF!+#REF!+#REF!+#REF!+#REF!+#REF!+#REF!+#REF!+#REF!+#REF!+#REF!+#REF!","v":{"$error":"#REF!"}},{"$f":"#REF!+#REF!+#REF!+#REF!+#REF!+#REF!+#REF!+#REF!+#REF!+#REF!+#REF!+#REF!+#REF!+#REF!+#REF!+#REF!+#REF!+#REF!+#REF!+#REF!+#REF!+#REF!+#REF!+#REF!+#REF!+#REF!+#REF!+#REF!+#REF!+#REF!+#REF!+#REF!+#REF!","v":{"$error":"#REF!"}},{"$f":"#REF!+#REF!+#REF!+#REF!+#REF!+#REF!+#REF!+#REF!+#REF!+#REF!+#REF!+#REF!+#REF!+#REF!+#REF!+#REF!+#REF!+#REF!+#REF!+#REF!+#REF!+#REF!+#REF!+#REF!+#REF!+#REF!+#REF!+#REF!+#REF!+#REF!+#REF!+#REF!+#REF!","v":{"$error":"#REF!"}},{"$f":"#REF!+#REF!+#REF!+#REF!+#REF!+#REF!+#REF!+#REF!+#REF!+#REF!+#REF!+#REF!+#REF!+#REF!+#REF!+#REF!+#REF!+#REF!+#REF!+#REF!+#REF!+#REF!+#REF!+#REF!+#REF!+#REF!+#REF!+#REF!+#REF!+#REF!+#REF!+#REF!+#REF!","v":{"$error":"#REF!"}},{"$f":"#REF!+#REF!+#REF!+#REF!+#REF!+#REF!+#REF!+#REF!+#REF!+#REF!+#REF!+#REF!+#REF!+#REF!+#REF!+#REF!+#REF!+#REF!+#REF!+#REF!+#REF!+#REF!+#REF!+#REF!+#REF!+#REF!+#REF!+#REF!+#REF!+#REF!+#REF!+#REF!+#REF!","v":{"$error":"#REF!"}},{"$f":"#REF!+#REF!+#REF!+#REF!+#REF!+#REF!+#REF!+#REF!+#REF!+#REF!+#REF!+#REF!+#REF!+#REF!+#REF!+#REF!+#REF!+#REF!+#REF!+#REF!+#REF!+#REF!+#REF!+#REF!+#REF!+#REF!+#REF!+#REF!+#REF!+#REF!+#REF!+#REF!+#REF!","v":{"$error":"#REF!"}},{"$f":"#REF!+#REF!+#REF!+#REF!+#REF!+#REF!+#REF!+#REF!+#REF!+#REF!+#REF!+#REF!+#REF!+#REF!+#REF!+#REF!+#REF!+#REF!+#REF!+#REF!+#REF!+#REF!+#REF!+#REF!+#REF!+#REF!+#REF!+#REF!+#REF!+#REF!+#REF!+#REF!+#REF!","v":{"$error":"#REF!"}},{"$f":"#REF!+#REF!+#REF!+#REF!+#REF!+#REF!+#REF!+#REF!+#REF!+#REF!+#REF!+#REF!+#REF!+#REF!+#REF!+#REF!+#REF!+#REF!+#REF!+#REF!+#REF!+#REF!+#REF!+#REF!+#REF!+#REF!+#REF!+#REF!+#REF!+#REF!+#REF!+#REF!+#REF!","v":{"$error":"#REF!"}},{"$f":"#REF!+#REF!+#REF!+#REF!+#REF!+#REF!+#REF!+#REF!+#REF!+#REF!+#REF!+#REF!+#REF!+#REF!+#REF!+#REF!+#REF!+#REF!+#REF!+#REF!+#REF!+#REF!+#REF!+#REF!+#REF!+#REF!+#REF!+#REF!+#REF!+#REF!+#REF!+#REF!+#REF!","v":{"$error":"#REF!"}},{"$f":"#REF!+#REF!+#REF!+#REF!+#REF!+#REF!+#REF!+#REF!+#REF!+#REF!+#REF!+#REF!+#REF!+#REF!+#REF!+#REF!+#REF!+#REF!+#REF!+#REF!+#REF!+#REF!+#REF!+#REF!+#REF!+#REF!+#REF!+#REF!+#REF!+#REF!+#REF!+#REF!+#REF!","v":{"$error":"#REF!"}},{"$f":"#REF!+#REF!+#REF!+#REF!+#REF!+#REF!+#REF!+#REF!+#REF!+#REF!+#REF!+#REF!+#REF!+#REF!+#REF!+#REF!+#REF!+#REF!+#REF!+#REF!+#REF!+#REF!+#REF!+#REF!+#REF!+#REF!+#REF!+#REF!+#REF!+#REF!+#REF!+#REF!+#REF!","v":{"$error":"#REF!"}},{"$f":"#REF!+#REF!+#REF!+#REF!+#REF!+#REF!+#REF!+#REF!+#REF!+#REF!+#REF!+#REF!+#REF!+#REF!+#REF!+#REF!+#REF!+#REF!+#REF!+#REF!+#REF!+#REF!+#REF!+#REF!+#REF!+#REF!+#REF!+#REF!+#REF!+#REF!+#REF!+#REF!+#REF!","v":{"$error":"#REF!"}},{"$f":"#REF!+#REF!+#REF!+#REF!+#REF!+#REF!+#REF!+#REF!+#REF!+#REF!+#REF!+#REF!+#REF!+#REF!+#REF!+#REF!+#REF!+#REF!+#REF!+#REF!+#REF!+#REF!+#REF!+#REF!+#REF!+#REF!+#REF!+#REF!+#REF!+#REF!+#REF!+#REF!+#REF!","v":{"$error":"#REF!"}},{"$error":"#REF!"},{"$error":"#REF!"},{"$f":"#REF!+#REF!+#REF!+#REF!+#REF!+#REF!+#REF!+#REF!+#REF!+#REF!+#REF!+#REF!+#REF!+#REF!+#REF!+#REF!+#REF!+#REF!+#REF!+#REF!+#REF!+#REF!+#REF!+#REF!+#REF!+#REF!+#REF!+#REF!+#REF!+#REF!+#REF!+#REF!+#REF!","v":{"$error":"#REF!"}},null,{"$error":"#REF!"}]
[36,"Orleans",{"$f":"#REF!+#REF!+#REF!+#REF!+#REF!+#REF!+#REF!+#REF!+#REF!+#REF!+#REF!+#REF!+#REF!+#REF!+#REF!+#REF!+#REF!+#REF!+#REF!+#REF!+#REF!+#REF!+#REF!+#REF!+#REF!+#REF!+#REF!+#REF!+#REF!+#REF!+#REF!+#REF!+#REF!","v":{"$error":"#REF!"}},{"$f":"'9_Per Pupil Summary'!H41","v":3722.3634230479538},{"$f":"#REF!+#REF!+#REF!+#REF!+#REF!+#REF!+#REF!+#REF!+#REF!+#REF!+#REF!+#REF!+#REF!+#REF!+#REF!+#REF!+#REF!+#REF!+#REF!+#REF!+#REF!+#REF!+#REF!+#REF!+#REF!+#REF!+#REF!+#REF!+#REF!+#REF!+#REF!+#REF!+#REF!","v":{"$error":"#REF!"}},{"$f":"#REF!+#REF!+#REF!+#REF!+#REF!+#REF!+#REF!+#REF!+#REF!+#REF!+#REF!+#REF!+#REF!+#REF!+#REF!+#REF!+#REF!+#REF!+#REF!+#REF!+#REF!+#REF!+#REF!+#REF!+#REF!+#REF!+#REF!+#REF!+#REF!+#REF!+#REF!+#REF!+#REF!","v":{"$error":"#REF!"}},{"$f":"'9_Per Pupil Summary'!I41","v":503.66430403637469},{"$f":"#REF!+#REF!+#REF!+#REF!+#REF!+#REF!+#REF!+#REF!+#REF!+#REF!+#REF!+#REF!+#REF!+#REF!+#REF!+#REF!+#REF!+#REF!+#REF!+#REF!+#REF!+#REF!+#REF!+#REF!+#REF!+#REF!+#REF!+#REF!+#REF!+#REF!+#REF!+#REF!+#REF!","v":{"$error":"#REF!"}},{"$f":"#REF!+#REF!+#REF!+#REF!+#REF!+#REF!+#REF!+#REF!+#REF!+#REF!+#REF!+#REF!+#REF!+#REF!+#REF!+#REF!+#REF!+#REF!+#REF!+#REF!+#REF!+#REF!+#REF!+#REF!+#REF!+#REF!+#REF!+#REF!+#REF!+#REF!+#REF!+#REF!+#REF!","v":{"$error":"#REF!"}},{"$f":"'9_Per Pupil Summary'!J41","v":137.36299200992033},{"$f":"#REF!+#REF!+#REF!+#REF!+#REF!+#REF!+#REF!+#REF!+#REF!+#REF!+#REF!+#REF!+#REF!+#REF!+#REF!+#REF!+#REF!+#REF!+#REF!+#REF!+#REF!+#REF!+#REF!+#REF!+#REF!+#REF!+#REF!+#REF!+#REF!+#REF!+#REF!+#REF!+#REF!","v":{"$error":"#REF!"}},{"$f":"#REF!+#REF!+#REF!+#REF!+#REF!+#REF!+#REF!+#REF!+#REF!+#REF!+#REF!+#REF!+#REF!+#REF!+#REF!+#REF!+#REF!+#REF!+#REF!+#REF!+#REF!+#REF!+#REF!+#REF!+#REF!+#REF!+#REF!+#REF!+#REF!+#REF!+#REF!+#REF!+#REF!","v":{"$error":"#REF!"}},{"$f":"'9_Per Pupil Summary'!K41","v":3434.0748002480082},{"$f":"#REF!+#REF!+#REF!+#REF!+#REF!+#REF!+#REF!+#REF!+#REF!+#REF!+#REF!+#REF!+#REF!+#REF!+#REF!+#REF!+#REF!+#REF!+#REF!+#REF!+#REF!+#REF!+#REF!+#REF!+#REF!+#REF!+#REF!+#REF!+#REF!+#REF!+#REF!+#REF!+#REF!","v":{"$error":"#REF!"}},{"$f":"#REF!+#REF!+#REF!+#REF!+#REF!+#REF!+#REF!+#REF!+#REF!+#REF!+#REF!+#REF!+#REF!+#REF!+#REF!+#REF!+#REF!+#REF!+#REF!+#REF!+#REF!+#REF!+#REF!+#REF!+#REF!+#REF!+#REF!+#REF!+#REF!+#REF!+#REF!+#REF!+#REF!","v":{"$error":"#REF!"}},{"$f":"'9_Per Pupil Summary'!L41","v":1373.629920099203},{"$f":"#REF!+#REF!+#REF!+#REF!+#REF!+#REF!+#REF!+#REF!+#REF!+#REF!+#REF!+#REF!+#REF!+#REF!+#REF!+#REF!+#REF!+#REF!+#REF!+#REF!+#REF!+#REF!+#REF!+#REF!+#REF!+#REF!+#REF!+#REF!+#REF!+#REF!+#REF!+#REF!+#REF!","v":{"$error":"#REF!"}},{"$f":"#REF!+#REF!+#REF!+#REF!+#REF!+#REF!+#REF!+#REF!+#REF!+#REF!+#REF!+#REF!+#REF!+#REF!+#REF!+#REF!+#REF!+#REF!+#REF!+#REF!+#REF!+#REF!+#REF!+#REF!+#REF!+#REF!+#REF!+#REF!+#REF!+#REF!+#REF!+#REF!+#REF!","v":{"$error":"#REF!"}},{"$f":"#REF!+#REF!","v":{"$error":"#REF!"}},{"$f":"#REF!+#REF!+#REF!+#REF!+#REF!+#REF!+#REF!+#REF!+#REF!+#REF!+#REF!+#REF!+#REF!+#REF!+#REF!+#REF!+#REF!+#REF!+#REF!+#REF!+#REF!+#REF!+#REF!+#REF!+#REF!+#REF!+#REF!+#REF!+#REF!+#REF!+#REF!+#REF!+#REF!","v":{"$error":"#REF!"}},{"$f":"#REF!+#REF!+#REF!+#REF!+#REF!+#REF!+#REF!+#REF!+#REF!+#REF!+#REF!+#REF!+#REF!+#REF!+#REF!+#REF!+#REF!+#REF!+#REF!+#REF!+#REF!+#REF!+#REF!+#REF!+#REF!+#REF!+#REF!+#REF!+#REF!+#REF!+#REF!+#REF!+#REF!","v":{"$error":"#REF!"}},{"$f":"#REF!+#REF!+#REF!+#REF!+#REF!+#REF!+#REF!+#REF!+#REF!+#REF!+#REF!+#REF!+#REF!+#REF!+#REF!+#REF!+#REF!+#REF!+#REF!+#REF!+#REF!+#REF!+#REF!+#REF!+#REF!+#REF!+#REF!+#REF!+#REF!+#REF!+#REF!+#REF!+#REF!","v":{"$error":"#REF!"}},{"$f":"#REF!+#REF!+#REF!+#REF!+#REF!+#REF!+#REF!+#REF!+#REF!+#REF!+#REF!+#REF!+#REF!+#REF!+#REF!+#REF!+#REF!+#REF!+#REF!+#REF!+#REF!+#REF!+#REF!+#REF!+#REF!+#REF!+#REF!+#REF!+#REF!+#REF!+#REF!+#REF!+#REF!","v":{"$error":"#REF!"}},{"$f":"#REF!+#REF!+#REF!+#REF!+#REF!+#REF!+#REF!+#REF!+#REF!+#REF!+#REF!+#REF!+#REF!+#REF!+#REF!+#REF!+#REF!+#REF!+#REF!+#REF!+#REF!+#REF!+#REF!+#REF!+#REF!+#REF!+#REF!+#REF!+#REF!+#REF!+#REF!+#REF!+#REF!","v":{"$error":"#REF!"}},{"$f":"#REF!+#REF!+#REF!+#REF!+#REF!+#REF!+#REF!+#REF!+#REF!+#REF!+#REF!+#REF!+#REF!+#REF!+#REF!+#REF!+#REF!+#REF!+#REF!+#REF!+#REF!+#REF!+#REF!+#REF!+#REF!+#REF!+#REF!+#REF!+#REF!+#REF!+#REF!+#REF!+#REF!","v":{"$error":"#REF!"}},{"$f":"#REF!+#REF!+#REF!+#REF!+#REF!+#REF!+#REF!+#REF!+#REF!+#REF!+#REF!+#REF!+#REF!+#REF!+#REF!+#REF!+#REF!+#REF!+#REF!+#REF!+#REF!+#REF!+#REF!+#REF!+#REF!+#REF!+#REF!+#REF!+#REF!+#REF!+#REF!+#REF!+#REF!","v":{"$error":"#REF!"}},{"$f":"#REF!+#REF!+#REF!+#REF!+#REF!+#REF!+#REF!+#REF!+#REF!+#REF!+#REF!+#REF!+#REF!+#REF!+#REF!+#REF!+#REF!+#REF!+#REF!+#REF!+#REF!+#REF!+#REF!+#REF!+#REF!+#REF!+#REF!+#REF!+#REF!+#REF!+#REF!+#REF!+#REF!","v":{"$error":"#REF!"}},{"$f":"#REF!+#REF!+#REF!+#REF!+#REF!+#REF!+#REF!+#REF!+#REF!+#REF!+#REF!+#REF!+#REF!+#REF!+#REF!+#REF!+#REF!+#REF!+#REF!+#REF!+#REF!+#REF!+#REF!+#REF!+#REF!+#REF!+#REF!+#REF!+#REF!+#REF!+#REF!+#REF!+#REF!","v":{"$error":"#REF!"}},{"$f":"#REF!+#REF!+#REF!+#REF!+#REF!+#REF!+#REF!+#REF!+#REF!+#REF!+#REF!+#REF!+#REF!+#REF!+#REF!+#REF!+#REF!+#REF!+#REF!+#REF!+#REF!+#REF!+#REF!+#REF!+#REF!+#REF!+#REF!+#REF!+#REF!+#REF!+#REF!+#REF!+#REF!","v":{"$error":"#REF!"}},{"$f":"#REF!+#REF!+#REF!+#REF!+#REF!+#REF!+#REF!+#REF!+#REF!+#REF!+#REF!+#REF!+#REF!+#REF!+#REF!+#REF!+#REF!+#REF!+#REF!+#REF!+#REF!+#REF!+#REF!+#REF!+#REF!+#REF!+#REF!+#REF!+#REF!+#REF!+#REF!+#REF!+#REF!","v":{"$error":"#REF!"}},{"$f":"#REF!+#REF!+#REF!+#REF!+#REF!+#REF!+#REF!+#REF!+#REF!+#REF!+#REF!+#REF!+#REF!+#REF!+#REF!+#REF!+#REF!+#REF!+#REF!+#REF!+#REF!+#REF!+#REF!+#REF!+#REF!+#REF!+#REF!+#REF!+#REF!+#REF!+#REF!+#REF!+#REF!","v":{"$error":"#REF!"}},{"$f":"'9_Per Pupil Summary'!N41","v":8424},{"$f":"#REF!+#REF!+#REF!+#REF!+#REF!+#REF!+#REF!+#REF!+#REF!+#REF!+#REF!+#REF!+#REF!+#REF!+#REF!+#REF!+#REF!+#REF!+#REF!+#REF!+#REF!+#REF!+#REF!+#REF!+#REF!+#REF!+#REF!+#REF!+#REF!+#REF!+#REF!+#REF!+#REF!","v":{"$error":"#REF!"}},{"$f":"#REF!+#REF!+#REF!+#REF!+#REF!+#REF!+#REF!+#REF!+#REF!+#REF!+#REF!+#REF!+#REF!+#REF!+#REF!+#REF!+#REF!+#REF!+#REF!+#REF!+#REF!+#REF!+#REF!+#REF!+#REF!+#REF!+#REF!+#REF!+#REF!+#REF!+#REF!+#REF!+#REF!","v":{"$error":"#REF!"}},{"$f":"#REF!+#REF!+#REF!+#REF!+#REF!+#REF!+#REF!+#REF!+#REF!+#REF!+#REF!+#REF!+#REF!+#REF!+#REF!+#REF!+#REF!+#REF!+#REF!+#REF!+#REF!+#REF!+#REF!+#REF!+#REF!+#REF!+#REF!+#REF!+#REF!+#REF!+#REF!+#REF!+#REF!","v":{"$error":"#REF!"}},{"$f":"#REF!+#REF!+#REF!+#REF!+#REF!+#REF!+#REF!+#REF!+#REF!+#REF!+#REF!+#REF!+#REF!+#REF!+#REF!+#REF!+#REF!+#REF!+#REF!+#REF!+#REF!+#REF!+#REF!+#REF!+#REF!+#REF!+#REF!+#REF!+#REF!+#REF!+#REF!+#REF!+#REF!","v":{"$error":"#REF!"}},{"$f":"#REF!+#REF!+#REF!+#REF!+#REF!+#REF!+#REF!+#REF!+#REF!+#REF!+#REF!+#REF!+#REF!+#REF!+#REF!+#REF!+#REF!+#REF!+#REF!+#REF!+#REF!+#REF!+#REF!+#REF!+#REF!+#REF!+#REF!+#REF!+#REF!+#REF!+#REF!+#REF!+#REF!","v":{"$error":"#REF!"}},{"$f":"#REF!+#REF!+#REF!+#REF!+#REF!+#REF!+#REF!+#REF!+#REF!+#REF!+#REF!+#REF!+#REF!+#REF!+#REF!+#REF!+#REF!+#REF!+#REF!+#REF!+#REF!+#REF!+#REF!+#REF!+#REF!+#REF!+#REF!+#REF!+#REF!+#REF!+#REF!+#REF!+#REF!","v":{"$error":"#REF!"}},{"$f":"#REF!+#REF!+#REF!+#REF!+#REF!+#REF!+#REF!+#REF!+#REF!+#REF!+#REF!+#REF!+#REF!+#REF!+#REF!+#REF!+#REF!+#REF!+#REF!+#REF!+#REF!+#REF!+#REF!+#REF!+#REF!+#REF!+#REF!+#REF!+#REF!+#REF!+#REF!+#REF!+#REF!","v":{"$error":"#REF!"}},{"$f":"#REF!+#REF!+#REF!+#REF!+#REF!+#REF!+#REF!+#REF!+#REF!+#REF!+#REF!+#REF!+#REF!+#REF!+#REF!+#REF!+#REF!+#REF!+#REF!+#REF!+#REF!+#REF!+#REF!+#REF!+#REF!+#REF!+#REF!+#REF!+#REF!+#REF!+#REF!+#REF!+#REF!","v":{"$error":"#REF!"}},{"$f":"#REF!+#REF!+#REF!+#REF!+#REF!+#REF!+#REF!+#REF!+#REF!+#REF!+#REF!+#REF!+#REF!+#REF!+#REF!+#REF!+#REF!+#REF!+#REF!+#REF!+#REF!+#REF!+#REF!+#REF!+#REF!+#REF!+#REF!+#REF!+#REF!+#REF!+#REF!+#REF!+#REF!","v":{"$error":"#REF!"}},{"$f":"#REF!+#REF!+#REF!+#REF!+#REF!+#REF!+#REF!+#REF!+#REF!+#REF!+#REF!+#REF!+#REF!+#REF!+#REF!+#REF!+#REF!+#REF!+#REF!+#REF!+#REF!+#REF!+#REF!+#REF!+#REF!+#REF!+#REF!+#REF!+#REF!+#REF!+#REF!+#REF!+#REF!","v":{"$error":"#REF!"}},{"$f":"#REF!+#REF!+#REF!+#REF!+#REF!+#REF!+#REF!+#REF!+#REF!+#REF!+#REF!+#REF!+#REF!+#REF!+#REF!+#REF!+#REF!+#REF!+#REF!+#REF!+#REF!+#REF!+#REF!+#REF!+#REF!+#REF!+#REF!+#REF!+#REF!+#REF!+#REF!+#REF!+#REF!","v":{"$error":"#REF!"}},{"$f":"#REF!+#REF!+#REF!+#REF!+#REF!+#REF!+#REF!+#REF!+#REF!+#REF!+#REF!+#REF!+#REF!+#REF!+#REF!+#REF!+#REF!+#REF!+#REF!+#REF!+#REF!+#REF!+#REF!+#REF!+#REF!+#REF!+#REF!+#REF!+#REF!+#REF!+#REF!+#REF!+#REF!","v":{"$error":"#REF!"}},{"$f":"#REF!+#REF!+#REF!+#REF!+#REF!+#REF!+#REF!+#REF!+#REF!+#REF!+#REF!+#REF!+#REF!+#REF!+#REF!+#REF!+#REF!+#REF!+#REF!+#REF!+#REF!+#REF!+#REF!+#REF!+#REF!+#REF!+#REF!+#REF!+#REF!+#REF!+#REF!+#REF!+#REF!","v":{"$error":"#REF!"}},{"$f":"#REF!+#REF!+#REF!+#REF!+#REF!+#REF!+#REF!+#REF!+#REF!+#REF!+#REF!+#REF!+#REF!+#REF!+#REF!+#REF!+#REF!+#REF!+#REF!+#REF!+#REF!+#REF!+#REF!+#REF!+#REF!+#REF!+#REF!+#REF!+#REF!+#REF!+#REF!+#REF!+#REF!","v":{"$error":"#REF!"}},{"$error":"#REF!"},{"$error":"#REF!"},{"$f":"#REF!+#REF!+#REF!+#REF!+#REF!+#REF!+#REF!+#REF!+#REF!+#REF!+#REF!+#REF!+#REF!+#REF!+#REF!+#REF!+#REF!+#REF!+#REF!+#REF!+#REF!+#REF!+#REF!+#REF!+#REF!+#REF!+#REF!+#REF!+#REF!+#REF!+#REF!+#REF!+#REF!","v":{"$error":"#REF!"}},null,{"$error":"#REF!"}]
[37,"Ouachita",{"$f":"#REF!+#REF!+#REF!+#REF!+#REF!+#REF!+#REF!+#REF!+#REF!+#REF!+#REF!+#REF!+#REF!+#REF!+#REF!+#REF!+#REF!+#REF!+#REF!+#REF!+#REF!+#REF!+#REF!+#REF!+#REF!+#REF!+#REF!+#REF!+#REF!+#REF!+#REF!+#REF!+#REF!","v":{"$error":"#REF!"}},{"$f":"'9_Per Pupil Summary'!H42","v":5133.9089283321073},{"$f":"#REF!+#REF!+#REF!+#REF!+#REF!+#REF!+#REF!+#REF!+#REF!+#REF!+#REF!+#REF!+#REF!+#REF!+#REF!+#REF!+#REF!+#REF!+#REF!+#REF!+#REF!+#REF!+#REF!+#REF!+#REF!+#REF!+#REF!+#REF!+#REF!+#REF!+#REF!+#REF!+#REF!","v":{"$error":"#REF!"}},{"$f":"#REF!+#REF!+#REF!+#REF!+#REF!+#REF!+#REF!+#REF!+#REF!+#REF!+#REF!+#REF!+#REF!+#REF!+#REF!+#REF!+#REF!+#REF!+#REF!+#REF!+#REF!+#REF!+#REF!+#REF!+#REF!+#REF!+#REF!+#REF!+#REF!+#REF!+#REF!+#REF!+#REF!","v":{"$error":"#REF!"}},{"$f":"'9_Per Pupil Summary'!I42","v":687.3567151342445},{"$f":"#REF!+#REF!+#REF!+#REF!+#REF!+#REF!+#REF!+#REF!+#REF!+#REF!+#REF!+#REF!+#REF!+#REF!+#REF!+#REF!+#REF!+#REF!+#REF!+#REF!+#REF!+#REF!+#REF!+#REF!+#REF!+#REF!+#REF!+#REF!+#REF!+#REF!+#REF!+#REF!+#REF!","v":{"$error":"#REF!"}},{"$f":"#REF!+#REF!+#REF!+#REF!+#REF!+#REF!+#REF!+#REF!+#REF!+#REF!+#REF!+#REF!+#REF!+#REF!+#REF!+#REF!+#REF!+#REF!+#REF!+#REF!+#REF!+#REF!+#REF!+#REF!+#REF!+#REF!+#REF!+#REF!+#REF!+#REF!+#REF!+#REF!+#REF!","v":{"$error":"#REF!"}},{"$f":"'9_Per Pupil Summary'!J42","v":187.4609223093394},{"$f":"#REF!+#REF!+#REF!+#REF!+#REF!+#REF!+#REF!+#REF!+#REF!+#REF!+#REF!+#REF!+#REF!+#REF!+#REF!+#REF!+#REF!+#REF!+#REF!+#REF!+#REF!+#REF!+#REF!+#REF!+#REF!+#REF!+#REF!+#REF!+#REF!+#REF!+#REF!+#REF!+#REF!","v":{"$error":"#REF!"}},{"$f":"#REF!+#REF!+#REF!+#REF!+#REF!+#REF!+#REF!+#REF!+#REF!+#REF!+#REF!+#REF!+#REF!+#REF!+#REF!+#REF!+#REF!+#REF!+#REF!+#REF!+#REF!+#REF!+#REF!+#REF!+#REF!+#REF!+#REF!+#REF!+#REF!+#REF!+#REF!+#REF!+#REF!","v":{"$error":"#REF!"}},{"$f":"'9_Per Pupil Summary'!K42","v":4686.5230577334851},{"$f":"#REF!+#REF!+#REF!+#REF!+#REF!+#REF!+#REF!+#REF!+#REF!+#REF!+#REF!+#REF!+#REF!+#REF!+#REF!+#REF!+#REF!+#REF!+#REF!+#REF!+#REF!+#REF!+#REF!+#REF!+#REF!+#REF!+#REF!+#REF!+#REF!+#REF!+#REF!+#REF!+#REF!","v":{"$error":"#REF!"}},{"$f":"#REF!+#REF!+#REF!+#REF!+#REF!+#REF!+#REF!+#REF!+#REF!+#REF!+#REF!+#REF!+#REF!+#REF!+#REF!+#REF!+#REF!+#REF!+#REF!+#REF!+#REF!+#REF!+#REF!+#REF!+#REF!+#REF!+#REF!+#REF!+#REF!+#REF!+#REF!+#REF!+#REF!","v":{"$error":"#REF!"}},{"$f":"'9_Per Pupil Summary'!L42","v":1874.6092230933943},{"$f":"#REF!+#REF!+#REF!+#REF!+#REF!+#REF!+#REF!+#REF!+#REF!+#REF!+#REF!+#REF!+#REF!+#REF!+#REF!+#REF!+#REF!+#REF!+#REF!+#REF!+#REF!+#REF!+#REF!+#REF!+#REF!+#REF!+#REF!+#REF!+#REF!+#REF!+#REF!+#REF!+#REF!","v":{"$error":"#REF!"}},{"$f":"#REF!+#REF!+#REF!+#REF!+#REF!+#REF!+#REF!+#REF!+#REF!+#REF!+#REF!+#REF!+#REF!+#REF!+#REF!+#REF!+#REF!+#REF!+#REF!+#REF!+#REF!+#REF!+#REF!+#REF!+#REF!+#REF!+#REF!+#REF!+#REF!+#REF!+#REF!+#REF!+#REF!","v":{"$error":"#REF!"}},{"$f":"#REF!+#REF!","v":{"$error":"#REF!"}},{"$f":"#REF!+#REF!+#REF!+#REF!+#REF!+#REF!+#REF!+#REF!+#REF!+#REF!+#REF!+#REF!+#REF!+#REF!+#REF!+#REF!+#REF!+#REF!+#REF!+#REF!+#REF!+#REF!+#REF!+#REF!+#REF!+#REF!+#REF!+#REF!+#REF!+#REF!+#REF!+#REF!+#REF!","v":{"$error":"#REF!"}},{"$f":"#REF!+#REF!+#REF!+#REF!+#REF!+#REF!+#REF!+#REF!+#REF!+#REF!+#REF!+#REF!+#REF!+#REF!+#REF!+#REF!+#REF!+#REF!+#REF!+#REF!+#REF!+#REF!+#REF!+#REF!+#REF!+#REF!+#REF!+#REF!+#REF!+#REF!+#REF!+#REF!+#REF!","v":{"$error":"#REF!"}},{"$f":"#REF!+#REF!+#REF!+#REF!+#REF!+#REF!+#REF!+#REF!+#REF!+#REF!+#REF!+#REF!+#REF!+#REF!+#REF!+#REF!+#REF!+#REF!+#REF!+#REF!+#REF!+#REF!+#REF!+#REF!+#REF!+#REF!+#REF!+#REF!+#REF!+#REF!+#REF!+#REF!+#REF!","v":{"$error":"#REF!"}},{"$f":"#REF!+#REF!+#REF!+#REF!+#REF!+#REF!+#REF!+#REF!+#REF!+#REF!+#REF!+#REF!+#REF!+#REF!+#REF!+#REF!+#REF!+#REF!+#REF!+#REF!+#REF!+#REF!+#REF!+#REF!+#REF!+#REF!+#REF!+#REF!+#REF!+#REF!+#REF!+#REF!+#REF!","v":{"$error":"#REF!"}},{"$f":"#REF!+#REF!+#REF!+#REF!+#REF!+#REF!+#REF!+#REF!+#REF!+#REF!+#REF!+#REF!+#REF!+#REF!+#REF!+#REF!+#REF!+#REF!+#REF!+#REF!+#REF!+#REF!+#REF!+#REF!+#REF!+#REF!+#REF!+#REF!+#REF!+#REF!+#REF!+#REF!+#REF!","v":{"$error":"#REF!"}},{"$f":"#REF!+#REF!+#REF!+#REF!+#REF!+#REF!+#REF!+#REF!+#REF!+#REF!+#REF!+#REF!+#REF!+#REF!+#REF!+#REF!+#REF!+#REF!+#REF!+#REF!+#REF!+#REF!+#REF!+#REF!+#REF!+#REF!+#REF!+#REF!+#REF!+#REF!+#REF!+#REF!+#REF!","v":{"$error":"#REF!"}},{"$f":"#REF!+#REF!+#REF!+#REF!+#REF!+#REF!+#REF!+#REF!+#REF!+#REF!+#REF!+#REF!+#REF!+#REF!+#REF!+#REF!+#REF!+#REF!+#REF!+#REF!+#REF!+#REF!+#REF!+#REF!+#REF!+#REF!+#REF!+#REF!+#REF!+#REF!+#REF!+#REF!+#REF!","v":{"$error":"#REF!"}},{"$f":"#REF!+#REF!+#REF!+#REF!+#REF!+#REF!+#REF!+#REF!+#REF!+#REF!+#REF!+#REF!+#REF!+#REF!+#REF!+#REF!+#REF!+#REF!+#REF!+#REF!+#REF!+#REF!+#REF!+#REF!+#REF!+#REF!+#REF!+#REF!+#REF!+#REF!+#REF!+#REF!+#REF!","v":{"$error":"#REF!"}},{"$f":"#REF!+#REF!+#REF!+#REF!+#REF!+#REF!+#REF!+#REF!+#REF!+#REF!+#REF!+#REF!+#REF!+#REF!+#REF!+#REF!+#REF!+#REF!+#REF!+#REF!+#REF!+#REF!+#REF!+#REF!+#REF!+#REF!+#REF!+#REF!+#REF!+#REF!+#REF!+#REF!+#REF!","v":{"$error":"#REF!"}},{"$f":"#REF!+#REF!+#REF!+#REF!+#REF!+#REF!+#REF!+#REF!+#REF!+#REF!+#REF!+#REF!+#REF!+#REF!+#REF!+#REF!+#REF!+#REF!+#REF!+#REF!+#REF!+#REF!+#REF!+#REF!+#REF!+#REF!+#REF!+#REF!+#REF!+#REF!+#REF!+#REF!+#REF!","v":{"$error":"#REF!"}},{"$f":"#REF!+#REF!+#REF!+#REF!+#REF!+#REF!+#REF!+#REF!+#REF!+#REF!+#REF!+#REF!+#REF!+#REF!+#REF!+#REF!+#REF!+#REF!+#REF!+#REF!+#REF!+#REF!+#REF!+#REF!+#REF!+#REF!+#REF!+#REF!+#REF!+#REF!+#REF!+#REF!+#REF!","v":{"$error":"#REF!"}},{"$f":"#REF!+#REF!+#REF!+#REF!+#REF!+#REF!+#REF!+#REF!+#REF!+#REF!+#REF!+#REF!+#REF!+#REF!+#REF!+#REF!+#REF!+#REF!+#REF!+#REF!+#REF!+#REF!+#REF!+#REF!+#REF!+#REF!+#REF!+#REF!+#REF!+#REF!+#REF!+#REF!+#REF!","v":{"$error":"#REF!"}},{"$f":"'9_Per Pupil Summary'!N42","v":5588},{"$f":"#REF!+#REF!+#REF!+#REF!+#REF!+#REF!+#REF!+#REF!+#REF!+#REF!+#REF!+#REF!+#REF!+#REF!+#REF!+#REF!+#REF!+#REF!+#REF!+#REF!+#REF!+#REF!+#REF!+#REF!+#REF!+#REF!+#REF!+#REF!+#REF!+#REF!+#REF!+#REF!+#REF!","v":{"$error":"#REF!"}},{"$f":"#REF!+#REF!+#REF!+#REF!+#REF!+#REF!+#REF!+#REF!+#REF!+#REF!+#REF!+#REF!+#REF!+#REF!+#REF!+#REF!+#REF!+#REF!+#REF!+#REF!+#REF!+#REF!+#REF!+#REF!+#REF!+#REF!+#REF!+#REF!+#REF!+#REF!+#REF!+#REF!+#REF!","v":{"$error":"#REF!"}},{"$f":"#REF!+#REF!+#REF!+#REF!+#REF!+#REF!+#REF!+#REF!+#REF!+#REF!+#REF!+#REF!+#REF!+#REF!+#REF!+#REF!+#REF!+#REF!+#REF!+#REF!+#REF!+#REF!+#REF!+#REF!+#REF!+#REF!+#REF!+#REF!+#REF!+#REF!+#REF!+#REF!+#REF!","v":{"$error":"#REF!"}},{"$f":"#REF!+#REF!+#REF!+#REF!+#REF!+#REF!+#REF!+#REF!+#REF!+#REF!+#REF!+#REF!+#REF!+#REF!+#REF!+#REF!+#REF!+#REF!+#REF!+#REF!+#REF!+#REF!+#REF!+#REF!+#REF!+#REF!+#REF!+#REF!+#REF!+#REF!+#REF!+#REF!+#REF!","v":{"$error":"#REF!"}},{"$f":"#REF!+#REF!+#REF!+#REF!+#REF!+#REF!+#REF!+#REF!+#REF!+#REF!+#REF!+#REF!+#REF!+#REF!+#REF!+#REF!+#REF!+#REF!+#REF!+#REF!+#REF!+#REF!+#REF!+#REF!+#REF!+#REF!+#REF!+#REF!+#REF!+#REF!+#REF!+#REF!+#REF!","v":{"$error":"#REF!"}},{"$f":"#REF!+#REF!+#REF!+#REF!+#REF!+#REF!+#REF!+#REF!+#REF!+#REF!+#REF!+#REF!+#REF!+#REF!+#REF!+#REF!+#REF!+#REF!+#REF!+#REF!+#REF!+#REF!+#REF!+#REF!+#REF!+#REF!+#REF!+#REF!+#REF!+#REF!+#REF!+#REF!+#REF!","v":{"$error":"#REF!"}},{"$f":"#REF!+#REF!+#REF!+#REF!+#REF!+#REF!+#REF!+#REF!+#REF!+#REF!+#REF!+#REF!+#REF!+#REF!+#REF!+#REF!+#REF!+#REF!+#REF!+#REF!+#REF!+#REF!+#REF!+#REF!+#REF!+#REF!+#REF!+#REF!+#REF!+#REF!+#REF!+#REF!+#REF!","v":{"$error":"#REF!"}},{"$f":"#REF!+#REF!+#REF!+#REF!+#REF!+#REF!+#REF!+#REF!+#REF!+#REF!+#REF!+#REF!+#REF!+#REF!+#REF!+#REF!+#REF!+#REF!+#REF!+#REF!+#REF!+#REF!+#REF!+#REF!+#REF!+#REF!+#REF!+#REF!+#REF!+#REF!+#REF!+#REF!+#REF!","v":{"$error":"#REF!"}},{"$f":"#REF!+#REF!+#REF!+#REF!+#REF!+#REF!+#REF!+#REF!+#REF!+#REF!+#REF!+#REF!+#REF!+#REF!+#REF!+#REF!+#REF!+#REF!+#REF!+#REF!+#REF!+#REF!+#REF!+#REF!+#REF!+#REF!+#REF!+#REF!+#REF!+#REF!+#REF!+#REF!+#REF!","v":{"$error":"#REF!"}},{"$f":"#REF!+#REF!+#REF!+#REF!+#REF!+#REF!+#REF!+#REF!+#REF!+#REF!+#REF!+#REF!+#REF!+#REF!+#REF!+#REF!+#REF!+#REF!+#REF!+#REF!+#REF!+#REF!+#REF!+#REF!+#REF!+#REF!+#REF!+#REF!+#REF!+#REF!+#REF!+#REF!+#REF!","v":{"$error":"#REF!"}},{"$f":"#REF!+#REF!+#REF!+#REF!+#REF!+#REF!+#REF!+#REF!+#REF!+#REF!+#REF!+#REF!+#REF!+#REF!+#REF!+#REF!+#REF!+#REF!+#REF!+#REF!+#REF!+#REF!+#REF!+#REF!+#REF!+#REF!+#REF!+#REF!+#REF!+#REF!+#REF!+#REF!+#REF!","v":{"$error":"#REF!"}},{"$f":"#REF!+#REF!+#REF!+#REF!+#REF!+#REF!+#REF!+#REF!+#REF!+#REF!+#REF!+#REF!+#REF!+#REF!+#REF!+#REF!+#REF!+#REF!+#REF!+#REF!+#REF!+#REF!+#REF!+#REF!+#REF!+#REF!+#REF!+#REF!+#REF!+#REF!+#REF!+#REF!+#REF!","v":{"$error":"#REF!"}},{"$f":"#REF!+#REF!+#REF!+#REF!+#REF!+#REF!+#REF!+#REF!+#REF!+#REF!+#REF!+#REF!+#REF!+#REF!+#REF!+#REF!+#REF!+#REF!+#REF!+#REF!+#REF!+#REF!+#REF!+#REF!+#REF!+#REF!+#REF!+#REF!+#REF!+#REF!+#REF!+#REF!+#REF!","v":{"$error":"#REF!"}},{"$f":"#REF!+#REF!+#REF!+#REF!+#REF!+#REF!+#REF!+#REF!+#REF!+#REF!+#REF!+#REF!+#REF!+#REF!+#REF!+#REF!+#REF!+#REF!+#REF!+#REF!+#REF!+#REF!+#REF!+#REF!+#REF!+#REF!+#REF!+#REF!+#REF!+#REF!+#REF!+#REF!+#REF!","v":{"$error":"#REF!"}},{"$error":"#REF!"},{"$error":"#REF!"},{"$f":"#REF!+#REF!+#REF!+#REF!+#REF!+#REF!+#REF!+#REF!+#REF!+#REF!+#REF!+#REF!+#REF!+#REF!+#REF!+#REF!+#REF!+#REF!+#REF!+#REF!+#REF!+#REF!+#REF!+#REF!+#REF!+#REF!+#REF!+#REF!+#REF!+#REF!+#REF!+#REF!+#REF!","v":{"$error":"#REF!"}},null,{"$error":"#REF!"}]
[38,"Plaquemines",{"$f":"#REF!+#REF!+#REF!+#REF!+#REF!+#REF!+#REF!+#REF!+#REF!+#REF!+#REF!+#REF!+#REF!+#REF!+#REF!+#REF!+#REF!+#REF!+#REF!+#REF!+#REF!+#REF!+#REF!+#REF!+#REF!+#REF!+#REF!+#REF!+#REF!+#REF!+#REF!+#REF!+#REF!","v":{"$error":"#REF!"}},{"$f":"'9_Per Pupil Summary'!H43","v":2560.625445166098},{"$f":"#REF!+#REF!+#REF!+#REF!+#REF!+#REF!+#REF!+#REF!+#REF!+#REF!+#REF!+#REF!+#REF!+#REF!+#REF!+#REF!+#REF!+#REF!+#REF!+#REF!+#REF!+#REF!+#REF!+#REF!+#REF!+#REF!+#REF!+#REF!+#REF!+#REF!+#REF!+#REF!+#REF!","v":{"$error":"#REF!"}},{"$f":"#REF!+#REF!+#REF!+#REF!+#REF!+#REF!+#REF!+#REF!+#REF!+#REF!+#REF!+#REF!+#REF!+#REF!+#REF!+#REF!+#REF!+#REF!+#REF!+#REF!+#REF!+#REF!+#REF!+#REF!+#REF!+#REF!+#REF!+#REF!+#REF!+#REF!+#REF!+#REF!+#REF!","v":{"$error":"#REF!"}},{"$f":"'9_Per Pupil Summary'!I43","v":281.7904370911578},{"$f":"#REF!+#REF!+#REF!+#REF!+#REF!+#REF!+#REF!+#REF!+#REF!+#REF!+#REF!+#REF!+#REF!+#REF!+#REF!+#REF!+#REF!+#REF!+#REF!+#REF!+#REF!+#REF!+#REF!+#REF!+#REF!+#REF!+#REF!+#REF!+#REF!+#REF!+#REF!+#REF!+#REF!","v":{"$error":"#REF!"}},{"$f":"#REF!+#REF!+#REF!+#REF!+#REF!+#REF!+#REF!+#REF!+#REF!+#REF!+#REF!+#REF!+#REF!+#REF!+#REF!+#REF!+#REF!+#REF!+#REF!+#REF!+#REF!+#REF!+#REF!+#REF!+#REF!+#REF!+#REF!+#REF!+#REF!+#REF!+#REF!+#REF!+#REF!","v":{"$error":"#REF!"}},{"$f":"'9_Per Pupil Summary'!J43","v":76.851937388497589},{"$f":"#REF!+#REF!+#REF!+#REF!+#REF!+#REF!+#REF!+#REF!+#REF!+#REF!+#REF!+#REF!+#REF!+#REF!+#REF!+#REF!+#REF!+#REF!+#REF!+#REF!+#REF!+#REF!+#REF!+#REF!+#REF!+#REF!+#REF!+#REF!+#REF!+#REF!+#REF!+#REF!+#REF!","v":{"$error":"#REF!"}},{"$f":"#REF!+#REF!+#REF!+#REF!+#REF!+#REF!+#REF!+#REF!+#REF!+#REF!+#REF!+#REF!+#REF!+#REF!+#REF!+#REF!+#REF!+#REF!+#REF!+#REF!+#REF!+#REF!+#REF!+#REF!+#REF!+#REF!+#REF!+#REF!+#REF!+#REF!+#REF!+#REF!+#REF!","v":{"$error":"#REF!"}},{"$f":"'9_Per Pupil Summary'!K43","v":1921.2984347124398},{"$f":"#REF!+#REF!+#REF!+#REF!+#REF!+#REF!+#REF!+#REF!+#REF!+#REF!+#REF!+#REF!+#REF!+#REF!+#REF!+#REF!+#REF!+#REF!+#REF!+#REF!+#REF!+#REF!+#REF!+#REF!+#REF!+#REF!+#REF!+#REF!+#REF!+#REF!+#REF!+#REF!+#REF!","v":{"$error":"#REF!"}},{"$f":"#REF!+#REF!+#REF!+#REF!+#REF!+#REF!+#REF!+#REF!+#REF!+#REF!+#REF!+#REF!+#REF!+#REF!+#REF!+#REF!+#REF!+#REF!+#REF!+#REF!+#REF!+#REF!+#REF!+#REF!+#REF!+#REF!+#REF!+#REF!+#REF!+#REF!+#REF!+#REF!+#REF!","v":{"$error":"#REF!"}},{"$f":"'9_Per Pupil Summary'!L43","v":768.51937388497583},{"$f":"#REF!+#REF!+#REF!+#REF!+#REF!+#REF!+#REF!+#REF!+#REF!+#REF!+#REF!+#REF!+#REF!+#REF!+#REF!+#REF!+#REF!+#REF!+#REF!+#REF!+#REF!+#REF!+#REF!+#REF!+#REF!+#REF!+#REF!+#REF!+#REF!+#REF!+#REF!+#REF!+#REF!","v":{"$error":"#REF!"}},{"$f":"#REF!+#REF!+#REF!+#REF!+#REF!+#REF!+#REF!+#REF!+#REF!+#REF!+#REF!+#REF!+#REF!+#REF!+#REF!+#REF!+#REF!+#REF!+#REF!+#REF!+#REF!+#REF!+#REF!+#REF!+#REF!+#REF!+#REF!+#REF!+#REF!+#REF!+#REF!+#REF!+#REF!","v":{"$error":"#REF!"}},{"$f":"#REF!+#REF!","v":{"$error":"#REF!"}},{"$f":"#REF!+#REF!+#REF!+#REF!+#REF!+#REF!+#REF!+#REF!+#REF!+#REF!+#REF!+#REF!+#REF!+#REF!+#REF!+#REF!+#REF!+#REF!+#REF!+#REF!+#REF!+#REF!+#REF!+#REF!+#REF!+#REF!+#REF!+#REF!+#REF!+#REF!+#REF!+#REF!+#REF!","v":{"$error":"#REF!"}},{"$f":"#REF!+#REF!+#REF!+#REF!+#REF!+#REF!+#REF!+#REF!+#REF!+#REF!+#REF!+#REF!+#REF!+#REF!+#REF!+#REF!+#REF!+#REF!+#REF!+#REF!+#REF!+#REF!+#REF!+#REF!+#REF!+#REF!+#REF!+#REF!+#REF!+#REF!+#REF!+#REF!+#REF!","v":{"$error":"#REF!"}},{"$f":"#REF!+#REF!+#REF!+#REF!+#REF!+#REF!+#REF!+#REF!+#REF!+#REF!+#REF!+#REF!+#REF!+#REF!+#REF!+#REF!+#REF!+#REF!+#REF!+#REF!+#REF!+#REF!+#REF!+#REF!+#REF!+#REF!+#REF!+#REF!+#REF!+#REF!+#REF!+#REF!+#REF!","v":{"$error":"#REF!"}},{"$f":"#REF!+#REF!+#REF!+#REF!+#REF!+#REF!+#REF!+#REF!+#REF!+#REF!+#REF!+#REF!+#REF!+#REF!+#REF!+#REF!+#REF!+#REF!+#REF!+#REF!+#REF!+#REF!+#REF!+#REF!+#REF!+#REF!+#REF!+#REF!+#REF!+#REF!+#REF!+#REF!+#REF!","v":{"$error":"#REF!"}},{"$f":"#REF!+#REF!+#REF!+#REF!+#REF!+#REF!+#REF!+#REF!+#REF!+#REF!+#REF!+#REF!+#REF!+#REF!+#REF!+#REF!+#REF!+#REF!+#REF!+#REF!+#REF!+#REF!+#REF!+#REF!+#REF!+#REF!+#REF!+#REF!+#REF!+#REF!+#REF!+#REF!+#REF!","v":{"$error":"#REF!"}},{"$f":"#REF!+#REF!+#REF!+#REF!+#REF!+#REF!+#REF!+#REF!+#REF!+#REF!+#REF!+#REF!+#REF!+#REF!+#REF!+#REF!+#REF!+#REF!+#REF!+#REF!+#REF!+#REF!+#REF!+#REF!+#REF!+#REF!+#REF!+#REF!+#REF!+#REF!+#REF!+#REF!+#REF!","v":{"$error":"#REF!"}},{"$f":"#REF!+#REF!+#REF!+#REF!+#REF!+#REF!+#REF!+#REF!+#REF!+#REF!+#REF!+#REF!+#REF!+#REF!+#REF!+#REF!+#REF!+#REF!+#REF!+#REF!+#REF!+#REF!+#REF!+#REF!+#REF!+#REF!+#REF!+#REF!+#REF!+#REF!+#REF!+#REF!+#REF!","v":{"$error":"#REF!"}},{"$f":"#REF!+#REF!+#REF!+#REF!+#REF!+#REF!+#REF!+#REF!+#REF!+#REF!+#REF!+#REF!+#REF!+#REF!+#REF!+#REF!+#REF!+#REF!+#REF!+#REF!+#REF!+#REF!+#REF!+#REF!+#REF!+#REF!+#REF!+#REF!+#REF!+#REF!+#REF!+#REF!+#REF!","v":{"$error":"#REF!"}},{"$f":"#REF!+#REF!+#REF!+#REF!+#REF!+#REF!+#REF!+#REF!+#REF!+#REF!+#REF!+#REF!+#REF!+#REF!+#REF!+#REF!+#REF!+#REF!+#REF!+#REF!+#REF!+#REF!+#REF!+#REF!+#REF!+#REF!+#REF!+#REF!+#REF!+#REF!+#REF!+#REF!+#REF!","v":{"$error":"#REF!"}},{"$f":"#REF!+#REF!+#REF!+#REF!+#REF!+#REF!+#REF!+#REF!+#REF!+#REF!+#REF!+#REF!+#REF!+#REF!+#REF!+#REF!+#REF!+#REF!+#REF!+#REF!+#REF!+#REF!+#REF!+#REF!+#REF!+#REF!+#REF!+#REF!+#REF!+#REF!+#REF!+#REF!+#REF!","v":{"$error":"#REF!"}},{"$f":"#REF!+#REF!+#REF!+#REF!+#REF!+#REF!+#REF!+#REF!+#REF!+#REF!+#REF!+#REF!+#REF!+#REF!+#REF!+#REF!+#REF!+#REF!+#REF!+#REF!+#REF!+#REF!+#REF!+#REF!+#REF!+#REF!+#REF!+#REF!+#REF!+#REF!+#REF!+#REF!+#REF!","v":{"$error":"#REF!"}},{"$f":"#REF!+#REF!+#REF!+#REF!+#REF!+#REF!+#REF!+#REF!+#REF!+#REF!+#REF!+#REF!+#REF!+#REF!+#REF!+#REF!+#REF!+#REF!+#REF!+#REF!+#REF!+#REF!+#REF!+#REF!+#REF!+#REF!+#REF!+#REF!+#REF!+#REF!+#REF!+#REF!+#REF!","v":{"$error":"#REF!"}},{"$f":"'9_Per Pupil Summary'!N43","v":19704},{"$f":"#REF!+#REF!+#REF!+#REF!+#REF!+#REF!+#REF!+#REF!+#REF!+#REF!+#REF!+#REF!+#REF!+#REF!+#REF!+#REF!+#REF!+#REF!+#REF!+#REF!+#REF!+#REF!+#REF!+#REF!+#REF!+#REF!+#REF!+#REF!+#REF!+#REF!+#REF!+#REF!+#REF!","v":{"$error":"#REF!"}},{"$f":"#REF!+#REF!+#REF!+#REF!+#REF!+#REF!+#REF!+#REF!+#REF!+#REF!+#REF!+#REF!+#REF!+#REF!+#REF!+#REF!+#REF!+#REF!+#REF!+#REF!+#REF!+#REF!+#REF!+#REF!+#REF!+#REF!+#REF!+#REF!+#REF!+#REF!+#REF!+#REF!+#REF!","v":{"$error":"#REF!"}},{"$f":"#REF!+#REF!+#REF!+#REF!+#REF!+#REF!+#REF!+#REF!+#REF!+#REF!+#REF!+#REF!+#REF!+#REF!+#REF!+#REF!+#REF!+#REF!+#REF!+#REF!+#REF!+#REF!+#REF!+#REF!+#REF!+#REF!+#REF!+#REF!+#REF!+#REF!+#REF!+#REF!+#REF!","v":{"$error":"#REF!"}},{"$f":"#REF!+#REF!+#REF!+#REF!+#REF!+#REF!+#REF!+#REF!+#REF!+#REF!+#REF!+#REF!+#REF!+#REF!+#REF!+#REF!+#REF!+#REF!+#REF!+#REF!+#REF!+#REF!+#REF!+#REF!+#REF!+#REF!+#REF!+#REF!+#REF!+#REF!+#REF!+#REF!+#REF!","v":{"$error":"#REF!"}},{"$f":"#REF!+#REF!+#REF!+#REF!+#REF!+#REF!+#REF!+#REF!+#REF!+#REF!+#REF!+#REF!+#REF!+#REF!+#REF!+#REF!+#REF!+#REF!+#REF!+#REF!+#REF!+#REF!+#REF!+#REF!+#REF!+#REF!+#REF!+#REF!+#REF!+#REF!+#REF!+#REF!+#REF!","v":{"$error":"#REF!"}},{"$f":"#REF!+#REF!+#REF!+#REF!+#REF!+#REF!+#REF!+#REF!+#REF!+#REF!+#REF!+#REF!+#REF!+#REF!+#REF!+#REF!+#REF!+#REF!+#REF!+#REF!+#REF!+#REF!+#REF!+#REF!+#REF!+#REF!+#REF!+#REF!+#REF!+#REF!+#REF!+#REF!+#REF!","v":{"$error":"#REF!"}},{"$f":"#REF!+#REF!+#REF!+#REF!+#REF!+#REF!+#REF!+#REF!+#REF!+#REF!+#REF!+#REF!+#REF!+#REF!+#REF!+#REF!+#REF!+#REF!+#REF!+#REF!+#REF!+#REF!+#REF!+#REF!+#REF!+#REF!+#REF!+#REF!+#REF!+#REF!+#REF!+#REF!+#REF!","v":{"$error":"#REF!"}},{"$f":"#REF!+#REF!+#REF!+#REF!+#REF!+#REF!+#REF!+#REF!+#REF!+#REF!+#REF!+#REF!+#REF!+#REF!+#REF!+#REF!+#REF!+#REF!+#REF!+#REF!+#REF!+#REF!+#REF!+#REF!+#REF!+#REF!+#REF!+#REF!+#REF!+#REF!+#REF!+#REF!+#REF!","v":{"$error":"#REF!"}},{"$f":"#REF!+#REF!+#REF!+#REF!+#REF!+#REF!+#REF!+#REF!+#REF!+#REF!+#REF!+#REF!+#REF!+#REF!+#REF!+#REF!+#REF!+#REF!+#REF!+#REF!+#REF!+#REF!+#REF!+#REF!+#REF!+#REF!+#REF!+#REF!+#REF!+#REF!+#REF!+#REF!+#REF!","v":{"$error":"#REF!"}},{"$f":"#REF!+#REF!+#REF!+#REF!+#REF!+#REF!+#REF!+#REF!+#REF!+#REF!+#REF!+#REF!+#REF!+#REF!+#REF!+#REF!+#REF!+#REF!+#REF!+#REF!+#REF!+#REF!+#REF!+#REF!+#REF!+#REF!+#REF!+#REF!+#REF!+#REF!+#REF!+#REF!+#REF!","v":{"$error":"#REF!"}},{"$f":"#REF!+#REF!+#REF!+#REF!+#REF!+#REF!+#REF!+#REF!+#REF!+#REF!+#REF!+#REF!+#REF!+#REF!+#REF!+#REF!+#REF!+#REF!+#REF!+#REF!+#REF!+#REF!+#REF!+#REF!+#REF!+#REF!+#REF!+#REF!+#REF!+#REF!+#REF!+#REF!+#REF!","v":{"$error":"#REF!"}},{"$f":"#REF!+#REF!+#REF!+#REF!+#REF!+#REF!+#REF!+#REF!+#REF!+#REF!+#REF!+#REF!+#REF!+#REF!+#REF!+#REF!+#REF!+#REF!+#REF!+#REF!+#REF!+#REF!+#REF!+#REF!+#REF!+#REF!+#REF!+#REF!+#REF!+#REF!+#REF!+#REF!+#REF!","v":{"$error":"#REF!"}},{"$f":"#REF!+#REF!+#REF!+#REF!+#REF!+#REF!+#REF!+#REF!+#REF!+#REF!+#REF!+#REF!+#REF!+#REF!+#REF!+#REF!+#REF!+#REF!+#REF!+#REF!+#REF!+#REF!+#REF!+#REF!+#REF!+#REF!+#REF!+#REF!+#REF!+#REF!+#REF!+#REF!+#REF!","v":{"$error":"#REF!"}},{"$f":"#REF!+#REF!+#REF!+#REF!+#REF!+#REF!+#REF!+#REF!+#REF!+#REF!+#REF!+#REF!+#REF!+#REF!+#REF!+#REF!+#REF!+#REF!+#REF!+#REF!+#REF!+#REF!+#REF!+#REF!+#REF!+#REF!+#REF!+#REF!+#REF!+#REF!+#REF!+#REF!+#REF!","v":{"$error":"#REF!"}},{"$error":"#REF!"},{"$error":"#REF!"},{"$f":"#REF!+#REF!+#REF!+#REF!+#REF!+#REF!+#REF!+#REF!+#REF!+#REF!+#REF!+#REF!+#REF!+#REF!+#REF!+#REF!+#REF!+#REF!+#REF!+#REF!+#REF!+#REF!+#REF!+#REF!+#REF!+#REF!+#REF!+#REF!+#REF!+#REF!+#REF!+#REF!+#REF!","v":{"$error":"#REF!"}},null,{"$error":"#REF!"}]
[39,"Pointe Coupee",{"$f":"#REF!+#REF!+#REF!+#REF!+#REF!+#REF!+#REF!+#REF!+#REF!+#REF!+#REF!+#REF!+#REF!+#REF!+#REF!+#REF!+#REF!+#REF!+#REF!+#REF!+#REF!+#REF!+#REF!+#REF!+#REF!+#REF!+#REF!+#REF!+#REF!+#REF!+#REF!+#REF!+#REF!","v":{"$error":"#REF!"}},{"$f":"'9_Per Pupil Summary'!H44","v":3050.3498472048968},{"$f":"#REF!+#REF!+#REF!+#REF!+#REF!+#REF!+#REF!+#REF!+#REF!+#REF!+#REF!+#REF!+#REF!+#REF!+#REF!+#REF!+#REF!+#REF!+#REF!+#REF!+#REF!+#REF!+#REF!+#REF!+#REF!+#REF!+#REF!+#REF!+#REF!+#REF!+#REF!+#REF!+#REF!","v":{"$error":"#REF!"}},{"$f":"#REF!+#REF!+#REF!+#REF!+#REF!+#REF!+#REF!+#REF!+#REF!+#REF!+#REF!+#REF!+#REF!+#REF!+#REF!+#REF!+#REF!+#REF!+#REF!+#REF!+#REF!+#REF!+#REF!+#REF!+#REF!+#REF!+#REF!+#REF!+#REF!+#REF!+#REF!+#REF!+#REF!","v":{"$error":"#REF!"}},{"$f":"'9_Per Pupil Summary'!I44","v":401.27085314306822},{"$f":"#REF!+#REF!+#REF!+#REF!+#REF!+#REF!+#REF!+#REF!+#REF!+#REF!+#REF!+#REF!+#REF!+#REF!+#REF!+#REF!+#REF!+#REF!+#REF!+#REF!+#REF!+#REF!+#REF!+#REF!+#REF!+#REF!+#REF!+#REF!+#REF!+#REF!+#REF!+#REF!+#REF!","v":{"$error":"#REF!"}},{"$f":"#REF!+#REF!+#REF!+#REF!+#REF!+#REF!+#REF!+#REF!+#REF!+#REF!+#REF!+#REF!+#REF!+#REF!+#REF!+#REF!+#REF!+#REF!+#REF!+#REF!+#REF!+#REF!+#REF!+#REF!+#REF!+#REF!+#REF!+#REF!+#REF!+#REF!+#REF!+#REF!+#REF!","v":{"$error":"#REF!"}},{"$f":"'9_Per Pupil Summary'!J44","v":109.43750540265496},{"$f":"#REF!+#REF!+#REF!+#REF!+#REF!+#REF!+#REF!+#REF!+#REF!+#REF!+#REF!+#REF!+#REF!+#REF!+#REF!+#REF!+#REF!+#REF!+#REF!+#REF!+#REF!+#REF!+#REF!+#REF!+#REF!+#REF!+#REF!+#REF!+#REF!+#REF!+#REF!+#REF!+#REF!","v":{"$error":"#REF!"}},{"$f":"#REF!+#REF!+#REF!+#REF!+#REF!+#REF!+#REF!+#REF!+#REF!+#REF!+#REF!+#REF!+#REF!+#REF!+#REF!+#REF!+#REF!+#REF!+#REF!+#REF!+#REF!+#REF!+#REF!+#REF!+#REF!+#REF!+#REF!+#REF!+#REF!+#REF!+#REF!+#REF!+#REF!","v":{"$error":"#REF!"}},{"$f":"'9_Per Pupil Summary'!K44","v":2735.9376350663742},{"$f":"#REF!+#REF!+#REF!+#REF!+#REF!+#REF!+#REF!+#REF!+#REF!+#REF!+#REF!+#REF!+#REF!+#REF!+#REF!+#REF!+#REF!+#REF!+#REF!+#REF!+#REF!+#REF!+#REF!+#REF!+#REF!+#REF!+#REF!+#REF!+#REF!+#REF!+#REF!+#REF!+#REF!","v":{"$error":"#REF!"}},{"$f":"#REF!+#REF!+#REF!+#REF!+#REF!+#REF!+#REF!+#REF!+#REF!+#REF!+#REF!+#REF!+#REF!+#REF!+#REF!+#REF!+#REF!+#REF!+#REF!+#REF!+#REF!+#REF!+#REF!+#REF!+#REF!+#REF!+#REF!+#REF!+#REF!+#REF!+#REF!+#REF!+#REF!","v":{"$error":"#REF!"}},{"$f":"'9_Per Pupil Summary'!L44","v":1094.3750540265496},{"$f":"#REF!+#REF!+#REF!+#REF!+#REF!+#REF!+#REF!+#REF!+#REF!+#REF!+#REF!+#REF!+#REF!+#REF!+#REF!+#REF!+#REF!+#REF!+#REF!+#REF!+#REF!+#REF!+#REF!+#REF!+#REF!+#REF!+#REF!+#REF!+#REF!+#REF!+#REF!+#REF!+#REF!","v":{"$error":"#REF!"}},{"$f":"#REF!+#REF!+#REF!+#REF!+#REF!+#REF!+#REF!+#REF!+#REF!+#REF!+#REF!+#REF!+#REF!+#REF!+#REF!+#REF!+#REF!+#REF!+#REF!+#REF!+#REF!+#REF!+#REF!+#REF!+#REF!+#REF!+#REF!+#REF!+#REF!+#REF!+#REF!+#REF!+#REF!","v":{"$error":"#REF!"}},{"$f":"#REF!+#REF!","v":{"$error":"#REF!"}},{"$f":"#REF!+#REF!+#REF!+#REF!+#REF!+#REF!+#REF!+#REF!+#REF!+#REF!+#REF!+#REF!+#REF!+#REF!+#REF!+#REF!+#REF!+#REF!+#REF!+#REF!+#REF!+#REF!+#REF!+#REF!+#REF!+#REF!+#REF!+#REF!+#REF!+#REF!+#REF!+#REF!+#REF!","v":{"$error":"#REF!"}},{"$f":"#REF!+#REF!+#REF!+#REF!+#REF!+#REF!+#REF!+#REF!+#REF!+#REF!+#REF!+#REF!+#REF!+#REF!+#REF!+#REF!+#REF!+#REF!+#REF!+#REF!+#REF!+#REF!+#REF!+#REF!+#REF!+#REF!+#REF!+#REF!+#REF!+#REF!+#REF!+#REF!+#REF!","v":{"$error":"#REF!"}},{"$f":"#REF!+#REF!+#REF!+#REF!+#REF!+#REF!+#REF!+#REF!+#REF!+#REF!+#REF!+#REF!+#REF!+#REF!+#REF!+#REF!+#REF!+#REF!+#REF!+#REF!+#REF!+#REF!+#REF!+#REF!+#REF!+#REF!+#REF!+#REF!+#REF!+#REF!+#REF!+#REF!+#REF!","v":{"$error":"#REF!"}},{"$f":"#REF!+#REF!+#REF!+#REF!+#REF!+#REF!+#REF!+#REF!+#REF!+#REF!+#REF!+#REF!+#REF!+#REF!+#REF!+#REF!+#REF!+#REF!+#REF!+#REF!+#REF!+#REF!+#REF!+#REF!+#REF!+#REF!+#REF!+#REF!+#REF!+#REF!+#REF!+#REF!+#REF!","v":{"$error":"#REF!"}},{"$f":"#REF!+#REF!+#REF!+#REF!+#REF!+#REF!+#REF!+#REF!+#REF!+#REF!+#REF!+#REF!+#REF!+#REF!+#REF!+#REF!+#REF!+#REF!+#REF!+#REF!+#REF!+#REF!+#REF!+#REF!+#REF!+#REF!+#REF!+#REF!+#REF!+#REF!+#REF!+#REF!+#REF!","v":{"$error":"#REF!"}},{"$f":"#REF!+#REF!+#REF!+#REF!+#REF!+#REF!+#REF!+#REF!+#REF!+#REF!+#REF!+#REF!+#REF!+#REF!+#REF!+#REF!+#REF!+#REF!+#REF!+#REF!+#REF!+#REF!+#REF!+#REF!+#REF!+#REF!+#REF!+#REF!+#REF!+#REF!+#REF!+#REF!+#REF!","v":{"$error":"#REF!"}},{"$f":"#REF!+#REF!+#REF!+#REF!+#REF!+#REF!+#REF!+#REF!+#REF!+#REF!+#REF!+#REF!+#REF!+#REF!+#REF!+#REF!+#REF!+#REF!+#REF!+#REF!+#REF!+#REF!+#REF!+#REF!+#REF!+#REF!+#REF!+#REF!+#REF!+#REF!+#REF!+#REF!+#REF!","v":{"$error":"#REF!"}},{"$f":"#REF!+#REF!+#REF!+#REF!+#REF!+#REF!+#REF!+#REF!+#REF!+#REF!+#REF!+#REF!+#REF!+#REF!+#REF!+#REF!+#REF!+#REF!+#REF!+#REF!+#REF!+#REF!+#REF!+#REF!+#REF!+#REF!+#REF!+#REF!+#REF!+#REF!+#REF!+#REF!+#REF!","v":{"$error":"#REF!"}},{"$f":"#REF!+#REF!+#REF!+#REF!+#REF!+#REF!+#REF!+#REF!+#REF!+#REF!+#REF!+#REF!+#REF!+#REF!+#REF!+#REF!+#REF!+#REF!+#REF!+#REF!+#REF!+#REF!+#REF!+#REF!+#REF!+#REF!+#REF!+#REF!+#REF!+#REF!+#REF!+#REF!+#REF!","v":{"$error":"#REF!"}},{"$f":"#REF!+#REF!+#REF!+#REF!+#REF!+#REF!+#REF!+#REF!+#REF!+#REF!+#REF!+#REF!+#REF!+#REF!+#REF!+#REF!+#REF!+#REF!+#REF!+#REF!+#REF!+#REF!+#REF!+#REF!+#REF!+#REF!+#REF!+#REF!+#REF!+#REF!+#REF!+#REF!+#REF!","v":{"$error":"#REF!"}},{"$f":"#REF!+#REF!+#REF!+#REF!+#REF!+#REF!+#REF!+#REF!+#REF!+#REF!+#REF!+#REF!+#REF!+#REF!+#REF!+#REF!+#REF!+#REF!+#REF!+#REF!+#REF!+#REF!+#REF!+#REF!+#REF!+#REF!+#REF!+#REF!+#REF!+#REF!+#REF!+#REF!+#REF!","v":{"$error":"#REF!"}},{"$f":"#REF!+#REF!+#REF!+#REF!+#REF!+#REF!+#REF!+#REF!+#REF!+#REF!+#REF!+#REF!+#REF!+#REF!+#REF!+#REF!+#REF!+#REF!+#REF!+#REF!+#REF!+#REF!+#REF!+#REF!+#REF!+#REF!+#REF!+#REF!+#REF!+#REF!+#REF!+#REF!+#REF!","v":{"$error":"#REF!"}},{"$f":"'9_Per Pupil Summary'!N44","v":9767},{"$f":"#REF!+#REF!+#REF!+#REF!+#REF!+#REF!+#REF!+#REF!+#REF!+#REF!+#REF!+#REF!+#REF!+#REF!+#REF!+#REF!+#REF!+#REF!+#REF!+#REF!+#REF!+#REF!+#REF!+#REF!+#REF!+#REF!+#REF!+#REF!+#REF!+#REF!+#REF!+#REF!+#REF!","v":{"$error":"#REF!"}},{"$f":"#REF!+#REF!+#REF!+#REF!+#REF!+#REF!+#REF!+#REF!+#REF!+#REF!+#REF!+#REF!+#REF!+#REF!+#REF!+#REF!+#REF!+#REF!+#REF!+#REF!+#REF!+#REF!+#REF!+#REF!+#REF!+#REF!+#REF!+#REF!+#REF!+#REF!+#REF!+#REF!+#REF!","v":{"$error":"#REF!"}},{"$f":"#REF!+#REF!+#REF!+#REF!+#REF!+#REF!+#REF!+#REF!+#REF!+#REF!+#REF!+#REF!+#REF!+#REF!+#REF!+#REF!+#REF!+#REF!+#REF!+#REF!+#REF!+#REF!+#REF!+#REF!+#REF!+#REF!+#REF!+#REF!+#REF!+#REF!+#REF!+#REF!+#REF!","v":{"$error":"#REF!"}},{"$f":"#REF!+#REF!+#REF!+#REF!+#REF!+#REF!+#REF!+#REF!+#REF!+#REF!+#REF!+#REF!+#REF!+#REF!+#REF!+#REF!+#REF!+#REF!+#REF!+#REF!+#REF!+#REF!+#REF!+#REF!+#REF!+#REF!+#REF!+#REF!+#REF!+#REF!+#REF!+#REF!+#REF!","v":{"$error":"#REF!"}},{"$f":"#REF!+#REF!+#REF!+#REF!+#REF!+#REF!+#REF!+#REF!+#REF!+#REF!+#REF!+#REF!+#REF!+#REF!+#REF!+#REF!+#REF!+#REF!+#REF!+#REF!+#REF!+#REF!+#REF!+#REF!+#REF!+#REF!+#REF!+#REF!+#REF!+#REF!+#REF!+#REF!+#REF!","v":{"$error":"#REF!"}},{"$f":"#REF!+#REF!+#REF!+#REF!+#REF!+#REF!+#REF!+#REF!+#REF!+#REF!+#REF!+#REF!+#REF!+#REF!+#REF!+#REF!+#REF!+#REF!+#REF!+#REF!+#REF!+#REF!+#REF!+#REF!+#REF!+#REF!+#REF!+#REF!+#REF!+#REF!+#REF!+#REF!+#REF!","v":{"$error":"#REF!"}},{"$f":"#REF!+#REF!+#REF!+#REF!+#REF!+#REF!+#REF!+#REF!+#REF!+#REF!+#REF!+#REF!+#REF!+#REF!+#REF!+#REF!+#REF!+#REF!+#REF!+#REF!+#REF!+#REF!+#REF!+#REF!+#REF!+#REF!+#REF!+#REF!+#REF!+#REF!+#REF!+#REF!+#REF!","v":{"$error":"#REF!"}},{"$f":"#REF!+#REF!+#REF!+#REF!+#REF!+#REF!+#REF!+#REF!+#REF!+#REF!+#REF!+#REF!+#REF!+#REF!+#REF!+#REF!+#REF!+#REF!+#REF!+#REF!+#REF!+#REF!+#REF!+#REF!+#REF!+#REF!+#REF!+#REF!+#REF!+#REF!+#REF!+#REF!+#REF!","v":{"$error":"#REF!"}},{"$f":"#REF!+#REF!+#REF!+#REF!+#REF!+#REF!+#REF!+#REF!+#REF!+#REF!+#REF!+#REF!+#REF!+#REF!+#REF!+#REF!+#REF!+#REF!+#REF!+#REF!+#REF!+#REF!+#REF!+#REF!+#REF!+#REF!+#REF!+#REF!+#REF!+#REF!+#REF!+#REF!+#REF!","v":{"$error":"#REF!"}},{"$f":"#REF!+#REF!+#REF!+#REF!+#REF!+#REF!+#REF!+#REF!+#REF!+#REF!+#REF!+#REF!+#REF!+#REF!+#REF!+#REF!+#REF!+#REF!+#REF!+#REF!+#REF!+#REF!+#REF!+#REF!+#REF!+#REF!+#REF!+#REF!+#REF!+#REF!+#REF!+#REF!+#REF!","v":{"$error":"#REF!"}},{"$f":"#REF!+#REF!+#REF!+#REF!+#REF!+#REF!+#REF!+#REF!+#REF!+#REF!+#REF!+#REF!+#REF!+#REF!+#REF!+#REF!+#REF!+#REF!+#REF!+#REF!+#REF!+#REF!+#REF!+#REF!+#REF!+#REF!+#REF!+#REF!+#REF!+#REF!+#REF!+#REF!+#REF!","v":{"$error":"#REF!"}},{"$f":"#REF!+#REF!+#REF!+#REF!+#REF!+#REF!+#REF!+#REF!+#REF!+#REF!+#REF!+#REF!+#REF!+#REF!+#REF!+#REF!+#REF!+#REF!+#REF!+#REF!+#REF!+#REF!+#REF!+#REF!+#REF!+#REF!+#REF!+#REF!+#REF!+#REF!+#REF!+#REF!+#REF!","v":{"$error":"#REF!"}},{"$f":"#REF!+#REF!+#REF!+#REF!+#REF!+#REF!+#REF!+#REF!+#REF!+#REF!+#REF!+#REF!+#REF!+#REF!+#REF!+#REF!+#REF!+#REF!+#REF!+#REF!+#REF!+#REF!+#REF!+#REF!+#REF!+#REF!+#REF!+#REF!+#REF!+#REF!+#REF!+#REF!+#REF!","v":{"$error":"#REF!"}},{"$f":"#REF!+#REF!+#REF!+#REF!+#REF!+#REF!+#REF!+#REF!+#REF!+#REF!+#REF!+#REF!+#REF!+#REF!+#REF!+#REF!+#REF!+#REF!+#REF!+#REF!+#REF!+#REF!+#REF!+#REF!+#REF!+#REF!+#REF!+#REF!+#REF!+#REF!+#REF!+#REF!+#REF!","v":{"$error":"#REF!"}},{"$error":"#REF!"},{"$error":"#REF!"},{"$f":"#REF!+#REF!+#REF!+#REF!+#REF!+#REF!+#REF!+#REF!+#REF!+#REF!+#REF!+#REF!+#REF!+#REF!+#REF!+#REF!+#REF!+#REF!+#REF!+#REF!+#REF!+#REF!+#REF!+#REF!+#REF!+#REF!+#REF!+#REF!+#REF!+#REF!+#REF!+#REF!+#REF!","v":{"$error":"#REF!"}},null,{"$error":"#REF!"}]
[40,"Rapides",{"$f":"#REF!+#REF!+#REF!+#REF!+#REF!+#REF!+#REF!+#REF!+#REF!+#REF!+#REF!+#REF!+#REF!+#REF!+#REF!+#REF!+#REF!+#REF!+#REF!+#REF!+#REF!+#REF!+#REF!+#REF!+#REF!+#REF!+#REF!+#REF!+#REF!+#REF!+#REF!+#REF!+#REF!","v":{"$error":"#REF!"}},{"$f":"'9_Per Pupil Summary'!H45","v":4850.4504270292355},{"$f":"#REF!+#REF!+#REF!+#REF!+#REF!+#REF!+#REF!+#REF!+#REF!+#REF!+#REF!+#REF!+#REF!+#REF!+#REF!+#REF!+#REF!+#REF!+#REF!+#REF!+#REF!+#REF!+#REF!+#REF!+#REF!+#REF!+#REF!+#REF!+#REF!+#REF!+#REF!+#REF!+#REF!","v":{"$error":"#REF!"}},{"$f":"#REF!+#REF!+#REF!+#REF!+#REF!+#REF!+#REF!+#REF!+#REF!+#REF!+#REF!+#REF!+#REF!+#REF!+#REF!+#REF!+#REF!+#REF!+#REF!+#REF!+#REF!+#REF!+#REF!+#REF!+#REF!+#REF!+#REF!+#REF!+#REF!+#REF!+#REF!+#REF!+#REF!","v":{"$error":"#REF!"}},{"$f":"'9_Per Pupil Summary'!I45","v":643.33064538013207},{"$f":"#REF!+#REF!+#REF!+#REF!+#REF!+#REF!+#REF!+#REF!+#REF!+#REF!+#REF!+#REF!+#REF!+#REF!+#REF!+#REF!+#REF!+#REF!+#REF!+#REF!+#REF!+#REF!+#REF!+#REF!+#REF!+#REF!+#REF!+#REF!+#REF!+#REF!+#REF!+#REF!+#REF!","v":{"$error":"#REF!"}},{"$f":"#REF!+#REF!+#REF!+#REF!+#REF!+#REF!+#REF!+#REF!+#REF!+#REF!+#REF!+#REF!+#REF!+#REF!+#REF!+#REF!+#REF!+#REF!+#REF!+#REF!+#REF!+#REF!+#REF!+#REF!+#REF!+#REF!+#REF!+#REF!+#REF!+#REF!+#REF!+#REF!+#REF!","v":{"$error":"#REF!"}},{"$f":"'9_Per Pupil Summary'!J45","v":175.45381237639967},{"$f":"#REF!+#REF!+#REF!+#REF!+#REF!+#REF!+#REF!+#REF!+#REF!+#REF!+#REF!+#REF!+#REF!+#REF!+#REF!+#REF!+#REF!+#REF!+#REF!+#REF!+#REF!+#REF!+#REF!+#REF!+#REF!+#REF!+#REF!+#REF!+#REF!+#REF!+#REF!+#REF!+#REF!","v":{"$error":"#REF!"}},{"$f":"#REF!+#REF!+#REF!+#REF!+#REF!+#REF!+#REF!+#REF!+#REF!+#REF!+#REF!+#REF!+#REF!+#REF!+#REF!+#REF!+#REF!+#REF!+#REF!+#REF!+#REF!+#REF!+#REF!+#REF!+#REF!+#REF!+#REF!+#REF!+#REF!+#REF!+#REF!+#REF!+#REF!","v":{"$error":"#REF!"}},{"$f":"'9_Per Pupil Summary'!K45","v":4386.3453094099914},{"$f":"#REF!+#REF!+#REF!+#REF!+#REF!+#REF!+#REF!+#REF!+#REF!+#REF!+#REF!+#REF!+#REF!+#REF!+#REF!+#REF!+#REF!+#REF!+#REF!+#REF!+#REF!+#REF!+#REF!+#REF!+#REF!+#REF!+#REF!+#REF!+#REF!+#REF!+#REF!+#REF!+#REF!","v":{"$error":"#REF!"}},{"$f":"#REF!+#REF!+#REF!+#REF!+#REF!+#REF!+#REF!+#REF!+#REF!+#REF!+#REF!+#REF!+#REF!+#REF!+#REF!+#REF!+#REF!+#REF!+#REF!+#REF!+#REF!+#REF!+#REF!+#REF!+#REF!+#REF!+#REF!+#REF!+#REF!+#REF!+#REF!+#REF!+#REF!","v":{"$error":"#REF!"}},{"$f":"'9_Per Pupil Summary'!L45","v":1754.5381237639965},{"$f":"#REF!+#REF!+#REF!+#REF!+#REF!+#REF!+#REF!+#REF!+#REF!+#REF!+#REF!+#REF!+#REF!+#REF!+#REF!+#REF!+#REF!+#REF!+#REF!+#REF!+#REF!+#REF!+#REF!+#REF!+#REF!+#REF!+#REF!+#REF!+#REF!+#REF!+#REF!+#REF!+#REF!","v":{"$error":"#REF!"}},{"$f":"#REF!+#REF!+#REF!+#REF!+#REF!+#REF!+#REF!+#REF!+#REF!+#REF!+#REF!+#REF!+#REF!+#REF!+#REF!+#REF!+#REF!+#REF!+#REF!+#REF!+#REF!+#REF!+#REF!+#REF!+#REF!+#REF!+#REF!+#REF!+#REF!+#REF!+#REF!+#REF!+#REF!","v":{"$error":"#REF!"}},{"$f":"#REF!+#REF!","v":{"$error":"#REF!"}},{"$f":"#REF!+#REF!+#REF!+#REF!+#REF!+#REF!+#REF!+#REF!+#REF!+#REF!+#REF!+#REF!+#REF!+#REF!+#REF!+#REF!+#REF!+#REF!+#REF!+#REF!+#REF!+#REF!+#REF!+#REF!+#REF!+#REF!+#REF!+#REF!+#REF!+#REF!+#REF!+#REF!+#REF!","v":{"$error":"#REF!"}},{"$f":"#REF!+#REF!+#REF!+#REF!+#REF!+#REF!+#REF!+#REF!+#REF!+#REF!+#REF!+#REF!+#REF!+#REF!+#REF!+#REF!+#REF!+#REF!+#REF!+#REF!+#REF!+#REF!+#REF!+#REF!+#REF!+#REF!+#REF!+#REF!+#REF!+#REF!+#REF!+#REF!+#REF!","v":{"$error":"#REF!"}},{"$f":"#REF!+#REF!+#REF!+#REF!+#REF!+#REF!+#REF!+#REF!+#REF!+#REF!+#REF!+#REF!+#REF!+#REF!+#REF!+#REF!+#REF!+#REF!+#REF!+#REF!+#REF!+#REF!+#REF!+#REF!+#REF!+#REF!+#REF!+#REF!+#REF!+#REF!+#REF!+#REF!+#REF!","v":{"$error":"#REF!"}},{"$f":"#REF!+#REF!+#REF!+#REF!+#REF!+#REF!+#REF!+#REF!+#REF!+#REF!+#REF!+#REF!+#REF!+#REF!+#REF!+#REF!+#REF!+#REF!+#REF!+#REF!+#REF!+#REF!+#REF!+#REF!+#REF!+#REF!+#REF!+#REF!+#REF!+#REF!+#REF!+#REF!+#REF!","v":{"$error":"#REF!"}},{"$f":"#REF!+#REF!+#REF!+#REF!+#REF!+#REF!+#REF!+#REF!+#REF!+#REF!+#REF!+#REF!+#REF!+#REF!+#REF!+#REF!+#REF!+#REF!+#REF!+#REF!+#REF!+#REF!+#REF!+#REF!+#REF!+#REF!+#REF!+#REF!+#REF!+#REF!+#REF!+#REF!+#REF!","v":{"$error":"#REF!"}},{"$f":"#REF!+#REF!+#REF!+#REF!+#REF!+#REF!+#REF!+#REF!+#REF!+#REF!+#REF!+#REF!+#REF!+#REF!+#REF!+#REF!+#REF!+#REF!+#REF!+#REF!+#REF!+#REF!+#REF!+#REF!+#REF!+#REF!+#REF!+#REF!+#REF!+#REF!+#REF!+#REF!+#REF!","v":{"$error":"#REF!"}},{"$f":"#REF!+#REF!+#REF!+#REF!+#REF!+#REF!+#REF!+#REF!+#REF!+#REF!+#REF!+#REF!+#REF!+#REF!+#REF!+#REF!+#REF!+#REF!+#REF!+#REF!+#REF!+#REF!+#REF!+#REF!+#REF!+#REF!+#REF!+#REF!+#REF!+#REF!+#REF!+#REF!+#REF!","v":{"$error":"#REF!"}},{"$f":"#REF!+#REF!+#REF!+#REF!+#REF!+#REF!+#REF!+#REF!+#REF!+#REF!+#REF!+#REF!+#REF!+#REF!+#REF!+#REF!+#REF!+#REF!+#REF!+#REF!+#REF!+#REF!+#REF!+#REF!+#REF!+#REF!+#REF!+#REF!+#REF!+#REF!+#REF!+#REF!+#REF!","v":{"$error":"#REF!"}},{"$f":"#REF!+#REF!+#REF!+#REF!+#REF!+#REF!+#REF!+#REF!+#REF!+#REF!+#REF!+#REF!+#REF!+#REF!+#REF!+#REF!+#REF!+#REF!+#REF!+#REF!+#REF!+#REF!+#REF!+#REF!+#REF!+#REF!+#REF!+#REF!+#REF!+#REF!+#REF!+#REF!+#REF!","v":{"$error":"#REF!"}},{"$f":"#REF!+#REF!+#REF!+#REF!+#REF!+#REF!+#REF!+#REF!+#REF!+#REF!+#REF!+#REF!+#REF!+#REF!+#REF!+#REF!+#REF!+#REF!+#REF!+#REF!+#REF!+#REF!+#REF!+#REF!+#REF!+#REF!+#REF!+#REF!+#REF!+#REF!+#REF!+#REF!+#REF!","v":{"$error":"#REF!"}},{"$f":"#REF!+#REF!+#REF!+#REF!+#REF!+#REF!+#REF!+#REF!+#REF!+#REF!+#REF!+#REF!+#REF!+#REF!+#REF!+#REF!+#REF!+#REF!+#REF!+#REF!+#REF!+#REF!+#REF!+#REF!+#REF!+#REF!+#REF!+#REF!+#REF!+#REF!+#REF!+#REF!+#REF!","v":{"$error":"#REF!"}},{"$f":"#REF!+#REF!+#REF!+#REF!+#REF!+#REF!+#REF!+#REF!+#REF!+#REF!+#REF!+#REF!+#REF!+#REF!+#REF!+#REF!+#REF!+#REF!+#REF!+#REF!+#REF!+#REF!+#REF!+#REF!+#REF!+#REF!+#REF!+#REF!+#REF!+#REF!+#REF!+#REF!+#REF!","v":{"$error":"#REF!"}},{"$f":"'9_Per Pupil Summary'!N45","v":5781},{"$f":"#REF!+#REF!+#REF!+#REF!+#REF!+#REF!+#REF!+#REF!+#REF!+#REF!+#REF!+#REF!+#REF!+#REF!+#REF!+#REF!+#REF!+#REF!+#REF!+#REF!+#REF!+#REF!+#REF!+#REF!+#REF!+#REF!+#REF!+#REF!+#REF!+#REF!+#REF!+#REF!+#REF!","v":{"$error":"#REF!"}},{"$f":"#REF!+#REF!+#REF!+#REF!+#REF!+#REF!+#REF!+#REF!+#REF!+#REF!+#REF!+#REF!+#REF!+#REF!+#REF!+#REF!+#REF!+#REF!+#REF!+#REF!+#REF!+#REF!+#REF!+#REF!+#REF!+#REF!+#REF!+#REF!+#REF!+#REF!+#REF!+#REF!+#REF!","v":{"$error":"#REF!"}},{"$f":"#REF!+#REF!+#REF!+#REF!+#REF!+#REF!+#REF!+#REF!+#REF!+#REF!+#REF!+#REF!+#REF!+#REF!+#REF!+#REF!+#REF!+#REF!+#REF!+#REF!+#REF!+#REF!+#REF!+#REF!+#REF!+#REF!+#REF!+#REF!+#REF!+#REF!+#REF!+#REF!+#REF!","v":{"$error":"#REF!"}},{"$f":"#REF!+#REF!+#REF!+#REF!+#REF!+#REF!+#REF!+#REF!+#REF!+#REF!+#REF!+#REF!+#REF!+#REF!+#REF!+#REF!+#REF!+#REF!+#REF!+#REF!+#REF!+#REF!+#REF!+#REF!+#REF!+#REF!+#REF!+#REF!+#REF!+#REF!+#REF!+#REF!+#REF!","v":{"$error":"#REF!"}},{"$f":"#REF!+#REF!+#REF!+#REF!+#REF!+#REF!+#REF!+#REF!+#REF!+#REF!+#REF!+#REF!+#REF!+#REF!+#REF!+#REF!+#REF!+#REF!+#REF!+#REF!+#REF!+#REF!+#REF!+#REF!+#REF!+#REF!+#REF!+#REF!+#REF!+#REF!+#REF!+#REF!+#REF!","v":{"$error":"#REF!"}},{"$f":"#REF!+#REF!+#REF!+#REF!+#REF!+#REF!+#REF!+#REF!+#REF!+#REF!+#REF!+#REF!+#REF!+#REF!+#REF!+#REF!+#REF!+#REF!+#REF!+#REF!+#REF!+#REF!+#REF!+#REF!+#REF!+#REF!+#REF!+#REF!+#REF!+#REF!+#REF!+#REF!+#REF!","v":{"$error":"#REF!"}},{"$f":"#REF!+#REF!+#REF!+#REF!+#REF!+#REF!+#REF!+#REF!+#REF!+#REF!+#REF!+#REF!+#REF!+#REF!+#REF!+#REF!+#REF!+#REF!+#REF!+#REF!+#REF!+#REF!+#REF!+#REF!+#REF!+#REF!+#REF!+#REF!+#REF!+#REF!+#REF!+#REF!+#REF!","v":{"$error":"#REF!"}},{"$f":"#REF!+#REF!+#REF!+#REF!+#REF!+#REF!+#REF!+#REF!+#REF!+#REF!+#REF!+#REF!+#REF!+#REF!+#REF!+#REF!+#REF!+#REF!+#REF!+#REF!+#REF!+#REF!+#REF!+#REF!+#REF!+#REF!+#REF!+#REF!+#REF!+#REF!+#REF!+#REF!+#REF!","v":{"$error":"#REF!"}},{"$f":"#REF!+#REF!+#REF!+#REF!+#REF!+#REF!+#REF!+#REF!+#REF!+#REF!+#REF!+#REF!+#REF!+#REF!+#REF!+#REF!+#REF!+#REF!+#REF!+#REF!+#REF!+#REF!+#REF!+#REF!+#REF!+#REF!+#REF!+#REF!+#REF!+#REF!+#REF!+#REF!+#REF!","v":{"$error":"#REF!"}},{"$f":"#REF!+#REF!+#REF!+#REF!+#REF!+#REF!+#REF!+#REF!+#REF!+#REF!+#REF!+#REF!+#REF!+#REF!+#REF!+#REF!+#REF!+#REF!+#REF!+#REF!+#REF!+#REF!+#REF!+#REF!+#REF!+#REF!+#REF!+#REF!+#REF!+#REF!+#REF!+#REF!+#REF!","v":{"$error":"#REF!"}},{"$f":"#REF!+#REF!+#REF!+#REF!+#REF!+#REF!+#REF!+#REF!+#REF!+#REF!+#REF!+#REF!+#REF!+#REF!+#REF!+#REF!+#REF!+#REF!+#REF!+#REF!+#REF!+#REF!+#REF!+#REF!+#REF!+#REF!+#REF!+#REF!+#REF!+#REF!+#REF!+#REF!+#REF!","v":{"$error":"#REF!"}},{"$f":"#REF!+#REF!+#REF!+#REF!+#REF!+#REF!+#REF!+#REF!+#REF!+#REF!+#REF!+#REF!+#REF!+#REF!+#REF!+#REF!+#REF!+#REF!+#REF!+#REF!+#REF!+#REF!+#REF!+#REF!+#REF!+#REF!+#REF!+#REF!+#REF!+#REF!+#REF!+#REF!+#REF!","v":{"$error":"#REF!"}},{"$f":"#REF!+#REF!+#REF!+#REF!+#REF!+#REF!+#REF!+#REF!+#REF!+#REF!+#REF!+#REF!+#REF!+#REF!+#REF!+#REF!+#REF!+#REF!+#REF!+#REF!+#REF!+#REF!+#REF!+#REF!+#REF!+#REF!+#REF!+#REF!+#REF!+#REF!+#REF!+#REF!+#REF!","v":{"$error":"#REF!"}},{"$f":"#REF!+#REF!+#REF!+#REF!+#REF!+#REF!+#REF!+#REF!+#REF!+#REF!+#REF!+#REF!+#REF!+#REF!+#REF!+#REF!+#REF!+#REF!+#REF!+#REF!+#REF!+#REF!+#REF!+#REF!+#REF!+#REF!+#REF!+#REF!+#REF!+#REF!+#REF!+#REF!+#REF!","v":{"$error":"#REF!"}},{"$error":"#REF!"},{"$error":"#REF!"},{"$f":"#REF!+#REF!+#REF!+#REF!+#REF!+#REF!+#REF!+#REF!+#REF!+#REF!+#REF!+#REF!+#REF!+#REF!+#REF!+#REF!+#REF!+#REF!+#REF!+#REF!+#REF!+#REF!+#REF!+#REF!+#REF!+#REF!+#REF!+#REF!+#REF!+#REF!+#REF!+#REF!+#REF!","v":{"$error":"#REF!"}},null,{"$error":"#REF!"}]
[41,"Red River",{"$f":"#REF!+#REF!+#REF!+#REF!+#REF!+#REF!+#REF!+#REF!+#REF!+#REF!+#REF!+#REF!+#REF!+#REF!+#REF!+#REF!+#REF!+#REF!+#REF!+#REF!+#REF!+#REF!+#REF!+#REF!+#REF!+#REF!+#REF!+#REF!+#REF!+#REF!+#REF!+#REF!+#REF!","v":{"$error":"#REF!"}},{"$f":"'9_Per Pupil Summary'!H46","v":2703.6855851268319},{"$f":"#REF!+#REF!+#REF!+#REF!+#REF!+#REF!+#REF!+#REF!+#REF!+#REF!+#REF!+#REF!+#REF!+#REF!+#REF!+#REF!+#REF!+#REF!+#REF!+#REF!+#REF!+#REF!+#REF!+#REF!+#REF!+#REF!+#REF!+#REF!+#REF!+#REF!+#REF!+#REF!+#REF!","v":{"$error":"#REF!"}},{"$f":"#REF!+#REF!+#REF!+#REF!+#REF!+#REF!+#REF!+#REF!+#REF!+#REF!+#REF!+#REF!+#REF!+#REF!+#REF!+#REF!+#REF!+#REF!+#REF!+#REF!+#REF!+#REF!+#REF!+#REF!+#REF!+#REF!+#REF!+#REF!+#REF!+#REF!+#REF!+#REF!+#REF!","v":{"$error":"#REF!"}},{"$f":"'9_Per Pupil Summary'!I46","v":361.79339156574082},{"$f":"#REF!+#REF!+#REF!+#REF!+#REF!+#REF!+#REF!+#REF!+#REF!+#REF!+#REF!+#REF!+#REF!+#REF!+#REF!+#REF!+#REF!+#REF!+#REF!+#REF!+#REF!+#REF!+#REF!+#REF!+#REF!+#REF!+#REF!+#REF!+#REF!+#REF!+#REF!+#REF!+#REF!","v":{"$error":"#REF!"}},{"$f":"#REF!+#REF!+#REF!+#REF!+#REF!+#REF!+#REF!+#REF!+#REF!+#REF!+#REF!+#REF!+#REF!+#REF!+#REF!+#REF!+#REF!+#REF!+#REF!+#REF!+#REF!+#REF!+#REF!+#REF!+#REF!+#REF!+#REF!+#REF!+#REF!+#REF!+#REF!+#REF!+#REF!","v":{"$error":"#REF!"}},{"$f":"'9_Per Pupil Summary'!J46","v":98.670924972474765},{"$f":"#REF!+#REF!+#REF!+#REF!+#REF!+#REF!+#REF!+#REF!+#REF!+#REF!+#REF!+#REF!+#REF!+#REF!+#REF!+#REF!+#REF!+#REF!+#REF!+#REF!+#REF!+#REF!+#REF!+#REF!+#REF!+#REF!+#REF!+#REF!+#REF!+#REF!+#REF!+#REF!+#REF!","v":{"$error":"#REF!"}},{"$f":"#REF!+#REF!+#REF!+#REF!+#REF!+#REF!+#REF!+#REF!+#REF!+#REF!+#REF!+#REF!+#REF!+#REF!+#REF!+#REF!+#REF!+#REF!+#REF!+#REF!+#REF!+#REF!+#REF!+#REF!+#REF!+#REF!+#REF!+#REF!+#REF!+#REF!+#REF!+#REF!+#REF!","v":{"$error":"#REF!"}},{"$f":"'9_Per Pupil Summary'!K46","v":2466.7731243118697},{"$f":"#REF!+#REF!+#REF!+#REF!+#REF!+#REF!+#REF!+#REF!+#REF!+#REF!+#REF!+#REF!+#REF!+#REF!+#REF!+#REF!+#REF!+#REF!+#REF!+#REF!+#REF!+#REF!+#REF!+#REF!+#REF!+#REF!+#REF!+#REF!+#REF!+#REF!+#REF!+#REF!+#REF!","v":{"$error":"#REF!"}},{"$f":"#REF!+#REF!+#REF!+#REF!+#REF!+#REF!+#REF!+#REF!+#REF!+#REF!+#REF!+#REF!+#REF!+#REF!+#REF!+#REF!+#REF!+#REF!+#REF!+#REF!+#REF!+#REF!+#REF!+#REF!+#REF!+#REF!+#REF!+#REF!+#REF!+#REF!+#REF!+#REF!+#REF!","v":{"$error":"#REF!"}},{"$f":"'9_Per Pupil Summary'!L46","v":986.70924972474768},{"$f":"#REF!+#REF!+#REF!+#REF!+#REF!+#REF!+#REF!+#REF!+#REF!+#REF!+#REF!+#REF!+#REF!+#REF!+#REF!+#REF!+#REF!+#REF!+#REF!+#REF!+#REF!+#REF!+#REF!+#REF!+#REF!+#REF!+#REF!+#REF!+#REF!+#REF!+#REF!+#REF!+#REF!","v":{"$error":"#REF!"}},{"$f":"#REF!+#REF!+#REF!+#REF!+#REF!+#REF!+#REF!+#REF!+#REF!+#REF!+#REF!+#REF!+#REF!+#REF!+#REF!+#REF!+#REF!+#REF!+#REF!+#REF!+#REF!+#REF!+#REF!+#REF!+#REF!+#REF!+#REF!+#REF!+#REF!+#REF!+#REF!+#REF!+#REF!","v":{"$error":"#REF!"}},{"$f":"#REF!+#REF!","v":{"$error":"#REF!"}},{"$f":"#REF!+#REF!+#REF!+#REF!+#REF!+#REF!+#REF!+#REF!+#REF!+#REF!+#REF!+#REF!+#REF!+#REF!+#REF!+#REF!+#REF!+#REF!+#REF!+#REF!+#REF!+#REF!+#REF!+#REF!+#REF!+#REF!+#REF!+#REF!+#REF!+#REF!+#REF!+#REF!+#REF!","v":{"$error":"#REF!"}},{"$f":"#REF!+#REF!+#REF!+#REF!+#REF!+#REF!+#REF!+#REF!+#REF!+#REF!+#REF!+#REF!+#REF!+#REF!+#REF!+#REF!+#REF!+#REF!+#REF!+#REF!+#REF!+#REF!+#REF!+#REF!+#REF!+#REF!+#REF!+#REF!+#REF!+#REF!+#REF!+#REF!+#REF!","v":{"$error":"#REF!"}},{"$f":"#REF!+#REF!+#REF!+#REF!+#REF!+#REF!+#REF!+#REF!+#REF!+#REF!+#REF!+#REF!+#REF!+#REF!+#REF!+#REF!+#REF!+#REF!+#REF!+#REF!+#REF!+#REF!+#REF!+#REF!+#REF!+#REF!+#REF!+#REF!+#REF!+#REF!+#REF!+#REF!+#REF!","v":{"$error":"#REF!"}},{"$f":"#REF!+#REF!+#REF!+#REF!+#REF!+#REF!+#REF!+#REF!+#REF!+#REF!+#REF!+#REF!+#REF!+#REF!+#REF!+#REF!+#REF!+#REF!+#REF!+#REF!+#REF!+#REF!+#REF!+#REF!+#REF!+#REF!+#REF!+#REF!+#REF!+#REF!+#REF!+#REF!+#REF!","v":{"$error":"#REF!"}},{"$f":"#REF!+#REF!+#REF!+#REF!+#REF!+#REF!+#REF!+#REF!+#REF!+#REF!+#REF!+#REF!+#REF!+#REF!+#REF!+#REF!+#REF!+#REF!+#REF!+#REF!+#REF!+#REF!+#REF!+#REF!+#REF!+#REF!+#REF!+#REF!+#REF!+#REF!+#REF!+#REF!+#REF!","v":{"$error":"#REF!"}},{"$f":"#REF!+#REF!+#REF!+#REF!+#REF!+#REF!+#REF!+#REF!+#REF!+#REF!+#REF!+#REF!+#REF!+#REF!+#REF!+#REF!+#REF!+#REF!+#REF!+#REF!+#REF!+#REF!+#REF!+#REF!+#REF!+#REF!+#REF!+#REF!+#REF!+#REF!+#REF!+#REF!+#REF!","v":{"$error":"#REF!"}},{"$f":"#REF!+#REF!+#REF!+#REF!+#REF!+#REF!+#REF!+#REF!+#REF!+#REF!+#REF!+#REF!+#REF!+#REF!+#REF!+#REF!+#REF!+#REF!+#REF!+#REF!+#REF!+#REF!+#REF!+#REF!+#REF!+#REF!+#REF!+#REF!+#REF!+#REF!+#REF!+#REF!+#REF!","v":{"$error":"#REF!"}},{"$f":"#REF!+#REF!+#REF!+#REF!+#REF!+#REF!+#REF!+#REF!+#REF!+#REF!+#REF!+#REF!+#REF!+#REF!+#REF!+#REF!+#REF!+#REF!+#REF!+#REF!+#REF!+#REF!+#REF!+#REF!+#REF!+#REF!+#REF!+#REF!+#REF!+#REF!+#REF!+#REF!+#REF!","v":{"$error":"#REF!"}},{"$f":"#REF!+#REF!+#REF!+#REF!+#REF!+#REF!+#REF!+#REF!+#REF!+#REF!+#REF!+#REF!+#REF!+#REF!+#REF!+#REF!+#REF!+#REF!+#REF!+#REF!+#REF!+#REF!+#REF!+#REF!+#REF!+#REF!+#REF!+#REF!+#REF!+#REF!+#REF!+#REF!+#REF!","v":{"$error":"#REF!"}},{"$f":"#REF!+#REF!+#REF!+#REF!+#REF!+#REF!+#REF!+#REF!+#REF!+#REF!+#REF!+#REF!+#REF!+#REF!+#REF!+#REF!+#REF!+#REF!+#REF!+#REF!+#REF!+#REF!+#REF!+#REF!+#REF!+#REF!+#REF!+#REF!+#REF!+#REF!+#REF!+#REF!+#REF!","v":{"$error":"#REF!"}},{"$f":"#REF!+#REF!+#REF!+#REF!+#REF!+#REF!+#REF!+#REF!+#REF!+#REF!+#REF!+#REF!+#REF!+#REF!+#REF!+#REF!+#REF!+#REF!+#REF!+#REF!+#REF!+#REF!+#REF!+#REF!+#REF!+#REF!+#REF!+#REF!+#REF!+#REF!+#REF!+#REF!+#REF!","v":{"$error":"#REF!"}},{"$f":"#REF!+#REF!+#REF!+#REF!+#REF!+#REF!+#REF!+#REF!+#REF!+#REF!+#REF!+#REF!+#REF!+#REF!+#REF!+#REF!+#REF!+#REF!+#REF!+#REF!+#REF!+#REF!+#REF!+#REF!+#REF!+#REF!+#REF!+#REF!+#REF!+#REF!+#REF!+#REF!+#REF!","v":{"$error":"#REF!"}},{"$f":"'9_Per Pupil Summary'!N46","v":20363},{"$f":"#REF!+#REF!+#REF!+#REF!+#REF!+#REF!+#REF!+#REF!+#REF!+#REF!+#REF!+#REF!+#REF!+#REF!+#REF!+#REF!+#REF!+#REF!+#REF!+#REF!+#REF!+#REF!+#REF!+#REF!+#REF!+#REF!+#REF!+#REF!+#REF!+#REF!+#REF!+#REF!+#REF!","v":{"$error":"#REF!"}},{"$f":"#REF!+#REF!+#REF!+#REF!+#REF!+#REF!+#REF!+#REF!+#REF!+#REF!+#REF!+#REF!+#REF!+#REF!+#REF!+#REF!+#REF!+#REF!+#REF!+#REF!+#REF!+#REF!+#REF!+#REF!+#REF!+#REF!+#REF!+#REF!+#REF!+#REF!+#REF!+#REF!+#REF!","v":{"$error":"#REF!"}},{"$f":"#REF!+#REF!+#REF!+#REF!+#REF!+#REF!+#REF!+#REF!+#REF!+#REF!+#REF!+#REF!+#REF!+#REF!+#REF!+#REF!+#REF!+#REF!+#REF!+#REF!+#REF!+#REF!+#REF!+#REF!+#REF!+#REF!+#REF!+#REF!+#REF!+#REF!+#REF!+#REF!+#REF!","v":{"$error":"#REF!"}},{"$f":"#REF!+#REF!+#REF!+#REF!+#REF!+#REF!+#REF!+#REF!+#REF!+#REF!+#REF!+#REF!+#REF!+#REF!+#REF!+#REF!+#REF!+#REF!+#REF!+#REF!+#REF!+#REF!+#REF!+#REF!+#REF!+#REF!+#REF!+#REF!+#REF!+#REF!+#REF!+#REF!+#REF!","v":{"$error":"#REF!"}},{"$f":"#REF!+#REF!+#REF!+#REF!+#REF!+#REF!+#REF!+#REF!+#REF!+#REF!+#REF!+#REF!+#REF!+#REF!+#REF!+#REF!+#REF!+#REF!+#REF!+#REF!+#REF!+#REF!+#REF!+#REF!+#REF!+#REF!+#REF!+#REF!+#REF!+#REF!+#REF!+#REF!+#REF!","v":{"$error":"#REF!"}},{"$f":"#REF!+#REF!+#REF!+#REF!+#REF!+#REF!+#REF!+#REF!+#REF!+#REF!+#REF!+#REF!+#REF!+#REF!+#REF!+#REF!+#REF!+#REF!+#REF!+#REF!+#REF!+#REF!+#REF!+#REF!+#REF!+#REF!+#REF!+#REF!+#REF!+#REF!+#REF!+#REF!+#REF!","v":{"$error":"#REF!"}},{"$f":"#REF!+#REF!+#REF!+#REF!+#REF!+#REF!+#REF!+#REF!+#REF!+#REF!+#REF!+#REF!+#REF!+#REF!+#REF!+#REF!+#REF!+#REF!+#REF!+#REF!+#REF!+#REF!+#REF!+#REF!+#REF!+#REF!+#REF!+#REF!+#REF!+#REF!+#REF!+#REF!+#REF!","v":{"$error":"#REF!"}},{"$f":"#REF!+#REF!+#REF!+#REF!+#REF!+#REF!+#REF!+#REF!+#REF!+#REF!+#REF!+#REF!+#REF!+#REF!+#REF!+#REF!+#REF!+#REF!+#REF!+#REF!+#REF!+#REF!+#REF!+#REF!+#REF!+#REF!+#REF!+#REF!+#REF!+#REF!+#REF!+#REF!+#REF!","v":{"$error":"#REF!"}},{"$f":"#REF!+#REF!+#REF!+#REF!+#REF!+#REF!+#REF!+#REF!+#REF!+#REF!+#REF!+#REF!+#REF!+#REF!+#REF!+#REF!+#REF!+#REF!+#REF!+#REF!+#REF!+#REF!+#REF!+#REF!+#REF!+#REF!+#REF!+#REF!+#REF!+#REF!+#REF!+#REF!+#REF!","v":{"$error":"#REF!"}},{"$f":"#REF!+#REF!+#REF!+#REF!+#REF!+#REF!+#REF!+#REF!+#REF!+#REF!+#REF!+#REF!+#REF!+#REF!+#REF!+#REF!+#REF!+#REF!+#REF!+#REF!+#REF!+#REF!+#REF!+#REF!+#REF!+#REF!+#REF!+#REF!+#REF!+#REF!+#REF!+#REF!+#REF!","v":{"$error":"#REF!"}},{"$f":"#REF!+#REF!+#REF!+#REF!+#REF!+#REF!+#REF!+#REF!+#REF!+#REF!+#REF!+#REF!+#REF!+#REF!+#REF!+#REF!+#REF!+#REF!+#REF!+#REF!+#REF!+#REF!+#REF!+#REF!+#REF!+#REF!+#REF!+#REF!+#REF!+#REF!+#REF!+#REF!+#REF!","v":{"$error":"#REF!"}},{"$f":"#REF!+#REF!+#REF!+#REF!+#REF!+#REF!+#REF!+#REF!+#REF!+#REF!+#REF!+#REF!+#REF!+#REF!+#REF!+#REF!+#REF!+#REF!+#REF!+#REF!+#REF!+#REF!+#REF!+#REF!+#REF!+#REF!+#REF!+#REF!+#REF!+#REF!+#REF!+#REF!+#REF!","v":{"$error":"#REF!"}},{"$f":"#REF!+#REF!+#REF!+#REF!+#REF!+#REF!+#REF!+#REF!+#REF!+#REF!+#REF!+#REF!+#REF!+#REF!+#REF!+#REF!+#REF!+#REF!+#REF!+#REF!+#REF!+#REF!+#REF!+#REF!+#REF!+#REF!+#REF!+#REF!+#REF!+#REF!+#REF!+#REF!+#REF!","v":{"$error":"#REF!"}},{"$f":"#REF!+#REF!+#REF!+#REF!+#REF!+#REF!+#REF!+#REF!+#REF!+#REF!+#REF!+#REF!+#REF!+#REF!+#REF!+#REF!+#REF!+#REF!+#REF!+#REF!+#REF!+#REF!+#REF!+#REF!+#REF!+#REF!+#REF!+#REF!+#REF!+#REF!+#REF!+#REF!+#REF!","v":{"$error":"#REF!"}},{"$error":"#REF!"},{"$error":"#REF!"},{"$f":"#REF!+#REF!+#REF!+#REF!+#REF!+#REF!+#REF!+#REF!+#REF!+#REF!+#REF!+#REF!+#REF!+#REF!+#REF!+#REF!+#REF!+#REF!+#REF!+#REF!+#REF!+#REF!+#REF!+#REF!+#REF!+#REF!+#REF!+#REF!+#REF!+#REF!+#REF!+#REF!+#REF!","v":{"$error":"#REF!"}},null,{"$error":"#REF!"}]
[42,"Richland",{"$f":"#REF!+#REF!+#REF!+#REF!+#REF!+#REF!+#REF!+#REF!+#REF!+#REF!+#REF!+#REF!+#REF!+#REF!+#REF!+#REF!+#REF!+#REF!+#REF!+#REF!+#REF!+#REF!+#REF!+#REF!+#REF!+#REF!+#REF!+#REF!+#REF!+#REF!+#REF!+#REF!+#REF!","v":{"$error":"#REF!"}},{"$f":"'9_Per Pupil Summary'!H47","v":4428.9032751742134},{"$f":"#REF!+#REF!+#REF!+#REF!+#REF!+#REF!+#REF!+#REF!+#REF!+#REF!+#REF!+#REF!+#REF!+#REF!+#REF!+#REF!+#REF!+#REF!+#REF!+#REF!+#REF!+#REF!+#REF!+#REF!+#REF!+#REF!+#REF!+#REF!+#REF!+#REF!+#REF!+#REF!+#REF!","v":{"$error":"#REF!"}},{"$f":"#REF!+#REF!+#REF!+#REF!+#REF!+#REF!+#REF!+#REF!+#REF!+#REF!+#REF!+#REF!+#REF!+#REF!+#REF!+#REF!+#REF!+#REF!+#REF!+#REF!+#REF!+#REF!+#REF!+#REF!+#REF!+#REF!+#REF!+#REF!+#REF!+#REF!+#REF!+#REF!+#REF!","v":{"$error":"#REF!"}},{"$f":"'9_Per Pupil Summary'!I47","v":604.48804715063227},{"$f":"#REF!+#REF!+#REF!+#REF!+#REF!+#REF!+#REF!+#REF!+#REF!+#REF!+#REF!+#REF!+#REF!+#REF!+#REF!+#REF!+#REF!+#REF!+#REF!+#REF!+#REF!+#REF!+#REF!+#REF!+#REF!+#REF!+#REF!+#REF!+#REF!+#REF!+#REF!+#REF!+#REF!","v":{"$error":"#REF!"}},{"$f":"#REF!+#REF!+#REF!+#REF!+#REF!+#REF!+#REF!+#REF!+#REF!+#REF!+#REF!+#REF!+#REF!+#REF!+#REF!+#REF!+#REF!+#REF!+#REF!+#REF!+#REF!+#REF!+#REF!+#REF!+#REF!+#REF!+#REF!+#REF!+#REF!+#REF!+#REF!+#REF!+#REF!","v":{"$error":"#REF!"}},{"$f":"'9_Per Pupil Summary'!J47","v":164.86037649562698},{"$f":"#REF!+#REF!+#REF!+#REF!+#REF!+#REF!+#REF!+#REF!+#REF!+#REF!+#REF!+#REF!+#REF!+#REF!+#REF!+#REF!+#REF!+#REF!+#REF!+#REF!+#REF!+#REF!+#REF!+#REF!+#REF!+#REF!+#REF!+#REF!+#REF!+#REF!+#REF!+#REF!+#REF!","v":{"$error":"#REF!"}},{"$f":"#REF!+#REF!+#REF!+#REF!+#REF!+#REF!+#REF!+#REF!+#REF!+#REF!+#REF!+#REF!+#REF!+#REF!+#REF!+#REF!+#REF!+#REF!+#REF!+#REF!+#REF!+#REF!+#REF!+#REF!+#REF!+#REF!+#REF!+#REF!+#REF!+#REF!+#REF!+#REF!+#REF!","v":{"$error":"#REF!"}},{"$f":"'9_Per Pupil Summary'!K47","v":4121.5094123906738},{"$f":"#REF!+#REF!+#REF!+#REF!+#REF!+#REF!+#REF!+#REF!+#REF!+#REF!+#REF!+#REF!+#REF!+#REF!+#REF!+#REF!+#REF!+#REF!+#REF!+#REF!+#REF!+#REF!+#REF!+#REF!+#REF!+#REF!+#REF!+#REF!+#REF!+#REF!+#REF!+#REF!+#REF!","v":{"$error":"#REF!"}},{"$f":"#REF!+#REF!+#REF!+#REF!+#REF!+#REF!+#REF!+#REF!+#REF!+#REF!+#REF!+#REF!+#REF!+#REF!+#REF!+#REF!+#REF!+#REF!+#REF!+#REF!+#REF!+#REF!+#REF!+#REF!+#REF!+#REF!+#REF!+#REF!+#REF!+#REF!+#REF!+#REF!+#REF!","v":{"$error":"#REF!"}},{"$f":"'9_Per Pupil Summary'!L47","v":1648.6037649562695},{"$f":"#REF!+#REF!+#REF!+#REF!+#REF!+#REF!+#REF!+#REF!+#REF!+#REF!+#REF!+#REF!+#REF!+#REF!+#REF!+#REF!+#REF!+#REF!+#REF!+#REF!+#REF!+#REF!+#REF!+#REF!+#REF!+#REF!+#REF!+#REF!+#REF!+#REF!+#REF!+#REF!+#REF!","v":{"$error":"#REF!"}},{"$f":"#REF!+#REF!+#REF!+#REF!+#REF!+#REF!+#REF!+#REF!+#REF!+#REF!+#REF!+#REF!+#REF!+#REF!+#REF!+#REF!+#REF!+#REF!+#REF!+#REF!+#REF!+#REF!+#REF!+#REF!+#REF!+#REF!+#REF!+#REF!+#REF!+#REF!+#REF!+#REF!+#REF!","v":{"$error":"#REF!"}},{"$f":"#REF!+#REF!","v":{"$error":"#REF!"}},{"$f":"#REF!+#REF!+#REF!+#REF!+#REF!+#REF!+#REF!+#REF!+#REF!+#REF!+#REF!+#REF!+#REF!+#REF!+#REF!+#REF!+#REF!+#REF!+#REF!+#REF!+#REF!+#REF!+#REF!+#REF!+#REF!+#REF!+#REF!+#REF!+#REF!+#REF!+#REF!+#REF!+#REF!","v":{"$error":"#REF!"}},{"$f":"#REF!+#REF!+#REF!+#REF!+#REF!+#REF!+#REF!+#REF!+#REF!+#REF!+#REF!+#REF!+#REF!+#REF!+#REF!+#REF!+#REF!+#REF!+#REF!+#REF!+#REF!+#REF!+#REF!+#REF!+#REF!+#REF!+#REF!+#REF!+#REF!+#REF!+#REF!+#REF!+#REF!","v":{"$error":"#REF!"}},{"$f":"#REF!+#REF!+#REF!+#REF!+#REF!+#REF!+#REF!+#REF!+#REF!+#REF!+#REF!+#REF!+#REF!+#REF!+#REF!+#REF!+#REF!+#REF!+#REF!+#REF!+#REF!+#REF!+#REF!+#REF!+#REF!+#REF!+#REF!+#REF!+#REF!+#REF!+#REF!+#REF!+#REF!","v":{"$error":"#REF!"}},{"$f":"#REF!+#REF!+#REF!+#REF!+#REF!+#REF!+#REF!+#REF!+#REF!+#REF!+#REF!+#REF!+#REF!+#REF!+#REF!+#REF!+#REF!+#REF!+#REF!+#REF!+#REF!+#REF!+#REF!+#REF!+#REF!+#REF!+#REF!+#REF!+#REF!+#REF!+#REF!+#REF!+#REF!","v":{"$error":"#REF!"}},{"$f":"#REF!+#REF!+#REF!+#REF!+#REF!+#REF!+#REF!+#REF!+#REF!+#REF!+#REF!+#REF!+#REF!+#REF!+#REF!+#REF!+#REF!+#REF!+#REF!+#REF!+#REF!+#REF!+#REF!+#REF!+#REF!+#REF!+#REF!+#REF!+#REF!+#REF!+#REF!+#REF!+#REF!","v":{"$error":"#REF!"}},{"$f":"#REF!+#REF!+#REF!+#REF!+#REF!+#REF!+#REF!+#REF!+#REF!+#REF!+#REF!+#REF!+#REF!+#REF!+#REF!+#REF!+#REF!+#REF!+#REF!+#REF!+#REF!+#REF!+#REF!+#REF!+#REF!+#REF!+#REF!+#REF!+#REF!+#REF!+#REF!+#REF!+#REF!","v":{"$error":"#REF!"}},{"$f":"#REF!+#REF!+#REF!+#REF!+#REF!+#REF!+#REF!+#REF!+#REF!+#REF!+#REF!+#REF!+#REF!+#REF!+#REF!+#REF!+#REF!+#REF!+#REF!+#REF!+#REF!+#REF!+#REF!+#REF!+#REF!+#REF!+#REF!+#REF!+#REF!+#REF!+#REF!+#REF!+#REF!","v":{"$error":"#REF!"}},{"$f":"#REF!+#REF!+#REF!+#REF!+#REF!+#REF!+#REF!+#REF!+#REF!+#REF!+#REF!+#REF!+#REF!+#REF!+#REF!+#REF!+#REF!+#REF!+#REF!+#REF!+#REF!+#REF!+#REF!+#REF!+#REF!+#REF!+#REF!+#REF!+#REF!+#REF!+#REF!+#REF!+#REF!","v":{"$error":"#REF!"}},{"$f":"#REF!+#REF!+#REF!+#REF!+#REF!+#REF!+#REF!+#REF!+#REF!+#REF!+#REF!+#REF!+#REF!+#REF!+#REF!+#REF!+#REF!+#REF!+#REF!+#REF!+#REF!+#REF!+#REF!+#REF!+#REF!+#REF!+#REF!+#REF!+#REF!+#REF!+#REF!+#REF!+#REF!","v":{"$error":"#REF!"}},{"$f":"#REF!+#REF!+#REF!+#REF!+#REF!+#REF!+#REF!+#REF!+#REF!+#REF!+#REF!+#REF!+#REF!+#REF!+#REF!+#REF!+#REF!+#REF!+#REF!+#REF!+#REF!+#REF!+#REF!+#REF!+#REF!+#REF!+#REF!+#REF!+#REF!+#REF!+#REF!+#REF!+#REF!","v":{"$error":"#REF!"}},{"$f":"#REF!+#REF!+#REF!+#REF!+#REF!+#REF!+#REF!+#REF!+#REF!+#REF!+#REF!+#REF!+#REF!+#REF!+#REF!+#REF!+#REF!+#REF!+#REF!+#REF!+#REF!+#REF!+#REF!+#REF!+#REF!+#REF!+#REF!+#REF!+#REF!+#REF!+#REF!+#REF!+#REF!","v":{"$error":"#REF!"}},{"$f":"#REF!+#REF!+#REF!+#REF!+#REF!+#REF!+#REF!+#REF!+#REF!+#REF!+#REF!+#REF!+#REF!+#REF!+#REF!+#REF!+#REF!+#REF!+#REF!+#REF!+#REF!+#REF!+#REF!+#REF!+#REF!+#REF!+#REF!+#REF!+#REF!+#REF!+#REF!+#REF!+#REF!","v":{"$error":"#REF!"}},{"$f":"'9_Per Pupil Summary'!N47","v":6067},{"$f":"#REF!+#REF!+#REF!+#REF!+#REF!+#REF!+#REF!+#REF!+#REF!+#REF!+#REF!+#REF!+#REF!+#REF!+#REF!+#REF!+#REF!+#REF!+#REF!+#REF!+#REF!+#REF!+#REF!+#REF!+#REF!+#REF!+#REF!+#REF!+#REF!+#REF!+#REF!+#REF!+#REF!","v":{"$error":"#REF!"}},{"$f":"#REF!+#REF!+#REF!+#REF!+#REF!+#REF!+#REF!+#REF!+#REF!+#REF!+#REF!+#REF!+#REF!+#REF!+#REF!+#REF!+#REF!+#REF!+#REF!+#REF!+#REF!+#REF!+#REF!+#REF!+#REF!+#REF!+#REF!+#REF!+#REF!+#REF!+#REF!+#REF!+#REF!","v":{"$error":"#REF!"}},{"$f":"#REF!+#REF!+#REF!+#REF!+#REF!+#REF!+#REF!+#REF!+#REF!+#REF!+#REF!+#REF!+#REF!+#REF!+#REF!+#REF!+#REF!+#REF!+#REF!+#REF!+#REF!+#REF!+#REF!+#REF!+#REF!+#REF!+#REF!+#REF!+#REF!+#REF!+#REF!+#REF!+#REF!","v":{"$error":"#REF!"}},{"$f":"#REF!+#REF!+#REF!+#REF!+#REF!+#REF!+#REF!+#REF!+#REF!+#REF!+#REF!+#REF!+#REF!+#REF!+#REF!+#REF!+#REF!+#REF!+#REF!+#REF!+#REF!+#REF!+#REF!+#REF!+#REF!+#REF!+#REF!+#REF!+#REF!+#REF!+#REF!+#REF!+#REF!","v":{"$error":"#REF!"}},{"$f":"#REF!+#REF!+#REF!+#REF!+#REF!+#REF!+#REF!+#REF!+#REF!+#REF!+#REF!+#REF!+#REF!+#REF!+#REF!+#REF!+#REF!+#REF!+#REF!+#REF!+#REF!+#REF!+#REF!+#REF!+#REF!+#REF!+#REF!+#REF!+#REF!+#REF!+#REF!+#REF!+#REF!","v":{"$error":"#REF!"}},{"$f":"#REF!+#REF!+#REF!+#REF!+#REF!+#REF!+#REF!+#REF!+#REF!+#REF!+#REF!+#REF!+#REF!+#REF!+#REF!+#REF!+#REF!+#REF!+#REF!+#REF!+#REF!+#REF!+#REF!+#REF!+#REF!+#REF!+#REF!+#REF!+#REF!+#REF!+#REF!+#REF!+#REF!","v":{"$error":"#REF!"}},{"$f":"#REF!+#REF!+#REF!+#REF!+#REF!+#REF!+#REF!+#REF!+#REF!+#REF!+#REF!+#REF!+#REF!+#REF!+#REF!+#REF!+#REF!+#REF!+#REF!+#REF!+#REF!+#REF!+#REF!+#REF!+#REF!+#REF!+#REF!+#REF!+#REF!+#REF!+#REF!+#REF!+#REF!","v":{"$error":"#REF!"}},{"$f":"#REF!+#REF!+#REF!+#REF!+#REF!+#REF!+#REF!+#REF!+#REF!+#REF!+#REF!+#REF!+#REF!+#REF!+#REF!+#REF!+#REF!+#REF!+#REF!+#REF!+#REF!+#REF!+#REF!+#REF!+#REF!+#REF!+#REF!+#REF!+#REF!+#REF!+#REF!+#REF!+#REF!","v":{"$error":"#REF!"}},{"$f":"#REF!+#REF!+#REF!+#REF!+#REF!+#REF!+#REF!+#REF!+#REF!+#REF!+#REF!+#REF!+#REF!+#REF!+#REF!+#REF!+#REF!+#REF!+#REF!+#REF!+#REF!+#REF!+#REF!+#REF!+#REF!+#REF!+#REF!+#REF!+#REF!+#REF!+#REF!+#REF!+#REF!","v":{"$error":"#REF!"}},{"$f":"#REF!+#REF!+#REF!+#REF!+#REF!+#REF!+#REF!+#REF!+#REF!+#REF!+#REF!+#REF!+#REF!+#REF!+#REF!+#REF!+#REF!+#REF!+#REF!+#REF!+#REF!+#REF!+#REF!+#REF!+#REF!+#REF!+#REF!+#REF!+#REF!+#REF!+#REF!+#REF!+#REF!","v":{"$error":"#REF!"}},{"$f":"#REF!+#REF!+#REF!+#REF!+#REF!+#REF!+#REF!+#REF!+#REF!+#REF!+#REF!+#REF!+#REF!+#REF!+#REF!+#REF!+#REF!+#REF!+#REF!+#REF!+#REF!+#REF!+#REF!+#REF!+#REF!+#REF!+#REF!+#REF!+#REF!+#REF!+#REF!+#REF!+#REF!","v":{"$error":"#REF!"}},{"$f":"#REF!+#REF!+#REF!+#REF!+#REF!+#REF!+#REF!+#REF!+#REF!+#REF!+#REF!+#REF!+#REF!+#REF!+#REF!+#REF!+#REF!+#REF!+#REF!+#REF!+#REF!+#REF!+#REF!+#REF!+#REF!+#REF!+#REF!+#REF!+#REF!+#REF!+#REF!+#REF!+#REF!","v":{"$error":"#REF!"}},{"$f":"#REF!+#REF!+#REF!+#REF!+#REF!+#REF!+#REF!+#REF!+#REF!+#REF!+#REF!+#REF!+#REF!+#REF!+#REF!+#REF!+#REF!+#REF!+#REF!+#REF!+#REF!+#REF!+#REF!+#REF!+#REF!+#REF!+#REF!+#REF!+#REF!+#REF!+#REF!+#REF!+#REF!","v":{"$error":"#REF!"}},{"$f":"#REF!+#REF!+#REF!+#REF!+#REF!+#REF!+#REF!+#REF!+#REF!+#REF!+#REF!+#REF!+#REF!+#REF!+#REF!+#REF!+#REF!+#REF!+#REF!+#REF!+#REF!+#REF!+#REF!+#REF!+#REF!+#REF!+#REF!+#REF!+#REF!+#REF!+#REF!+#REF!+#REF!","v":{"$error":"#REF!"}},{"$error":"#REF!"},{"$error":"#REF!"},{"$f":"#REF!+#REF!+#REF!+#REF!+#REF!+#REF!+#REF!+#REF!+#REF!+#REF!+#REF!+#REF!+#REF!+#REF!+#REF!+#REF!+#REF!+#REF!+#REF!+#REF!+#REF!+#REF!+#REF!+#REF!+#REF!+#REF!+#REF!+#REF!+#REF!+#REF!+#REF!+#REF!+#REF!","v":{"$error":"#REF!"}},null,{"$error":"#REF!"}]
[43,"Sabine",{"$f":"#REF!+#REF!+#REF!+#REF!+#REF!+#REF!+#REF!+#REF!+#REF!+#REF!+#REF!+#REF!+#REF!+#REF!+#REF!+#REF!+#REF!+#REF!+#REF!+#REF!+#REF!+#REF!+#REF!+#REF!+#REF!+#REF!+#REF!+#REF!+#REF!+#REF!+#REF!+#REF!+#REF!","v":{"$error":"#REF!"}},{"$f":"'9_Per Pupil Summary'!H48","v":4579.5982379580901},{"$f":"#REF!+#REF!+#REF!+#REF!+#REF!+#REF!+#REF!+#REF!+#REF!+#REF!+#REF!+#REF!+#REF!+#REF!+#REF!+#REF!+#REF!+#REF!+#REF!+#REF!+#REF!+#REF!+#REF!+#REF!+#REF!+#REF!+#REF!+#REF!+#REF!+#REF!+#REF!+#REF!+#REF!","v":{"$error":"#REF!"}},{"$f":"#REF!+#REF!+#REF!+#REF!+#REF!+#REF!+#REF!+#REF!+#REF!+#REF!+#REF!+#REF!+#REF!+#REF!+#REF!+#REF!+#REF!+#REF!+#REF!+#REF!+#REF!+#REF!+#REF!+#REF!+#REF!+#REF!+#REF!+#REF!+#REF!+#REF!+#REF!+#REF!+#REF!","v":{"$error":"#REF!"}},{"$f":"'9_Per Pupil Summary'!I48","v":620.84833812675834},{"$f":"#REF!+#REF!+#REF!+#REF!+#REF!+#REF!+#REF!+#REF!+#REF!+#REF!+#REF!+#REF!+#REF!+#REF!+#REF!+#REF!+#REF!+#REF!+#REF!+#REF!+#REF!+#REF!+#REF!+#REF!+#REF!+#REF!+#REF!+#REF!+#REF!+#REF!+#REF!+#REF!+#REF!","v":{"$error":"#REF!"}},{"$f":"#REF!+#REF!+#REF!+#REF!+#REF!+#REF!+#REF!+#REF!+#REF!+#REF!+#REF!+#REF!+#REF!+#REF!+#REF!+#REF!+#REF!+#REF!+#REF!+#REF!+#REF!+#REF!+#REF!+#REF!+#REF!+#REF!+#REF!+#REF!+#REF!+#REF!+#REF!+#REF!+#REF!","v":{"$error":"#REF!"}},{"$f":"'9_Per Pupil Summary'!J48","v":169.32227403457046},{"$f":"#REF!+#REF!+#REF!+#REF!+#REF!+#REF!+#REF!+#REF!+#REF!+#REF!+#REF!+#REF!+#REF!+#REF!+#REF!+#REF!+#REF!+#REF!+#REF!+#REF!+#REF!+#REF!+#REF!+#REF!+#REF!+#REF!+#REF!+#REF!+#REF!+#REF!+#REF!+#REF!+#REF!","v":{"$error":"#REF!"}},{"$f":"#REF!+#REF!+#REF!+#REF!+#REF!+#REF!+#REF!+#REF!+#REF!+#REF!+#REF!+#REF!+#REF!+#REF!+#REF!+#REF!+#REF!+#REF!+#REF!+#REF!+#REF!+#REF!+#REF!+#REF!+#REF!+#REF!+#REF!+#REF!+#REF!+#REF!+#REF!+#REF!+#REF!","v":{"$error":"#REF!"}},{"$f":"'9_Per Pupil Summary'!K48","v":4233.0568508642609},{"$f":"#REF!+#REF!+#REF!+#REF!+#REF!+#REF!+#REF!+#REF!+#REF!+#REF!+#REF!+#REF!+#REF!+#REF!+#REF!+#REF!+#REF!+#REF!+#REF!+#REF!+#REF!+#REF!+#REF!+#REF!+#REF!+#REF!+#REF!+#REF!+#REF!+#REF!+#REF!+#REF!+#REF!","v":{"$error":"#REF!"}},{"$f":"#REF!+#REF!+#REF!+#REF!+#REF!+#REF!+#REF!+#REF!+#REF!+#REF!+#REF!+#REF!+#REF!+#REF!+#REF!+#REF!+#REF!+#REF!+#REF!+#REF!+#REF!+#REF!+#REF!+#REF!+#REF!+#REF!+#REF!+#REF!+#REF!+#REF!+#REF!+#REF!+#REF!","v":{"$error":"#REF!"}},{"$f":"'9_Per Pupil Summary'!L48","v":1693.2227403457043},{"$f":"#REF!+#REF!+#REF!+#REF!+#REF!+#REF!+#REF!+#REF!+#REF!+#REF!+#REF!+#REF!+#REF!+#REF!+#REF!+#REF!+#REF!+#REF!+#REF!+#REF!+#REF!+#REF!+#REF!+#REF!+#REF!+#REF!+#REF!+#REF!+#REF!+#REF!+#REF!+#REF!+#REF!","v":{"$error":"#REF!"}},{"$f":"#REF!+#REF!+#REF!+#REF!+#REF!+#REF!+#REF!+#REF!+#REF!+#REF!+#REF!+#REF!+#REF!+#REF!+#REF!+#REF!+#REF!+#REF!+#REF!+#REF!+#REF!+#REF!+#REF!+#REF!+#REF!+#REF!+#REF!+#REF!+#REF!+#REF!+#REF!+#REF!+#REF!","v":{"$error":"#REF!"}},{"$f":"#REF!+#REF!","v":{"$error":"#REF!"}},{"$f":"#REF!+#REF!+#REF!+#REF!+#REF!+#REF!+#REF!+#REF!+#REF!+#REF!+#REF!+#REF!+#REF!+#REF!+#REF!+#REF!+#REF!+#REF!+#REF!+#REF!+#REF!+#REF!+#REF!+#REF!+#REF!+#REF!+#REF!+#REF!+#REF!+#REF!+#REF!+#REF!+#REF!","v":{"$error":"#REF!"}},{"$f":"#REF!+#REF!+#REF!+#REF!+#REF!+#REF!+#REF!+#REF!+#REF!+#REF!+#REF!+#REF!+#REF!+#REF!+#REF!+#REF!+#REF!+#REF!+#REF!+#REF!+#REF!+#REF!+#REF!+#REF!+#REF!+#REF!+#REF!+#REF!+#REF!+#REF!+#REF!+#REF!+#REF!","v":{"$error":"#REF!"}},{"$f":"#REF!+#REF!+#REF!+#REF!+#REF!+#REF!+#REF!+#REF!+#REF!+#REF!+#REF!+#REF!+#REF!+#REF!+#REF!+#REF!+#REF!+#REF!+#REF!+#REF!+#REF!+#REF!+#REF!+#REF!+#REF!+#REF!+#REF!+#REF!+#REF!+#REF!+#REF!+#REF!+#REF!","v":{"$error":"#REF!"}},{"$f":"#REF!+#REF!+#REF!+#REF!+#REF!+#REF!+#REF!+#REF!+#REF!+#REF!+#REF!+#REF!+#REF!+#REF!+#REF!+#REF!+#REF!+#REF!+#REF!+#REF!+#REF!+#REF!+#REF!+#REF!+#REF!+#REF!+#REF!+#REF!+#REF!+#REF!+#REF!+#REF!+#REF!","v":{"$error":"#REF!"}},{"$f":"#REF!+#REF!+#REF!+#REF!+#REF!+#REF!+#REF!+#REF!+#REF!+#REF!+#REF!+#REF!+#REF!+#REF!+#REF!+#REF!+#REF!+#REF!+#REF!+#REF!+#REF!+#REF!+#REF!+#REF!+#REF!+#REF!+#REF!+#REF!+#REF!+#REF!+#REF!+#REF!+#REF!","v":{"$error":"#REF!"}},{"$f":"#REF!+#REF!+#REF!+#REF!+#REF!+#REF!+#REF!+#REF!+#REF!+#REF!+#REF!+#REF!+#REF!+#REF!+#REF!+#REF!+#REF!+#REF!+#REF!+#REF!+#REF!+#REF!+#REF!+#REF!+#REF!+#REF!+#REF!+#REF!+#REF!+#REF!+#REF!+#REF!+#REF!","v":{"$error":"#REF!"}},{"$f":"#REF!+#REF!+#REF!+#REF!+#REF!+#REF!+#REF!+#REF!+#REF!+#REF!+#REF!+#REF!+#REF!+#REF!+#REF!+#REF!+#REF!+#REF!+#REF!+#REF!+#REF!+#REF!+#REF!+#REF!+#REF!+#REF!+#REF!+#REF!+#REF!+#REF!+#REF!+#REF!+#REF!","v":{"$error":"#REF!"}},{"$f":"#REF!+#REF!+#REF!+#REF!+#REF!+#REF!+#REF!+#REF!+#REF!+#REF!+#REF!+#REF!+#REF!+#REF!+#REF!+#REF!+#REF!+#REF!+#REF!+#REF!+#REF!+#REF!+#REF!+#REF!+#REF!+#REF!+#REF!+#REF!+#REF!+#REF!+#REF!+#REF!+#REF!","v":{"$error":"#REF!"}},{"$f":"#REF!+#REF!+#REF!+#REF!+#REF!+#REF!+#REF!+#REF!+#REF!+#REF!+#REF!+#REF!+#REF!+#REF!+#REF!+#REF!+#REF!+#REF!+#REF!+#REF!+#REF!+#REF!+#REF!+#REF!+#REF!+#REF!+#REF!+#REF!+#REF!+#REF!+#REF!+#REF!+#REF!","v":{"$error":"#REF!"}},{"$f":"#REF!+#REF!+#REF!+#REF!+#REF!+#REF!+#REF!+#REF!+#REF!+#REF!+#REF!+#REF!+#REF!+#REF!+#REF!+#REF!+#REF!+#REF!+#REF!+#REF!+#REF!+#REF!+#REF!+#REF!+#REF!+#REF!+#REF!+#REF!+#REF!+#REF!+#REF!+#REF!+#REF!","v":{"$error":"#REF!"}},{"$f":"#REF!+#REF!+#REF!+#REF!+#REF!+#REF!+#REF!+#REF!+#REF!+#REF!+#REF!+#REF!+#REF!+#REF!+#REF!+#REF!+#REF!+#REF!+#REF!+#REF!+#REF!+#REF!+#REF!+#REF!+#REF!+#REF!+#REF!+#REF!+#REF!+#REF!+#REF!+#REF!+#REF!","v":{"$error":"#REF!"}},{"$f":"#REF!+#REF!+#REF!+#REF!+#REF!+#REF!+#REF!+#REF!+#REF!+#REF!+#REF!+#REF!+#REF!+#REF!+#REF!+#REF!+#REF!+#REF!+#REF!+#REF!+#REF!+#REF!+#REF!+#REF!+#REF!+#REF!+#REF!+#REF!+#REF!+#REF!+#REF!+#REF!+#REF!","v":{"$error":"#REF!"}},{"$f":"'9_Per Pupil Summary'!N48","v":6797},{"$f":"#REF!+#REF!+#REF!+#REF!+#REF!+#REF!+#REF!+#REF!+#REF!+#REF!+#REF!+#REF!+#REF!+#REF!+#REF!+#REF!+#REF!+#REF!+#REF!+#REF!+#REF!+#REF!+#REF!+#REF!+#REF!+#REF!+#REF!+#REF!+#REF!+#REF!+#REF!+#REF!+#REF!","v":{"$error":"#REF!"}},{"$f":"#REF!+#REF!+#REF!+#REF!+#REF!+#REF!+#REF!+#REF!+#REF!+#REF!+#REF!+#REF!+#REF!+#REF!+#REF!+#REF!+#REF!+#REF!+#REF!+#REF!+#REF!+#REF!+#REF!+#REF!+#REF!+#REF!+#REF!+#REF!+#REF!+#REF!+#REF!+#REF!+#REF!","v":{"$error":"#REF!"}},{"$f":"#REF!+#REF!+#REF!+#REF!+#REF!+#REF!+#REF!+#REF!+#REF!+#REF!+#REF!+#REF!+#REF!+#REF!+#REF!+#REF!+#REF!+#REF!+#REF!+#REF!+#REF!+#REF!+#REF!+#REF!+#REF!+#REF!+#REF!+#REF!+#REF!+#REF!+#REF!+#REF!+#REF!","v":{"$error":"#REF!"}},{"$f":"#REF!+#REF!+#REF!+#REF!+#REF!+#REF!+#REF!+#REF!+#REF!+#REF!+#REF!+#REF!+#REF!+#REF!+#REF!+#REF!+#REF!+#REF!+#REF!+#REF!+#REF!+#REF!+#REF!+#REF!+#REF!+#REF!+#REF!+#REF!+#REF!+#REF!+#REF!+#REF!+#REF!","v":{"$error":"#REF!"}},{"$f":"#REF!+#REF!+#REF!+#REF!+#REF!+#REF!+#REF!+#REF!+#REF!+#REF!+#REF!+#REF!+#REF!+#REF!+#REF!+#REF!+#REF!+#REF!+#REF!+#REF!+#REF!+#REF!+#REF!+#REF!+#REF!+#REF!+#REF!+#REF!+#REF!+#REF!+#REF!+#REF!+#REF!","v":{"$error":"#REF!"}},{"$f":"#REF!+#REF!+#REF!+#REF!+#REF!+#REF!+#REF!+#REF!+#REF!+#REF!+#REF!+#REF!+#REF!+#REF!+#REF!+#REF!+#REF!+#REF!+#REF!+#REF!+#REF!+#REF!+#REF!+#REF!+#REF!+#REF!+#REF!+#REF!+#REF!+#REF!+#REF!+#REF!+#REF!","v":{"$error":"#REF!"}},{"$f":"#REF!+#REF!+#REF!+#REF!+#REF!+#REF!+#REF!+#REF!+#REF!+#REF!+#REF!+#REF!+#REF!+#REF!+#REF!+#REF!+#REF!+#REF!+#REF!+#REF!+#REF!+#REF!+#REF!+#REF!+#REF!+#REF!+#REF!+#REF!+#REF!+#REF!+#REF!+#REF!+#REF!","v":{"$error":"#REF!"}},{"$f":"#REF!+#REF!+#REF!+#REF!+#REF!+#REF!+#REF!+#REF!+#REF!+#REF!+#REF!+#REF!+#REF!+#REF!+#REF!+#REF!+#REF!+#REF!+#REF!+#REF!+#REF!+#REF!+#REF!+#REF!+#REF!+#REF!+#REF!+#REF!+#REF!+#REF!+#REF!+#REF!+#REF!","v":{"$error":"#REF!"}},{"$f":"#REF!+#REF!+#REF!+#REF!+#REF!+#REF!+#REF!+#REF!+#REF!+#REF!+#REF!+#REF!+#REF!+#REF!+#REF!+#REF!+#REF!+#REF!+#REF!+#REF!+#REF!+#REF!+#REF!+#REF!+#REF!+#REF!+#REF!+#REF!+#REF!+#REF!+#REF!+#REF!+#REF!","v":{"$error":"#REF!"}},{"$f":"#REF!+#REF!+#REF!+#REF!+#REF!+#REF!+#REF!+#REF!+#REF!+#REF!+#REF!+#REF!+#REF!+#REF!+#REF!+#REF!+#REF!+#REF!+#REF!+#REF!+#REF!+#REF!+#REF!+#REF!+#REF!+#REF!+#REF!+#REF!+#REF!+#REF!+#REF!+#REF!+#REF!","v":{"$error":"#REF!"}},{"$f":"#REF!+#REF!+#REF!+#REF!+#REF!+#REF!+#REF!+#REF!+#REF!+#REF!+#REF!+#REF!+#REF!+#REF!+#REF!+#REF!+#REF!+#REF!+#REF!+#REF!+#REF!+#REF!+#REF!+#REF!+#REF!+#REF!+#REF!+#REF!+#REF!+#REF!+#REF!+#REF!+#REF!","v":{"$error":"#REF!"}},{"$f":"#REF!+#REF!+#REF!+#REF!+#REF!+#REF!+#REF!+#REF!+#REF!+#REF!+#REF!+#REF!+#REF!+#REF!+#REF!+#REF!+#REF!+#REF!+#REF!+#REF!+#REF!+#REF!+#REF!+#REF!+#REF!+#REF!+#REF!+#REF!+#REF!+#REF!+#REF!+#REF!+#REF!","v":{"$error":"#REF!"}},{"$f":"#REF!+#REF!+#REF!+#REF!+#REF!+#REF!+#REF!+#REF!+#REF!+#REF!+#REF!+#REF!+#REF!+#REF!+#REF!+#REF!+#REF!+#REF!+#REF!+#REF!+#REF!+#REF!+#REF!+#REF!+#REF!+#REF!+#REF!+#REF!+#REF!+#REF!+#REF!+#REF!+#REF!","v":{"$error":"#REF!"}},{"$f":"#REF!+#REF!+#REF!+#REF!+#REF!+#REF!+#REF!+#REF!+#REF!+#REF!+#REF!+#REF!+#REF!+#REF!+#REF!+#REF!+#REF!+#REF!+#REF!+#REF!+#REF!+#REF!+#REF!+#REF!+#REF!+#REF!+#REF!+#REF!+#REF!+#REF!+#REF!+#REF!+#REF!","v":{"$error":"#REF!"}},{"$error":"#REF!"},{"$error":"#REF!"},{"$f":"#REF!+#REF!+#REF!+#REF!+#REF!+#REF!+#REF!+#REF!+#REF!+#REF!+#REF!+#REF!+#REF!+#REF!+#REF!+#REF!+#REF!+#REF!+#REF!+#REF!+#REF!+#REF!+#REF!+#REF!+#REF!+#REF!+#REF!+#REF!+#REF!+#REF!+#REF!+#REF!+#REF!","v":{"$error":"#REF!"}},null,{"$error":"#REF!"}]
[44,"St. Bernard",{"$f":"#REF!+#REF!+#REF!+#REF!+#REF!+#REF!+#REF!+#REF!+#REF!+#REF!+#REF!+#REF!+#REF!+#REF!+#REF!+#REF!+#REF!+#REF!+#REF!+#REF!+#REF!+#REF!+#REF!+#REF!+#REF!+#REF!+#REF!+#REF!+#REF!+#REF!+#REF!+#REF!+#REF!","v":{"$error":"#REF!"}},{"$f":"'9_Per Pupil Summary'!H49","v":4883.2793807465005},{"$f":"#REF!+#REF!+#REF!+#REF!+#REF!+#REF!+#REF!+#REF!+#REF!+#REF!+#REF!+#REF!+#REF!+#REF!+#REF!+#REF!+#REF!+#REF!+#REF!+#REF!+#REF!+#REF!+#REF!+#REF!+#REF!+#REF!+#REF!+#REF!+#REF!+#REF!+#REF!+#REF!+#REF!","v":{"$error":"#REF!"}},{"$f":"#REF!+#REF!+#REF!+#REF!+#REF!+#REF!+#REF!+#REF!+#REF!+#REF!+#REF!+#REF!+#REF!+#REF!+#REF!+#REF!+#REF!+#REF!+#REF!+#REF!+#REF!+#REF!+#REF!+#REF!+#REF!+#REF!+#REF!+#REF!+#REF!+#REF!+#REF!+#REF!+#REF!","v":{"$error":"#REF!"}},{"$f":"'9_Per Pupil Summary'!I49","v":656.95722274132106},{"$f":"#REF!+#REF!+#REF!+#REF!+#REF!+#REF!+#REF!+#REF!+#REF!+#REF!+#REF!+#REF!+#REF!+#REF!+#REF!+#REF!+#REF!+#REF!+#REF!+#REF!+#REF!+#REF!+#REF!+#REF!+#REF!+#REF!+#REF!+#REF!+#REF!+#REF!+#REF!+#REF!+#REF!","v":{"$error":"#REF!"}},{"$f":"#REF!+#REF!+#REF!+#REF!+#REF!+#REF!+#REF!+#REF!+#REF!+#REF!+#REF!+#REF!+#REF!+#REF!+#REF!+#REF!+#REF!+#REF!+#REF!+#REF!+#REF!+#REF!+#REF!+#REF!+#REF!+#REF!+#REF!+#REF!+#REF!+#REF!+#REF!+#REF!+#REF!","v":{"$error":"#REF!"}},{"$f":"'9_Per Pupil Summary'!J49","v":179.17015165672393},{"$f":"#REF!+#REF!+#REF!+#REF!+#REF!+#REF!+#REF!+#REF!+#REF!+#REF!+#REF!+#REF!+#REF!+#REF!+#REF!+#REF!+#REF!+#REF!+#REF!+#REF!+#REF!+#REF!+#REF!+#REF!+#REF!+#REF!+#REF!+#REF!+#REF!+#REF!+#REF!+#REF!+#REF!","v":{"$error":"#REF!"}},{"$f":"#REF!+#REF!+#REF!+#REF!+#REF!+#REF!+#REF!+#REF!+#REF!+#REF!+#REF!+#REF!+#REF!+#REF!+#REF!+#REF!+#REF!+#REF!+#REF!+#REF!+#REF!+#REF!+#REF!+#REF!+#REF!+#REF!+#REF!+#REF!+#REF!+#REF!+#REF!+#REF!+#REF!","v":{"$error":"#REF!"}},{"$f":"'9_Per Pupil Summary'!K49","v":4479.2537914180984},{"$f":"#REF!+#REF!+#REF!+#REF!+#REF!+#REF!+#REF!+#REF!+#REF!+#REF!+#REF!+#REF!+#REF!+#REF!+#REF!+#REF!+#REF!+#REF!+#REF!+#REF!+#REF!+#REF!+#REF!+#REF!+#REF!+#REF!+#REF!+#REF!+#REF!+#REF!+#REF!+#REF!+#REF!","v":{"$error":"#REF!"}},{"$f":"#REF!+#REF!+#REF!+#REF!+#REF!+#REF!+#REF!+#REF!+#REF!+#REF!+#REF!+#REF!+#REF!+#REF!+#REF!+#REF!+#REF!+#REF!+#REF!+#REF!+#REF!+#REF!+#REF!+#REF!+#REF!+#REF!+#REF!+#REF!+#REF!+#REF!+#REF!+#REF!+#REF!","v":{"$error":"#REF!"}},{"$f":"'9_Per Pupil Summary'!L49","v":1791.701516567239},{"$f":"#REF!+#REF!+#REF!+#REF!+#REF!+#REF!+#REF!+#REF!+#REF!+#REF!+#REF!+#REF!+#REF!+#REF!+#REF!+#REF!+#REF!+#REF!+#REF!+#REF!+#REF!+#REF!+#REF!+#REF!+#REF!+#REF!+#REF!+#REF!+#REF!+#REF!+#REF!+#REF!+#REF!","v":{"$error":"#REF!"}},{"$f":"#REF!+#REF!+#REF!+#REF!+#REF!+#REF!+#REF!+#REF!+#REF!+#REF!+#REF!+#REF!+#REF!+#REF!+#REF!+#REF!+#REF!+#REF!+#REF!+#REF!+#REF!+#REF!+#REF!+#REF!+#REF!+#REF!+#REF!+#REF!+#REF!+#REF!+#REF!+#REF!+#REF!","v":{"$error":"#REF!"}},{"$f":"#REF!+#REF!","v":{"$error":"#REF!"}},{"$f":"#REF!+#REF!+#REF!+#REF!+#REF!+#REF!+#REF!+#REF!+#REF!+#REF!+#REF!+#REF!+#REF!+#REF!+#REF!+#REF!+#REF!+#REF!+#REF!+#REF!+#REF!+#REF!+#REF!+#REF!+#REF!+#REF!+#REF!+#REF!+#REF!+#REF!+#REF!+#REF!+#REF!","v":{"$error":"#REF!"}},{"$f":"#REF!+#REF!+#REF!+#REF!+#REF!+#REF!+#REF!+#REF!+#REF!+#REF!+#REF!+#REF!+#REF!+#REF!+#REF!+#REF!+#REF!+#REF!+#REF!+#REF!+#REF!+#REF!+#REF!+#REF!+#REF!+#REF!+#REF!+#REF!+#REF!+#REF!+#REF!+#REF!+#REF!","v":{"$error":"#REF!"}},{"$f":"#REF!+#REF!+#REF!+#REF!+#REF!+#REF!+#REF!+#REF!+#REF!+#REF!+#REF!+#REF!+#REF!+#REF!+#REF!+#REF!+#REF!+#REF!+#REF!+#REF!+#REF!+#REF!+#REF!+#REF!+#REF!+#REF!+#REF!+#REF!+#REF!+#REF!+#REF!+#REF!+#REF!","v":{"$error":"#REF!"}},{"$f":"#REF!+#REF!+#REF!+#REF!+#REF!+#REF!+#REF!+#REF!+#REF!+#REF!+#REF!+#REF!+#REF!+#REF!+#REF!+#REF!+#REF!+#REF!+#REF!+#REF!+#REF!+#REF!+#REF!+#REF!+#REF!+#REF!+#REF!+#REF!+#REF!+#REF!+#REF!+#REF!+#REF!","v":{"$error":"#REF!"}},{"$f":"#REF!+#REF!+#REF!+#REF!+#REF!+#REF!+#REF!+#REF!+#REF!+#REF!+#REF!+#REF!+#REF!+#REF!+#REF!+#REF!+#REF!+#REF!+#REF!+#REF!+#REF!+#REF!+#REF!+#REF!+#REF!+#REF!+#REF!+#REF!+#REF!+#REF!+#REF!+#REF!+#REF!","v":{"$error":"#REF!"}},{"$f":"#REF!+#REF!+#REF!+#REF!+#REF!+#REF!+#REF!+#REF!+#REF!+#REF!+#REF!+#REF!+#REF!+#REF!+#REF!+#REF!+#REF!+#REF!+#REF!+#REF!+#REF!+#REF!+#REF!+#REF!+#REF!+#REF!+#REF!+#REF!+#REF!+#REF!+#REF!+#REF!+#REF!","v":{"$error":"#REF!"}},{"$f":"#REF!+#REF!+#REF!+#REF!+#REF!+#REF!+#REF!+#REF!+#REF!+#REF!+#REF!+#REF!+#REF!+#REF!+#REF!+#REF!+#REF!+#REF!+#REF!+#REF!+#REF!+#REF!+#REF!+#REF!+#REF!+#REF!+#REF!+#REF!+#REF!+#REF!+#REF!+#REF!+#REF!","v":{"$error":"#REF!"}},{"$f":"#REF!+#REF!+#REF!+#REF!+#REF!+#REF!+#REF!+#REF!+#REF!+#REF!+#REF!+#REF!+#REF!+#REF!+#REF!+#REF!+#REF!+#REF!+#REF!+#REF!+#REF!+#REF!+#REF!+#REF!+#REF!+#REF!+#REF!+#REF!+#REF!+#REF!+#REF!+#REF!+#REF!","v":{"$error":"#REF!"}},{"$f":"#REF!+#REF!+#REF!+#REF!+#REF!+#REF!+#REF!+#REF!+#REF!+#REF!+#REF!+#REF!+#REF!+#REF!+#REF!+#REF!+#REF!+#REF!+#REF!+#REF!+#REF!+#REF!+#REF!+#REF!+#REF!+#REF!+#REF!+#REF!+#REF!+#REF!+#REF!+#REF!+#REF!","v":{"$error":"#REF!"}},{"$f":"#REF!+#REF!+#REF!+#REF!+#REF!+#REF!+#REF!+#REF!+#REF!+#REF!+#REF!+#REF!+#REF!+#REF!+#REF!+#REF!+#REF!+#REF!+#REF!+#REF!+#REF!+#REF!+#REF!+#REF!+#REF!+#REF!+#REF!+#REF!+#REF!+#REF!+#REF!+#REF!+#REF!","v":{"$error":"#REF!"}},{"$f":"#REF!+#REF!+#REF!+#REF!+#REF!+#REF!+#REF!+#REF!+#REF!+#REF!+#REF!+#REF!+#REF!+#REF!+#REF!+#REF!+#REF!+#REF!+#REF!+#REF!+#REF!+#REF!+#REF!+#REF!+#REF!+#REF!+#REF!+#REF!+#REF!+#REF!+#REF!+#REF!+#REF!","v":{"$error":"#REF!"}},{"$f":"#REF!+#REF!+#REF!+#REF!+#REF!+#REF!+#REF!+#REF!+#REF!+#REF!+#REF!+#REF!+#REF!+#REF!+#REF!+#REF!+#REF!+#REF!+#REF!+#REF!+#REF!+#REF!+#REF!+#REF!+#REF!+#REF!+#REF!+#REF!+#REF!+#REF!+#REF!+#REF!+#REF!","v":{"$error":"#REF!"}},{"$f":"'9_Per Pupil Summary'!N49","v":5555},{"$f":"#REF!+#REF!+#REF!+#REF!+#REF!+#REF!+#REF!+#REF!+#REF!+#REF!+#REF!+#REF!+#REF!+#REF!+#REF!+#REF!+#REF!+#REF!+#REF!+#REF!+#REF!+#REF!+#REF!+#REF!+#REF!+#REF!+#REF!+#REF!+#REF!+#REF!+#REF!+#REF!+#REF!","v":{"$error":"#REF!"}},{"$f":"#REF!+#REF!+#REF!+#REF!+#REF!+#REF!+#REF!+#REF!+#REF!+#REF!+#REF!+#REF!+#REF!+#REF!+#REF!+#REF!+#REF!+#REF!+#REF!+#REF!+#REF!+#REF!+#REF!+#REF!+#REF!+#REF!+#REF!+#REF!+#REF!+#REF!+#REF!+#REF!+#REF!","v":{"$error":"#REF!"}},{"$f":"#REF!+#REF!+#REF!+#REF!+#REF!+#REF!+#REF!+#REF!+#REF!+#REF!+#REF!+#REF!+#REF!+#REF!+#REF!+#REF!+#REF!+#REF!+#REF!+#REF!+#REF!+#REF!+#REF!+#REF!+#REF!+#REF!+#REF!+#REF!+#REF!+#REF!+#REF!+#REF!+#REF!","v":{"$error":"#REF!"}},{"$f":"#REF!+#REF!+#REF!+#REF!+#REF!+#REF!+#REF!+#REF!+#REF!+#REF!+#REF!+#REF!+#REF!+#REF!+#REF!+#REF!+#REF!+#REF!+#REF!+#REF!+#REF!+#REF!+#REF!+#REF!+#REF!+#REF!+#REF!+#REF!+#REF!+#REF!+#REF!+#REF!+#REF!","v":{"$error":"#REF!"}},{"$f":"#REF!+#REF!+#REF!+#REF!+#REF!+#REF!+#REF!+#REF!+#REF!+#REF!+#REF!+#REF!+#REF!+#REF!+#REF!+#REF!+#REF!+#REF!+#REF!+#REF!+#REF!+#REF!+#REF!+#REF!+#REF!+#REF!+#REF!+#REF!+#REF!+#REF!+#REF!+#REF!+#REF!","v":{"$error":"#REF!"}},{"$f":"#REF!+#REF!+#REF!+#REF!+#REF!+#REF!+#REF!+#REF!+#REF!+#REF!+#REF!+#REF!+#REF!+#REF!+#REF!+#REF!+#REF!+#REF!+#REF!+#REF!+#REF!+#REF!+#REF!+#REF!+#REF!+#REF!+#REF!+#REF!+#REF!+#REF!+#REF!+#REF!+#REF!","v":{"$error":"#REF!"}},{"$f":"#REF!+#REF!+#REF!+#REF!+#REF!+#REF!+#REF!+#REF!+#REF!+#REF!+#REF!+#REF!+#REF!+#REF!+#REF!+#REF!+#REF!+#REF!+#REF!+#REF!+#REF!+#REF!+#REF!+#REF!+#REF!+#REF!+#REF!+#REF!+#REF!+#REF!+#REF!+#REF!+#REF!","v":{"$error":"#REF!"}},{"$f":"#REF!+#REF!+#REF!+#REF!+#REF!+#REF!+#REF!+#REF!+#REF!+#REF!+#REF!+#REF!+#REF!+#REF!+#REF!+#REF!+#REF!+#REF!+#REF!+#REF!+#REF!+#REF!+#REF!+#REF!+#REF!+#REF!+#REF!+#REF!+#REF!+#REF!+#REF!+#REF!+#REF!","v":{"$error":"#REF!"}},{"$f":"#REF!+#REF!+#REF!+#REF!+#REF!+#REF!+#REF!+#REF!+#REF!+#REF!+#REF!+#REF!+#REF!+#REF!+#REF!+#REF!+#REF!+#REF!+#REF!+#REF!+#REF!+#REF!+#REF!+#REF!+#REF!+#REF!+#REF!+#REF!+#REF!+#REF!+#REF!+#REF!+#REF!","v":{"$error":"#REF!"}},{"$f":"#REF!+#REF!+#REF!+#REF!+#REF!+#REF!+#REF!+#REF!+#REF!+#REF!+#REF!+#REF!+#REF!+#REF!+#REF!+#REF!+#REF!+#REF!+#REF!+#REF!+#REF!+#REF!+#REF!+#REF!+#REF!+#REF!+#REF!+#REF!+#REF!+#REF!+#REF!+#REF!+#REF!","v":{"$error":"#REF!"}},{"$f":"#REF!+#REF!+#REF!+#REF!+#REF!+#REF!+#REF!+#REF!+#REF!+#REF!+#REF!+#REF!+#REF!+#REF!+#REF!+#REF!+#REF!+#REF!+#REF!+#REF!+#REF!+#REF!+#REF!+#REF!+#REF!+#REF!+#REF!+#REF!+#REF!+#REF!+#REF!+#REF!+#REF!","v":{"$error":"#REF!"}},{"$f":"#REF!+#REF!+#REF!+#REF!+#REF!+#REF!+#REF!+#REF!+#REF!+#REF!+#REF!+#REF!+#REF!+#REF!+#REF!+#REF!+#REF!+#REF!+#REF!+#REF!+#REF!+#REF!+#REF!+#REF!+#REF!+#REF!+#REF!+#REF!+#REF!+#REF!+#REF!+#REF!+#REF!","v":{"$error":"#REF!"}},{"$f":"#REF!+#REF!+#REF!+#REF!+#REF!+#REF!+#REF!+#REF!+#REF!+#REF!+#REF!+#REF!+#REF!+#REF!+#REF!+#REF!+#REF!+#REF!+#REF!+#REF!+#REF!+#REF!+#REF!+#REF!+#REF!+#REF!+#REF!+#REF!+#REF!+#REF!+#REF!+#REF!+#REF!","v":{"$error":"#REF!"}},{"$f":"#REF!+#REF!+#REF!+#REF!+#REF!+#REF!+#REF!+#REF!+#REF!+#REF!+#REF!+#REF!+#REF!+#REF!+#REF!+#REF!+#REF!+#REF!+#REF!+#REF!+#REF!+#REF!+#REF!+#REF!+#REF!+#REF!+#REF!+#REF!+#REF!+#REF!+#REF!+#REF!+#REF!","v":{"$error":"#REF!"}},{"$error":"#REF!"},{"$error":"#REF!"},{"$f":"#REF!+#REF!+#REF!+#REF!+#REF!+#REF!+#REF!+#REF!+#REF!+#REF!+#REF!+#REF!+#REF!+#REF!+#REF!+#REF!+#REF!+#REF!+#REF!+#REF!+#REF!+#REF!+#REF!+#REF!+#REF!+#REF!+#REF!+#REF!+#REF!+#REF!+#REF!+#REF!+#REF!","v":{"$error":"#REF!"}},null,{"$error":"#REF!"}]
[45,"St. Charles",{"$f":"#REF!+#REF!+#REF!+#REF!+#REF!+#REF!+#REF!+#REF!+#REF!+#REF!+#REF!+#REF!+#REF!+#REF!+#REF!+#REF!+#REF!+#REF!+#REF!+#REF!+#REF!+#REF!+#REF!+#REF!+#REF!+#REF!+#REF!+#REF!+#REF!+#REF!+#REF!+#REF!+#REF!","v":{"$error":"#REF!"}},{"$f":"'9_Per Pupil Summary'!H50","v":2597.901893976391},{"$f":"#REF!+#REF!+#REF!+#REF!+#REF!+#REF!+#REF!+#REF!+#REF!+#REF!+#REF!+#REF!+#REF!+#REF!+#REF!+#REF!+#REF!+#REF!+#REF!+#REF!+#REF!+#REF!+#REF!+#REF!+#REF!+#REF!+#REF!+#REF!+#REF!+#REF!+#REF!+#REF!+#REF!","v":{"$error":"#REF!"}},{"$f":"#REF!+#REF!+#REF!+#REF!+#REF!+#REF!+#REF!+#REF!+#REF!+#REF!+#REF!+#REF!+#REF!+#REF!+#REF!+#REF!+#REF!+#REF!+#REF!+#REF!+#REF!+#REF!+#REF!+#REF!+#REF!+#REF!+#REF!+#REF!+#REF!+#REF!+#REF!+#REF!+#REF!","v":{"$error":"#REF!"}},{"$f":"'9_Per Pupil Summary'!I50","v":313.51239637180907},{"$f":"#REF!+#REF!+#REF!+#REF!+#REF!+#REF!+#REF!+#REF!+#REF!+#REF!+#REF!+#REF!+#REF!+#REF!+#REF!+#REF!+#REF!+#REF!+#REF!+#REF!+#REF!+#REF!+#REF!+#REF!+#REF!+#REF!+#REF!+#REF!+#REF!+#REF!+#REF!+#REF!+#REF!","v":{"$error":"#REF!"}},{"$f":"#REF!+#REF!+#REF!+#REF!+#REF!+#REF!+#REF!+#REF!+#REF!+#REF!+#REF!+#REF!+#REF!+#REF!+#REF!+#REF!+#REF!+#REF!+#REF!+#REF!+#REF!+#REF!+#REF!+#REF!+#REF!+#REF!+#REF!+#REF!+#REF!+#REF!+#REF!+#REF!+#REF!","v":{"$error":"#REF!"}},{"$f":"'9_Per Pupil Summary'!J50","v":85.503380828675205},{"$f":"#REF!+#REF!+#REF!+#REF!+#REF!+#REF!+#REF!+#REF!+#REF!+#REF!+#REF!+#REF!+#REF!+#REF!+#REF!+#REF!+#REF!+#REF!+#REF!+#REF!+#REF!+#REF!+#REF!+#REF!+#REF!+#REF!+#REF!+#REF!+#REF!+#REF!+#REF!+#REF!+#REF!","v":{"$error":"#REF!"}},{"$f":"#REF!+#REF!+#REF!+#REF!+#REF!+#REF!+#REF!+#REF!+#REF!+#REF!+#REF!+#REF!+#REF!+#REF!+#REF!+#REF!+#REF!+#REF!+#REF!+#REF!+#REF!+#REF!+#REF!+#REF!+#REF!+#REF!+#REF!+#REF!+#REF!+#REF!+#REF!+#REF!+#REF!","v":{"$error":"#REF!"}},{"$f":"'9_Per Pupil Summary'!K50","v":2137.5845207168804},{"$f":"#REF!+#REF!+#REF!+#REF!+#REF!+#REF!+#REF!+#REF!+#REF!+#REF!+#REF!+#REF!+#REF!+#REF!+#REF!+#REF!+#REF!+#REF!+#REF!+#REF!+#REF!+#REF!+#REF!+#REF!+#REF!+#REF!+#REF!+#REF!+#REF!+#REF!+#REF!+#REF!+#REF!","v":{"$error":"#REF!"}},{"$f":"#REF!+#REF!+#REF!+#REF!+#REF!+#REF!+#REF!+#REF!+#REF!+#REF!+#REF!+#REF!+#REF!+#REF!+#REF!+#REF!+#REF!+#REF!+#REF!+#REF!+#REF!+#REF!+#REF!+#REF!+#REF!+#REF!+#REF!+#REF!+#REF!+#REF!+#REF!+#REF!+#REF!","v":{"$error":"#REF!"}},{"$f":"'9_Per Pupil Summary'!L50","v":855.03380828675222},{"$f":"#REF!+#REF!+#REF!+#REF!+#REF!+#REF!+#REF!+#REF!+#REF!+#REF!+#REF!+#REF!+#REF!+#REF!+#REF!+#REF!+#REF!+#REF!+#REF!+#REF!+#REF!+#REF!+#REF!+#REF!+#REF!+#REF!+#REF!+#REF!+#REF!+#REF!+#REF!+#REF!+#REF!","v":{"$error":"#REF!"}},{"$f":"#REF!+#REF!+#REF!+#REF!+#REF!+#REF!+#REF!+#REF!+#REF!+#REF!+#REF!+#REF!+#REF!+#REF!+#REF!+#REF!+#REF!+#REF!+#REF!+#REF!+#REF!+#REF!+#REF!+#REF!+#REF!+#REF!+#REF!+#REF!+#REF!+#REF!+#REF!+#REF!+#REF!","v":{"$error":"#REF!"}},{"$f":"#REF!+#REF!","v":{"$error":"#REF!"}},{"$f":"#REF!+#REF!+#REF!+#REF!+#REF!+#REF!+#REF!+#REF!+#REF!+#REF!+#REF!+#REF!+#REF!+#REF!+#REF!+#REF!+#REF!+#REF!+#REF!+#REF!+#REF!+#REF!+#REF!+#REF!+#REF!+#REF!+#REF!+#REF!+#REF!+#REF!+#REF!+#REF!+#REF!","v":{"$error":"#REF!"}},{"$f":"#REF!+#REF!+#REF!+#REF!+#REF!+#REF!+#REF!+#REF!+#REF!+#REF!+#REF!+#REF!+#REF!+#REF!+#REF!+#REF!+#REF!+#REF!+#REF!+#REF!+#REF!+#REF!+#REF!+#REF!+#REF!+#REF!+#REF!+#REF!+#REF!+#REF!+#REF!+#REF!+#REF!","v":{"$error":"#REF!"}},{"$f":"#REF!+#REF!+#REF!+#REF!+#REF!+#REF!+#REF!+#REF!+#REF!+#REF!+#REF!+#REF!+#REF!+#REF!+#REF!+#REF!+#REF!+#REF!+#REF!+#REF!+#REF!+#REF!+#REF!+#REF!+#REF!+#REF!+#REF!+#REF!+#REF!+#REF!+#REF!+#REF!+#REF!","v":{"$error":"#REF!"}},{"$f":"#REF!+#REF!+#REF!+#REF!+#REF!+#REF!+#REF!+#REF!+#REF!+#REF!+#REF!+#REF!+#REF!+#REF!+#REF!+#REF!+#REF!+#REF!+#REF!+#REF!+#REF!+#REF!+#REF!+#REF!+#REF!+#REF!+#REF!+#REF!+#REF!+#REF!+#REF!+#REF!+#REF!","v":{"$error":"#REF!"}},{"$f":"#REF!+#REF!+#REF!+#REF!+#REF!+#REF!+#REF!+#REF!+#REF!+#REF!+#REF!+#REF!+#REF!+#REF!+#REF!+#REF!+#REF!+#REF!+#REF!+#REF!+#REF!+#REF!+#REF!+#REF!+#REF!+#REF!+#REF!+#REF!+#REF!+#REF!+#REF!+#REF!+#REF!","v":{"$error":"#REF!"}},{"$f":"#REF!+#REF!+#REF!+#REF!+#REF!+#REF!+#REF!+#REF!+#REF!+#REF!+#REF!+#REF!+#REF!+#REF!+#REF!+#REF!+#REF!+#REF!+#REF!+#REF!+#REF!+#REF!+#REF!+#REF!+#REF!+#REF!+#REF!+#REF!+#REF!+#REF!+#REF!+#REF!+#REF!","v":{"$error":"#REF!"}},{"$f":"#REF!+#REF!+#REF!+#REF!+#REF!+#REF!+#REF!+#REF!+#REF!+#REF!+#REF!+#REF!+#REF!+#REF!+#REF!+#REF!+#REF!+#REF!+#REF!+#REF!+#REF!+#REF!+#REF!+#REF!+#REF!+#REF!+#REF!+#REF!+#REF!+#REF!+#REF!+#REF!+#REF!","v":{"$error":"#REF!"}},{"$f":"#REF!+#REF!+#REF!+#REF!+#REF!+#REF!+#REF!+#REF!+#REF!+#REF!+#REF!+#REF!+#REF!+#REF!+#REF!+#REF!+#REF!+#REF!+#REF!+#REF!+#REF!+#REF!+#REF!+#REF!+#REF!+#REF!+#REF!+#REF!+#REF!+#REF!+#REF!+#REF!+#REF!","v":{"$error":"#REF!"}},{"$f":"#REF!+#REF!+#REF!+#REF!+#REF!+#REF!+#REF!+#REF!+#REF!+#REF!+#REF!+#REF!+#REF!+#REF!+#REF!+#REF!+#REF!+#REF!+#REF!+#REF!+#REF!+#REF!+#REF!+#REF!+#REF!+#REF!+#REF!+#REF!+#REF!+#REF!+#REF!+#REF!+#REF!","v":{"$error":"#REF!"}},{"$f":"#REF!+#REF!+#REF!+#REF!+#REF!+#REF!+#REF!+#REF!+#REF!+#REF!+#REF!+#REF!+#REF!+#REF!+#REF!+#REF!+#REF!+#REF!+#REF!+#REF!+#REF!+#REF!+#REF!+#REF!+#REF!+#REF!+#REF!+#REF!+#REF!+#REF!+#REF!+#REF!+#REF!","v":{"$error":"#REF!"}},{"$f":"#REF!+#REF!+#REF!+#REF!+#REF!+#REF!+#REF!+#REF!+#REF!+#REF!+#REF!+#REF!+#REF!+#REF!+#REF!+#REF!+#REF!+#REF!+#REF!+#REF!+#REF!+#REF!+#REF!+#REF!+#REF!+#REF!+#REF!+#REF!+#REF!+#REF!+#REF!+#REF!+#REF!","v":{"$error":"#REF!"}},{"$f":"#REF!+#REF!+#REF!+#REF!+#REF!+#REF!+#REF!+#REF!+#REF!+#REF!+#REF!+#REF!+#REF!+#REF!+#REF!+#REF!+#REF!+#REF!+#REF!+#REF!+#REF!+#REF!+#REF!+#REF!+#REF!+#REF!+#REF!+#REF!+#REF!+#REF!+#REF!+#REF!+#REF!","v":{"$error":"#REF!"}},{"$f":"'9_Per Pupil Summary'!N50","v":19026},{"$f":"#REF!+#REF!+#REF!+#REF!+#REF!+#REF!+#REF!+#REF!+#REF!+#REF!+#REF!+#REF!+#REF!+#REF!+#REF!+#REF!+#REF!+#REF!+#REF!+#REF!+#REF!+#REF!+#REF!+#REF!+#REF!+#REF!+#REF!+#REF!+#REF!+#REF!+#REF!+#REF!+#REF!","v":{"$error":"#REF!"}},{"$f":"#REF!+#REF!+#REF!+#REF!+#REF!+#REF!+#REF!+#REF!+#REF!+#REF!+#REF!+#REF!+#REF!+#REF!+#REF!+#REF!+#REF!+#REF!+#REF!+#REF!+#REF!+#REF!+#REF!+#REF!+#REF!+#REF!+#REF!+#REF!+#REF!+#REF!+#REF!+#REF!+#REF!","v":{"$error":"#REF!"}},{"$f":"#REF!+#REF!+#REF!+#REF!+#REF!+#REF!+#REF!+#REF!+#REF!+#REF!+#REF!+#REF!+#REF!+#REF!+#REF!+#REF!+#REF!+#REF!+#REF!+#REF!+#REF!+#REF!+#REF!+#REF!+#REF!+#REF!+#REF!+#REF!+#REF!+#REF!+#REF!+#REF!+#REF!","v":{"$error":"#REF!"}},{"$f":"#REF!+#REF!+#REF!+#REF!+#REF!+#REF!+#REF!+#REF!+#REF!+#REF!+#REF!+#REF!+#REF!+#REF!+#REF!+#REF!+#REF!+#REF!+#REF!+#REF!+#REF!+#REF!+#REF!+#REF!+#REF!+#REF!+#REF!+#REF!+#REF!+#REF!+#REF!+#REF!+#REF!","v":{"$error":"#REF!"}},{"$f":"#REF!+#REF!+#REF!+#REF!+#REF!+#REF!+#REF!+#REF!+#REF!+#REF!+#REF!+#REF!+#REF!+#REF!+#REF!+#REF!+#REF!+#REF!+#REF!+#REF!+#REF!+#REF!+#REF!+#REF!+#REF!+#REF!+#REF!+#REF!+#REF!+#REF!+#REF!+#REF!+#REF!","v":{"$error":"#REF!"}},{"$f":"#REF!+#REF!+#REF!+#REF!+#REF!+#REF!+#REF!+#REF!+#REF!+#REF!+#REF!+#REF!+#REF!+#REF!+#REF!+#REF!+#REF!+#REF!+#REF!+#REF!+#REF!+#REF!+#REF!+#REF!+#REF!+#REF!+#REF!+#REF!+#REF!+#REF!+#REF!+#REF!+#REF!","v":{"$error":"#REF!"}},{"$f":"#REF!+#REF!+#REF!+#REF!+#REF!+#REF!+#REF!+#REF!+#REF!+#REF!+#REF!+#REF!+#REF!+#REF!+#REF!+#REF!+#REF!+#REF!+#REF!+#REF!+#REF!+#REF!+#REF!+#REF!+#REF!+#REF!+#REF!+#REF!+#REF!+#REF!+#REF!+#REF!+#REF!","v":{"$error":"#REF!"}},{"$f":"#REF!+#REF!+#REF!+#REF!+#REF!+#REF!+#REF!+#REF!+#REF!+#REF!+#REF!+#REF!+#REF!+#REF!+#REF!+#REF!+#REF!+#REF!+#REF!+#REF!+#REF!+#REF!+#REF!+#REF!+#REF!+#REF!+#REF!+#REF!+#REF!+#REF!+#REF!+#REF!+#REF!","v":{"$error":"#REF!"}},{"$f":"#REF!+#REF!+#REF!+#REF!+#REF!+#REF!+#REF!+#REF!+#REF!+#REF!+#REF!+#REF!+#REF!+#REF!+#REF!+#REF!+#REF!+#REF!+#REF!+#REF!+#REF!+#REF!+#REF!+#REF!+#REF!+#REF!+#REF!+#REF!+#REF!+#REF!+#REF!+#REF!+#REF!","v":{"$error":"#REF!"}},{"$f":"#REF!+#REF!+#REF!+#REF!+#REF!+#REF!+#REF!+#REF!+#REF!+#REF!+#REF!+#REF!+#REF!+#REF!+#REF!+#REF!+#REF!+#REF!+#REF!+#REF!+#REF!+#REF!+#REF!+#REF!+#REF!+#REF!+#REF!+#REF!+#REF!+#REF!+#REF!+#REF!+#REF!","v":{"$error":"#REF!"}},{"$f":"#REF!+#REF!+#REF!+#REF!+#REF!+#REF!+#REF!+#REF!+#REF!+#REF!+#REF!+#REF!+#REF!+#REF!+#REF!+#REF!+#REF!+#REF!+#REF!+#REF!+#REF!+#REF!+#REF!+#REF!+#REF!+#REF!+#REF!+#REF!+#REF!+#REF!+#REF!+#REF!+#REF!","v":{"$error":"#REF!"}},{"$f":"#REF!+#REF!+#REF!+#REF!+#REF!+#REF!+#REF!+#REF!+#REF!+#REF!+#REF!+#REF!+#REF!+#REF!+#REF!+#REF!+#REF!+#REF!+#REF!+#REF!+#REF!+#REF!+#REF!+#REF!+#REF!+#REF!+#REF!+#REF!+#REF!+#REF!+#REF!+#REF!+#REF!","v":{"$error":"#REF!"}},{"$f":"#REF!+#REF!+#REF!+#REF!+#REF!+#REF!+#REF!+#REF!+#REF!+#REF!+#REF!+#REF!+#REF!+#REF!+#REF!+#REF!+#REF!+#REF!+#REF!+#REF!+#REF!+#REF!+#REF!+#REF!+#REF!+#REF!+#REF!+#REF!+#REF!+#REF!+#REF!+#REF!+#REF!","v":{"$error":"#REF!"}},{"$f":"#REF!+#REF!+#REF!+#REF!+#REF!+#REF!+#REF!+#REF!+#REF!+#REF!+#REF!+#REF!+#REF!+#REF!+#REF!+#REF!+#REF!+#REF!+#REF!+#REF!+#REF!+#REF!+#REF!+#REF!+#REF!+#REF!+#REF!+#REF!+#REF!+#REF!+#REF!+#REF!+#REF!","v":{"$error":"#REF!"}},{"$error":"#REF!"},{"$error":"#REF!"},{"$f":"#REF!+#REF!+#REF!+#REF!+#REF!+#REF!+#REF!+#REF!+#REF!+#REF!+#REF!+#REF!+#REF!+#REF!+#REF!+#REF!+#REF!+#REF!+#REF!+#REF!+#REF!+#REF!+#REF!+#REF!+#REF!+#REF!+#REF!+#REF!+#REF!+#REF!+#REF!+#REF!+#REF!","v":{"$error":"#REF!"}},null,{"$error":"#REF!"}]
[46,"St. Helena",{"$f":"#REF!+#REF!+#REF!+#REF!+#REF!+#REF!+#REF!+#REF!+#REF!+#REF!+#REF!+#REF!+#REF!+#REF!+#REF!+#REF!+#REF!+#REF!+#REF!+#REF!+#REF!+#REF!+#REF!+#REF!+#REF!+#REF!+#REF!+#REF!+#REF!+#REF!+#REF!+#REF!+#REF!","v":{"$error":"#REF!"}},{"$f":"'9_Per Pupil Summary'!H51","v":5876.5968464945145},{"$f":"#REF!+#REF!+#REF!+#REF!+#REF!+#REF!+#REF!+#REF!+#REF!+#REF!+#REF!+#REF!+#REF!+#REF!+#REF!+#REF!+#REF!+#REF!+#REF!+#REF!+#REF!+#REF!+#REF!+#REF!+#REF!+#REF!+#REF!+#REF!+#REF!+#REF!+#REF!+#REF!+#REF!","v":{"$error":"#REF!"}},{"$f":"#REF!+#REF!+#REF!+#REF!+#REF!+#REF!+#REF!+#REF!+#REF!+#REF!+#REF!+#REF!+#REF!+#REF!+#REF!+#REF!+#REF!+#REF!+#REF!+#REF!+#REF!+#REF!+#REF!+#REF!+#REF!+#REF!+#REF!+#REF!+#REF!+#REF!+#REF!+#REF!+#REF!","v":{"$error":"#REF!"}},{"$f":"'9_Per Pupil Summary'!I51","v":732.50908551316218},{"$f":"#REF!+#REF!+#REF!+#REF!+#REF!+#REF!+#REF!+#REF!+#REF!+#REF!+#REF!+#REF!+#REF!+#REF!+#REF!+#REF!+#REF!+#REF!+#REF!+#REF!+#REF!+#REF!+#REF!+#REF!+#REF!+#REF!+#REF!+#REF!+#REF!+#REF!+#REF!+#REF!+#REF!","v":{"$error":"#REF!"}},{"$f":"#REF!+#REF!+#REF!+#REF!+#REF!+#REF!+#REF!+#REF!+#REF!+#REF!+#REF!+#REF!+#REF!+#REF!+#REF!+#REF!+#REF!+#REF!+#REF!+#REF!+#REF!+#REF!+#REF!+#REF!+#REF!+#REF!+#REF!+#REF!+#REF!+#REF!+#REF!+#REF!+#REF!","v":{"$error":"#REF!"}},{"$f":"'9_Per Pupil Summary'!J51","v":199.77520513995336},{"$f":"#REF!+#REF!+#REF!+#REF!+#REF!+#REF!+#REF!+#REF!+#REF!+#REF!+#REF!+#REF!+#REF!+#REF!+#REF!+#REF!+#REF!+#REF!+#REF!+#REF!+#REF!+#REF!+#REF!+#REF!+#REF!+#REF!+#REF!+#REF!+#REF!+#REF!+#REF!+#REF!+#REF!","v":{"$error":"#REF!"}},{"$f":"#REF!+#REF!+#REF!+#REF!+#REF!+#REF!+#REF!+#REF!+#REF!+#REF!+#REF!+#REF!+#REF!+#REF!+#REF!+#REF!+#REF!+#REF!+#REF!+#REF!+#REF!+#REF!+#REF!+#REF!+#REF!+#REF!+#REF!+#REF!+#REF!+#REF!+#REF!+#REF!+#REF!","v":{"$error":"#REF!"}},{"$f":"'9_Per Pupil Summary'!K51","v":4994.380128498834},{"$f":"#REF!+#REF!+#REF!+#REF!+#REF!+#REF!+#REF!+#REF!+#REF!+#REF!+#REF!+#REF!+#REF!+#REF!+#REF!+#REF!+#REF!+#REF!+#REF!+#REF!+#REF!+#REF!+#REF!+#REF!+#REF!+#REF!+#REF!+#REF!+#REF!+#REF!+#REF!+#REF!+#REF!","v":{"$error":"#REF!"}},{"$f":"#REF!+#REF!+#REF!+#REF!+#REF!+#REF!+#REF!+#REF!+#REF!+#REF!+#REF!+#REF!+#REF!+#REF!+#REF!+#REF!+#REF!+#REF!+#REF!+#REF!+#REF!+#REF!+#REF!+#REF!+#REF!+#REF!+#REF!+#REF!+#REF!+#REF!+#REF!+#REF!+#REF!","v":{"$error":"#REF!"}},{"$f":"'9_Per Pupil Summary'!L51","v":1997.7520513995332},{"$f":"#REF!+#REF!+#REF!+#REF!+#REF!+#REF!+#REF!+#REF!+#REF!+#REF!+#REF!+#REF!+#REF!+#REF!+#REF!+#REF!+#REF!+#REF!+#REF!+#REF!+#REF!+#REF!+#REF!+#REF!+#REF!+#REF!+#REF!+#REF!+#REF!+#REF!+#REF!+#REF!+#REF!","v":{"$error":"#REF!"}},{"$f":"#REF!+#REF!+#REF!+#REF!+#REF!+#REF!+#REF!+#REF!+#REF!+#REF!+#REF!+#REF!+#REF!+#REF!+#REF!+#REF!+#REF!+#REF!+#REF!+#REF!+#REF!+#REF!+#REF!+#REF!+#REF!+#REF!+#REF!+#REF!+#REF!+#REF!+#REF!+#REF!+#REF!","v":{"$error":"#REF!"}},{"$f":"#REF!+#REF!","v":{"$error":"#REF!"}},{"$f":"#REF!+#REF!+#REF!+#REF!+#REF!+#REF!+#REF!+#REF!+#REF!+#REF!+#REF!+#REF!+#REF!+#REF!+#REF!+#REF!+#REF!+#REF!+#REF!+#REF!+#REF!+#REF!+#REF!+#REF!+#REF!+#REF!+#REF!+#REF!+#REF!+#REF!+#REF!+#REF!+#REF!","v":{"$error":"#REF!"}},{"$f":"#REF!+#REF!+#REF!+#REF!+#REF!+#REF!+#REF!+#REF!+#REF!+#REF!+#REF!+#REF!+#REF!+#REF!+#REF!+#REF!+#REF!+#REF!+#REF!+#REF!+#REF!+#REF!+#REF!+#REF!+#REF!+#REF!+#REF!+#REF!+#REF!+#REF!+#REF!+#REF!+#REF!","v":{"$error":"#REF!"}},{"$f":"#REF!+#REF!+#REF!+#REF!+#REF!+#REF!+#REF!+#REF!+#REF!+#REF!+#REF!+#REF!+#REF!+#REF!+#REF!+#REF!+#REF!+#REF!+#REF!+#REF!+#REF!+#REF!+#REF!+#REF!+#REF!+#REF!+#REF!+#REF!+#REF!+#REF!+#REF!+#REF!+#REF!","v":{"$error":"#REF!"}},{"$f":"#REF!+#REF!+#REF!+#REF!+#REF!+#REF!+#REF!+#REF!+#REF!+#REF!+#REF!+#REF!+#REF!+#REF!+#REF!+#REF!+#REF!+#REF!+#REF!+#REF!+#REF!+#REF!+#REF!+#REF!+#REF!+#REF!+#REF!+#REF!+#REF!+#REF!+#REF!+#REF!+#REF!","v":{"$error":"#REF!"}},{"$f":"#REF!+#REF!+#REF!+#REF!+#REF!+#REF!+#REF!+#REF!+#REF!+#REF!+#REF!+#REF!+#REF!+#REF!+#REF!+#REF!+#REF!+#REF!+#REF!+#REF!+#REF!+#REF!+#REF!+#REF!+#REF!+#REF!+#REF!+#REF!+#REF!+#REF!+#REF!+#REF!+#REF!","v":{"$error":"#REF!"}},{"$f":"#REF!+#REF!+#REF!+#REF!+#REF!+#REF!+#REF!+#REF!+#REF!+#REF!+#REF!+#REF!+#REF!+#REF!+#REF!+#REF!+#REF!+#REF!+#REF!+#REF!+#REF!+#REF!+#REF!+#REF!+#REF!+#REF!+#REF!+#REF!+#REF!+#REF!+#REF!+#REF!+#REF!","v":{"$error":"#REF!"}},{"$f":"#REF!+#REF!+#REF!+#REF!+#REF!+#REF!+#REF!+#REF!+#REF!+#REF!+#REF!+#REF!+#REF!+#REF!+#REF!+#REF!+#REF!+#REF!+#REF!+#REF!+#REF!+#REF!+#REF!+#REF!+#REF!+#REF!+#REF!+#REF!+#REF!+#REF!+#REF!+#REF!+#REF!","v":{"$error":"#REF!"}},{"$f":"#REF!+#REF!+#REF!+#REF!+#REF!+#REF!+#REF!+#REF!+#REF!+#REF!+#REF!+#REF!+#REF!+#REF!+#REF!+#REF!+#REF!+#REF!+#REF!+#REF!+#REF!+#REF!+#REF!+#REF!+#REF!+#REF!+#REF!+#REF!+#REF!+#REF!+#REF!+#REF!+#REF!","v":{"$error":"#REF!"}},{"$f":"#REF!+#REF!+#REF!+#REF!+#REF!+#REF!+#REF!+#REF!+#REF!+#REF!+#REF!+#REF!+#REF!+#REF!+#REF!+#REF!+#REF!+#REF!+#REF!+#REF!+#REF!+#REF!+#REF!+#REF!+#REF!+#REF!+#REF!+#REF!+#REF!+#REF!+#REF!+#REF!+#REF!","v":{"$error":"#REF!"}},{"$f":"#REF!+#REF!+#REF!+#REF!+#REF!+#REF!+#REF!+#REF!+#REF!+#REF!+#REF!+#REF!+#REF!+#REF!+#REF!+#REF!+#REF!+#REF!+#REF!+#REF!+#REF!+#REF!+#REF!+#REF!+#REF!+#REF!+#REF!+#REF!+#REF!+#REF!+#REF!+#REF!+#REF!","v":{"$error":"#REF!"}},{"$f":"#REF!+#REF!+#REF!+#REF!+#REF!+#REF!+#REF!+#REF!+#REF!+#REF!+#REF!+#REF!+#REF!+#REF!+#REF!+#REF!+#REF!+#REF!+#REF!+#REF!+#REF!+#REF!+#REF!+#REF!+#REF!+#REF!+#REF!+#REF!+#REF!+#REF!+#REF!+#REF!+#REF!","v":{"$error":"#REF!"}},{"$f":"#REF!+#REF!+#REF!+#REF!+#REF!+#REF!+#REF!+#REF!+#REF!+#REF!+#REF!+#REF!+#REF!+#REF!+#REF!+#REF!+#REF!+#REF!+#REF!+#REF!+#REF!+#REF!+#REF!+#REF!+#REF!+#REF!+#REF!+#REF!+#REF!+#REF!+#REF!+#REF!+#REF!","v":{"$error":"#REF!"}},{"$f":"'9_Per Pupil Summary'!N51","v":4192},{"$f":"#REF!+#REF!+#REF!+#REF!+#REF!+#REF!+#REF!+#REF!+#REF!+#REF!+#REF!+#REF!+#REF!+#REF!+#REF!+#REF!+#REF!+#REF!+#REF!+#REF!+#REF!+#REF!+#REF!+#REF!+#REF!+#REF!+#REF!+#REF!+#REF!+#REF!+#REF!+#REF!+#REF!","v":{"$error":"#REF!"}},{"$f":"#REF!+#REF!+#REF!+#REF!+#REF!+#REF!+#REF!+#REF!+#REF!+#REF!+#REF!+#REF!+#REF!+#REF!+#REF!+#REF!+#REF!+#REF!+#REF!+#REF!+#REF!+#REF!+#REF!+#REF!+#REF!+#REF!+#REF!+#REF!+#REF!+#REF!+#REF!+#REF!+#REF!","v":{"$error":"#REF!"}},{"$f":"#REF!+#REF!+#REF!+#REF!+#REF!+#REF!+#REF!+#REF!+#REF!+#REF!+#REF!+#REF!+#REF!+#REF!+#REF!+#REF!+#REF!+#REF!+#REF!+#REF!+#REF!+#REF!+#REF!+#REF!+#REF!+#REF!+#REF!+#REF!+#REF!+#REF!+#REF!+#REF!+#REF!","v":{"$error":"#REF!"}},{"$f":"#REF!+#REF!+#REF!+#REF!+#REF!+#REF!+#REF!+#REF!+#REF!+#REF!+#REF!+#REF!+#REF!+#REF!+#REF!+#REF!+#REF!+#REF!+#REF!+#REF!+#REF!+#REF!+#REF!+#REF!+#REF!+#REF!+#REF!+#REF!+#REF!+#REF!+#REF!+#REF!+#REF!","v":{"$error":"#REF!"}},{"$f":"#REF!+#REF!+#REF!+#REF!+#REF!+#REF!+#REF!+#REF!+#REF!+#REF!+#REF!+#REF!+#REF!+#REF!+#REF!+#REF!+#REF!+#REF!+#REF!+#REF!+#REF!+#REF!+#REF!+#REF!+#REF!+#REF!+#REF!+#REF!+#REF!+#REF!+#REF!+#REF!+#REF!","v":{"$error":"#REF!"}},{"$f":"#REF!+#REF!+#REF!+#REF!+#REF!+#REF!+#REF!+#REF!+#REF!+#REF!+#REF!+#REF!+#REF!+#REF!+#REF!+#REF!+#REF!+#REF!+#REF!+#REF!+#REF!+#REF!+#REF!+#REF!+#REF!+#REF!+#REF!+#REF!+#REF!+#REF!+#REF!+#REF!+#REF!","v":{"$error":"#REF!"}},{"$f":"#REF!+#REF!+#REF!+#REF!+#REF!+#REF!+#REF!+#REF!+#REF!+#REF!+#REF!+#REF!+#REF!+#REF!+#REF!+#REF!+#REF!+#REF!+#REF!+#REF!+#REF!+#REF!+#REF!+#REF!+#REF!+#REF!+#REF!+#REF!+#REF!+#REF!+#REF!+#REF!+#REF!","v":{"$error":"#REF!"}},{"$f":"#REF!+#REF!+#REF!+#REF!+#REF!+#REF!+#REF!+#REF!+#REF!+#REF!+#REF!+#REF!+#REF!+#REF!+#REF!+#REF!+#REF!+#REF!+#REF!+#REF!+#REF!+#REF!+#REF!+#REF!+#REF!+#REF!+#REF!+#REF!+#REF!+#REF!+#REF!+#REF!+#REF!","v":{"$error":"#REF!"}},{"$f":"#REF!+#REF!+#REF!+#REF!+#REF!+#REF!+#REF!+#REF!+#REF!+#REF!+#REF!+#REF!+#REF!+#REF!+#REF!+#REF!+#REF!+#REF!+#REF!+#REF!+#REF!+#REF!+#REF!+#REF!+#REF!+#REF!+#REF!+#REF!+#REF!+#REF!+#REF!+#REF!+#REF!","v":{"$error":"#REF!"}},{"$f":"#REF!+#REF!+#REF!+#REF!+#REF!+#REF!+#REF!+#REF!+#REF!+#REF!+#REF!+#REF!+#REF!+#REF!+#REF!+#REF!+#REF!+#REF!+#REF!+#REF!+#REF!+#REF!+#REF!+#REF!+#REF!+#REF!+#REF!+#REF!+#REF!+#REF!+#REF!+#REF!+#REF!","v":{"$error":"#REF!"}},{"$f":"#REF!+#REF!+#REF!+#REF!+#REF!+#REF!+#REF!+#REF!+#REF!+#REF!+#REF!+#REF!+#REF!+#REF!+#REF!+#REF!+#REF!+#REF!+#REF!+#REF!+#REF!+#REF!+#REF!+#REF!+#REF!+#REF!+#REF!+#REF!+#REF!+#REF!+#REF!+#REF!+#REF!","v":{"$error":"#REF!"}},{"$f":"#REF!+#REF!+#REF!+#REF!+#REF!+#REF!+#REF!+#REF!+#REF!+#REF!+#REF!+#REF!+#REF!+#REF!+#REF!+#REF!+#REF!+#REF!+#REF!+#REF!+#REF!+#REF!+#REF!+#REF!+#REF!+#REF!+#REF!+#REF!+#REF!+#REF!+#REF!+#REF!+#REF!","v":{"$error":"#REF!"}},{"$f":"#REF!+#REF!+#REF!+#REF!+#REF!+#REF!+#REF!+#REF!+#REF!+#REF!+#REF!+#REF!+#REF!+#REF!+#REF!+#REF!+#REF!+#REF!+#REF!+#REF!+#REF!+#REF!+#REF!+#REF!+#REF!+#REF!+#REF!+#REF!+#REF!+#REF!+#REF!+#REF!+#REF!","v":{"$error":"#REF!"}},{"$f":"#REF!+#REF!+#REF!+#REF!+#REF!+#REF!+#REF!+#REF!+#REF!+#REF!+#REF!+#REF!+#REF!+#REF!+#REF!+#REF!+#REF!+#REF!+#REF!+#REF!+#REF!+#REF!+#REF!+#REF!+#REF!+#REF!+#REF!+#REF!+#REF!+#REF!+#REF!+#REF!+#REF!","v":{"$error":"#REF!"}},{"$error":"#REF!"},{"$error":"#REF!"},{"$f":"#REF!+#REF!+#REF!+#REF!+#REF!+#REF!+#REF!+#REF!+#REF!+#REF!+#REF!+#REF!+#REF!+#REF!+#REF!+#REF!+#REF!+#REF!+#REF!+#REF!+#REF!+#REF!+#REF!+#REF!+#REF!+#REF!+#REF!+#REF!+#REF!+#REF!+#REF!+#REF!+#REF!","v":{"$error":"#REF!"}},null,{"$error":"#REF!"}]
[47,"St. James",{"$f":"#REF!+#REF!+#REF!+#REF!+#REF!+#REF!+#REF!+#REF!+#REF!+#REF!+#REF!+#REF!+#REF!+#REF!+#REF!+#REF!+#REF!+#REF!+#REF!+#REF!+#REF!+#REF!+#REF!+#REF!+#REF!+#REF!+#REF!+#REF!+#REF!+#REF!+#REF!+#REF!+#REF!","v":{"$error":"#REF!"}},{"$f":"'9_Per Pupil Summary'!H52","v":2871.7384456980226},{"$f":"#REF!+#REF!+#REF!+#REF!+#REF!+#REF!+#REF!+#REF!+#REF!+#REF!+#REF!+#REF!+#REF!+#REF!+#REF!+#REF!+#REF!+#REF!+#REF!+#REF!+#REF!+#REF!+#REF!+#REF!+#REF!+#REF!+#REF!+#REF!+#REF!+#REF!+#REF!+#REF!+#REF!","v":{"$error":"#REF!"}},{"$f":"#REF!+#REF!+#REF!+#REF!+#REF!+#REF!+#REF!+#REF!+#REF!+#REF!+#REF!+#REF!+#REF!+#REF!+#REF!+#REF!+#REF!+#REF!+#REF!+#REF!+#REF!+#REF!+#REF!+#REF!+#REF!+#REF!+#REF!+#REF!+#REF!+#REF!+#REF!+#REF!+#REF!","v":{"$error":"#REF!"}},{"$f":"'9_Per Pupil Summary'!I52","v":336.15463638951474},{"$f":"#REF!+#REF!+#REF!+#REF!+#REF!+#REF!+#REF!+#REF!+#REF!+#REF!+#REF!+#REF!+#REF!+#REF!+#REF!+#REF!+#REF!+#REF!+#REF!+#REF!+#REF!+#REF!+#REF!+#REF!+#REF!+#REF!+#REF!+#REF!+#REF!+#REF!+#REF!+#REF!+#REF!","v":{"$error":"#REF!"}},{"$f":"#REF!+#REF!+#REF!+#REF!+#REF!+#REF!+#REF!+#REF!+#REF!+#REF!+#REF!+#REF!+#REF!+#REF!+#REF!+#REF!+#REF!+#REF!+#REF!+#REF!+#REF!+#REF!+#REF!+#REF!+#REF!+#REF!+#REF!+#REF!+#REF!+#REF!+#REF!+#REF!+#REF!","v":{"$error":"#REF!"}},{"$f":"'9_Per Pupil Summary'!J52","v":91.678537197140372},{"$f":"#REF!+#REF!+#REF!+#REF!+#REF!+#REF!+#REF!+#REF!+#REF!+#REF!+#REF!+#REF!+#REF!+#REF!+#REF!+#REF!+#REF!+#REF!+#REF!+#REF!+#REF!+#REF!+#REF!+#REF!+#REF!+#REF!+#REF!+#REF!+#REF!+#REF!+#REF!+#REF!+#REF!","v":{"$error":"#REF!"}},{"$f":"#REF!+#REF!+#REF!+#REF!+#REF!+#REF!+#REF!+#REF!+#REF!+#REF!+#REF!+#REF!+#REF!+#REF!+#REF!+#REF!+#REF!+#REF!+#REF!+#REF!+#REF!+#REF!+#REF!+#REF!+#REF!+#REF!+#REF!+#REF!+#REF!+#REF!+#REF!+#REF!+#REF!","v":{"$error":"#REF!"}},{"$f":"'9_Per Pupil Summary'!K52","v":2291.9634299285094},{"$f":"#REF!+#REF!+#REF!+#REF!+#REF!+#REF!+#REF!+#REF!+#REF!+#REF!+#REF!+#REF!+#REF!+#REF!+#REF!+#REF!+#REF!+#REF!+#REF!+#REF!+#REF!+#REF!+#REF!+#REF!+#REF!+#REF!+#REF!+#REF!+#REF!+#REF!+#REF!+#REF!+#REF!","v":{"$error":"#REF!"}},{"$f":"#REF!+#REF!+#REF!+#REF!+#REF!+#REF!+#REF!+#REF!+#REF!+#REF!+#REF!+#REF!+#REF!+#REF!+#REF!+#REF!+#REF!+#REF!+#REF!+#REF!+#REF!+#REF!+#REF!+#REF!+#REF!+#REF!+#REF!+#REF!+#REF!+#REF!+#REF!+#REF!+#REF!","v":{"$error":"#REF!"}},{"$f":"'9_Per Pupil Summary'!L52","v":916.78537197140383},{"$f":"#REF!+#REF!+#REF!+#REF!+#REF!+#REF!+#REF!+#REF!+#REF!+#REF!+#REF!+#REF!+#REF!+#REF!+#REF!+#REF!+#REF!+#REF!+#REF!+#REF!+#REF!+#REF!+#REF!+#REF!+#REF!+#REF!+#REF!+#REF!+#REF!+#REF!+#REF!+#REF!+#REF!","v":{"$error":"#REF!"}},{"$f":"#REF!+#REF!+#REF!+#REF!+#REF!+#REF!+#REF!+#REF!+#REF!+#REF!+#REF!+#REF!+#REF!+#REF!+#REF!+#REF!+#REF!+#REF!+#REF!+#REF!+#REF!+#REF!+#REF!+#REF!+#REF!+#REF!+#REF!+#REF!+#REF!+#REF!+#REF!+#REF!+#REF!","v":{"$error":"#REF!"}},{"$f":"#REF!+#REF!","v":{"$error":"#REF!"}},{"$f":"#REF!+#REF!+#REF!+#REF!+#REF!+#REF!+#REF!+#REF!+#REF!+#REF!+#REF!+#REF!+#REF!+#REF!+#REF!+#REF!+#REF!+#REF!+#REF!+#REF!+#REF!+#REF!+#REF!+#REF!+#REF!+#REF!+#REF!+#REF!+#REF!+#REF!+#REF!+#REF!+#REF!","v":{"$error":"#REF!"}},{"$f":"#REF!+#REF!+#REF!+#REF!+#REF!+#REF!+#REF!+#REF!+#REF!+#REF!+#REF!+#REF!+#REF!+#REF!+#REF!+#REF!+#REF!+#REF!+#REF!+#REF!+#REF!+#REF!+#REF!+#REF!+#REF!+#REF!+#REF!+#REF!+#REF!+#REF!+#REF!+#REF!+#REF!","v":{"$error":"#REF!"}},{"$f":"#REF!+#REF!+#REF!+#REF!+#REF!+#REF!+#REF!+#REF!+#REF!+#REF!+#REF!+#REF!+#REF!+#REF!+#REF!+#REF!+#REF!+#REF!+#REF!+#REF!+#REF!+#REF!+#REF!+#REF!+#REF!+#REF!+#REF!+#REF!+#REF!+#REF!+#REF!+#REF!+#REF!","v":{"$error":"#REF!"}},{"$f":"#REF!+#REF!+#REF!+#REF!+#REF!+#REF!+#REF!+#REF!+#REF!+#REF!+#REF!+#REF!+#REF!+#REF!+#REF!+#REF!+#REF!+#REF!+#REF!+#REF!+#REF!+#REF!+#REF!+#REF!+#REF!+#REF!+#REF!+#REF!+#REF!+#REF!+#REF!+#REF!+#REF!","v":{"$error":"#REF!"}},{"$f":"#REF!+#REF!+#REF!+#REF!+#REF!+#REF!+#REF!+#REF!+#REF!+#REF!+#REF!+#REF!+#REF!+#REF!+#REF!+#REF!+#REF!+#REF!+#REF!+#REF!+#REF!+#REF!+#REF!+#REF!+#REF!+#REF!+#REF!+#REF!+#REF!+#REF!+#REF!+#REF!+#REF!","v":{"$error":"#REF!"}},{"$f":"#REF!+#REF!+#REF!+#REF!+#REF!+#REF!+#REF!+#REF!+#REF!+#REF!+#REF!+#REF!+#REF!+#REF!+#REF!+#REF!+#REF!+#REF!+#REF!+#REF!+#REF!+#REF!+#REF!+#REF!+#REF!+#REF!+#REF!+#REF!+#REF!+#REF!+#REF!+#REF!+#REF!","v":{"$error":"#REF!"}},{"$f":"#REF!+#REF!+#REF!+#REF!+#REF!+#REF!+#REF!+#REF!+#REF!+#REF!+#REF!+#REF!+#REF!+#REF!+#REF!+#REF!+#REF!+#REF!+#REF!+#REF!+#REF!+#REF!+#REF!+#REF!+#REF!+#REF!+#REF!+#REF!+#REF!+#REF!+#REF!+#REF!+#REF!","v":{"$error":"#REF!"}},{"$f":"#REF!+#REF!+#REF!+#REF!+#REF!+#REF!+#REF!+#REF!+#REF!+#REF!+#REF!+#REF!+#REF!+#REF!+#REF!+#REF!+#REF!+#REF!+#REF!+#REF!+#REF!+#REF!+#REF!+#REF!+#REF!+#REF!+#REF!+#REF!+#REF!+#REF!+#REF!+#REF!+#REF!","v":{"$error":"#REF!"}},{"$f":"#REF!+#REF!+#REF!+#REF!+#REF!+#REF!+#REF!+#REF!+#REF!+#REF!+#REF!+#REF!+#REF!+#REF!+#REF!+#REF!+#REF!+#REF!+#REF!+#REF!+#REF!+#REF!+#REF!+#REF!+#REF!+#REF!+#REF!+#REF!+#REF!+#REF!+#REF!+#REF!+#REF!","v":{"$error":"#REF!"}},{"$f":"#REF!+#REF!+#REF!+#REF!+#REF!+#REF!+#REF!+#REF!+#REF!+#REF!+#REF!+#REF!+#REF!+#REF!+#REF!+#REF!+#REF!+#REF!+#REF!+#REF!+#REF!+#REF!+#REF!+#REF!+#REF!+#REF!+#REF!+#REF!+#REF!+#REF!+#REF!+#REF!+#REF!","v":{"$error":"#REF!"}},{"$f":"#REF!+#REF!+#REF!+#REF!+#REF!+#REF!+#REF!+#REF!+#REF!+#REF!+#REF!+#REF!+#REF!+#REF!+#REF!+#REF!+#REF!+#REF!+#REF!+#REF!+#REF!+#REF!+#REF!+#REF!+#REF!+#REF!+#REF!+#REF!+#REF!+#REF!+#REF!+#REF!+#REF!","v":{"$error":"#REF!"}},{"$f":"#REF!+#REF!+#REF!+#REF!+#REF!+#REF!+#REF!+#REF!+#REF!+#REF!+#REF!+#REF!+#REF!+#REF!+#REF!+#REF!+#REF!+#REF!+#REF!+#REF!+#REF!+#REF!+#REF!+#REF!+#REF!+#REF!+#REF!+#REF!+#REF!+#REF!+#REF!+#REF!+#REF!","v":{"$error":"#REF!"}},{"$f":"'9_Per Pupil Summary'!N52","v":16003},{"$f":"#REF!+#REF!+#REF!+#REF!+#REF!+#REF!+#REF!+#REF!+#REF!+#REF!+#REF!+#REF!+#REF!+#REF!+#REF!+#REF!+#REF!+#REF!+#REF!+#REF!+#REF!+#REF!+#REF!+#REF!+#REF!+#REF!+#REF!+#REF!+#REF!+#REF!+#REF!+#REF!+#REF!","v":{"$error":"#REF!"}},{"$f":"#REF!+#REF!+#REF!+#REF!+#REF!+#REF!+#REF!+#REF!+#REF!+#REF!+#REF!+#REF!+#REF!+#REF!+#REF!+#REF!+#REF!+#REF!+#REF!+#REF!+#REF!+#REF!+#REF!+#REF!+#REF!+#REF!+#REF!+#REF!+#REF!+#REF!+#REF!+#REF!+#REF!","v":{"$error":"#REF!"}},{"$f":"#REF!+#REF!+#REF!+#REF!+#REF!+#REF!+#REF!+#REF!+#REF!+#REF!+#REF!+#REF!+#REF!+#REF!+#REF!+#REF!+#REF!+#REF!+#REF!+#REF!+#REF!+#REF!+#REF!+#REF!+#REF!+#REF!+#REF!+#REF!+#REF!+#REF!+#REF!+#REF!+#REF!","v":{"$error":"#REF!"}},{"$f":"#REF!+#REF!+#REF!+#REF!+#REF!+#REF!+#REF!+#REF!+#REF!+#REF!+#REF!+#REF!+#REF!+#REF!+#REF!+#REF!+#REF!+#REF!+#REF!+#REF!+#REF!+#REF!+#REF!+#REF!+#REF!+#REF!+#REF!+#REF!+#REF!+#REF!+#REF!+#REF!+#REF!","v":{"$error":"#REF!"}},{"$f":"#REF!+#REF!+#REF!+#REF!+#REF!+#REF!+#REF!+#REF!+#REF!+#REF!+#REF!+#REF!+#REF!+#REF!+#REF!+#REF!+#REF!+#REF!+#REF!+#REF!+#REF!+#REF!+#REF!+#REF!+#REF!+#REF!+#REF!+#REF!+#REF!+#REF!+#REF!+#REF!+#REF!","v":{"$error":"#REF!"}},{"$f":"#REF!+#REF!+#REF!+#REF!+#REF!+#REF!+#REF!+#REF!+#REF!+#REF!+#REF!+#REF!+#REF!+#REF!+#REF!+#REF!+#REF!+#REF!+#REF!+#REF!+#REF!+#REF!+#REF!+#REF!+#REF!+#REF!+#REF!+#REF!+#REF!+#REF!+#REF!+#REF!+#REF!","v":{"$error":"#REF!"}},{"$f":"#REF!+#REF!+#REF!+#REF!+#REF!+#REF!+#REF!+#REF!+#REF!+#REF!+#REF!+#REF!+#REF!+#REF!+#REF!+#REF!+#REF!+#REF!+#REF!+#REF!+#REF!+#REF!+#REF!+#REF!+#REF!+#REF!+#REF!+#REF!+#REF!+#REF!+#REF!+#REF!+#REF!","v":{"$error":"#REF!"}},{"$f":"#REF!+#REF!+#REF!+#REF!+#REF!+#REF!+#REF!+#REF!+#REF!+#REF!+#REF!+#REF!+#REF!+#REF!+#REF!+#REF!+#REF!+#REF!+#REF!+#REF!+#REF!+#REF!+#REF!+#REF!+#REF!+#REF!+#REF!+#REF!+#REF!+#REF!+#REF!+#REF!+#REF!","v":{"$error":"#REF!"}},{"$f":"#REF!+#REF!+#REF!+#REF!+#REF!+#REF!+#REF!+#REF!+#REF!+#REF!+#REF!+#REF!+#REF!+#REF!+#REF!+#REF!+#REF!+#REF!+#REF!+#REF!+#REF!+#REF!+#REF!+#REF!+#REF!+#REF!+#REF!+#REF!+#REF!+#REF!+#REF!+#REF!+#REF!","v":{"$error":"#REF!"}},{"$f":"#REF!+#REF!+#REF!+#REF!+#REF!+#REF!+#REF!+#REF!+#REF!+#REF!+#REF!+#REF!+#REF!+#REF!+#REF!+#REF!+#REF!+#REF!+#REF!+#REF!+#REF!+#REF!+#REF!+#REF!+#REF!+#REF!+#REF!+#REF!+#REF!+#REF!+#REF!+#REF!+#REF!","v":{"$error":"#REF!"}},{"$f":"#REF!+#REF!+#REF!+#REF!+#REF!+#REF!+#REF!+#REF!+#REF!+#REF!+#REF!+#REF!+#REF!+#REF!+#REF!+#REF!+#REF!+#REF!+#REF!+#REF!+#REF!+#REF!+#REF!+#REF!+#REF!+#REF!+#REF!+#REF!+#REF!+#REF!+#REF!+#REF!+#REF!","v":{"$error":"#REF!"}},{"$f":"#REF!+#REF!+#REF!+#REF!+#REF!+#REF!+#REF!+#REF!+#REF!+#REF!+#REF!+#REF!+#REF!+#REF!+#REF!+#REF!+#REF!+#REF!+#REF!+#REF!+#REF!+#REF!+#REF!+#REF!+#REF!+#REF!+#REF!+#REF!+#REF!+#REF!+#REF!+#REF!+#REF!","v":{"$error":"#REF!"}},{"$f":"#REF!+#REF!+#REF!+#REF!+#REF!+#REF!+#REF!+#REF!+#REF!+#REF!+#REF!+#REF!+#REF!+#REF!+#REF!+#REF!+#REF!+#REF!+#REF!+#REF!+#REF!+#REF!+#REF!+#REF!+#REF!+#REF!+#REF!+#REF!+#REF!+#REF!+#REF!+#REF!+#REF!","v":{"$error":"#REF!"}},{"$f":"#REF!+#REF!+#REF!+#REF!+#REF!+#REF!+#REF!+#REF!+#REF!+#REF!+#REF!+#REF!+#REF!+#REF!+#REF!+#REF!+#REF!+#REF!+#REF!+#REF!+#REF!+#REF!+#REF!+#REF!+#REF!+#REF!+#REF!+#REF!+#REF!+#REF!+#REF!+#REF!+#REF!","v":{"$error":"#REF!"}},{"$error":"#REF!"},{"$error":"#REF!"},{"$f":"#REF!+#REF!+#REF!+#REF!+#REF!+#REF!+#REF!+#REF!+#REF!+#REF!+#REF!+#REF!+#REF!+#REF!+#REF!+#REF!+#REF!+#REF!+#REF!+#REF!+#REF!+#REF!+#REF!+#REF!+#REF!+#REF!+#REF!+#REF!+#REF!+#REF!+#REF!+#REF!+#REF!","v":{"$error":"#REF!"}},null,{"$error":"#REF!"}]
[48,"St. John the Baptist",{"$f":"#REF!+#REF!+#REF!+#REF!+#REF!+#REF!+#REF!+#REF!+#REF!+#REF!+#REF!+#REF!+#REF!+#REF!+#REF!+#REF!+#REF!+#REF!+#REF!+#REF!+#REF!+#REF!+#REF!+#REF!+#REF!+#REF!+#REF!+#REF!+#REF!+#REF!+#REF!+#REF!+#REF!","v":{"$error":"#REF!"}},{"$f":"'9_Per Pupil Summary'!H53","v":2974.9001259231895},{"$f":"#REF!+#REF!+#REF!+#REF!+#REF!+#REF!+#REF!+#REF!+#REF!+#REF!+#REF!+#REF!+#REF!+#REF!+#REF!+#REF!+#REF!+#REF!+#REF!+#REF!+#REF!+#REF!+#REF!+#REF!+#REF!+#REF!+#REF!+#REF!+#REF!+#REF!+#REF!+#REF!+#REF!","v":{"$error":"#REF!"}},{"$f":"#REF!+#REF!+#REF!+#REF!+#REF!+#REF!+#REF!+#REF!+#REF!+#REF!+#REF!+#REF!+#REF!+#REF!+#REF!+#REF!+#REF!+#REF!+#REF!+#REF!+#REF!+#REF!+#REF!+#REF!+#REF!+#REF!+#REF!+#REF!+#REF!+#REF!+#REF!+#REF!+#REF!","v":{"$error":"#REF!"}},{"$f":"'9_Per Pupil Summary'!I53","v":399.05359385694783},{"$f":"#REF!+#REF!+#REF!+#REF!+#REF!+#REF!+#REF!+#REF!+#REF!+#REF!+#REF!+#REF!+#REF!+#REF!+#REF!+#REF!+#REF!+#REF!+#REF!+#REF!+#REF!+#REF!+#REF!+#REF!+#REF!+#REF!+#REF!+#REF!+#REF!+#REF!+#REF!+#REF!+#REF!","v":{"$error":"#REF!"}},{"$f":"#REF!+#REF!+#REF!+#REF!+#REF!+#REF!+#REF!+#REF!+#REF!+#REF!+#REF!+#REF!+#REF!+#REF!+#REF!+#REF!+#REF!+#REF!+#REF!+#REF!+#REF!+#REF!+#REF!+#REF!+#REF!+#REF!+#REF!+#REF!+#REF!+#REF!+#REF!+#REF!+#REF!","v":{"$error":"#REF!"}},{"$f":"'9_Per Pupil Summary'!J53","v":108.83279832462213},{"$f":"#REF!+#REF!+#REF!+#REF!+#REF!+#REF!+#REF!+#REF!+#REF!+#REF!+#REF!+#REF!+#REF!+#REF!+#REF!+#REF!+#REF!+#REF!+#REF!+#REF!+#REF!+#REF!+#REF!+#REF!+#REF!+#REF!+#REF!+#REF!+#REF!+#REF!+#REF!+#REF!+#REF!","v":{"$error":"#REF!"}},{"$f":"#REF!+#REF!+#REF!+#REF!+#REF!+#REF!+#REF!+#REF!+#REF!+#REF!+#REF!+#REF!+#REF!+#REF!+#REF!+#REF!+#REF!+#REF!+#REF!+#REF!+#REF!+#REF!+#REF!+#REF!+#REF!+#REF!+#REF!+#REF!+#REF!+#REF!+#REF!+#REF!+#REF!","v":{"$error":"#REF!"}},{"$f":"'9_Per Pupil Summary'!K53","v":2720.8199581155532},{"$f":"#REF!+#REF!+#REF!+#REF!+#REF!+#REF!+#REF!+#REF!+#REF!+#REF!+#REF!+#REF!+#REF!+#REF!+#REF!+#REF!+#REF!+#REF!+#REF!+#REF!+#REF!+#REF!+#REF!+#REF!+#REF!+#REF!+#REF!+#REF!+#REF!+#REF!+#REF!+#REF!+#REF!","v":{"$error":"#REF!"}},{"$f":"#REF!+#REF!+#REF!+#REF!+#REF!+#REF!+#REF!+#REF!+#REF!+#REF!+#REF!+#REF!+#REF!+#REF!+#REF!+#REF!+#REF!+#REF!+#REF!+#REF!+#REF!+#REF!+#REF!+#REF!+#REF!+#REF!+#REF!+#REF!+#REF!+#REF!+#REF!+#REF!+#REF!","v":{"$error":"#REF!"}},{"$f":"'9_Per Pupil Summary'!L53","v":1088.3279832462215},{"$f":"#REF!+#REF!+#REF!+#REF!+#REF!+#REF!+#REF!+#REF!+#REF!+#REF!+#REF!+#REF!+#REF!+#REF!+#REF!+#REF!+#REF!+#REF!+#REF!+#REF!+#REF!+#REF!+#REF!+#REF!+#REF!+#REF!+#REF!+#REF!+#REF!+#REF!+#REF!+#REF!+#REF!","v":{"$error":"#REF!"}},{"$f":"#REF!+#REF!+#REF!+#REF!+#REF!+#REF!+#REF!+#REF!+#REF!+#REF!+#REF!+#REF!+#REF!+#REF!+#REF!+#REF!+#REF!+#REF!+#REF!+#REF!+#REF!+#REF!+#REF!+#REF!+#REF!+#REF!+#REF!+#REF!+#REF!+#REF!+#REF!+#REF!+#REF!","v":{"$error":"#REF!"}},{"$f":"#REF!+#REF!","v":{"$error":"#REF!"}},{"$f":"#REF!+#REF!+#REF!+#REF!+#REF!+#REF!+#REF!+#REF!+#REF!+#REF!+#REF!+#REF!+#REF!+#REF!+#REF!+#REF!+#REF!+#REF!+#REF!+#REF!+#REF!+#REF!+#REF!+#REF!+#REF!+#REF!+#REF!+#REF!+#REF!+#REF!+#REF!+#REF!+#REF!","v":{"$error":"#REF!"}},{"$f":"#REF!+#REF!+#REF!+#REF!+#REF!+#REF!+#REF!+#REF!+#REF!+#REF!+#REF!+#REF!+#REF!+#REF!+#REF!+#REF!+#REF!+#REF!+#REF!+#REF!+#REF!+#REF!+#REF!+#REF!+#REF!+#REF!+#REF!+#REF!+#REF!+#REF!+#REF!+#REF!+#REF!","v":{"$error":"#REF!"}},{"$f":"#REF!+#REF!+#REF!+#REF!+#REF!+#REF!+#REF!+#REF!+#REF!+#REF!+#REF!+#REF!+#REF!+#REF!+#REF!+#REF!+#REF!+#REF!+#REF!+#REF!+#REF!+#REF!+#REF!+#REF!+#REF!+#REF!+#REF!+#REF!+#REF!+#REF!+#REF!+#REF!+#REF!","v":{"$error":"#REF!"}},{"$f":"#REF!+#REF!+#REF!+#REF!+#REF!+#REF!+#REF!+#REF!+#REF!+#REF!+#REF!+#REF!+#REF!+#REF!+#REF!+#REF!+#REF!+#REF!+#REF!+#REF!+#REF!+#REF!+#REF!+#REF!+#REF!+#REF!+#REF!+#REF!+#REF!+#REF!+#REF!+#REF!+#REF!","v":{"$error":"#REF!"}},{"$f":"#REF!+#REF!+#REF!+#REF!+#REF!+#REF!+#REF!+#REF!+#REF!+#REF!+#REF!+#REF!+#REF!+#REF!+#REF!+#REF!+#REF!+#REF!+#REF!+#REF!+#REF!+#REF!+#REF!+#REF!+#REF!+#REF!+#REF!+#REF!+#REF!+#REF!+#REF!+#REF!+#REF!","v":{"$error":"#REF!"}},{"$f":"#REF!+#REF!+#REF!+#REF!+#REF!+#REF!+#REF!+#REF!+#REF!+#REF!+#REF!+#REF!+#REF!+#REF!+#REF!+#REF!+#REF!+#REF!+#REF!+#REF!+#REF!+#REF!+#REF!+#REF!+#REF!+#REF!+#REF!+#REF!+#REF!+#REF!+#REF!+#REF!+#REF!","v":{"$error":"#REF!"}},{"$f":"#REF!+#REF!+#REF!+#REF!+#REF!+#REF!+#REF!+#REF!+#REF!+#REF!+#REF!+#REF!+#REF!+#REF!+#REF!+#REF!+#REF!+#REF!+#REF!+#REF!+#REF!+#REF!+#REF!+#REF!+#REF!+#REF!+#REF!+#REF!+#REF!+#REF!+#REF!+#REF!+#REF!","v":{"$error":"#REF!"}},{"$f":"#REF!+#REF!+#REF!+#REF!+#REF!+#REF!+#REF!+#REF!+#REF!+#REF!+#REF!+#REF!+#REF!+#REF!+#REF!+#REF!+#REF!+#REF!+#REF!+#REF!+#REF!+#REF!+#REF!+#REF!+#REF!+#REF!+#REF!+#REF!+#REF!+#REF!+#REF!+#REF!+#REF!","v":{"$error":"#REF!"}},{"$f":"#REF!+#REF!+#REF!+#REF!+#REF!+#REF!+#REF!+#REF!+#REF!+#REF!+#REF!+#REF!+#REF!+#REF!+#REF!+#REF!+#REF!+#REF!+#REF!+#REF!+#REF!+#REF!+#REF!+#REF!+#REF!+#REF!+#REF!+#REF!+#REF!+#REF!+#REF!+#REF!+#REF!","v":{"$error":"#REF!"}},{"$f":"#REF!+#REF!+#REF!+#REF!+#REF!+#REF!+#REF!+#REF!+#REF!+#REF!+#REF!+#REF!+#REF!+#REF!+#REF!+#REF!+#REF!+#REF!+#REF!+#REF!+#REF!+#REF!+#REF!+#REF!+#REF!+#REF!+#REF!+#REF!+#REF!+#REF!+#REF!+#REF!+#REF!","v":{"$error":"#REF!"}},{"$f":"#REF!+#REF!+#REF!+#REF!+#REF!+#REF!+#REF!+#REF!+#REF!+#REF!+#REF!+#REF!+#REF!+#REF!+#REF!+#REF!+#REF!+#REF!+#REF!+#REF!+#REF!+#REF!+#REF!+#REF!+#REF!+#REF!+#REF!+#REF!+#REF!+#REF!+#REF!+#REF!+#REF!","v":{"$error":"#REF!"}},{"$f":"#REF!+#REF!+#REF!+#REF!+#REF!+#REF!+#REF!+#REF!+#REF!+#REF!+#REF!+#REF!+#REF!+#REF!+#REF!+#REF!+#REF!+#REF!+#REF!+#REF!+#REF!+#REF!+#REF!+#REF!+#REF!+#REF!+#REF!+#REF!+#REF!+#REF!+#REF!+#REF!+#REF!","v":{"$error":"#REF!"}},{"$f":"'9_Per Pupil Summary'!N53","v":12493},{"$f":"#REF!+#REF!+#REF!+#REF!+#REF!+#REF!+#REF!+#REF!+#REF!+#REF!+#REF!+#REF!+#REF!+#REF!+#REF!+#REF!+#REF!+#REF!+#REF!+#REF!+#REF!+#REF!+#REF!+#REF!+#REF!+#REF!+#REF!+#REF!+#REF!+#REF!+#REF!+#REF!+#REF!","v":{"$error":"#REF!"}},{"$f":"#REF!+#REF!+#REF!+#REF!+#REF!+#REF!+#REF!+#REF!+#REF!+#REF!+#REF!+#REF!+#REF!+#REF!+#REF!+#REF!+#REF!+#REF!+#REF!+#REF!+#REF!+#REF!+#REF!+#REF!+#REF!+#REF!+#REF!+#REF!+#REF!+#REF!+#REF!+#REF!+#REF!","v":{"$error":"#REF!"}},{"$f":"#REF!+#REF!+#REF!+#REF!+#REF!+#REF!+#REF!+#REF!+#REF!+#REF!+#REF!+#REF!+#REF!+#REF!+#REF!+#REF!+#REF!+#REF!+#REF!+#REF!+#REF!+#REF!+#REF!+#REF!+#REF!+#REF!+#REF!+#REF!+#REF!+#REF!+#REF!+#REF!+#REF!","v":{"$error":"#REF!"}},{"$f":"#REF!+#REF!+#REF!+#REF!+#REF!+#REF!+#REF!+#REF!+#REF!+#REF!+#REF!+#REF!+#REF!+#REF!+#REF!+#REF!+#REF!+#REF!+#REF!+#REF!+#REF!+#REF!+#REF!+#REF!+#REF!+#REF!+#REF!+#REF!+#REF!+#REF!+#REF!+#REF!+#REF!","v":{"$error":"#REF!"}},{"$f":"#REF!+#REF!+#REF!+#REF!+#REF!+#REF!+#REF!+#REF!+#REF!+#REF!+#REF!+#REF!+#REF!+#REF!+#REF!+#REF!+#REF!+#REF!+#REF!+#REF!+#REF!+#REF!+#REF!+#REF!+#REF!+#REF!+#REF!+#REF!+#REF!+#REF!+#REF!+#REF!+#REF!","v":{"$error":"#REF!"}},{"$f":"#REF!+#REF!+#REF!+#REF!+#REF!+#REF!+#REF!+#REF!+#REF!+#REF!+#REF!+#REF!+#REF!+#REF!+#REF!+#REF!+#REF!+#REF!+#REF!+#REF!+#REF!+#REF!+#REF!+#REF!+#REF!+#REF!+#REF!+#REF!+#REF!+#REF!+#REF!+#REF!+#REF!","v":{"$error":"#REF!"}},{"$f":"#REF!+#REF!+#REF!+#REF!+#REF!+#REF!+#REF!+#REF!+#REF!+#REF!+#REF!+#REF!+#REF!+#REF!+#REF!+#REF!+#REF!+#REF!+#REF!+#REF!+#REF!+#REF!+#REF!+#REF!+#REF!+#REF!+#REF!+#REF!+#REF!+#REF!+#REF!+#REF!+#REF!","v":{"$error":"#REF!"}},{"$f":"#REF!+#REF!+#REF!+#REF!+#REF!+#REF!+#REF!+#REF!+#REF!+#REF!+#REF!+#REF!+#REF!+#REF!+#REF!+#REF!+#REF!+#REF!+#REF!+#REF!+#REF!+#REF!+#REF!+#REF!+#REF!+#REF!+#REF!+#REF!+#REF!+#REF!+#REF!+#REF!+#REF!","v":{"$error":"#REF!"}},{"$f":"#REF!+#REF!+#REF!+#REF!+#REF!+#REF!+#REF!+#REF!+#REF!+#REF!+#REF!+#REF!+#REF!+#REF!+#REF!+#REF!+#REF!+#REF!+#REF!+#REF!+#REF!+#REF!+#REF!+#REF!+#REF!+#REF!+#REF!+#REF!+#REF!+#REF!+#REF!+#REF!+#REF!","v":{"$error":"#REF!"}},{"$f":"#REF!+#REF!+#REF!+#REF!+#REF!+#REF!+#REF!+#REF!+#REF!+#REF!+#REF!+#REF!+#REF!+#REF!+#REF!+#REF!+#REF!+#REF!+#REF!+#REF!+#REF!+#REF!+#REF!+#REF!+#REF!+#REF!+#REF!+#REF!+#REF!+#REF!+#REF!+#REF!+#REF!","v":{"$error":"#REF!"}},{"$f":"#REF!+#REF!+#REF!+#REF!+#REF!+#REF!+#REF!+#REF!+#REF!+#REF!+#REF!+#REF!+#REF!+#REF!+#REF!+#REF!+#REF!+#REF!+#REF!+#REF!+#REF!+#REF!+#REF!+#REF!+#REF!+#REF!+#REF!+#REF!+#REF!+#REF!+#REF!+#REF!+#REF!","v":{"$error":"#REF!"}},{"$f":"#REF!+#REF!+#REF!+#REF!+#REF!+#REF!+#REF!+#REF!+#REF!+#REF!+#REF!+#REF!+#REF!+#REF!+#REF!+#REF!+#REF!+#REF!+#REF!+#REF!+#REF!+#REF!+#REF!+#REF!+#REF!+#REF!+#REF!+#REF!+#REF!+#REF!+#REF!+#REF!+#REF!","v":{"$error":"#REF!"}},{"$f":"#REF!+#REF!+#REF!+#REF!+#REF!+#REF!+#REF!+#REF!+#REF!+#REF!+#REF!+#REF!+#REF!+#REF!+#REF!+#REF!+#REF!+#REF!+#REF!+#REF!+#REF!+#REF!+#REF!+#REF!+#REF!+#REF!+#REF!+#REF!+#REF!+#REF!+#REF!+#REF!+#REF!","v":{"$error":"#REF!"}},{"$f":"#REF!+#REF!+#REF!+#REF!+#REF!+#REF!+#REF!+#REF!+#REF!+#REF!+#REF!+#REF!+#REF!+#REF!+#REF!+#REF!+#REF!+#REF!+#REF!+#REF!+#REF!+#REF!+#REF!+#REF!+#REF!+#REF!+#REF!+#REF!+#REF!+#REF!+#REF!+#REF!+#REF!","v":{"$error":"#REF!"}},{"$error":"#REF!"},{"$error":"#REF!"},{"$f":"#REF!+#REF!+#REF!+#REF!+#REF!+#REF!+#REF!+#REF!+#REF!+#REF!+#REF!+#REF!+#REF!+#REF!+#REF!+#REF!+#REF!+#REF!+#REF!+#REF!+#REF!+#REF!+#REF!+#REF!+#REF!+#REF!+#REF!+#REF!+#REF!+#REF!+#REF!+#REF!+#REF!","v":{"$error":"#REF!"}},null,{"$error":"#REF!"}]
[49,"St. Landry",{"$f":"#REF!+#REF!+#REF!+#REF!+#REF!+#REF!+#REF!+#REF!+#REF!+#REF!+#REF!+#REF!+#REF!+#REF!+#REF!+#REF!+#REF!+#REF!+#REF!+#REF!+#REF!+#REF!+#REF!+#REF!+#REF!+#REF!+#REF!+#REF!+#REF!+#REF!+#REF!+#REF!+#REF!","v":{"$error":"#REF!"}},{"$f":"'9_Per Pupil Summary'!H54","v":4874.3448430183398},{"$f":"#REF!+#REF!+#REF!+#REF!+#REF!+#REF!+#REF!+#REF!+#REF!+#REF!+#REF!+#REF!+#REF!+#REF!+#REF!+#REF!+#REF!+#REF!+#REF!+#REF!+#REF!+#REF!+#REF!+#REF!+#REF!+#REF!+#REF!+#REF!+#REF!+#REF!+#REF!+#REF!+#REF!","v":{"$error":"#REF!"}},{"$f":"#REF!+#REF!+#REF!+#REF!+#REF!+#REF!+#REF!+#REF!+#REF!+#REF!+#REF!+#REF!+#REF!+#REF!+#REF!+#REF!+#REF!+#REF!+#REF!+#REF!+#REF!+#REF!+#REF!+#REF!+#REF!+#REF!+#REF!+#REF!+#REF!+#REF!+#REF!+#REF!+#REF!","v":{"$error":"#REF!"}},{"$f":"'9_Per Pupil Summary'!I54","v":660.87001269551706},{"$f":"#REF!+#REF!+#REF!+#REF!+#REF!+#REF!+#REF!+#REF!+#REF!+#REF!+#REF!+#REF!+#REF!+#REF!+#REF!+#REF!+#REF!+#REF!+#REF!+#REF!+#REF!+#REF!+#REF!+#REF!+#REF!+#REF!+#REF!+#REF!+#REF!+#REF!+#REF!+#REF!+#REF!","v":{"$error":"#REF!"}},{"$f":"#REF!+#REF!+#REF!+#REF!+#REF!+#REF!+#REF!+#REF!+#REF!+#REF!+#REF!+#REF!+#REF!+#REF!+#REF!+#REF!+#REF!+#REF!+#REF!+#REF!+#REF!+#REF!+#REF!+#REF!+#REF!+#REF!+#REF!+#REF!+#REF!+#REF!+#REF!+#REF!+#REF!","v":{"$error":"#REF!"}},{"$f":"'9_Per Pupil Summary'!J54","v":180.23727618968647},{"$f":"#REF!+#REF!+#REF!+#REF!+#REF!+#REF!+#REF!+#REF!+#REF!+#REF!+#REF!+#REF!+#REF!+#REF!+#REF!+#REF!+#REF!+#REF!+#REF!+#REF!+#REF!+#REF!+#REF!+#REF!+#REF!+#REF!+#REF!+#REF!+#REF!+#REF!+#REF!+#REF!+#REF!","v":{"$error":"#REF!"}},{"$f":"#REF!+#REF!+#REF!+#REF!+#REF!+#REF!+#REF!+#REF!+#REF!+#REF!+#REF!+#REF!+#REF!+#REF!+#REF!+#REF!+#REF!+#REF!+#REF!+#REF!+#REF!+#REF!+#REF!+#REF!+#REF!+#REF!+#REF!+#REF!+#REF!+#REF!+#REF!+#REF!+#REF!","v":{"$error":"#REF!"}},{"$f":"'9_Per Pupil Summary'!K54","v":4505.9319047421623},{"$f":"#REF!+#REF!+#REF!+#REF!+#REF!+#REF!+#REF!+#REF!+#REF!+#REF!+#REF!+#REF!+#REF!+#REF!+#REF!+#REF!+#REF!+#REF!+#REF!+#REF!+#REF!+#REF!+#REF!+#REF!+#REF!+#REF!+#REF!+#REF!+#REF!+#REF!+#REF!+#REF!+#REF!","v":{"$error":"#REF!"}},{"$f":"#REF!+#REF!+#REF!+#REF!+#REF!+#REF!+#REF!+#REF!+#REF!+#REF!+#REF!+#REF!+#REF!+#REF!+#REF!+#REF!+#REF!+#REF!+#REF!+#REF!+#REF!+#REF!+#REF!+#REF!+#REF!+#REF!+#REF!+#REF!+#REF!+#REF!+#REF!+#REF!+#REF!","v":{"$error":"#REF!"}},{"$f":"'9_Per Pupil Summary'!L54","v":1802.3727618968646},{"$f":"#REF!+#REF!+#REF!+#REF!+#REF!+#REF!+#REF!+#REF!+#REF!+#REF!+#REF!+#REF!+#REF!+#REF!+#REF!+#REF!+#REF!+#REF!+#REF!+#REF!+#REF!+#REF!+#REF!+#REF!+#REF!+#REF!+#REF!+#REF!+#REF!+#REF!+#REF!+#REF!+#REF!","v":{"$error":"#REF!"}},{"$f":"#REF!+#REF!+#REF!+#REF!+#REF!+#REF!+#REF!+#REF!+#REF!+#REF!+#REF!+#REF!+#REF!+#REF!+#REF!+#REF!+#REF!+#REF!+#REF!+#REF!+#REF!+#REF!+#REF!+#REF!+#REF!+#REF!+#REF!+#REF!+#REF!+#REF!+#REF!+#REF!+#REF!","v":{"$error":"#REF!"}},{"$f":"#REF!+#REF!","v":{"$error":"#REF!"}},{"$f":"#REF!+#REF!+#REF!+#REF!+#REF!+#REF!+#REF!+#REF!+#REF!+#REF!+#REF!+#REF!+#REF!+#REF!+#REF!+#REF!+#REF!+#REF!+#REF!+#REF!+#REF!+#REF!+#REF!+#REF!+#REF!+#REF!+#REF!+#REF!+#REF!+#REF!+#REF!+#REF!+#REF!","v":{"$error":"#REF!"}},{"$f":"#REF!+#REF!+#REF!+#REF!+#REF!+#REF!+#REF!+#REF!+#REF!+#REF!+#REF!+#REF!+#REF!+#REF!+#REF!+#REF!+#REF!+#REF!+#REF!+#REF!+#REF!+#REF!+#REF!+#REF!+#REF!+#REF!+#REF!+#REF!+#REF!+#REF!+#REF!+#REF!+#REF!","v":{"$error":"#REF!"}},{"$f":"#REF!+#REF!+#REF!+#REF!+#REF!+#REF!+#REF!+#REF!+#REF!+#REF!+#REF!+#REF!+#REF!+#REF!+#REF!+#REF!+#REF!+#REF!+#REF!+#REF!+#REF!+#REF!+#REF!+#REF!+#REF!+#REF!+#REF!+#REF!+#REF!+#REF!+#REF!+#REF!+#REF!","v":{"$error":"#REF!"}},{"$f":"#REF!+#REF!+#REF!+#REF!+#REF!+#REF!+#REF!+#REF!+#REF!+#REF!+#REF!+#REF!+#REF!+#REF!+#REF!+#REF!+#REF!+#REF!+#REF!+#REF!+#REF!+#REF!+#REF!+#REF!+#REF!+#REF!+#REF!+#REF!+#REF!+#REF!+#REF!+#REF!+#REF!","v":{"$error":"#REF!"}},{"$f":"#REF!+#REF!+#REF!+#REF!+#REF!+#REF!+#REF!+#REF!+#REF!+#REF!+#REF!+#REF!+#REF!+#REF!+#REF!+#REF!+#REF!+#REF!+#REF!+#REF!+#REF!+#REF!+#REF!+#REF!+#REF!+#REF!+#REF!+#REF!+#REF!+#REF!+#REF!+#REF!+#REF!","v":{"$error":"#REF!"}},{"$f":"#REF!+#REF!+#REF!+#REF!+#REF!+#REF!+#REF!+#REF!+#REF!+#REF!+#REF!+#REF!+#REF!+#REF!+#REF!+#REF!+#REF!+#REF!+#REF!+#REF!+#REF!+#REF!+#REF!+#REF!+#REF!+#REF!+#REF!+#REF!+#REF!+#REF!+#REF!+#REF!+#REF!","v":{"$error":"#REF!"}},{"$f":"#REF!+#REF!+#REF!+#REF!+#REF!+#REF!+#REF!+#REF!+#REF!+#REF!+#REF!+#REF!+#REF!+#REF!+#REF!+#REF!+#REF!+#REF!+#REF!+#REF!+#REF!+#REF!+#REF!+#REF!+#REF!+#REF!+#REF!+#REF!+#REF!+#REF!+#REF!+#REF!+#REF!","v":{"$error":"#REF!"}},{"$f":"#REF!+#REF!+#REF!+#REF!+#REF!+#REF!+#REF!+#REF!+#REF!+#REF!+#REF!+#REF!+#REF!+#REF!+#REF!+#REF!+#REF!+#REF!+#REF!+#REF!+#REF!+#REF!+#REF!+#REF!+#REF!+#REF!+#REF!+#REF!+#REF!+#REF!+#REF!+#REF!+#REF!","v":{"$error":"#REF!"}},{"$f":"#REF!+#REF!+#REF!+#REF!+#REF!+#REF!+#REF!+#REF!+#REF!+#REF!+#REF!+#REF!+#REF!+#REF!+#REF!+#REF!+#REF!+#REF!+#REF!+#REF!+#REF!+#REF!+#REF!+#REF!+#REF!+#REF!+#REF!+#REF!+#REF!+#REF!+#REF!+#REF!+#REF!","v":{"$error":"#REF!"}},{"$f":"#REF!+#REF!+#REF!+#REF!+#REF!+#REF!+#REF!+#REF!+#REF!+#REF!+#REF!+#REF!+#REF!+#REF!+#REF!+#REF!+#REF!+#REF!+#REF!+#REF!+#REF!+#REF!+#REF!+#REF!+#REF!+#REF!+#REF!+#REF!+#REF!+#REF!+#REF!+#REF!+#REF!","v":{"$error":"#REF!"}},{"$f":"#REF!+#REF!+#REF!+#REF!+#REF!+#REF!+#REF!+#REF!+#REF!+#REF!+#REF!+#REF!+#REF!+#REF!+#REF!+#REF!+#REF!+#REF!+#REF!+#REF!+#REF!+#REF!+#REF!+#REF!+#REF!+#REF!+#REF!+#REF!+#REF!+#REF!+#REF!+#REF!+#REF!","v":{"$error":"#REF!"}},{"$f":"#REF!+#REF!+#REF!+#REF!+#REF!+#REF!+#REF!+#REF!+#REF!+#REF!+#REF!+#REF!+#REF!+#REF!+#REF!+#REF!+#REF!+#REF!+#REF!+#REF!+#REF!+#REF!+#REF!+#REF!+#REF!+#REF!+#REF!+#REF!+#REF!+#REF!+#REF!+#REF!+#REF!","v":{"$error":"#REF!"}},{"$f":"'9_Per Pupil Summary'!N54","v":3821},{"$f":"#REF!+#REF!+#REF!+#REF!+#REF!+#REF!+#REF!+#REF!+#REF!+#REF!+#REF!+#REF!+#REF!+#REF!+#REF!+#REF!+#REF!+#REF!+#REF!+#REF!+#REF!+#REF!+#REF!+#REF!+#REF!+#REF!+#REF!+#REF!+#REF!+#REF!+#REF!+#REF!+#REF!","v":{"$error":"#REF!"}},{"$f":"#REF!+#REF!+#REF!+#REF!+#REF!+#REF!+#REF!+#REF!+#REF!+#REF!+#REF!+#REF!+#REF!+#REF!+#REF!+#REF!+#REF!+#REF!+#REF!+#REF!+#REF!+#REF!+#REF!+#REF!+#REF!+#REF!+#REF!+#REF!+#REF!+#REF!+#REF!+#REF!+#REF!","v":{"$error":"#REF!"}},{"$f":"#REF!+#REF!+#REF!+#REF!+#REF!+#REF!+#REF!+#REF!+#REF!+#REF!+#REF!+#REF!+#REF!+#REF!+#REF!+#REF!+#REF!+#REF!+#REF!+#REF!+#REF!+#REF!+#REF!+#REF!+#REF!+#REF!+#REF!+#REF!+#REF!+#REF!+#REF!+#REF!+#REF!","v":{"$error":"#REF!"}},{"$f":"#REF!+#REF!+#REF!+#REF!+#REF!+#REF!+#REF!+#REF!+#REF!+#REF!+#REF!+#REF!+#REF!+#REF!+#REF!+#REF!+#REF!+#REF!+#REF!+#REF!+#REF!+#REF!+#REF!+#REF!+#REF!+#REF!+#REF!+#REF!+#REF!+#REF!+#REF!+#REF!+#REF!","v":{"$error":"#REF!"}},{"$f":"#REF!+#REF!+#REF!+#REF!+#REF!+#REF!+#REF!+#REF!+#REF!+#REF!+#REF!+#REF!+#REF!+#REF!+#REF!+#REF!+#REF!+#REF!+#REF!+#REF!+#REF!+#REF!+#REF!+#REF!+#REF!+#REF!+#REF!+#REF!+#REF!+#REF!+#REF!+#REF!+#REF!","v":{"$error":"#REF!"}},{"$f":"#REF!+#REF!+#REF!+#REF!+#REF!+#REF!+#REF!+#REF!+#REF!+#REF!+#REF!+#REF!+#REF!+#REF!+#REF!+#REF!+#REF!+#REF!+#REF!+#REF!+#REF!+#REF!+#REF!+#REF!+#REF!+#REF!+#REF!+#REF!+#REF!+#REF!+#REF!+#REF!+#REF!","v":{"$error":"#REF!"}},{"$f":"#REF!+#REF!+#REF!+#REF!+#REF!+#REF!+#REF!+#REF!+#REF!+#REF!+#REF!+#REF!+#REF!+#REF!+#REF!+#REF!+#REF!+#REF!+#REF!+#REF!+#REF!+#REF!+#REF!+#REF!+#REF!+#REF!+#REF!+#REF!+#REF!+#REF!+#REF!+#REF!+#REF!","v":{"$error":"#REF!"}},{"$f":"#REF!+#REF!+#REF!+#REF!+#REF!+#REF!+#REF!+#REF!+#REF!+#REF!+#REF!+#REF!+#REF!+#REF!+#REF!+#REF!+#REF!+#REF!+#REF!+#REF!+#REF!+#REF!+#REF!+#REF!+#REF!+#REF!+#REF!+#REF!+#REF!+#REF!+#REF!+#REF!+#REF!","v":{"$error":"#REF!"}},{"$f":"#REF!+#REF!+#REF!+#REF!+#REF!+#REF!+#REF!+#REF!+#REF!+#REF!+#REF!+#REF!+#REF!+#REF!+#REF!+#REF!+#REF!+#REF!+#REF!+#REF!+#REF!+#REF!+#REF!+#REF!+#REF!+#REF!+#REF!+#REF!+#REF!+#REF!+#REF!+#REF!+#REF!","v":{"$error":"#REF!"}},{"$f":"#REF!+#REF!+#REF!+#REF!+#REF!+#REF!+#REF!+#REF!+#REF!+#REF!+#REF!+#REF!+#REF!+#REF!+#REF!+#REF!+#REF!+#REF!+#REF!+#REF!+#REF!+#REF!+#REF!+#REF!+#REF!+#REF!+#REF!+#REF!+#REF!+#REF!+#REF!+#REF!+#REF!","v":{"$error":"#REF!"}},{"$f":"#REF!+#REF!+#REF!+#REF!+#REF!+#REF!+#REF!+#REF!+#REF!+#REF!+#REF!+#REF!+#REF!+#REF!+#REF!+#REF!+#REF!+#REF!+#REF!+#REF!+#REF!+#REF!+#REF!+#REF!+#REF!+#REF!+#REF!+#REF!+#REF!+#REF!+#REF!+#REF!+#REF!","v":{"$error":"#REF!"}},{"$f":"#REF!+#REF!+#REF!+#REF!+#REF!+#REF!+#REF!+#REF!+#REF!+#REF!+#REF!+#REF!+#REF!+#REF!+#REF!+#REF!+#REF!+#REF!+#REF!+#REF!+#REF!+#REF!+#REF!+#REF!+#REF!+#REF!+#REF!+#REF!+#REF!+#REF!+#REF!+#REF!+#REF!","v":{"$error":"#REF!"}},{"$f":"#REF!+#REF!+#REF!+#REF!+#REF!+#REF!+#REF!+#REF!+#REF!+#REF!+#REF!+#REF!+#REF!+#REF!+#REF!+#REF!+#REF!+#REF!+#REF!+#REF!+#REF!+#REF!+#REF!+#REF!+#REF!+#REF!+#REF!+#REF!+#REF!+#REF!+#REF!+#REF!+#REF!","v":{"$error":"#REF!"}},{"$f":"#REF!+#REF!+#REF!+#REF!+#REF!+#REF!+#REF!+#REF!+#REF!+#REF!+#REF!+#REF!+#REF!+#REF!+#REF!+#REF!+#REF!+#REF!+#REF!+#REF!+#REF!+#REF!+#REF!+#REF!+#REF!+#REF!+#REF!+#REF!+#REF!+#REF!+#REF!+#REF!+#REF!","v":{"$error":"#REF!"}},{"$error":"#REF!"},{"$error":"#REF!"},{"$f":"#REF!+#REF!+#REF!+#REF!+#REF!+#REF!+#REF!+#REF!+#REF!+#REF!+#REF!+#REF!+#REF!+#REF!+#REF!+#REF!+#REF!+#REF!+#REF!+#REF!+#REF!+#REF!+#REF!+#REF!+#REF!+#REF!+#REF!+#REF!+#REF!+#REF!+#REF!+#REF!+#REF!","v":{"$error":"#REF!"}},null,{"$error":"#REF!"}]
[50,"St. Martin",{"$f":"#REF!+#REF!+#REF!+#REF!+#REF!+#REF!+#REF!+#REF!+#REF!+#REF!+#REF!+#REF!+#REF!+#REF!+#REF!+#REF!+#REF!+#REF!+#REF!+#REF!+#REF!+#REF!+#REF!+#REF!+#REF!+#REF!+#REF!+#REF!+#REF!+#REF!+#REF!+#REF!+#REF!","v":{"$error":"#REF!"}},{"$f":"'9_Per Pupil Summary'!H55","v":4719.69835746218},{"$f":"#REF!+#REF!+#REF!+#REF!+#REF!+#REF!+#REF!+#REF!+#REF!+#REF!+#REF!+#REF!+#REF!+#REF!+#REF!+#REF!+#REF!+#REF!+#REF!+#REF!+#REF!+#REF!+#REF!+#REF!+#REF!+#REF!+#REF!+#REF!+#REF!+#REF!+#REF!+#REF!+#REF!","v":{"$error":"#REF!"}},{"$f":"#REF!+#REF!+#REF!+#REF!+#REF!+#REF!+#REF!+#REF!+#REF!+#REF!+#REF!+#REF!+#REF!+#REF!+#REF!+#REF!+#REF!+#REF!+#REF!+#REF!+#REF!+#REF!+#REF!+#REF!+#REF!+#REF!+#REF!+#REF!+#REF!+#REF!+#REF!+#REF!+#REF!","v":{"$error":"#REF!"}},{"$f":"'9_Per Pupil Summary'!I55","v":639.38338731975114},{"$f":"#REF!+#REF!+#REF!+#REF!+#REF!+#REF!+#REF!+#REF!+#REF!+#REF!+#REF!+#REF!+#REF!+#REF!+#REF!+#REF!+#REF!+#REF!+#REF!+#REF!+#REF!+#REF!+#REF!+#REF!+#REF!+#REF!+#REF!+#REF!+#REF!+#REF!+#REF!+#REF!+#REF!","v":{"$error":"#REF!"}},{"$f":"#REF!+#REF!+#REF!+#REF!+#REF!+#REF!+#REF!+#REF!+#REF!+#REF!+#REF!+#REF!+#REF!+#REF!+#REF!+#REF!+#REF!+#REF!+#REF!+#REF!+#REF!+#REF!+#REF!+#REF!+#REF!+#REF!+#REF!+#REF!+#REF!+#REF!+#REF!+#REF!+#REF!","v":{"$error":"#REF!"}},{"$f":"'9_Per Pupil Summary'!J55","v":174.37728745084121},{"$f":"#REF!+#REF!+#REF!+#REF!+#REF!+#REF!+#REF!+#REF!+#REF!+#REF!+#REF!+#REF!+#REF!+#REF!+#REF!+#REF!+#REF!+#REF!+#REF!+#REF!+#REF!+#REF!+#REF!+#REF!+#REF!+#REF!+#REF!+#REF!+#REF!+#REF!+#REF!+#REF!+#REF!","v":{"$error":"#REF!"}},{"$f":"#REF!+#REF!+#REF!+#REF!+#REF!+#REF!+#REF!+#REF!+#REF!+#REF!+#REF!+#REF!+#REF!+#REF!+#REF!+#REF!+#REF!+#REF!+#REF!+#REF!+#REF!+#REF!+#REF!+#REF!+#REF!+#REF!+#REF!+#REF!+#REF!+#REF!+#REF!+#REF!+#REF!","v":{"$error":"#REF!"}},{"$f":"'9_Per Pupil Summary'!K55","v":4359.4321862710303},{"$f":"#REF!+#REF!+#REF!+#REF!+#REF!+#REF!+#REF!+#REF!+#REF!+#REF!+#REF!+#REF!+#REF!+#REF!+#REF!+#REF!+#REF!+#REF!+#REF!+#REF!+#REF!+#REF!+#REF!+#REF!+#REF!+#REF!+#REF!+#REF!+#REF!+#REF!+#REF!+#REF!+#REF!","v":{"$error":"#REF!"}},{"$f":"#REF!+#REF!+#REF!+#REF!+#REF!+#REF!+#REF!+#REF!+#REF!+#REF!+#REF!+#REF!+#REF!+#REF!+#REF!+#REF!+#REF!+#REF!+#REF!+#REF!+#REF!+#REF!+#REF!+#REF!+#REF!+#REF!+#REF!+#REF!+#REF!+#REF!+#REF!+#REF!+#REF!","v":{"$error":"#REF!"}},{"$f":"'9_Per Pupil Summary'!L55","v":1743.7728745084123},{"$f":"#REF!+#REF!+#REF!+#REF!+#REF!+#REF!+#REF!+#REF!+#REF!+#REF!+#REF!+#REF!+#REF!+#REF!+#REF!+#REF!+#REF!+#REF!+#REF!+#REF!+#REF!+#REF!+#REF!+#REF!+#REF!+#REF!+#REF!+#REF!+#REF!+#REF!+#REF!+#REF!+#REF!","v":{"$error":"#REF!"}},{"$f":"#REF!+#REF!+#REF!+#REF!+#REF!+#REF!+#REF!+#REF!+#REF!+#REF!+#REF!+#REF!+#REF!+#REF!+#REF!+#REF!+#REF!+#REF!+#REF!+#REF!+#REF!+#REF!+#REF!+#REF!+#REF!+#REF!+#REF!+#REF!+#REF!+#REF!+#REF!+#REF!+#REF!","v":{"$error":"#REF!"}},{"$f":"#REF!+#REF!","v":{"$error":"#REF!"}},{"$f":"#REF!+#REF!+#REF!+#REF!+#REF!+#REF!+#REF!+#REF!+#REF!+#REF!+#REF!+#REF!+#REF!+#REF!+#REF!+#REF!+#REF!+#REF!+#REF!+#REF!+#REF!+#REF!+#REF!+#REF!+#REF!+#REF!+#REF!+#REF!+#REF!+#REF!+#REF!+#REF!+#REF!","v":{"$error":"#REF!"}},{"$f":"#REF!+#REF!+#REF!+#REF!+#REF!+#REF!+#REF!+#REF!+#REF!+#REF!+#REF!+#REF!+#REF!+#REF!+#REF!+#REF!+#REF!+#REF!+#REF!+#REF!+#REF!+#REF!+#REF!+#REF!+#REF!+#REF!+#REF!+#REF!+#REF!+#REF!+#REF!+#REF!+#REF!","v":{"$error":"#REF!"}},{"$f":"#REF!+#REF!+#REF!+#REF!+#REF!+#REF!+#REF!+#REF!+#REF!+#REF!+#REF!+#REF!+#REF!+#REF!+#REF!+#REF!+#REF!+#REF!+#REF!+#REF!+#REF!+#REF!+#REF!+#REF!+#REF!+#REF!+#REF!+#REF!+#REF!+#REF!+#REF!+#REF!+#REF!","v":{"$error":"#REF!"}},{"$f":"#REF!+#REF!+#REF!+#REF!+#REF!+#REF!+#REF!+#REF!+#REF!+#REF!+#REF!+#REF!+#REF!+#REF!+#REF!+#REF!+#REF!+#REF!+#REF!+#REF!+#REF!+#REF!+#REF!+#REF!+#REF!+#REF!+#REF!+#REF!+#REF!+#REF!+#REF!+#REF!+#REF!","v":{"$error":"#REF!"}},{"$f":"#REF!+#REF!+#REF!+#REF!+#REF!+#REF!+#REF!+#REF!+#REF!+#REF!+#REF!+#REF!+#REF!+#REF!+#REF!+#REF!+#REF!+#REF!+#REF!+#REF!+#REF!+#REF!+#REF!+#REF!+#REF!+#REF!+#REF!+#REF!+#REF!+#REF!+#REF!+#REF!+#REF!","v":{"$error":"#REF!"}},{"$f":"#REF!+#REF!+#REF!+#REF!+#REF!+#REF!+#REF!+#REF!+#REF!+#REF!+#REF!+#REF!+#REF!+#REF!+#REF!+#REF!+#REF!+#REF!+#REF!+#REF!+#REF!+#REF!+#REF!+#REF!+#REF!+#REF!+#REF!+#REF!+#REF!+#REF!+#REF!+#REF!+#REF!","v":{"$error":"#REF!"}},{"$f":"#REF!+#REF!+#REF!+#REF!+#REF!+#REF!+#REF!+#REF!+#REF!+#REF!+#REF!+#REF!+#REF!+#REF!+#REF!+#REF!+#REF!+#REF!+#REF!+#REF!+#REF!+#REF!+#REF!+#REF!+#REF!+#REF!+#REF!+#REF!+#REF!+#REF!+#REF!+#REF!+#REF!","v":{"$error":"#REF!"}},{"$f":"#REF!+#REF!+#REF!+#REF!+#REF!+#REF!+#REF!+#REF!+#REF!+#REF!+#REF!+#REF!+#REF!+#REF!+#REF!+#REF!+#REF!+#REF!+#REF!+#REF!+#REF!+#REF!+#REF!+#REF!+#REF!+#REF!+#REF!+#REF!+#REF!+#REF!+#REF!+#REF!+#REF!","v":{"$error":"#REF!"}},{"$f":"#REF!+#REF!+#REF!+#REF!+#REF!+#REF!+#REF!+#REF!+#REF!+#REF!+#REF!+#REF!+#REF!+#REF!+#REF!+#REF!+#REF!+#REF!+#REF!+#REF!+#REF!+#REF!+#REF!+#REF!+#REF!+#REF!+#REF!+#REF!+#REF!+#REF!+#REF!+#REF!+#REF!","v":{"$error":"#REF!"}},{"$f":"#REF!+#REF!+#REF!+#REF!+#REF!+#REF!+#REF!+#REF!+#REF!+#REF!+#REF!+#REF!+#REF!+#REF!+#REF!+#REF!+#REF!+#REF!+#REF!+#REF!+#REF!+#REF!+#REF!+#REF!+#REF!+#REF!+#REF!+#REF!+#REF!+#REF!+#REF!+#REF!+#REF!","v":{"$error":"#REF!"}},{"$f":"#REF!+#REF!+#REF!+#REF!+#REF!+#REF!+#REF!+#REF!+#REF!+#REF!+#REF!+#REF!+#REF!+#REF!+#REF!+#REF!+#REF!+#REF!+#REF!+#REF!+#REF!+#REF!+#REF!+#REF!+#REF!+#REF!+#REF!+#REF!+#REF!+#REF!+#REF!+#REF!+#REF!","v":{"$error":"#REF!"}},{"$f":"#REF!+#REF!+#REF!+#REF!+#REF!+#REF!+#REF!+#REF!+#REF!+#REF!+#REF!+#REF!+#REF!+#REF!+#REF!+#REF!+#REF!+#REF!+#REF!+#REF!+#REF!+#REF!+#REF!+#REF!+#REF!+#REF!+#REF!+#REF!+#REF!+#REF!+#REF!+#REF!+#REF!","v":{"$error":"#REF!"}},{"$f":"'9_Per Pupil Summary'!N55","v":5052},{"$f":"#REF!+#REF!+#REF!+#REF!+#REF!+#REF!+#REF!+#REF!+#REF!+#REF!+#REF!+#REF!+#REF!+#REF!+#REF!+#REF!+#REF!+#REF!+#REF!+#REF!+#REF!+#REF!+#REF!+#REF!+#REF!+#REF!+#REF!+#REF!+#REF!+#REF!+#REF!+#REF!+#REF!","v":{"$error":"#REF!"}},{"$f":"#REF!+#REF!+#REF!+#REF!+#REF!+#REF!+#REF!+#REF!+#REF!+#REF!+#REF!+#REF!+#REF!+#REF!+#REF!+#REF!+#REF!+#REF!+#REF!+#REF!+#REF!+#REF!+#REF!+#REF!+#REF!+#REF!+#REF!+#REF!+#REF!+#REF!+#REF!+#REF!+#REF!","v":{"$error":"#REF!"}},{"$f":"#REF!+#REF!+#REF!+#REF!+#REF!+#REF!+#REF!+#REF!+#REF!+#REF!+#REF!+#REF!+#REF!+#REF!+#REF!+#REF!+#REF!+#REF!+#REF!+#REF!+#REF!+#REF!+#REF!+#REF!+#REF!+#REF!+#REF!+#REF!+#REF!+#REF!+#REF!+#REF!+#REF!","v":{"$error":"#REF!"}},{"$f":"#REF!+#REF!+#REF!+#REF!+#REF!+#REF!+#REF!+#REF!+#REF!+#REF!+#REF!+#REF!+#REF!+#REF!+#REF!+#REF!+#REF!+#REF!+#REF!+#REF!+#REF!+#REF!+#REF!+#REF!+#REF!+#REF!+#REF!+#REF!+#REF!+#REF!+#REF!+#REF!+#REF!","v":{"$error":"#REF!"}},{"$f":"#REF!+#REF!+#REF!+#REF!+#REF!+#REF!+#REF!+#REF!+#REF!+#REF!+#REF!+#REF!+#REF!+#REF!+#REF!+#REF!+#REF!+#REF!+#REF!+#REF!+#REF!+#REF!+#REF!+#REF!+#REF!+#REF!+#REF!+#REF!+#REF!+#REF!+#REF!+#REF!+#REF!","v":{"$error":"#REF!"}},{"$f":"#REF!+#REF!+#REF!+#REF!+#REF!+#REF!+#REF!+#REF!+#REF!+#REF!+#REF!+#REF!+#REF!+#REF!+#REF!+#REF!+#REF!+#REF!+#REF!+#REF!+#REF!+#REF!+#REF!+#REF!+#REF!+#REF!+#REF!+#REF!+#REF!+#REF!+#REF!+#REF!+#REF!","v":{"$error":"#REF!"}},{"$f":"#REF!+#REF!+#REF!+#REF!+#REF!+#REF!+#REF!+#REF!+#REF!+#REF!+#REF!+#REF!+#REF!+#REF!+#REF!+#REF!+#REF!+#REF!+#REF!+#REF!+#REF!+#REF!+#REF!+#REF!+#REF!+#REF!+#REF!+#REF!+#REF!+#REF!+#REF!+#REF!+#REF!","v":{"$error":"#REF!"}},{"$f":"#REF!+#REF!+#REF!+#REF!+#REF!+#REF!+#REF!+#REF!+#REF!+#REF!+#REF!+#REF!+#REF!+#REF!+#REF!+#REF!+#REF!+#REF!+#REF!+#REF!+#REF!+#REF!+#REF!+#REF!+#REF!+#REF!+#REF!+#REF!+#REF!+#REF!+#REF!+#REF!+#REF!","v":{"$error":"#REF!"}},{"$f":"#REF!+#REF!+#REF!+#REF!+#REF!+#REF!+#REF!+#REF!+#REF!+#REF!+#REF!+#REF!+#REF!+#REF!+#REF!+#REF!+#REF!+#REF!+#REF!+#REF!+#REF!+#REF!+#REF!+#REF!+#REF!+#REF!+#REF!+#REF!+#REF!+#REF!+#REF!+#REF!+#REF!","v":{"$error":"#REF!"}},{"$f":"#REF!+#REF!+#REF!+#REF!+#REF!+#REF!+#REF!+#REF!+#REF!+#REF!+#REF!+#REF!+#REF!+#REF!+#REF!+#REF!+#REF!+#REF!+#REF!+#REF!+#REF!+#REF!+#REF!+#REF!+#REF!+#REF!+#REF!+#REF!+#REF!+#REF!+#REF!+#REF!+#REF!","v":{"$error":"#REF!"}},{"$f":"#REF!+#REF!+#REF!+#REF!+#REF!+#REF!+#REF!+#REF!+#REF!+#REF!+#REF!+#REF!+#REF!+#REF!+#REF!+#REF!+#REF!+#REF!+#REF!+#REF!+#REF!+#REF!+#REF!+#REF!+#REF!+#REF!+#REF!+#REF!+#REF!+#REF!+#REF!+#REF!+#REF!","v":{"$error":"#REF!"}},{"$f":"#REF!+#REF!+#REF!+#REF!+#REF!+#REF!+#REF!+#REF!+#REF!+#REF!+#REF!+#REF!+#REF!+#REF!+#REF!+#REF!+#REF!+#REF!+#REF!+#REF!+#REF!+#REF!+#REF!+#REF!+#REF!+#REF!+#REF!+#REF!+#REF!+#REF!+#REF!+#REF!+#REF!","v":{"$error":"#REF!"}},{"$f":"#REF!+#REF!+#REF!+#REF!+#REF!+#REF!+#REF!+#REF!+#REF!+#REF!+#REF!+#REF!+#REF!+#REF!+#REF!+#REF!+#REF!+#REF!+#REF!+#REF!+#REF!+#REF!+#REF!+#REF!+#REF!+#REF!+#REF!+#REF!+#REF!+#REF!+#REF!+#REF!+#REF!","v":{"$error":"#REF!"}},{"$f":"#REF!+#REF!+#REF!+#REF!+#REF!+#REF!+#REF!+#REF!+#REF!+#REF!+#REF!+#REF!+#REF!+#REF!+#REF!+#REF!+#REF!+#REF!+#REF!+#REF!+#REF!+#REF!+#REF!+#REF!+#REF!+#REF!+#REF!+#REF!+#REF!+#REF!+#REF!+#REF!+#REF!","v":{"$error":"#REF!"}},{"$error":"#REF!"},{"$error":"#REF!"},{"$f":"#REF!+#REF!+#REF!+#REF!+#REF!+#REF!+#REF!+#REF!+#REF!+#REF!+#REF!+#REF!+#REF!+#REF!+#REF!+#REF!+#REF!+#REF!+#REF!+#REF!+#REF!+#REF!+#REF!+#REF!+#REF!+#REF!+#REF!+#REF!+#REF!+#REF!+#REF!+#REF!+#REF!","v":{"$error":"#REF!"}},null,{"$error":"#REF!"}]
[51,"St. Mary",{"$f":"#REF!+#REF!+#REF!+#REF!+#REF!+#REF!+#REF!+#REF!+#REF!+#REF!+#REF!+#REF!+#REF!+#REF!+#REF!+#REF!+#REF!+#REF!+#REF!+#REF!+#REF!+#REF!+#REF!+#REF!+#REF!+#REF!+#REF!+#REF!+#REF!+#REF!+#REF!+#REF!+#REF!","v":{"$error":"#REF!"}},{"$f":"'9_Per Pupil Summary'!H56","v":4736.8329032144138},{"$f":"#REF!+#REF!+#REF!+#REF!+#REF!+#REF!+#REF!+#REF!+#REF!+#REF!+#REF!+#REF!+#REF!+#REF!+#REF!+#REF!+#REF!+#REF!+#REF!+#REF!+#REF!+#REF!+#REF!+#REF!+#REF!+#REF!+#REF!+#REF!+#REF!+#REF!+#REF!+#REF!+#REF!","v":{"$error":"#REF!"}},{"$f":"#REF!+#REF!+#REF!+#REF!+#REF!+#REF!+#REF!+#REF!+#REF!+#REF!+#REF!+#REF!+#REF!+#REF!+#REF!+#REF!+#REF!+#REF!+#REF!+#REF!+#REF!+#REF!+#REF!+#REF!+#REF!+#REF!+#REF!+#REF!+#REF!+#REF!+#REF!+#REF!+#REF!","v":{"$error":"#REF!"}},{"$f":"'9_Per Pupil Summary'!I56","v":625.06898019653272},{"$f":"#REF!+#REF!+#REF!+#REF!+#REF!+#REF!+#REF!+#REF!+#REF!+#REF!+#REF!+#REF!+#REF!+#REF!+#REF!+#REF!+#REF!+#REF!+#REF!+#REF!+#REF!+#REF!+#REF!+#REF!+#REF!+#REF!+#REF!+#REF!+#REF!+#REF!+#REF!+#REF!+#REF!","v":{"$error":"#REF!"}},{"$f":"#REF!+#REF!+#REF!+#REF!+#REF!+#REF!+#REF!+#REF!+#REF!+#REF!+#REF!+#REF!+#REF!+#REF!+#REF!+#REF!+#REF!+#REF!+#REF!+#REF!+#REF!+#REF!+#REF!+#REF!+#REF!+#REF!+#REF!+#REF!+#REF!+#REF!+#REF!+#REF!+#REF!","v":{"$error":"#REF!"}},{"$f":"'9_Per Pupil Summary'!J56","v":170.473358235418},{"$f":"#REF!+#REF!+#REF!+#REF!+#REF!+#REF!+#REF!+#REF!+#REF!+#REF!+#REF!+#REF!+#REF!+#REF!+#REF!+#REF!+#REF!+#REF!+#REF!+#REF!+#REF!+#REF!+#REF!+#REF!+#REF!+#REF!+#REF!+#REF!+#REF!+#REF!+#REF!+#REF!+#REF!","v":{"$error":"#REF!"}},{"$f":"#REF!+#REF!+#REF!+#REF!+#REF!+#REF!+#REF!+#REF!+#REF!+#REF!+#REF!+#REF!+#REF!+#REF!+#REF!+#REF!+#REF!+#REF!+#REF!+#REF!+#REF!+#REF!+#REF!+#REF!+#REF!+#REF!+#REF!+#REF!+#REF!+#REF!+#REF!+#REF!+#REF!","v":{"$error":"#REF!"}},{"$f":"'9_Per Pupil Summary'!K56","v":4261.8339558854505},{"$f":"#REF!+#REF!+#REF!+#REF!+#REF!+#REF!+#REF!+#REF!+#REF!+#REF!+#REF!+#REF!+#REF!+#REF!+#REF!+#REF!+#REF!+#REF!+#REF!+#REF!+#REF!+#REF!+#REF!+#REF!+#REF!+#REF!+#REF!+#REF!+#REF!+#REF!+#REF!+#REF!+#REF!","v":{"$error":"#REF!"}},{"$f":"#REF!+#REF!+#REF!+#REF!+#REF!+#REF!+#REF!+#REF!+#REF!+#REF!+#REF!+#REF!+#REF!+#REF!+#REF!+#REF!+#REF!+#REF!+#REF!+#REF!+#REF!+#REF!+#REF!+#REF!+#REF!+#REF!+#REF!+#REF!+#REF!+#REF!+#REF!+#REF!+#REF!","v":{"$error":"#REF!"}},{"$f":"'9_Per Pupil Summary'!L56","v":1704.73358235418},{"$f":"#REF!+#REF!+#REF!+#REF!+#REF!+#REF!+#REF!+#REF!+#REF!+#REF!+#REF!+#REF!+#REF!+#REF!+#REF!+#REF!+#REF!+#REF!+#REF!+#REF!+#REF!+#REF!+#REF!+#REF!+#REF!+#REF!+#REF!+#REF!+#REF!+#REF!+#REF!+#REF!+#REF!","v":{"$error":"#REF!"}},{"$f":"#REF!+#REF!+#REF!+#REF!+#REF!+#REF!+#REF!+#REF!+#REF!+#REF!+#REF!+#REF!+#REF!+#REF!+#REF!+#REF!+#REF!+#REF!+#REF!+#REF!+#REF!+#REF!+#REF!+#REF!+#REF!+#REF!+#REF!+#REF!+#REF!+#REF!+#REF!+#REF!+#REF!","v":{"$error":"#REF!"}},{"$f":"#REF!+#REF!","v":{"$error":"#REF!"}},{"$f":"#REF!+#REF!+#REF!+#REF!+#REF!+#REF!+#REF!+#REF!+#REF!+#REF!+#REF!+#REF!+#REF!+#REF!+#REF!+#REF!+#REF!+#REF!+#REF!+#REF!+#REF!+#REF!+#REF!+#REF!+#REF!+#REF!+#REF!+#REF!+#REF!+#REF!+#REF!+#REF!+#REF!","v":{"$error":"#REF!"}},{"$f":"#REF!+#REF!+#REF!+#REF!+#REF!+#REF!+#REF!+#REF!+#REF!+#REF!+#REF!+#REF!+#REF!+#REF!+#REF!+#REF!+#REF!+#REF!+#REF!+#REF!+#REF!+#REF!+#REF!+#REF!+#REF!+#REF!+#REF!+#REF!+#REF!+#REF!+#REF!+#REF!+#REF!","v":{"$error":"#REF!"}},{"$f":"#REF!+#REF!+#REF!+#REF!+#REF!+#REF!+#REF!+#REF!+#REF!+#REF!+#REF!+#REF!+#REF!+#REF!+#REF!+#REF!+#REF!+#REF!+#REF!+#REF!+#REF!+#REF!+#REF!+#REF!+#REF!+#REF!+#REF!+#REF!+#REF!+#REF!+#REF!+#REF!+#REF!","v":{"$error":"#REF!"}},{"$f":"#REF!+#REF!+#REF!+#REF!+#REF!+#REF!+#REF!+#REF!+#REF!+#REF!+#REF!+#REF!+#REF!+#REF!+#REF!+#REF!+#REF!+#REF!+#REF!+#REF!+#REF!+#REF!+#REF!+#REF!+#REF!+#REF!+#REF!+#REF!+#REF!+#REF!+#REF!+#REF!+#REF!","v":{"$error":"#REF!"}},{"$f":"#REF!+#REF!+#REF!+#REF!+#REF!+#REF!+#REF!+#REF!+#REF!+#REF!+#REF!+#REF!+#REF!+#REF!+#REF!+#REF!+#REF!+#REF!+#REF!+#REF!+#REF!+#REF!+#REF!+#REF!+#REF!+#REF!+#REF!+#REF!+#REF!+#REF!+#REF!+#REF!+#REF!","v":{"$error":"#REF!"}},{"$f":"#REF!+#REF!+#REF!+#REF!+#REF!+#REF!+#REF!+#REF!+#REF!+#REF!+#REF!+#REF!+#REF!+#REF!+#REF!+#REF!+#REF!+#REF!+#REF!+#REF!+#REF!+#REF!+#REF!+#REF!+#REF!+#REF!+#REF!+#REF!+#REF!+#REF!+#REF!+#REF!+#REF!","v":{"$error":"#REF!"}},{"$f":"#REF!+#REF!+#REF!+#REF!+#REF!+#REF!+#REF!+#REF!+#REF!+#REF!+#REF!+#REF!+#REF!+#REF!+#REF!+#REF!+#REF!+#REF!+#REF!+#REF!+#REF!+#REF!+#REF!+#REF!+#REF!+#REF!+#REF!+#REF!+#REF!+#REF!+#REF!+#REF!+#REF!","v":{"$error":"#REF!"}},{"$f":"#REF!+#REF!+#REF!+#REF!+#REF!+#REF!+#REF!+#REF!+#REF!+#REF!+#REF!+#REF!+#REF!+#REF!+#REF!+#REF!+#REF!+#REF!+#REF!+#REF!+#REF!+#REF!+#REF!+#REF!+#REF!+#REF!+#REF!+#REF!+#REF!+#REF!+#REF!+#REF!+#REF!","v":{"$error":"#REF!"}},{"$f":"#REF!+#REF!+#REF!+#REF!+#REF!+#REF!+#REF!+#REF!+#REF!+#REF!+#REF!+#REF!+#REF!+#REF!+#REF!+#REF!+#REF!+#REF!+#REF!+#REF!+#REF!+#REF!+#REF!+#REF!+#REF!+#REF!+#REF!+#REF!+#REF!+#REF!+#REF!+#REF!+#REF!","v":{"$error":"#REF!"}},{"$f":"#REF!+#REF!+#REF!+#REF!+#REF!+#REF!+#REF!+#REF!+#REF!+#REF!+#REF!+#REF!+#REF!+#REF!+#REF!+#REF!+#REF!+#REF!+#REF!+#REF!+#REF!+#REF!+#REF!+#REF!+#REF!+#REF!+#REF!+#REF!+#REF!+#REF!+#REF!+#REF!+#REF!","v":{"$error":"#REF!"}},{"$f":"#REF!+#REF!+#REF!+#REF!+#REF!+#REF!+#REF!+#REF!+#REF!+#REF!+#REF!+#REF!+#REF!+#REF!+#REF!+#REF!+#REF!+#REF!+#REF!+#REF!+#REF!+#REF!+#REF!+#REF!+#REF!+#REF!+#REF!+#REF!+#REF!+#REF!+#REF!+#REF!+#REF!","v":{"$error":"#REF!"}},{"$f":"#REF!+#REF!+#REF!+#REF!+#REF!+#REF!+#REF!+#REF!+#REF!+#REF!+#REF!+#REF!+#REF!+#REF!+#REF!+#REF!+#REF!+#REF!+#REF!+#REF!+#REF!+#REF!+#REF!+#REF!+#REF!+#REF!+#REF!+#REF!+#REF!+#REF!+#REF!+#REF!+#REF!","v":{"$error":"#REF!"}},{"$f":"'9_Per Pupil Summary'!N56","v":6562},{"$f":"#REF!+#REF!+#REF!+#REF!+#REF!+#REF!+#REF!+#REF!+#REF!+#REF!+#REF!+#REF!+#REF!+#REF!+#REF!+#REF!+#REF!+#REF!+#REF!+#REF!+#REF!+#REF!+#REF!+#REF!+#REF!+#REF!+#REF!+#REF!+#REF!+#REF!+#REF!+#REF!+#REF!","v":{"$error":"#REF!"}},{"$f":"#REF!+#REF!+#REF!+#REF!+#REF!+#REF!+#REF!+#REF!+#REF!+#REF!+#REF!+#REF!+#REF!+#REF!+#REF!+#REF!+#REF!+#REF!+#REF!+#REF!+#REF!+#REF!+#REF!+#REF!+#REF!+#REF!+#REF!+#REF!+#REF!+#REF!+#REF!+#REF!+#REF!","v":{"$error":"#REF!"}},{"$f":"#REF!+#REF!+#REF!+#REF!+#REF!+#REF!+#REF!+#REF!+#REF!+#REF!+#REF!+#REF!+#REF!+#REF!+#REF!+#REF!+#REF!+#REF!+#REF!+#REF!+#REF!+#REF!+#REF!+#REF!+#REF!+#REF!+#REF!+#REF!+#REF!+#REF!+#REF!+#REF!+#REF!","v":{"$error":"#REF!"}},{"$f":"#REF!+#REF!+#REF!+#REF!+#REF!+#REF!+#REF!+#REF!+#REF!+#REF!+#REF!+#REF!+#REF!+#REF!+#REF!+#REF!+#REF!+#REF!+#REF!+#REF!+#REF!+#REF!+#REF!+#REF!+#REF!+#REF!+#REF!+#REF!+#REF!+#REF!+#REF!+#REF!+#REF!","v":{"$error":"#REF!"}},{"$f":"#REF!+#REF!+#REF!+#REF!+#REF!+#REF!+#REF!+#REF!+#REF!+#REF!+#REF!+#REF!+#REF!+#REF!+#REF!+#REF!+#REF!+#REF!+#REF!+#REF!+#REF!+#REF!+#REF!+#REF!+#REF!+#REF!+#REF!+#REF!+#REF!+#REF!+#REF!+#REF!+#REF!","v":{"$error":"#REF!"}},{"$f":"#REF!+#REF!+#REF!+#REF!+#REF!+#REF!+#REF!+#REF!+#REF!+#REF!+#REF!+#REF!+#REF!+#REF!+#REF!+#REF!+#REF!+#REF!+#REF!+#REF!+#REF!+#REF!+#REF!+#REF!+#REF!+#REF!+#REF!+#REF!+#REF!+#REF!+#REF!+#REF!+#REF!","v":{"$error":"#REF!"}},{"$f":"#REF!+#REF!+#REF!+#REF!+#REF!+#REF!+#REF!+#REF!+#REF!+#REF!+#REF!+#REF!+#REF!+#REF!+#REF!+#REF!+#REF!+#REF!+#REF!+#REF!+#REF!+#REF!+#REF!+#REF!+#REF!+#REF!+#REF!+#REF!+#REF!+#REF!+#REF!+#REF!+#REF!","v":{"$error":"#REF!"}},{"$f":"#REF!+#REF!+#REF!+#REF!+#REF!+#REF!+#REF!+#REF!+#REF!+#REF!+#REF!+#REF!+#REF!+#REF!+#REF!+#REF!+#REF!+#REF!+#REF!+#REF!+#REF!+#REF!+#REF!+#REF!+#REF!+#REF!+#REF!+#REF!+#REF!+#REF!+#REF!+#REF!+#REF!","v":{"$error":"#REF!"}},{"$f":"#REF!+#REF!+#REF!+#REF!+#REF!+#REF!+#REF!+#REF!+#REF!+#REF!+#REF!+#REF!+#REF!+#REF!+#REF!+#REF!+#REF!+#REF!+#REF!+#REF!+#REF!+#REF!+#REF!+#REF!+#REF!+#REF!+#REF!+#REF!+#REF!+#REF!+#REF!+#REF!+#REF!","v":{"$error":"#REF!"}},{"$f":"#REF!+#REF!+#REF!+#REF!+#REF!+#REF!+#REF!+#REF!+#REF!+#REF!+#REF!+#REF!+#REF!+#REF!+#REF!+#REF!+#REF!+#REF!+#REF!+#REF!+#REF!+#REF!+#REF!+#REF!+#REF!+#REF!+#REF!+#REF!+#REF!+#REF!+#REF!+#REF!+#REF!","v":{"$error":"#REF!"}},{"$f":"#REF!+#REF!+#REF!+#REF!+#REF!+#REF!+#REF!+#REF!+#REF!+#REF!+#REF!+#REF!+#REF!+#REF!+#REF!+#REF!+#REF!+#REF!+#REF!+#REF!+#REF!+#REF!+#REF!+#REF!+#REF!+#REF!+#REF!+#REF!+#REF!+#REF!+#REF!+#REF!+#REF!","v":{"$error":"#REF!"}},{"$f":"#REF!+#REF!+#REF!+#REF!+#REF!+#REF!+#REF!+#REF!+#REF!+#REF!+#REF!+#REF!+#REF!+#REF!+#REF!+#REF!+#REF!+#REF!+#REF!+#REF!+#REF!+#REF!+#REF!+#REF!+#REF!+#REF!+#REF!+#REF!+#REF!+#REF!+#REF!+#REF!+#REF!","v":{"$error":"#REF!"}},{"$f":"#REF!+#REF!+#REF!+#REF!+#REF!+#REF!+#REF!+#REF!+#REF!+#REF!+#REF!+#REF!+#REF!+#REF!+#REF!+#REF!+#REF!+#REF!+#REF!+#REF!+#REF!+#REF!+#REF!+#REF!+#REF!+#REF!+#REF!+#REF!+#REF!+#REF!+#REF!+#REF!+#REF!","v":{"$error":"#REF!"}},{"$f":"#REF!+#REF!+#REF!+#REF!+#REF!+#REF!+#REF!+#REF!+#REF!+#REF!+#REF!+#REF!+#REF!+#REF!+#REF!+#REF!+#REF!+#REF!+#REF!+#REF!+#REF!+#REF!+#REF!+#REF!+#REF!+#REF!+#REF!+#REF!+#REF!+#REF!+#REF!+#REF!+#REF!","v":{"$error":"#REF!"}},{"$error":"#REF!"},{"$error":"#REF!"},{"$f":"#REF!+#REF!+#REF!+#REF!+#REF!+#REF!+#REF!+#REF!+#REF!+#REF!+#REF!+#REF!+#REF!+#REF!+#REF!+#REF!+#REF!+#REF!+#REF!+#REF!+#REF!+#REF!+#REF!+#REF!+#REF!+#REF!+#REF!+#REF!+#REF!+#REF!+#REF!+#REF!+#REF!","v":{"$error":"#REF!"}},null,{"$error":"#REF!"}]
[52,"St. Tammany",{"$f":"#REF!+#REF!+#REF!+#REF!+#REF!+#REF!+#REF!+#REF!+#REF!+#REF!+#REF!+#REF!+#REF!+#REF!+#REF!+#REF!+#REF!+#REF!+#REF!+#REF!+#REF!+#REF!+#REF!+#REF!+#REF!+#REF!+#REF!+#REF!+#REF!+#REF!+#REF!+#REF!+#REF!","v":{"$error":"#REF!"}},{"$f":"'9_Per Pupil Summary'!H57","v":4251.4879122466091},{"$f":"#REF!+#REF!+#REF!+#REF!+#REF!+#REF!+#REF!+#REF!+#REF!+#REF!+#REF!+#REF!+#REF!+#REF!+#REF!+#REF!+#REF!+#REF!+#REF!+#REF!+#REF!+#REF!+#REF!+#REF!+#REF!+#REF!+#REF!+#REF!+#REF!+#REF!+#REF!+#REF!+#REF!","v":{"$error":"#REF!"}},{"$f":"#REF!+#REF!+#REF!+#REF!+#REF!+#REF!+#REF!+#REF!+#REF!+#REF!+#REF!+#REF!+#REF!+#REF!+#REF!+#REF!+#REF!+#REF!+#REF!+#REF!+#REF!+#REF!+#REF!+#REF!+#REF!+#REF!+#REF!+#REF!+#REF!+#REF!+#REF!+#REF!+#REF!","v":{"$error":"#REF!"}},{"$f":"'9_Per Pupil Summary'!I57","v":577.09689500120646},{"$f":"#REF!+#REF!+#REF!+#REF!+#REF!+#REF!+#REF!+#REF!+#REF!+#REF!+#REF!+#REF!+#REF!+#REF!+#REF!+#REF!+#REF!+#REF!+#REF!+#REF!+#REF!+#REF!+#REF!+#REF!+#REF!+#REF!+#REF!+#REF!+#REF!+#REF!+#REF!+#REF!+#REF!","v":{"$error":"#REF!"}},{"$f":"#REF!+#REF!+#REF!+#REF!+#REF!+#REF!+#REF!+#REF!+#REF!+#REF!+#REF!+#REF!+#REF!+#REF!+#REF!+#REF!+#REF!+#REF!+#REF!+#REF!+#REF!+#REF!+#REF!+#REF!+#REF!+#REF!+#REF!+#REF!+#REF!+#REF!+#REF!+#REF!+#REF!","v":{"$error":"#REF!"}},{"$f":"'9_Per Pupil Summary'!J57","v":157.39006227305632},{"$f":"#REF!+#REF!+#REF!+#REF!+#REF!+#REF!+#REF!+#REF!+#REF!+#REF!+#REF!+#REF!+#REF!+#REF!+#REF!+#REF!+#REF!+#REF!+#REF!+#REF!+#REF!+#REF!+#REF!+#REF!+#REF!+#REF!+#REF!+#REF!+#REF!+#REF!+#REF!+#REF!+#REF!","v":{"$error":"#REF!"}},{"$f":"#REF!+#REF!+#REF!+#REF!+#REF!+#REF!+#REF!+#REF!+#REF!+#REF!+#REF!+#REF!+#REF!+#REF!+#REF!+#REF!+#REF!+#REF!+#REF!+#REF!+#REF!+#REF!+#REF!+#REF!+#REF!+#REF!+#REF!+#REF!+#REF!+#REF!+#REF!+#REF!+#REF!","v":{"$error":"#REF!"}},{"$f":"'9_Per Pupil Summary'!K57","v":3934.7515568264075},{"$f":"#REF!+#REF!+#REF!+#REF!+#REF!+#REF!+#REF!+#REF!+#REF!+#REF!+#REF!+#REF!+#REF!+#REF!+#REF!+#REF!+#REF!+#REF!+#REF!+#REF!+#REF!+#REF!+#REF!+#REF!+#REF!+#REF!+#REF!+#REF!+#REF!+#REF!+#REF!+#REF!+#REF!","v":{"$error":"#REF!"}},{"$f":"#REF!+#REF!+#REF!+#REF!+#REF!+#REF!+#REF!+#REF!+#REF!+#REF!+#REF!+#REF!+#REF!+#REF!+#REF!+#REF!+#REF!+#REF!+#REF!+#REF!+#REF!+#REF!+#REF!+#REF!+#REF!+#REF!+#REF!+#REF!+#REF!+#REF!+#REF!+#REF!+#REF!","v":{"$error":"#REF!"}},{"$f":"'9_Per Pupil Summary'!L57","v":1573.9006227305631},{"$f":"#REF!+#REF!+#REF!+#REF!+#REF!+#REF!+#REF!+#REF!+#REF!+#REF!+#REF!+#REF!+#REF!+#REF!+#REF!+#REF!+#REF!+#REF!+#REF!+#REF!+#REF!+#REF!+#REF!+#REF!+#REF!+#REF!+#REF!+#REF!+#REF!+#REF!+#REF!+#REF!+#REF!","v":{"$error":"#REF!"}},{"$f":"#REF!+#REF!+#REF!+#REF!+#REF!+#REF!+#REF!+#REF!+#REF!+#REF!+#REF!+#REF!+#REF!+#REF!+#REF!+#REF!+#REF!+#REF!+#REF!+#REF!+#REF!+#REF!+#REF!+#REF!+#REF!+#REF!+#REF!+#REF!+#REF!+#REF!+#REF!+#REF!+#REF!","v":{"$error":"#REF!"}},{"$f":"#REF!+#REF!","v":{"$error":"#REF!"}},{"$f":"#REF!+#REF!+#REF!+#REF!+#REF!+#REF!+#REF!+#REF!+#REF!+#REF!+#REF!+#REF!+#REF!+#REF!+#REF!+#REF!+#REF!+#REF!+#REF!+#REF!+#REF!+#REF!+#REF!+#REF!+#REF!+#REF!+#REF!+#REF!+#REF!+#REF!+#REF!+#REF!+#REF!","v":{"$error":"#REF!"}},{"$f":"#REF!+#REF!+#REF!+#REF!+#REF!+#REF!+#REF!+#REF!+#REF!+#REF!+#REF!+#REF!+#REF!+#REF!+#REF!+#REF!+#REF!+#REF!+#REF!+#REF!+#REF!+#REF!+#REF!+#REF!+#REF!+#REF!+#REF!+#REF!+#REF!+#REF!+#REF!+#REF!+#REF!","v":{"$error":"#REF!"}},{"$f":"#REF!+#REF!+#REF!+#REF!+#REF!+#REF!+#REF!+#REF!+#REF!+#REF!+#REF!+#REF!+#REF!+#REF!+#REF!+#REF!+#REF!+#REF!+#REF!+#REF!+#REF!+#REF!+#REF!+#REF!+#REF!+#REF!+#REF!+#REF!+#REF!+#REF!+#REF!+#REF!+#REF!","v":{"$error":"#REF!"}},{"$f":"#REF!+#REF!+#REF!+#REF!+#REF!+#REF!+#REF!+#REF!+#REF!+#REF!+#REF!+#REF!+#REF!+#REF!+#REF!+#REF!+#REF!+#REF!+#REF!+#REF!+#REF!+#REF!+#REF!+#REF!+#REF!+#REF!+#REF!+#REF!+#REF!+#REF!+#REF!+#REF!+#REF!","v":{"$error":"#REF!"}},{"$f":"#REF!+#REF!+#REF!+#REF!+#REF!+#REF!+#REF!+#REF!+#REF!+#REF!+#REF!+#REF!+#REF!+#REF!+#REF!+#REF!+#REF!+#REF!+#REF!+#REF!+#REF!+#REF!+#REF!+#REF!+#REF!+#REF!+#REF!+#REF!+#REF!+#REF!+#REF!+#REF!+#REF!","v":{"$error":"#REF!"}},{"$f":"#REF!+#REF!+#REF!+#REF!+#REF!+#REF!+#REF!+#REF!+#REF!+#REF!+#REF!+#REF!+#REF!+#REF!+#REF!+#REF!+#REF!+#REF!+#REF!+#REF!+#REF!+#REF!+#REF!+#REF!+#REF!+#REF!+#REF!+#REF!+#REF!+#REF!+#REF!+#REF!+#REF!","v":{"$error":"#REF!"}},{"$f":"#REF!+#REF!+#REF!+#REF!+#REF!+#REF!+#REF!+#REF!+#REF!+#REF!+#REF!+#REF!+#REF!+#REF!+#REF!+#REF!+#REF!+#REF!+#REF!+#REF!+#REF!+#REF!+#REF!+#REF!+#REF!+#REF!+#REF!+#REF!+#REF!+#REF!+#REF!+#REF!+#REF!","v":{"$error":"#REF!"}},{"$f":"#REF!+#REF!+#REF!+#REF!+#REF!+#REF!+#REF!+#REF!+#REF!+#REF!+#REF!+#REF!+#REF!+#REF!+#REF!+#REF!+#REF!+#REF!+#REF!+#REF!+#REF!+#REF!+#REF!+#REF!+#REF!+#REF!+#REF!+#REF!+#REF!+#REF!+#REF!+#REF!+#REF!","v":{"$error":"#REF!"}},{"$f":"#REF!+#REF!+#REF!+#REF!+#REF!+#REF!+#REF!+#REF!+#REF!+#REF!+#REF!+#REF!+#REF!+#REF!+#REF!+#REF!+#REF!+#REF!+#REF!+#REF!+#REF!+#REF!+#REF!+#REF!+#REF!+#REF!+#REF!+#REF!+#REF!+#REF!+#REF!+#REF!+#REF!","v":{"$error":"#REF!"}},{"$f":"#REF!+#REF!+#REF!+#REF!+#REF!+#REF!+#REF!+#REF!+#REF!+#REF!+#REF!+#REF!+#REF!+#REF!+#REF!+#REF!+#REF!+#REF!+#REF!+#REF!+#REF!+#REF!+#REF!+#REF!+#REF!+#REF!+#REF!+#REF!+#REF!+#REF!+#REF!+#REF!+#REF!","v":{"$error":"#REF!"}},{"$f":"#REF!+#REF!+#REF!+#REF!+#REF!+#REF!+#REF!+#REF!+#REF!+#REF!+#REF!+#REF!+#REF!+#REF!+#REF!+#REF!+#REF!+#REF!+#REF!+#REF!+#REF!+#REF!+#REF!+#REF!+#REF!+#REF!+#REF!+#REF!+#REF!+#REF!+#REF!+#REF!+#REF!","v":{"$error":"#REF!"}},{"$f":"#REF!+#REF!+#REF!+#REF!+#REF!+#REF!+#REF!+#REF!+#REF!+#REF!+#REF!+#REF!+#REF!+#REF!+#REF!+#REF!+#REF!+#REF!+#REF!+#REF!+#REF!+#REF!+#REF!+#REF!+#REF!+#REF!+#REF!+#REF!+#REF!+#REF!+#REF!+#REF!+#REF!","v":{"$error":"#REF!"}},{"$f":"'9_Per Pupil Summary'!N57","v":8117},{"$f":"#REF!+#REF!+#REF!+#REF!+#REF!+#REF!+#REF!+#REF!+#REF!+#REF!+#REF!+#REF!+#REF!+#REF!+#REF!+#REF!+#REF!+#REF!+#REF!+#REF!+#REF!+#REF!+#REF!+#REF!+#REF!+#REF!+#REF!+#REF!+#REF!+#REF!+#REF!+#REF!+#REF!","v":{"$error":"#REF!"}},{"$f":"#REF!+#REF!+#REF!+#REF!+#REF!+#REF!+#REF!+#REF!+#REF!+#REF!+#REF!+#REF!+#REF!+#REF!+#REF!+#REF!+#REF!+#REF!+#REF!+#REF!+#REF!+#REF!+#REF!+#REF!+#REF!+#REF!+#REF!+#REF!+#REF!+#REF!+#REF!+#REF!+#REF!","v":{"$error":"#REF!"}},{"$f":"#REF!+#REF!+#REF!+#REF!+#REF!+#REF!+#REF!+#REF!+#REF!+#REF!+#REF!+#REF!+#REF!+#REF!+#REF!+#REF!+#REF!+#REF!+#REF!+#REF!+#REF!+#REF!+#REF!+#REF!+#REF!+#REF!+#REF!+#REF!+#REF!+#REF!+#REF!+#REF!+#REF!","v":{"$error":"#REF!"}},{"$f":"#REF!+#REF!+#REF!+#REF!+#REF!+#REF!+#REF!+#REF!+#REF!+#REF!+#REF!+#REF!+#REF!+#REF!+#REF!+#REF!+#REF!+#REF!+#REF!+#REF!+#REF!+#REF!+#REF!+#REF!+#REF!+#REF!+#REF!+#REF!+#REF!+#REF!+#REF!+#REF!+#REF!","v":{"$error":"#REF!"}},{"$f":"#REF!+#REF!+#REF!+#REF!+#REF!+#REF!+#REF!+#REF!+#REF!+#REF!+#REF!+#REF!+#REF!+#REF!+#REF!+#REF!+#REF!+#REF!+#REF!+#REF!+#REF!+#REF!+#REF!+#REF!+#REF!+#REF!+#REF!+#REF!+#REF!+#REF!+#REF!+#REF!+#REF!","v":{"$error":"#REF!"}},{"$f":"#REF!+#REF!+#REF!+#REF!+#REF!+#REF!+#REF!+#REF!+#REF!+#REF!+#REF!+#REF!+#REF!+#REF!+#REF!+#REF!+#REF!+#REF!+#REF!+#REF!+#REF!+#REF!+#REF!+#REF!+#REF!+#REF!+#REF!+#REF!+#REF!+#REF!+#REF!+#REF!+#REF!","v":{"$error":"#REF!"}},{"$f":"#REF!+#REF!+#REF!+#REF!+#REF!+#REF!+#REF!+#REF!+#REF!+#REF!+#REF!+#REF!+#REF!+#REF!+#REF!+#REF!+#REF!+#REF!+#REF!+#REF!+#REF!+#REF!+#REF!+#REF!+#REF!+#REF!+#REF!+#REF!+#REF!+#REF!+#REF!+#REF!+#REF!","v":{"$error":"#REF!"}},{"$f":"#REF!+#REF!+#REF!+#REF!+#REF!+#REF!+#REF!+#REF!+#REF!+#REF!+#REF!+#REF!+#REF!+#REF!+#REF!+#REF!+#REF!+#REF!+#REF!+#REF!+#REF!+#REF!+#REF!+#REF!+#REF!+#REF!+#REF!+#REF!+#REF!+#REF!+#REF!+#REF!+#REF!","v":{"$error":"#REF!"}},{"$f":"#REF!+#REF!+#REF!+#REF!+#REF!+#REF!+#REF!+#REF!+#REF!+#REF!+#REF!+#REF!+#REF!+#REF!+#REF!+#REF!+#REF!+#REF!+#REF!+#REF!+#REF!+#REF!+#REF!+#REF!+#REF!+#REF!+#REF!+#REF!+#REF!+#REF!+#REF!+#REF!+#REF!","v":{"$error":"#REF!"}},{"$f":"#REF!+#REF!+#REF!+#REF!+#REF!+#REF!+#REF!+#REF!+#REF!+#REF!+#REF!+#REF!+#REF!+#REF!+#REF!+#REF!+#REF!+#REF!+#REF!+#REF!+#REF!+#REF!+#REF!+#REF!+#REF!+#REF!+#REF!+#REF!+#REF!+#REF!+#REF!+#REF!+#REF!","v":{"$error":"#REF!"}},{"$f":"#REF!+#REF!+#REF!+#REF!+#REF!+#REF!+#REF!+#REF!+#REF!+#REF!+#REF!+#REF!+#REF!+#REF!+#REF!+#REF!+#REF!+#REF!+#REF!+#REF!+#REF!+#REF!+#REF!+#REF!+#REF!+#REF!+#REF!+#REF!+#REF!+#REF!+#REF!+#REF!+#REF!","v":{"$error":"#REF!"}},{"$f":"#REF!+#REF!+#REF!+#REF!+#REF!+#REF!+#REF!+#REF!+#REF!+#REF!+#REF!+#REF!+#REF!+#REF!+#REF!+#REF!+#REF!+#REF!+#REF!+#REF!+#REF!+#REF!+#REF!+#REF!+#REF!+#REF!+#REF!+#REF!+#REF!+#REF!+#REF!+#REF!+#REF!","v":{"$error":"#REF!"}},{"$f":"#REF!+#REF!+#REF!+#REF!+#REF!+#REF!+#REF!+#REF!+#REF!+#REF!+#REF!+#REF!+#REF!+#REF!+#REF!+#REF!+#REF!+#REF!+#REF!+#REF!+#REF!+#REF!+#REF!+#REF!+#REF!+#REF!+#REF!+#REF!+#REF!+#REF!+#REF!+#REF!+#REF!","v":{"$error":"#REF!"}},{"$f":"#REF!+#REF!+#REF!+#REF!+#REF!+#REF!+#REF!+#REF!+#REF!+#REF!+#REF!+#REF!+#REF!+#REF!+#REF!+#REF!+#REF!+#REF!+#REF!+#REF!+#REF!+#REF!+#REF!+#REF!+#REF!+#REF!+#REF!+#REF!+#REF!+#REF!+#REF!+#REF!+#REF!","v":{"$error":"#REF!"}},{"$error":"#REF!"},{"$error":"#REF!"},{"$f":"#REF!+#REF!+#REF!+#REF!+#REF!+#REF!+#REF!+#REF!+#REF!+#REF!+#REF!+#REF!+#REF!+#REF!+#REF!+#REF!+#REF!+#REF!+#REF!+#REF!+#REF!+#REF!+#REF!+#REF!+#REF!+#REF!+#REF!+#REF!+#REF!+#REF!+#REF!+#REF!+#REF!","v":{"$error":"#REF!"}},null,{"$error":"#REF!"}]
[53,"Tangipahoa",{"$f":"#REF!+#REF!+#REF!+#REF!+#REF!+#REF!+#REF!+#REF!+#REF!+#REF!+#REF!+#REF!+#REF!+#REF!+#REF!+#REF!+#REF!+#REF!+#REF!+#REF!+#REF!+#REF!+#REF!+#REF!+#REF!+#REF!+#REF!+#REF!+#REF!+#REF!+#REF!+#REF!+#REF!","v":{"$error":"#REF!"}},{"$f":"'9_Per Pupil Summary'!H58","v":4950.0651387387124},{"$f":"#REF!+#REF!+#REF!+#REF!+#REF!+#REF!+#REF!+#REF!+#REF!+#REF!+#REF!+#REF!+#REF!+#REF!+#REF!+#REF!+#REF!+#REF!+#REF!+#REF!+#REF!+#REF!+#REF!+#REF!+#REF!+#REF!+#REF!+#REF!+#REF!+#REF!+#REF!+#REF!+#REF!","v":{"$error":"#REF!"}},{"$f":"#REF!+#REF!+#REF!+#REF!+#REF!+#REF!+#REF!+#REF!+#REF!+#REF!+#REF!+#REF!+#REF!+#REF!+#REF!+#REF!+#REF!+#REF!+#REF!+#REF!+#REF!+#REF!+#REF!+#REF!+#REF!+#REF!+#REF!+#REF!+#REF!+#REF!+#REF!+#REF!+#REF!","v":{"$error":"#REF!"}},{"$f":"'9_Per Pupil Summary'!I58","v":658.32247764628198},{"$f":"#REF!+#REF!+#REF!+#REF!+#REF!+#REF!+#REF!+#REF!+#REF!+#REF!+#REF!+#REF!+#REF!+#REF!+#REF!+#REF!+#REF!+#REF!+#REF!+#REF!+#REF!+#REF!+#REF!+#REF!+#REF!+#REF!+#REF!+#REF!+#REF!+#REF!+#REF!+#REF!+#REF!","v":{"$error":"#REF!"}},{"$f":"#REF!+#REF!+#REF!+#REF!+#REF!+#REF!+#REF!+#REF!+#REF!+#REF!+#REF!+#REF!+#REF!+#REF!+#REF!+#REF!+#REF!+#REF!+#REF!+#REF!+#REF!+#REF!+#REF!+#REF!+#REF!+#REF!+#REF!+#REF!+#REF!+#REF!+#REF!+#REF!+#REF!","v":{"$error":"#REF!"}},{"$f":"'9_Per Pupil Summary'!J58","v":179.54249390353141},{"$f":"#REF!+#REF!+#REF!+#REF!+#REF!+#REF!+#REF!+#REF!+#REF!+#REF!+#REF!+#REF!+#REF!+#REF!+#REF!+#REF!+#REF!+#REF!+#REF!+#REF!+#REF!+#REF!+#REF!+#REF!+#REF!+#REF!+#REF!+#REF!+#REF!+#REF!+#REF!+#REF!+#REF!","v":{"$error":"#REF!"}},{"$f":"#REF!+#REF!+#REF!+#REF!+#REF!+#REF!+#REF!+#REF!+#REF!+#REF!+#REF!+#REF!+#REF!+#REF!+#REF!+#REF!+#REF!+#REF!+#REF!+#REF!+#REF!+#REF!+#REF!+#REF!+#REF!+#REF!+#REF!+#REF!+#REF!+#REF!+#REF!+#REF!+#REF!","v":{"$error":"#REF!"}},{"$f":"'9_Per Pupil Summary'!K58","v":4488.5623475882858},{"$f":"#REF!+#REF!+#REF!+#REF!+#REF!+#REF!+#REF!+#REF!+#REF!+#REF!+#REF!+#REF!+#REF!+#REF!+#REF!+#REF!+#REF!+#REF!+#REF!+#REF!+#REF!+#REF!+#REF!+#REF!+#REF!+#REF!+#REF!+#REF!+#REF!+#REF!+#REF!+#REF!+#REF!","v":{"$error":"#REF!"}},{"$f":"#REF!+#REF!+#REF!+#REF!+#REF!+#REF!+#REF!+#REF!+#REF!+#REF!+#REF!+#REF!+#REF!+#REF!+#REF!+#REF!+#REF!+#REF!+#REF!+#REF!+#REF!+#REF!+#REF!+#REF!+#REF!+#REF!+#REF!+#REF!+#REF!+#REF!+#REF!+#REF!+#REF!","v":{"$error":"#REF!"}},{"$f":"'9_Per Pupil Summary'!L58","v":1795.4249390353143},{"$f":"#REF!+#REF!+#REF!+#REF!+#REF!+#REF!+#REF!+#REF!+#REF!+#REF!+#REF!+#REF!+#REF!+#REF!+#REF!+#REF!+#REF!+#REF!+#REF!+#REF!+#REF!+#REF!+#REF!+#REF!+#REF!+#REF!+#REF!+#REF!+#REF!+#REF!+#REF!+#REF!+#REF!","v":{"$error":"#REF!"}},{"$f":"#REF!+#REF!+#REF!+#REF!+#REF!+#REF!+#REF!+#REF!+#REF!+#REF!+#REF!+#REF!+#REF!+#REF!+#REF!+#REF!+#REF!+#REF!+#REF!+#REF!+#REF!+#REF!+#REF!+#REF!+#REF!+#REF!+#REF!+#REF!+#REF!+#REF!+#REF!+#REF!+#REF!","v":{"$error":"#REF!"}},{"$f":"#REF!+#REF!","v":{"$error":"#REF!"}},{"$f":"#REF!+#REF!+#REF!+#REF!+#REF!+#REF!+#REF!+#REF!+#REF!+#REF!+#REF!+#REF!+#REF!+#REF!+#REF!+#REF!+#REF!+#REF!+#REF!+#REF!+#REF!+#REF!+#REF!+#REF!+#REF!+#REF!+#REF!+#REF!+#REF!+#REF!+#REF!+#REF!+#REF!","v":{"$error":"#REF!"}},{"$f":"#REF!+#REF!+#REF!+#REF!+#REF!+#REF!+#REF!+#REF!+#REF!+#REF!+#REF!+#REF!+#REF!+#REF!+#REF!+#REF!+#REF!+#REF!+#REF!+#REF!+#REF!+#REF!+#REF!+#REF!+#REF!+#REF!+#REF!+#REF!+#REF!+#REF!+#REF!+#REF!+#REF!","v":{"$error":"#REF!"}},{"$f":"#REF!+#REF!+#REF!+#REF!+#REF!+#REF!+#REF!+#REF!+#REF!+#REF!+#REF!+#REF!+#REF!+#REF!+#REF!+#REF!+#REF!+#REF!+#REF!+#REF!+#REF!+#REF!+#REF!+#REF!+#REF!+#REF!+#REF!+#REF!+#REF!+#REF!+#REF!+#REF!+#REF!","v":{"$error":"#REF!"}},{"$f":"#REF!+#REF!+#REF!+#REF!+#REF!+#REF!+#REF!+#REF!+#REF!+#REF!+#REF!+#REF!+#REF!+#REF!+#REF!+#REF!+#REF!+#REF!+#REF!+#REF!+#REF!+#REF!+#REF!+#REF!+#REF!+#REF!+#REF!+#REF!+#REF!+#REF!+#REF!+#REF!+#REF!","v":{"$error":"#REF!"}},{"$f":"#REF!+#REF!+#REF!+#REF!+#REF!+#REF!+#REF!+#REF!+#REF!+#REF!+#REF!+#REF!+#REF!+#REF!+#REF!+#REF!+#REF!+#REF!+#REF!+#REF!+#REF!+#REF!+#REF!+#REF!+#REF!+#REF!+#REF!+#REF!+#REF!+#REF!+#REF!+#REF!+#REF!","v":{"$error":"#REF!"}},{"$f":"#REF!+#REF!+#REF!+#REF!+#REF!+#REF!+#REF!+#REF!+#REF!+#REF!+#REF!+#REF!+#REF!+#REF!+#REF!+#REF!+#REF!+#REF!+#REF!+#REF!+#REF!+#REF!+#REF!+#REF!+#REF!+#REF!+#REF!+#REF!+#REF!+#REF!+#REF!+#REF!+#REF!","v":{"$error":"#REF!"}},{"$f":"#REF!+#REF!+#REF!+#REF!+#REF!+#REF!+#REF!+#REF!+#REF!+#REF!+#REF!+#REF!+#REF!+#REF!+#REF!+#REF!+#REF!+#REF!+#REF!+#REF!+#REF!+#REF!+#REF!+#REF!+#REF!+#REF!+#REF!+#REF!+#REF!+#REF!+#REF!+#REF!+#REF!","v":{"$error":"#REF!"}},{"$f":"#REF!+#REF!+#REF!+#REF!+#REF!+#REF!+#REF!+#REF!+#REF!+#REF!+#REF!+#REF!+#REF!+#REF!+#REF!+#REF!+#REF!+#REF!+#REF!+#REF!+#REF!+#REF!+#REF!+#REF!+#REF!+#REF!+#REF!+#REF!+#REF!+#REF!+#REF!+#REF!+#REF!","v":{"$error":"#REF!"}},{"$f":"#REF!+#REF!+#REF!+#REF!+#REF!+#REF!+#REF!+#REF!+#REF!+#REF!+#REF!+#REF!+#REF!+#REF!+#REF!+#REF!+#REF!+#REF!+#REF!+#REF!+#REF!+#REF!+#REF!+#REF!+#REF!+#REF!+#REF!+#REF!+#REF!+#REF!+#REF!+#REF!+#REF!","v":{"$error":"#REF!"}},{"$f":"#REF!+#REF!+#REF!+#REF!+#REF!+#REF!+#REF!+#REF!+#REF!+#REF!+#REF!+#REF!+#REF!+#REF!+#REF!+#REF!+#REF!+#REF!+#REF!+#REF!+#REF!+#REF!+#REF!+#REF!+#REF!+#REF!+#REF!+#REF!+#REF!+#REF!+#REF!+#REF!+#REF!","v":{"$error":"#REF!"}},{"$f":"#REF!+#REF!+#REF!+#REF!+#REF!+#REF!+#REF!+#REF!+#REF!+#REF!+#REF!+#REF!+#REF!+#REF!+#REF!+#REF!+#REF!+#REF!+#REF!+#REF!+#REF!+#REF!+#REF!+#REF!+#REF!+#REF!+#REF!+#REF!+#REF!+#REF!+#REF!+#REF!+#REF!","v":{"$error":"#REF!"}},{"$f":"#REF!+#REF!+#REF!+#REF!+#REF!+#REF!+#REF!+#REF!+#REF!+#REF!+#REF!+#REF!+#REF!+#REF!+#REF!+#REF!+#REF!+#REF!+#REF!+#REF!+#REF!+#REF!+#REF!+#REF!+#REF!+#REF!+#REF!+#REF!+#REF!+#REF!+#REF!+#REF!+#REF!","v":{"$error":"#REF!"}},{"$f":"'9_Per Pupil Summary'!N58","v":4646},{"$f":"#REF!+#REF!+#REF!+#REF!+#REF!+#REF!+#REF!+#REF!+#REF!+#REF!+#REF!+#REF!+#REF!+#REF!+#REF!+#REF!+#REF!+#REF!+#REF!+#REF!+#REF!+#REF!+#REF!+#REF!+#REF!+#REF!+#REF!+#REF!+#REF!+#REF!+#REF!+#REF!+#REF!","v":{"$error":"#REF!"}},{"$f":"#REF!+#REF!+#REF!+#REF!+#REF!+#REF!+#REF!+#REF!+#REF!+#REF!+#REF!+#REF!+#REF!+#REF!+#REF!+#REF!+#REF!+#REF!+#REF!+#REF!+#REF!+#REF!+#REF!+#REF!+#REF!+#REF!+#REF!+#REF!+#REF!+#REF!+#REF!+#REF!+#REF!","v":{"$error":"#REF!"}},{"$f":"#REF!+#REF!+#REF!+#REF!+#REF!+#REF!+#REF!+#REF!+#REF!+#REF!+#REF!+#REF!+#REF!+#REF!+#REF!+#REF!+#REF!+#REF!+#REF!+#REF!+#REF!+#REF!+#REF!+#REF!+#REF!+#REF!+#REF!+#REF!+#REF!+#REF!+#REF!+#REF!+#REF!","v":{"$error":"#REF!"}},{"$f":"#REF!+#REF!+#REF!+#REF!+#REF!+#REF!+#REF!+#REF!+#REF!+#REF!+#REF!+#REF!+#REF!+#REF!+#REF!+#REF!+#REF!+#REF!+#REF!+#REF!+#REF!+#REF!+#REF!+#REF!+#REF!+#REF!+#REF!+#REF!+#REF!+#REF!+#REF!+#REF!+#REF!","v":{"$error":"#REF!"}},{"$f":"#REF!+#REF!+#REF!+#REF!+#REF!+#REF!+#REF!+#REF!+#REF!+#REF!+#REF!+#REF!+#REF!+#REF!+#REF!+#REF!+#REF!+#REF!+#REF!+#REF!+#REF!+#REF!+#REF!+#REF!+#REF!+#REF!+#REF!+#REF!+#REF!+#REF!+#REF!+#REF!+#REF!","v":{"$error":"#REF!"}},{"$f":"#REF!+#REF!+#REF!+#REF!+#REF!+#REF!+#REF!+#REF!+#REF!+#REF!+#REF!+#REF!+#REF!+#REF!+#REF!+#REF!+#REF!+#REF!+#REF!+#REF!+#REF!+#REF!+#REF!+#REF!+#REF!+#REF!+#REF!+#REF!+#REF!+#REF!+#REF!+#REF!+#REF!","v":{"$error":"#REF!"}},{"$f":"#REF!+#REF!+#REF!+#REF!+#REF!+#REF!+#REF!+#REF!+#REF!+#REF!+#REF!+#REF!+#REF!+#REF!+#REF!+#REF!+#REF!+#REF!+#REF!+#REF!+#REF!+#REF!+#REF!+#REF!+#REF!+#REF!+#REF!+#REF!+#REF!+#REF!+#REF!+#REF!+#REF!","v":{"$error":"#REF!"}},{"$f":"#REF!+#REF!+#REF!+#REF!+#REF!+#REF!+#REF!+#REF!+#REF!+#REF!+#REF!+#REF!+#REF!+#REF!+#REF!+#REF!+#REF!+#REF!+#REF!+#REF!+#REF!+#REF!+#REF!+#REF!+#REF!+#REF!+#REF!+#REF!+#REF!+#REF!+#REF!+#REF!+#REF!","v":{"$error":"#REF!"}},{"$f":"#REF!+#REF!+#REF!+#REF!+#REF!+#REF!+#REF!+#REF!+#REF!+#REF!+#REF!+#REF!+#REF!+#REF!+#REF!+#REF!+#REF!+#REF!+#REF!+#REF!+#REF!+#REF!+#REF!+#REF!+#REF!+#REF!+#REF!+#REF!+#REF!+#REF!+#REF!+#REF!+#REF!","v":{"$error":"#REF!"}},{"$f":"#REF!+#REF!+#REF!+#REF!+#REF!+#REF!+#REF!+#REF!+#REF!+#REF!+#REF!+#REF!+#REF!+#REF!+#REF!+#REF!+#REF!+#REF!+#REF!+#REF!+#REF!+#REF!+#REF!+#REF!+#REF!+#REF!+#REF!+#REF!+#REF!+#REF!+#REF!+#REF!+#REF!","v":{"$error":"#REF!"}},{"$f":"#REF!+#REF!+#REF!+#REF!+#REF!+#REF!+#REF!+#REF!+#REF!+#REF!+#REF!+#REF!+#REF!+#REF!+#REF!+#REF!+#REF!+#REF!+#REF!+#REF!+#REF!+#REF!+#REF!+#REF!+#REF!+#REF!+#REF!+#REF!+#REF!+#REF!+#REF!+#REF!+#REF!","v":{"$error":"#REF!"}},{"$f":"#REF!+#REF!+#REF!+#REF!+#REF!+#REF!+#REF!+#REF!+#REF!+#REF!+#REF!+#REF!+#REF!+#REF!+#REF!+#REF!+#REF!+#REF!+#REF!+#REF!+#REF!+#REF!+#REF!+#REF!+#REF!+#REF!+#REF!+#REF!+#REF!+#REF!+#REF!+#REF!+#REF!","v":{"$error":"#REF!"}},{"$f":"#REF!+#REF!+#REF!+#REF!+#REF!+#REF!+#REF!+#REF!+#REF!+#REF!+#REF!+#REF!+#REF!+#REF!+#REF!+#REF!+#REF!+#REF!+#REF!+#REF!+#REF!+#REF!+#REF!+#REF!+#REF!+#REF!+#REF!+#REF!+#REF!+#REF!+#REF!+#REF!+#REF!","v":{"$error":"#REF!"}},{"$f":"#REF!+#REF!+#REF!+#REF!+#REF!+#REF!+#REF!+#REF!+#REF!+#REF!+#REF!+#REF!+#REF!+#REF!+#REF!+#REF!+#REF!+#REF!+#REF!+#REF!+#REF!+#REF!+#REF!+#REF!+#REF!+#REF!+#REF!+#REF!+#REF!+#REF!+#REF!+#REF!+#REF!","v":{"$error":"#REF!"}},{"$error":"#REF!"},{"$error":"#REF!"},{"$f":"#REF!+#REF!+#REF!+#REF!+#REF!+#REF!+#REF!+#REF!+#REF!+#REF!+#REF!+#REF!+#REF!+#REF!+#REF!+#REF!+#REF!+#REF!+#REF!+#REF!+#REF!+#REF!+#REF!+#REF!+#REF!+#REF!+#REF!+#REF!+#REF!+#REF!+#REF!+#REF!+#REF!","v":{"$error":"#REF!"}},null,{"$error":"#REF!"}]
[54,"Tensas",{"$f":"#REF!+#REF!+#REF!+#REF!+#REF!+#REF!+#REF!+#REF!+#REF!+#REF!+#REF!+#REF!+#REF!+#REF!+#REF!+#REF!+#REF!+#REF!+#REF!+#REF!+#REF!+#REF!+#REF!+#REF!+#REF!+#REF!+#REF!+#REF!+#REF!+#REF!+#REF!+#REF!+#REF!","v":{"$error":"#REF!"}},{"$f":"'9_Per Pupil Summary'!H59","v":4188.9926906600977},{"$f":"#REF!+#REF!+#REF!+#REF!+#REF!+#REF!+#REF!+#REF!+#REF!+#REF!+#REF!+#REF!+#REF!+#REF!+#REF!+#REF!+#REF!+#REF!+#REF!+#REF!+#REF!+#REF!+#REF!+#REF!+#REF!+#REF!+#REF!+#REF!+#REF!+#REF!+#REF!+#REF!+#REF!","v":{"$error":"#REF!"}},{"$f":"#REF!+#REF!+#REF!+#REF!+#REF!+#REF!+#REF!+#REF!+#REF!+#REF!+#REF!+#REF!+#REF!+#REF!+#REF!+#REF!+#REF!+#REF!+#REF!+#REF!+#REF!+#REF!+#REF!+#REF!+#REF!+#REF!+#REF!+#REF!+#REF!+#REF!+#REF!+#REF!+#REF!","v":{"$error":"#REF!"}},{"$f":"'9_Per Pupil Summary'!I59","v":518.01042096896811},{"$f":"#REF!+#REF!+#REF!+#REF!+#REF!+#REF!+#REF!+#REF!+#REF!+#REF!+#REF!+#REF!+#REF!+#REF!+#REF!+#REF!+#REF!+#REF!+#REF!+#REF!+#REF!+#REF!+#REF!+#REF!+#REF!+#REF!+#REF!+#REF!+#REF!+#REF!+#REF!+#REF!+#REF!","v":{"$error":"#REF!"}},{"$f":"#REF!+#REF!+#REF!+#REF!+#REF!+#REF!+#REF!+#REF!+#REF!+#REF!+#REF!+#REF!+#REF!+#REF!+#REF!+#REF!+#REF!+#REF!+#REF!+#REF!+#REF!+#REF!+#REF!+#REF!+#REF!+#REF!+#REF!+#REF!+#REF!+#REF!+#REF!+#REF!+#REF!","v":{"$error":"#REF!"}},{"$f":"'9_Per Pupil Summary'!J59","v":141.27556935517313},{"$f":"#REF!+#REF!+#REF!+#REF!+#REF!+#REF!+#REF!+#REF!+#REF!+#REF!+#REF!+#REF!+#REF!+#REF!+#REF!+#REF!+#REF!+#REF!+#REF!+#REF!+#REF!+#REF!+#REF!+#REF!+#REF!+#REF!+#REF!+#REF!+#REF!+#REF!+#REF!+#REF!+#REF!","v":{"$error":"#REF!"}},{"$f":"#REF!+#REF!+#REF!+#REF!+#REF!+#REF!+#REF!+#REF!+#REF!+#REF!+#REF!+#REF!+#REF!+#REF!+#REF!+#REF!+#REF!+#REF!+#REF!+#REF!+#REF!+#REF!+#REF!+#REF!+#REF!+#REF!+#REF!+#REF!+#REF!+#REF!+#REF!+#REF!+#REF!","v":{"$error":"#REF!"}},{"$f":"'9_Per Pupil Summary'!K59","v":3531.8892338793285},{"$f":"#REF!+#REF!+#REF!+#REF!+#REF!+#REF!+#REF!+#REF!+#REF!+#REF!+#REF!+#REF!+#REF!+#REF!+#REF!+#REF!+#REF!+#REF!+#REF!+#REF!+#REF!+#REF!+#REF!+#REF!+#REF!+#REF!+#REF!+#REF!+#REF!+#REF!+#REF!+#REF!+#REF!","v":{"$error":"#REF!"}},{"$f":"#REF!+#REF!+#REF!+#REF!+#REF!+#REF!+#REF!+#REF!+#REF!+#REF!+#REF!+#REF!+#REF!+#REF!+#REF!+#REF!+#REF!+#REF!+#REF!+#REF!+#REF!+#REF!+#REF!+#REF!+#REF!+#REF!+#REF!+#REF!+#REF!+#REF!+#REF!+#REF!+#REF!","v":{"$error":"#REF!"}},{"$f":"'9_Per Pupil Summary'!L59","v":1412.7556935517312},{"$f":"#REF!+#REF!+#REF!+#REF!+#REF!+#REF!+#REF!+#REF!+#REF!+#REF!+#REF!+#REF!+#REF!+#REF!+#REF!+#REF!+#REF!+#REF!+#REF!+#REF!+#REF!+#REF!+#REF!+#REF!+#REF!+#REF!+#REF!+#REF!+#REF!+#REF!+#REF!+#REF!+#REF!","v":{"$error":"#REF!"}},{"$f":"#REF!+#REF!+#REF!+#REF!+#REF!+#REF!+#REF!+#REF!+#REF!+#REF!+#REF!+#REF!+#REF!+#REF!+#REF!+#REF!+#REF!+#REF!+#REF!+#REF!+#REF!+#REF!+#REF!+#REF!+#REF!+#REF!+#REF!+#REF!+#REF!+#REF!+#REF!+#REF!+#REF!","v":{"$error":"#REF!"}},{"$f":"#REF!+#REF!","v":{"$error":"#REF!"}},{"$f":"#REF!+#REF!+#REF!+#REF!+#REF!+#REF!+#REF!+#REF!+#REF!+#REF!+#REF!+#REF!+#REF!+#REF!+#REF!+#REF!+#REF!+#REF!+#REF!+#REF!+#REF!+#REF!+#REF!+#REF!+#REF!+#REF!+#REF!+#REF!+#REF!+#REF!+#REF!+#REF!+#REF!","v":{"$error":"#REF!"}},{"$f":"#REF!+#REF!+#REF!+#REF!+#REF!+#REF!+#REF!+#REF!+#REF!+#REF!+#REF!+#REF!+#REF!+#REF!+#REF!+#REF!+#REF!+#REF!+#REF!+#REF!+#REF!+#REF!+#REF!+#REF!+#REF!+#REF!+#REF!+#REF!+#REF!+#REF!+#REF!+#REF!+#REF!","v":{"$error":"#REF!"}},{"$f":"#REF!+#REF!+#REF!+#REF!+#REF!+#REF!+#REF!+#REF!+#REF!+#REF!+#REF!+#REF!+#REF!+#REF!+#REF!+#REF!+#REF!+#REF!+#REF!+#REF!+#REF!+#REF!+#REF!+#REF!+#REF!+#REF!+#REF!+#REF!+#REF!+#REF!+#REF!+#REF!+#REF!","v":{"$error":"#REF!"}},{"$f":"#REF!+#REF!+#REF!+#REF!+#REF!+#REF!+#REF!+#REF!+#REF!+#REF!+#REF!+#REF!+#REF!+#REF!+#REF!+#REF!+#REF!+#REF!+#REF!+#REF!+#REF!+#REF!+#REF!+#REF!+#REF!+#REF!+#REF!+#REF!+#REF!+#REF!+#REF!+#REF!+#REF!","v":{"$error":"#REF!"}},{"$f":"#REF!+#REF!+#REF!+#REF!+#REF!+#REF!+#REF!+#REF!+#REF!+#REF!+#REF!+#REF!+#REF!+#REF!+#REF!+#REF!+#REF!+#REF!+#REF!+#REF!+#REF!+#REF!+#REF!+#REF!+#REF!+#REF!+#REF!+#REF!+#REF!+#REF!+#REF!+#REF!+#REF!","v":{"$error":"#REF!"}},{"$f":"#REF!+#REF!+#REF!+#REF!+#REF!+#REF!+#REF!+#REF!+#REF!+#REF!+#REF!+#REF!+#REF!+#REF!+#REF!+#REF!+#REF!+#REF!+#REF!+#REF!+#REF!+#REF!+#REF!+#REF!+#REF!+#REF!+#REF!+#REF!+#REF!+#REF!+#REF!+#REF!+#REF!","v":{"$error":"#REF!"}},{"$f":"#REF!+#REF!+#REF!+#REF!+#REF!+#REF!+#REF!+#REF!+#REF!+#REF!+#REF!+#REF!+#REF!+#REF!+#REF!+#REF!+#REF!+#REF!+#REF!+#REF!+#REF!+#REF!+#REF!+#REF!+#REF!+#REF!+#REF!+#REF!+#REF!+#REF!+#REF!+#REF!+#REF!","v":{"$error":"#REF!"}},{"$f":"#REF!+#REF!+#REF!+#REF!+#REF!+#REF!+#REF!+#REF!+#REF!+#REF!+#REF!+#REF!+#REF!+#REF!+#REF!+#REF!+#REF!+#REF!+#REF!+#REF!+#REF!+#REF!+#REF!+#REF!+#REF!+#REF!+#REF!+#REF!+#REF!+#REF!+#REF!+#REF!+#REF!","v":{"$error":"#REF!"}},{"$f":"#REF!+#REF!+#REF!+#REF!+#REF!+#REF!+#REF!+#REF!+#REF!+#REF!+#REF!+#REF!+#REF!+#REF!+#REF!+#REF!+#REF!+#REF!+#REF!+#REF!+#REF!+#REF!+#REF!+#REF!+#REF!+#REF!+#REF!+#REF!+#REF!+#REF!+#REF!+#REF!+#REF!","v":{"$error":"#REF!"}},{"$f":"#REF!+#REF!+#REF!+#REF!+#REF!+#REF!+#REF!+#REF!+#REF!+#REF!+#REF!+#REF!+#REF!+#REF!+#REF!+#REF!+#REF!+#REF!+#REF!+#REF!+#REF!+#REF!+#REF!+#REF!+#REF!+#REF!+#REF!+#REF!+#REF!+#REF!+#REF!+#REF!+#REF!","v":{"$error":"#REF!"}},{"$f":"#REF!+#REF!+#REF!+#REF!+#REF!+#REF!+#REF!+#REF!+#REF!+#REF!+#REF!+#REF!+#REF!+#REF!+#REF!+#REF!+#REF!+#REF!+#REF!+#REF!+#REF!+#REF!+#REF!+#REF!+#REF!+#REF!+#REF!+#REF!+#REF!+#REF!+#REF!+#REF!+#REF!","v":{"$error":"#REF!"}},{"$f":"#REF!+#REF!+#REF!+#REF!+#REF!+#REF!+#REF!+#REF!+#REF!+#REF!+#REF!+#REF!+#REF!+#REF!+#REF!+#REF!+#REF!+#REF!+#REF!+#REF!+#REF!+#REF!+#REF!+#REF!+#REF!+#REF!+#REF!+#REF!+#REF!+#REF!+#REF!+#REF!+#REF!","v":{"$error":"#REF!"}},{"$f":"'9_Per Pupil Summary'!N59","v":9111},{"$f":"#REF!+#REF!+#REF!+#REF!+#REF!+#REF!+#REF!+#REF!+#REF!+#REF!+#REF!+#REF!+#REF!+#REF!+#REF!+#REF!+#REF!+#REF!+#REF!+#REF!+#REF!+#REF!+#REF!+#REF!+#REF!+#REF!+#REF!+#REF!+#REF!+#REF!+#REF!+#REF!+#REF!","v":{"$error":"#REF!"}},{"$f":"#REF!+#REF!+#REF!+#REF!+#REF!+#REF!+#REF!+#REF!+#REF!+#REF!+#REF!+#REF!+#REF!+#REF!+#REF!+#REF!+#REF!+#REF!+#REF!+#REF!+#REF!+#REF!+#REF!+#REF!+#REF!+#REF!+#REF!+#REF!+#REF!+#REF!+#REF!+#REF!+#REF!","v":{"$error":"#REF!"}},{"$f":"#REF!+#REF!+#REF!+#REF!+#REF!+#REF!+#REF!+#REF!+#REF!+#REF!+#REF!+#REF!+#REF!+#REF!+#REF!+#REF!+#REF!+#REF!+#REF!+#REF!+#REF!+#REF!+#REF!+#REF!+#REF!+#REF!+#REF!+#REF!+#REF!+#REF!+#REF!+#REF!+#REF!","v":{"$error":"#REF!"}},{"$f":"#REF!+#REF!+#REF!+#REF!+#REF!+#REF!+#REF!+#REF!+#REF!+#REF!+#REF!+#REF!+#REF!+#REF!+#REF!+#REF!+#REF!+#REF!+#REF!+#REF!+#REF!+#REF!+#REF!+#REF!+#REF!+#REF!+#REF!+#REF!+#REF!+#REF!+#REF!+#REF!+#REF!","v":{"$error":"#REF!"}},{"$f":"#REF!+#REF!+#REF!+#REF!+#REF!+#REF!+#REF!+#REF!+#REF!+#REF!+#REF!+#REF!+#REF!+#REF!+#REF!+#REF!+#REF!+#REF!+#REF!+#REF!+#REF!+#REF!+#REF!+#REF!+#REF!+#REF!+#REF!+#REF!+#REF!+#REF!+#REF!+#REF!+#REF!","v":{"$error":"#REF!"}},{"$f":"#REF!+#REF!+#REF!+#REF!+#REF!+#REF!+#REF!+#REF!+#REF!+#REF!+#REF!+#REF!+#REF!+#REF!+#REF!+#REF!+#REF!+#REF!+#REF!+#REF!+#REF!+#REF!+#REF!+#REF!+#REF!+#REF!+#REF!+#REF!+#REF!+#REF!+#REF!+#REF!+#REF!","v":{"$error":"#REF!"}},{"$f":"#REF!+#REF!+#REF!+#REF!+#REF!+#REF!+#REF!+#REF!+#REF!+#REF!+#REF!+#REF!+#REF!+#REF!+#REF!+#REF!+#REF!+#REF!+#REF!+#REF!+#REF!+#REF!+#REF!+#REF!+#REF!+#REF!+#REF!+#REF!+#REF!+#REF!+#REF!+#REF!+#REF!","v":{"$error":"#REF!"}},{"$f":"#REF!+#REF!+#REF!+#REF!+#REF!+#REF!+#REF!+#REF!+#REF!+#REF!+#REF!+#REF!+#REF!+#REF!+#REF!+#REF!+#REF!+#REF!+#REF!+#REF!+#REF!+#REF!+#REF!+#REF!+#REF!+#REF!+#REF!+#REF!+#REF!+#REF!+#REF!+#REF!+#REF!","v":{"$error":"#REF!"}},{"$f":"#REF!+#REF!+#REF!+#REF!+#REF!+#REF!+#REF!+#REF!+#REF!+#REF!+#REF!+#REF!+#REF!+#REF!+#REF!+#REF!+#REF!+#REF!+#REF!+#REF!+#REF!+#REF!+#REF!+#REF!+#REF!+#REF!+#REF!+#REF!+#REF!+#REF!+#REF!+#REF!+#REF!","v":{"$error":"#REF!"}},{"$f":"#REF!+#REF!+#REF!+#REF!+#REF!+#REF!+#REF!+#REF!+#REF!+#REF!+#REF!+#REF!+#REF!+#REF!+#REF!+#REF!+#REF!+#REF!+#REF!+#REF!+#REF!+#REF!+#REF!+#REF!+#REF!+#REF!+#REF!+#REF!+#REF!+#REF!+#REF!+#REF!+#REF!","v":{"$error":"#REF!"}},{"$f":"#REF!+#REF!+#REF!+#REF!+#REF!+#REF!+#REF!+#REF!+#REF!+#REF!+#REF!+#REF!+#REF!+#REF!+#REF!+#REF!+#REF!+#REF!+#REF!+#REF!+#REF!+#REF!+#REF!+#REF!+#REF!+#REF!+#REF!+#REF!+#REF!+#REF!+#REF!+#REF!+#REF!","v":{"$error":"#REF!"}},{"$f":"#REF!+#REF!+#REF!+#REF!+#REF!+#REF!+#REF!+#REF!+#REF!+#REF!+#REF!+#REF!+#REF!+#REF!+#REF!+#REF!+#REF!+#REF!+#REF!+#REF!+#REF!+#REF!+#REF!+#REF!+#REF!+#REF!+#REF!+#REF!+#REF!+#REF!+#REF!+#REF!+#REF!","v":{"$error":"#REF!"}},{"$f":"#REF!+#REF!+#REF!+#REF!+#REF!+#REF!+#REF!+#REF!+#REF!+#REF!+#REF!+#REF!+#REF!+#REF!+#REF!+#REF!+#REF!+#REF!+#REF!+#REF!+#REF!+#REF!+#REF!+#REF!+#REF!+#REF!+#REF!+#REF!+#REF!+#REF!+#REF!+#REF!+#REF!","v":{"$error":"#REF!"}},{"$f":"#REF!+#REF!+#REF!+#REF!+#REF!+#REF!+#REF!+#REF!+#REF!+#REF!+#REF!+#REF!+#REF!+#REF!+#REF!+#REF!+#REF!+#REF!+#REF!+#REF!+#REF!+#REF!+#REF!+#REF!+#REF!+#REF!+#REF!+#REF!+#REF!+#REF!+#REF!+#REF!+#REF!","v":{"$error":"#REF!"}},{"$error":"#REF!"},{"$error":"#REF!"},{"$f":"#REF!+#REF!+#REF!+#REF!+#REF!+#REF!+#REF!+#REF!+#REF!+#REF!+#REF!+#REF!+#REF!+#REF!+#REF!+#REF!+#REF!+#REF!+#REF!+#REF!+#REF!+#REF!+#REF!+#REF!+#REF!+#REF!+#REF!+#REF!+#REF!+#REF!+#REF!+#REF!+#REF!","v":{"$error":"#REF!"}},null,{"$error":"#REF!"}]
[55,"Terrebonne",{"$f":"#REF!+#REF!+#REF!+#REF!+#REF!+#REF!+#REF!+#REF!+#REF!+#REF!+#REF!+#REF!+#REF!+#REF!+#REF!+#REF!+#REF!+#REF!+#REF!+#REF!+#REF!+#REF!+#REF!+#REF!+#REF!+#REF!+#REF!+#REF!+#REF!+#REF!+#REF!+#REF!+#REF!","v":{"$error":"#REF!"}},{"$f":"'9_Per Pupil Summary'!H60","v":4276.5948411520412},{"$f":"#REF!+#REF!+#REF!+#REF!+#REF!+#REF!+#REF!+#REF!+#REF!+#REF!+#REF!+#REF!+#REF!+#REF!+#REF!+#REF!+#REF!+#REF!+#REF!+#REF!+#REF!+#REF!+#REF!+#REF!+#REF!+#REF!+#REF!+#REF!+#REF!+#REF!+#REF!+#REF!+#REF!","v":{"$error":"#REF!"}},{"$f":"#REF!+#REF!+#REF!+#REF!+#REF!+#REF!+#REF!+#REF!+#REF!+#REF!+#REF!+#REF!+#REF!+#REF!+#REF!+#REF!+#REF!+#REF!+#REF!+#REF!+#REF!+#REF!+#REF!+#REF!+#REF!+#REF!+#REF!+#REF!+#REF!+#REF!+#REF!+#REF!+#REF!","v":{"$error":"#REF!"}},{"$f":"'9_Per Pupil Summary'!I60","v":566.83100965668848},{"$f":"#REF!+#REF!+#REF!+#REF!+#REF!+#REF!+#REF!+#REF!+#REF!+#REF!+#REF!+#REF!+#REF!+#REF!+#REF!+#REF!+#REF!+#REF!+#REF!+#REF!+#REF!+#REF!+#REF!+#REF!+#REF!+#REF!+#REF!+#REF!+#REF!+#REF!+#REF!+#REF!+#REF!","v":{"$error":"#REF!"}},{"$f":"#REF!+#REF!+#REF!+#REF!+#REF!+#REF!+#REF!+#REF!+#REF!+#REF!+#REF!+#REF!+#REF!+#REF!+#REF!+#REF!+#REF!+#REF!+#REF!+#REF!+#REF!+#REF!+#REF!+#REF!+#REF!+#REF!+#REF!+#REF!+#REF!+#REF!+#REF!+#REF!+#REF!","v":{"$error":"#REF!"}},{"$f":"'9_Per Pupil Summary'!J60","v":154.59027536091503},{"$f":"#REF!+#REF!+#REF!+#REF!+#REF!+#REF!+#REF!+#REF!+#REF!+#REF!+#REF!+#REF!+#REF!+#REF!+#REF!+#REF!+#REF!+#REF!+#REF!+#REF!+#REF!+#REF!+#REF!+#REF!+#REF!+#REF!+#REF!+#REF!+#REF!+#REF!+#REF!+#REF!+#REF!","v":{"$error":"#REF!"}},{"$f":"#REF!+#REF!+#REF!+#REF!+#REF!+#REF!+#REF!+#REF!+#REF!+#REF!+#REF!+#REF!+#REF!+#REF!+#REF!+#REF!+#REF!+#REF!+#REF!+#REF!+#REF!+#REF!+#REF!+#REF!+#REF!+#REF!+#REF!+#REF!+#REF!+#REF!+#REF!+#REF!+#REF!","v":{"$error":"#REF!"}},{"$f":"'9_Per Pupil Summary'!K60","v":3864.7568840228755},{"$f":"#REF!+#REF!+#REF!+#REF!+#REF!+#REF!+#REF!+#REF!+#REF!+#REF!+#REF!+#REF!+#REF!+#REF!+#REF!+#REF!+#REF!+#REF!+#REF!+#REF!+#REF!+#REF!+#REF!+#REF!+#REF!+#REF!+#REF!+#REF!+#REF!+#REF!+#REF!+#REF!+#REF!","v":{"$error":"#REF!"}},{"$f":"#REF!+#REF!+#REF!+#REF!+#REF!+#REF!+#REF!+#REF!+#REF!+#REF!+#REF!+#REF!+#REF!+#REF!+#REF!+#REF!+#REF!+#REF!+#REF!+#REF!+#REF!+#REF!+#REF!+#REF!+#REF!+#REF!+#REF!+#REF!+#REF!+#REF!+#REF!+#REF!+#REF!","v":{"$error":"#REF!"}},{"$f":"'9_Per Pupil Summary'!L60","v":1545.9027536091503},{"$f":"#REF!+#REF!+#REF!+#REF!+#REF!+#REF!+#REF!+#REF!+#REF!+#REF!+#REF!+#REF!+#REF!+#REF!+#REF!+#REF!+#REF!+#REF!+#REF!+#REF!+#REF!+#REF!+#REF!+#REF!+#REF!+#REF!+#REF!+#REF!+#REF!+#REF!+#REF!+#REF!+#REF!","v":{"$error":"#REF!"}},{"$f":"#REF!+#REF!+#REF!+#REF!+#REF!+#REF!+#REF!+#REF!+#REF!+#REF!+#REF!+#REF!+#REF!+#REF!+#REF!+#REF!+#REF!+#REF!+#REF!+#REF!+#REF!+#REF!+#REF!+#REF!+#REF!+#REF!+#REF!+#REF!+#REF!+#REF!+#REF!+#REF!+#REF!","v":{"$error":"#REF!"}},{"$f":"#REF!+#REF!","v":{"$error":"#REF!"}},{"$f":"#REF!+#REF!+#REF!+#REF!+#REF!+#REF!+#REF!+#REF!+#REF!+#REF!+#REF!+#REF!+#REF!+#REF!+#REF!+#REF!+#REF!+#REF!+#REF!+#REF!+#REF!+#REF!+#REF!+#REF!+#REF!+#REF!+#REF!+#REF!+#REF!+#REF!+#REF!+#REF!+#REF!","v":{"$error":"#REF!"}},{"$f":"#REF!+#REF!+#REF!+#REF!+#REF!+#REF!+#REF!+#REF!+#REF!+#REF!+#REF!+#REF!+#REF!+#REF!+#REF!+#REF!+#REF!+#REF!+#REF!+#REF!+#REF!+#REF!+#REF!+#REF!+#REF!+#REF!+#REF!+#REF!+#REF!+#REF!+#REF!+#REF!+#REF!","v":{"$error":"#REF!"}},{"$f":"#REF!+#REF!+#REF!+#REF!+#REF!+#REF!+#REF!+#REF!+#REF!+#REF!+#REF!+#REF!+#REF!+#REF!+#REF!+#REF!+#REF!+#REF!+#REF!+#REF!+#REF!+#REF!+#REF!+#REF!+#REF!+#REF!+#REF!+#REF!+#REF!+#REF!+#REF!+#REF!+#REF!","v":{"$error":"#REF!"}},{"$f":"#REF!+#REF!+#REF!+#REF!+#REF!+#REF!+#REF!+#REF!+#REF!+#REF!+#REF!+#REF!+#REF!+#REF!+#REF!+#REF!+#REF!+#REF!+#REF!+#REF!+#REF!+#REF!+#REF!+#REF!+#REF!+#REF!+#REF!+#REF!+#REF!+#REF!+#REF!+#REF!+#REF!","v":{"$error":"#REF!"}},{"$f":"#REF!+#REF!+#REF!+#REF!+#REF!+#REF!+#REF!+#REF!+#REF!+#REF!+#REF!+#REF!+#REF!+#REF!+#REF!+#REF!+#REF!+#REF!+#REF!+#REF!+#REF!+#REF!+#REF!+#REF!+#REF!+#REF!+#REF!+#REF!+#REF!+#REF!+#REF!+#REF!+#REF!","v":{"$error":"#REF!"}},{"$f":"#REF!+#REF!+#REF!+#REF!+#REF!+#REF!+#REF!+#REF!+#REF!+#REF!+#REF!+#REF!+#REF!+#REF!+#REF!+#REF!+#REF!+#REF!+#REF!+#REF!+#REF!+#REF!+#REF!+#REF!+#REF!+#REF!+#REF!+#REF!+#REF!+#REF!+#REF!+#REF!+#REF!","v":{"$error":"#REF!"}},{"$f":"#REF!+#REF!+#REF!+#REF!+#REF!+#REF!+#REF!+#REF!+#REF!+#REF!+#REF!+#REF!+#REF!+#REF!+#REF!+#REF!+#REF!+#REF!+#REF!+#REF!+#REF!+#REF!+#REF!+#REF!+#REF!+#REF!+#REF!+#REF!+#REF!+#REF!+#REF!+#REF!+#REF!","v":{"$error":"#REF!"}},{"$f":"#REF!+#REF!+#REF!+#REF!+#REF!+#REF!+#REF!+#REF!+#REF!+#REF!+#REF!+#REF!+#REF!+#REF!+#REF!+#REF!+#REF!+#REF!+#REF!+#REF!+#REF!+#REF!+#REF!+#REF!+#REF!+#REF!+#REF!+#REF!+#REF!+#REF!+#REF!+#REF!+#REF!","v":{"$error":"#REF!"}},{"$f":"#REF!+#REF!+#REF!+#REF!+#REF!+#REF!+#REF!+#REF!+#REF!+#REF!+#REF!+#REF!+#REF!+#REF!+#REF!+#REF!+#REF!+#REF!+#REF!+#REF!+#REF!+#REF!+#REF!+#REF!+#REF!+#REF!+#REF!+#REF!+#REF!+#REF!+#REF!+#REF!+#REF!","v":{"$error":"#REF!"}},{"$f":"#REF!+#REF!+#REF!+#REF!+#REF!+#REF!+#REF!+#REF!+#REF!+#REF!+#REF!+#REF!+#REF!+#REF!+#REF!+#REF!+#REF!+#REF!+#REF!+#REF!+#REF!+#REF!+#REF!+#REF!+#REF!+#REF!+#REF!+#REF!+#REF!+#REF!+#REF!+#REF!+#REF!","v":{"$error":"#REF!"}},{"$f":"#REF!+#REF!+#REF!+#REF!+#REF!+#REF!+#REF!+#REF!+#REF!+#REF!+#REF!+#REF!+#REF!+#REF!+#REF!+#REF!+#REF!+#REF!+#REF!+#REF!+#REF!+#REF!+#REF!+#REF!+#REF!+#REF!+#REF!+#REF!+#REF!+#REF!+#REF!+#REF!+#REF!","v":{"$error":"#REF!"}},{"$f":"#REF!+#REF!+#REF!+#REF!+#REF!+#REF!+#REF!+#REF!+#REF!+#REF!+#REF!+#REF!+#REF!+#REF!+#REF!+#REF!+#REF!+#REF!+#REF!+#REF!+#REF!+#REF!+#REF!+#REF!+#REF!+#REF!+#REF!+#REF!+#REF!+#REF!+#REF!+#REF!+#REF!","v":{"$error":"#REF!"}},{"$f":"'9_Per Pupil Summary'!N60","v":5876},{"$f":"#REF!+#REF!+#REF!+#REF!+#REF!+#REF!+#REF!+#REF!+#REF!+#REF!+#REF!+#REF!+#REF!+#REF!+#REF!+#REF!+#REF!+#REF!+#REF!+#REF!+#REF!+#REF!+#REF!+#REF!+#REF!+#REF!+#REF!+#REF!+#REF!+#REF!+#REF!+#REF!+#REF!","v":{"$error":"#REF!"}},{"$f":"#REF!+#REF!+#REF!+#REF!+#REF!+#REF!+#REF!+#REF!+#REF!+#REF!+#REF!+#REF!+#REF!+#REF!+#REF!+#REF!+#REF!+#REF!+#REF!+#REF!+#REF!+#REF!+#REF!+#REF!+#REF!+#REF!+#REF!+#REF!+#REF!+#REF!+#REF!+#REF!+#REF!","v":{"$error":"#REF!"}},{"$f":"#REF!+#REF!+#REF!+#REF!+#REF!+#REF!+#REF!+#REF!+#REF!+#REF!+#REF!+#REF!+#REF!+#REF!+#REF!+#REF!+#REF!+#REF!+#REF!+#REF!+#REF!+#REF!+#REF!+#REF!+#REF!+#REF!+#REF!+#REF!+#REF!+#REF!+#REF!+#REF!+#REF!","v":{"$error":"#REF!"}},{"$f":"#REF!+#REF!+#REF!+#REF!+#REF!+#REF!+#REF!+#REF!+#REF!+#REF!+#REF!+#REF!+#REF!+#REF!+#REF!+#REF!+#REF!+#REF!+#REF!+#REF!+#REF!+#REF!+#REF!+#REF!+#REF!+#REF!+#REF!+#REF!+#REF!+#REF!+#REF!+#REF!+#REF!","v":{"$error":"#REF!"}},{"$f":"#REF!+#REF!+#REF!+#REF!+#REF!+#REF!+#REF!+#REF!+#REF!+#REF!+#REF!+#REF!+#REF!+#REF!+#REF!+#REF!+#REF!+#REF!+#REF!+#REF!+#REF!+#REF!+#REF!+#REF!+#REF!+#REF!+#REF!+#REF!+#REF!+#REF!+#REF!+#REF!+#REF!","v":{"$error":"#REF!"}},{"$f":"#REF!+#REF!+#REF!+#REF!+#REF!+#REF!+#REF!+#REF!+#REF!+#REF!+#REF!+#REF!+#REF!+#REF!+#REF!+#REF!+#REF!+#REF!+#REF!+#REF!+#REF!+#REF!+#REF!+#REF!+#REF!+#REF!+#REF!+#REF!+#REF!+#REF!+#REF!+#REF!+#REF!","v":{"$error":"#REF!"}},{"$f":"#REF!+#REF!+#REF!+#REF!+#REF!+#REF!+#REF!+#REF!+#REF!+#REF!+#REF!+#REF!+#REF!+#REF!+#REF!+#REF!+#REF!+#REF!+#REF!+#REF!+#REF!+#REF!+#REF!+#REF!+#REF!+#REF!+#REF!+#REF!+#REF!+#REF!+#REF!+#REF!+#REF!","v":{"$error":"#REF!"}},{"$f":"#REF!+#REF!+#REF!+#REF!+#REF!+#REF!+#REF!+#REF!+#REF!+#REF!+#REF!+#REF!+#REF!+#REF!+#REF!+#REF!+#REF!+#REF!+#REF!+#REF!+#REF!+#REF!+#REF!+#REF!+#REF!+#REF!+#REF!+#REF!+#REF!+#REF!+#REF!+#REF!+#REF!","v":{"$error":"#REF!"}},{"$f":"#REF!+#REF!+#REF!+#REF!+#REF!+#REF!+#REF!+#REF!+#REF!+#REF!+#REF!+#REF!+#REF!+#REF!+#REF!+#REF!+#REF!+#REF!+#REF!+#REF!+#REF!+#REF!+#REF!+#REF!+#REF!+#REF!+#REF!+#REF!+#REF!+#REF!+#REF!+#REF!+#REF!","v":{"$error":"#REF!"}},{"$f":"#REF!+#REF!+#REF!+#REF!+#REF!+#REF!+#REF!+#REF!+#REF!+#REF!+#REF!+#REF!+#REF!+#REF!+#REF!+#REF!+#REF!+#REF!+#REF!+#REF!+#REF!+#REF!+#REF!+#REF!+#REF!+#REF!+#REF!+#REF!+#REF!+#REF!+#REF!+#REF!+#REF!","v":{"$error":"#REF!"}},{"$f":"#REF!+#REF!+#REF!+#REF!+#REF!+#REF!+#REF!+#REF!+#REF!+#REF!+#REF!+#REF!+#REF!+#REF!+#REF!+#REF!+#REF!+#REF!+#REF!+#REF!+#REF!+#REF!+#REF!+#REF!+#REF!+#REF!+#REF!+#REF!+#REF!+#REF!+#REF!+#REF!+#REF!","v":{"$error":"#REF!"}},{"$f":"#REF!+#REF!+#REF!+#REF!+#REF!+#REF!+#REF!+#REF!+#REF!+#REF!+#REF!+#REF!+#REF!+#REF!+#REF!+#REF!+#REF!+#REF!+#REF!+#REF!+#REF!+#REF!+#REF!+#REF!+#REF!+#REF!+#REF!+#REF!+#REF!+#REF!+#REF!+#REF!+#REF!","v":{"$error":"#REF!"}},{"$f":"#REF!+#REF!+#REF!+#REF!+#REF!+#REF!+#REF!+#REF!+#REF!+#REF!+#REF!+#REF!+#REF!+#REF!+#REF!+#REF!+#REF!+#REF!+#REF!+#REF!+#REF!+#REF!+#REF!+#REF!+#REF!+#REF!+#REF!+#REF!+#REF!+#REF!+#REF!+#REF!+#REF!","v":{"$error":"#REF!"}},{"$f":"#REF!+#REF!+#REF!+#REF!+#REF!+#REF!+#REF!+#REF!+#REF!+#REF!+#REF!+#REF!+#REF!+#REF!+#REF!+#REF!+#REF!+#REF!+#REF!+#REF!+#REF!+#REF!+#REF!+#REF!+#REF!+#REF!+#REF!+#REF!+#REF!+#REF!+#REF!+#REF!+#REF!","v":{"$error":"#REF!"}},{"$error":"#REF!"},{"$error":"#REF!"},{"$f":"#REF!+#REF!+#REF!+#REF!+#REF!+#REF!+#REF!+#REF!+#REF!+#REF!+#REF!+#REF!+#REF!+#REF!+#REF!+#REF!+#REF!+#REF!+#REF!+#REF!+#REF!+#REF!+#REF!+#REF!+#REF!+#REF!+#REF!+#REF!+#REF!+#REF!+#REF!+#REF!+#REF!","v":{"$error":"#REF!"}},null,{"$error":"#REF!"}]
[56,"Union",{"$f":"#REF!+#REF!+#REF!+#REF!+#REF!+#REF!+#REF!+#REF!+#REF!+#REF!+#REF!+#REF!+#REF!+#REF!+#REF!+#REF!+#REF!+#REF!+#REF!+#REF!+#REF!+#REF!+#REF!+#REF!+#REF!+#REF!+#REF!+#REF!+#REF!+#REF!+#REF!+#REF!+#REF!","v":{"$error":"#REF!"}},{"$f":"'9_Per Pupil Summary'!H61","v":5223.7489137503217},{"$f":"#REF!+#REF!+#REF!+#REF!+#REF!+#REF!+#REF!+#REF!+#REF!+#REF!+#REF!+#REF!+#REF!+#REF!+#REF!+#REF!+#REF!+#REF!+#REF!+#REF!+#REF!+#REF!+#REF!+#REF!+#REF!+#REF!+#REF!+#REF!+#REF!+#REF!+#REF!+#REF!+#REF!","v":{"$error":"#REF!"}},{"$f":"#REF!+#REF!+#REF!+#REF!+#REF!+#REF!+#REF!+#REF!+#REF!+#REF!+#REF!+#REF!+#REF!+#REF!+#REF!+#REF!+#REF!+#REF!+#REF!+#REF!+#REF!+#REF!+#REF!+#REF!+#REF!+#REF!+#REF!+#REF!+#REF!+#REF!+#REF!+#REF!+#REF!","v":{"$error":"#REF!"}},{"$f":"'9_Per Pupil Summary'!I61","v":691.71047587376881},{"$f":"#REF!+#REF!+#REF!+#REF!+#REF!+#REF!+#REF!+#REF!+#REF!+#REF!+#REF!+#REF!+#REF!+#REF!+#REF!+#REF!+#REF!+#REF!+#REF!+#REF!+#REF!+#REF!+#REF!+#REF!+#REF!+#REF!+#REF!+#REF!+#REF!+#REF!+#REF!+#REF!+#REF!","v":{"$error":"#REF!"}},{"$f":"#REF!+#REF!+#REF!+#REF!+#REF!+#REF!+#REF!+#REF!+#REF!+#REF!+#REF!+#REF!+#REF!+#REF!+#REF!+#REF!+#REF!+#REF!+#REF!+#REF!+#REF!+#REF!+#REF!+#REF!+#REF!+#REF!+#REF!+#REF!+#REF!+#REF!+#REF!+#REF!+#REF!","v":{"$error":"#REF!"}},{"$f":"'9_Per Pupil Summary'!J61","v":188.64831160193691},{"$f":"#REF!+#REF!+#REF!+#REF!+#REF!+#REF!+#REF!+#REF!+#REF!+#REF!+#REF!+#REF!+#REF!+#REF!+#REF!+#REF!+#REF!+#REF!+#REF!+#REF!+#REF!+#REF!+#REF!+#REF!+#REF!+#REF!+#REF!+#REF!+#REF!+#REF!+#REF!+#REF!+#REF!","v":{"$error":"#REF!"}},{"$f":"#REF!+#REF!+#REF!+#REF!+#REF!+#REF!+#REF!+#REF!+#REF!+#REF!+#REF!+#REF!+#REF!+#REF!+#REF!+#REF!+#REF!+#REF!+#REF!+#REF!+#REF!+#REF!+#REF!+#REF!+#REF!+#REF!+#REF!+#REF!+#REF!+#REF!+#REF!+#REF!+#REF!","v":{"$error":"#REF!"}},{"$f":"'9_Per Pupil Summary'!K61","v":4716.2077900484228},{"$f":"#REF!+#REF!+#REF!+#REF!+#REF!+#REF!+#REF!+#REF!+#REF!+#REF!+#REF!+#REF!+#REF!+#REF!+#REF!+#REF!+#REF!+#REF!+#REF!+#REF!+#REF!+#REF!+#REF!+#REF!+#REF!+#REF!+#REF!+#REF!+#REF!+#REF!+#REF!+#REF!+#REF!","v":{"$error":"#REF!"}},{"$f":"#REF!+#REF!+#REF!+#REF!+#REF!+#REF!+#REF!+#REF!+#REF!+#REF!+#REF!+#REF!+#REF!+#REF!+#REF!+#REF!+#REF!+#REF!+#REF!+#REF!+#REF!+#REF!+#REF!+#REF!+#REF!+#REF!+#REF!+#REF!+#REF!+#REF!+#REF!+#REF!+#REF!","v":{"$error":"#REF!"}},{"$f":"'9_Per Pupil Summary'!L61","v":1886.4831160193692},{"$f":"#REF!+#REF!+#REF!+#REF!+#REF!+#REF!+#REF!+#REF!+#REF!+#REF!+#REF!+#REF!+#REF!+#REF!+#REF!+#REF!+#REF!+#REF!+#REF!+#REF!+#REF!+#REF!+#REF!+#REF!+#REF!+#REF!+#REF!+#REF!+#REF!+#REF!+#REF!+#REF!+#REF!","v":{"$error":"#REF!"}},{"$f":"#REF!+#REF!+#REF!+#REF!+#REF!+#REF!+#REF!+#REF!+#REF!+#REF!+#REF!+#REF!+#REF!+#REF!+#REF!+#REF!+#REF!+#REF!+#REF!+#REF!+#REF!+#REF!+#REF!+#REF!+#REF!+#REF!+#REF!+#REF!+#REF!+#REF!+#REF!+#REF!+#REF!","v":{"$error":"#REF!"}},{"$f":"#REF!+#REF!","v":{"$error":"#REF!"}},{"$f":"#REF!+#REF!+#REF!+#REF!+#REF!+#REF!+#REF!+#REF!+#REF!+#REF!+#REF!+#REF!+#REF!+#REF!+#REF!+#REF!+#REF!+#REF!+#REF!+#REF!+#REF!+#REF!+#REF!+#REF!+#REF!+#REF!+#REF!+#REF!+#REF!+#REF!+#REF!+#REF!+#REF!","v":{"$error":"#REF!"}},{"$f":"#REF!+#REF!+#REF!+#REF!+#REF!+#REF!+#REF!+#REF!+#REF!+#REF!+#REF!+#REF!+#REF!+#REF!+#REF!+#REF!+#REF!+#REF!+#REF!+#REF!+#REF!+#REF!+#REF!+#REF!+#REF!+#REF!+#REF!+#REF!+#REF!+#REF!+#REF!+#REF!+#REF!","v":{"$error":"#REF!"}},{"$f":"#REF!+#REF!+#REF!+#REF!+#REF!+#REF!+#REF!+#REF!+#REF!+#REF!+#REF!+#REF!+#REF!+#REF!+#REF!+#REF!+#REF!+#REF!+#REF!+#REF!+#REF!+#REF!+#REF!+#REF!+#REF!+#REF!+#REF!+#REF!+#REF!+#REF!+#REF!+#REF!+#REF!","v":{"$error":"#REF!"}},{"$f":"#REF!+#REF!+#REF!+#REF!+#REF!+#REF!+#REF!+#REF!+#REF!+#REF!+#REF!+#REF!+#REF!+#REF!+#REF!+#REF!+#REF!+#REF!+#REF!+#REF!+#REF!+#REF!+#REF!+#REF!+#REF!+#REF!+#REF!+#REF!+#REF!+#REF!+#REF!+#REF!+#REF!","v":{"$error":"#REF!"}},{"$f":"#REF!+#REF!+#REF!+#REF!+#REF!+#REF!+#REF!+#REF!+#REF!+#REF!+#REF!+#REF!+#REF!+#REF!+#REF!+#REF!+#REF!+#REF!+#REF!+#REF!+#REF!+#REF!+#REF!+#REF!+#REF!+#REF!+#REF!+#REF!+#REF!+#REF!+#REF!+#REF!+#REF!","v":{"$error":"#REF!"}},{"$f":"#REF!+#REF!+#REF!+#REF!+#REF!+#REF!+#REF!+#REF!+#REF!+#REF!+#REF!+#REF!+#REF!+#REF!+#REF!+#REF!+#REF!+#REF!+#REF!+#REF!+#REF!+#REF!+#REF!+#REF!+#REF!+#REF!+#REF!+#REF!+#REF!+#REF!+#REF!+#REF!+#REF!","v":{"$error":"#REF!"}},{"$f":"#REF!+#REF!+#REF!+#REF!+#REF!+#REF!+#REF!+#REF!+#REF!+#REF!+#REF!+#REF!+#REF!+#REF!+#REF!+#REF!+#REF!+#REF!+#REF!+#REF!+#REF!+#REF!+#REF!+#REF!+#REF!+#REF!+#REF!+#REF!+#REF!+#REF!+#REF!+#REF!+#REF!","v":{"$error":"#REF!"}},{"$f":"#REF!+#REF!+#REF!+#REF!+#REF!+#REF!+#REF!+#REF!+#REF!+#REF!+#REF!+#REF!+#REF!+#REF!+#REF!+#REF!+#REF!+#REF!+#REF!+#REF!+#REF!+#REF!+#REF!+#REF!+#REF!+#REF!+#REF!+#REF!+#REF!+#REF!+#REF!+#REF!+#REF!","v":{"$error":"#REF!"}},{"$f":"#REF!+#REF!+#REF!+#REF!+#REF!+#REF!+#REF!+#REF!+#REF!+#REF!+#REF!+#REF!+#REF!+#REF!+#REF!+#REF!+#REF!+#REF!+#REF!+#REF!+#REF!+#REF!+#REF!+#REF!+#REF!+#REF!+#REF!+#REF!+#REF!+#REF!+#REF!+#REF!+#REF!","v":{"$error":"#REF!"}},{"$f":"#REF!+#REF!+#REF!+#REF!+#REF!+#REF!+#REF!+#REF!+#REF!+#REF!+#REF!+#REF!+#REF!+#REF!+#REF!+#REF!+#REF!+#REF!+#REF!+#REF!+#REF!+#REF!+#REF!+#REF!+#REF!+#REF!+#REF!+#REF!+#REF!+#REF!+#REF!+#REF!+#REF!","v":{"$error":"#REF!"}},{"$f":"#REF!+#REF!+#REF!+#REF!+#REF!+#REF!+#REF!+#REF!+#REF!+#REF!+#REF!+#REF!+#REF!+#REF!+#REF!+#REF!+#REF!+#REF!+#REF!+#REF!+#REF!+#REF!+#REF!+#REF!+#REF!+#REF!+#REF!+#REF!+#REF!+#REF!+#REF!+#REF!+#REF!","v":{"$error":"#REF!"}},{"$f":"#REF!+#REF!+#REF!+#REF!+#REF!+#REF!+#REF!+#REF!+#REF!+#REF!+#REF!+#REF!+#REF!+#REF!+#REF!+#REF!+#REF!+#REF!+#REF!+#REF!+#REF!+#REF!+#REF!+#REF!+#REF!+#REF!+#REF!+#REF!+#REF!+#REF!+#REF!+#REF!+#REF!","v":{"$error":"#REF!"}},{"$f":"'9_Per Pupil Summary'!N61","v":5641},{"$f":"#REF!+#REF!+#REF!+#REF!+#REF!+#REF!+#REF!+#REF!+#REF!+#REF!+#REF!+#REF!+#REF!+#REF!+#REF!+#REF!+#REF!+#REF!+#REF!+#REF!+#REF!+#REF!+#REF!+#REF!+#REF!+#REF!+#REF!+#REF!+#REF!+#REF!+#REF!+#REF!+#REF!","v":{"$error":"#REF!"}},{"$f":"#REF!+#REF!+#REF!+#REF!+#REF!+#REF!+#REF!+#REF!+#REF!+#REF!+#REF!+#REF!+#REF!+#REF!+#REF!+#REF!+#REF!+#REF!+#REF!+#REF!+#REF!+#REF!+#REF!+#REF!+#REF!+#REF!+#REF!+#REF!+#REF!+#REF!+#REF!+#REF!+#REF!","v":{"$error":"#REF!"}},{"$f":"#REF!+#REF!+#REF!+#REF!+#REF!+#REF!+#REF!+#REF!+#REF!+#REF!+#REF!+#REF!+#REF!+#REF!+#REF!+#REF!+#REF!+#REF!+#REF!+#REF!+#REF!+#REF!+#REF!+#REF!+#REF!+#REF!+#REF!+#REF!+#REF!+#REF!+#REF!+#REF!+#REF!","v":{"$error":"#REF!"}},{"$f":"#REF!+#REF!+#REF!+#REF!+#REF!+#REF!+#REF!+#REF!+#REF!+#REF!+#REF!+#REF!+#REF!+#REF!+#REF!+#REF!+#REF!+#REF!+#REF!+#REF!+#REF!+#REF!+#REF!+#REF!+#REF!+#REF!+#REF!+#REF!+#REF!+#REF!+#REF!+#REF!+#REF!","v":{"$error":"#REF!"}},{"$f":"#REF!+#REF!+#REF!+#REF!+#REF!+#REF!+#REF!+#REF!+#REF!+#REF!+#REF!+#REF!+#REF!+#REF!+#REF!+#REF!+#REF!+#REF!+#REF!+#REF!+#REF!+#REF!+#REF!+#REF!+#REF!+#REF!+#REF!+#REF!+#REF!+#REF!+#REF!+#REF!+#REF!","v":{"$error":"#REF!"}},{"$f":"#REF!+#REF!+#REF!+#REF!+#REF!+#REF!+#REF!+#REF!+#REF!+#REF!+#REF!+#REF!+#REF!+#REF!+#REF!+#REF!+#REF!+#REF!+#REF!+#REF!+#REF!+#REF!+#REF!+#REF!+#REF!+#REF!+#REF!+#REF!+#REF!+#REF!+#REF!+#REF!+#REF!","v":{"$error":"#REF!"}},{"$f":"#REF!+#REF!+#REF!+#REF!+#REF!+#REF!+#REF!+#REF!+#REF!+#REF!+#REF!+#REF!+#REF!+#REF!+#REF!+#REF!+#REF!+#REF!+#REF!+#REF!+#REF!+#REF!+#REF!+#REF!+#REF!+#REF!+#REF!+#REF!+#REF!+#REF!+#REF!+#REF!+#REF!","v":{"$error":"#REF!"}},{"$f":"#REF!+#REF!+#REF!+#REF!+#REF!+#REF!+#REF!+#REF!+#REF!+#REF!+#REF!+#REF!+#REF!+#REF!+#REF!+#REF!+#REF!+#REF!+#REF!+#REF!+#REF!+#REF!+#REF!+#REF!+#REF!+#REF!+#REF!+#REF!+#REF!+#REF!+#REF!+#REF!+#REF!","v":{"$error":"#REF!"}},{"$f":"#REF!+#REF!+#REF!+#REF!+#REF!+#REF!+#REF!+#REF!+#REF!+#REF!+#REF!+#REF!+#REF!+#REF!+#REF!+#REF!+#REF!+#REF!+#REF!+#REF!+#REF!+#REF!+#REF!+#REF!+#REF!+#REF!+#REF!+#REF!+#REF!+#REF!+#REF!+#REF!+#REF!","v":{"$error":"#REF!"}},{"$f":"#REF!+#REF!+#REF!+#REF!+#REF!+#REF!+#REF!+#REF!+#REF!+#REF!+#REF!+#REF!+#REF!+#REF!+#REF!+#REF!+#REF!+#REF!+#REF!+#REF!+#REF!+#REF!+#REF!+#REF!+#REF!+#REF!+#REF!+#REF!+#REF!+#REF!+#REF!+#REF!+#REF!","v":{"$error":"#REF!"}},{"$f":"#REF!+#REF!+#REF!+#REF!+#REF!+#REF!+#REF!+#REF!+#REF!+#REF!+#REF!+#REF!+#REF!+#REF!+#REF!+#REF!+#REF!+#REF!+#REF!+#REF!+#REF!+#REF!+#REF!+#REF!+#REF!+#REF!+#REF!+#REF!+#REF!+#REF!+#REF!+#REF!+#REF!","v":{"$error":"#REF!"}},{"$f":"#REF!+#REF!+#REF!+#REF!+#REF!+#REF!+#REF!+#REF!+#REF!+#REF!+#REF!+#REF!+#REF!+#REF!+#REF!+#REF!+#REF!+#REF!+#REF!+#REF!+#REF!+#REF!+#REF!+#REF!+#REF!+#REF!+#REF!+#REF!+#REF!+#REF!+#REF!+#REF!+#REF!","v":{"$error":"#REF!"}},{"$f":"#REF!+#REF!+#REF!+#REF!+#REF!+#REF!+#REF!+#REF!+#REF!+#REF!+#REF!+#REF!+#REF!+#REF!+#REF!+#REF!+#REF!+#REF!+#REF!+#REF!+#REF!+#REF!+#REF!+#REF!+#REF!+#REF!+#REF!+#REF!+#REF!+#REF!+#REF!+#REF!+#REF!","v":{"$error":"#REF!"}},{"$f":"#REF!+#REF!+#REF!+#REF!+#REF!+#REF!+#REF!+#REF!+#REF!+#REF!+#REF!+#REF!+#REF!+#REF!+#REF!+#REF!+#REF!+#REF!+#REF!+#REF!+#REF!+#REF!+#REF!+#REF!+#REF!+#REF!+#REF!+#REF!+#REF!+#REF!+#REF!+#REF!+#REF!","v":{"$error":"#REF!"}},{"$error":"#REF!"},{"$error":"#REF!"},{"$f":"#REF!+#REF!+#REF!+#REF!+#REF!+#REF!+#REF!+#REF!+#REF!+#REF!+#REF!+#REF!+#REF!+#REF!+#REF!+#REF!+#REF!+#REF!+#REF!+#REF!+#REF!+#REF!+#REF!+#REF!+#REF!+#REF!+#REF!+#REF!+#REF!+#REF!+#REF!+#REF!+#REF!","v":{"$error":"#REF!"}},null,{"$error":"#REF!"}]
[57,"Vermilion",{"$f":"#REF!+#REF!+#REF!+#REF!+#REF!+#REF!+#REF!+#REF!+#REF!+#REF!+#REF!+#REF!+#REF!+#REF!+#REF!+#REF!+#REF!+#REF!+#REF!+#REF!+#REF!+#REF!+#REF!+#REF!+#REF!+#REF!+#REF!+#REF!+#REF!+#REF!+#REF!+#REF!+#REF!","v":{"$error":"#REF!"}},{"$f":"'9_Per Pupil Summary'!H62","v":5329.7480341836135},{"$f":"#REF!+#REF!+#REF!+#REF!+#REF!+#REF!+#REF!+#REF!+#REF!+#REF!+#REF!+#REF!+#REF!+#REF!+#REF!+#REF!+#REF!+#REF!+#REF!+#REF!+#REF!+#REF!+#REF!+#REF!+#REF!+#REF!+#REF!+#REF!+#REF!+#REF!+#REF!+#REF!+#REF!","v":{"$error":"#REF!"}},{"$f":"#REF!+#REF!+#REF!+#REF!+#REF!+#REF!+#REF!+#REF!+#REF!+#REF!+#REF!+#REF!+#REF!+#REF!+#REF!+#REF!+#REF!+#REF!+#REF!+#REF!+#REF!+#REF!+#REF!+#REF!+#REF!+#REF!+#REF!+#REF!+#REF!+#REF!+#REF!+#REF!+#REF!","v":{"$error":"#REF!"}},{"$f":"'9_Per Pupil Summary'!I62","v":700.9833158997468},{"$f":"#REF!+#REF!+#REF!+#REF!+#REF!+#REF!+#REF!+#REF!+#REF!+#REF!+#REF!+#REF!+#REF!+#REF!+#REF!+#REF!+#REF!+#REF!+#REF!+#REF!+#REF!+#REF!+#REF!+#REF!+#REF!+#REF!+#REF!+#REF!+#REF!+#REF!+#REF!+#REF!+#REF!","v":{"$error":"#REF!"}},{"$f":"#REF!+#REF!+#REF!+#REF!+#REF!+#REF!+#REF!+#REF!+#REF!+#REF!+#REF!+#REF!+#REF!+#REF!+#REF!+#REF!+#REF!+#REF!+#REF!+#REF!+#REF!+#REF!+#REF!+#REF!+#REF!+#REF!+#REF!+#REF!+#REF!+#REF!+#REF!+#REF!+#REF!","v":{"$error":"#REF!"}},{"$f":"'9_Per Pupil Summary'!J62","v":191.1772679726582},{"$f":"#REF!+#REF!+#REF!+#REF!+#REF!+#REF!+#REF!+#REF!+#REF!+#REF!+#REF!+#REF!+#REF!+#REF!+#REF!+#REF!+#REF!+#REF!+#REF!+#REF!+#REF!+#REF!+#REF!+#REF!+#REF!+#REF!+#REF!+#REF!+#REF!+#REF!+#REF!+#REF!+#REF!","v":{"$error":"#REF!"}},{"$f":"#REF!+#REF!+#REF!+#REF!+#REF!+#REF!+#REF!+#REF!+#REF!+#REF!+#REF!+#REF!+#REF!+#REF!+#REF!+#REF!+#REF!+#REF!+#REF!+#REF!+#REF!+#REF!+#REF!+#REF!+#REF!+#REF!+#REF!+#REF!+#REF!+#REF!+#REF!+#REF!+#REF!","v":{"$error":"#REF!"}},{"$f":"'9_Per Pupil Summary'!K62","v":4779.4316993164557},{"$f":"#REF!+#REF!+#REF!+#REF!+#REF!+#REF!+#REF!+#REF!+#REF!+#REF!+#REF!+#REF!+#REF!+#REF!+#REF!+#REF!+#REF!+#REF!+#REF!+#REF!+#REF!+#REF!+#REF!+#REF!+#REF!+#REF!+#REF!+#REF!+#REF!+#REF!+#REF!+#REF!+#REF!","v":{"$error":"#REF!"}},{"$f":"#REF!+#REF!+#REF!+#REF!+#REF!+#REF!+#REF!+#REF!+#REF!+#REF!+#REF!+#REF!+#REF!+#REF!+#REF!+#REF!+#REF!+#REF!+#REF!+#REF!+#REF!+#REF!+#REF!+#REF!+#REF!+#REF!+#REF!+#REF!+#REF!+#REF!+#REF!+#REF!+#REF!","v":{"$error":"#REF!"}},{"$f":"'9_Per Pupil Summary'!L62","v":1911.7726797265821},{"$f":"#REF!+#REF!+#REF!+#REF!+#REF!+#REF!+#REF!+#REF!+#REF!+#REF!+#REF!+#REF!+#REF!+#REF!+#REF!+#REF!+#REF!+#REF!+#REF!+#REF!+#REF!+#REF!+#REF!+#REF!+#REF!+#REF!+#REF!+#REF!+#REF!+#REF!+#REF!+#REF!+#REF!","v":{"$error":"#REF!"}},{"$f":"#REF!+#REF!+#REF!+#REF!+#REF!+#REF!+#REF!+#REF!+#REF!+#REF!+#REF!+#REF!+#REF!+#REF!+#REF!+#REF!+#REF!+#REF!+#REF!+#REF!+#REF!+#REF!+#REF!+#REF!+#REF!+#REF!+#REF!+#REF!+#REF!+#REF!+#REF!+#REF!+#REF!","v":{"$error":"#REF!"}},{"$f":"#REF!+#REF!","v":{"$error":"#REF!"}},{"$f":"#REF!+#REF!+#REF!+#REF!+#REF!+#REF!+#REF!+#REF!+#REF!+#REF!+#REF!+#REF!+#REF!+#REF!+#REF!+#REF!+#REF!+#REF!+#REF!+#REF!+#REF!+#REF!+#REF!+#REF!+#REF!+#REF!+#REF!+#REF!+#REF!+#REF!+#REF!+#REF!+#REF!","v":{"$error":"#REF!"}},{"$f":"#REF!+#REF!+#REF!+#REF!+#REF!+#REF!+#REF!+#REF!+#REF!+#REF!+#REF!+#REF!+#REF!+#REF!+#REF!+#REF!+#REF!+#REF!+#REF!+#REF!+#REF!+#REF!+#REF!+#REF!+#REF!+#REF!+#REF!+#REF!+#REF!+#REF!+#REF!+#REF!+#REF!","v":{"$error":"#REF!"}},{"$f":"#REF!+#REF!+#REF!+#REF!+#REF!+#REF!+#REF!+#REF!+#REF!+#REF!+#REF!+#REF!+#REF!+#REF!+#REF!+#REF!+#REF!+#REF!+#REF!+#REF!+#REF!+#REF!+#REF!+#REF!+#REF!+#REF!+#REF!+#REF!+#REF!+#REF!+#REF!+#REF!+#REF!","v":{"$error":"#REF!"}},{"$f":"#REF!+#REF!+#REF!+#REF!+#REF!+#REF!+#REF!+#REF!+#REF!+#REF!+#REF!+#REF!+#REF!+#REF!+#REF!+#REF!+#REF!+#REF!+#REF!+#REF!+#REF!+#REF!+#REF!+#REF!+#REF!+#REF!+#REF!+#REF!+#REF!+#REF!+#REF!+#REF!+#REF!","v":{"$error":"#REF!"}},{"$f":"#REF!+#REF!+#REF!+#REF!+#REF!+#REF!+#REF!+#REF!+#REF!+#REF!+#REF!+#REF!+#REF!+#REF!+#REF!+#REF!+#REF!+#REF!+#REF!+#REF!+#REF!+#REF!+#REF!+#REF!+#REF!+#REF!+#REF!+#REF!+#REF!+#REF!+#REF!+#REF!+#REF!","v":{"$error":"#REF!"}},{"$f":"#REF!+#REF!+#REF!+#REF!+#REF!+#REF!+#REF!+#REF!+#REF!+#REF!+#REF!+#REF!+#REF!+#REF!+#REF!+#REF!+#REF!+#REF!+#REF!+#REF!+#REF!+#REF!+#REF!+#REF!+#REF!+#REF!+#REF!+#REF!+#REF!+#REF!+#REF!+#REF!+#REF!","v":{"$error":"#REF!"}},{"$f":"#REF!+#REF!+#REF!+#REF!+#REF!+#REF!+#REF!+#REF!+#REF!+#REF!+#REF!+#REF!+#REF!+#REF!+#REF!+#REF!+#REF!+#REF!+#REF!+#REF!+#REF!+#REF!+#REF!+#REF!+#REF!+#REF!+#REF!+#REF!+#REF!+#REF!+#REF!+#REF!+#REF!","v":{"$error":"#REF!"}},{"$f":"#REF!+#REF!+#REF!+#REF!+#REF!+#REF!+#REF!+#REF!+#REF!+#REF!+#REF!+#REF!+#REF!+#REF!+#REF!+#REF!+#REF!+#REF!+#REF!+#REF!+#REF!+#REF!+#REF!+#REF!+#REF!+#REF!+#REF!+#REF!+#REF!+#REF!+#REF!+#REF!+#REF!","v":{"$error":"#REF!"}},{"$f":"#REF!+#REF!+#REF!+#REF!+#REF!+#REF!+#REF!+#REF!+#REF!+#REF!+#REF!+#REF!+#REF!+#REF!+#REF!+#REF!+#REF!+#REF!+#REF!+#REF!+#REF!+#REF!+#REF!+#REF!+#REF!+#REF!+#REF!+#REF!+#REF!+#REF!+#REF!+#REF!+#REF!","v":{"$error":"#REF!"}},{"$f":"#REF!+#REF!+#REF!+#REF!+#REF!+#REF!+#REF!+#REF!+#REF!+#REF!+#REF!+#REF!+#REF!+#REF!+#REF!+#REF!+#REF!+#REF!+#REF!+#REF!+#REF!+#REF!+#REF!+#REF!+#REF!+#REF!+#REF!+#REF!+#REF!+#REF!+#REF!+#REF!+#REF!","v":{"$error":"#REF!"}},{"$f":"#REF!+#REF!+#REF!+#REF!+#REF!+#REF!+#REF!+#REF!+#REF!+#REF!+#REF!+#REF!+#REF!+#REF!+#REF!+#REF!+#REF!+#REF!+#REF!+#REF!+#REF!+#REF!+#REF!+#REF!+#REF!+#REF!+#REF!+#REF!+#REF!+#REF!+#REF!+#REF!+#REF!","v":{"$error":"#REF!"}},{"$f":"#REF!+#REF!+#REF!+#REF!+#REF!+#REF!+#REF!+#REF!+#REF!+#REF!+#REF!+#REF!+#REF!+#REF!+#REF!+#REF!+#REF!+#REF!+#REF!+#REF!+#REF!+#REF!+#REF!+#REF!+#REF!+#REF!+#REF!+#REF!+#REF!+#REF!+#REF!+#REF!+#REF!","v":{"$error":"#REF!"}},{"$f":"'9_Per Pupil Summary'!N62","v":3108},{"$f":"#REF!+#REF!+#REF!+#REF!+#REF!+#REF!+#REF!+#REF!+#REF!+#REF!+#REF!+#REF!+#REF!+#REF!+#REF!+#REF!+#REF!+#REF!+#REF!+#REF!+#REF!+#REF!+#REF!+#REF!+#REF!+#REF!+#REF!+#REF!+#REF!+#REF!+#REF!+#REF!+#REF!","v":{"$error":"#REF!"}},{"$f":"#REF!+#REF!+#REF!+#REF!+#REF!+#REF!+#REF!+#REF!+#REF!+#REF!+#REF!+#REF!+#REF!+#REF!+#REF!+#REF!+#REF!+#REF!+#REF!+#REF!+#REF!+#REF!+#REF!+#REF!+#REF!+#REF!+#REF!+#REF!+#REF!+#REF!+#REF!+#REF!+#REF!","v":{"$error":"#REF!"}},{"$f":"#REF!+#REF!+#REF!+#REF!+#REF!+#REF!+#REF!+#REF!+#REF!+#REF!+#REF!+#REF!+#REF!+#REF!+#REF!+#REF!+#REF!+#REF!+#REF!+#REF!+#REF!+#REF!+#REF!+#REF!+#REF!+#REF!+#REF!+#REF!+#REF!+#REF!+#REF!+#REF!+#REF!","v":{"$error":"#REF!"}},{"$f":"#REF!+#REF!+#REF!+#REF!+#REF!+#REF!+#REF!+#REF!+#REF!+#REF!+#REF!+#REF!+#REF!+#REF!+#REF!+#REF!+#REF!+#REF!+#REF!+#REF!+#REF!+#REF!+#REF!+#REF!+#REF!+#REF!+#REF!+#REF!+#REF!+#REF!+#REF!+#REF!+#REF!","v":{"$error":"#REF!"}},{"$f":"#REF!+#REF!+#REF!+#REF!+#REF!+#REF!+#REF!+#REF!+#REF!+#REF!+#REF!+#REF!+#REF!+#REF!+#REF!+#REF!+#REF!+#REF!+#REF!+#REF!+#REF!+#REF!+#REF!+#REF!+#REF!+#REF!+#REF!+#REF!+#REF!+#REF!+#REF!+#REF!+#REF!","v":{"$error":"#REF!"}},{"$f":"#REF!+#REF!+#REF!+#REF!+#REF!+#REF!+#REF!+#REF!+#REF!+#REF!+#REF!+#REF!+#REF!+#REF!+#REF!+#REF!+#REF!+#REF!+#REF!+#REF!+#REF!+#REF!+#REF!+#REF!+#REF!+#REF!+#REF!+#REF!+#REF!+#REF!+#REF!+#REF!+#REF!","v":{"$error":"#REF!"}},{"$f":"#REF!+#REF!+#REF!+#REF!+#REF!+#REF!+#REF!+#REF!+#REF!+#REF!+#REF!+#REF!+#REF!+#REF!+#REF!+#REF!+#REF!+#REF!+#REF!+#REF!+#REF!+#REF!+#REF!+#REF!+#REF!+#REF!+#REF!+#REF!+#REF!+#REF!+#REF!+#REF!+#REF!","v":{"$error":"#REF!"}},{"$f":"#REF!+#REF!+#REF!+#REF!+#REF!+#REF!+#REF!+#REF!+#REF!+#REF!+#REF!+#REF!+#REF!+#REF!+#REF!+#REF!+#REF!+#REF!+#REF!+#REF!+#REF!+#REF!+#REF!+#REF!+#REF!+#REF!+#REF!+#REF!+#REF!+#REF!+#REF!+#REF!+#REF!","v":{"$error":"#REF!"}},{"$f":"#REF!+#REF!+#REF!+#REF!+#REF!+#REF!+#REF!+#REF!+#REF!+#REF!+#REF!+#REF!+#REF!+#REF!+#REF!+#REF!+#REF!+#REF!+#REF!+#REF!+#REF!+#REF!+#REF!+#REF!+#REF!+#REF!+#REF!+#REF!+#REF!+#REF!+#REF!+#REF!+#REF!","v":{"$error":"#REF!"}},{"$f":"#REF!+#REF!+#REF!+#REF!+#REF!+#REF!+#REF!+#REF!+#REF!+#REF!+#REF!+#REF!+#REF!+#REF!+#REF!+#REF!+#REF!+#REF!+#REF!+#REF!+#REF!+#REF!+#REF!+#REF!+#REF!+#REF!+#REF!+#REF!+#REF!+#REF!+#REF!+#REF!+#REF!","v":{"$error":"#REF!"}},{"$f":"#REF!+#REF!+#REF!+#REF!+#REF!+#REF!+#REF!+#REF!+#REF!+#REF!+#REF!+#REF!+#REF!+#REF!+#REF!+#REF!+#REF!+#REF!+#REF!+#REF!+#REF!+#REF!+#REF!+#REF!+#REF!+#REF!+#REF!+#REF!+#REF!+#REF!+#REF!+#REF!+#REF!","v":{"$error":"#REF!"}},{"$f":"#REF!+#REF!+#REF!+#REF!+#REF!+#REF!+#REF!+#REF!+#REF!+#REF!+#REF!+#REF!+#REF!+#REF!+#REF!+#REF!+#REF!+#REF!+#REF!+#REF!+#REF!+#REF!+#REF!+#REF!+#REF!+#REF!+#REF!+#REF!+#REF!+#REF!+#REF!+#REF!+#REF!","v":{"$error":"#REF!"}},{"$f":"#REF!+#REF!+#REF!+#REF!+#REF!+#REF!+#REF!+#REF!+#REF!+#REF!+#REF!+#REF!+#REF!+#REF!+#REF!+#REF!+#REF!+#REF!+#REF!+#REF!+#REF!+#REF!+#REF!+#REF!+#REF!+#REF!+#REF!+#REF!+#REF!+#REF!+#REF!+#REF!+#REF!","v":{"$error":"#REF!"}},{"$f":"#REF!+#REF!+#REF!+#REF!+#REF!+#REF!+#REF!+#REF!+#REF!+#REF!+#REF!+#REF!+#REF!+#REF!+#REF!+#REF!+#REF!+#REF!+#REF!+#REF!+#REF!+#REF!+#REF!+#REF!+#REF!+#REF!+#REF!+#REF!+#REF!+#REF!+#REF!+#REF!+#REF!","v":{"$error":"#REF!"}},{"$error":"#REF!"},{"$error":"#REF!"},{"$f":"#REF!+#REF!+#REF!+#REF!+#REF!+#REF!+#REF!+#REF!+#REF!+#REF!+#REF!+#REF!+#REF!+#REF!+#REF!+#REF!+#REF!+#REF!+#REF!+#REF!+#REF!+#REF!+#REF!+#REF!+#REF!+#REF!+#REF!+#REF!+#REF!+#REF!+#REF!+#REF!+#REF!","v":{"$error":"#REF!"}},null,{"$error":"#REF!"}]
[58,"Vernon",{"$f":"#REF!+#REF!+#REF!+#REF!+#REF!+#REF!+#REF!+#REF!+#REF!+#REF!+#REF!+#REF!+#REF!+#REF!+#REF!+#REF!+#REF!+#REF!+#REF!+#REF!+#REF!+#REF!+#REF!+#REF!+#REF!+#REF!+#REF!+#REF!+#REF!+#REF!+#REF!+#REF!+#REF!","v":{"$error":"#REF!"}},{"$f":"'9_Per Pupil Summary'!H63","v":5478.2351783533213},{"$f":"#REF!+#REF!+#REF!+#REF!+#REF!+#REF!+#REF!+#REF!+#REF!+#REF!+#REF!+#REF!+#REF!+#REF!+#REF!+#REF!+#REF!+#REF!+#REF!+#REF!+#REF!+#REF!+#REF!+#REF!+#REF!+#REF!+#REF!+#REF!+#REF!+#REF!+#REF!+#REF!+#REF!","v":{"$error":"#REF!"}},{"$f":"#REF!+#REF!+#REF!+#REF!+#REF!+#REF!+#REF!+#REF!+#REF!+#REF!+#REF!+#REF!+#REF!+#REF!+#REF!+#REF!+#REF!+#REF!+#REF!+#REF!+#REF!+#REF!+#REF!+#REF!+#REF!+#REF!+#REF!+#REF!+#REF!+#REF!+#REF!+#REF!+#REF!","v":{"$error":"#REF!"}},{"$f":"'9_Per Pupil Summary'!I63","v":726.71390317215707},{"$f":"#REF!+#REF!+#REF!+#REF!+#REF!+#REF!+#REF!+#REF!+#REF!+#REF!+#REF!+#REF!+#REF!+#REF!+#REF!+#REF!+#REF!+#REF!+#REF!+#REF!+#REF!+#REF!+#REF!+#REF!+#REF!+#REF!+#REF!+#REF!+#REF!+#REF!+#REF!+#REF!+#REF!","v":{"$error":"#REF!"}},{"$f":"#REF!+#REF!+#REF!+#REF!+#REF!+#REF!+#REF!+#REF!+#REF!+#REF!+#REF!+#REF!+#REF!+#REF!+#REF!+#REF!+#REF!+#REF!+#REF!+#REF!+#REF!+#REF!+#REF!+#REF!+#REF!+#REF!+#REF!+#REF!+#REF!+#REF!+#REF!+#REF!+#REF!","v":{"$error":"#REF!"}},{"$f":"'9_Per Pupil Summary'!J63","v":198.19470086513374},{"$f":"#REF!+#REF!+#REF!+#REF!+#REF!+#REF!+#REF!+#REF!+#REF!+#REF!+#REF!+#REF!+#REF!+#REF!+#REF!+#REF!+#REF!+#REF!+#REF!+#REF!+#REF!+#REF!+#REF!+#REF!+#REF!+#REF!+#REF!+#REF!+#REF!+#REF!+#REF!+#REF!+#REF!","v":{"$error":"#REF!"}},{"$f":"#REF!+#REF!+#REF!+#REF!+#REF!+#REF!+#REF!+#REF!+#REF!+#REF!+#REF!+#REF!+#REF!+#REF!+#REF!+#REF!+#REF!+#REF!+#REF!+#REF!+#REF!+#REF!+#REF!+#REF!+#REF!+#REF!+#REF!+#REF!+#REF!+#REF!+#REF!+#REF!+#REF!","v":{"$error":"#REF!"}},{"$f":"'9_Per Pupil Summary'!K63","v":4954.8675216283436},{"$f":"#REF!+#REF!+#REF!+#REF!+#REF!+#REF!+#REF!+#REF!+#REF!+#REF!+#REF!+#REF!+#REF!+#REF!+#REF!+#REF!+#REF!+#REF!+#REF!+#REF!+#REF!+#REF!+#REF!+#REF!+#REF!+#REF!+#REF!+#REF!+#REF!+#REF!+#REF!+#REF!+#REF!","v":{"$error":"#REF!"}},{"$f":"#REF!+#REF!+#REF!+#REF!+#REF!+#REF!+#REF!+#REF!+#REF!+#REF!+#REF!+#REF!+#REF!+#REF!+#REF!+#REF!+#REF!+#REF!+#REF!+#REF!+#REF!+#REF!+#REF!+#REF!+#REF!+#REF!+#REF!+#REF!+#REF!+#REF!+#REF!+#REF!+#REF!","v":{"$error":"#REF!"}},{"$f":"'9_Per Pupil Summary'!L63","v":1981.9470086513375},{"$f":"#REF!+#REF!+#REF!+#REF!+#REF!+#REF!+#REF!+#REF!+#REF!+#REF!+#REF!+#REF!+#REF!+#REF!+#REF!+#REF!+#REF!+#REF!+#REF!+#REF!+#REF!+#REF!+#REF!+#REF!+#REF!+#REF!+#REF!+#REF!+#REF!+#REF!+#REF!+#REF!+#REF!","v":{"$error":"#REF!"}},{"$f":"#REF!+#REF!+#REF!+#REF!+#REF!+#REF!+#REF!+#REF!+#REF!+#REF!+#REF!+#REF!+#REF!+#REF!+#REF!+#REF!+#REF!+#REF!+#REF!+#REF!+#REF!+#REF!+#REF!+#REF!+#REF!+#REF!+#REF!+#REF!+#REF!+#REF!+#REF!+#REF!+#REF!","v":{"$error":"#REF!"}},{"$f":"#REF!+#REF!","v":{"$error":"#REF!"}},{"$f":"#REF!+#REF!+#REF!+#REF!+#REF!+#REF!+#REF!+#REF!+#REF!+#REF!+#REF!+#REF!+#REF!+#REF!+#REF!+#REF!+#REF!+#REF!+#REF!+#REF!+#REF!+#REF!+#REF!+#REF!+#REF!+#REF!+#REF!+#REF!+#REF!+#REF!+#REF!+#REF!+#REF!","v":{"$error":"#REF!"}},{"$f":"#REF!+#REF!+#REF!+#REF!+#REF!+#REF!+#REF!+#REF!+#REF!+#REF!+#REF!+#REF!+#REF!+#REF!+#REF!+#REF!+#REF!+#REF!+#REF!+#REF!+#REF!+#REF!+#REF!+#REF!+#REF!+#REF!+#REF!+#REF!+#REF!+#REF!+#REF!+#REF!+#REF!","v":{"$error":"#REF!"}},{"$f":"#REF!+#REF!+#REF!+#REF!+#REF!+#REF!+#REF!+#REF!+#REF!+#REF!+#REF!+#REF!+#REF!+#REF!+#REF!+#REF!+#REF!+#REF!+#REF!+#REF!+#REF!+#REF!+#REF!+#REF!+#REF!+#REF!+#REF!+#REF!+#REF!+#REF!+#REF!+#REF!+#REF!","v":{"$error":"#REF!"}},{"$f":"#REF!+#REF!+#REF!+#REF!+#REF!+#REF!+#REF!+#REF!+#REF!+#REF!+#REF!+#REF!+#REF!+#REF!+#REF!+#REF!+#REF!+#REF!+#REF!+#REF!+#REF!+#REF!+#REF!+#REF!+#REF!+#REF!+#REF!+#REF!+#REF!+#REF!+#REF!+#REF!+#REF!","v":{"$error":"#REF!"}},{"$f":"#REF!+#REF!+#REF!+#REF!+#REF!+#REF!+#REF!+#REF!+#REF!+#REF!+#REF!+#REF!+#REF!+#REF!+#REF!+#REF!+#REF!+#REF!+#REF!+#REF!+#REF!+#REF!+#REF!+#REF!+#REF!+#REF!+#REF!+#REF!+#REF!+#REF!+#REF!+#REF!+#REF!","v":{"$error":"#REF!"}},{"$f":"#REF!+#REF!+#REF!+#REF!+#REF!+#REF!+#REF!+#REF!+#REF!+#REF!+#REF!+#REF!+#REF!+#REF!+#REF!+#REF!+#REF!+#REF!+#REF!+#REF!+#REF!+#REF!+#REF!+#REF!+#REF!+#REF!+#REF!+#REF!+#REF!+#REF!+#REF!+#REF!+#REF!","v":{"$error":"#REF!"}},{"$f":"#REF!+#REF!+#REF!+#REF!+#REF!+#REF!+#REF!+#REF!+#REF!+#REF!+#REF!+#REF!+#REF!+#REF!+#REF!+#REF!+#REF!+#REF!+#REF!+#REF!+#REF!+#REF!+#REF!+#REF!+#REF!+#REF!+#REF!+#REF!+#REF!+#REF!+#REF!+#REF!+#REF!","v":{"$error":"#REF!"}},{"$f":"#REF!+#REF!+#REF!+#REF!+#REF!+#REF!+#REF!+#REF!+#REF!+#REF!+#REF!+#REF!+#REF!+#REF!+#REF!+#REF!+#REF!+#REF!+#REF!+#REF!+#REF!+#REF!+#REF!+#REF!+#REF!+#REF!+#REF!+#REF!+#REF!+#REF!+#REF!+#REF!+#REF!","v":{"$error":"#REF!"}},{"$f":"#REF!+#REF!+#REF!+#REF!+#REF!+#REF!+#REF!+#REF!+#REF!+#REF!+#REF!+#REF!+#REF!+#REF!+#REF!+#REF!+#REF!+#REF!+#REF!+#REF!+#REF!+#REF!+#REF!+#REF!+#REF!+#REF!+#REF!+#REF!+#REF!+#REF!+#REF!+#REF!+#REF!","v":{"$error":"#REF!"}},{"$f":"#REF!+#REF!+#REF!+#REF!+#REF!+#REF!+#REF!+#REF!+#REF!+#REF!+#REF!+#REF!+#REF!+#REF!+#REF!+#REF!+#REF!+#REF!+#REF!+#REF!+#REF!+#REF!+#REF!+#REF!+#REF!+#REF!+#REF!+#REF!+#REF!+#REF!+#REF!+#REF!+#REF!","v":{"$error":"#REF!"}},{"$f":"#REF!+#REF!+#REF!+#REF!+#REF!+#REF!+#REF!+#REF!+#REF!+#REF!+#REF!+#REF!+#REF!+#REF!+#REF!+#REF!+#REF!+#REF!+#REF!+#REF!+#REF!+#REF!+#REF!+#REF!+#REF!+#REF!+#REF!+#REF!+#REF!+#REF!+#REF!+#REF!+#REF!","v":{"$error":"#REF!"}},{"$f":"#REF!+#REF!+#REF!+#REF!+#REF!+#REF!+#REF!+#REF!+#REF!+#REF!+#REF!+#REF!+#REF!+#REF!+#REF!+#REF!+#REF!+#REF!+#REF!+#REF!+#REF!+#REF!+#REF!+#REF!+#REF!+#REF!+#REF!+#REF!+#REF!+#REF!+#REF!+#REF!+#REF!","v":{"$error":"#REF!"}},{"$f":"'9_Per Pupil Summary'!N63","v":3252},{"$f":"#REF!+#REF!+#REF!+#REF!+#REF!+#REF!+#REF!+#REF!+#REF!+#REF!+#REF!+#REF!+#REF!+#REF!+#REF!+#REF!+#REF!+#REF!+#REF!+#REF!+#REF!+#REF!+#REF!+#REF!+#REF!+#REF!+#REF!+#REF!+#REF!+#REF!+#REF!+#REF!+#REF!","v":{"$error":"#REF!"}},{"$f":"#REF!+#REF!+#REF!+#REF!+#REF!+#REF!+#REF!+#REF!+#REF!+#REF!+#REF!+#REF!+#REF!+#REF!+#REF!+#REF!+#REF!+#REF!+#REF!+#REF!+#REF!+#REF!+#REF!+#REF!+#REF!+#REF!+#REF!+#REF!+#REF!+#REF!+#REF!+#REF!+#REF!","v":{"$error":"#REF!"}},{"$f":"#REF!+#REF!+#REF!+#REF!+#REF!+#REF!+#REF!+#REF!+#REF!+#REF!+#REF!+#REF!+#REF!+#REF!+#REF!+#REF!+#REF!+#REF!+#REF!+#REF!+#REF!+#REF!+#REF!+#REF!+#REF!+#REF!+#REF!+#REF!+#REF!+#REF!+#REF!+#REF!+#REF!","v":{"$error":"#REF!"}},{"$f":"#REF!+#REF!+#REF!+#REF!+#REF!+#REF!+#REF!+#REF!+#REF!+#REF!+#REF!+#REF!+#REF!+#REF!+#REF!+#REF!+#REF!+#REF!+#REF!+#REF!+#REF!+#REF!+#REF!+#REF!+#REF!+#REF!+#REF!+#REF!+#REF!+#REF!+#REF!+#REF!+#REF!","v":{"$error":"#REF!"}},{"$f":"#REF!+#REF!+#REF!+#REF!+#REF!+#REF!+#REF!+#REF!+#REF!+#REF!+#REF!+#REF!+#REF!+#REF!+#REF!+#REF!+#REF!+#REF!+#REF!+#REF!+#REF!+#REF!+#REF!+#REF!+#REF!+#REF!+#REF!+#REF!+#REF!+#REF!+#REF!+#REF!+#REF!","v":{"$error":"#REF!"}},{"$f":"#REF!+#REF!+#REF!+#REF!+#REF!+#REF!+#REF!+#REF!+#REF!+#REF!+#REF!+#REF!+#REF!+#REF!+#REF!+#REF!+#REF!+#REF!+#REF!+#REF!+#REF!+#REF!+#REF!+#REF!+#REF!+#REF!+#REF!+#REF!+#REF!+#REF!+#REF!+#REF!+#REF!","v":{"$error":"#REF!"}},{"$f":"#REF!+#REF!+#REF!+#REF!+#REF!+#REF!+#REF!+#REF!+#REF!+#REF!+#REF!+#REF!+#REF!+#REF!+#REF!+#REF!+#REF!+#REF!+#REF!+#REF!+#REF!+#REF!+#REF!+#REF!+#REF!+#REF!+#REF!+#REF!+#REF!+#REF!+#REF!+#REF!+#REF!","v":{"$error":"#REF!"}},{"$f":"#REF!+#REF!+#REF!+#REF!+#REF!+#REF!+#REF!+#REF!+#REF!+#REF!+#REF!+#REF!+#REF!+#REF!+#REF!+#REF!+#REF!+#REF!+#REF!+#REF!+#REF!+#REF!+#REF!+#REF!+#REF!+#REF!+#REF!+#REF!+#REF!+#REF!+#REF!+#REF!+#REF!","v":{"$error":"#REF!"}},{"$f":"#REF!+#REF!+#REF!+#REF!+#REF!+#REF!+#REF!+#REF!+#REF!+#REF!+#REF!+#REF!+#REF!+#REF!+#REF!+#REF!+#REF!+#REF!+#REF!+#REF!+#REF!+#REF!+#REF!+#REF!+#REF!+#REF!+#REF!+#REF!+#REF!+#REF!+#REF!+#REF!+#REF!","v":{"$error":"#REF!"}},{"$f":"#REF!+#REF!+#REF!+#REF!+#REF!+#REF!+#REF!+#REF!+#REF!+#REF!+#REF!+#REF!+#REF!+#REF!+#REF!+#REF!+#REF!+#REF!+#REF!+#REF!+#REF!+#REF!+#REF!+#REF!+#REF!+#REF!+#REF!+#REF!+#REF!+#REF!+#REF!+#REF!+#REF!","v":{"$error":"#REF!"}},{"$f":"#REF!+#REF!+#REF!+#REF!+#REF!+#REF!+#REF!+#REF!+#REF!+#REF!+#REF!+#REF!+#REF!+#REF!+#REF!+#REF!+#REF!+#REF!+#REF!+#REF!+#REF!+#REF!+#REF!+#REF!+#REF!+#REF!+#REF!+#REF!+#REF!+#REF!+#REF!+#REF!+#REF!","v":{"$error":"#REF!"}},{"$f":"#REF!+#REF!+#REF!+#REF!+#REF!+#REF!+#REF!+#REF!+#REF!+#REF!+#REF!+#REF!+#REF!+#REF!+#REF!+#REF!+#REF!+#REF!+#REF!+#REF!+#REF!+#REF!+#REF!+#REF!+#REF!+#REF!+#REF!+#REF!+#REF!+#REF!+#REF!+#REF!+#REF!","v":{"$error":"#REF!"}},{"$f":"#REF!+#REF!+#REF!+#REF!+#REF!+#REF!+#REF!+#REF!+#REF!+#REF!+#REF!+#REF!+#REF!+#REF!+#REF!+#REF!+#REF!+#REF!+#REF!+#REF!+#REF!+#REF!+#REF!+#REF!+#REF!+#REF!+#REF!+#REF!+#REF!+#REF!+#REF!+#REF!+#REF!","v":{"$error":"#REF!"}},{"$f":"#REF!+#REF!+#REF!+#REF!+#REF!+#REF!+#REF!+#REF!+#REF!+#REF!+#REF!+#REF!+#REF!+#REF!+#REF!+#REF!+#REF!+#REF!+#REF!+#REF!+#REF!+#REF!+#REF!+#REF!+#REF!+#REF!+#REF!+#REF!+#REF!+#REF!+#REF!+#REF!+#REF!","v":{"$error":"#REF!"}},{"$error":"#REF!"},{"$error":"#REF!"},{"$f":"#REF!+#REF!+#REF!+#REF!+#REF!+#REF!+#REF!+#REF!+#REF!+#REF!+#REF!+#REF!+#REF!+#REF!+#REF!+#REF!+#REF!+#REF!+#REF!+#REF!+#REF!+#REF!+#REF!+#REF!+#REF!+#REF!+#REF!+#REF!+#REF!+#REF!+#REF!+#REF!+#REF!","v":{"$error":"#REF!"}},null,{"$error":"#REF!"}]
[59,"Washington",{"$f":"#REF!+#REF!+#REF!+#REF!+#REF!+#REF!+#REF!+#REF!+#REF!+#REF!+#REF!+#REF!+#REF!+#REF!+#REF!+#REF!+#REF!+#REF!+#REF!+#REF!+#REF!+#REF!+#REF!+#REF!+#REF!+#REF!+#REF!+#REF!+#REF!+#REF!+#REF!+#REF!+#REF!","v":{"$error":"#REF!"}},{"$f":"'9_Per Pupil Summary'!H64","v":5579.3827242091047},{"$f":"#REF!+#REF!+#REF!+#REF!+#REF!+#REF!+#REF!+#REF!+#REF!+#REF!+#REF!+#REF!+#REF!+#REF!+#REF!+#REF!+#REF!+#REF!+#REF!+#REF!+#REF!+#REF!+#REF!+#REF!+#REF!+#REF!+#REF!+#REF!+#REF!+#REF!+#REF!+#REF!+#REF!","v":{"$error":"#REF!"}},{"$f":"#REF!+#REF!+#REF!+#REF!+#REF!+#REF!+#REF!+#REF!+#REF!+#REF!+#REF!+#REF!+#REF!+#REF!+#REF!+#REF!+#REF!+#REF!+#REF!+#REF!+#REF!+#REF!+#REF!+#REF!+#REF!+#REF!+#REF!+#REF!+#REF!+#REF!+#REF!+#REF!+#REF!","v":{"$error":"#REF!"}},{"$f":"'9_Per Pupil Summary'!I64","v":775.26073750153273},{"$f":"#REF!+#REF!+#REF!+#REF!+#REF!+#REF!+#REF!+#REF!+#REF!+#REF!+#REF!+#REF!+#REF!+#REF!+#REF!+#REF!+#REF!+#REF!+#REF!+#REF!+#REF!+#REF!+#REF!+#REF!+#REF!+#REF!+#REF!+#REF!+#REF!+#REF!+#REF!+#REF!+#REF!","v":{"$error":"#REF!"}},{"$f":"#REF!+#REF!+#REF!+#REF!+#REF!+#REF!+#REF!+#REF!+#REF!+#REF!+#REF!+#REF!+#REF!+#REF!+#REF!+#REF!+#REF!+#REF!+#REF!+#REF!+#REF!+#REF!+#REF!+#REF!+#REF!+#REF!+#REF!+#REF!+#REF!+#REF!+#REF!+#REF!+#REF!","v":{"$error":"#REF!"}},{"$f":"'9_Per Pupil Summary'!J64","v":211.43474659132707},{"$f":"#REF!+#REF!+#REF!+#REF!+#REF!+#REF!+#REF!+#REF!+#REF!+#REF!+#REF!+#REF!+#REF!+#REF!+#REF!+#REF!+#REF!+#REF!+#REF!+#REF!+#REF!+#REF!+#REF!+#REF!+#REF!+#REF!+#REF!+#REF!+#REF!+#REF!+#REF!+#REF!+#REF!","v":{"$error":"#REF!"}},{"$f":"#REF!+#REF!+#REF!+#REF!+#REF!+#REF!+#REF!+#REF!+#REF!+#REF!+#REF!+#REF!+#REF!+#REF!+#REF!+#REF!+#REF!+#REF!+#REF!+#REF!+#REF!+#REF!+#REF!+#REF!+#REF!+#REF!+#REF!+#REF!+#REF!+#REF!+#REF!+#REF!+#REF!","v":{"$error":"#REF!"}},{"$f":"'9_Per Pupil Summary'!K64","v":5285.8686647831773},{"$f":"#REF!+#REF!+#REF!+#REF!+#REF!+#REF!+#REF!+#REF!+#REF!+#REF!+#REF!+#REF!+#REF!+#REF!+#REF!+#REF!+#REF!+#REF!+#REF!+#REF!+#REF!+#REF!+#REF!+#REF!+#REF!+#REF!+#REF!+#REF!+#REF!+#REF!+#REF!+#REF!+#REF!","v":{"$error":"#REF!"}},{"$f":"#REF!+#REF!+#REF!+#REF!+#REF!+#REF!+#REF!+#REF!+#REF!+#REF!+#REF!+#REF!+#REF!+#REF!+#REF!+#REF!+#REF!+#REF!+#REF!+#REF!+#REF!+#REF!+#REF!+#REF!+#REF!+#REF!+#REF!+#REF!+#REF!+#REF!+#REF!+#REF!+#REF!","v":{"$error":"#REF!"}},{"$f":"'9_Per Pupil Summary'!L64","v":2114.3474659132712},{"$f":"#REF!+#REF!+#REF!+#REF!+#REF!+#REF!+#REF!+#REF!+#REF!+#REF!+#REF!+#REF!+#REF!+#REF!+#REF!+#REF!+#REF!+#REF!+#REF!+#REF!+#REF!+#REF!+#REF!+#REF!+#REF!+#REF!+#REF!+#REF!+#REF!+#REF!+#REF!+#REF!+#REF!","v":{"$error":"#REF!"}},{"$f":"#REF!+#REF!+#REF!+#REF!+#REF!+#REF!+#REF!+#REF!+#REF!+#REF!+#REF!+#REF!+#REF!+#REF!+#REF!+#REF!+#REF!+#REF!+#REF!+#REF!+#REF!+#REF!+#REF!+#REF!+#REF!+#REF!+#REF!+#REF!+#REF!+#REF!+#REF!+#REF!+#REF!","v":{"$error":"#REF!"}},{"$f":"#REF!+#REF!","v":{"$error":"#REF!"}},{"$f":"#REF!+#REF!+#REF!+#REF!+#REF!+#REF!+#REF!+#REF!+#REF!+#REF!+#REF!+#REF!+#REF!+#REF!+#REF!+#REF!+#REF!+#REF!+#REF!+#REF!+#REF!+#REF!+#REF!+#REF!+#REF!+#REF!+#REF!+#REF!+#REF!+#REF!+#REF!+#REF!+#REF!","v":{"$error":"#REF!"}},{"$f":"#REF!+#REF!+#REF!+#REF!+#REF!+#REF!+#REF!+#REF!+#REF!+#REF!+#REF!+#REF!+#REF!+#REF!+#REF!+#REF!+#REF!+#REF!+#REF!+#REF!+#REF!+#REF!+#REF!+#REF!+#REF!+#REF!+#REF!+#REF!+#REF!+#REF!+#REF!+#REF!+#REF!","v":{"$error":"#REF!"}},{"$f":"#REF!+#REF!+#REF!+#REF!+#REF!+#REF!+#REF!+#REF!+#REF!+#REF!+#REF!+#REF!+#REF!+#REF!+#REF!+#REF!+#REF!+#REF!+#REF!+#REF!+#REF!+#REF!+#REF!+#REF!+#REF!+#REF!+#REF!+#REF!+#REF!+#REF!+#REF!+#REF!+#REF!","v":{"$error":"#REF!"}},{"$f":"#REF!+#REF!+#REF!+#REF!+#REF!+#REF!+#REF!+#REF!+#REF!+#REF!+#REF!+#REF!+#REF!+#REF!+#REF!+#REF!+#REF!+#REF!+#REF!+#REF!+#REF!+#REF!+#REF!+#REF!+#REF!+#REF!+#REF!+#REF!+#REF!+#REF!+#REF!+#REF!+#REF!","v":{"$error":"#REF!"}},{"$f":"#REF!+#REF!+#REF!+#REF!+#REF!+#REF!+#REF!+#REF!+#REF!+#REF!+#REF!+#REF!+#REF!+#REF!+#REF!+#REF!+#REF!+#REF!+#REF!+#REF!+#REF!+#REF!+#REF!+#REF!+#REF!+#REF!+#REF!+#REF!+#REF!+#REF!+#REF!+#REF!+#REF!","v":{"$error":"#REF!"}},{"$f":"#REF!+#REF!+#REF!+#REF!+#REF!+#REF!+#REF!+#REF!+#REF!+#REF!+#REF!+#REF!+#REF!+#REF!+#REF!+#REF!+#REF!+#REF!+#REF!+#REF!+#REF!+#REF!+#REF!+#REF!+#REF!+#REF!+#REF!+#REF!+#REF!+#REF!+#REF!+#REF!+#REF!","v":{"$error":"#REF!"}},{"$f":"#REF!+#REF!+#REF!+#REF!+#REF!+#REF!+#REF!+#REF!+#REF!+#REF!+#REF!+#REF!+#REF!+#REF!+#REF!+#REF!+#REF!+#REF!+#REF!+#REF!+#REF!+#REF!+#REF!+#REF!+#REF!+#REF!+#REF!+#REF!+#REF!+#REF!+#REF!+#REF!+#REF!","v":{"$error":"#REF!"}},{"$f":"#REF!+#REF!+#REF!+#REF!+#REF!+#REF!+#REF!+#REF!+#REF!+#REF!+#REF!+#REF!+#REF!+#REF!+#REF!+#REF!+#REF!+#REF!+#REF!+#REF!+#REF!+#REF!+#REF!+#REF!+#REF!+#REF!+#REF!+#REF!+#REF!+#REF!+#REF!+#REF!+#REF!","v":{"$error":"#REF!"}},{"$f":"#REF!+#REF!+#REF!+#REF!+#REF!+#REF!+#REF!+#REF!+#REF!+#REF!+#REF!+#REF!+#REF!+#REF!+#REF!+#REF!+#REF!+#REF!+#REF!+#REF!+#REF!+#REF!+#REF!+#REF!+#REF!+#REF!+#REF!+#REF!+#REF!+#REF!+#REF!+#REF!+#REF!","v":{"$error":"#REF!"}},{"$f":"#REF!+#REF!+#REF!+#REF!+#REF!+#REF!+#REF!+#REF!+#REF!+#REF!+#REF!+#REF!+#REF!+#REF!+#REF!+#REF!+#REF!+#REF!+#REF!+#REF!+#REF!+#REF!+#REF!+#REF!+#REF!+#REF!+#REF!+#REF!+#REF!+#REF!+#REF!+#REF!+#REF!","v":{"$error":"#REF!"}},{"$f":"#REF!+#REF!+#REF!+#REF!+#REF!+#REF!+#REF!+#REF!+#REF!+#REF!+#REF!+#REF!+#REF!+#REF!+#REF!+#REF!+#REF!+#REF!+#REF!+#REF!+#REF!+#REF!+#REF!+#REF!+#REF!+#REF!+#REF!+#REF!+#REF!+#REF!+#REF!+#REF!+#REF!","v":{"$error":"#REF!"}},{"$f":"#REF!+#REF!+#REF!+#REF!+#REF!+#REF!+#REF!+#REF!+#REF!+#REF!+#REF!+#REF!+#REF!+#REF!+#REF!+#REF!+#REF!+#REF!+#REF!+#REF!+#REF!+#REF!+#REF!+#REF!+#REF!+#REF!+#REF!+#REF!+#REF!+#REF!+#REF!+#REF!+#REF!","v":{"$error":"#REF!"}},{"$f":"'9_Per Pupil Summary'!N64","v":2399},{"$f":"#REF!+#REF!+#REF!+#REF!+#REF!+#REF!+#REF!+#REF!+#REF!+#REF!+#REF!+#REF!+#REF!+#REF!+#REF!+#REF!+#REF!+#REF!+#REF!+#REF!+#REF!+#REF!+#REF!+#REF!+#REF!+#REF!+#REF!+#REF!+#REF!+#REF!+#REF!+#REF!+#REF!","v":{"$error":"#REF!"}},{"$f":"#REF!+#REF!+#REF!+#REF!+#REF!+#REF!+#REF!+#REF!+#REF!+#REF!+#REF!+#REF!+#REF!+#REF!+#REF!+#REF!+#REF!+#REF!+#REF!+#REF!+#REF!+#REF!+#REF!+#REF!+#REF!+#REF!+#REF!+#REF!+#REF!+#REF!+#REF!+#REF!+#REF!","v":{"$error":"#REF!"}},{"$f":"#REF!+#REF!+#REF!+#REF!+#REF!+#REF!+#REF!+#REF!+#REF!+#REF!+#REF!+#REF!+#REF!+#REF!+#REF!+#REF!+#REF!+#REF!+#REF!+#REF!+#REF!+#REF!+#REF!+#REF!+#REF!+#REF!+#REF!+#REF!+#REF!+#REF!+#REF!+#REF!+#REF!","v":{"$error":"#REF!"}},{"$f":"#REF!+#REF!+#REF!+#REF!+#REF!+#REF!+#REF!+#REF!+#REF!+#REF!+#REF!+#REF!+#REF!+#REF!+#REF!+#REF!+#REF!+#REF!+#REF!+#REF!+#REF!+#REF!+#REF!+#REF!+#REF!+#REF!+#REF!+#REF!+#REF!+#REF!+#REF!+#REF!+#REF!","v":{"$error":"#REF!"}},{"$f":"#REF!+#REF!+#REF!+#REF!+#REF!+#REF!+#REF!+#REF!+#REF!+#REF!+#REF!+#REF!+#REF!+#REF!+#REF!+#REF!+#REF!+#REF!+#REF!+#REF!+#REF!+#REF!+#REF!+#REF!+#REF!+#REF!+#REF!+#REF!+#REF!+#REF!+#REF!+#REF!+#REF!","v":{"$error":"#REF!"}},{"$f":"#REF!+#REF!+#REF!+#REF!+#REF!+#REF!+#REF!+#REF!+#REF!+#REF!+#REF!+#REF!+#REF!+#REF!+#REF!+#REF!+#REF!+#REF!+#REF!+#REF!+#REF!+#REF!+#REF!+#REF!+#REF!+#REF!+#REF!+#REF!+#REF!+#REF!+#REF!+#REF!+#REF!","v":{"$error":"#REF!"}},{"$f":"#REF!+#REF!+#REF!+#REF!+#REF!+#REF!+#REF!+#REF!+#REF!+#REF!+#REF!+#REF!+#REF!+#REF!+#REF!+#REF!+#REF!+#REF!+#REF!+#REF!+#REF!+#REF!+#REF!+#REF!+#REF!+#REF!+#REF!+#REF!+#REF!+#REF!+#REF!+#REF!+#REF!","v":{"$error":"#REF!"}},{"$f":"#REF!+#REF!+#REF!+#REF!+#REF!+#REF!+#REF!+#REF!+#REF!+#REF!+#REF!+#REF!+#REF!+#REF!+#REF!+#REF!+#REF!+#REF!+#REF!+#REF!+#REF!+#REF!+#REF!+#REF!+#REF!+#REF!+#REF!+#REF!+#REF!+#REF!+#REF!+#REF!+#REF!","v":{"$error":"#REF!"}},{"$f":"#REF!+#REF!+#REF!+#REF!+#REF!+#REF!+#REF!+#REF!+#REF!+#REF!+#REF!+#REF!+#REF!+#REF!+#REF!+#REF!+#REF!+#REF!+#REF!+#REF!+#REF!+#REF!+#REF!+#REF!+#REF!+#REF!+#REF!+#REF!+#REF!+#REF!+#REF!+#REF!+#REF!","v":{"$error":"#REF!"}},{"$f":"#REF!+#REF!+#REF!+#REF!+#REF!+#REF!+#REF!+#REF!+#REF!+#REF!+#REF!+#REF!+#REF!+#REF!+#REF!+#REF!+#REF!+#REF!+#REF!+#REF!+#REF!+#REF!+#REF!+#REF!+#REF!+#REF!+#REF!+#REF!+#REF!+#REF!+#REF!+#REF!+#REF!","v":{"$error":"#REF!"}},{"$f":"#REF!+#REF!+#REF!+#REF!+#REF!+#REF!+#REF!+#REF!+#REF!+#REF!+#REF!+#REF!+#REF!+#REF!+#REF!+#REF!+#REF!+#REF!+#REF!+#REF!+#REF!+#REF!+#REF!+#REF!+#REF!+#REF!+#REF!+#REF!+#REF!+#REF!+#REF!+#REF!+#REF!","v":{"$error":"#REF!"}},{"$f":"#REF!+#REF!+#REF!+#REF!+#REF!+#REF!+#REF!+#REF!+#REF!+#REF!+#REF!+#REF!+#REF!+#REF!+#REF!+#REF!+#REF!+#REF!+#REF!+#REF!+#REF!+#REF!+#REF!+#REF!+#REF!+#REF!+#REF!+#REF!+#REF!+#REF!+#REF!+#REF!+#REF!","v":{"$error":"#REF!"}},{"$f":"#REF!+#REF!+#REF!+#REF!+#REF!+#REF!+#REF!+#REF!+#REF!+#REF!+#REF!+#REF!+#REF!+#REF!+#REF!+#REF!+#REF!+#REF!+#REF!+#REF!+#REF!+#REF!+#REF!+#REF!+#REF!+#REF!+#REF!+#REF!+#REF!+#REF!+#REF!+#REF!+#REF!","v":{"$error":"#REF!"}},{"$f":"#REF!+#REF!+#REF!+#REF!+#REF!+#REF!+#REF!+#REF!+#REF!+#REF!+#REF!+#REF!+#REF!+#REF!+#REF!+#REF!+#REF!+#REF!+#REF!+#REF!+#REF!+#REF!+#REF!+#REF!+#REF!+#REF!+#REF!+#REF!+#REF!+#REF!+#REF!+#REF!+#REF!","v":{"$error":"#REF!"}},{"$error":"#REF!"},{"$error":"#REF!"},{"$f":"#REF!+#REF!+#REF!+#REF!+#REF!+#REF!+#REF!+#REF!+#REF!+#REF!+#REF!+#REF!+#REF!+#REF!+#REF!+#REF!+#REF!+#REF!+#REF!+#REF!+#REF!+#REF!+#REF!+#REF!+#REF!+#REF!+#REF!+#REF!+#REF!+#REF!+#REF!+#REF!+#REF!","v":{"$error":"#REF!"}},null,{"$error":"#REF!"}]
[60,"Webster",{"$f":"#REF!+#REF!+#REF!+#REF!+#REF!+#REF!+#REF!+#REF!+#REF!+#REF!+#REF!+#REF!+#REF!+#REF!+#REF!+#REF!+#REF!+#REF!+#REF!+#REF!+#REF!+#REF!+#REF!+#REF!+#REF!+#REF!+#REF!+#REF!+#REF!+#REF!+#REF!+#REF!+#REF!","v":{"$error":"#REF!"}},{"$f":"'9_Per Pupil Summary'!H65","v":4853.914322098045},{"$f":"#REF!+#REF!+#REF!+#REF!+#REF!+#REF!+#REF!+#REF!+#REF!+#REF!+#REF!+#REF!+#REF!+#REF!+#REF!+#REF!+#REF!+#REF!+#REF!+#REF!+#REF!+#REF!+#REF!+#REF!+#REF!+#REF!+#REF!+#REF!+#REF!+#REF!+#REF!+#REF!+#REF!","v":{"$error":"#REF!"}},{"$f":"#REF!+#REF!+#REF!+#REF!+#REF!+#REF!+#REF!+#REF!+#REF!+#REF!+#REF!+#REF!+#REF!+#REF!+#REF!+#REF!+#REF!+#REF!+#REF!+#REF!+#REF!+#REF!+#REF!+#REF!+#REF!+#REF!+#REF!+#REF!+#REF!+#REF!+#REF!+#REF!+#REF!","v":{"$error":"#REF!"}},{"$f":"'9_Per Pupil Summary'!I65","v":649.64331847687913},{"$f":"#REF!+#REF!+#REF!+#REF!+#REF!+#REF!+#REF!+#REF!+#REF!+#REF!+#REF!+#REF!+#REF!+#REF!+#REF!+#REF!+#REF!+#REF!+#REF!+#REF!+#REF!+#REF!+#REF!+#REF!+#REF!+#REF!+#REF!+#REF!+#REF!+#REF!+#REF!+#REF!+#REF!","v":{"$error":"#REF!"}},{"$f":"#REF!+#REF!+#REF!+#REF!+#REF!+#REF!+#REF!+#REF!+#REF!+#REF!+#REF!+#REF!+#REF!+#REF!+#REF!+#REF!+#REF!+#REF!+#REF!+#REF!+#REF!+#REF!+#REF!+#REF!+#REF!+#REF!+#REF!+#REF!+#REF!+#REF!+#REF!+#REF!+#REF!","v":{"$error":"#REF!"}},{"$f":"'9_Per Pupil Summary'!J65","v":177.17545049369429},{"$f":"#REF!+#REF!+#REF!+#REF!+#REF!+#REF!+#REF!+#REF!+#REF!+#REF!+#REF!+#REF!+#REF!+#REF!+#REF!+#REF!+#REF!+#REF!+#REF!+#REF!+#REF!+#REF!+#REF!+#REF!+#REF!+#REF!+#REF!+#REF!+#REF!+#REF!+#REF!+#REF!+#REF!","v":{"$error":"#REF!"}},{"$f":"#REF!+#REF!+#REF!+#REF!+#REF!+#REF!+#REF!+#REF!+#REF!+#REF!+#REF!+#REF!+#REF!+#REF!+#REF!+#REF!+#REF!+#REF!+#REF!+#REF!+#REF!+#REF!+#REF!+#REF!+#REF!+#REF!+#REF!+#REF!+#REF!+#REF!+#REF!+#REF!+#REF!","v":{"$error":"#REF!"}},{"$f":"'9_Per Pupil Summary'!K65","v":4429.3862623423565},{"$f":"#REF!+#REF!+#REF!+#REF!+#REF!+#REF!+#REF!+#REF!+#REF!+#REF!+#REF!+#REF!+#REF!+#REF!+#REF!+#REF!+#REF!+#REF!+#REF!+#REF!+#REF!+#REF!+#REF!+#REF!+#REF!+#REF!+#REF!+#REF!+#REF!+#REF!+#REF!+#REF!+#REF!","v":{"$error":"#REF!"}},{"$f":"#REF!+#REF!+#REF!+#REF!+#REF!+#REF!+#REF!+#REF!+#REF!+#REF!+#REF!+#REF!+#REF!+#REF!+#REF!+#REF!+#REF!+#REF!+#REF!+#REF!+#REF!+#REF!+#REF!+#REF!+#REF!+#REF!+#REF!+#REF!+#REF!+#REF!+#REF!+#REF!+#REF!","v":{"$error":"#REF!"}},{"$f":"'9_Per Pupil Summary'!L65","v":1771.7545049369428},{"$f":"#REF!+#REF!+#REF!+#REF!+#REF!+#REF!+#REF!+#REF!+#REF!+#REF!+#REF!+#REF!+#REF!+#REF!+#REF!+#REF!+#REF!+#REF!+#REF!+#REF!+#REF!+#REF!+#REF!+#REF!+#REF!+#REF!+#REF!+#REF!+#REF!+#REF!+#REF!+#REF!+#REF!","v":{"$error":"#REF!"}},{"$f":"#REF!+#REF!+#REF!+#REF!+#REF!+#REF!+#REF!+#REF!+#REF!+#REF!+#REF!+#REF!+#REF!+#REF!+#REF!+#REF!+#REF!+#REF!+#REF!+#REF!+#REF!+#REF!+#REF!+#REF!+#REF!+#REF!+#REF!+#REF!+#REF!+#REF!+#REF!+#REF!+#REF!","v":{"$error":"#REF!"}},{"$f":"#REF!+#REF!","v":{"$error":"#REF!"}},{"$f":"#REF!+#REF!+#REF!+#REF!+#REF!+#REF!+#REF!+#REF!+#REF!+#REF!+#REF!+#REF!+#REF!+#REF!+#REF!+#REF!+#REF!+#REF!+#REF!+#REF!+#REF!+#REF!+#REF!+#REF!+#REF!+#REF!+#REF!+#REF!+#REF!+#REF!+#REF!+#REF!+#REF!","v":{"$error":"#REF!"}},{"$f":"#REF!+#REF!+#REF!+#REF!+#REF!+#REF!+#REF!+#REF!+#REF!+#REF!+#REF!+#REF!+#REF!+#REF!+#REF!+#REF!+#REF!+#REF!+#REF!+#REF!+#REF!+#REF!+#REF!+#REF!+#REF!+#REF!+#REF!+#REF!+#REF!+#REF!+#REF!+#REF!+#REF!","v":{"$error":"#REF!"}},{"$f":"#REF!+#REF!+#REF!+#REF!+#REF!+#REF!+#REF!+#REF!+#REF!+#REF!+#REF!+#REF!+#REF!+#REF!+#REF!+#REF!+#REF!+#REF!+#REF!+#REF!+#REF!+#REF!+#REF!+#REF!+#REF!+#REF!+#REF!+#REF!+#REF!+#REF!+#REF!+#REF!+#REF!","v":{"$error":"#REF!"}},{"$f":"#REF!+#REF!+#REF!+#REF!+#REF!+#REF!+#REF!+#REF!+#REF!+#REF!+#REF!+#REF!+#REF!+#REF!+#REF!+#REF!+#REF!+#REF!+#REF!+#REF!+#REF!+#REF!+#REF!+#REF!+#REF!+#REF!+#REF!+#REF!+#REF!+#REF!+#REF!+#REF!+#REF!","v":{"$error":"#REF!"}},{"$f":"#REF!+#REF!+#REF!+#REF!+#REF!+#REF!+#REF!+#REF!+#REF!+#REF!+#REF!+#REF!+#REF!+#REF!+#REF!+#REF!+#REF!+#REF!+#REF!+#REF!+#REF!+#REF!+#REF!+#REF!+#REF!+#REF!+#REF!+#REF!+#REF!+#REF!+#REF!+#REF!+#REF!","v":{"$error":"#REF!"}},{"$f":"#REF!+#REF!+#REF!+#REF!+#REF!+#REF!+#REF!+#REF!+#REF!+#REF!+#REF!+#REF!+#REF!+#REF!+#REF!+#REF!+#REF!+#REF!+#REF!+#REF!+#REF!+#REF!+#REF!+#REF!+#REF!+#REF!+#REF!+#REF!+#REF!+#REF!+#REF!+#REF!+#REF!","v":{"$error":"#REF!"}},{"$f":"#REF!+#REF!+#REF!+#REF!+#REF!+#REF!+#REF!+#REF!+#REF!+#REF!+#REF!+#REF!+#REF!+#REF!+#REF!+#REF!+#REF!+#REF!+#REF!+#REF!+#REF!+#REF!+#REF!+#REF!+#REF!+#REF!+#REF!+#REF!+#REF!+#REF!+#REF!+#REF!+#REF!","v":{"$error":"#REF!"}},{"$f":"#REF!+#REF!+#REF!+#REF!+#REF!+#REF!+#REF!+#REF!+#REF!+#REF!+#REF!+#REF!+#REF!+#REF!+#REF!+#REF!+#REF!+#REF!+#REF!+#REF!+#REF!+#REF!+#REF!+#REF!+#REF!+#REF!+#REF!+#REF!+#REF!+#REF!+#REF!+#REF!+#REF!","v":{"$error":"#REF!"}},{"$f":"#REF!+#REF!+#REF!+#REF!+#REF!+#REF!+#REF!+#REF!+#REF!+#REF!+#REF!+#REF!+#REF!+#REF!+#REF!+#REF!+#REF!+#REF!+#REF!+#REF!+#REF!+#REF!+#REF!+#REF!+#REF!+#REF!+#REF!+#REF!+#REF!+#REF!+#REF!+#REF!+#REF!","v":{"$error":"#REF!"}},{"$f":"#REF!+#REF!+#REF!+#REF!+#REF!+#REF!+#REF!+#REF!+#REF!+#REF!+#REF!+#REF!+#REF!+#REF!+#REF!+#REF!+#REF!+#REF!+#REF!+#REF!+#REF!+#REF!+#REF!+#REF!+#REF!+#REF!+#REF!+#REF!+#REF!+#REF!+#REF!+#REF!+#REF!","v":{"$error":"#REF!"}},{"$f":"#REF!+#REF!+#REF!+#REF!+#REF!+#REF!+#REF!+#REF!+#REF!+#REF!+#REF!+#REF!+#REF!+#REF!+#REF!+#REF!+#REF!+#REF!+#REF!+#REF!+#REF!+#REF!+#REF!+#REF!+#REF!+#REF!+#REF!+#REF!+#REF!+#REF!+#REF!+#REF!+#REF!","v":{"$error":"#REF!"}},{"$f":"#REF!+#REF!+#REF!+#REF!+#REF!+#REF!+#REF!+#REF!+#REF!+#REF!+#REF!+#REF!+#REF!+#REF!+#REF!+#REF!+#REF!+#REF!+#REF!+#REF!+#REF!+#REF!+#REF!+#REF!+#REF!+#REF!+#REF!+#REF!+#REF!+#REF!+#REF!+#REF!+#REF!","v":{"$error":"#REF!"}},{"$f":"'9_Per Pupil Summary'!N65","v":6247},{"$f":"#REF!+#REF!+#REF!+#REF!+#REF!+#REF!+#REF!+#REF!+#REF!+#REF!+#REF!+#REF!+#REF!+#REF!+#REF!+#REF!+#REF!+#REF!+#REF!+#REF!+#REF!+#REF!+#REF!+#REF!+#REF!+#REF!+#REF!+#REF!+#REF!+#REF!+#REF!+#REF!+#REF!","v":{"$error":"#REF!"}},{"$f":"#REF!+#REF!+#REF!+#REF!+#REF!+#REF!+#REF!+#REF!+#REF!+#REF!+#REF!+#REF!+#REF!+#REF!+#REF!+#REF!+#REF!+#REF!+#REF!+#REF!+#REF!+#REF!+#REF!+#REF!+#REF!+#REF!+#REF!+#REF!+#REF!+#REF!+#REF!+#REF!+#REF!","v":{"$error":"#REF!"}},{"$f":"#REF!+#REF!+#REF!+#REF!+#REF!+#REF!+#REF!+#REF!+#REF!+#REF!+#REF!+#REF!+#REF!+#REF!+#REF!+#REF!+#REF!+#REF!+#REF!+#REF!+#REF!+#REF!+#REF!+#REF!+#REF!+#REF!+#REF!+#REF!+#REF!+#REF!+#REF!+#REF!+#REF!","v":{"$error":"#REF!"}},{"$f":"#REF!+#REF!+#REF!+#REF!+#REF!+#REF!+#REF!+#REF!+#REF!+#REF!+#REF!+#REF!+#REF!+#REF!+#REF!+#REF!+#REF!+#REF!+#REF!+#REF!+#REF!+#REF!+#REF!+#REF!+#REF!+#REF!+#REF!+#REF!+#REF!+#REF!+#REF!+#REF!+#REF!","v":{"$error":"#REF!"}},{"$f":"#REF!+#REF!+#REF!+#REF!+#REF!+#REF!+#REF!+#REF!+#REF!+#REF!+#REF!+#REF!+#REF!+#REF!+#REF!+#REF!+#REF!+#REF!+#REF!+#REF!+#REF!+#REF!+#REF!+#REF!+#REF!+#REF!+#REF!+#REF!+#REF!+#REF!+#REF!+#REF!+#REF!","v":{"$error":"#REF!"}},{"$f":"#REF!+#REF!+#REF!+#REF!+#REF!+#REF!+#REF!+#REF!+#REF!+#REF!+#REF!+#REF!+#REF!+#REF!+#REF!+#REF!+#REF!+#REF!+#REF!+#REF!+#REF!+#REF!+#REF!+#REF!+#REF!+#REF!+#REF!+#REF!+#REF!+#REF!+#REF!+#REF!+#REF!","v":{"$error":"#REF!"}},{"$f":"#REF!+#REF!+#REF!+#REF!+#REF!+#REF!+#REF!+#REF!+#REF!+#REF!+#REF!+#REF!+#REF!+#REF!+#REF!+#REF!+#REF!+#REF!+#REF!+#REF!+#REF!+#REF!+#REF!+#REF!+#REF!+#REF!+#REF!+#REF!+#REF!+#REF!+#REF!+#REF!+#REF!","v":{"$error":"#REF!"}},{"$f":"#REF!+#REF!+#REF!+#REF!+#REF!+#REF!+#REF!+#REF!+#REF!+#REF!+#REF!+#REF!+#REF!+#REF!+#REF!+#REF!+#REF!+#REF!+#REF!+#REF!+#REF!+#REF!+#REF!+#REF!+#REF!+#REF!+#REF!+#REF!+#REF!+#REF!+#REF!+#REF!+#REF!","v":{"$error":"#REF!"}},{"$f":"#REF!+#REF!+#REF!+#REF!+#REF!+#REF!+#REF!+#REF!+#REF!+#REF!+#REF!+#REF!+#REF!+#REF!+#REF!+#REF!+#REF!+#REF!+#REF!+#REF!+#REF!+#REF!+#REF!+#REF!+#REF!+#REF!+#REF!+#REF!+#REF!+#REF!+#REF!+#REF!+#REF!","v":{"$error":"#REF!"}},{"$f":"#REF!+#REF!+#REF!+#REF!+#REF!+#REF!+#REF!+#REF!+#REF!+#REF!+#REF!+#REF!+#REF!+#REF!+#REF!+#REF!+#REF!+#REF!+#REF!+#REF!+#REF!+#REF!+#REF!+#REF!+#REF!+#REF!+#REF!+#REF!+#REF!+#REF!+#REF!+#REF!+#REF!","v":{"$error":"#REF!"}},{"$f":"#REF!+#REF!+#REF!+#REF!+#REF!+#REF!+#REF!+#REF!+#REF!+#REF!+#REF!+#REF!+#REF!+#REF!+#REF!+#REF!+#REF!+#REF!+#REF!+#REF!+#REF!+#REF!+#REF!+#REF!+#REF!+#REF!+#REF!+#REF!+#REF!+#REF!+#REF!+#REF!+#REF!","v":{"$error":"#REF!"}},{"$f":"#REF!+#REF!+#REF!+#REF!+#REF!+#REF!+#REF!+#REF!+#REF!+#REF!+#REF!+#REF!+#REF!+#REF!+#REF!+#REF!+#REF!+#REF!+#REF!+#REF!+#REF!+#REF!+#REF!+#REF!+#REF!+#REF!+#REF!+#REF!+#REF!+#REF!+#REF!+#REF!+#REF!","v":{"$error":"#REF!"}},{"$f":"#REF!+#REF!+#REF!+#REF!+#REF!+#REF!+#REF!+#REF!+#REF!+#REF!+#REF!+#REF!+#REF!+#REF!+#REF!+#REF!+#REF!+#REF!+#REF!+#REF!+#REF!+#REF!+#REF!+#REF!+#REF!+#REF!+#REF!+#REF!+#REF!+#REF!+#REF!+#REF!+#REF!","v":{"$error":"#REF!"}},{"$f":"#REF!+#REF!+#REF!+#REF!+#REF!+#REF!+#REF!+#REF!+#REF!+#REF!+#REF!+#REF!+#REF!+#REF!+#REF!+#REF!+#REF!+#REF!+#REF!+#REF!+#REF!+#REF!+#REF!+#REF!+#REF!+#REF!+#REF!+#REF!+#REF!+#REF!+#REF!+#REF!+#REF!","v":{"$error":"#REF!"}},{"$error":"#REF!"},{"$error":"#REF!"},{"$f":"#REF!+#REF!+#REF!+#REF!+#REF!+#REF!+#REF!+#REF!+#REF!+#REF!+#REF!+#REF!+#REF!+#REF!+#REF!+#REF!+#REF!+#REF!+#REF!+#REF!+#REF!+#REF!+#REF!+#REF!+#REF!+#REF!+#REF!+#REF!+#REF!+#REF!+#REF!+#REF!+#REF!","v":{"$error":"#REF!"}},null,{"$error":"#REF!"}]
[61,"West Baton Rouge",{"$f":"#REF!+#REF!+#REF!+#REF!+#REF!+#REF!+#REF!+#REF!+#REF!+#REF!+#REF!+#REF!+#REF!+#REF!+#REF!+#REF!+#REF!+#REF!+#REF!+#REF!+#REF!+#REF!+#REF!+#REF!+#REF!+#REF!+#REF!+#REF!+#REF!+#REF!+#REF!+#REF!+#REF!","v":{"$error":"#REF!"}},{"$f":"'9_Per Pupil Summary'!H66","v":2933.0783819789358},{"$f":"#REF!+#REF!+#REF!+#REF!+#REF!+#REF!+#REF!+#REF!+#REF!+#REF!+#REF!+#REF!+#REF!+#REF!+#REF!+#REF!+#REF!+#REF!+#REF!+#REF!+#REF!+#REF!+#REF!+#REF!+#REF!+#REF!+#REF!+#REF!+#REF!+#REF!+#REF!+#REF!+#REF!","v":{"$error":"#REF!"}},{"$f":"#REF!+#REF!+#REF!+#REF!+#REF!+#REF!+#REF!+#REF!+#REF!+#REF!+#REF!+#REF!+#REF!+#REF!+#REF!+#REF!+#REF!+#REF!+#REF!+#REF!+#REF!+#REF!+#REF!+#REF!+#REF!+#REF!+#REF!+#REF!+#REF!+#REF!+#REF!+#REF!+#REF!","v":{"$error":"#REF!"}},{"$f":"'9_Per Pupil Summary'!I66","v":398.29202196916731},{"$f":"#REF!+#REF!+#REF!+#REF!+#REF!+#REF!+#REF!+#REF!+#REF!+#REF!+#REF!+#REF!+#REF!+#REF!+#REF!+#REF!+#REF!+#REF!+#REF!+#REF!+#REF!+#REF!+#REF!+#REF!+#REF!+#REF!+#REF!+#REF!+#REF!+#REF!+#REF!+#REF!+#REF!","v":{"$error":"#REF!"}},{"$f":"#REF!+#REF!+#REF!+#REF!+#REF!+#REF!+#REF!+#REF!+#REF!+#REF!+#REF!+#REF!+#REF!+#REF!+#REF!+#REF!+#REF!+#REF!+#REF!+#REF!+#REF!+#REF!+#REF!+#REF!+#REF!+#REF!+#REF!+#REF!+#REF!+#REF!+#REF!+#REF!+#REF!","v":{"$error":"#REF!"}},{"$f":"'9_Per Pupil Summary'!J66","v":108.625096900682},{"$f":"#REF!+#REF!+#REF!+#REF!+#REF!+#REF!+#REF!+#REF!+#REF!+#REF!+#REF!+#REF!+#REF!+#REF!+#REF!+#REF!+#REF!+#REF!+#REF!+#REF!+#REF!+#REF!+#REF!+#REF!+#REF!+#REF!+#REF!+#REF!+#REF!+#REF!+#REF!+#REF!+#REF!","v":{"$error":"#REF!"}},{"$f":"#REF!+#REF!+#REF!+#REF!+#REF!+#REF!+#REF!+#REF!+#REF!+#REF!+#REF!+#REF!+#REF!+#REF!+#REF!+#REF!+#REF!+#REF!+#REF!+#REF!+#REF!+#REF!+#REF!+#REF!+#REF!+#REF!+#REF!+#REF!+#REF!+#REF!+#REF!+#REF!+#REF!","v":{"$error":"#REF!"}},{"$f":"'9_Per Pupil Summary'!K66","v":2715.6274225170496},{"$f":"#REF!+#REF!+#REF!+#REF!+#REF!+#REF!+#REF!+#REF!+#REF!+#REF!+#REF!+#REF!+#REF!+#REF!+#REF!+#REF!+#REF!+#REF!+#REF!+#REF!+#REF!+#REF!+#REF!+#REF!+#REF!+#REF!+#REF!+#REF!+#REF!+#REF!+#REF!+#REF!+#REF!","v":{"$error":"#REF!"}},{"$f":"#REF!+#REF!+#REF!+#REF!+#REF!+#REF!+#REF!+#REF!+#REF!+#REF!+#REF!+#REF!+#REF!+#REF!+#REF!+#REF!+#REF!+#REF!+#REF!+#REF!+#REF!+#REF!+#REF!+#REF!+#REF!+#REF!+#REF!+#REF!+#REF!+#REF!+#REF!+#REF!+#REF!","v":{"$error":"#REF!"}},{"$f":"'9_Per Pupil Summary'!L66","v":1086.2509690068198},{"$f":"#REF!+#REF!+#REF!+#REF!+#REF!+#REF!+#REF!+#REF!+#REF!+#REF!+#REF!+#REF!+#REF!+#REF!+#REF!+#REF!+#REF!+#REF!+#REF!+#REF!+#REF!+#REF!+#REF!+#REF!+#REF!+#REF!+#REF!+#REF!+#REF!+#REF!+#REF!+#REF!+#REF!","v":{"$error":"#REF!"}},{"$f":"#REF!+#REF!+#REF!+#REF!+#REF!+#REF!+#REF!+#REF!+#REF!+#REF!+#REF!+#REF!+#REF!+#REF!+#REF!+#REF!+#REF!+#REF!+#REF!+#REF!+#REF!+#REF!+#REF!+#REF!+#REF!+#REF!+#REF!+#REF!+#REF!+#REF!+#REF!+#REF!+#REF!","v":{"$error":"#REF!"}},{"$f":"#REF!+#REF!","v":{"$error":"#REF!"}},{"$f":"#REF!+#REF!+#REF!+#REF!+#REF!+#REF!+#REF!+#REF!+#REF!+#REF!+#REF!+#REF!+#REF!+#REF!+#REF!+#REF!+#REF!+#REF!+#REF!+#REF!+#REF!+#REF!+#REF!+#REF!+#REF!+#REF!+#REF!+#REF!+#REF!+#REF!+#REF!+#REF!+#REF!","v":{"$error":"#REF!"}},{"$f":"#REF!+#REF!+#REF!+#REF!+#REF!+#REF!+#REF!+#REF!+#REF!+#REF!+#REF!+#REF!+#REF!+#REF!+#REF!+#REF!+#REF!+#REF!+#REF!+#REF!+#REF!+#REF!+#REF!+#REF!+#REF!+#REF!+#REF!+#REF!+#REF!+#REF!+#REF!+#REF!+#REF!","v":{"$error":"#REF!"}},{"$f":"#REF!+#REF!+#REF!+#REF!+#REF!+#REF!+#REF!+#REF!+#REF!+#REF!+#REF!+#REF!+#REF!+#REF!+#REF!+#REF!+#REF!+#REF!+#REF!+#REF!+#REF!+#REF!+#REF!+#REF!+#REF!+#REF!+#REF!+#REF!+#REF!+#REF!+#REF!+#REF!+#REF!","v":{"$error":"#REF!"}},{"$f":"#REF!+#REF!+#REF!+#REF!+#REF!+#REF!+#REF!+#REF!+#REF!+#REF!+#REF!+#REF!+#REF!+#REF!+#REF!+#REF!+#REF!+#REF!+#REF!+#REF!+#REF!+#REF!+#REF!+#REF!+#REF!+#REF!+#REF!+#REF!+#REF!+#REF!+#REF!+#REF!+#REF!","v":{"$error":"#REF!"}},{"$f":"#REF!+#REF!+#REF!+#REF!+#REF!+#REF!+#REF!+#REF!+#REF!+#REF!+#REF!+#REF!+#REF!+#REF!+#REF!+#REF!+#REF!+#REF!+#REF!+#REF!+#REF!+#REF!+#REF!+#REF!+#REF!+#REF!+#REF!+#REF!+#REF!+#REF!+#REF!+#REF!+#REF!","v":{"$error":"#REF!"}},{"$f":"#REF!+#REF!+#REF!+#REF!+#REF!+#REF!+#REF!+#REF!+#REF!+#REF!+#REF!+#REF!+#REF!+#REF!+#REF!+#REF!+#REF!+#REF!+#REF!+#REF!+#REF!+#REF!+#REF!+#REF!+#REF!+#REF!+#REF!+#REF!+#REF!+#REF!+#REF!+#REF!+#REF!","v":{"$error":"#REF!"}},{"$f":"#REF!+#REF!+#REF!+#REF!+#REF!+#REF!+#REF!+#REF!+#REF!+#REF!+#REF!+#REF!+#REF!+#REF!+#REF!+#REF!+#REF!+#REF!+#REF!+#REF!+#REF!+#REF!+#REF!+#REF!+#REF!+#REF!+#REF!+#REF!+#REF!+#REF!+#REF!+#REF!+#REF!","v":{"$error":"#REF!"}},{"$f":"#REF!+#REF!+#REF!+#REF!+#REF!+#REF!+#REF!+#REF!+#REF!+#REF!+#REF!+#REF!+#REF!+#REF!+#REF!+#REF!+#REF!+#REF!+#REF!+#REF!+#REF!+#REF!+#REF!+#REF!+#REF!+#REF!+#REF!+#REF!+#REF!+#REF!+#REF!+#REF!+#REF!","v":{"$error":"#REF!"}},{"$f":"#REF!+#REF!+#REF!+#REF!+#REF!+#REF!+#REF!+#REF!+#REF!+#REF!+#REF!+#REF!+#REF!+#REF!+#REF!+#REF!+#REF!+#REF!+#REF!+#REF!+#REF!+#REF!+#REF!+#REF!+#REF!+#REF!+#REF!+#REF!+#REF!+#REF!+#REF!+#REF!+#REF!","v":{"$error":"#REF!"}},{"$f":"#REF!+#REF!+#REF!+#REF!+#REF!+#REF!+#REF!+#REF!+#REF!+#REF!+#REF!+#REF!+#REF!+#REF!+#REF!+#REF!+#REF!+#REF!+#REF!+#REF!+#REF!+#REF!+#REF!+#REF!+#REF!+#REF!+#REF!+#REF!+#REF!+#REF!+#REF!+#REF!+#REF!","v":{"$error":"#REF!"}},{"$f":"#REF!+#REF!+#REF!+#REF!+#REF!+#REF!+#REF!+#REF!+#REF!+#REF!+#REF!+#REF!+#REF!+#REF!+#REF!+#REF!+#REF!+#REF!+#REF!+#REF!+#REF!+#REF!+#REF!+#REF!+#REF!+#REF!+#REF!+#REF!+#REF!+#REF!+#REF!+#REF!+#REF!","v":{"$error":"#REF!"}},{"$f":"#REF!+#REF!+#REF!+#REF!+#REF!+#REF!+#REF!+#REF!+#REF!+#REF!+#REF!+#REF!+#REF!+#REF!+#REF!+#REF!+#REF!+#REF!+#REF!+#REF!+#REF!+#REF!+#REF!+#REF!+#REF!+#REF!+#REF!+#REF!+#REF!+#REF!+#REF!+#REF!+#REF!","v":{"$error":"#REF!"}},{"$f":"'9_Per Pupil Summary'!N66","v":13718},{"$f":"#REF!+#REF!+#REF!+#REF!+#REF!+#REF!+#REF!+#REF!+#REF!+#REF!+#REF!+#REF!+#REF!+#REF!+#REF!+#REF!+#REF!+#REF!+#REF!+#REF!+#REF!+#REF!+#REF!+#REF!+#REF!+#REF!+#REF!+#REF!+#REF!+#REF!+#REF!+#REF!+#REF!","v":{"$error":"#REF!"}},{"$f":"#REF!+#REF!+#REF!+#REF!+#REF!+#REF!+#REF!+#REF!+#REF!+#REF!+#REF!+#REF!+#REF!+#REF!+#REF!+#REF!+#REF!+#REF!+#REF!+#REF!+#REF!+#REF!+#REF!+#REF!+#REF!+#REF!+#REF!+#REF!+#REF!+#REF!+#REF!+#REF!+#REF!","v":{"$error":"#REF!"}},{"$f":"#REF!+#REF!+#REF!+#REF!+#REF!+#REF!+#REF!+#REF!+#REF!+#REF!+#REF!+#REF!+#REF!+#REF!+#REF!+#REF!+#REF!+#REF!+#REF!+#REF!+#REF!+#REF!+#REF!+#REF!+#REF!+#REF!+#REF!+#REF!+#REF!+#REF!+#REF!+#REF!+#REF!","v":{"$error":"#REF!"}},{"$f":"#REF!+#REF!+#REF!+#REF!+#REF!+#REF!+#REF!+#REF!+#REF!+#REF!+#REF!+#REF!+#REF!+#REF!+#REF!+#REF!+#REF!+#REF!+#REF!+#REF!+#REF!+#REF!+#REF!+#REF!+#REF!+#REF!+#REF!+#REF!+#REF!+#REF!+#REF!+#REF!+#REF!","v":{"$error":"#REF!"}},{"$f":"#REF!+#REF!+#REF!+#REF!+#REF!+#REF!+#REF!+#REF!+#REF!+#REF!+#REF!+#REF!+#REF!+#REF!+#REF!+#REF!+#REF!+#REF!+#REF!+#REF!+#REF!+#REF!+#REF!+#REF!+#REF!+#REF!+#REF!+#REF!+#REF!+#REF!+#REF!+#REF!+#REF!","v":{"$error":"#REF!"}},{"$f":"#REF!+#REF!+#REF!+#REF!+#REF!+#REF!+#REF!+#REF!+#REF!+#REF!+#REF!+#REF!+#REF!+#REF!+#REF!+#REF!+#REF!+#REF!+#REF!+#REF!+#REF!+#REF!+#REF!+#REF!+#REF!+#REF!+#REF!+#REF!+#REF!+#REF!+#REF!+#REF!+#REF!","v":{"$error":"#REF!"}},{"$f":"#REF!+#REF!+#REF!+#REF!+#REF!+#REF!+#REF!+#REF!+#REF!+#REF!+#REF!+#REF!+#REF!+#REF!+#REF!+#REF!+#REF!+#REF!+#REF!+#REF!+#REF!+#REF!+#REF!+#REF!+#REF!+#REF!+#REF!+#REF!+#REF!+#REF!+#REF!+#REF!+#REF!","v":{"$error":"#REF!"}},{"$f":"#REF!+#REF!+#REF!+#REF!+#REF!+#REF!+#REF!+#REF!+#REF!+#REF!+#REF!+#REF!+#REF!+#REF!+#REF!+#REF!+#REF!+#REF!+#REF!+#REF!+#REF!+#REF!+#REF!+#REF!+#REF!+#REF!+#REF!+#REF!+#REF!+#REF!+#REF!+#REF!+#REF!","v":{"$error":"#REF!"}},{"$f":"#REF!+#REF!+#REF!+#REF!+#REF!+#REF!+#REF!+#REF!+#REF!+#REF!+#REF!+#REF!+#REF!+#REF!+#REF!+#REF!+#REF!+#REF!+#REF!+#REF!+#REF!+#REF!+#REF!+#REF!+#REF!+#REF!+#REF!+#REF!+#REF!+#REF!+#REF!+#REF!+#REF!","v":{"$error":"#REF!"}},{"$f":"#REF!+#REF!+#REF!+#REF!+#REF!+#REF!+#REF!+#REF!+#REF!+#REF!+#REF!+#REF!+#REF!+#REF!+#REF!+#REF!+#REF!+#REF!+#REF!+#REF!+#REF!+#REF!+#REF!+#REF!+#REF!+#REF!+#REF!+#REF!+#REF!+#REF!+#REF!+#REF!+#REF!","v":{"$error":"#REF!"}},{"$f":"#REF!+#REF!+#REF!+#REF!+#REF!+#REF!+#REF!+#REF!+#REF!+#REF!+#REF!+#REF!+#REF!+#REF!+#REF!+#REF!+#REF!+#REF!+#REF!+#REF!+#REF!+#REF!+#REF!+#REF!+#REF!+#REF!+#REF!+#REF!+#REF!+#REF!+#REF!+#REF!+#REF!","v":{"$error":"#REF!"}},{"$f":"#REF!+#REF!+#REF!+#REF!+#REF!+#REF!+#REF!+#REF!+#REF!+#REF!+#REF!+#REF!+#REF!+#REF!+#REF!+#REF!+#REF!+#REF!+#REF!+#REF!+#REF!+#REF!+#REF!+#REF!+#REF!+#REF!+#REF!+#REF!+#REF!+#REF!+#REF!+#REF!+#REF!","v":{"$error":"#REF!"}},{"$f":"#REF!+#REF!+#REF!+#REF!+#REF!+#REF!+#REF!+#REF!+#REF!+#REF!+#REF!+#REF!+#REF!+#REF!+#REF!+#REF!+#REF!+#REF!+#REF!+#REF!+#REF!+#REF!+#REF!+#REF!+#REF!+#REF!+#REF!+#REF!+#REF!+#REF!+#REF!+#REF!+#REF!","v":{"$error":"#REF!"}},{"$f":"#REF!+#REF!+#REF!+#REF!+#REF!+#REF!+#REF!+#REF!+#REF!+#REF!+#REF!+#REF!+#REF!+#REF!+#REF!+#REF!+#REF!+#REF!+#REF!+#REF!+#REF!+#REF!+#REF!+#REF!+#REF!+#REF!+#REF!+#REF!+#REF!+#REF!+#REF!+#REF!+#REF!","v":{"$error":"#REF!"}},{"$error":"#REF!"},{"$error":"#REF!"},{"$f":"#REF!+#REF!+#REF!+#REF!+#REF!+#REF!+#REF!+#REF!+#REF!+#REF!+#REF!+#REF!+#REF!+#REF!+#REF!+#REF!+#REF!+#REF!+#REF!+#REF!+#REF!+#REF!+#REF!+#REF!+#REF!+#REF!+#REF!+#REF!+#REF!+#REF!+#REF!+#REF!+#REF!","v":{"$error":"#REF!"}},null,{"$error":"#REF!"}]
[62,"West Carroll",{"$f":"#REF!+#REF!+#REF!+#REF!+#REF!+#REF!+#REF!+#REF!+#REF!+#REF!+#REF!+#REF!+#REF!+#REF!+#REF!+#REF!+#REF!+#REF!+#REF!+#REF!+#REF!+#REF!+#REF!+#REF!+#REF!+#REF!+#REF!+#REF!+#REF!+#REF!+#REF!+#REF!+#REF!","v":{"$error":"#REF!"}},{"$f":"'9_Per Pupil Summary'!H67","v":5405.9202434759318},{"$f":"#REF!+#REF!+#REF!+#REF!+#REF!+#REF!+#REF!+#REF!+#REF!+#REF!+#REF!+#REF!+#REF!+#REF!+#REF!+#REF!+#REF!+#REF!+#REF!+#REF!+#REF!+#REF!+#REF!+#REF!+#REF!+#REF!+#REF!+#REF!+#REF!+#REF!+#REF!+#REF!+#REF!","v":{"$error":"#REF!"}},{"$f":"#REF!+#REF!+#REF!+#REF!+#REF!+#REF!+#REF!+#REF!+#REF!+#REF!+#REF!+#REF!+#REF!+#REF!+#REF!+#REF!+#REF!+#REF!+#REF!+#REF!+#REF!+#REF!+#REF!+#REF!+#REF!+#REF!+#REF!+#REF!+#REF!+#REF!+#REF!+#REF!+#REF!","v":{"$error":"#REF!"}},{"$f":"'9_Per Pupil Summary'!I67","v":714.0958401664102},{"$f":"#REF!+#REF!+#REF!+#REF!+#REF!+#REF!+#REF!+#REF!+#REF!+#REF!+#REF!+#REF!+#REF!+#REF!+#REF!+#REF!+#REF!+#REF!+#REF!+#REF!+#REF!+#REF!+#REF!+#REF!+#REF!+#REF!+#REF!+#REF!+#REF!+#REF!+#REF!+#REF!+#REF!","v":{"$error":"#REF!"}},{"$f":"#REF!+#REF!+#REF!+#REF!+#REF!+#REF!+#REF!+#REF!+#REF!+#REF!+#REF!+#REF!+#REF!+#REF!+#REF!+#REF!+#REF!+#REF!+#REF!+#REF!+#REF!+#REF!+#REF!+#REF!+#REF!+#REF!+#REF!+#REF!+#REF!+#REF!+#REF!+#REF!+#REF!","v":{"$error":"#REF!"}},{"$f":"'9_Per Pupil Summary'!J67","v":194.75341095447553},{"$f":"#REF!+#REF!+#REF!+#REF!+#REF!+#REF!+#REF!+#REF!+#REF!+#REF!+#REF!+#REF!+#REF!+#REF!+#REF!+#REF!+#REF!+#REF!+#REF!+#REF!+#REF!+#REF!+#REF!+#REF!+#REF!+#REF!+#REF!+#REF!+#REF!+#REF!+#REF!+#REF!+#REF!","v":{"$error":"#REF!"}},{"$f":"#REF!+#REF!+#REF!+#REF!+#REF!+#REF!+#REF!+#REF!+#REF!+#REF!+#REF!+#REF!+#REF!+#REF!+#REF!+#REF!+#REF!+#REF!+#REF!+#REF!+#REF!+#REF!+#REF!+#REF!+#REF!+#REF!+#REF!+#REF!+#REF!+#REF!+#REF!+#REF!+#REF!","v":{"$error":"#REF!"}},{"$f":"'9_Per Pupil Summary'!K67","v":4868.8352738618878},{"$f":"#REF!+#REF!+#REF!+#REF!+#REF!+#REF!+#REF!+#REF!+#REF!+#REF!+#REF!+#REF!+#REF!+#REF!+#REF!+#REF!+#REF!+#REF!+#REF!+#REF!+#REF!+#REF!+#REF!+#REF!+#REF!+#REF!+#REF!+#REF!+#REF!+#REF!+#REF!+#REF!+#REF!","v":{"$error":"#REF!"}},{"$f":"#REF!+#REF!+#REF!+#REF!+#REF!+#REF!+#REF!+#REF!+#REF!+#REF!+#REF!+#REF!+#REF!+#REF!+#REF!+#REF!+#REF!+#REF!+#REF!+#REF!+#REF!+#REF!+#REF!+#REF!+#REF!+#REF!+#REF!+#REF!+#REF!+#REF!+#REF!+#REF!+#REF!","v":{"$error":"#REF!"}},{"$f":"'9_Per Pupil Summary'!L67","v":0},{"$f":"#REF!+#REF!+#REF!+#REF!+#REF!+#REF!+#REF!+#REF!+#REF!+#REF!+#REF!+#REF!+#REF!+#REF!+#REF!+#REF!+#REF!+#REF!+#REF!+#REF!+#REF!+#REF!+#REF!+#REF!+#REF!+#REF!+#REF!+#REF!+#REF!+#REF!+#REF!+#REF!+#REF!","v":{"$error":"#REF!"}},{"$f":"#REF!+#REF!+#REF!+#REF!+#REF!+#REF!+#REF!+#REF!+#REF!+#REF!+#REF!+#REF!+#REF!+#REF!+#REF!+#REF!+#REF!+#REF!+#REF!+#REF!+#REF!+#REF!+#REF!+#REF!+#REF!+#REF!+#REF!+#REF!+#REF!+#REF!+#REF!+#REF!+#REF!","v":{"$error":"#REF!"}},{"$f":"#REF!+#REF!","v":{"$error":"#REF!"}},{"$f":"#REF!+#REF!+#REF!+#REF!+#REF!+#REF!+#REF!+#REF!+#REF!+#REF!+#REF!+#REF!+#REF!+#REF!+#REF!+#REF!+#REF!+#REF!+#REF!+#REF!+#REF!+#REF!+#REF!+#REF!+#REF!+#REF!+#REF!+#REF!+#REF!+#REF!+#REF!+#REF!+#REF!","v":{"$error":"#REF!"}},{"$f":"#REF!+#REF!+#REF!+#REF!+#REF!+#REF!+#REF!+#REF!+#REF!+#REF!+#REF!+#REF!+#REF!+#REF!+#REF!+#REF!+#REF!+#REF!+#REF!+#REF!+#REF!+#REF!+#REF!+#REF!+#REF!+#REF!+#REF!+#REF!+#REF!+#REF!+#REF!+#REF!+#REF!","v":{"$error":"#REF!"}},{"$f":"#REF!+#REF!+#REF!+#REF!+#REF!+#REF!+#REF!+#REF!+#REF!+#REF!+#REF!+#REF!+#REF!+#REF!+#REF!+#REF!+#REF!+#REF!+#REF!+#REF!+#REF!+#REF!+#REF!+#REF!+#REF!+#REF!+#REF!+#REF!+#REF!+#REF!+#REF!+#REF!+#REF!","v":{"$error":"#REF!"}},{"$f":"#REF!+#REF!+#REF!+#REF!+#REF!+#REF!+#REF!+#REF!+#REF!+#REF!+#REF!+#REF!+#REF!+#REF!+#REF!+#REF!+#REF!+#REF!+#REF!+#REF!+#REF!+#REF!+#REF!+#REF!+#REF!+#REF!+#REF!+#REF!+#REF!+#REF!+#REF!+#REF!+#REF!","v":{"$error":"#REF!"}},{"$f":"#REF!+#REF!+#REF!+#REF!+#REF!+#REF!+#REF!+#REF!+#REF!+#REF!+#REF!+#REF!+#REF!+#REF!+#REF!+#REF!+#REF!+#REF!+#REF!+#REF!+#REF!+#REF!+#REF!+#REF!+#REF!+#REF!+#REF!+#REF!+#REF!+#REF!+#REF!+#REF!+#REF!","v":{"$error":"#REF!"}},{"$f":"#REF!+#REF!+#REF!+#REF!+#REF!+#REF!+#REF!+#REF!+#REF!+#REF!+#REF!+#REF!+#REF!+#REF!+#REF!+#REF!+#REF!+#REF!+#REF!+#REF!+#REF!+#REF!+#REF!+#REF!+#REF!+#REF!+#REF!+#REF!+#REF!+#REF!+#REF!+#REF!+#REF!","v":{"$error":"#REF!"}},{"$f":"#REF!+#REF!+#REF!+#REF!+#REF!+#REF!+#REF!+#REF!+#REF!+#REF!+#REF!+#REF!+#REF!+#REF!+#REF!+#REF!+#REF!+#REF!+#REF!+#REF!+#REF!+#REF!+#REF!+#REF!+#REF!+#REF!+#REF!+#REF!+#REF!+#REF!+#REF!+#REF!+#REF!","v":{"$error":"#REF!"}},{"$f":"#REF!+#REF!+#REF!+#REF!+#REF!+#REF!+#REF!+#REF!+#REF!+#REF!+#REF!+#REF!+#REF!+#REF!+#REF!+#REF!+#REF!+#REF!+#REF!+#REF!+#REF!+#REF!+#REF!+#REF!+#REF!+#REF!+#REF!+#REF!+#REF!+#REF!+#REF!+#REF!+#REF!","v":{"$error":"#REF!"}},{"$f":"#REF!+#REF!+#REF!+#REF!+#REF!+#REF!+#REF!+#REF!+#REF!+#REF!+#REF!+#REF!+#REF!+#REF!+#REF!+#REF!+#REF!+#REF!+#REF!+#REF!+#REF!+#REF!+#REF!+#REF!+#REF!+#REF!+#REF!+#REF!+#REF!+#REF!+#REF!+#REF!+#REF!","v":{"$error":"#REF!"}},{"$f":"#REF!+#REF!+#REF!+#REF!+#REF!+#REF!+#REF!+#REF!+#REF!+#REF!+#REF!+#REF!+#REF!+#REF!+#REF!+#REF!+#REF!+#REF!+#REF!+#REF!+#REF!+#REF!+#REF!+#REF!+#REF!+#REF!+#REF!+#REF!+#REF!+#REF!+#REF!+#REF!+#REF!","v":{"$error":"#REF!"}},{"$f":"#REF!+#REF!+#REF!+#REF!+#REF!+#REF!+#REF!+#REF!+#REF!+#REF!+#REF!+#REF!+#REF!+#REF!+#REF!+#REF!+#REF!+#REF!+#REF!+#REF!+#REF!+#REF!+#REF!+#REF!+#REF!+#REF!+#REF!+#REF!+#REF!+#REF!+#REF!+#REF!+#REF!","v":{"$error":"#REF!"}},{"$f":"#REF!+#REF!+#REF!+#REF!+#REF!+#REF!+#REF!+#REF!+#REF!+#REF!+#REF!+#REF!+#REF!+#REF!+#REF!+#REF!+#REF!+#REF!+#REF!+#REF!+#REF!+#REF!+#REF!+#REF!+#REF!+#REF!+#REF!+#REF!+#REF!+#REF!+#REF!+#REF!+#REF!","v":{"$error":"#REF!"}},{"$f":"'9_Per Pupil Summary'!N67","v":3728},{"$f":"#REF!+#REF!+#REF!+#REF!+#REF!+#REF!+#REF!+#REF!+#REF!+#REF!+#REF!+#REF!+#REF!+#REF!+#REF!+#REF!+#REF!+#REF!+#REF!+#REF!+#REF!+#REF!+#REF!+#REF!+#REF!+#REF!+#REF!+#REF!+#REF!+#REF!+#REF!+#REF!+#REF!","v":{"$error":"#REF!"}},{"$f":"#REF!+#REF!+#REF!+#REF!+#REF!+#REF!+#REF!+#REF!+#REF!+#REF!+#REF!+#REF!+#REF!+#REF!+#REF!+#REF!+#REF!+#REF!+#REF!+#REF!+#REF!+#REF!+#REF!+#REF!+#REF!+#REF!+#REF!+#REF!+#REF!+#REF!+#REF!+#REF!+#REF!","v":{"$error":"#REF!"}},{"$f":"#REF!+#REF!+#REF!+#REF!+#REF!+#REF!+#REF!+#REF!+#REF!+#REF!+#REF!+#REF!+#REF!+#REF!+#REF!+#REF!+#REF!+#REF!+#REF!+#REF!+#REF!+#REF!+#REF!+#REF!+#REF!+#REF!+#REF!+#REF!+#REF!+#REF!+#REF!+#REF!+#REF!","v":{"$error":"#REF!"}},{"$f":"#REF!+#REF!+#REF!+#REF!+#REF!+#REF!+#REF!+#REF!+#REF!+#REF!+#REF!+#REF!+#REF!+#REF!+#REF!+#REF!+#REF!+#REF!+#REF!+#REF!+#REF!+#REF!+#REF!+#REF!+#REF!+#REF!+#REF!+#REF!+#REF!+#REF!+#REF!+#REF!+#REF!","v":{"$error":"#REF!"}},{"$f":"#REF!+#REF!+#REF!+#REF!+#REF!+#REF!+#REF!+#REF!+#REF!+#REF!+#REF!+#REF!+#REF!+#REF!+#REF!+#REF!+#REF!+#REF!+#REF!+#REF!+#REF!+#REF!+#REF!+#REF!+#REF!+#REF!+#REF!+#REF!+#REF!+#REF!+#REF!+#REF!+#REF!","v":{"$error":"#REF!"}},{"$f":"#REF!+#REF!+#REF!+#REF!+#REF!+#REF!+#REF!+#REF!+#REF!+#REF!+#REF!+#REF!+#REF!+#REF!+#REF!+#REF!+#REF!+#REF!+#REF!+#REF!+#REF!+#REF!+#REF!+#REF!+#REF!+#REF!+#REF!+#REF!+#REF!+#REF!+#REF!+#REF!+#REF!","v":{"$error":"#REF!"}},{"$f":"#REF!+#REF!+#REF!+#REF!+#REF!+#REF!+#REF!+#REF!+#REF!+#REF!+#REF!+#REF!+#REF!+#REF!+#REF!+#REF!+#REF!+#REF!+#REF!+#REF!+#REF!+#REF!+#REF!+#REF!+#REF!+#REF!+#REF!+#REF!+#REF!+#REF!+#REF!+#REF!+#REF!","v":{"$error":"#REF!"}},{"$f":"#REF!+#REF!+#REF!+#REF!+#REF!+#REF!+#REF!+#REF!+#REF!+#REF!+#REF!+#REF!+#REF!+#REF!+#REF!+#REF!+#REF!+#REF!+#REF!+#REF!+#REF!+#REF!+#REF!+#REF!+#REF!+#REF!+#REF!+#REF!+#REF!+#REF!+#REF!+#REF!+#REF!","v":{"$error":"#REF!"}},{"$f":"#REF!+#REF!+#REF!+#REF!+#REF!+#REF!+#REF!+#REF!+#REF!+#REF!+#REF!+#REF!+#REF!+#REF!+#REF!+#REF!+#REF!+#REF!+#REF!+#REF!+#REF!+#REF!+#REF!+#REF!+#REF!+#REF!+#REF!+#REF!+#REF!+#REF!+#REF!+#REF!+#REF!","v":{"$error":"#REF!"}},{"$f":"#REF!+#REF!+#REF!+#REF!+#REF!+#REF!+#REF!+#REF!+#REF!+#REF!+#REF!+#REF!+#REF!+#REF!+#REF!+#REF!+#REF!+#REF!+#REF!+#REF!+#REF!+#REF!+#REF!+#REF!+#REF!+#REF!+#REF!+#REF!+#REF!+#REF!+#REF!+#REF!+#REF!","v":{"$error":"#REF!"}},{"$f":"#REF!+#REF!+#REF!+#REF!+#REF!+#REF!+#REF!+#REF!+#REF!+#REF!+#REF!+#REF!+#REF!+#REF!+#REF!+#REF!+#REF!+#REF!+#REF!+#REF!+#REF!+#REF!+#REF!+#REF!+#REF!+#REF!+#REF!+#REF!+#REF!+#REF!+#REF!+#REF!+#REF!","v":{"$error":"#REF!"}},{"$f":"#REF!+#REF!+#REF!+#REF!+#REF!+#REF!+#REF!+#REF!+#REF!+#REF!+#REF!+#REF!+#REF!+#REF!+#REF!+#REF!+#REF!+#REF!+#REF!+#REF!+#REF!+#REF!+#REF!+#REF!+#REF!+#REF!+#REF!+#REF!+#REF!+#REF!+#REF!+#REF!+#REF!","v":{"$error":"#REF!"}},{"$f":"#REF!+#REF!+#REF!+#REF!+#REF!+#REF!+#REF!+#REF!+#REF!+#REF!+#REF!+#REF!+#REF!+#REF!+#REF!+#REF!+#REF!+#REF!+#REF!+#REF!+#REF!+#REF!+#REF!+#REF!+#REF!+#REF!+#REF!+#REF!+#REF!+#REF!+#REF!+#REF!+#REF!","v":{"$error":"#REF!"}},{"$f":"#REF!+#REF!+#REF!+#REF!+#REF!+#REF!+#REF!+#REF!+#REF!+#REF!+#REF!+#REF!+#REF!+#REF!+#REF!+#REF!+#REF!+#REF!+#REF!+#REF!+#REF!+#REF!+#REF!+#REF!+#REF!+#REF!+#REF!+#REF!+#REF!+#REF!+#REF!+#REF!+#REF!","v":{"$error":"#REF!"}},{"$error":"#REF!"},{"$error":"#REF!"},{"$f":"#REF!+#REF!+#REF!+#REF!+#REF!+#REF!+#REF!+#REF!+#REF!+#REF!+#REF!+#REF!+#REF!+#REF!+#REF!+#REF!+#REF!+#REF!+#REF!+#REF!+#REF!+#REF!+#REF!+#REF!+#REF!+#REF!+#REF!+#REF!+#REF!+#REF!+#REF!+#REF!+#REF!","v":{"$error":"#REF!"}},null,{"$error":"#REF!"}]
[63,"West Feliciana",{"$f":"#REF!+#REF!+#REF!+#REF!+#REF!+#REF!+#REF!+#REF!+#REF!+#REF!+#REF!+#REF!+#REF!+#REF!+#REF!+#REF!+#REF!+#REF!+#REF!+#REF!+#REF!+#REF!+#REF!+#REF!+#REF!+#REF!+#REF!+#REF!+#REF!+#REF!+#REF!+#REF!+#REF!","v":{"$error":"#REF!"}},{"$f":"'9_Per Pupil Summary'!H68","v":3216.8572831526408},{"$f":"#REF!+#REF!+#REF!+#REF!+#REF!+#REF!+#REF!+#REF!+#REF!+#REF!+#REF!+#REF!+#REF!+#REF!+#REF!+#REF!+#REF!+#REF!+#REF!+#REF!+#REF!+#REF!+#REF!+#REF!+#REF!+#REF!+#REF!+#REF!+#REF!+#REF!+#REF!+#REF!+#REF!","v":{"$error":"#REF!"}},{"$f":"#REF!+#REF!+#REF!+#REF!+#REF!+#REF!+#REF!+#REF!+#REF!+#REF!+#REF!+#REF!+#REF!+#REF!+#REF!+#REF!+#REF!+#REF!+#REF!+#REF!+#REF!+#REF!+#REF!+#REF!+#REF!+#REF!+#REF!+#REF!+#REF!+#REF!+#REF!+#REF!+#REF!","v":{"$error":"#REF!"}},{"$f":"'9_Per Pupil Summary'!I68","v":410.11651767451059},{"$f":"#REF!+#REF!+#REF!+#REF!+#REF!+#REF!+#REF!+#REF!+#REF!+#REF!+#REF!+#REF!+#REF!+#REF!+#REF!+#REF!+#REF!+#REF!+#REF!+#REF!+#REF!+#REF!+#REF!+#REF!+#REF!+#REF!+#REF!+#REF!+#REF!+#REF!+#REF!+#REF!+#REF!","v":{"$error":"#REF!"}},{"$f":"#REF!+#REF!+#REF!+#REF!+#REF!+#REF!+#REF!+#REF!+#REF!+#REF!+#REF!+#REF!+#REF!+#REF!+#REF!+#REF!+#REF!+#REF!+#REF!+#REF!+#REF!+#REF!+#REF!+#REF!+#REF!+#REF!+#REF!+#REF!+#REF!+#REF!+#REF!+#REF!+#REF!","v":{"$error":"#REF!"}},{"$f":"'9_Per Pupil Summary'!J68","v":111.8499593657756},{"$f":"#REF!+#REF!+#REF!+#REF!+#REF!+#REF!+#REF!+#REF!+#REF!+#REF!+#REF!+#REF!+#REF!+#REF!+#REF!+#REF!+#REF!+#REF!+#REF!+#REF!+#REF!+#REF!+#REF!+#REF!+#REF!+#REF!+#REF!+#REF!+#REF!+#REF!+#REF!+#REF!+#REF!","v":{"$error":"#REF!"}},{"$f":"#REF!+#REF!+#REF!+#REF!+#REF!+#REF!+#REF!+#REF!+#REF!+#REF!+#REF!+#REF!+#REF!+#REF!+#REF!+#REF!+#REF!+#REF!+#REF!+#REF!+#REF!+#REF!+#REF!+#REF!+#REF!+#REF!+#REF!+#REF!+#REF!+#REF!+#REF!+#REF!+#REF!","v":{"$error":"#REF!"}},{"$f":"'9_Per Pupil Summary'!K68","v":2796.2489841443899},{"$f":"#REF!+#REF!+#REF!+#REF!+#REF!+#REF!+#REF!+#REF!+#REF!+#REF!+#REF!+#REF!+#REF!+#REF!+#REF!+#REF!+#REF!+#REF!+#REF!+#REF!+#REF!+#REF!+#REF!+#REF!+#REF!+#REF!+#REF!+#REF!+#REF!+#REF!+#REF!+#REF!+#REF!","v":{"$error":"#REF!"}},{"$f":"#REF!+#REF!+#REF!+#REF!+#REF!+#REF!+#REF!+#REF!+#REF!+#REF!+#REF!+#REF!+#REF!+#REF!+#REF!+#REF!+#REF!+#REF!+#REF!+#REF!+#REF!+#REF!+#REF!+#REF!+#REF!+#REF!+#REF!+#REF!+#REF!+#REF!+#REF!+#REF!+#REF!","v":{"$error":"#REF!"}},{"$f":"'9_Per Pupil Summary'!L68","v":1118.4995936577559},{"$f":"#REF!+#REF!+#REF!+#REF!+#REF!+#REF!+#REF!+#REF!+#REF!+#REF!+#REF!+#REF!+#REF!+#REF!+#REF!+#REF!+#REF!+#REF!+#REF!+#REF!+#REF!+#REF!+#REF!+#REF!+#REF!+#REF!+#REF!+#REF!+#REF!+#REF!+#REF!+#REF!+#REF!","v":{"$error":"#REF!"}},{"$f":"#REF!+#REF!+#REF!+#REF!+#REF!+#REF!+#REF!+#REF!+#REF!+#REF!+#REF!+#REF!+#REF!+#REF!+#REF!+#REF!+#REF!+#REF!+#REF!+#REF!+#REF!+#REF!+#REF!+#REF!+#REF!+#REF!+#REF!+#REF!+#REF!+#REF!+#REF!+#REF!+#REF!","v":{"$error":"#REF!"}},{"$f":"#REF!+#REF!","v":{"$error":"#REF!"}},{"$f":"#REF!+#REF!+#REF!+#REF!+#REF!+#REF!+#REF!+#REF!+#REF!+#REF!+#REF!+#REF!+#REF!+#REF!+#REF!+#REF!+#REF!+#REF!+#REF!+#REF!+#REF!+#REF!+#REF!+#REF!+#REF!+#REF!+#REF!+#REF!+#REF!+#REF!+#REF!+#REF!+#REF!","v":{"$error":"#REF!"}},{"$f":"#REF!+#REF!+#REF!+#REF!+#REF!+#REF!+#REF!+#REF!+#REF!+#REF!+#REF!+#REF!+#REF!+#REF!+#REF!+#REF!+#REF!+#REF!+#REF!+#REF!+#REF!+#REF!+#REF!+#REF!+#REF!+#REF!+#REF!+#REF!+#REF!+#REF!+#REF!+#REF!+#REF!","v":{"$error":"#REF!"}},{"$f":"#REF!+#REF!+#REF!+#REF!+#REF!+#REF!+#REF!+#REF!+#REF!+#REF!+#REF!+#REF!+#REF!+#REF!+#REF!+#REF!+#REF!+#REF!+#REF!+#REF!+#REF!+#REF!+#REF!+#REF!+#REF!+#REF!+#REF!+#REF!+#REF!+#REF!+#REF!+#REF!+#REF!","v":{"$error":"#REF!"}},{"$f":"#REF!+#REF!+#REF!+#REF!+#REF!+#REF!+#REF!+#REF!+#REF!+#REF!+#REF!+#REF!+#REF!+#REF!+#REF!+#REF!+#REF!+#REF!+#REF!+#REF!+#REF!+#REF!+#REF!+#REF!+#REF!+#REF!+#REF!+#REF!+#REF!+#REF!+#REF!+#REF!+#REF!","v":{"$error":"#REF!"}},{"$f":"#REF!+#REF!+#REF!+#REF!+#REF!+#REF!+#REF!+#REF!+#REF!+#REF!+#REF!+#REF!+#REF!+#REF!+#REF!+#REF!+#REF!+#REF!+#REF!+#REF!+#REF!+#REF!+#REF!+#REF!+#REF!+#REF!+#REF!+#REF!+#REF!+#REF!+#REF!+#REF!+#REF!","v":{"$error":"#REF!"}},{"$f":"#REF!+#REF!+#REF!+#REF!+#REF!+#REF!+#REF!+#REF!+#REF!+#REF!+#REF!+#REF!+#REF!+#REF!+#REF!+#REF!+#REF!+#REF!+#REF!+#REF!+#REF!+#REF!+#REF!+#REF!+#REF!+#REF!+#REF!+#REF!+#REF!+#REF!+#REF!+#REF!+#REF!","v":{"$error":"#REF!"}},{"$f":"#REF!+#REF!+#REF!+#REF!+#REF!+#REF!+#REF!+#REF!+#REF!+#REF!+#REF!+#REF!+#REF!+#REF!+#REF!+#REF!+#REF!+#REF!+#REF!+#REF!+#REF!+#REF!+#REF!+#REF!+#REF!+#REF!+#REF!+#REF!+#REF!+#REF!+#REF!+#REF!+#REF!","v":{"$error":"#REF!"}},{"$f":"#REF!+#REF!+#REF!+#REF!+#REF!+#REF!+#REF!+#REF!+#REF!+#REF!+#REF!+#REF!+#REF!+#REF!+#REF!+#REF!+#REF!+#REF!+#REF!+#REF!+#REF!+#REF!+#REF!+#REF!+#REF!+#REF!+#REF!+#REF!+#REF!+#REF!+#REF!+#REF!+#REF!","v":{"$error":"#REF!"}},{"$f":"#REF!+#REF!+#REF!+#REF!+#REF!+#REF!+#REF!+#REF!+#REF!+#REF!+#REF!+#REF!+#REF!+#REF!+#REF!+#REF!+#REF!+#REF!+#REF!+#REF!+#REF!+#REF!+#REF!+#REF!+#REF!+#REF!+#REF!+#REF!+#REF!+#REF!+#REF!+#REF!+#REF!","v":{"$error":"#REF!"}},{"$f":"#REF!+#REF!+#REF!+#REF!+#REF!+#REF!+#REF!+#REF!+#REF!+#REF!+#REF!+#REF!+#REF!+#REF!+#REF!+#REF!+#REF!+#REF!+#REF!+#REF!+#REF!+#REF!+#REF!+#REF!+#REF!+#REF!+#REF!+#REF!+#REF!+#REF!+#REF!+#REF!+#REF!","v":{"$error":"#REF!"}},{"$f":"#REF!+#REF!+#REF!+#REF!+#REF!+#REF!+#REF!+#REF!+#REF!+#REF!+#REF!+#REF!+#REF!+#REF!+#REF!+#REF!+#REF!+#REF!+#REF!+#REF!+#REF!+#REF!+#REF!+#REF!+#REF!+#REF!+#REF!+#REF!+#REF!+#REF!+#REF!+#REF!+#REF!","v":{"$error":"#REF!"}},{"$f":"#REF!+#REF!+#REF!+#REF!+#REF!+#REF!+#REF!+#REF!+#REF!+#REF!+#REF!+#REF!+#REF!+#REF!+#REF!+#REF!+#REF!+#REF!+#REF!+#REF!+#REF!+#REF!+#REF!+#REF!+#REF!+#REF!+#REF!+#REF!+#REF!+#REF!+#REF!+#REF!+#REF!","v":{"$error":"#REF!"}},{"$f":"'9_Per Pupil Summary'!N68","v":13546},{"$f":"#REF!+#REF!+#REF!+#REF!+#REF!+#REF!+#REF!+#REF!+#REF!+#REF!+#REF!+#REF!+#REF!+#REF!+#REF!+#REF!+#REF!+#REF!+#REF!+#REF!+#REF!+#REF!+#REF!+#REF!+#REF!+#REF!+#REF!+#REF!+#REF!+#REF!+#REF!+#REF!+#REF!","v":{"$error":"#REF!"}},{"$f":"#REF!+#REF!+#REF!+#REF!+#REF!+#REF!+#REF!+#REF!+#REF!+#REF!+#REF!+#REF!+#REF!+#REF!+#REF!+#REF!+#REF!+#REF!+#REF!+#REF!+#REF!+#REF!+#REF!+#REF!+#REF!+#REF!+#REF!+#REF!+#REF!+#REF!+#REF!+#REF!+#REF!","v":{"$error":"#REF!"}},{"$f":"#REF!+#REF!+#REF!+#REF!+#REF!+#REF!+#REF!+#REF!+#REF!+#REF!+#REF!+#REF!+#REF!+#REF!+#REF!+#REF!+#REF!+#REF!+#REF!+#REF!+#REF!+#REF!+#REF!+#REF!+#REF!+#REF!+#REF!+#REF!+#REF!+#REF!+#REF!+#REF!+#REF!","v":{"$error":"#REF!"}},{"$f":"#REF!+#REF!+#REF!+#REF!+#REF!+#REF!+#REF!+#REF!+#REF!+#REF!+#REF!+#REF!+#REF!+#REF!+#REF!+#REF!+#REF!+#REF!+#REF!+#REF!+#REF!+#REF!+#REF!+#REF!+#REF!+#REF!+#REF!+#REF!+#REF!+#REF!+#REF!+#REF!+#REF!","v":{"$error":"#REF!"}},{"$f":"#REF!+#REF!+#REF!+#REF!+#REF!+#REF!+#REF!+#REF!+#REF!+#REF!+#REF!+#REF!+#REF!+#REF!+#REF!+#REF!+#REF!+#REF!+#REF!+#REF!+#REF!+#REF!+#REF!+#REF!+#REF!+#REF!+#REF!+#REF!+#REF!+#REF!+#REF!+#REF!+#REF!","v":{"$error":"#REF!"}},{"$f":"#REF!+#REF!+#REF!+#REF!+#REF!+#REF!+#REF!+#REF!+#REF!+#REF!+#REF!+#REF!+#REF!+#REF!+#REF!+#REF!+#REF!+#REF!+#REF!+#REF!+#REF!+#REF!+#REF!+#REF!+#REF!+#REF!+#REF!+#REF!+#REF!+#REF!+#REF!+#REF!+#REF!","v":{"$error":"#REF!"}},{"$f":"#REF!+#REF!+#REF!+#REF!+#REF!+#REF!+#REF!+#REF!+#REF!+#REF!+#REF!+#REF!+#REF!+#REF!+#REF!+#REF!+#REF!+#REF!+#REF!+#REF!+#REF!+#REF!+#REF!+#REF!+#REF!+#REF!+#REF!+#REF!+#REF!+#REF!+#REF!+#REF!+#REF!","v":{"$error":"#REF!"}},{"$f":"#REF!+#REF!+#REF!+#REF!+#REF!+#REF!+#REF!+#REF!+#REF!+#REF!+#REF!+#REF!+#REF!+#REF!+#REF!+#REF!+#REF!+#REF!+#REF!+#REF!+#REF!+#REF!+#REF!+#REF!+#REF!+#REF!+#REF!+#REF!+#REF!+#REF!+#REF!+#REF!+#REF!","v":{"$error":"#REF!"}},{"$f":"#REF!+#REF!+#REF!+#REF!+#REF!+#REF!+#REF!+#REF!+#REF!+#REF!+#REF!+#REF!+#REF!+#REF!+#REF!+#REF!+#REF!+#REF!+#REF!+#REF!+#REF!+#REF!+#REF!+#REF!+#REF!+#REF!+#REF!+#REF!+#REF!+#REF!+#REF!+#REF!+#REF!","v":{"$error":"#REF!"}},{"$f":"#REF!+#REF!+#REF!+#REF!+#REF!+#REF!+#REF!+#REF!+#REF!+#REF!+#REF!+#REF!+#REF!+#REF!+#REF!+#REF!+#REF!+#REF!+#REF!+#REF!+#REF!+#REF!+#REF!+#REF!+#REF!+#REF!+#REF!+#REF!+#REF!+#REF!+#REF!+#REF!+#REF!","v":{"$error":"#REF!"}},{"$f":"#REF!+#REF!+#REF!+#REF!+#REF!+#REF!+#REF!+#REF!+#REF!+#REF!+#REF!+#REF!+#REF!+#REF!+#REF!+#REF!+#REF!+#REF!+#REF!+#REF!+#REF!+#REF!+#REF!+#REF!+#REF!+#REF!+#REF!+#REF!+#REF!+#REF!+#REF!+#REF!+#REF!","v":{"$error":"#REF!"}},{"$f":"#REF!+#REF!+#REF!+#REF!+#REF!+#REF!+#REF!+#REF!+#REF!+#REF!+#REF!+#REF!+#REF!+#REF!+#REF!+#REF!+#REF!+#REF!+#REF!+#REF!+#REF!+#REF!+#REF!+#REF!+#REF!+#REF!+#REF!+#REF!+#REF!+#REF!+#REF!+#REF!+#REF!","v":{"$error":"#REF!"}},{"$f":"#REF!+#REF!+#REF!+#REF!+#REF!+#REF!+#REF!+#REF!+#REF!+#REF!+#REF!+#REF!+#REF!+#REF!+#REF!+#REF!+#REF!+#REF!+#REF!+#REF!+#REF!+#REF!+#REF!+#REF!+#REF!+#REF!+#REF!+#REF!+#REF!+#REF!+#REF!+#REF!+#REF!","v":{"$error":"#REF!"}},{"$f":"#REF!+#REF!+#REF!+#REF!+#REF!+#REF!+#REF!+#REF!+#REF!+#REF!+#REF!+#REF!+#REF!+#REF!+#REF!+#REF!+#REF!+#REF!+#REF!+#REF!+#REF!+#REF!+#REF!+#REF!+#REF!+#REF!+#REF!+#REF!+#REF!+#REF!+#REF!+#REF!+#REF!","v":{"$error":"#REF!"}},{"$error":"#REF!"},{"$error":"#REF!"},{"$f":"#REF!+#REF!+#REF!+#REF!+#REF!+#REF!+#REF!+#REF!+#REF!+#REF!+#REF!+#REF!+#REF!+#REF!+#REF!+#REF!+#REF!+#REF!+#REF!+#REF!+#REF!+#REF!+#REF!+#REF!+#REF!+#REF!+#REF!+#REF!+#REF!+#REF!+#REF!+#REF!+#REF!","v":{"$error":"#REF!"}},null,{"$error":"#REF!"}]
[64,"Winn",{"$f":"#REF!+#REF!+#REF!+#REF!+#REF!+#REF!+#REF!+#REF!+#REF!+#REF!+#REF!+#REF!+#REF!+#REF!+#REF!+#REF!+#REF!+#REF!+#REF!+#REF!+#REF!+#REF!+#REF!+#REF!+#REF!+#REF!+#REF!+#REF!+#REF!+#REF!+#REF!+#REF!+#REF!","v":{"$error":"#REF!"}},{"$f":"'9_Per Pupil Summary'!H69","v":5328.5301108099475},{"$f":"#REF!+#REF!+#REF!+#REF!+#REF!+#REF!+#REF!+#REF!+#REF!+#REF!+#REF!+#REF!+#REF!+#REF!+#REF!+#REF!+#REF!+#REF!+#REF!+#REF!+#REF!+#REF!+#REF!+#REF!+#REF!+#REF!+#REF!+#REF!+#REF!+#REF!+#REF!+#REF!+#REF!","v":{"$error":"#REF!"}},{"$f":"#REF!+#REF!+#REF!+#REF!+#REF!+#REF!+#REF!+#REF!+#REF!+#REF!+#REF!+#REF!+#REF!+#REF!+#REF!+#REF!+#REF!+#REF!+#REF!+#REF!+#REF!+#REF!+#REF!+#REF!+#REF!+#REF!+#REF!+#REF!+#REF!+#REF!+#REF!+#REF!+#REF!","v":{"$error":"#REF!"}},{"$f":"'9_Per Pupil Summary'!I69","v":695.40240685296271},{"$f":"#REF!+#REF!+#REF!+#REF!+#REF!+#REF!+#REF!+#REF!+#REF!+#REF!+#REF!+#REF!+#REF!+#REF!+#REF!+#REF!+#REF!+#REF!+#REF!+#REF!+#REF!+#REF!+#REF!+#REF!+#REF!+#REF!+#REF!+#REF!+#REF!+#REF!+#REF!+#REF!+#REF!","v":{"$error":"#REF!"}},{"$f":"#REF!+#REF!+#REF!+#REF!+#REF!+#REF!+#REF!+#REF!+#REF!+#REF!+#REF!+#REF!+#REF!+#REF!+#REF!+#REF!+#REF!+#REF!+#REF!+#REF!+#REF!+#REF!+#REF!+#REF!+#REF!+#REF!+#REF!+#REF!+#REF!+#REF!+#REF!+#REF!+#REF!","v":{"$error":"#REF!"}},{"$f":"'9_Per Pupil Summary'!J69","v":189.65520186898985},{"$f":"#REF!+#REF!+#REF!+#REF!+#REF!+#REF!+#REF!+#REF!+#REF!+#REF!+#REF!+#REF!+#REF!+#REF!+#REF!+#REF!+#REF!+#REF!+#REF!+#REF!+#REF!+#REF!+#REF!+#REF!+#REF!+#REF!+#REF!+#REF!+#REF!+#REF!+#REF!+#REF!+#REF!","v":{"$error":"#REF!"}},{"$f":"#REF!+#REF!+#REF!+#REF!+#REF!+#REF!+#REF!+#REF!+#REF!+#REF!+#REF!+#REF!+#REF!+#REF!+#REF!+#REF!+#REF!+#REF!+#REF!+#REF!+#REF!+#REF!+#REF!+#REF!+#REF!+#REF!+#REF!+#REF!+#REF!+#REF!+#REF!+#REF!+#REF!","v":{"$error":"#REF!"}},{"$f":"'9_Per Pupil Summary'!K69","v":4741.3800467247447},{"$f":"#REF!+#REF!+#REF!+#REF!+#REF!+#REF!+#REF!+#REF!+#REF!+#REF!+#REF!+#REF!+#REF!+#REF!+#REF!+#REF!+#REF!+#REF!+#REF!+#REF!+#REF!+#REF!+#REF!+#REF!+#REF!+#REF!+#REF!+#REF!+#REF!+#REF!+#REF!+#REF!+#REF!","v":{"$error":"#REF!"}},{"$f":"#REF!+#REF!+#REF!+#REF!+#REF!+#REF!+#REF!+#REF!+#REF!+#REF!+#REF!+#REF!+#REF!+#REF!+#REF!+#REF!+#REF!+#REF!+#REF!+#REF!+#REF!+#REF!+#REF!+#REF!+#REF!+#REF!+#REF!+#REF!+#REF!+#REF!+#REF!+#REF!+#REF!","v":{"$error":"#REF!"}},{"$f":"'9_Per Pupil Summary'!L69","v":1896.552018689898},{"$f":"#REF!+#REF!+#REF!+#REF!+#REF!+#REF!+#REF!+#REF!+#REF!+#REF!+#REF!+#REF!+#REF!+#REF!+#REF!+#REF!+#REF!+#REF!+#REF!+#REF!+#REF!+#REF!+#REF!+#REF!+#REF!+#REF!+#REF!+#REF!+#REF!+#REF!+#REF!+#REF!+#REF!","v":{"$error":"#REF!"}},{"$f":"#REF!+#REF!+#REF!+#REF!+#REF!+#REF!+#REF!+#REF!+#REF!+#REF!+#REF!+#REF!+#REF!+#REF!+#REF!+#REF!+#REF!+#REF!+#REF!+#REF!+#REF!+#REF!+#REF!+#REF!+#REF!+#REF!+#REF!+#REF!+#REF!+#REF!+#REF!+#REF!+#REF!","v":{"$error":"#REF!"}},{"$f":"#REF!+#REF!","v":{"$error":"#REF!"}},{"$f":"#REF!+#REF!+#REF!+#REF!+#REF!+#REF!+#REF!+#REF!+#REF!+#REF!+#REF!+#REF!+#REF!+#REF!+#REF!+#REF!+#REF!+#REF!+#REF!+#REF!+#REF!+#REF!+#REF!+#REF!+#REF!+#REF!+#REF!+#REF!+#REF!+#REF!+#REF!+#REF!+#REF!","v":{"$error":"#REF!"}},{"$f":"#REF!+#REF!+#REF!+#REF!+#REF!+#REF!+#REF!+#REF!+#REF!+#REF!+#REF!+#REF!+#REF!+#REF!+#REF!+#REF!+#REF!+#REF!+#REF!+#REF!+#REF!+#REF!+#REF!+#REF!+#REF!+#REF!+#REF!+#REF!+#REF!+#REF!+#REF!+#REF!+#REF!","v":{"$error":"#REF!"}},{"$f":"#REF!+#REF!+#REF!+#REF!+#REF!+#REF!+#REF!+#REF!+#REF!+#REF!+#REF!+#REF!+#REF!+#REF!+#REF!+#REF!+#REF!+#REF!+#REF!+#REF!+#REF!+#REF!+#REF!+#REF!+#REF!+#REF!+#REF!+#REF!+#REF!+#REF!+#REF!+#REF!+#REF!","v":{"$error":"#REF!"}},{"$f":"#REF!+#REF!+#REF!+#REF!+#REF!+#REF!+#REF!+#REF!+#REF!+#REF!+#REF!+#REF!+#REF!+#REF!+#REF!+#REF!+#REF!+#REF!+#REF!+#REF!+#REF!+#REF!+#REF!+#REF!+#REF!+#REF!+#REF!+#REF!+#REF!+#REF!+#REF!+#REF!+#REF!","v":{"$error":"#REF!"}},{"$f":"#REF!+#REF!+#REF!+#REF!+#REF!+#REF!+#REF!+#REF!+#REF!+#REF!+#REF!+#REF!+#REF!+#REF!+#REF!+#REF!+#REF!+#REF!+#REF!+#REF!+#REF!+#REF!+#REF!+#REF!+#REF!+#REF!+#REF!+#REF!+#REF!+#REF!+#REF!+#REF!+#REF!","v":{"$error":"#REF!"}},{"$f":"#REF!+#REF!+#REF!+#REF!+#REF!+#REF!+#REF!+#REF!+#REF!+#REF!+#REF!+#REF!+#REF!+#REF!+#REF!+#REF!+#REF!+#REF!+#REF!+#REF!+#REF!+#REF!+#REF!+#REF!+#REF!+#REF!+#REF!+#REF!+#REF!+#REF!+#REF!+#REF!+#REF!","v":{"$error":"#REF!"}},{"$f":"#REF!+#REF!+#REF!+#REF!+#REF!+#REF!+#REF!+#REF!+#REF!+#REF!+#REF!+#REF!+#REF!+#REF!+#REF!+#REF!+#REF!+#REF!+#REF!+#REF!+#REF!+#REF!+#REF!+#REF!+#REF!+#REF!+#REF!+#REF!+#REF!+#REF!+#REF!+#REF!+#REF!","v":{"$error":"#REF!"}},{"$f":"#REF!+#REF!+#REF!+#REF!+#REF!+#REF!+#REF!+#REF!+#REF!+#REF!+#REF!+#REF!+#REF!+#REF!+#REF!+#REF!+#REF!+#REF!+#REF!+#REF!+#REF!+#REF!+#REF!+#REF!+#REF!+#REF!+#REF!+#REF!+#REF!+#REF!+#REF!+#REF!+#REF!","v":{"$error":"#REF!"}},{"$f":"#REF!+#REF!+#REF!+#REF!+#REF!+#REF!+#REF!+#REF!+#REF!+#REF!+#REF!+#REF!+#REF!+#REF!+#REF!+#REF!+#REF!+#REF!+#REF!+#REF!+#REF!+#REF!+#REF!+#REF!+#REF!+#REF!+#REF!+#REF!+#REF!+#REF!+#REF!+#REF!+#REF!","v":{"$error":"#REF!"}},{"$f":"#REF!+#REF!+#REF!+#REF!+#REF!+#REF!+#REF!+#REF!+#REF!+#REF!+#REF!+#REF!+#REF!+#REF!+#REF!+#REF!+#REF!+#REF!+#REF!+#REF!+#REF!+#REF!+#REF!+#REF!+#REF!+#REF!+#REF!+#REF!+#REF!+#REF!+#REF!+#REF!+#REF!","v":{"$error":"#REF!"}},{"$f":"#REF!+#REF!+#REF!+#REF!+#REF!+#REF!+#REF!+#REF!+#REF!+#REF!+#REF!+#REF!+#REF!+#REF!+#REF!+#REF!+#REF!+#REF!+#REF!+#REF!+#REF!+#REF!+#REF!+#REF!+#REF!+#REF!+#REF!+#REF!+#REF!+#REF!+#REF!+#REF!+#REF!","v":{"$error":"#REF!"}},{"$f":"#REF!+#REF!+#REF!+#REF!+#REF!+#REF!+#REF!+#REF!+#REF!+#REF!+#REF!+#REF!+#REF!+#REF!+#REF!+#REF!+#REF!+#REF!+#REF!+#REF!+#REF!+#REF!+#REF!+#REF!+#REF!+#REF!+#REF!+#REF!+#REF!+#REF!+#REF!+#REF!+#REF!","v":{"$error":"#REF!"}},{"$f":"'9_Per Pupil Summary'!N69","v":4291},{"$f":"#REF!+#REF!+#REF!+#REF!+#REF!+#REF!+#REF!+#REF!+#REF!+#REF!+#REF!+#REF!+#REF!+#REF!+#REF!+#REF!+#REF!+#REF!+#REF!+#REF!+#REF!+#REF!+#REF!+#REF!+#REF!+#REF!+#REF!+#REF!+#REF!+#REF!+#REF!+#REF!+#REF!","v":{"$error":"#REF!"}},{"$f":"#REF!+#REF!+#REF!+#REF!+#REF!+#REF!+#REF!+#REF!+#REF!+#REF!+#REF!+#REF!+#REF!+#REF!+#REF!+#REF!+#REF!+#REF!+#REF!+#REF!+#REF!+#REF!+#REF!+#REF!+#REF!+#REF!+#REF!+#REF!+#REF!+#REF!+#REF!+#REF!+#REF!","v":{"$error":"#REF!"}},{"$f":"#REF!+#REF!+#REF!+#REF!+#REF!+#REF!+#REF!+#REF!+#REF!+#REF!+#REF!+#REF!+#REF!+#REF!+#REF!+#REF!+#REF!+#REF!+#REF!+#REF!+#REF!+#REF!+#REF!+#REF!+#REF!+#REF!+#REF!+#REF!+#REF!+#REF!+#REF!+#REF!+#REF!","v":{"$error":"#REF!"}},{"$f":"#REF!+#REF!+#REF!+#REF!+#REF!+#REF!+#REF!+#REF!+#REF!+#REF!+#REF!+#REF!+#REF!+#REF!+#REF!+#REF!+#REF!+#REF!+#REF!+#REF!+#REF!+#REF!+#REF!+#REF!+#REF!+#REF!+#REF!+#REF!+#REF!+#REF!+#REF!+#REF!+#REF!","v":{"$error":"#REF!"}},{"$f":"#REF!+#REF!+#REF!+#REF!+#REF!+#REF!+#REF!+#REF!+#REF!+#REF!+#REF!+#REF!+#REF!+#REF!+#REF!+#REF!+#REF!+#REF!+#REF!+#REF!+#REF!+#REF!+#REF!+#REF!+#REF!+#REF!+#REF!+#REF!+#REF!+#REF!+#REF!+#REF!+#REF!","v":{"$error":"#REF!"}},{"$f":"#REF!+#REF!+#REF!+#REF!+#REF!+#REF!+#REF!+#REF!+#REF!+#REF!+#REF!+#REF!+#REF!+#REF!+#REF!+#REF!+#REF!+#REF!+#REF!+#REF!+#REF!+#REF!+#REF!+#REF!+#REF!+#REF!+#REF!+#REF!+#REF!+#REF!+#REF!+#REF!+#REF!","v":{"$error":"#REF!"}},{"$f":"#REF!+#REF!+#REF!+#REF!+#REF!+#REF!+#REF!+#REF!+#REF!+#REF!+#REF!+#REF!+#REF!+#REF!+#REF!+#REF!+#REF!+#REF!+#REF!+#REF!+#REF!+#REF!+#REF!+#REF!+#REF!+#REF!+#REF!+#REF!+#REF!+#REF!+#REF!+#REF!+#REF!","v":{"$error":"#REF!"}},{"$f":"#REF!+#REF!+#REF!+#REF!+#REF!+#REF!+#REF!+#REF!+#REF!+#REF!+#REF!+#REF!+#REF!+#REF!+#REF!+#REF!+#REF!+#REF!+#REF!+#REF!+#REF!+#REF!+#REF!+#REF!+#REF!+#REF!+#REF!+#REF!+#REF!+#REF!+#REF!+#REF!+#REF!","v":{"$error":"#REF!"}},{"$f":"#REF!+#REF!+#REF!+#REF!+#REF!+#REF!+#REF!+#REF!+#REF!+#REF!+#REF!+#REF!+#REF!+#REF!+#REF!+#REF!+#REF!+#REF!+#REF!+#REF!+#REF!+#REF!+#REF!+#REF!+#REF!+#REF!+#REF!+#REF!+#REF!+#REF!+#REF!+#REF!+#REF!","v":{"$error":"#REF!"}},{"$f":"#REF!+#REF!+#REF!+#REF!+#REF!+#REF!+#REF!+#REF!+#REF!+#REF!+#REF!+#REF!+#REF!+#REF!+#REF!+#REF!+#REF!+#REF!+#REF!+#REF!+#REF!+#REF!+#REF!+#REF!+#REF!+#REF!+#REF!+#REF!+#REF!+#REF!+#REF!+#REF!+#REF!","v":{"$error":"#REF!"}},{"$f":"#REF!+#REF!+#REF!+#REF!+#REF!+#REF!+#REF!+#REF!+#REF!+#REF!+#REF!+#REF!+#REF!+#REF!+#REF!+#REF!+#REF!+#REF!+#REF!+#REF!+#REF!+#REF!+#REF!+#REF!+#REF!+#REF!+#REF!+#REF!+#REF!+#REF!+#REF!+#REF!+#REF!","v":{"$error":"#REF!"}},{"$f":"#REF!+#REF!+#REF!+#REF!+#REF!+#REF!+#REF!+#REF!+#REF!+#REF!+#REF!+#REF!+#REF!+#REF!+#REF!+#REF!+#REF!+#REF!+#REF!+#REF!+#REF!+#REF!+#REF!+#REF!+#REF!+#REF!+#REF!+#REF!+#REF!+#REF!+#REF!+#REF!+#REF!","v":{"$error":"#REF!"}},{"$f":"#REF!+#REF!+#REF!+#REF!+#REF!+#REF!+#REF!+#REF!+#REF!+#REF!+#REF!+#REF!+#REF!+#REF!+#REF!+#REF!+#REF!+#REF!+#REF!+#REF!+#REF!+#REF!+#REF!+#REF!+#REF!+#REF!+#REF!+#REF!+#REF!+#REF!+#REF!+#REF!+#REF!","v":{"$error":"#REF!"}},{"$f":"#REF!+#REF!+#REF!+#REF!+#REF!+#REF!+#REF!+#REF!+#REF!+#REF!+#REF!+#REF!+#REF!+#REF!+#REF!+#REF!+#REF!+#REF!+#REF!+#REF!+#REF!+#REF!+#REF!+#REF!+#REF!+#REF!+#REF!+#REF!+#REF!+#REF!+#REF!+#REF!+#REF!","v":{"$error":"#REF!"}},{"$error":"#REF!"},{"$error":"#REF!"},{"$f":"#REF!+#REF!+#REF!+#REF!+#REF!+#REF!+#REF!+#REF!+#REF!+#REF!+#REF!+#REF!+#REF!+#REF!+#REF!+#REF!+#REF!+#REF!+#REF!+#REF!+#REF!+#REF!+#REF!+#REF!+#REF!+#REF!+#REF!+#REF!+#REF!+#REF!+#REF!+#REF!+#REF!","v":{"$error":"#REF!"}},null,{"$error":"#REF!"}]
[65,"City of Monroe",{"$f":"#REF!+#REF!+#REF!+#REF!+#REF!+#REF!+#REF!+#REF!+#REF!+#REF!+#REF!+#REF!+#REF!+#REF!+#REF!+#REF!+#REF!+#REF!+#REF!+#REF!+#REF!+#REF!+#REF!+#REF!+#REF!+#REF!+#REF!+#REF!+#REF!+#REF!+#REF!+#REF!+#REF!","v":{"$error":"#REF!"}},{"$f":"'9_Per Pupil Summary'!H70","v":4641.6627523941124},{"$f":"#REF!+#REF!+#REF!+#REF!+#REF!+#REF!+#REF!+#REF!+#REF!+#REF!+#REF!+#REF!+#REF!+#REF!+#REF!+#REF!+#REF!+#REF!+#REF!+#REF!+#REF!+#REF!+#REF!+#REF!+#REF!+#REF!+#REF!+#REF!+#REF!+#REF!+#REF!+#REF!+#REF!","v":{"$error":"#REF!"}},{"$f":"#REF!+#REF!+#REF!+#REF!+#REF!+#REF!+#REF!+#REF!+#REF!+#REF!+#REF!+#REF!+#REF!+#REF!+#REF!+#REF!+#REF!+#REF!+#REF!+#REF!+#REF!+#REF!+#REF!+#REF!+#REF!+#REF!+#REF!+#REF!+#REF!+#REF!+#REF!+#REF!+#REF!","v":{"$error":"#REF!"}},{"$f":"'9_Per Pupil Summary'!I70","v":600.51036607998344},{"$f":"#REF!+#REF!+#REF!+#REF!+#REF!+#REF!+#REF!+#REF!+#REF!+#REF!+#REF!+#REF!+#REF!+#REF!+#REF!+#REF!+#REF!+#REF!+#REF!+#REF!+#REF!+#REF!+#REF!+#REF!+#REF!+#REF!+#REF!+#REF!+#REF!+#REF!+#REF!+#REF!+#REF!","v":{"$error":"#REF!"}},{"$f":"#REF!+#REF!+#REF!+#REF!+#REF!+#REF!+#REF!+#REF!+#REF!+#REF!+#REF!+#REF!+#REF!+#REF!+#REF!+#REF!+#REF!+#REF!+#REF!+#REF!+#REF!+#REF!+#REF!+#REF!+#REF!+#REF!+#REF!+#REF!+#REF!+#REF!+#REF!+#REF!+#REF!","v":{"$error":"#REF!"}},{"$f":"'9_Per Pupil Summary'!J70","v":163.77555438545005},{"$f":"#REF!+#REF!+#REF!+#REF!+#REF!+#REF!+#REF!+#REF!+#REF!+#REF!+#REF!+#REF!+#REF!+#REF!+#REF!+#REF!+#REF!+#REF!+#REF!+#REF!+#REF!+#REF!+#REF!+#REF!+#REF!+#REF!+#REF!+#REF!+#REF!+#REF!+#REF!+#REF!+#REF!","v":{"$error":"#REF!"}},{"$f":"#REF!+#REF!+#REF!+#REF!+#REF!+#REF!+#REF!+#REF!+#REF!+#REF!+#REF!+#REF!+#REF!+#REF!+#REF!+#REF!+#REF!+#REF!+#REF!+#REF!+#REF!+#REF!+#REF!+#REF!+#REF!+#REF!+#REF!+#REF!+#REF!+#REF!+#REF!+#REF!+#REF!","v":{"$error":"#REF!"}},{"$f":"'9_Per Pupil Summary'!K70","v":4094.3888596362513},{"$f":"#REF!+#REF!+#REF!+#REF!+#REF!+#REF!+#REF!+#REF!+#REF!+#REF!+#REF!+#REF!+#REF!+#REF!+#REF!+#REF!+#REF!+#REF!+#REF!+#REF!+#REF!+#REF!+#REF!+#REF!+#REF!+#REF!+#REF!+#REF!+#REF!+#REF!+#REF!+#REF!+#REF!","v":{"$error":"#REF!"}},{"$f":"#REF!+#REF!+#REF!+#REF!+#REF!+#REF!+#REF!+#REF!+#REF!+#REF!+#REF!+#REF!+#REF!+#REF!+#REF!+#REF!+#REF!+#REF!+#REF!+#REF!+#REF!+#REF!+#REF!+#REF!+#REF!+#REF!+#REF!+#REF!+#REF!+#REF!+#REF!+#REF!+#REF!","v":{"$error":"#REF!"}},{"$f":"'9_Per Pupil Summary'!L70","v":1637.7555438545},{"$f":"#REF!+#REF!+#REF!+#REF!+#REF!+#REF!+#REF!+#REF!+#REF!+#REF!+#REF!+#REF!+#REF!+#REF!+#REF!+#REF!+#REF!+#REF!+#REF!+#REF!+#REF!+#REF!+#REF!+#REF!+#REF!+#REF!+#REF!+#REF!+#REF!+#REF!+#REF!+#REF!+#REF!","v":{"$error":"#REF!"}},{"$f":"#REF!+#REF!+#REF!+#REF!+#REF!+#REF!+#REF!+#REF!+#REF!+#REF!+#REF!+#REF!+#REF!+#REF!+#REF!+#REF!+#REF!+#REF!+#REF!+#REF!+#REF!+#REF!+#REF!+#REF!+#REF!+#REF!+#REF!+#REF!+#REF!+#REF!+#REF!+#REF!+#REF!","v":{"$error":"#REF!"}},{"$f":"#REF!+#REF!","v":{"$error":"#REF!"}},{"$f":"#REF!+#REF!+#REF!+#REF!+#REF!+#REF!+#REF!+#REF!+#REF!+#REF!+#REF!+#REF!+#REF!+#REF!+#REF!+#REF!+#REF!+#REF!+#REF!+#REF!+#REF!+#REF!+#REF!+#REF!+#REF!+#REF!+#REF!+#REF!+#REF!+#REF!+#REF!+#REF!+#REF!","v":{"$error":"#REF!"}},{"$f":"#REF!+#REF!+#REF!+#REF!+#REF!+#REF!+#REF!+#REF!+#REF!+#REF!+#REF!+#REF!+#REF!+#REF!+#REF!+#REF!+#REF!+#REF!+#REF!+#REF!+#REF!+#REF!+#REF!+#REF!+#REF!+#REF!+#REF!+#REF!+#REF!+#REF!+#REF!+#REF!+#REF!","v":{"$error":"#REF!"}},{"$f":"#REF!+#REF!+#REF!+#REF!+#REF!+#REF!+#REF!+#REF!+#REF!+#REF!+#REF!+#REF!+#REF!+#REF!+#REF!+#REF!+#REF!+#REF!+#REF!+#REF!+#REF!+#REF!+#REF!+#REF!+#REF!+#REF!+#REF!+#REF!+#REF!+#REF!+#REF!+#REF!+#REF!","v":{"$error":"#REF!"}},{"$f":"#REF!+#REF!+#REF!+#REF!+#REF!+#REF!+#REF!+#REF!+#REF!+#REF!+#REF!+#REF!+#REF!+#REF!+#REF!+#REF!+#REF!+#REF!+#REF!+#REF!+#REF!+#REF!+#REF!+#REF!+#REF!+#REF!+#REF!+#REF!+#REF!+#REF!+#REF!+#REF!+#REF!","v":{"$error":"#REF!"}},{"$f":"#REF!+#REF!+#REF!+#REF!+#REF!+#REF!+#REF!+#REF!+#REF!+#REF!+#REF!+#REF!+#REF!+#REF!+#REF!+#REF!+#REF!+#REF!+#REF!+#REF!+#REF!+#REF!+#REF!+#REF!+#REF!+#REF!+#REF!+#REF!+#REF!+#REF!+#REF!+#REF!+#REF!","v":{"$error":"#REF!"}},{"$f":"#REF!+#REF!+#REF!+#REF!+#REF!+#REF!+#REF!+#REF!+#REF!+#REF!+#REF!+#REF!+#REF!+#REF!+#REF!+#REF!+#REF!+#REF!+#REF!+#REF!+#REF!+#REF!+#REF!+#REF!+#REF!+#REF!+#REF!+#REF!+#REF!+#REF!+#REF!+#REF!+#REF!","v":{"$error":"#REF!"}},{"$f":"#REF!+#REF!+#REF!+#REF!+#REF!+#REF!+#REF!+#REF!+#REF!+#REF!+#REF!+#REF!+#REF!+#REF!+#REF!+#REF!+#REF!+#REF!+#REF!+#REF!+#REF!+#REF!+#REF!+#REF!+#REF!+#REF!+#REF!+#REF!+#REF!+#REF!+#REF!+#REF!+#REF!","v":{"$error":"#REF!"}},{"$f":"#REF!+#REF!+#REF!+#REF!+#REF!+#REF!+#REF!+#REF!+#REF!+#REF!+#REF!+#REF!+#REF!+#REF!+#REF!+#REF!+#REF!+#REF!+#REF!+#REF!+#REF!+#REF!+#REF!+#REF!+#REF!+#REF!+#REF!+#REF!+#REF!+#REF!+#REF!+#REF!+#REF!","v":{"$error":"#REF!"}},{"$f":"#REF!+#REF!+#REF!+#REF!+#REF!+#REF!+#REF!+#REF!+#REF!+#REF!+#REF!+#REF!+#REF!+#REF!+#REF!+#REF!+#REF!+#REF!+#REF!+#REF!+#REF!+#REF!+#REF!+#REF!+#REF!+#REF!+#REF!+#REF!+#REF!+#REF!+#REF!+#REF!+#REF!","v":{"$error":"#REF!"}},{"$f":"#REF!+#REF!+#REF!+#REF!+#REF!+#REF!+#REF!+#REF!+#REF!+#REF!+#REF!+#REF!+#REF!+#REF!+#REF!+#REF!+#REF!+#REF!+#REF!+#REF!+#REF!+#REF!+#REF!+#REF!+#REF!+#REF!+#REF!+#REF!+#REF!+#REF!+#REF!+#REF!+#REF!","v":{"$error":"#REF!"}},{"$f":"#REF!+#REF!+#REF!+#REF!+#REF!+#REF!+#REF!+#REF!+#REF!+#REF!+#REF!+#REF!+#REF!+#REF!+#REF!+#REF!+#REF!+#REF!+#REF!+#REF!+#REF!+#REF!+#REF!+#REF!+#REF!+#REF!+#REF!+#REF!+#REF!+#REF!+#REF!+#REF!+#REF!","v":{"$error":"#REF!"}},{"$f":"#REF!+#REF!+#REF!+#REF!+#REF!+#REF!+#REF!+#REF!+#REF!+#REF!+#REF!+#REF!+#REF!+#REF!+#REF!+#REF!+#REF!+#REF!+#REF!+#REF!+#REF!+#REF!+#REF!+#REF!+#REF!+#REF!+#REF!+#REF!+#REF!+#REF!+#REF!+#REF!+#REF!","v":{"$error":"#REF!"}},{"$f":"'9_Per Pupil Summary'!N70","v":6166},{"$f":"#REF!+#REF!+#REF!+#REF!+#REF!+#REF!+#REF!+#REF!+#REF!+#REF!+#REF!+#REF!+#REF!+#REF!+#REF!+#REF!+#REF!+#REF!+#REF!+#REF!+#REF!+#REF!+#REF!+#REF!+#REF!+#REF!+#REF!+#REF!+#REF!+#REF!+#REF!+#REF!+#REF!","v":{"$error":"#REF!"}},{"$f":"#REF!+#REF!+#REF!+#REF!+#REF!+#REF!+#REF!+#REF!+#REF!+#REF!+#REF!+#REF!+#REF!+#REF!+#REF!+#REF!+#REF!+#REF!+#REF!+#REF!+#REF!+#REF!+#REF!+#REF!+#REF!+#REF!+#REF!+#REF!+#REF!+#REF!+#REF!+#REF!+#REF!","v":{"$error":"#REF!"}},{"$f":"#REF!+#REF!+#REF!+#REF!+#REF!+#REF!+#REF!+#REF!+#REF!+#REF!+#REF!+#REF!+#REF!+#REF!+#REF!+#REF!+#REF!+#REF!+#REF!+#REF!+#REF!+#REF!+#REF!+#REF!+#REF!+#REF!+#REF!+#REF!+#REF!+#REF!+#REF!+#REF!+#REF!","v":{"$error":"#REF!"}},{"$f":"#REF!+#REF!+#REF!+#REF!+#REF!+#REF!+#REF!+#REF!+#REF!+#REF!+#REF!+#REF!+#REF!+#REF!+#REF!+#REF!+#REF!+#REF!+#REF!+#REF!+#REF!+#REF!+#REF!+#REF!+#REF!+#REF!+#REF!+#REF!+#REF!+#REF!+#REF!+#REF!+#REF!","v":{"$error":"#REF!"}},{"$f":"#REF!+#REF!+#REF!+#REF!+#REF!+#REF!+#REF!+#REF!+#REF!+#REF!+#REF!+#REF!+#REF!+#REF!+#REF!+#REF!+#REF!+#REF!+#REF!+#REF!+#REF!+#REF!+#REF!+#REF!+#REF!+#REF!+#REF!+#REF!+#REF!+#REF!+#REF!+#REF!+#REF!","v":{"$error":"#REF!"}},{"$f":"#REF!+#REF!+#REF!+#REF!+#REF!+#REF!+#REF!+#REF!+#REF!+#REF!+#REF!+#REF!+#REF!+#REF!+#REF!+#REF!+#REF!+#REF!+#REF!+#REF!+#REF!+#REF!+#REF!+#REF!+#REF!+#REF!+#REF!+#REF!+#REF!+#REF!+#REF!+#REF!+#REF!","v":{"$error":"#REF!"}},{"$f":"#REF!+#REF!+#REF!+#REF!+#REF!+#REF!+#REF!+#REF!+#REF!+#REF!+#REF!+#REF!+#REF!+#REF!+#REF!+#REF!+#REF!+#REF!+#REF!+#REF!+#REF!+#REF!+#REF!+#REF!+#REF!+#REF!+#REF!+#REF!+#REF!+#REF!+#REF!+#REF!+#REF!","v":{"$error":"#REF!"}},{"$f":"#REF!+#REF!+#REF!+#REF!+#REF!+#REF!+#REF!+#REF!+#REF!+#REF!+#REF!+#REF!+#REF!+#REF!+#REF!+#REF!+#REF!+#REF!+#REF!+#REF!+#REF!+#REF!+#REF!+#REF!+#REF!+#REF!+#REF!+#REF!+#REF!+#REF!+#REF!+#REF!+#REF!","v":{"$error":"#REF!"}},{"$f":"#REF!+#REF!+#REF!+#REF!+#REF!+#REF!+#REF!+#REF!+#REF!+#REF!+#REF!+#REF!+#REF!+#REF!+#REF!+#REF!+#REF!+#REF!+#REF!+#REF!+#REF!+#REF!+#REF!+#REF!+#REF!+#REF!+#REF!+#REF!+#REF!+#REF!+#REF!+#REF!+#REF!","v":{"$error":"#REF!"}},{"$f":"#REF!+#REF!+#REF!+#REF!+#REF!+#REF!+#REF!+#REF!+#REF!+#REF!+#REF!+#REF!+#REF!+#REF!+#REF!+#REF!+#REF!+#REF!+#REF!+#REF!+#REF!+#REF!+#REF!+#REF!+#REF!+#REF!+#REF!+#REF!+#REF!+#REF!+#REF!+#REF!+#REF!","v":{"$error":"#REF!"}},{"$f":"#REF!+#REF!+#REF!+#REF!+#REF!+#REF!+#REF!+#REF!+#REF!+#REF!+#REF!+#REF!+#REF!+#REF!+#REF!+#REF!+#REF!+#REF!+#REF!+#REF!+#REF!+#REF!+#REF!+#REF!+#REF!+#REF!+#REF!+#REF!+#REF!+#REF!+#REF!+#REF!+#REF!","v":{"$error":"#REF!"}},{"$f":"#REF!+#REF!+#REF!+#REF!+#REF!+#REF!+#REF!+#REF!+#REF!+#REF!+#REF!+#REF!+#REF!+#REF!+#REF!+#REF!+#REF!+#REF!+#REF!+#REF!+#REF!+#REF!+#REF!+#REF!+#REF!+#REF!+#REF!+#REF!+#REF!+#REF!+#REF!+#REF!+#REF!","v":{"$error":"#REF!"}},{"$f":"#REF!+#REF!+#REF!+#REF!+#REF!+#REF!+#REF!+#REF!+#REF!+#REF!+#REF!+#REF!+#REF!+#REF!+#REF!+#REF!+#REF!+#REF!+#REF!+#REF!+#REF!+#REF!+#REF!+#REF!+#REF!+#REF!+#REF!+#REF!+#REF!+#REF!+#REF!+#REF!+#REF!","v":{"$error":"#REF!"}},{"$f":"#REF!+#REF!+#REF!+#REF!+#REF!+#REF!+#REF!+#REF!+#REF!+#REF!+#REF!+#REF!+#REF!+#REF!+#REF!+#REF!+#REF!+#REF!+#REF!+#REF!+#REF!+#REF!+#REF!+#REF!+#REF!+#REF!+#REF!+#REF!+#REF!+#REF!+#REF!+#REF!+#REF!","v":{"$error":"#REF!"}},{"$error":"#REF!"},{"$error":"#REF!"},{"$f":"#REF!+#REF!+#REF!+#REF!+#REF!+#REF!+#REF!+#REF!+#REF!+#REF!+#REF!+#REF!+#REF!+#REF!+#REF!+#REF!+#REF!+#REF!+#REF!+#REF!+#REF!+#REF!+#REF!+#REF!+#REF!+#REF!+#REF!+#REF!+#REF!+#REF!+#REF!+#REF!+#REF!","v":{"$error":"#REF!"}},null,{"$error":"#REF!"}]
[66,"City of Bogalusa",{"$f":"#REF!+#REF!+#REF!+#REF!+#REF!+#REF!+#REF!+#REF!+#REF!+#REF!+#REF!+#REF!+#REF!+#REF!+#REF!+#REF!+#REF!+#REF!+#REF!+#REF!+#REF!+#REF!+#REF!+#REF!+#REF!+#REF!+#REF!+#REF!+#REF!+#REF!+#REF!+#REF!+#REF!","v":{"$error":"#REF!"}},{"$f":"'9_Per Pupil Summary'!H71","v":4850.1927243488626},{"$f":"#REF!+#REF!+#REF!+#REF!+#REF!+#REF!+#REF!+#REF!+#REF!+#REF!+#REF!+#REF!+#REF!+#REF!+#REF!+#REF!+#REF!+#REF!+#REF!+#REF!+#REF!+#REF!+#REF!+#REF!+#REF!+#REF!+#REF!+#REF!+#REF!+#REF!+#REF!+#REF!+#REF!","v":{"$error":"#REF!"}},{"$f":"#REF!+#REF!+#REF!+#REF!+#REF!+#REF!+#REF!+#REF!+#REF!+#REF!+#REF!+#REF!+#REF!+#REF!+#REF!+#REF!+#REF!+#REF!+#REF!+#REF!+#REF!+#REF!+#REF!+#REF!+#REF!+#REF!+#REF!+#REF!+#REF!+#REF!+#REF!+#REF!+#REF!","v":{"$error":"#REF!"}},{"$f":"'9_Per Pupil Summary'!I71","v":619.12013398667932},{"$f":"#REF!+#REF!+#REF!+#REF!+#REF!+#REF!+#REF!+#REF!+#REF!+#REF!+#REF!+#REF!+#REF!+#REF!+#REF!+#REF!+#REF!+#REF!+#REF!+#REF!+#REF!+#REF!+#REF!+#REF!+#REF!+#REF!+#REF!+#REF!+#REF!+#REF!+#REF!+#REF!+#REF!","v":{"$error":"#REF!"}},{"$f":"#REF!+#REF!+#REF!+#REF!+#REF!+#REF!+#REF!+#REF!+#REF!+#REF!+#REF!+#REF!+#REF!+#REF!+#REF!+#REF!+#REF!+#REF!+#REF!+#REF!+#REF!+#REF!+#REF!+#REF!+#REF!+#REF!+#REF!+#REF!+#REF!+#REF!+#REF!+#REF!+#REF!","v":{"$error":"#REF!"}},{"$f":"'9_Per Pupil Summary'!J71","v":168.85094563273069},{"$f":"#REF!+#REF!+#REF!+#REF!+#REF!+#REF!+#REF!+#REF!+#REF!+#REF!+#REF!+#REF!+#REF!+#REF!+#REF!+#REF!+#REF!+#REF!+#REF!+#REF!+#REF!+#REF!+#REF!+#REF!+#REF!+#REF!+#REF!+#REF!+#REF!+#REF!+#REF!+#REF!+#REF!","v":{"$error":"#REF!"}},{"$f":"#REF!+#REF!+#REF!+#REF!+#REF!+#REF!+#REF!+#REF!+#REF!+#REF!+#REF!+#REF!+#REF!+#REF!+#REF!+#REF!+#REF!+#REF!+#REF!+#REF!+#REF!+#REF!+#REF!+#REF!+#REF!+#REF!+#REF!+#REF!+#REF!+#REF!+#REF!+#REF!+#REF!","v":{"$error":"#REF!"}},{"$f":"'9_Per Pupil Summary'!K71","v":4221.2736408182673},{"$f":"#REF!+#REF!+#REF!+#REF!+#REF!+#REF!+#REF!+#REF!+#REF!+#REF!+#REF!+#REF!+#REF!+#REF!+#REF!+#REF!+#REF!+#REF!+#REF!+#REF!+#REF!+#REF!+#REF!+#REF!+#REF!+#REF!+#REF!+#REF!+#REF!+#REF!+#REF!+#REF!+#REF!","v":{"$error":"#REF!"}},{"$f":"#REF!+#REF!+#REF!+#REF!+#REF!+#REF!+#REF!+#REF!+#REF!+#REF!+#REF!+#REF!+#REF!+#REF!+#REF!+#REF!+#REF!+#REF!+#REF!+#REF!+#REF!+#REF!+#REF!+#REF!+#REF!+#REF!+#REF!+#REF!+#REF!+#REF!+#REF!+#REF!+#REF!","v":{"$error":"#REF!"}},{"$f":"'9_Per Pupil Summary'!L71","v":1688.5094563273071},{"$f":"#REF!+#REF!+#REF!+#REF!+#REF!+#REF!+#REF!+#REF!+#REF!+#REF!+#REF!+#REF!+#REF!+#REF!+#REF!+#REF!+#REF!+#REF!+#REF!+#REF!+#REF!+#REF!+#REF!+#REF!+#REF!+#REF!+#REF!+#REF!+#REF!+#REF!+#REF!+#REF!+#REF!","v":{"$error":"#REF!"}},{"$f":"#REF!+#REF!+#REF!+#REF!+#REF!+#REF!+#REF!+#REF!+#REF!+#REF!+#REF!+#REF!+#REF!+#REF!+#REF!+#REF!+#REF!+#REF!+#REF!+#REF!+#REF!+#REF!+#REF!+#REF!+#REF!+#REF!+#REF!+#REF!+#REF!+#REF!+#REF!+#REF!+#REF!","v":{"$error":"#REF!"}},{"$f":"#REF!+#REF!","v":{"$error":"#REF!"}},{"$f":"#REF!+#REF!+#REF!+#REF!+#REF!+#REF!+#REF!+#REF!+#REF!+#REF!+#REF!+#REF!+#REF!+#REF!+#REF!+#REF!+#REF!+#REF!+#REF!+#REF!+#REF!+#REF!+#REF!+#REF!+#REF!+#REF!+#REF!+#REF!+#REF!+#REF!+#REF!+#REF!+#REF!","v":{"$error":"#REF!"}},{"$f":"#REF!+#REF!+#REF!+#REF!+#REF!+#REF!+#REF!+#REF!+#REF!+#REF!+#REF!+#REF!+#REF!+#REF!+#REF!+#REF!+#REF!+#REF!+#REF!+#REF!+#REF!+#REF!+#REF!+#REF!+#REF!+#REF!+#REF!+#REF!+#REF!+#REF!+#REF!+#REF!+#REF!","v":{"$error":"#REF!"}},{"$f":"#REF!+#REF!+#REF!+#REF!+#REF!+#REF!+#REF!+#REF!+#REF!+#REF!+#REF!+#REF!+#REF!+#REF!+#REF!+#REF!+#REF!+#REF!+#REF!+#REF!+#REF!+#REF!+#REF!+#REF!+#REF!+#REF!+#REF!+#REF!+#REF!+#REF!+#REF!+#REF!+#REF!","v":{"$error":"#REF!"}},{"$f":"#REF!+#REF!+#REF!+#REF!+#REF!+#REF!+#REF!+#REF!+#REF!+#REF!+#REF!+#REF!+#REF!+#REF!+#REF!+#REF!+#REF!+#REF!+#REF!+#REF!+#REF!+#REF!+#REF!+#REF!+#REF!+#REF!+#REF!+#REF!+#REF!+#REF!+#REF!+#REF!+#REF!","v":{"$error":"#REF!"}},{"$f":"#REF!+#REF!+#REF!+#REF!+#REF!+#REF!+#REF!+#REF!+#REF!+#REF!+#REF!+#REF!+#REF!+#REF!+#REF!+#REF!+#REF!+#REF!+#REF!+#REF!+#REF!+#REF!+#REF!+#REF!+#REF!+#REF!+#REF!+#REF!+#REF!+#REF!+#REF!+#REF!+#REF!","v":{"$error":"#REF!"}},{"$f":"#REF!+#REF!+#REF!+#REF!+#REF!+#REF!+#REF!+#REF!+#REF!+#REF!+#REF!+#REF!+#REF!+#REF!+#REF!+#REF!+#REF!+#REF!+#REF!+#REF!+#REF!+#REF!+#REF!+#REF!+#REF!+#REF!+#REF!+#REF!+#REF!+#REF!+#REF!+#REF!+#REF!","v":{"$error":"#REF!"}},{"$f":"#REF!+#REF!+#REF!+#REF!+#REF!+#REF!+#REF!+#REF!+#REF!+#REF!+#REF!+#REF!+#REF!+#REF!+#REF!+#REF!+#REF!+#REF!+#REF!+#REF!+#REF!+#REF!+#REF!+#REF!+#REF!+#REF!+#REF!+#REF!+#REF!+#REF!+#REF!+#REF!+#REF!","v":{"$error":"#REF!"}},{"$f":"#REF!+#REF!+#REF!+#REF!+#REF!+#REF!+#REF!+#REF!+#REF!+#REF!+#REF!+#REF!+#REF!+#REF!+#REF!+#REF!+#REF!+#REF!+#REF!+#REF!+#REF!+#REF!+#REF!+#REF!+#REF!+#REF!+#REF!+#REF!+#REF!+#REF!+#REF!+#REF!+#REF!","v":{"$error":"#REF!"}},{"$f":"#REF!+#REF!+#REF!+#REF!+#REF!+#REF!+#REF!+#REF!+#REF!+#REF!+#REF!+#REF!+#REF!+#REF!+#REF!+#REF!+#REF!+#REF!+#REF!+#REF!+#REF!+#REF!+#REF!+#REF!+#REF!+#REF!+#REF!+#REF!+#REF!+#REF!+#REF!+#REF!+#REF!","v":{"$error":"#REF!"}},{"$f":"#REF!+#REF!+#REF!+#REF!+#REF!+#REF!+#REF!+#REF!+#REF!+#REF!+#REF!+#REF!+#REF!+#REF!+#REF!+#REF!+#REF!+#REF!+#REF!+#REF!+#REF!+#REF!+#REF!+#REF!+#REF!+#REF!+#REF!+#REF!+#REF!+#REF!+#REF!+#REF!+#REF!","v":{"$error":"#REF!"}},{"$f":"#REF!+#REF!+#REF!+#REF!+#REF!+#REF!+#REF!+#REF!+#REF!+#REF!+#REF!+#REF!+#REF!+#REF!+#REF!+#REF!+#REF!+#REF!+#REF!+#REF!+#REF!+#REF!+#REF!+#REF!+#REF!+#REF!+#REF!+#REF!+#REF!+#REF!+#REF!+#REF!+#REF!","v":{"$error":"#REF!"}},{"$f":"#REF!+#REF!+#REF!+#REF!+#REF!+#REF!+#REF!+#REF!+#REF!+#REF!+#REF!+#REF!+#REF!+#REF!+#REF!+#REF!+#REF!+#REF!+#REF!+#REF!+#REF!+#REF!+#REF!+#REF!+#REF!+#REF!+#REF!+#REF!+#REF!+#REF!+#REF!+#REF!+#REF!","v":{"$error":"#REF!"}},{"$f":"'9_Per Pupil Summary'!N71","v":5637},{"$f":"#REF!+#REF!+#REF!+#REF!+#REF!+#REF!+#REF!+#REF!+#REF!+#REF!+#REF!+#REF!+#REF!+#REF!+#REF!+#REF!+#REF!+#REF!+#REF!+#REF!+#REF!+#REF!+#REF!+#REF!+#REF!+#REF!+#REF!+#REF!+#REF!+#REF!+#REF!+#REF!+#REF!","v":{"$error":"#REF!"}},{"$f":"#REF!+#REF!+#REF!+#REF!+#REF!+#REF!+#REF!+#REF!+#REF!+#REF!+#REF!+#REF!+#REF!+#REF!+#REF!+#REF!+#REF!+#REF!+#REF!+#REF!+#REF!+#REF!+#REF!+#REF!+#REF!+#REF!+#REF!+#REF!+#REF!+#REF!+#REF!+#REF!+#REF!","v":{"$error":"#REF!"}},{"$f":"#REF!+#REF!+#REF!+#REF!+#REF!+#REF!+#REF!+#REF!+#REF!+#REF!+#REF!+#REF!+#REF!+#REF!+#REF!+#REF!+#REF!+#REF!+#REF!+#REF!+#REF!+#REF!+#REF!+#REF!+#REF!+#REF!+#REF!+#REF!+#REF!+#REF!+#REF!+#REF!+#REF!","v":{"$error":"#REF!"}},{"$f":"#REF!+#REF!+#REF!+#REF!+#REF!+#REF!+#REF!+#REF!+#REF!+#REF!+#REF!+#REF!+#REF!+#REF!+#REF!+#REF!+#REF!+#REF!+#REF!+#REF!+#REF!+#REF!+#REF!+#REF!+#REF!+#REF!+#REF!+#REF!+#REF!+#REF!+#REF!+#REF!+#REF!","v":{"$error":"#REF!"}},{"$f":"#REF!+#REF!+#REF!+#REF!+#REF!+#REF!+#REF!+#REF!+#REF!+#REF!+#REF!+#REF!+#REF!+#REF!+#REF!+#REF!+#REF!+#REF!+#REF!+#REF!+#REF!+#REF!+#REF!+#REF!+#REF!+#REF!+#REF!+#REF!+#REF!+#REF!+#REF!+#REF!+#REF!","v":{"$error":"#REF!"}},{"$f":"#REF!+#REF!+#REF!+#REF!+#REF!+#REF!+#REF!+#REF!+#REF!+#REF!+#REF!+#REF!+#REF!+#REF!+#REF!+#REF!+#REF!+#REF!+#REF!+#REF!+#REF!+#REF!+#REF!+#REF!+#REF!+#REF!+#REF!+#REF!+#REF!+#REF!+#REF!+#REF!+#REF!","v":{"$error":"#REF!"}},{"$f":"#REF!+#REF!+#REF!+#REF!+#REF!+#REF!+#REF!+#REF!+#REF!+#REF!+#REF!+#REF!+#REF!+#REF!+#REF!+#REF!+#REF!+#REF!+#REF!+#REF!+#REF!+#REF!+#REF!+#REF!+#REF!+#REF!+#REF!+#REF!+#REF!+#REF!+#REF!+#REF!+#REF!","v":{"$error":"#REF!"}},{"$f":"#REF!+#REF!+#REF!+#REF!+#REF!+#REF!+#REF!+#REF!+#REF!+#REF!+#REF!+#REF!+#REF!+#REF!+#REF!+#REF!+#REF!+#REF!+#REF!+#REF!+#REF!+#REF!+#REF!+#REF!+#REF!+#REF!+#REF!+#REF!+#REF!+#REF!+#REF!+#REF!+#REF!","v":{"$error":"#REF!"}},{"$f":"#REF!+#REF!+#REF!+#REF!+#REF!+#REF!+#REF!+#REF!+#REF!+#REF!+#REF!+#REF!+#REF!+#REF!+#REF!+#REF!+#REF!+#REF!+#REF!+#REF!+#REF!+#REF!+#REF!+#REF!+#REF!+#REF!+#REF!+#REF!+#REF!+#REF!+#REF!+#REF!+#REF!","v":{"$error":"#REF!"}},{"$f":"#REF!+#REF!+#REF!+#REF!+#REF!+#REF!+#REF!+#REF!+#REF!+#REF!+#REF!+#REF!+#REF!+#REF!+#REF!+#REF!+#REF!+#REF!+#REF!+#REF!+#REF!+#REF!+#REF!+#REF!+#REF!+#REF!+#REF!+#REF!+#REF!+#REF!+#REF!+#REF!+#REF!","v":{"$error":"#REF!"}},{"$f":"#REF!+#REF!+#REF!+#REF!+#REF!+#REF!+#REF!+#REF!+#REF!+#REF!+#REF!+#REF!+#REF!+#REF!+#REF!+#REF!+#REF!+#REF!+#REF!+#REF!+#REF!+#REF!+#REF!+#REF!+#REF!+#REF!+#REF!+#REF!+#REF!+#REF!+#REF!+#REF!+#REF!","v":{"$error":"#REF!"}},{"$f":"#REF!+#REF!+#REF!+#REF!+#REF!+#REF!+#REF!+#REF!+#REF!+#REF!+#REF!+#REF!+#REF!+#REF!+#REF!+#REF!+#REF!+#REF!+#REF!+#REF!+#REF!+#REF!+#REF!+#REF!+#REF!+#REF!+#REF!+#REF!+#REF!+#REF!+#REF!+#REF!+#REF!","v":{"$error":"#REF!"}},{"$f":"#REF!+#REF!+#REF!+#REF!+#REF!+#REF!+#REF!+#REF!+#REF!+#REF!+#REF!+#REF!+#REF!+#REF!+#REF!+#REF!+#REF!+#REF!+#REF!+#REF!+#REF!+#REF!+#REF!+#REF!+#REF!+#REF!+#REF!+#REF!+#REF!+#REF!+#REF!+#REF!+#REF!","v":{"$error":"#REF!"}},{"$f":"#REF!+#REF!+#REF!+#REF!+#REF!+#REF!+#REF!+#REF!+#REF!+#REF!+#REF!+#REF!+#REF!+#REF!+#REF!+#REF!+#REF!+#REF!+#REF!+#REF!+#REF!+#REF!+#REF!+#REF!+#REF!+#REF!+#REF!+#REF!+#REF!+#REF!+#REF!+#REF!+#REF!","v":{"$error":"#REF!"}},{"$f":"AA72+AQ72","v":{"$error":"#REF!"}},{"$f":"AD72+AT72","v":{"$error":"#REF!"}},{"$f":"#REF!+#REF!+#REF!+#REF!+#REF!+#REF!+#REF!+#REF!+#REF!+#REF!+#REF!+#REF!+#REF!+#REF!+#REF!+#REF!+#REF!+#REF!+#REF!+#REF!+#REF!+#REF!+#REF!+#REF!+#REF!+#REF!+#REF!+#REF!+#REF!+#REF!+#REF!+#REF!+#REF!","v":{"$error":"#REF!"}},null,{"$f":"AW72-AX72","v":{"$error":"#REF!"}}]
[67,"Zachary Community",{"$f":"#REF!+#REF!+#REF!+#REF!+#REF!+#REF!+#REF!+#REF!+#REF!+#REF!+#REF!+#REF!+#REF!+#REF!+#REF!+#REF!+#REF!+#REF!+#REF!+#REF!+#REF!+#REF!+#REF!+#REF!+#REF!+#REF!+#REF!+#REF!+#REF!+#REF!+#REF!+#REF!+#REF!","v":{"$error":"#REF!"}},{"$f":"'9_Per Pupil Summary'!H72","v":5158.8407792311536},{"$f":"#REF!+#REF!+#REF!+#REF!+#REF!+#REF!+#REF!+#REF!+#REF!+#REF!+#REF!+#REF!+#REF!+#REF!+#REF!+#REF!+#REF!+#REF!+#REF!+#REF!+#REF!+#REF!+#REF!+#REF!+#REF!+#REF!+#REF!+#REF!+#REF!+#REF!+#REF!+#REF!+#REF!","v":{"$error":"#REF!"}},{"$f":"#REF!+#REF!+#REF!+#REF!+#REF!+#REF!+#REF!+#REF!+#REF!+#REF!+#REF!+#REF!+#REF!+#REF!+#REF!+#REF!+#REF!+#REF!+#REF!+#REF!+#REF!+#REF!+#REF!+#REF!+#REF!+#REF!+#REF!+#REF!+#REF!+#REF!+#REF!+#REF!+#REF!","v":{"$error":"#REF!"}},{"$f":"'9_Per Pupil Summary'!I72","v":682.28171175635123},{"$f":"#REF!+#REF!+#REF!+#REF!+#REF!+#REF!+#REF!+#REF!+#REF!+#REF!+#REF!+#REF!+#REF!+#REF!+#REF!+#REF!+#REF!+#REF!+#REF!+#REF!+#REF!+#REF!+#REF!+#REF!+#REF!+#REF!+#REF!+#REF!+#REF!+#REF!+#REF!+#REF!+#REF!","v":{"$error":"#REF!"}},{"$f":"#REF!+#REF!+#REF!+#REF!+#REF!+#REF!+#REF!+#REF!+#REF!+#REF!+#REF!+#REF!+#REF!+#REF!+#REF!+#REF!+#REF!+#REF!+#REF!+#REF!+#REF!+#REF!+#REF!+#REF!+#REF!+#REF!+#REF!+#REF!+#REF!+#REF!+#REF!+#REF!+#REF!","v":{"$error":"#REF!"}},{"$f":"'9_Per Pupil Summary'!J72","v":186.07683047900488},{"$f":"#REF!+#REF!+#REF!+#REF!+#REF!+#REF!+#REF!+#REF!+#REF!+#REF!+#REF!+#REF!+#REF!+#REF!+#REF!+#REF!+#REF!+#REF!+#REF!+#REF!+#REF!+#REF!+#REF!+#REF!+#REF!+#REF!+#REF!+#REF!+#REF!+#REF!+#REF!+#REF!+#REF!","v":{"$error":"#REF!"}},{"$f":"#REF!+#REF!+#REF!+#REF!+#REF!+#REF!+#REF!+#REF!+#REF!+#REF!+#REF!+#REF!+#REF!+#REF!+#REF!+#REF!+#REF!+#REF!+#REF!+#REF!+#REF!+#REF!+#REF!+#REF!+#REF!+#REF!+#REF!+#REF!+#REF!+#REF!+#REF!+#REF!+#REF!","v":{"$error":"#REF!"}},{"$f":"'9_Per Pupil Summary'!K72","v":4651.9207619751223},{"$f":"#REF!+#REF!+#REF!+#REF!+#REF!+#REF!+#REF!+#REF!+#REF!+#REF!+#REF!+#REF!+#REF!+#REF!+#REF!+#REF!+#REF!+#REF!+#REF!+#REF!+#REF!+#REF!+#REF!+#REF!+#REF!+#REF!+#REF!+#REF!+#REF!+#REF!+#REF!+#REF!+#REF!","v":{"$error":"#REF!"}},{"$f":"#REF!+#REF!+#REF!+#REF!+#REF!+#REF!+#REF!+#REF!+#REF!+#REF!+#REF!+#REF!+#REF!+#REF!+#REF!+#REF!+#REF!+#REF!+#REF!+#REF!+#REF!+#REF!+#REF!+#REF!+#REF!+#REF!+#REF!+#REF!+#REF!+#REF!+#REF!+#REF!+#REF!","v":{"$error":"#REF!"}},{"$f":"'9_Per Pupil Summary'!L72","v":1860.7683047900487},{"$f":"#REF!+#REF!+#REF!+#REF!+#REF!+#REF!+#REF!+#REF!+#REF!+#REF!+#REF!+#REF!+#REF!+#REF!+#REF!+#REF!+#REF!+#REF!+#REF!+#REF!+#REF!+#REF!+#REF!+#REF!+#REF!+#REF!+#REF!+#REF!+#REF!+#REF!+#REF!+#REF!+#REF!","v":{"$error":"#REF!"}},{"$f":"#REF!+#REF!+#REF!+#REF!+#REF!+#REF!+#REF!+#REF!+#REF!+#REF!+#REF!+#REF!+#REF!+#REF!+#REF!+#REF!+#REF!+#REF!+#REF!+#REF!+#REF!+#REF!+#REF!+#REF!+#REF!+#REF!+#REF!+#REF!+#REF!+#REF!+#REF!+#REF!+#REF!","v":{"$error":"#REF!"}},{"$f":"#REF!+#REF!","v":{"$error":"#REF!"}},{"$f":"#REF!+#REF!+#REF!+#REF!+#REF!+#REF!+#REF!+#REF!+#REF!+#REF!+#REF!+#REF!+#REF!+#REF!+#REF!+#REF!+#REF!+#REF!+#REF!+#REF!+#REF!+#REF!+#REF!+#REF!+#REF!+#REF!+#REF!+#REF!+#REF!+#REF!+#REF!+#REF!+#REF!","v":{"$error":"#REF!"}},{"$f":"#REF!+#REF!+#REF!+#REF!+#REF!+#REF!+#REF!+#REF!+#REF!+#REF!+#REF!+#REF!+#REF!+#REF!+#REF!+#REF!+#REF!+#REF!+#REF!+#REF!+#REF!+#REF!+#REF!+#REF!+#REF!+#REF!+#REF!+#REF!+#REF!+#REF!+#REF!+#REF!+#REF!","v":{"$error":"#REF!"}},{"$f":"#REF!+#REF!+#REF!+#REF!+#REF!+#REF!+#REF!+#REF!+#REF!+#REF!+#REF!+#REF!+#REF!+#REF!+#REF!+#REF!+#REF!+#REF!+#REF!+#REF!+#REF!+#REF!+#REF!+#REF!+#REF!+#REF!+#REF!+#REF!+#REF!+#REF!+#REF!+#REF!+#REF!","v":{"$error":"#REF!"}},{"$f":"#REF!+#REF!+#REF!+#REF!+#REF!+#REF!+#REF!+#REF!+#REF!+#REF!+#REF!+#REF!+#REF!+#REF!+#REF!+#REF!+#REF!+#REF!+#REF!+#REF!+#REF!+#REF!+#REF!+#REF!+#REF!+#REF!+#REF!+#REF!+#REF!+#REF!+#REF!+#REF!+#REF!","v":{"$error":"#REF!"}},{"$f":"#REF!+#REF!+#REF!+#REF!+#REF!+#REF!+#REF!+#REF!+#REF!+#REF!+#REF!+#REF!+#REF!+#REF!+#REF!+#REF!+#REF!+#REF!+#REF!+#REF!+#REF!+#REF!+#REF!+#REF!+#REF!+#REF!+#REF!+#REF!+#REF!+#REF!+#REF!+#REF!+#REF!","v":{"$error":"#REF!"}},{"$f":"#REF!+#REF!+#REF!+#REF!+#REF!+#REF!+#REF!+#REF!+#REF!+#REF!+#REF!+#REF!+#REF!+#REF!+#REF!+#REF!+#REF!+#REF!+#REF!+#REF!+#REF!+#REF!+#REF!+#REF!+#REF!+#REF!+#REF!+#REF!+#REF!+#REF!+#REF!+#REF!+#REF!","v":{"$error":"#REF!"}},{"$f":"#REF!+#REF!+#REF!+#REF!+#REF!+#REF!+#REF!+#REF!+#REF!+#REF!+#REF!+#REF!+#REF!+#REF!+#REF!+#REF!+#REF!+#REF!+#REF!+#REF!+#REF!+#REF!+#REF!+#REF!+#REF!+#REF!+#REF!+#REF!+#REF!+#REF!+#REF!+#REF!+#REF!","v":{"$error":"#REF!"}},{"$f":"#REF!+#REF!+#REF!+#REF!+#REF!+#REF!+#REF!+#REF!+#REF!+#REF!+#REF!+#REF!+#REF!+#REF!+#REF!+#REF!+#REF!+#REF!+#REF!+#REF!+#REF!+#REF!+#REF!+#REF!+#REF!+#REF!+#REF!+#REF!+#REF!+#REF!+#REF!+#REF!+#REF!","v":{"$error":"#REF!"}},{"$f":"#REF!+#REF!+#REF!+#REF!+#REF!+#REF!+#REF!+#REF!+#REF!+#REF!+#REF!+#REF!+#REF!+#REF!+#REF!+#REF!+#REF!+#REF!+#REF!+#REF!+#REF!+#REF!+#REF!+#REF!+#REF!+#REF!+#REF!+#REF!+#REF!+#REF!+#REF!+#REF!+#REF!","v":{"$error":"#REF!"}},{"$f":"#REF!+#REF!+#REF!+#REF!+#REF!+#REF!+#REF!+#REF!+#REF!+#REF!+#REF!+#REF!+#REF!+#REF!+#REF!+#REF!+#REF!+#REF!+#REF!+#REF!+#REF!+#REF!+#REF!+#REF!+#REF!+#REF!+#REF!+#REF!+#REF!+#REF!+#REF!+#REF!+#REF!","v":{"$error":"#REF!"}},{"$f":"#REF!+#REF!+#REF!+#REF!+#REF!+#REF!+#REF!+#REF!+#REF!+#REF!+#REF!+#REF!+#REF!+#REF!+#REF!+#REF!+#REF!+#REF!+#REF!+#REF!+#REF!+#REF!+#REF!+#REF!+#REF!+#REF!+#REF!+#REF!+#REF!+#REF!+#REF!+#REF!+#REF!","v":{"$error":"#REF!"}},{"$f":"#REF!+#REF!+#REF!+#REF!+#REF!+#REF!+#REF!+#REF!+#REF!+#REF!+#REF!+#REF!+#REF!+#REF!+#REF!+#REF!+#REF!+#REF!+#REF!+#REF!+#REF!+#REF!+#REF!+#REF!+#REF!+#REF!+#REF!+#REF!+#REF!+#REF!+#REF!+#REF!+#REF!","v":{"$error":"#REF!"}},{"$f":"'9_Per Pupil Summary'!N72","v":5803},{"$f":"#REF!+#REF!+#REF!+#REF!+#REF!+#REF!+#REF!+#REF!+#REF!+#REF!+#REF!+#REF!+#REF!+#REF!+#REF!+#REF!+#REF!+#REF!+#REF!+#REF!+#REF!+#REF!+#REF!+#REF!+#REF!+#REF!+#REF!+#REF!+#REF!+#REF!+#REF!+#REF!+#REF!","v":{"$error":"#REF!"}},{"$f":"#REF!+#REF!+#REF!+#REF!+#REF!+#REF!+#REF!+#REF!+#REF!+#REF!+#REF!+#REF!+#REF!+#REF!+#REF!+#REF!+#REF!+#REF!+#REF!+#REF!+#REF!+#REF!+#REF!+#REF!+#REF!+#REF!+#REF!+#REF!+#REF!+#REF!+#REF!+#REF!+#REF!","v":{"$error":"#REF!"}},{"$f":"#REF!+#REF!+#REF!+#REF!+#REF!+#REF!+#REF!+#REF!+#REF!+#REF!+#REF!+#REF!+#REF!+#REF!+#REF!+#REF!+#REF!+#REF!+#REF!+#REF!+#REF!+#REF!+#REF!+#REF!+#REF!+#REF!+#REF!+#REF!+#REF!+#REF!+#REF!+#REF!+#REF!","v":{"$error":"#REF!"}},{"$f":"#REF!+#REF!+#REF!+#REF!+#REF!+#REF!+#REF!+#REF!+#REF!+#REF!+#REF!+#REF!+#REF!+#REF!+#REF!+#REF!+#REF!+#REF!+#REF!+#REF!+#REF!+#REF!+#REF!+#REF!+#REF!+#REF!+#REF!+#REF!+#REF!+#REF!+#REF!+#REF!+#REF!","v":{"$error":"#REF!"}},{"$f":"#REF!+#REF!+#REF!+#REF!+#REF!+#REF!+#REF!+#REF!+#REF!+#REF!+#REF!+#REF!+#REF!+#REF!+#REF!+#REF!+#REF!+#REF!+#REF!+#REF!+#REF!+#REF!+#REF!+#REF!+#REF!+#REF!+#REF!+#REF!+#REF!+#REF!+#REF!+#REF!+#REF!","v":{"$error":"#REF!"}},{"$f":"#REF!+#REF!+#REF!+#REF!+#REF!+#REF!+#REF!+#REF!+#REF!+#REF!+#REF!+#REF!+#REF!+#REF!+#REF!+#REF!+#REF!+#REF!+#REF!+#REF!+#REF!+#REF!+#REF!+#REF!+#REF!+#REF!+#REF!+#REF!+#REF!+#REF!+#REF!+#REF!+#REF!","v":{"$error":"#REF!"}},{"$f":"#REF!+#REF!+#REF!+#REF!+#REF!+#REF!+#REF!+#REF!+#REF!+#REF!+#REF!+#REF!+#REF!+#REF!+#REF!+#REF!+#REF!+#REF!+#REF!+#REF!+#REF!+#REF!+#REF!+#REF!+#REF!+#REF!+#REF!+#REF!+#REF!+#REF!+#REF!+#REF!+#REF!","v":{"$error":"#REF!"}},{"$f":"#REF!+#REF!+#REF!+#REF!+#REF!+#REF!+#REF!+#REF!+#REF!+#REF!+#REF!+#REF!+#REF!+#REF!+#REF!+#REF!+#REF!+#REF!+#REF!+#REF!+#REF!+#REF!+#REF!+#REF!+#REF!+#REF!+#REF!+#REF!+#REF!+#REF!+#REF!+#REF!+#REF!","v":{"$error":"#REF!"}},{"$f":"#REF!+#REF!+#REF!+#REF!+#REF!+#REF!+#REF!+#REF!+#REF!+#REF!+#REF!+#REF!+#REF!+#REF!+#REF!+#REF!+#REF!+#REF!+#REF!+#REF!+#REF!+#REF!+#REF!+#REF!+#REF!+#REF!+#REF!+#REF!+#REF!+#REF!+#REF!+#REF!+#REF!","v":{"$error":"#REF!"}},{"$f":"#REF!+#REF!+#REF!+#REF!+#REF!+#REF!+#REF!+#REF!+#REF!+#REF!+#REF!+#REF!+#REF!+#REF!+#REF!+#REF!+#REF!+#REF!+#REF!+#REF!+#REF!+#REF!+#REF!+#REF!+#REF!+#REF!+#REF!+#REF!+#REF!+#REF!+#REF!+#REF!+#REF!","v":{"$error":"#REF!"}},{"$f":"#REF!+#REF!+#REF!+#REF!+#REF!+#REF!+#REF!+#REF!+#REF!+#REF!+#REF!+#REF!+#REF!+#REF!+#REF!+#REF!+#REF!+#REF!+#REF!+#REF!+#REF!+#REF!+#REF!+#REF!+#REF!+#REF!+#REF!+#REF!+#REF!+#REF!+#REF!+#REF!+#REF!","v":{"$error":"#REF!"}},{"$f":"#REF!+#REF!+#REF!+#REF!+#REF!+#REF!+#REF!+#REF!+#REF!+#REF!+#REF!+#REF!+#REF!+#REF!+#REF!+#REF!+#REF!+#REF!+#REF!+#REF!+#REF!+#REF!+#REF!+#REF!+#REF!+#REF!+#REF!+#REF!+#REF!+#REF!+#REF!+#REF!+#REF!","v":{"$error":"#REF!"}},{"$f":"#REF!+#REF!+#REF!+#REF!+#REF!+#REF!+#REF!+#REF!+#REF!+#REF!+#REF!+#REF!+#REF!+#REF!+#REF!+#REF!+#REF!+#REF!+#REF!+#REF!+#REF!+#REF!+#REF!+#REF!+#REF!+#REF!+#REF!+#REF!+#REF!+#REF!+#REF!+#REF!+#REF!","v":{"$error":"#REF!"}},{"$f":"#REF!+#REF!+#REF!+#REF!+#REF!+#REF!+#REF!+#REF!+#REF!+#REF!+#REF!+#REF!+#REF!+#REF!+#REF!+#REF!+#REF!+#REF!+#REF!+#REF!+#REF!+#REF!+#REF!+#REF!+#REF!+#REF!+#REF!+#REF!+#REF!+#REF!+#REF!+#REF!+#REF!","v":{"$error":"#REF!"}},{"$f":"AA73+AQ73","v":{"$error":"#REF!"}},{"$f":"AD73+AT73","v":{"$error":"#REF!"}},{"$f":"#REF!+#REF!+#REF!+#REF!+#REF!+#REF!+#REF!+#REF!+#REF!+#REF!+#REF!+#REF!+#REF!+#REF!+#REF!+#REF!+#REF!+#REF!+#REF!+#REF!+#REF!+#REF!+#REF!+#REF!+#REF!+#REF!+#REF!+#REF!+#REF!+#REF!+#REF!+#REF!+#REF!","v":{"$error":"#REF!"}},null,{"$f":"AW73-AX73","v":{"$error":"#REF!"}}]
[68,"City of Baker",{"$f":"#REF!+#REF!+#REF!+#REF!+#REF!+#REF!+#REF!+#REF!+#REF!+#REF!+#REF!+#REF!+#REF!+#REF!+#REF!+#REF!+#REF!+#REF!+#REF!+#REF!+#REF!+#REF!+#REF!+#REF!+#REF!+#REF!+#REF!+#REF!+#REF!+#REF!+#REF!+#REF!+#REF!","v":{"$error":"#REF!"}},{"$f":"'9_Per Pupil Summary'!H73","v":5249.8557250004678},{"$f":"#REF!+#REF!+#REF!+#REF!+#REF!+#REF!+#REF!+#REF!+#REF!+#REF!+#REF!+#REF!+#REF!+#REF!+#REF!+#REF!+#REF!+#REF!+#REF!+#REF!+#REF!+#REF!+#REF!+#REF!+#REF!+#REF!+#REF!+#REF!+#REF!+#REF!+#REF!+#REF!+#REF!","v":{"$error":"#REF!"}},{"$f":"#REF!+#REF!+#REF!+#REF!+#REF!+#REF!+#REF!+#REF!+#REF!+#REF!+#REF!+#REF!+#REF!+#REF!+#REF!+#REF!+#REF!+#REF!+#REF!+#REF!+#REF!+#REF!+#REF!+#REF!+#REF!+#REF!+#REF!+#REF!+#REF!+#REF!+#REF!+#REF!+#REF!","v":{"$error":"#REF!"}},{"$f":"'9_Per Pupil Summary'!I73","v":672.36517333822314},{"$f":"#REF!+#REF!+#REF!+#REF!+#REF!+#REF!+#REF!+#REF!+#REF!+#REF!+#REF!+#REF!+#REF!+#REF!+#REF!+#REF!+#REF!+#REF!+#REF!+#REF!+#REF!+#REF!+#REF!+#REF!+#REF!+#REF!+#REF!+#REF!+#REF!+#REF!+#REF!+#REF!+#REF!","v":{"$error":"#REF!"}},{"$f":"#REF!+#REF!+#REF!+#REF!+#REF!+#REF!+#REF!+#REF!+#REF!+#REF!+#REF!+#REF!+#REF!+#REF!+#REF!+#REF!+#REF!+#REF!+#REF!+#REF!+#REF!+#REF!+#REF!+#REF!+#REF!+#REF!+#REF!+#REF!+#REF!+#REF!+#REF!+#REF!+#REF!","v":{"$error":"#REF!"}},{"$f":"'9_Per Pupil Summary'!J73","v":183.37232000133355},{"$f":"#REF!+#REF!+#REF!+#REF!+#REF!+#REF!+#REF!+#REF!+#REF!+#REF!+#REF!+#REF!+#REF!+#REF!+#REF!+#REF!+#REF!+#REF!+#REF!+#REF!+#REF!+#REF!+#REF!+#REF!+#REF!+#REF!+#REF!+#REF!+#REF!+#REF!+#REF!+#REF!+#REF!","v":{"$error":"#REF!"}},{"$f":"#REF!+#REF!+#REF!+#REF!+#REF!+#REF!+#REF!+#REF!+#REF!+#REF!+#REF!+#REF!+#REF!+#REF!+#REF!+#REF!+#REF!+#REF!+#REF!+#REF!+#REF!+#REF!+#REF!+#REF!+#REF!+#REF!+#REF!+#REF!+#REF!+#REF!+#REF!+#REF!+#REF!","v":{"$error":"#REF!"}},{"$f":"'9_Per Pupil Summary'!K73","v":4584.3080000333393},{"$f":"#REF!+#REF!+#REF!+#REF!+#REF!+#REF!+#REF!+#REF!+#REF!+#REF!+#REF!+#REF!+#REF!+#REF!+#REF!+#REF!+#REF!+#REF!+#REF!+#REF!+#REF!+#REF!+#REF!+#REF!+#REF!+#REF!+#REF!+#REF!+#REF!+#REF!+#REF!+#REF!+#REF!","v":{"$error":"#REF!"}},{"$f":"#REF!+#REF!+#REF!+#REF!+#REF!+#REF!+#REF!+#REF!+#REF!+#REF!+#REF!+#REF!+#REF!+#REF!+#REF!+#REF!+#REF!+#REF!+#REF!+#REF!+#REF!+#REF!+#REF!+#REF!+#REF!+#REF!+#REF!+#REF!+#REF!+#REF!+#REF!+#REF!+#REF!","v":{"$error":"#REF!"}},{"$f":"'9_Per Pupil Summary'!L73","v":1833.7232000133358},{"$f":"#REF!+#REF!+#REF!+#REF!+#REF!+#REF!+#REF!+#REF!+#REF!+#REF!+#REF!+#REF!+#REF!+#REF!+#REF!+#REF!+#REF!+#REF!+#REF!+#REF!+#REF!+#REF!+#REF!+#REF!+#REF!+#REF!+#REF!+#REF!+#REF!+#REF!+#REF!+#REF!+#REF!","v":{"$error":"#REF!"}},{"$f":"#REF!+#REF!+#REF!+#REF!+#REF!+#REF!+#REF!+#REF!+#REF!+#REF!+#REF!+#REF!+#REF!+#REF!+#REF!+#REF!+#REF!+#REF!+#REF!+#REF!+#REF!+#REF!+#REF!+#REF!+#REF!+#REF!+#REF!+#REF!+#REF!+#REF!+#REF!+#REF!+#REF!","v":{"$error":"#REF!"}},{"$f":"#REF!+#REF!","v":{"$error":"#REF!"}},{"$f":"#REF!+#REF!+#REF!+#REF!+#REF!+#REF!+#REF!+#REF!+#REF!+#REF!+#REF!+#REF!+#REF!+#REF!+#REF!+#REF!+#REF!+#REF!+#REF!+#REF!+#REF!+#REF!+#REF!+#REF!+#REF!+#REF!+#REF!+#REF!+#REF!+#REF!+#REF!+#REF!+#REF!","v":{"$error":"#REF!"}},{"$f":"#REF!+#REF!+#REF!+#REF!+#REF!+#REF!+#REF!+#REF!+#REF!+#REF!+#REF!+#REF!+#REF!+#REF!+#REF!+#REF!+#REF!+#REF!+#REF!+#REF!+#REF!+#REF!+#REF!+#REF!+#REF!+#REF!+#REF!+#REF!+#REF!+#REF!+#REF!+#REF!+#REF!","v":{"$error":"#REF!"}},{"$f":"#REF!+#REF!+#REF!+#REF!+#REF!+#REF!+#REF!+#REF!+#REF!+#REF!+#REF!+#REF!+#REF!+#REF!+#REF!+#REF!+#REF!+#REF!+#REF!+#REF!+#REF!+#REF!+#REF!+#REF!+#REF!+#REF!+#REF!+#REF!+#REF!+#REF!+#REF!+#REF!+#REF!","v":{"$error":"#REF!"}},{"$f":"#REF!+#REF!+#REF!+#REF!+#REF!+#REF!+#REF!+#REF!+#REF!+#REF!+#REF!+#REF!+#REF!+#REF!+#REF!+#REF!+#REF!+#REF!+#REF!+#REF!+#REF!+#REF!+#REF!+#REF!+#REF!+#REF!+#REF!+#REF!+#REF!+#REF!+#REF!+#REF!+#REF!","v":{"$error":"#REF!"}},{"$f":"#REF!+#REF!+#REF!+#REF!+#REF!+#REF!+#REF!+#REF!+#REF!+#REF!+#REF!+#REF!+#REF!+#REF!+#REF!+#REF!+#REF!+#REF!+#REF!+#REF!+#REF!+#REF!+#REF!+#REF!+#REF!+#REF!+#REF!+#REF!+#REF!+#REF!+#REF!+#REF!+#REF!","v":{"$error":"#REF!"}},{"$f":"#REF!+#REF!+#REF!+#REF!+#REF!+#REF!+#REF!+#REF!+#REF!+#REF!+#REF!+#REF!+#REF!+#REF!+#REF!+#REF!+#REF!+#REF!+#REF!+#REF!+#REF!+#REF!+#REF!+#REF!+#REF!+#REF!+#REF!+#REF!+#REF!+#REF!+#REF!+#REF!+#REF!","v":{"$error":"#REF!"}},{"$f":"#REF!+#REF!+#REF!+#REF!+#REF!+#REF!+#REF!+#REF!+#REF!+#REF!+#REF!+#REF!+#REF!+#REF!+#REF!+#REF!+#REF!+#REF!+#REF!+#REF!+#REF!+#REF!+#REF!+#REF!+#REF!+#REF!+#REF!+#REF!+#REF!+#REF!+#REF!+#REF!+#REF!","v":{"$error":"#REF!"}},{"$f":"#REF!+#REF!+#REF!+#REF!+#REF!+#REF!+#REF!+#REF!+#REF!+#REF!+#REF!+#REF!+#REF!+#REF!+#REF!+#REF!+#REF!+#REF!+#REF!+#REF!+#REF!+#REF!+#REF!+#REF!+#REF!+#REF!+#REF!+#REF!+#REF!+#REF!+#REF!+#REF!+#REF!","v":{"$error":"#REF!"}},{"$f":"#REF!+#REF!+#REF!+#REF!+#REF!+#REF!+#REF!+#REF!+#REF!+#REF!+#REF!+#REF!+#REF!+#REF!+#REF!+#REF!+#REF!+#REF!+#REF!+#REF!+#REF!+#REF!+#REF!+#REF!+#REF!+#REF!+#REF!+#REF!+#REF!+#REF!+#REF!+#REF!+#REF!","v":{"$error":"#REF!"}},{"$f":"#REF!+#REF!+#REF!+#REF!+#REF!+#REF!+#REF!+#REF!+#REF!+#REF!+#REF!+#REF!+#REF!+#REF!+#REF!+#REF!+#REF!+#REF!+#REF!+#REF!+#REF!+#REF!+#REF!+#REF!+#REF!+#REF!+#REF!+#REF!+#REF!+#REF!+#REF!+#REF!+#REF!","v":{"$error":"#REF!"}},{"$f":"#REF!+#REF!+#REF!+#REF!+#REF!+#REF!+#REF!+#REF!+#REF!+#REF!+#REF!+#REF!+#REF!+#REF!+#REF!+#REF!+#REF!+#REF!+#REF!+#REF!+#REF!+#REF!+#REF!+#REF!+#REF!+#REF!+#REF!+#REF!+#REF!+#REF!+#REF!+#REF!+#REF!","v":{"$error":"#REF!"}},{"$f":"#REF!+#REF!+#REF!+#REF!+#REF!+#REF!+#REF!+#REF!+#REF!+#REF!+#REF!+#REF!+#REF!+#REF!+#REF!+#REF!+#REF!+#REF!+#REF!+#REF!+#REF!+#REF!+#REF!+#REF!+#REF!+#REF!+#REF!+#REF!+#REF!+#REF!+#REF!+#REF!+#REF!","v":{"$error":"#REF!"}},{"$f":"'9_Per Pupil Summary'!N73","v":5006},{"$f":"#REF!+#REF!+#REF!+#REF!+#REF!+#REF!+#REF!+#REF!+#REF!+#REF!+#REF!+#REF!+#REF!+#REF!+#REF!+#REF!+#REF!+#REF!+#REF!+#REF!+#REF!+#REF!+#REF!+#REF!+#REF!+#REF!+#REF!+#REF!+#REF!+#REF!+#REF!+#REF!+#REF!","v":{"$error":"#REF!"}},{"$f":"#REF!+#REF!+#REF!+#REF!+#REF!+#REF!+#REF!+#REF!+#REF!+#REF!+#REF!+#REF!+#REF!+#REF!+#REF!+#REF!+#REF!+#REF!+#REF!+#REF!+#REF!+#REF!+#REF!+#REF!+#REF!+#REF!+#REF!+#REF!+#REF!+#REF!+#REF!+#REF!+#REF!","v":{"$error":"#REF!"}},{"$f":"#REF!+#REF!+#REF!+#REF!+#REF!+#REF!+#REF!+#REF!+#REF!+#REF!+#REF!+#REF!+#REF!+#REF!+#REF!+#REF!+#REF!+#REF!+#REF!+#REF!+#REF!+#REF!+#REF!+#REF!+#REF!+#REF!+#REF!+#REF!+#REF!+#REF!+#REF!+#REF!+#REF!","v":{"$error":"#REF!"}},{"$f":"#REF!+#REF!+#REF!+#REF!+#REF!+#REF!+#REF!+#REF!+#REF!+#REF!+#REF!+#REF!+#REF!+#REF!+#REF!+#REF!+#REF!+#REF!+#REF!+#REF!+#REF!+#REF!+#REF!+#REF!+#REF!+#REF!+#REF!+#REF!+#REF!+#REF!+#REF!+#REF!+#REF!","v":{"$error":"#REF!"}},{"$f":"#REF!+#REF!+#REF!+#REF!+#REF!+#REF!+#REF!+#REF!+#REF!+#REF!+#REF!+#REF!+#REF!+#REF!+#REF!+#REF!+#REF!+#REF!+#REF!+#REF!+#REF!+#REF!+#REF!+#REF!+#REF!+#REF!+#REF!+#REF!+#REF!+#REF!+#REF!+#REF!+#REF!","v":{"$error":"#REF!"}},{"$f":"#REF!+#REF!+#REF!+#REF!+#REF!+#REF!+#REF!+#REF!+#REF!+#REF!+#REF!+#REF!+#REF!+#REF!+#REF!+#REF!+#REF!+#REF!+#REF!+#REF!+#REF!+#REF!+#REF!+#REF!+#REF!+#REF!+#REF!+#REF!+#REF!+#REF!+#REF!+#REF!+#REF!","v":{"$error":"#REF!"}},{"$f":"#REF!+#REF!+#REF!+#REF!+#REF!+#REF!+#REF!+#REF!+#REF!+#REF!+#REF!+#REF!+#REF!+#REF!+#REF!+#REF!+#REF!+#REF!+#REF!+#REF!+#REF!+#REF!+#REF!+#REF!+#REF!+#REF!+#REF!+#REF!+#REF!+#REF!+#REF!+#REF!+#REF!","v":{"$error":"#REF!"}},{"$f":"#REF!+#REF!+#REF!+#REF!+#REF!+#REF!+#REF!+#REF!+#REF!+#REF!+#REF!+#REF!+#REF!+#REF!+#REF!+#REF!+#REF!+#REF!+#REF!+#REF!+#REF!+#REF!+#REF!+#REF!+#REF!+#REF!+#REF!+#REF!+#REF!+#REF!+#REF!+#REF!+#REF!","v":{"$error":"#REF!"}},{"$f":"#REF!+#REF!+#REF!+#REF!+#REF!+#REF!+#REF!+#REF!+#REF!+#REF!+#REF!+#REF!+#REF!+#REF!+#REF!+#REF!+#REF!+#REF!+#REF!+#REF!+#REF!+#REF!+#REF!+#REF!+#REF!+#REF!+#REF!+#REF!+#REF!+#REF!+#REF!+#REF!+#REF!","v":{"$error":"#REF!"}},{"$f":"#REF!+#REF!+#REF!+#REF!+#REF!+#REF!+#REF!+#REF!+#REF!+#REF!+#REF!+#REF!+#REF!+#REF!+#REF!+#REF!+#REF!+#REF!+#REF!+#REF!+#REF!+#REF!+#REF!+#REF!+#REF!+#REF!+#REF!+#REF!+#REF!+#REF!+#REF!+#REF!+#REF!","v":{"$error":"#REF!"}},{"$f":"#REF!+#REF!+#REF!+#REF!+#REF!+#REF!+#REF!+#REF!+#REF!+#REF!+#REF!+#REF!+#REF!+#REF!+#REF!+#REF!+#REF!+#REF!+#REF!+#REF!+#REF!+#REF!+#REF!+#REF!+#REF!+#REF!+#REF!+#REF!+#REF!+#REF!+#REF!+#REF!+#REF!","v":{"$error":"#REF!"}},{"$f":"#REF!+#REF!+#REF!+#REF!+#REF!+#REF!+#REF!+#REF!+#REF!+#REF!+#REF!+#REF!+#REF!+#REF!+#REF!+#REF!+#REF!+#REF!+#REF!+#REF!+#REF!+#REF!+#REF!+#REF!+#REF!+#REF!+#REF!+#REF!+#REF!+#REF!+#REF!+#REF!+#REF!","v":{"$error":"#REF!"}},{"$f":"#REF!+#REF!+#REF!+#REF!+#REF!+#REF!+#REF!+#REF!+#REF!+#REF!+#REF!+#REF!+#REF!+#REF!+#REF!+#REF!+#REF!+#REF!+#REF!+#REF!+#REF!+#REF!+#REF!+#REF!+#REF!+#REF!+#REF!+#REF!+#REF!+#REF!+#REF!+#REF!+#REF!","v":{"$error":"#REF!"}},{"$f":"#REF!+#REF!+#REF!+#REF!+#REF!+#REF!+#REF!+#REF!+#REF!+#REF!+#REF!+#REF!+#REF!+#REF!+#REF!+#REF!+#REF!+#REF!+#REF!+#REF!+#REF!+#REF!+#REF!+#REF!+#REF!+#REF!+#REF!+#REF!+#REF!+#REF!+#REF!+#REF!+#REF!","v":{"$error":"#REF!"}},{"$f":"AA74+AQ74","v":{"$error":"#REF!"}},{"$f":"AD74+AT74","v":{"$error":"#REF!"}},{"$f":"#REF!+#REF!+#REF!+#REF!+#REF!+#REF!+#REF!+#REF!+#REF!+#REF!+#REF!+#REF!+#REF!+#REF!+#REF!+#REF!+#REF!+#REF!+#REF!+#REF!+#REF!+#REF!+#REF!+#REF!+#REF!+#REF!+#REF!+#REF!+#REF!+#REF!+#REF!+#REF!+#REF!","v":{"$error":"#REF!"}},null,{"$f":"AW74-AX74","v":{"$error":"#REF!"}}]
[69,"Central Community",{"$f":"#REF!+#REF!+#REF!+#REF!+#REF!+#REF!+#REF!+#REF!+#REF!+#REF!+#REF!+#REF!+#REF!+#REF!+#REF!+#REF!+#REF!+#REF!+#REF!+#REF!+#REF!+#REF!+#REF!+#REF!+#REF!+#REF!+#REF!+#REF!+#REF!+#REF!+#REF!+#REF!+#REF!","v":{"$error":"#REF!"}},{"$f":"'9_Per Pupil Summary'!H74","v":5448.1054229656793},{"$f":"#REF!+#REF!+#REF!+#REF!+#REF!+#REF!+#REF!+#REF!+#REF!+#REF!+#REF!+#REF!+#REF!+#REF!+#REF!+#REF!+#REF!+#REF!+#REF!+#REF!+#REF!+#REF!+#REF!+#REF!+#REF!+#REF!+#REF!+#REF!+#REF!+#REF!+#REF!+#REF!+#REF!","v":{"$error":"#REF!"}},{"$f":"#REF!+#REF!+#REF!+#REF!+#REF!+#REF!+#REF!+#REF!+#REF!+#REF!+#REF!+#REF!+#REF!+#REF!+#REF!+#REF!+#REF!+#REF!+#REF!+#REF!+#REF!+#REF!+#REF!+#REF!+#REF!+#REF!+#REF!+#REF!+#REF!+#REF!+#REF!+#REF!+#REF!","v":{"$error":"#REF!"}},{"$f":"'9_Per Pupil Summary'!I74","v":713.12675906686752},{"$f":"#REF!+#REF!+#REF!+#REF!+#REF!+#REF!+#REF!+#REF!+#REF!+#REF!+#REF!+#REF!+#REF!+#REF!+#REF!+#REF!+#REF!+#REF!+#REF!+#REF!+#REF!+#REF!+#REF!+#REF!+#REF!+#REF!+#REF!+#REF!+#REF!+#REF!+#REF!+#REF!+#REF!","v":{"$error":"#REF!"}},{"$f":"#REF!+#REF!+#REF!+#REF!+#REF!+#REF!+#REF!+#REF!+#REF!+#REF!+#REF!+#REF!+#REF!+#REF!+#REF!+#REF!+#REF!+#REF!+#REF!+#REF!+#REF!+#REF!+#REF!+#REF!+#REF!+#REF!+#REF!+#REF!+#REF!+#REF!+#REF!+#REF!+#REF!","v":{"$error":"#REF!"}},{"$f":"'9_Per Pupil Summary'!J74","v":194.4891161091457},{"$f":"#REF!+#REF!+#REF!+#REF!+#REF!+#REF!+#REF!+#REF!+#REF!+#REF!+#REF!+#REF!+#REF!+#REF!+#REF!+#REF!+#REF!+#REF!+#REF!+#REF!+#REF!+#REF!+#REF!+#REF!+#REF!+#REF!+#REF!+#REF!+#REF!+#REF!+#REF!+#REF!+#REF!","v":{"$error":"#REF!"}},{"$f":"#REF!+#REF!+#REF!+#REF!+#REF!+#REF!+#REF!+#REF!+#REF!+#REF!+#REF!+#REF!+#REF!+#REF!+#REF!+#REF!+#REF!+#REF!+#REF!+#REF!+#REF!+#REF!+#REF!+#REF!+#REF!+#REF!+#REF!+#REF!+#REF!+#REF!+#REF!+#REF!+#REF!","v":{"$error":"#REF!"}},{"$f":"'9_Per Pupil Summary'!K74","v":4862.2279027286422},{"$f":"#REF!+#REF!+#REF!+#REF!+#REF!+#REF!+#REF!+#REF!+#REF!+#REF!+#REF!+#REF!+#REF!+#REF!+#REF!+#REF!+#REF!+#REF!+#REF!+#REF!+#REF!+#REF!+#REF!+#REF!+#REF!+#REF!+#REF!+#REF!+#REF!+#REF!+#REF!+#REF!+#REF!","v":{"$error":"#REF!"}},{"$f":"#REF!+#REF!+#REF!+#REF!+#REF!+#REF!+#REF!+#REF!+#REF!+#REF!+#REF!+#REF!+#REF!+#REF!+#REF!+#REF!+#REF!+#REF!+#REF!+#REF!+#REF!+#REF!+#REF!+#REF!+#REF!+#REF!+#REF!+#REF!+#REF!+#REF!+#REF!+#REF!+#REF!","v":{"$error":"#REF!"}},{"$f":"'9_Per Pupil Summary'!L74","v":1944.8911610914565},{"$f":"#REF!+#REF!+#REF!+#REF!+#REF!+#REF!+#REF!+#REF!+#REF!+#REF!+#REF!+#REF!+#REF!+#REF!+#REF!+#REF!+#REF!+#REF!+#REF!+#REF!+#REF!+#REF!+#REF!+#REF!+#REF!+#REF!+#REF!+#REF!+#REF!+#REF!+#REF!+#REF!+#REF!","v":{"$error":"#REF!"}},{"$f":"#REF!+#REF!+#REF!+#REF!+#REF!+#REF!+#REF!+#REF!+#REF!+#REF!+#REF!+#REF!+#REF!+#REF!+#REF!+#REF!+#REF!+#REF!+#REF!+#REF!+#REF!+#REF!+#REF!+#REF!+#REF!+#REF!+#REF!+#REF!+#REF!+#REF!+#REF!+#REF!+#REF!","v":{"$error":"#REF!"}},{"$f":"#REF!+#REF!","v":{"$error":"#REF!"}},{"$f":"#REF!+#REF!+#REF!+#REF!+#REF!+#REF!+#REF!+#REF!+#REF!+#REF!+#REF!+#REF!+#REF!+#REF!+#REF!+#REF!+#REF!+#REF!+#REF!+#REF!+#REF!+#REF!+#REF!+#REF!+#REF!+#REF!+#REF!+#REF!+#REF!+#REF!+#REF!+#REF!+#REF!","v":{"$error":"#REF!"}},{"$f":"#REF!+#REF!+#REF!+#REF!+#REF!+#REF!+#REF!+#REF!+#REF!+#REF!+#REF!+#REF!+#REF!+#REF!+#REF!+#REF!+#REF!+#REF!+#REF!+#REF!+#REF!+#REF!+#REF!+#REF!+#REF!+#REF!+#REF!+#REF!+#REF!+#REF!+#REF!+#REF!+#REF!","v":{"$error":"#REF!"}},{"$f":"#REF!+#REF!+#REF!+#REF!+#REF!+#REF!+#REF!+#REF!+#REF!+#REF!+#REF!+#REF!+#REF!+#REF!+#REF!+#REF!+#REF!+#REF!+#REF!+#REF!+#REF!+#REF!+#REF!+#REF!+#REF!+#REF!+#REF!+#REF!+#REF!+#REF!+#REF!+#REF!+#REF!","v":{"$error":"#REF!"}},{"$f":"#REF!+#REF!+#REF!+#REF!+#REF!+#REF!+#REF!+#REF!+#REF!+#REF!+#REF!+#REF!+#REF!+#REF!+#REF!+#REF!+#REF!+#REF!+#REF!+#REF!+#REF!+#REF!+#REF!+#REF!+#REF!+#REF!+#REF!+#REF!+#REF!+#REF!+#REF!+#REF!+#REF!","v":{"$error":"#REF!"}},{"$f":"#REF!+#REF!+#REF!+#REF!+#REF!+#REF!+#REF!+#REF!+#REF!+#REF!+#REF!+#REF!+#REF!+#REF!+#REF!+#REF!+#REF!+#REF!+#REF!+#REF!+#REF!+#REF!+#REF!+#REF!+#REF!+#REF!+#REF!+#REF!+#REF!+#REF!+#REF!+#REF!+#REF!","v":{"$error":"#REF!"}},{"$f":"#REF!+#REF!+#REF!+#REF!+#REF!+#REF!+#REF!+#REF!+#REF!+#REF!+#REF!+#REF!+#REF!+#REF!+#REF!+#REF!+#REF!+#REF!+#REF!+#REF!+#REF!+#REF!+#REF!+#REF!+#REF!+#REF!+#REF!+#REF!+#REF!+#REF!+#REF!+#REF!+#REF!","v":{"$error":"#REF!"}},{"$f":"#REF!+#REF!+#REF!+#REF!+#REF!+#REF!+#REF!+#REF!+#REF!+#REF!+#REF!+#REF!+#REF!+#REF!+#REF!+#REF!+#REF!+#REF!+#REF!+#REF!+#REF!+#REF!+#REF!+#REF!+#REF!+#REF!+#REF!+#REF!+#REF!+#REF!+#REF!+#REF!+#REF!","v":{"$error":"#REF!"}},{"$f":"#REF!+#REF!+#REF!+#REF!+#REF!+#REF!+#REF!+#REF!+#REF!+#REF!+#REF!+#REF!+#REF!+#REF!+#REF!+#REF!+#REF!+#REF!+#REF!+#REF!+#REF!+#REF!+#REF!+#REF!+#REF!+#REF!+#REF!+#REF!+#REF!+#REF!+#REF!+#REF!+#REF!","v":{"$error":"#REF!"}},{"$f":"#REF!+#REF!+#REF!+#REF!+#REF!+#REF!+#REF!+#REF!+#REF!+#REF!+#REF!+#REF!+#REF!+#REF!+#REF!+#REF!+#REF!+#REF!+#REF!+#REF!+#REF!+#REF!+#REF!+#REF!+#REF!+#REF!+#REF!+#REF!+#REF!+#REF!+#REF!+#REF!+#REF!","v":{"$error":"#REF!"}},{"$f":"#REF!+#REF!+#REF!+#REF!+#REF!+#REF!+#REF!+#REF!+#REF!+#REF!+#REF!+#REF!+#REF!+#REF!+#REF!+#REF!+#REF!+#REF!+#REF!+#REF!+#REF!+#REF!+#REF!+#REF!+#REF!+#REF!+#REF!+#REF!+#REF!+#REF!+#REF!+#REF!+#REF!","v":{"$error":"#REF!"}},{"$f":"#REF!+#REF!+#REF!+#REF!+#REF!+#REF!+#REF!+#REF!+#REF!+#REF!+#REF!+#REF!+#REF!+#REF!+#REF!+#REF!+#REF!+#REF!+#REF!+#REF!+#REF!+#REF!+#REF!+#REF!+#REF!+#REF!+#REF!+#REF!+#REF!+#REF!+#REF!+#REF!+#REF!","v":{"$error":"#REF!"}},{"$f":"#REF!+#REF!+#REF!+#REF!+#REF!+#REF!+#REF!+#REF!+#REF!+#REF!+#REF!+#REF!+#REF!+#REF!+#REF!+#REF!+#REF!+#REF!+#REF!+#REF!+#REF!+#REF!+#REF!+#REF!+#REF!+#REF!+#REF!+#REF!+#REF!+#REF!+#REF!+#REF!+#REF!","v":{"$error":"#REF!"}},{"$f":"'9_Per Pupil Summary'!N74","v":5423},{"$f":"#REF!+#REF!+#REF!+#REF!+#REF!+#REF!+#REF!+#REF!+#REF!+#REF!+#REF!+#REF!+#REF!+#REF!+#REF!+#REF!+#REF!+#REF!+#REF!+#REF!+#REF!+#REF!+#REF!+#REF!+#REF!+#REF!+#REF!+#REF!+#REF!+#REF!+#REF!+#REF!+#REF!","v":{"$error":"#REF!"}},{"$f":"#REF!+#REF!+#REF!+#REF!+#REF!+#REF!+#REF!+#REF!+#REF!+#REF!+#REF!+#REF!+#REF!+#REF!+#REF!+#REF!+#REF!+#REF!+#REF!+#REF!+#REF!+#REF!+#REF!+#REF!+#REF!+#REF!+#REF!+#REF!+#REF!+#REF!+#REF!+#REF!+#REF!","v":{"$error":"#REF!"}},{"$f":"#REF!+#REF!+#REF!+#REF!+#REF!+#REF!+#REF!+#REF!+#REF!+#REF!+#REF!+#REF!+#REF!+#REF!+#REF!+#REF!+#REF!+#REF!+#REF!+#REF!+#REF!+#REF!+#REF!+#REF!+#REF!+#REF!+#REF!+#REF!+#REF!+#REF!+#REF!+#REF!+#REF!","v":{"$error":"#REF!"}},{"$f":"#REF!+#REF!+#REF!+#REF!+#REF!+#REF!+#REF!+#REF!+#REF!+#REF!+#REF!+#REF!+#REF!+#REF!+#REF!+#REF!+#REF!+#REF!+#REF!+#REF!+#REF!+#REF!+#REF!+#REF!+#REF!+#REF!+#REF!+#REF!+#REF!+#REF!+#REF!+#REF!+#REF!","v":{"$error":"#REF!"}},{"$f":"#REF!+#REF!+#REF!+#REF!+#REF!+#REF!+#REF!+#REF!+#REF!+#REF!+#REF!+#REF!+#REF!+#REF!+#REF!+#REF!+#REF!+#REF!+#REF!+#REF!+#REF!+#REF!+#REF!+#REF!+#REF!+#REF!+#REF!+#REF!+#REF!+#REF!+#REF!+#REF!+#REF!","v":{"$error":"#REF!"}},{"$f":"#REF!+#REF!+#REF!+#REF!+#REF!+#REF!+#REF!+#REF!+#REF!+#REF!+#REF!+#REF!+#REF!+#REF!+#REF!+#REF!+#REF!+#REF!+#REF!+#REF!+#REF!+#REF!+#REF!+#REF!+#REF!+#REF!+#REF!+#REF!+#REF!+#REF!+#REF!+#REF!+#REF!","v":{"$error":"#REF!"}},{"$f":"#REF!+#REF!+#REF!+#REF!+#REF!+#REF!+#REF!+#REF!+#REF!+#REF!+#REF!+#REF!+#REF!+#REF!+#REF!+#REF!+#REF!+#REF!+#REF!+#REF!+#REF!+#REF!+#REF!+#REF!+#REF!+#REF!+#REF!+#REF!+#REF!+#REF!+#REF!+#REF!+#REF!","v":{"$error":"#REF!"}},{"$f":"#REF!+#REF!+#REF!+#REF!+#REF!+#REF!+#REF!+#REF!+#REF!+#REF!+#REF!+#REF!+#REF!+#REF!+#REF!+#REF!+#REF!+#REF!+#REF!+#REF!+#REF!+#REF!+#REF!+#REF!+#REF!+#REF!+#REF!+#REF!+#REF!+#REF!+#REF!+#REF!+#REF!","v":{"$error":"#REF!"}},{"$f":"#REF!+#REF!+#REF!+#REF!+#REF!+#REF!+#REF!+#REF!+#REF!+#REF!+#REF!+#REF!+#REF!+#REF!+#REF!+#REF!+#REF!+#REF!+#REF!+#REF!+#REF!+#REF!+#REF!+#REF!+#REF!+#REF!+#REF!+#REF!+#REF!+#REF!+#REF!+#REF!+#REF!","v":{"$error":"#REF!"}},{"$f":"#REF!+#REF!+#REF!+#REF!+#REF!+#REF!+#REF!+#REF!+#REF!+#REF!+#REF!+#REF!+#REF!+#REF!+#REF!+#REF!+#REF!+#REF!+#REF!+#REF!+#REF!+#REF!+#REF!+#REF!+#REF!+#REF!+#REF!+#REF!+#REF!+#REF!+#REF!+#REF!+#REF!","v":{"$error":"#REF!"}},{"$f":"#REF!+#REF!+#REF!+#REF!+#REF!+#REF!+#REF!+#REF!+#REF!+#REF!+#REF!+#REF!+#REF!+#REF!+#REF!+#REF!+#REF!+#REF!+#REF!+#REF!+#REF!+#REF!+#REF!+#REF!+#REF!+#REF!+#REF!+#REF!+#REF!+#REF!+#REF!+#REF!+#REF!","v":{"$error":"#REF!"}},{"$f":"#REF!+#REF!+#REF!+#REF!+#REF!+#REF!+#REF!+#REF!+#REF!+#REF!+#REF!+#REF!+#REF!+#REF!+#REF!+#REF!+#REF!+#REF!+#REF!+#REF!+#REF!+#REF!+#REF!+#REF!+#REF!+#REF!+#REF!+#REF!+#REF!+#REF!+#REF!+#REF!+#REF!","v":{"$error":"#REF!"}},{"$f":"#REF!+#REF!+#REF!+#REF!+#REF!+#REF!+#REF!+#REF!+#REF!+#REF!+#REF!+#REF!+#REF!+#REF!+#REF!+#REF!+#REF!+#REF!+#REF!+#REF!+#REF!+#REF!+#REF!+#REF!+#REF!+#REF!+#REF!+#REF!+#REF!+#REF!+#REF!+#REF!+#REF!","v":{"$error":"#REF!"}},{"$f":"#REF!+#REF!+#REF!+#REF!+#REF!+#REF!+#REF!+#REF!+#REF!+#REF!+#REF!+#REF!+#REF!+#REF!+#REF!+#REF!+#REF!+#REF!+#REF!+#REF!+#REF!+#REF!+#REF!+#REF!+#REF!+#REF!+#REF!+#REF!+#REF!+#REF!+#REF!+#REF!+#REF!","v":{"$error":"#REF!"}},{"$f":"AA75+AQ75","v":{"$error":"#REF!"}},{"$f":"AD75+AT75","v":{"$error":"#REF!"}},{"$f":"#REF!+#REF!+#REF!+#REF!+#REF!+#REF!+#REF!+#REF!+#REF!+#REF!+#REF!+#REF!+#REF!+#REF!+#REF!+#REF!+#REF!+#REF!+#REF!+#REF!+#REF!+#REF!+#REF!+#REF!+#REF!+#REF!+#REF!+#REF!+#REF!+#REF!+#REF!+#REF!+#REF!","v":{"$error":"#REF!"}},null,{"$f":"AW75-AX75","v":{"$error":"#REF!"}}]
["State Subtotal",null,{"$f":"SUM(C7:C75)","v":{"$error":"#REF!"}},null,{"$f":"SUM(E7:E75)","v":{"$error":"#REF!"}},{"$f":"SUM(F7:F75)","v":{"$error":"#REF!"}},null,{"$f":"SUM(H7:H75)","v":{"$error":"#REF!"}},{"$f":"SUM(I7:I75)","v":{"$error":"#REF!"}},null,{"$f":"SUM(K7:K75)","v":{"$error":"#REF!"}},{"$f":"SUM(L7:L75)","v":{"$error":"#REF!"}},null,{"$f":"SUM(N7:N75)","v":{"$error":"#REF!"}},{"$f":"SUM(O7:O75)","v":{"$error":"#REF!"}},null,{"$f":"SUM(Q7:Q75)","v":{"$error":"#REF!"}},{"$f":"SUM(R7:R75)","v":{"$error":"#REF!"}},{"$error":"#REF!"},{"$error":"#REF!"},{"$error":"#REF!"},{"$error":"#REF!"},{"$error":"#REF!"},{"$error":"#REF!"},{"$error":"#REF!"},{"$error":"#REF!"},{"$error":"#REF!"},{"$error":"#REF!"},{"$error":"#REF!"},{"$error":"#REF!"},{"$error":"#REF!"},{"$f":"'9_Per Pupil Summary'!N75","v":6911},{"$error":"#REF!"},{"$error":"#REF!"},{"$error":"#REF!"},{"$error":"#REF!"},{"$error":"#REF!"},{"$error":"#REF!"},{"$error":"#REF!"},{"$error":"#REF!"},{"$error":"#REF!"},{"$f":"SUM(AP7:AP75)","v":{"$error":"#REF!"}},{"$error":"#REF!"},{"$error":"#REF!"},{"$error":"#REF!"},{"$error":"#REF!"},{"$error":"#REF!"},{"$error":"#REF!"},{"$f":"SUM(AW7:AW75)","v":{"$error":"#REF!"}},{"$f":"SUM(AX7:AX75)","v":0},{"$f":"SUM(AY7:AY75)","v":{"$error":"#REF!"}}]
["Level 4 Allocations",null,null,null,null,null,null,null,null,null,null,null,null,null,null,null,null,null,null,null,null,null,null,null,null,null,null,null,null,null,null,null,null,null,null,null,null,null,null,null,null,null,null,null,null,null,{"$f":"AA77+AQ77","v":0},{"$f":"AD77+AT77","v":0}]
["International Assoc/Escadrille Salaries",null,null,null,null,null,null,null,null,null,null,null,null,null,null,null,null,null,null,null,null,null,null,null,null,null,{"$f":"#REF!+#REF!+#REF!+#REF!+#REF!+#REF!+#REF!+#REF!+#REF!+#REF!+#REF!+#REF!+#REF!+#REF!+#REF!+#REF!+#REF!+#REF!+#REF!+#REF!+#REF!+#REF!+#REF!+#REF!+#REF!+#REF!+#REF!+#REF!+#REF!+#REF!+#REF!+#REF!+#REF!","v":{"$error":"#REF!"}},{"$f":"#REF!+#REF!+#REF!+#REF!+#REF!+#REF!+#REF!+#REF!+#REF!+#REF!+#REF!+#REF!+#REF!+#REF!+#REF!+#REF!+#REF!+#REF!+#REF!+#REF!+#REF!+#REF!+#REF!+#REF!+#REF!+#REF!+#REF!+#REF!+#REF!+#REF!+#REF!+#REF!+#REF!","v":{"$error":"#REF!"}},{"$f":"#REF!+#REF!+#REF!+#REF!+#REF!+#REF!+#REF!+#REF!+#REF!+#REF!+#REF!+#REF!+#REF!+#REF!+#REF!+#REF!+#REF!+#REF!+#REF!+#REF!+#REF!+#REF!+#REF!+#REF!+#REF!+#REF!+#REF!+#REF!+#REF!+#REF!+#REF!+#REF!+#REF!","v":{"$error":"#REF!"}},{"$f":"#REF!+#REF!+#REF!+#REF!+#REF!+#REF!+#REF!+#REF!+#REF!+#REF!+#REF!+#REF!+#REF!+#REF!+#REF!+#REF!+#REF!+#REF!+#REF!+#REF!+#REF!+#REF!+#REF!+#REF!+#REF!+#REF!+#REF!+#REF!+#REF!+#REF!+#REF!+#REF!+#REF!","v":{"$error":"#REF!"}},{"$f":"#REF!+#REF!+#REF!+#REF!+#REF!+#REF!+#REF!+#REF!+#REF!+#REF!+#REF!+#REF!+#REF!+#REF!+#REF!+#REF!+#REF!+#REF!+#REF!+#REF!+#REF!+#REF!+#REF!+#REF!+#REF!+#REF!+#REF!+#REF!+#REF!+#REF!+#REF!+#REF!+#REF!","v":{"$error":"#REF!"}},null,null,null,null,null,null,null,null,null,null,null,null,null,null,null,{"$error":"#REF!"},{"$f":"AD78+AT78","v":{"$error":"#REF!"}}]
["International Assoc/Escadrille Stipends",null,null,null,null,null,null,null,null,null,null,null,null,null,null,null,null,null,null,null,null,null,null,null,null,null,{"$f":"#REF!+#REF!+#REF!+#REF!+#REF!+#REF!+#REF!+#REF!+#REF!+#REF!+#REF!+#REF!+#REF!+#REF!+#REF!+#REF!+#REF!+#REF!+#REF!+#REF!+#REF!+#REF!+#REF!+#REF!+#REF!+#REF!+#REF!+#REF!+#REF!+#REF!+#REF!+#REF!+#REF!","v":{"$error":"#REF!"}},{"$f":"#REF!+#REF!+#REF!+#REF!+#REF!+#REF!+#REF!+#REF!+#REF!+#REF!+#REF!+#REF!+#REF!+#REF!+#REF!+#REF!+#REF!+#REF!+#REF!+#REF!+#REF!+#REF!+#REF!+#REF!+#REF!+#REF!+#REF!+#REF!+#REF!+#REF!+#REF!+#REF!+#REF!","v":{"$error":"#REF!"}},{"$f":"#REF!+#REF!+#REF!+#REF!+#REF!+#REF!+#REF!+#REF!+#REF!+#REF!+#REF!+#REF!+#REF!+#REF!+#REF!+#REF!+#REF!+#REF!+#REF!+#REF!+#REF!+#REF!+#REF!+#REF!+#REF!+#REF!+#REF!+#REF!+#REF!+#REF!+#REF!+#REF!+#REF!","v":{"$error":"#REF!"}},{"$f":"#REF!+#REF!+#REF!+#REF!+#REF!+#REF!+#REF!+#REF!+#REF!+#REF!+#REF!+#REF!+#REF!+#REF!+#REF!+#REF!+#REF!+#REF!+#REF!+#REF!+#REF!+#REF!+#REF!+#REF!+#REF!+#REF!+#REF!+#REF!+#REF!+#REF!+#REF!+#REF!+#REF!","v":{"$error":"#REF!"}},{"$f":"#REF!+#REF!+#REF!+#REF!+#REF!+#REF!+#REF!+#REF!+#REF!+#REF!+#REF!+#REF!+#REF!+#REF!+#REF!+#REF!+#REF!+#REF!+#REF!+#REF!+#REF!+#REF!+#REF!+#REF!+#REF!+#REF!+#REF!+#REF!+#REF!+#REF!+#REF!+#REF!+#REF!","v":{"$error":"#REF!"}},null,null,null,null,null,null,null,null,null,null,null,null,null,null,null,{"$error":"#REF!"}]
["Career Development Fund",null,null,null,null,null,null,null,null,null,null,null,null,null,null,null,null,null,null,null,null,null,null,null,null,null,{"$f":"#REF!+#REF!+#REF!+#REF!+#REF!+#REF!+#REF!+#REF!+#REF!+#REF!+#REF!+#REF!+#REF!+#REF!+#REF!+#REF!+#REF!+#REF!+#REF!+#REF!+#REF!+#REF!+#REF!+#REF!+#REF!+#REF!+#REF!+#REF!+#REF!+#REF!+#REF!+#REF!+#REF!","v":{"$error":"#REF!"}},{"$f":"#REF!+#REF!+#REF!+#REF!+#REF!+#REF!+#REF!+#REF!+#REF!+#REF!+#REF!+#REF!+#REF!+#REF!+#REF!+#REF!+#REF!+#REF!+#REF!+#REF!+#REF!+#REF!+#REF!+#REF!+#REF!+#REF!+#REF!+#REF!+#REF!+#REF!+#REF!+#REF!+#REF!","v":{"$error":"#REF!"}},{"$f":"#REF!+#REF!+#REF!+#REF!+#REF!+#REF!+#REF!+#REF!+#REF!+#REF!+#REF!+#REF!+#REF!+#REF!+#REF!+#REF!+#REF!+#REF!+#REF!+#REF!+#REF!+#REF!+#REF!+#REF!+#REF!+#REF!+#REF!+#REF!+#REF!+#REF!+#REF!+#REF!+#REF!","v":{"$error":"#REF!"}},{"$f":"#REF!+#REF!+#REF!+#REF!+#REF!+#REF!+#REF!+#REF!+#REF!+#REF!+#REF!+#REF!+#REF!+#REF!+#REF!+#REF!+#REF!+#REF!+#REF!+#REF!+#REF!+#REF!+#REF!+#REF!+#REF!+#REF!+#REF!+#REF!+#REF!+#REF!+#REF!+#REF!+#REF!","v":{"$error":"#REF!"}},{"$f":"#REF!+#REF!+#REF!+#REF!+#REF!+#REF!+#REF!+#REF!+#REF!+#REF!+#REF!+#REF!+#REF!+#REF!+#REF!+#REF!+#REF!+#REF!+#REF!+#REF!+#REF!+#REF!+#REF!+#REF!+#REF!+#REF!+#REF!+#REF!+#REF!+#REF!+#REF!+#REF!+#REF!","v":{"$error":"#REF!"}},null,null,null,null,null,null,null,null,null,null,null,null,null,null,null,{"$error":"#REF!"}]
["High Cost Services Allocation",null,null,null,null,null,null,null,null,null,null,null,null,null,null,null,null,null,null,null,null,null,null,null,null,null,{"$f":"#REF!+#REF!+#REF!+#REF!+#REF!+#REF!+#REF!+#REF!+#REF!+#REF!+#REF!+#REF!+#REF!+#REF!+#REF!+#REF!+#REF!+#REF!+#REF!+#REF!+#REF!+#REF!+#REF!+#REF!+#REF!+#REF!+#REF!+#REF!+#REF!+#REF!+#REF!+#REF!+#REF!","v":{"$error":"#REF!"}},{"$f":"#REF!+#REF!+#REF!+#REF!+#REF!+#REF!+#REF!+#REF!+#REF!+#REF!+#REF!+#REF!+#REF!+#REF!+#REF!+#REF!+#REF!+#REF!+#REF!+#REF!+#REF!+#REF!+#REF!+#REF!+#REF!+#REF!+#REF!+#REF!+#REF!+#REF!+#REF!+#REF!+#REF!","v":{"$error":"#REF!"}},{"$f":"#REF!+#REF!+#REF!+#REF!+#REF!+#REF!+#REF!+#REF!+#REF!+#REF!+#REF!+#REF!+#REF!+#REF!+#REF!+#REF!+#REF!+#REF!+#REF!+#REF!+#REF!+#REF!+#REF!+#REF!+#REF!+#REF!+#REF!+#REF!+#REF!+#REF!+#REF!+#REF!+#REF!","v":{"$error":"#REF!"}},{"$f":"#REF!+#REF!+#REF!+#REF!+#REF!+#REF!+#REF!+#REF!+#REF!+#REF!+#REF!+#REF!+#REF!+#REF!+#REF!+#REF!+#REF!+#REF!+#REF!+#REF!+#REF!+#REF!+#REF!+#REF!+#REF!+#REF!+#REF!+#REF!+#REF!+#REF!+#REF!+#REF!+#REF!","v":{"$error":"#REF!"}},{"$f":"#REF!+#REF!+#REF!+#REF!+#REF!+#REF!+#REF!+#REF!+#REF!+#REF!+#REF!+#REF!+#REF!+#REF!+#REF!+#REF!+#REF!+#REF!+#REF!+#REF!+#REF!+#REF!+#REF!+#REF!+#REF!+#REF!+#REF!+#REF!+#REF!+#REF!+#REF!+#REF!+#REF!","v":{"$error":"#REF!"}},null,null,null,null,null,null,null,null,null,null,null,null,null,null,null,{"$error":"#REF!"}]
["Supplemental Course Allocation",null,null,null,null,null,null,null,null,null,null,null,null,null,null,null,null,null,null,null,null,null,null,null,null,null,{"$f":"#REF!+#REF!+#REF!+#REF!+#REF!+#REF!+#REF!+#REF!+#REF!+#REF!+#REF!+#REF!+#REF!+#REF!+#REF!+#REF!+#REF!+#REF!+#REF!+#REF!+#REF!+#REF!+#REF!+#REF!+#REF!+#REF!+#REF!+#REF!+#REF!+#REF!+#REF!+#REF!+#REF!","v":{"$error":"#REF!"}},{"$f":"#REF!+#REF!+#REF!+#REF!+#REF!+#REF!+#REF!+#REF!+#REF!+#REF!+#REF!+#REF!+#REF!+#REF!+#REF!+#REF!+#REF!+#REF!+#REF!+#REF!+#REF!+#REF!+#REF!+#REF!+#REF!+#REF!+#REF!+#REF!+#REF!+#REF!+#REF!+#REF!+#REF!","v":{"$error":"#REF!"}},{"$f":"#REF!+#REF!+#REF!+#REF!+#REF!+#REF!+#REF!+#REF!+#REF!+#REF!+#REF!+#REF!+#REF!+#REF!+#REF!+#REF!+#REF!+#REF!+#REF!+#REF!+#REF!+#REF!+#REF!+#REF!+#REF!+#REF!+#REF!+#REF!+#REF!+#REF!+#REF!+#REF!+#REF!","v":{"$error":"#REF!"}},{"$f":"#REF!+#REF!+#REF!+#REF!+#REF!+#REF!+#REF!+#REF!+#REF!+#REF!+#REF!+#REF!+#REF!+#REF!+#REF!+#REF!+#REF!+#REF!+#REF!+#REF!+#REF!+#REF!+#REF!+#REF!+#REF!+#REF!+#REF!+#REF!+#REF!+#REF!+#REF!+#REF!+#REF!","v":{"$error":"#REF!"}},{"$f":"#REF!+#REF!+#REF!+#REF!+#REF!+#REF!+#REF!+#REF!+#REF!+#REF!+#REF!+#REF!+#REF!+#REF!+#REF!+#REF!+#REF!+#REF!+#REF!+#REF!+#REF!+#REF!+#REF!+#REF!+#REF!+#REF!+#REF!+#REF!+#REF!+#REF!+#REF!+#REF!+#REF!","v":{"$error":"#REF!"}},null,null,null,null,null,null,null,null,null,null,null,null,null,null,null,{"$error":"#REF!"},{"$f":"AD82+AT82","v":{"$error":"#REF!"}}]
["FY2019-20 Pay Raise",null,null,null,null,null,null,null,null,null,null,null,null,null,null,null,null,null,null,null,null,null,null,null,null,null,{"$f":"#REF!+#REF!+#REF!+#REF!+#REF!+#REF!+#REF!+#REF!+#REF!+#REF!+#REF!+#REF!+#REF!+#REF!+#REF!+#REF!+#REF!+#REF!+#REF!+#REF!+#REF!+#REF!+#REF!+#REF!+#REF!+#REF!+#REF!+#REF!+#REF!+#REF!+#REF!+#REF!+#REF!","v":{"$error":"#REF!"}},{"$f":"#REF!+#REF!+#REF!+#REF!+#REF!+#REF!+#REF!+#REF!+#REF!+#REF!+#REF!+#REF!+#REF!+#REF!+#REF!+#REF!+#REF!+#REF!+#REF!+#REF!+#REF!+#REF!+#REF!+#REF!+#REF!+#REF!+#REF!+#REF!+#REF!+#REF!+#REF!+#REF!+#REF!","v":{"$error":"#REF!"}},{"$f":"#REF!+#REF!+#REF!+#REF!+#REF!+#REF!+#REF!+#REF!+#REF!+#REF!+#REF!+#REF!+#REF!+#REF!+#REF!+#REF!+#REF!+#REF!+#REF!+#REF!+#REF!+#REF!+#REF!+#REF!+#REF!+#REF!+#REF!+#REF!+#REF!+#REF!+#REF!+#REF!+#REF!","v":{"$error":"#REF!"}},{"$f":"#REF!+#REF!+#REF!+#REF!+#REF!+#REF!+#REF!+#REF!+#REF!+#REF!+#REF!+#REF!+#REF!+#REF!+#REF!+#REF!+#REF!+#REF!+#REF!+#REF!+#REF!+#REF!+#REF!+#REF!+#REF!+#REF!+#REF!+#REF!+#REF!+#REF!+#REF!+#REF!+#REF!","v":{"$error":"#REF!"}},{"$f":"#REF!+#REF!+#REF!+#REF!+#REF!+#REF!+#REF!+#REF!+#REF!+#REF!+#REF!+#REF!+#REF!+#REF!+#REF!+#REF!+#REF!+#REF!+#REF!+#REF!+#REF!+#REF!+#REF!+#REF!+#REF!+#REF!+#REF!+#REF!+#REF!+#REF!+#REF!+#REF!+#REF!","v":{"$error":"#REF!"}},null,null,null,null,null,null,null,null,null,null,null,null,null,null,null,{"$f":"AA83+AQ83","v":{"$error":"#REF!"}},{"$f":"AD83+AT83","v":{"$error":"#REF!"}}]
["FY2021-22 Pay Raise",null,null,null,null,null,null,null,null,null,null,null,null,null,null,null,null,null,null,null,null,null,null,null,null,null,{"$f":"#REF!+#REF!+#REF!+#REF!+#REF!+#REF!+#REF!+#REF!+#REF!+#REF!+#REF!+#REF!+#REF!+#REF!+#REF!+#REF!+#REF!+#REF!+#REF!+#REF!+#REF!+#REF!+#REF!+#REF!+#REF!+#REF!+#REF!+#REF!+#REF!+#REF!+#REF!+#REF!+#REF!","v":{"$error":"#REF!"}},{"$f":"#REF!+#REF!+#REF!+#REF!+#REF!+#REF!+#REF!+#REF!+#REF!+#REF!+#REF!+#REF!+#REF!+#REF!+#REF!+#REF!+#REF!+#REF!+#REF!+#REF!+#REF!+#REF!+#REF!+#REF!+#REF!+#REF!+#REF!+#REF!+#REF!+#REF!+#REF!+#REF!+#REF!","v":{"$error":"#REF!"}},{"$f":"#REF!+#REF!+#REF!+#REF!+#REF!+#REF!+#REF!+#REF!+#REF!+#REF!+#REF!+#REF!+#REF!+#REF!+#REF!+#REF!+#REF!+#REF!+#REF!+#REF!+#REF!+#REF!+#REF!+#REF!+#REF!+#REF!+#REF!+#REF!+#REF!+#REF!+#REF!+#REF!+#REF!","v":{"$error":"#REF!"}},{"$f":"#REF!+#REF!+#REF!+#REF!+#REF!+#REF!+#REF!+#REF!+#REF!+#REF!+#REF!+#REF!+#REF!+#REF!+#REF!+#REF!+#REF!+#REF!+#REF!+#REF!+#REF!+#REF!+#REF!+#REF!+#REF!+#REF!+#REF!+#REF!+#REF!+#REF!+#REF!+#REF!+#REF!","v":{"$error":"#REF!"}},{"$f":"#REF!+#REF!+#REF!+#REF!+#REF!+#REF!+#REF!+#REF!+#REF!+#REF!+#REF!+#REF!+#REF!+#REF!+#REF!+#REF!+#REF!+#REF!+#REF!+#REF!+#REF!+#REF!+#REF!+#REF!+#REF!+#REF!+#REF!+#REF!+#REF!+#REF!+#REF!+#REF!+#REF!","v":{"$error":"#REF!"}},null,null,null,null,null,null,null,null,null,null,null,null,null,null,null,{"$f":"AA84+AQ84","v":{"$error":"#REF!"}},{"$f":"AD84+AT84","v":{"$error":"#REF!"}}]
["State Grand Total With Level 4",null,{"$f":"SUM(C76:C84)","v":{"$error":"#REF!"}},null,{"$error":"#REF!"},{"$error":"#REF!"},null,{"$error":"#REF!"},{"$error":"#REF!"},null,{"$error":"#REF!"},{"$error":"#REF!"},null,{"$error":"#REF!"},{"$error":"#REF!"},null,{"$f":"SUM(Q76:Q84)","v":{"$error":"#REF!"}},{"$error":"#REF!"},{"$error":"#REF!"},{"$error":"#REF!"},{"$error":"#REF!"},{"$error":"#REF!"},{"$error":"#REF!"},{"$error":"#REF!"},{"$error":"#REF!"},{"$error":"#REF!"},{"$f":"SUM(AA76:AA84)","v":{"$error":"#REF!"}},{"$f":"SUM(AB76:AB84)","v":{"$error":"#REF!"}},{"$f":"SUM(AC76:AC84)","v":{"$error":"#REF!"}},{"$f":"SUM(AD76:AD84)","v":{"$error":"#REF!"}},{"$f":"SUM(AE76:AE84)","v":{"$error":"#REF!"}},null,{"$f":"SUM(AG76:AG84)","v":{"$error":"#REF!"}},{"$error":"#REF!"},{"$error":"#REF!"},{"$error":"#REF!"},{"$error":"#REF!"},{"$error":"#REF!"},{"$error":"#REF!"},{"$error":"#REF!"},{"$error":"#REF!"},{"$error":"#REF!"},{"$error":"#REF!"},{"$error":"#REF!"},{"$error":"#REF!"},{"$error":"#REF!"},{"$error":"#REF!"},{"$error":"#REF!"},{"$f":"SUM(AW76:AW84)","v":{"$error":"#REF!"}},{"$f":"SUM(AX76:AX84)","v":0},{"$f":"SUM(AY76:AY84)","v":{"$error":"#REF!"}}]
[]
[null,"Orleans (In a District Building)*",{"$f":"#REF!+#REF!+#REF!+#REF!+#REF!+#REF!+#REF!+#REF!+#REF!+#REF!+#REF!+#REF!+#REF!+#REF!+#REF!+#REF!+#REF!+#REF!+#REF!+#REF!+#REF!+#REF!+#REF!+#REF!+#REF!+#REF!+#REF!+#REF!+#REF!+#REF!+#REF!+#REF!+#REF!","v":{"$error":"#REF!"}},null,null,null,null,null,null,null,null,null,null,null,null,null,null,null,null,null,null,null,null,null,null,null,null,null,null,null,null,{"$f":"'9_Per Pupil Summary'!N41","v":8424},{"$f":"#REF!+#REF!+#REF!+#REF!+#REF!+#REF!+#REF!+#REF!+#REF!+#REF!+#REF!+#REF!+#REF!+#REF!+#REF!+#REF!+#REF!+#REF!+#REF!+#REF!+#REF!+#REF!+#REF!+#REF!+#REF!+#REF!+#REF!+#REF!+#REF!+#REF!+#REF!+#REF!+#REF!","v":{"$error":"#REF!"}},{"$f":"#REF!+#REF!+#REF!+#REF!+#REF!+#REF!+#REF!+#REF!+#REF!+#REF!+#REF!+#REF!+#REF!+#REF!+#REF!+#REF!+#REF!+#REF!+#REF!+#REF!+#REF!+#REF!+#REF!+#REF!+#REF!+#REF!+#REF!+#REF!+#REF!+#REF!+#REF!+#REF!+#REF!","v":{"$error":"#REF!"}},{"$f":"#REF!+#REF!+#REF!+#REF!+#REF!+#REF!+#REF!+#REF!+#REF!+#REF!+#REF!+#REF!+#REF!+#REF!+#REF!+#REF!+#REF!+#REF!+#REF!+#REF!+#REF!+#REF!+#REF!+#REF!+#REF!+#REF!+#REF!+#REF!+#REF!+#REF!+#REF!+#REF!+#REF!","v":{"$error":"#REF!"}},{"$f":"#REF!+#REF!+#REF!+#REF!+#REF!+#REF!+#REF!+#REF!+#REF!+#REF!+#REF!+#REF!+#REF!+#REF!+#REF!+#REF!+#REF!+#REF!+#REF!+#REF!+#REF!+#REF!+#REF!+#REF!+#REF!+#REF!+#REF!+#REF!+#REF!+#REF!+#REF!+#REF!+#REF!","v":{"$error":"#REF!"}},{"$f":"#REF!+#REF!+#REF!+#REF!+#REF!+#REF!+#REF!+#REF!+#REF!+#REF!+#REF!+#REF!+#REF!+#REF!+#REF!+#REF!+#REF!+#REF!+#REF!+#REF!+#REF!+#REF!+#REF!+#REF!+#REF!+#REF!+#REF!+#REF!+#REF!+#REF!+#REF!+#REF!+#REF!","v":{"$error":"#REF!"}},{"$f":"#REF!+#REF!+#REF!+#REF!+#REF!+#REF!+#REF!+#REF!+#REF!+#REF!+#REF!+#REF!+#REF!+#REF!+#REF!+#REF!+#REF!+#REF!+#REF!+#REF!+#REF!+#REF!+#REF!+#REF!+#REF!+#REF!+#REF!+#REF!+#REF!+#REF!+#REF!+#REF!+#REF!","v":{"$error":"#REF!"}}]
[null,"Orleans (Not In a District Building)*",{"$f":"#REF!+#REF!+#REF!+#REF!+#REF!+#REF!+#REF!+#REF!+#REF!+#REF!+#REF!+#REF!+#REF!+#REF!+#REF!+#REF!+#REF!+#REF!+#REF!+#REF!+#REF!+#REF!+#REF!+#REF!+#REF!+#REF!+#REF!+#REF!+#REF!+#REF!+#REF!+#REF!+#REF!","v":{"$error":"#REF!"}},null,null,null,null,null,null,null,null,null,null,null,null,null,null,null,null,null,null,null,null,null,null,null,null,null,null,null,null,{"$f":"'9_Per Pupil Summary'!M41","v":7582},{"$f":"#REF!+#REF!+#REF!+#REF!+#REF!+#REF!+#REF!+#REF!+#REF!+#REF!+#REF!+#REF!+#REF!+#REF!+#REF!+#REF!+#REF!+#REF!+#REF!+#REF!+#REF!+#REF!+#REF!+#REF!+#REF!+#REF!+#REF!+#REF!+#REF!+#REF!+#REF!+#REF!+#REF!","v":{"$error":"#REF!"}},{"$f":"#REF!+#REF!+#REF!+#REF!+#REF!+#REF!+#REF!+#REF!+#REF!+#REF!+#REF!+#REF!+#REF!+#REF!+#REF!+#REF!+#REF!+#REF!+#REF!+#REF!+#REF!+#REF!+#REF!+#REF!+#REF!+#REF!+#REF!+#REF!+#REF!+#REF!+#REF!+#REF!+#REF!","v":{"$error":"#REF!"}},{"$f":"#REF!+#REF!+#REF!+#REF!+#REF!+#REF!+#REF!+#REF!+#REF!+#REF!+#REF!+#REF!+#REF!+#REF!+#REF!+#REF!+#REF!+#REF!+#REF!+#REF!+#REF!+#REF!+#REF!+#REF!+#REF!+#REF!+#REF!+#REF!+#REF!+#REF!+#REF!+#REF!+#REF!","v":{"$error":"#REF!"}},{"$f":"#REF!+#REF!+#REF!+#REF!+#REF!+#REF!+#REF!+#REF!+#REF!+#REF!+#REF!+#REF!+#REF!+#REF!+#REF!+#REF!+#REF!+#REF!+#REF!+#REF!+#REF!+#REF!+#REF!+#REF!+#REF!+#REF!+#REF!+#REF!+#REF!+#REF!+#REF!+#REF!+#REF!","v":{"$error":"#REF!"}},{"$f":"#REF!+#REF!+#REF!+#REF!+#REF!+#REF!+#REF!+#REF!+#REF!+#REF!+#REF!+#REF!+#REF!+#REF!+#REF!+#REF!+#REF!+#REF!+#REF!+#REF!+#REF!+#REF!+#REF!+#REF!+#REF!+#REF!+#REF!+#REF!+#REF!+#REF!+#REF!+#REF!+#REF!","v":{"$error":"#REF!"}},{"$f":"#REF!+#REF!+#REF!+#REF!+#REF!+#REF!+#REF!+#REF!+#REF!+#REF!+#REF!+#REF!+#REF!+#REF!+#REF!+#REF!+#REF!+#REF!+#REF!+#REF!+#REF!+#REF!+#REF!+#REF!+#REF!+#REF!+#REF!+#REF!+#REF!+#REF!+#REF!+#REF!+#REF!","v":{"$error":"#REF!"}}]
["N/A","N/A","N/A","N/A","N/A",null,null,null,null,null,null,null,null,null,null,null,null,null,null,null,null,null,null,null,null,null,null,null,null,12,null,null,null,null,null,null,null,null,null,null,null,null,null,null,null,{"$f":"AD89","v":12}]
[null,null,{"$f":"'5C1_NewType 2'!D44","v":23323},{"$f":"'5C1_NewType 2'!E44","v":0},{"$f":"'5C1_NewType 2'!F44","v":92531070.89329648},{"$f":"'5C1_NewType 2'!G44","v":18566},{"$f":"'5C1_NewType 2'!H44","v":0},{"$f":"'5C1_NewType 2'!I44","v":9634518.3448304143},{"$f":"'5C1_NewType 2'!J44","v":10650},{"$f":"'5C1_NewType 2'!K44","v":0},{"$f":"'5C1_NewType 2'!L44","v":1527173.2009745198},{"$f":"'5C1_NewType 2'!M44","v":2892},{"$f":"'5C1_NewType 2'!N44","v":0},{"$f":"'5C1_NewType 2'!O44","v":10566878.781022355},{"$f":"'5C1_NewType 2'!P44","v":487},{"$f":"'5C1_NewType 2'!Q44","v":0},{"$f":"'5C1_NewType 2'!R44","v":715350.20440846798},{"$f":"'5C1_NewType 2'!S44","v":114974977},{"$f":"'5C1_NewType 2'!#REF!+'5C1_NewType 2'!#REF!","v":{"$error":"#REF!"}},{"$f":"'5C1_NewType 2'!T44","v":14291870},{"$f":"'5C1_NewType 2'!U44","v":-941756},{"$f":"'5C1_NewType 2'!V44","v":13350114},{"$f":"'5C1_NewType 2'!W44","v":128325091},{"$f":"'5C1_NewType 2'!X44","v":-320812},{"$f":"'5C1_NewType 2'!Y44","v":128004279},{"$f":"'5C1_NewType 2'!Z44","v":-158479},{"$f":"'5C1_NewType 2'!AB44","v":140081462},{"$f":"'5C1_NewType 2'!AC44","v":89329827},{"$f":"'5C1_NewType 2'!AD44","v":50751635},{"$f":"'5C1_NewType 2'!AE44","v":12687966},{"$f":"'5C1_NewType 2'!AG44","v":141310296},{"$f":"'5C1_NewType 2'!AH44","v":0},{"$f":"'5C1_NewType 2'!AI44","v":170136675},{"$f":"'5C1_NewType 2'!AJ44","v":3037},{"$f":"'5C1_NewType 2'!AK44","v":23327087},{"$f":"'5C1_NewType 2'!AL44","v":-415},{"$f":"'5C1_NewType 2'!AM44","v":-1283219},{"$f":"'5C1_NewType 2'!AN44","v":22043868},{"$f":"'5C1_NewType 2'!AO44","v":192180543},{"$f":"'5C1_NewType 2'!AP44","v":-480454},{"$f":"'5C1_NewType 2'!AQ44","v":191700089},{"$f":"'5C1_NewType 2'!AR44","v":-187134},{"$f":"'5C1_NewType 2'!AS44","v":191512955},{"$f":"'5C1_NewType 2'!AT44","v":119242530},{"$f":"'5C1_NewType 2'!AU44","v":72270425},{"$f":"'5C1_NewType 2'!AV44","v":18067649},{"$f":"'5C1_NewType 2'!AW44","v":331594417},{"$f":"'5C1_NewType 2'!AX44","v":30755615},{"$f":"'5C1_NewType 2'!#REF!","v":{"$error":"#REF!"}},{"$f":"'5C1_NewType 2'!#REF!","v":{"$error":"#REF!"}},{"$f":"'5C1_NewType 2'!#REF!","v":{"$error":"#REF!"}}]
[null,null,{"$f":"C85-C90","v":{"$error":"#REF!"}},0,{"$error":"#REF!"},{"$error":"#REF!"},0,{"$error":"#REF!"},{"$error":"#REF!"},0,{"$error":"#REF!"},{"$error":"#REF!"},0,{"$error":"#REF!"},{"$error":"#REF!"},0,{"$error":"#REF!"},{"$error":"#REF!"},{"$error":"#REF!"},{"$error":"#REF!"},{"$error":"#REF!"},{"$error":"#REF!"},{"$error":"#REF!"},{"$error":"#REF!"},{"$error":"#REF!"},{"$error":"#REF!"},{"$error":"#REF!"},{"$error":"#REF!"},{"$error":"#REF!"},{"$error":"#REF!"},{"$error":"#REF!"},0,{"$error":"#REF!"},{"$error":"#REF!"},{"$error":"#REF!"},{"$error":"#REF!"},{"$error":"#REF!"},{"$error":"#REF!"},{"$error":"#REF!"},{"$error":"#REF!"},{"$error":"#REF!"},{"$error":"#REF!"},{"$error":"#REF!"},{"$error":"#REF!"},{"$error":"#REF!"},{"$error":"#REF!"},{"$error":"#REF!"},{"$error":"#REF!"},{"$error":"#REF!"},{"$error":"#REF!"},{"$f":"AY85-AY90","v":{"$error":"#REF!"}}]

{"sheet":"LEA Summary","index":2,"n_rows":147,"n_cols":65,"rows_kept":147,"cut":false,"hidden":true,"merged":[[1,63,2,63],[1,58,2,58],[1,59,2,59],[1,60,2,60],[1,61,2,61],[1,62,2,62],[1,51,2,51],[1,38,2,38],[1,48,2,48],[0,57,2,57],[1,54,2,54],[1,55,2,55],[1,52,2,52],[1,47,2,47],[0,0,2,2],[0,56,2,56],[1,32,2,32],[1,12,1,13],[1,14,1,15],[1,18,1,20],[1,21,2,21],[1,23,2,23],[1,24,2,24],[1,25,2,25],[1,26,2,26],[1,30,2,30],[1,49,2,49],[1,50,2,50],[1,16,2,16],[1,53,2,53],[1,27,2,27],[1,35,2,35],[1,36,2,36],[1,31,2,31],[1,46,2,46],[1,33,2,33],[1,34,2,34],[1,37,2,37],[1,39,2,39],[1,40,2,40],[1,41,1,45],[1,28,2,28],[1,29,2,29],[1,3,2,3],[1,8,1,9],[1,10,1,11],[1,22,2,22],[1,4,1,7],[1,17,2,17]]}
["Table 1\nReconciliation",null,null,"MFP State Cost Allocation",null,null,null,null,null,null,null,null,null,null,null,null,null,null,null,null,null,null,null,null,null,null,null,null,null,null,null,null,null,null,null,null,null,null,null,"Local Revenue Representation (LRR)",null,null,null,null,null,null,null,null,null,null,null,null,null,null,null,null,"Total\nState Cost\nAllocation\nand LRR\n\n(Gross of\nAdmin Fees)","State Cost\nAllocation\nand LRR\nMonthly\nPayment"]
[null,null,null,"MFP Funded\nMembership\n\n(Per SIS)","Unweighted",null,null,null,"Economically Disadvantaged (ED)",null,"Career & Technical Units (CTE)",null,"Students with Disabilities (SWD)",null,"Gifted & Talented (GT)",null,"Total MFP\nState Cost\nAllocation\n\n(Levels 1, 2,\n& 3 with\nContinuation\nof Prior Year\nPay Raises)","Return to\nState\n\n(10%)","Mid-Year Adjustment for Students",null,null,"Total MFP\nState Cost\nAllocation\n+/- Mid-Year\nAdjustments","State\nAdmin\nFee\nto RSD\n\n1.75%","State Admin\nFee to the \nDept. of\nEducation\n\n0.25%","Total MFP\nState Cost\nAllocation\n+/- Mid-Year\nAdjustments\n- Admin Fee","Prior Years\nMFP Audit\nAdjustments\n\n(Includes\nFY2019-20\nand\nFY2020-21)","Salaries for\nForeign\nAssociate/\nEscadrille\nTeachers","Supplemental\nCourse\nAllocation","FY2019-20\nCertificated\nand Non-\nCertificated\nPay Raise","FY2021-22\nCertificated\nand Non-\nCertificated\nPay Raise","Total MFP\nState Cost\nAllocation\n+/- Mid-Yr Adjs\n- Admin Fee\n+/- Audit Adjs\n+ Monthly\nLevel 4","YTD\nState\nPayments","Balance \nDue","State\nCost\nAllocation\nMonthly\nPayment\n","Stipends\n for\nForeign\nAssociate/\nEscadrille\nTeachers","Career\nDevelopment\nFund\nAllocation","High Cost\nServices\nAllocation","Total MFP\nState Cost\nAllocation\n+/- Mid-Yr Adjs\n- Admin Fee\n+/- Audit Adjs\n+ Total Level 4","Total MFP\nState Cost\nAllocation\n+/- Mid-Yr Adjs\n- Admin Fee\n+/- Audit Adjs\n+ Total Level 4\n(Gross of\nAdmin Fee)","FY21-22\nLRR\nPer\nPupil\n(per\ncharter\nlaw)","Local\nRevenue\nRepresentation\n(LRR)","Mid-Year Adjustment for Students",null,null,null,null,"Total LRR\n+/- Mid-Year\nAdjustments","Admin\nFee to\nRSD\n\n1.75%","Admin Fee\nto the\nDept. of\nEducation\n\n0.25%","Total LRR\n+/- Mid-Year\nAdjustments\n- Admin Fee","Prior Years\nMFP Audit\nAdjustments\n\n(Includes\nFY2019-20\nand\nFY2020-21)","Total LRR\n+/- Mid-Year\nAdjustments\n- Admin Fee\n+/- Audit Adj.","Total LRR\n+/- Mid-Year\nAdjustments\n+/- Audit Adj.\n(Gross of\nAdmin Fee)","YTD\nPayments","Balance \nDue","LRR\nMonthly\nPayment\n",null,null,"State\nAdmin Fee\nto the \nDept. of\nEducation\n\nCurrent","State\nAdmin Fee\nto the \nDept. of\nEducation\n\nYTD Pmt","Balance Due","Local\nAdmin Fee\nto the \nDept. of\nEducation\n\nCurrent","Local\nAdmin Fee\nto the \nDept. of\nEducation\n\nYTD Pmt","Balance Due"]
[null,null,null,null,"Per Pupil","Unweighted\nState Cost\nAllocation","Per Pupil","Continuation\nof Prior Year\nPay Raises\nState Cost\nAllocation","Student Count\n\n(Per SIS)","State Cost\nAllocation","Student Count\n\n(Per SIS)","State Cost\nAllocation","Student Count\n\n(Per SER)","State Cost\nAllocation","Student Count\n\n(Per SER)","State Cost\nAllocation",null,null,"October\n2021\nMid-Year\nAdjustment\nfor Students","February\n2022\nMid-Year\nAdjustment\nfor Students","Total\nMid-Year\nAdjustment\nfor Students",null,null,null,null,null,null,null,null,null,null,null,null,null,null,null,null,null,null,null,null,"Change in\nFunded\nStudent\nCount Per\nOct. 2021\nMid-Year\nAdjustment","October\n2021\nMid-Year\nAdjustment","Change in\nFunded\nStudent\nCount Per\nFeb. 2022\nMid-Year\nAdjustment","February\n2022\nMid-Year\nAdjustment\n\n(Half the\nPer Pupil)","Total\nMid-Year\nAdjustment\nfor Students"]
[null,null,null,1,{"$f":"D4+1","v":2},3,4,5,6,7,8,9,10,11,12,13,{"$f":"P4+1","v":14},{"$f":"Q4+1","v":15},{"$f":"R4+1","v":16},17,18,19,20,21,22,23,24,25,null,null,{"$f":"AB4+1","v":26},27,28,29,{"$f":"AH4+1","v":30},31,32,{"$f":"AK4+1","v":33},{"$f":"AL4+1","v":34},35,36,37,38,39,40,41,42,43,44,45,46,47,48,49,50,51,52,53,54,55,56,57,58,59]
[null,null,null,null,null,null,null,null,null,null,null,null,null,null,null,null,null,null,null,null,null,null,null,null,null,null,null,null,null,null,null,null,null,null,null,null,null,null,null,null,null,null,null,null,null,null,null,null,null,null,null,null,"2A-1","2A-1",null,null,"2A-1","2A-2",null,null,null,"2A-1","f(x)","2A-2"]
[null,null,null,"Link in File",null,"Link in File",null,null,"Link in File","Link in File","Link in File","Link in File","Link in File","Link in File","Link in File","Link in File",null,null,"Link in File","Link in File","Link in File","Link in File",null,"Link in File","Link in File","Link in File","Link in File",null,null,null,"Link in File","Link in File","Link in File","Link in File","Link in File",null,null,"Link in File",null,null,"Link in File","Link in File","Link in File","Link in File","Link in File","Link in File","Link in File",null,"Link in File","Link in File","Link in File",null,"Link in File","Link in File","Link in File","Link in File","Formula","Formula","Value","Formula","Formula","Value","Formula","Formula"]
[1,1,"Acadia",{"$f":"#REF!","v":{"$error":"#REF!"}},{"$f":"'2_State Distrib and Adjs'!AO7","v":6229},{"$f":"'2_State Distrib and Adjs'!AN7","v":54835931},null,null,null,null,null,null,null,null,null,null,{"$f":"F7+H7+J7+L7+N7+P7","v":54835931},null,{"$f":"'2_State Distrib and Adjs'!AS7","v":43603},{"$f":"'2_State Distrib and Adjs'!AT7","v":-118351},{"$f":"'2_State Distrib and Adjs'!AU7","v":-74748},{"$f":"Q7+U7","v":54761183},null,null,{"$f":"V7","v":54761183},{"$f":"'2_State Distrib and Adjs'!AP7","v":-48399},{"$f":"'2_State Distrib and Adjs'!AW7","v":0},{"$f":"'2_State Distrib and Adjs'!AX7","v":261940},{"$f":"'2_State Distrib and Adjs'!AY7","v":1208252},{"$f":"'2_State Distrib and Adjs'!AZ7","v":966604},{"$f":"'2_State Distrib and Adjs'!BB7","v":58961962},{"$f":"'2_State Distrib and Adjs'!BC7","v":39390048},{"$f":"'2_State Distrib and Adjs'!BD7","v":19571914},{"$f":"'2_State Distrib and Adjs'!BE7","v":4892979},{"$f":"'2_State Distrib and Adjs'!BF7","v":0},{"$f":"'2_State Distrib and Adjs'!BG7","v":251363},{"$f":"'2_State Distrib and Adjs'!BH7","v":0},{"$f":"'2_State Distrib and Adjs'!BJ7","v":59221325},{"$f":"AL7","v":59221325},null,{"$f":"-'New Type 2 Res Summary'!AG7-'5A3_OJJ'!P7","v":{"$error":"#REF!"}},{"$f":"-'New Type 2 Res Summary'!AH7","v":{"$error":"#REF!"}},{"$f":"-'New Type 2 Res Summary'!AI7","v":{"$error":"#REF!"}},{"$f":"-'New Type 2 Res Summary'!AJ7","v":{"$error":"#REF!"}},{"$f":"-'New Type 2 Res Summary'!AK7","v":{"$error":"#REF!"}},{"$f":"-'New Type 2 Res Summary'!AL7","v":{"$error":"#REF!"}},{"$f":"-'New Type 2 Res Summary'!AM7-'5A3_OJJ'!P7","v":{"$error":"#REF!"}},null,{"$f":"-'New Type 2 Res Summary'!AN7","v":{"$error":"#REF!"}},{"$f":"-'New Type 2 Res Summary'!AO7-'5A3_OJJ'!P7","v":{"$error":"#REF!"}},null,{"$f":"-'New Type 2 Res Summary'!AQ7-'5A3_OJJ'!P7","v":{"$error":"#REF!"}},{"$f":"'2A-1_EFT (Annual)'!AQ7","v":-402779},{"$f":"'2A-1_EFT (Annual)'!#REF!+'2A-1_EFT (Annual)'!#REF!","v":{"$error":"#REF!"}},{"$f":"BA7-BB7","v":{"$error":"#REF!"}},{"$f":"#REF!","v":{"$error":"#REF!"}},{"$f":"AM7+BA7","v":58818546},{"$f":"#REF!","v":{"$error":"#REF!"}},null,null,null,{"$f":"#REF!+#REF!","v":{"$error":"#REF!"}},null,{"$f":"BJ7-BK7","v":{"$error":"#REF!"}}]
[2,2,"Allen",{"$f":"#REF!","v":{"$error":"#REF!"}},{"$f":"'2_State Distrib and Adjs'!AO8","v":7418},{"$f":"'2_State Distrib and Adjs'!AN8","v":28093746},null,null,null,null,null,null,null,null,null,null,{"$f":"F8+H8+J8+L8+N8+P8","v":28093746},null,{"$f":"'2_State Distrib and Adjs'!AS8","v":-526678},{"$f":"'2_State Distrib and Adjs'!AT8","v":-51926},{"$f":"'2_State Distrib and Adjs'!AU8","v":-578604},27515142,null,null,27515142,{"$f":"'2_State Distrib and Adjs'!AP8","v":137324},{"$f":"'2_State Distrib and Adjs'!AW8","v":0},{"$f":"'2_State Distrib and Adjs'!AX8","v":121310},{"$f":"'2_State Distrib and Adjs'!AY8","v":635957},{"$f":"'2_State Distrib and Adjs'!AZ8","v":508765},{"$f":"'2_State Distrib and Adjs'!BB8","v":29872433},{"$f":"'2_State Distrib and Adjs'!BC8","v":20179464},{"$f":"'2_State Distrib and Adjs'!BD8","v":9692969},{"$f":"'2_State Distrib and Adjs'!BE8","v":2423242},{"$f":"'2_State Distrib and Adjs'!BF8","v":0},{"$f":"'2_State Distrib and Adjs'!BG8","v":153758},{"$f":"'2_State Distrib and Adjs'!BH8","v":0},{"$f":"'2_State Distrib and Adjs'!BJ8","v":30026191},{"$f":"AL8","v":30026191},null,{"$f":"-'New Type 2 Res Summary'!AG8-'5A3_OJJ'!P8","v":{"$error":"#REF!"}},{"$f":"-'New Type 2 Res Summary'!AH8","v":{"$error":"#REF!"}},{"$f":"-'New Type 2 Res Summary'!AI8","v":{"$error":"#REF!"}},{"$f":"-'New Type 2 Res Summary'!AJ8","v":{"$error":"#REF!"}},{"$f":"-'New Type 2 Res Summary'!AK8","v":{"$error":"#REF!"}},{"$f":"-'New Type 2 Res Summary'!AL8","v":{"$error":"#REF!"}},{"$f":"-'New Type 2 Res Summary'!AM8-'5A3_OJJ'!P8","v":{"$error":"#REF!"}},null,{"$f":"-'New Type 2 Res Summary'!AN8","v":{"$error":"#REF!"}},{"$f":"-'New Type 2 Res Summary'!AO8-'5A3_OJJ'!P8","v":{"$error":"#REF!"}},null,{"$f":"-'New Type 2 Res Summary'!AQ8-'5A3_OJJ'!P8","v":{"$error":"#REF!"}},{"$f":"'2A-1_EFT (Annual)'!AQ8","v":-93729},{"$f":"'2A-1_EFT (Annual)'!#REF!+'2A-1_EFT (Annual)'!#REF!","v":{"$error":"#REF!"}},{"$f":"BA8-BB8","v":{"$error":"#REF!"}},{"$f":"#REF!","v":{"$error":"#REF!"}},29932462,{"$f":"#REF!","v":{"$error":"#REF!"}},null,null,null,{"$f":"#REF!+#REF!","v":{"$error":"#REF!"}},null,{"$f":"BJ8-BK8","v":{"$error":"#REF!"}}]
[3,3,"Ascension",{"$f":"#REF!","v":{"$error":"#REF!"}},{"$f":"'2_State Distrib and Adjs'!AO9","v":4907},{"$f":"'2_State Distrib and Adjs'!AN9","v":114585103},null,null,null,null,null,null,null,null,null,null,114585103,null,{"$f":"'2_State Distrib and Adjs'!AS9","v":544677},{"$f":"'2_State Distrib and Adjs'!AT9","v":95687},{"$f":"'2_State Distrib and Adjs'!AU9","v":640364},115225467,null,null,115225467,{"$f":"'2_State Distrib and Adjs'!AP9","v":-215245},{"$f":"'2_State Distrib and Adjs'!AW9","v":0},{"$f":"'2_State Distrib and Adjs'!AX9","v":754950},{"$f":"'2_State Distrib and Adjs'!AY9","v":3690624},{"$f":"'2_State Distrib and Adjs'!AZ9","v":2952499},{"$f":"'2_State Distrib and Adjs'!BB9","v":127944232},{"$f":"'2_State Distrib and Adjs'!BC9","v":84832200},{"$f":"'2_State Distrib and Adjs'!BD9","v":43112032},{"$f":"'2_State Distrib and Adjs'!BE9","v":10778008},{"$f":"'2_State Distrib and Adjs'!BF9","v":0},{"$f":"'2_State Distrib and Adjs'!BG9","v":1157523},{"$f":"'2_State Distrib and Adjs'!BH9","v":169989},{"$f":"'2_State Distrib and Adjs'!BJ9","v":129354744},129354744,null,{"$f":"-'New Type 2 Res Summary'!AG9-'5A3_OJJ'!P9","v":{"$error":"#REF!"}},{"$f":"-'New Type 2 Res Summary'!AH9","v":{"$error":"#REF!"}},{"$f":"-'New Type 2 Res Summary'!AI9","v":{"$error":"#REF!"}},{"$f":"-'New Type 2 Res Summary'!AJ9","v":{"$error":"#REF!"}},{"$f":"-'New Type 2 Res Summary'!AK9","v":{"$error":"#REF!"}},{"$f":"-'New Type 2 Res Summary'!AL9","v":{"$error":"#REF!"}},{"$f":"-'New Type 2 Res Summary'!AM9-'5A3_OJJ'!P9","v":{"$error":"#REF!"}},null,{"$f":"-'New Type 2 Res Summary'!AN9","v":{"$error":"#REF!"}},{"$f":"-'New Type 2 Res Summary'!AO9-'5A3_OJJ'!P9","v":{"$error":"#REF!"}},null,{"$f":"-'New Type 2 Res Summary'!AQ9-'5A3_OJJ'!P9","v":{"$error":"#REF!"}},{"$f":"'2A-1_EFT (Annual)'!AQ9","v":-2001318},{"$f":"'2A-1_EFT (Annual)'!#REF!+'2A-1_EFT (Annual)'!#REF!","v":{"$error":"#REF!"}},{"$error":"#REF!"},{"$f":"#REF!","v":{"$error":"#REF!"}},127353426,{"$f":"#REF!","v":{"$error":"#REF!"}},null,null,null,{"$f":"#REF!+#REF!","v":{"$error":"#REF!"}},null,{"$error":"#REF!"}]
[4,4,"Assumption",{"$f":"#REF!","v":{"$error":"#REF!"}},{"$f":"'2_State Distrib and Adjs'!AO10","v":6780},{"$f":"'2_State Distrib and Adjs'!AN10","v":18291265},null,null,null,null,null,null,null,null,null,null,18291265,null,{"$f":"'2_State Distrib and Adjs'!AS10","v":-603420},{"$f":"'2_State Distrib and Adjs'!AT10","v":13560},{"$f":"'2_State Distrib and Adjs'!AU10","v":-589860},17701405,null,null,17701405,{"$f":"'2_State Distrib and Adjs'!AP10","v":-6704},{"$f":"'2_State Distrib and Adjs'!AW10","v":21000},{"$f":"'2_State Distrib and Adjs'!AX10","v":85120},{"$f":"'2_State Distrib and Adjs'!AY10","v":425482},{"$f":"'2_State Distrib and Adjs'!AZ10","v":340386},{"$f":"'2_State Distrib and Adjs'!BB10","v":19204913},{"$f":"'2_State Distrib and Adjs'!BC10","v":13154829},{"$f":"'2_State Distrib and Adjs'!BD10","v":6050084},{"$f":"'2_State Distrib and Adjs'!BE10","v":1512521},{"$f":"'2_State Distrib and Adjs'!BF10","v":0},{"$f":"'2_State Distrib and Adjs'!BG10","v":80012},{"$f":"'2_State Distrib and Adjs'!BH10","v":226020},{"$f":"'2_State Distrib and Adjs'!BJ10","v":19522945},19522945,null,{"$f":"-'New Type 2 Res Summary'!AG10-'5A3_OJJ'!P10","v":{"$error":"#REF!"}},{"$f":"-'New Type 2 Res Summary'!AH10","v":{"$error":"#REF!"}},{"$f":"-'New Type 2 Res Summary'!AI10","v":{"$error":"#REF!"}},{"$f":"-'New Type 2 Res Summary'!AJ10","v":{"$error":"#REF!"}},{"$f":"-'New Type 2 Res Summary'!AK10","v":{"$error":"#REF!"}},{"$f":"-'New Type 2 Res Summary'!AL10","v":{"$error":"#REF!"}},{"$f":"-'New Type 2 Res Summary'!AM10-'5A3_OJJ'!P10","v":{"$error":"#REF!"}},null,{"$f":"-'New Type 2 Res Summary'!AN10","v":{"$error":"#REF!"}},{"$f":"-'New Type 2 Res Summary'!AO10-'5A3_OJJ'!P10","v":{"$error":"#REF!"}},null,{"$f":"-'New Type 2 Res Summary'!AQ10-'5A3_OJJ'!P10","v":{"$error":"#REF!"}},{"$f":"'2A-1_EFT (Annual)'!AQ10","v":-266954},{"$f":"'2A-1_EFT (Annual)'!#REF!+'2A-1_EFT (Annual)'!#REF!","v":{"$error":"#REF!"}},{"$error":"#REF!"},{"$f":"#REF!","v":{"$error":"#REF!"}},19255991,{"$f":"#REF!","v":{"$error":"#REF!"}},null,null,null,{"$f":"#REF!+#REF!","v":{"$error":"#REF!"}},null,{"$error":"#REF!"}]
[5,5,"Avoyelles",{"$f":"#REF!","v":{"$error":"#REF!"}},{"$f":"'2_State Distrib and Adjs'!AO11","v":6682},{"$f":"'2_State Distrib and Adjs'!AN11","v":31551043},null,null,null,null,null,null,null,null,null,null,31551043,null,{"$f":"'2_State Distrib and Adjs'!AS11","v":-53456},{"$f":"'2_State Distrib and Adjs'!AT11","v":-210483},{"$f":"'2_State Distrib and Adjs'!AU11","v":-263939},31287104,null,null,31287104,{"$f":"'2_State Distrib and Adjs'!AP11","v":-109759},{"$f":"'2_State Distrib and Adjs'!AW11","v":0},{"$f":"'2_State Distrib and Adjs'!AX11","v":152320},{"$f":"'2_State Distrib and Adjs'!AY11","v":588086},{"$f":"'2_State Distrib and Adjs'!AZ11","v":470469},{"$f":"'2_State Distrib and Adjs'!BB11","v":33270349},{"$f":"'2_State Distrib and Adjs'!BC11","v":22426400},{"$f":"'2_State Distrib and Adjs'!BD11","v":10843949},{"$f":"'2_State Distrib and Adjs'!BE11","v":2710987},{"$f":"'2_State Distrib and Adjs'!BF11","v":0},{"$f":"'2_State Distrib and Adjs'!BG11","v":222202},{"$f":"'2_State Distrib and Adjs'!BH11","v":99893},{"$f":"'2_State Distrib and Adjs'!BJ11","v":33592444},33592444,null,{"$f":"-'New Type 2 Res Summary'!AG11-'5A3_OJJ'!P11","v":{"$error":"#REF!"}},{"$f":"-'New Type 2 Res Summary'!AH11","v":{"$error":"#REF!"}},{"$f":"-'New Type 2 Res Summary'!AI11","v":{"$error":"#REF!"}},{"$f":"-'New Type 2 Res Summary'!AJ11","v":{"$error":"#REF!"}},{"$f":"-'New Type 2 Res Summary'!AK11","v":{"$error":"#REF!"}},{"$f":"-'New Type 2 Res Summary'!AL11","v":{"$error":"#REF!"}},{"$f":"-'New Type 2 Res Summary'!AM11-'5A3_OJJ'!P11","v":{"$error":"#REF!"}},null,{"$f":"-'New Type 2 Res Summary'!AN11","v":{"$error":"#REF!"}},{"$f":"-'New Type 2 Res Summary'!AO11-'5A3_OJJ'!P11","v":{"$error":"#REF!"}},null,{"$f":"-'New Type 2 Res Summary'!AQ11-'5A3_OJJ'!P11","v":{"$error":"#REF!"}},{"$f":"'2A-1_EFT (Annual)'!AQ11","v":-561737},{"$f":"'2A-1_EFT (Annual)'!#REF!+'2A-1_EFT (Annual)'!#REF!","v":{"$error":"#REF!"}},{"$error":"#REF!"},{"$f":"#REF!","v":{"$error":"#REF!"}},33030707,{"$f":"#REF!","v":{"$error":"#REF!"}},null,null,null,{"$f":"#REF!+#REF!","v":{"$error":"#REF!"}},null,{"$error":"#REF!"}]
[6,6,"Beauregard",{"$f":"#REF!","v":{"$error":"#REF!"}},{"$f":"'2_State Distrib and Adjs'!AO12","v":6124},{"$f":"'2_State Distrib and Adjs'!AN12","v":33508514},null,null,null,null,null,null,null,null,null,null,33508514,null,{"$f":"'2_State Distrib and Adjs'!AS12","v":275580},{"$f":"'2_State Distrib and Adjs'!AT12","v":6124},{"$f":"'2_State Distrib and Adjs'!AU12","v":281704},33790218,null,null,33790218,{"$f":"'2_State Distrib and Adjs'!AP12","v":-33781},{"$f":"'2_State Distrib and Adjs'!AW12","v":0},{"$f":"'2_State Distrib and Adjs'!AX12","v":167440},{"$f":"'2_State Distrib and Adjs'!AY12","v":866614},{"$f":"'2_State Distrib and Adjs'!AZ12","v":693291},{"$f":"'2_State Distrib and Adjs'!BB12","v":36783702},{"$f":"'2_State Distrib and Adjs'!BC12","v":24290324},{"$f":"'2_State Distrib and Adjs'!BD12","v":12493378},{"$f":"'2_State Distrib and Adjs'!BE12","v":3123345},{"$f":"'2_State Distrib and Adjs'!BF12","v":0},{"$f":"'2_State Distrib and Adjs'!BG12","v":91339},{"$f":"'2_State Distrib and Adjs'!BH12","v":0},{"$f":"'2_State Distrib and Adjs'!BJ12","v":36895041},36895041,null,{"$f":"-'New Type 2 Res Summary'!AG12-'5A3_OJJ'!P12","v":{"$error":"#REF!"}},{"$f":"-'New Type 2 Res Summary'!AH12","v":{"$error":"#REF!"}},{"$f":"-'New Type 2 Res Summary'!AI12","v":{"$error":"#REF!"}},{"$f":"-'New Type 2 Res Summary'!AJ12","v":{"$error":"#REF!"}},{"$f":"-'New Type 2 Res Summary'!AK12","v":{"$error":"#REF!"}},{"$f":"-'New Type 2 Res Summary'!AL12","v":{"$error":"#REF!"}},{"$f":"-'New Type 2 Res Summary'!AM12-'5A3_OJJ'!P12","v":{"$error":"#REF!"}},null,{"$f":"-'New Type 2 Res Summary'!AN12","v":{"$error":"#REF!"}},{"$f":"-'New Type 2 Res Summary'!AO12-'5A3_OJJ'!P12","v":{"$error":"#REF!"}},null,{"$f":"-'New Type 2 Res Summary'!AQ12-'5A3_OJJ'!P12","v":{"$error":"#REF!"}},{"$f":"'2A-1_EFT (Annual)'!AQ12","v":-197182},{"$f":"'2A-1_EFT (Annual)'!#REF!+'2A-1_EFT (Annual)'!#REF!","v":{"$error":"#REF!"}},{"$error":"#REF!"},{"$f":"#REF!","v":{"$error":"#REF!"}},36697859,{"$f":"#REF!","v":{"$error":"#REF!"}},null,null,null,{"$f":"#REF!+#REF!","v":{"$error":"#REF!"}},null,{"$error":"#REF!"}]
[7,7,"Bienville",{"$f":"#REF!","v":{"$error":"#REF!"}},{"$f":"'2_State Distrib and Adjs'!AO13","v":4596},{"$f":"'2_State Distrib and Adjs'!AN13","v":8387265},null,null,null,null,null,null,null,null,null,null,8387265,null,{"$f":"'2_State Distrib and Adjs'!AS13","v":-160860},{"$f":"'2_State Distrib and Adjs'!AT13","v":-64344},{"$f":"'2_State Distrib and Adjs'!AU13","v":-225204},8162061,null,null,8162061,{"$f":"'2_State Distrib and Adjs'!AP13","v":-7902},{"$f":"'2_State Distrib and Adjs'!AW13","v":0},{"$f":"'2_State Distrib and Adjs'!AX13","v":57260},{"$f":"'2_State Distrib and Adjs'!AY13","v":375089},{"$f":"'2_State Distrib and Adjs'!AZ13","v":300071},{"$f":"'2_State Distrib and Adjs'!BB13","v":9449212},{"$f":"'2_State Distrib and Adjs'!BC13","v":6485699},{"$f":"'2_State Distrib and Adjs'!BD13","v":2963513},{"$f":"'2_State Distrib and Adjs'!BE13","v":740878},{"$f":"'2_State Distrib and Adjs'!BF13","v":0},{"$f":"'2_State Distrib and Adjs'!BG13","v":66757},{"$f":"'2_State Distrib and Adjs'!BH13","v":0},{"$f":"'2_State Distrib and Adjs'!BJ13","v":9515969},9515969,null,{"$f":"-'New Type 2 Res Summary'!AG13-'5A3_OJJ'!P13","v":{"$error":"#REF!"}},{"$f":"-'New Type 2 Res Summary'!AH13","v":{"$error":"#REF!"}},{"$f":"-'New Type 2 Res Summary'!AI13","v":{"$error":"#REF!"}},{"$f":"-'New Type 2 Res Summary'!AJ13","v":{"$error":"#REF!"}},{"$f":"-'New Type 2 Res Summary'!AK13","v":{"$error":"#REF!"}},{"$f":"-'New Type 2 Res Summary'!AL13","v":{"$error":"#REF!"}},{"$f":"-'New Type 2 Res Summary'!AM13-'5A3_OJJ'!P13","v":{"$error":"#REF!"}},null,{"$f":"-'New Type 2 Res Summary'!AN13","v":{"$error":"#REF!"}},{"$f":"-'New Type 2 Res Summary'!AO13-'5A3_OJJ'!P13","v":{"$error":"#REF!"}},null,{"$f":"-'New Type 2 Res Summary'!AQ13-'5A3_OJJ'!P13","v":{"$error":"#REF!"}},{"$f":"'2A-1_EFT (Annual)'!AQ13","v":-421754},{"$f":"'2A-1_EFT (Annual)'!#REF!+'2A-1_EFT (Annual)'!#REF!","v":{"$error":"#REF!"}},{"$error":"#REF!"},{"$f":"#REF!","v":{"$error":"#REF!"}},9094215,{"$f":"#REF!","v":{"$error":"#REF!"}},null,null,null,{"$f":"#REF!+#REF!","v":{"$error":"#REF!"}},null,{"$error":"#REF!"}]
[8,8,"Bossier",{"$f":"#REF!","v":{"$error":"#REF!"}},{"$f":"'2_State Distrib and Adjs'!AO14","v":6027},{"$f":"'2_State Distrib and Adjs'!AN14","v":132956944},null,null,null,null,null,null,null,null,null,null,132956944,null,{"$f":"'2_State Distrib and Adjs'!AS14","v":-952266},{"$f":"'2_State Distrib and Adjs'!AT14","v":-415863},{"$f":"'2_State Distrib and Adjs'!AU14","v":-1368129},131588815,null,null,131588815,{"$f":"'2_State Distrib and Adjs'!AP14","v":-115217},{"$f":"'2_State Distrib and Adjs'!AW14","v":105000},{"$f":"'2_State Distrib and Adjs'!AX14","v":694050},{"$f":"'2_State Distrib and Adjs'!AY14","v":3338627},{"$f":"'2_State Distrib and Adjs'!AZ14","v":2670901},{"$f":"'2_State Distrib and Adjs'!BB14","v":143290116},{"$f":"'2_State Distrib and Adjs'!BC14","v":96372680},{"$f":"'2_State Distrib and Adjs'!BD14","v":46917436},{"$f":"'2_State Distrib and Adjs'!BE14","v":11729359},{"$f":"'2_State Distrib and Adjs'!BF14","v":12000},{"$f":"'2_State Distrib and Adjs'!BG14","v":643470},{"$f":"'2_State Distrib and Adjs'!BH14","v":0},{"$f":"'2_State Distrib and Adjs'!BJ14","v":144004586},144004586,null,{"$f":"-'New Type 2 Res Summary'!AG14-'5A3_OJJ'!P14","v":{"$error":"#REF!"}},{"$f":"-'New Type 2 Res Summary'!AH14","v":{"$error":"#REF!"}},{"$f":"-'New Type 2 Res Summary'!AI14","v":{"$error":"#REF!"}},{"$f":"-'New Type 2 Res Summary'!AJ14","v":{"$error":"#REF!"}},{"$f":"-'New Type 2 Res Summary'!AK14","v":{"$error":"#REF!"}},{"$f":"-'New Type 2 Res Summary'!AL14","v":{"$error":"#REF!"}},{"$f":"-'New Type 2 Res Summary'!AM14-'5A3_OJJ'!P14","v":{"$error":"#REF!"}},null,{"$f":"-'New Type 2 Res Summary'!AN14","v":{"$error":"#REF!"}},{"$f":"-'New Type 2 Res Summary'!AO14-'5A3_OJJ'!P14","v":{"$error":"#REF!"}},null,{"$f":"-'New Type 2 Res Summary'!AQ14-'5A3_OJJ'!P14","v":{"$error":"#REF!"}},{"$f":"'2A-1_EFT (Annual)'!AQ14","v":-700554},{"$f":"'2A-1_EFT (Annual)'!#REF!+'2A-1_EFT (Annual)'!#REF!","v":{"$error":"#REF!"}},{"$error":"#REF!"},{"$f":"#REF!","v":{"$error":"#REF!"}},143304032,{"$f":"#REF!","v":{"$error":"#REF!"}},null,null,null,{"$f":"#REF!+#REF!","v":{"$error":"#REF!"}},null,{"$error":"#REF!"}]
[9,9,"Caddo",{"$f":"#REF!","v":{"$error":"#REF!"}},{"$f":"'2_State Distrib and Adjs'!AO15","v":5427},{"$f":"'2_State Distrib and Adjs'!AN15","v":180043022},null,null,null,null,null,null,null,null,null,null,180043022,null,{"$f":"'2_State Distrib and Adjs'!AS15","v":-4184217},{"$f":"'2_State Distrib and Adjs'!AT15","v":40703},{"$f":"'2_State Distrib and Adjs'!AU15","v":-4143514},175899508,null,null,175899508,{"$f":"'2_State Distrib and Adjs'!AP15","v":-787770},{"$f":"'2_State Distrib and Adjs'!AW15","v":231000},{"$f":"'2_State Distrib and Adjs'!AX15","v":1074710},{"$f":"'2_State Distrib and Adjs'!AY15","v":4771117},{"$f":"'2_State Distrib and Adjs'!AZ15","v":3816892},{"$f":"'2_State Distrib and Adjs'!BB15","v":192162133},{"$f":"'2_State Distrib and Adjs'!BC15","v":131317833},{"$f":"'2_State Distrib and Adjs'!BD15","v":60844300},{"$f":"'2_State Distrib and Adjs'!BE15","v":15211075},{"$f":"'2_State Distrib and Adjs'!BF15","v":12000},{"$f":"'2_State Distrib and Adjs'!BG15","v":1062328},{"$f":"'2_State Distrib and Adjs'!BH15","v":0},{"$f":"'2_State Distrib and Adjs'!BJ15","v":193311461},193311461,null,{"$f":"-'New Type 2 Res Summary'!AG15-'5A3_OJJ'!P15-#REF!","v":{"$error":"#REF!"}},{"$f":"-'New Type 2 Res Summary'!AH15-#REF!","v":{"$error":"#REF!"}},{"$f":"-'New Type 2 Res Summary'!AI15-#REF!","v":{"$error":"#REF!"}},{"$f":"-'New Type 2 Res Summary'!AJ15-#REF!","v":{"$error":"#REF!"}},{"$f":"-'New Type 2 Res Summary'!AK15-#REF!","v":{"$error":"#REF!"}},{"$f":"-'New Type 2 Res Summary'!AL15-#REF!","v":{"$error":"#REF!"}},{"$f":"-'New Type 2 Res Summary'!AM15-'5A3_OJJ'!P15-#REF!","v":{"$error":"#REF!"}},null,{"$f":"-'New Type 2 Res Summary'!AN15-#REF!","v":{"$error":"#REF!"}},{"$f":"-'New Type 2 Res Summary'!AO15-'5A3_OJJ'!P15-#REF!","v":{"$error":"#REF!"}},null,{"$f":"-'New Type 2 Res Summary'!AQ15-'5A3_OJJ'!P15-#REF!","v":{"$error":"#REF!"}},{"$f":"'2A-1_EFT (Annual)'!AQ15","v":-8408883},{"$f":"'2A-1_EFT (Annual)'!#REF!+'2A-1_EFT (Annual)'!#REF!","v":{"$error":"#REF!"}},{"$error":"#REF!"},{"$f":"#REF!","v":{"$error":"#REF!"}},184902578,{"$f":"#REF!","v":{"$error":"#REF!"}},null,null,null,{"$f":"#REF!+#REF!","v":{"$error":"#REF!"}},null,{"$error":"#REF!"}]
[10,10,"Calcasieu",{"$f":"#REF!","v":{"$error":"#REF!"}},{"$f":"'2_State Distrib and Adjs'!AO16","v":4381},{"$f":"'2_State Distrib and Adjs'!AN16","v":118712270},null,null,null,null,null,null,null,null,null,null,118712270,null,{"$f":"'2_State Distrib and Adjs'!AS16","v":1196013},{"$f":"'2_State Distrib and Adjs'!AT16","v":155526},{"$f":"'2_State Distrib and Adjs'!AU16","v":1351539},120063809,null,null,120063809,{"$f":"'2_State Distrib and Adjs'!AP16","v":-102235},{"$f":"'2_State Distrib and Adjs'!AW16","v":924000},{"$f":"'2_State Distrib and Adjs'!AX16","v":856590},{"$f":"'2_State Distrib and Adjs'!AY16","v":4767353},{"$f":"'2_State Distrib and Adjs'!AZ16","v":3813883},{"$f":"'2_State Distrib and Adjs'!BB16","v":137474431},{"$f":"'2_State Distrib and Adjs'!BC16","v":90942013},{"$f":"'2_State Distrib and Adjs'!BD16","v":46532418},{"$f":"'2_State Distrib and Adjs'!BE16","v":11633105},{"$f":"'2_State Distrib and Adjs'!BF16","v":60000},{"$f":"'2_State Distrib and Adjs'!BG16","v":904714},{"$f":"'2_State Distrib and Adjs'!BH16","v":844845},{"$f":"'2_State Distrib and Adjs'!BJ16","v":139435990},139435990,null,{"$f":"-'New Type 2 Res Summary'!AG16-'5A3_OJJ'!P16","v":{"$error":"#REF!"}},{"$f":"-'New Type 2 Res Summary'!AH16","v":{"$error":"#REF!"}},{"$f":"-'New Type 2 Res Summary'!AI16","v":{"$error":"#REF!"}},{"$f":"-'New Type 2 Res Summary'!AJ16","v":{"$error":"#REF!"}},{"$f":"-'New Type 2 Res Summary'!AK16","v":{"$error":"#REF!"}},{"$f":"-'New Type 2 Res Summary'!AL16","v":{"$error":"#REF!"}},{"$f":"-'New Type 2 Res Summary'!AM16-'5A3_OJJ'!P16","v":{"$error":"#REF!"}},null,{"$f":"-'New Type 2 Res Summary'!AN16","v":{"$error":"#REF!"}},{"$f":"-'New Type 2 Res Summary'!AO16-'5A3_OJJ'!P16","v":{"$error":"#REF!"}},null,{"$f":"-'New Type 2 Res Summary'!AQ16-'5A3_OJJ'!P16","v":{"$error":"#REF!"}},{"$f":"'2A-1_EFT (Annual)'!AQ16","v":-19531005},{"$f":"'2A-1_EFT (Annual)'!#REF!+'2A-1_EFT (Annual)'!#REF!","v":{"$error":"#REF!"}},{"$error":"#REF!"},{"$f":"#REF!","v":{"$error":"#REF!"}},119904985,{"$f":"#REF!","v":{"$error":"#REF!"}},null,null,null,{"$f":"#REF!+#REF!","v":{"$error":"#REF!"}},null,{"$error":"#REF!"}]
[11,11,"Caldwell",{"$f":"#REF!","v":{"$error":"#REF!"}},{"$f":"'2_State Distrib and Adjs'!AO17","v":8114},{"$f":"'2_State Distrib and Adjs'!AN17","v":11725128},null,null,null,null,null,null,null,null,null,null,11725128,null,{"$f":"'2_State Distrib and Adjs'!AS17","v":-178508},{"$f":"'2_State Distrib and Adjs'!AT17","v":-154166},{"$f":"'2_State Distrib and Adjs'!AU17","v":-332674},11392454,null,null,11392454,{"$f":"'2_State Distrib and Adjs'!AP17","v":0},{"$f":"'2_State Distrib and Adjs'!AW17","v":0},{"$f":"'2_State Distrib and Adjs'!AX17","v":44450},{"$f":"'2_State Distrib and Adjs'!AY17","v":264886},{"$f":"'2_State Distrib and Adjs'!AZ17","v":211908},{"$f":"'2_State Distrib and Adjs'!BB17","v":12311026},{"$f":"'2_State Distrib and Adjs'!BC17","v":8404367},{"$f":"'2_State Distrib and Adjs'!BD17","v":3906659},{"$f":"'2_State Distrib and Adjs'!BE17","v":976665},{"$f":"'2_State Distrib and Adjs'!BF17","v":0},{"$f":"'2_State Distrib and Adjs'!BG17","v":96159},{"$f":"'2_State Distrib and Adjs'!BH17","v":119144},{"$f":"'2_State Distrib and Adjs'!BJ17","v":12528329},12528329,null,{"$f":"-'New Type 2 Res Summary'!AG17-'5A3_OJJ'!P17","v":{"$error":"#REF!"}},{"$f":"-'New Type 2 Res Summary'!AH17","v":{"$error":"#REF!"}},{"$f":"-'New Type 2 Res Summary'!AI17","v":{"$error":"#REF!"}},{"$f":"-'New Type 2 Res Summary'!AJ17","v":{"$error":"#REF!"}},{"$f":"-'New Type 2 Res Summary'!AK17","v":{"$error":"#REF!"}},{"$f":"-'New Type 2 Res Summary'!AL17","v":{"$error":"#REF!"}},{"$f":"-'New Type 2 Res Summary'!AM17-'5A3_OJJ'!P17","v":{"$error":"#REF!"}},null,{"$f":"-'New Type 2 Res Summary'!AN17","v":{"$error":"#REF!"}},{"$f":"-'New Type 2 Res Summary'!AO17-'5A3_OJJ'!P17","v":{"$error":"#REF!"}},null,{"$f":"-'New Type 2 Res Summary'!AQ17-'5A3_OJJ'!P17","v":{"$error":"#REF!"}},{"$f":"'2A-1_EFT (Annual)'!AQ17","v":-70560},{"$f":"'2A-1_EFT (Annual)'!#REF!+'2A-1_EFT (Annual)'!#REF!","v":{"$error":"#REF!"}},{"$error":"#REF!"},{"$f":"#REF!","v":{"$error":"#REF!"}},12457769,{"$f":"#REF!","v":{"$error":"#REF!"}},null,null,null,{"$f":"#REF!+#REF!","v":{"$error":"#REF!"}},null,{"$error":"#REF!"}]
[12,12,"Cameron",{"$f":"#REF!","v":{"$error":"#REF!"}},{"$f":"'2_State Distrib and Adjs'!AO18","v":2800},{"$f":"'2_State Distrib and Adjs'!AN18","v":2928420},null,null,null,null,null,null,null,null,null,null,2928420,null,{"$f":"'2_State Distrib and Adjs'!AS18","v":47600},{"$f":"'2_State Distrib and Adjs'!AT18","v":4200},{"$f":"'2_State Distrib and Adjs'!AU18","v":51800},2980220,null,null,2980220,{"$f":"'2_State Distrib and Adjs'!AP18","v":11929},{"$f":"'2_State Distrib and Adjs'!AW18","v":0},{"$f":"'2_State Distrib and Adjs'!AX18","v":35350},{"$f":"'2_State Distrib and Adjs'!AY18","v":261410},{"$f":"'2_State Distrib and Adjs'!AZ18","v":209127},{"$f":"'2_State Distrib and Adjs'!BB18","v":3890150},{"$f":"'2_State Distrib and Adjs'!BC18","v":2558173},{"$f":"'2_State Distrib and Adjs'!BD18","v":1331977},{"$f":"'2_State Distrib and Adjs'!BE18","v":332994},{"$f":"'2_State Distrib and Adjs'!BF18","v":0},{"$f":"'2_State Distrib and Adjs'!BG18","v":27474},{"$f":"'2_State Distrib and Adjs'!BH18","v":0},{"$f":"'2_State Distrib and Adjs'!BJ18","v":3921624},3921624,null,{"$f":"-'New Type 2 Res Summary'!AG18-'5A3_OJJ'!P18","v":{"$error":"#REF!"}},{"$f":"-'New Type 2 Res Summary'!AH18","v":{"$error":"#REF!"}},{"$f":"-'New Type 2 Res Summary'!AI18","v":{"$error":"#REF!"}},{"$f":"-'New Type 2 Res Summary'!AJ18","v":{"$error":"#REF!"}},{"$f":"-'New Type 2 Res Summary'!AK18","v":{"$error":"#REF!"}},{"$f":"-'New Type 2 Res Summary'!AL18","v":{"$error":"#REF!"}},{"$f":"-'New Type 2 Res Summary'!AM18-'5A3_OJJ'!P18","v":{"$error":"#REF!"}},null,{"$f":"-'New Type 2 Res Summary'!AN18","v":{"$error":"#REF!"}},{"$f":"-'New Type 2 Res Summary'!AO18-'5A3_OJJ'!P18","v":{"$error":"#REF!"}},null,{"$f":"-'New Type 2 Res Summary'!AQ18-'5A3_OJJ'!P18","v":{"$error":"#REF!"}},{"$f":"'2A-1_EFT (Annual)'!AQ18","v":-152731},{"$f":"'2A-1_EFT (Annual)'!#REF!+'2A-1_EFT (Annual)'!#REF!","v":{"$error":"#REF!"}},{"$error":"#REF!"},{"$f":"#REF!","v":{"$error":"#REF!"}},3768893,{"$f":"#REF!","v":{"$error":"#REF!"}},null,null,null,{"$f":"#REF!+#REF!","v":{"$error":"#REF!"}},null,{"$error":"#REF!"}]
[13,13,"Catahoula",{"$f":"#REF!","v":{"$error":"#REF!"}},{"$f":"'2_State Distrib and Adjs'!AO19","v":7470},{"$f":"'2_State Distrib and Adjs'!AN19","v":7163943},null,null,null,null,null,null,null,null,null,null,7163943,null,{"$f":"'2_State Distrib and Adjs'!AS19","v":-380970},{"$f":"'2_State Distrib and Adjs'!AT19","v":14940},{"$f":"'2_State Distrib and Adjs'!AU19","v":-366030},6797913,null,null,6797913,{"$f":"'2_State Distrib and Adjs'!AP19","v":-3855},{"$f":"'2_State Distrib and Adjs'!AW19","v":0},{"$f":"'2_State Distrib and Adjs'!AX19","v":30240},{"$f":"'2_State Distrib and Adjs'!AY19","v":188137},{"$f":"'2_State Distrib and Adjs'!AZ19","v":150510},{"$f":"'2_State Distrib and Adjs'!BB19","v":7445151},{"$f":"'2_State Distrib and Adjs'!BC19","v":5190044},{"$f":"'2_State Distrib and Adjs'!BD19","v":2255107},{"$f":"'2_State Distrib and Adjs'!BE19","v":563777},{"$f":"'2_State Distrib and Adjs'!BF19","v":0},{"$f":"'2_State Distrib and Adjs'!BG19","v":25000},{"$f":"'2_State Distrib and Adjs'!BH19","v":64256},{"$f":"'2_State Distrib and Adjs'!BJ19","v":7534407},7534407,null,{"$f":"-'New Type 2 Res Summary'!AG19-'5A3_OJJ'!P19","v":{"$error":"#REF!"}},{"$f":"-'New Type 2 Res Summary'!AH19","v":{"$error":"#REF!"}},{"$f":"-'New Type 2 Res Summary'!AI19","v":{"$error":"#REF!"}},{"$f":"-'New Type 2 Res Summary'!AJ19","v":{"$error":"#REF!"}},{"$f":"-'New Type 2 Res Summary'!AK19","v":{"$error":"#REF!"}},{"$f":"-'New Type 2 Res Summary'!AL19","v":{"$error":"#REF!"}},{"$f":"-'New Type 2 Res Summary'!AM19-'5A3_OJJ'!P19","v":{"$error":"#REF!"}},null,{"$f":"-'New Type 2 Res Summary'!AN19","v":{"$error":"#REF!"}},{"$f":"-'New Type 2 Res Summary'!AO19-'5A3_OJJ'!P19","v":{"$error":"#REF!"}},null,{"$f":"-'New Type 2 Res Summary'!AQ19-'5A3_OJJ'!P19","v":{"$error":"#REF!"}},{"$f":"'2A-1_EFT (Annual)'!AQ19","v":-441228},{"$f":"'2A-1_EFT (Annual)'!#REF!+'2A-1_EFT (Annual)'!#REF!","v":{"$error":"#REF!"}},{"$error":"#REF!"},{"$f":"#REF!","v":{"$error":"#REF!"}},7093179,{"$f":"#REF!","v":{"$error":"#REF!"}},null,null,null,{"$f":"#REF!+#REF!","v":{"$error":"#REF!"}},null,{"$error":"#REF!"}]
[14,14,"Claiborne",{"$f":"#REF!","v":{"$error":"#REF!"}},{"$f":"'2_State Distrib and Adjs'!AO20","v":8014},{"$f":"'2_State Distrib and Adjs'!AN20","v":12758676},null,null,null,null,null,null,null,null,null,null,12758676,null,{"$f":"'2_State Distrib and Adjs'!AS20","v":-320560},{"$f":"'2_State Distrib and Adjs'!AT20","v":-92161},{"$f":"'2_State Distrib and Adjs'!AU20","v":-412721},12345955,null,null,12345955,{"$f":"'2_State Distrib and Adjs'!AP20","v":210},{"$f":"'2_State Distrib and Adjs'!AW20","v":0},{"$f":"'2_State Distrib and Adjs'!AX20","v":47180},{"$f":"'2_State Distrib and Adjs'!AY20","v":278844},{"$f":"'2_State Distrib and Adjs'!AZ20","v":223075},{"$f":"'2_State Distrib and Adjs'!BB20","v":13313529},{"$f":"'2_State Distrib and Adjs'!BC20","v":9129237},{"$f":"'2_State Distrib and Adjs'!BD20","v":4184292},{"$f":"'2_State Distrib and Adjs'!BE20","v":1046073},{"$f":"'2_State Distrib and Adjs'!BF20","v":0},{"$f":"'2_State Distrib and Adjs'!BG20","v":41452},{"$f":"'2_State Distrib and Adjs'!BH20","v":0},{"$f":"'2_State Distrib and Adjs'!BJ20","v":13354981},13354981,null,{"$f":"-'New Type 2 Res Summary'!AG20-'5A3_OJJ'!P20","v":{"$error":"#REF!"}},{"$f":"-'New Type 2 Res Summary'!AH20","v":{"$error":"#REF!"}},{"$f":"-'New Type 2 Res Summary'!AI20","v":{"$error":"#REF!"}},{"$f":"-'New Type 2 Res Summary'!AJ20","v":{"$error":"#REF!"}},{"$f":"-'New Type 2 Res Summary'!AK20","v":{"$error":"#REF!"}},{"$f":"-'New Type 2 Res Summary'!AL20","v":{"$error":"#REF!"}},{"$f":"-'New Type 2 Res Summary'!AM20-'5A3_OJJ'!P20","v":{"$error":"#REF!"}},null,{"$f":"-'New Type 2 Res Summary'!AN20","v":{"$error":"#REF!"}},{"$f":"-'New Type 2 Res Summary'!AO20-'5A3_OJJ'!P20","v":{"$error":"#REF!"}},null,{"$f":"-'New Type 2 Res Summary'!AQ20-'5A3_OJJ'!P20","v":{"$error":"#REF!"}},{"$f":"'2A-1_EFT (Annual)'!AQ20","v":-401777},{"$f":"'2A-1_EFT (Annual)'!#REF!+'2A-1_EFT (Annual)'!#REF!","v":{"$error":"#REF!"}},{"$error":"#REF!"},{"$f":"#REF!","v":{"$error":"#REF!"}},12953204,{"$f":"#REF!","v":{"$error":"#REF!"}},null,null,null,{"$f":"#REF!+#REF!","v":{"$error":"#REF!"}},null,{"$error":"#REF!"}]
[15,15,"Concordia",{"$f":"#REF!","v":{"$error":"#REF!"}},{"$f":"'2_State Distrib and Adjs'!AO21","v":6984},{"$f":"'2_State Distrib and Adjs'!AN21","v":19646734},null,null,null,null,null,null,null,null,null,null,19646734,null,{"$f":"'2_State Distrib and Adjs'!AS21","v":6975},{"$f":"'2_State Distrib and Adjs'!AT21","v":38363},{"$f":"'2_State Distrib and Adjs'!AU21","v":45338},19692072,null,null,19692072,{"$f":"'2_State Distrib and Adjs'!AP21","v":-184809},{"$f":"'2_State Distrib and Adjs'!AW21","v":42000},{"$f":"'2_State Distrib and Adjs'!AX21","v":85890},{"$f":"'2_State Distrib and Adjs'!AY21","v":524268},{"$f":"'2_State Distrib and Adjs'!AZ21","v":419415},{"$f":"'2_State Distrib and Adjs'!BB21","v":21365240},{"$f":"'2_State Distrib and Adjs'!BC21","v":14340849},{"$f":"'2_State Distrib and Adjs'!BD21","v":7024391},{"$f":"'2_State Distrib and Adjs'!BE21","v":1756098},{"$f":"'2_State Distrib and Adjs'!BF21","v":0},{"$f":"'2_State Distrib and Adjs'!BG21","v":116403},{"$f":"'2_State Distrib and Adjs'!BH21","v":0},{"$f":"'2_State Distrib and Adjs'!BJ21","v":21489643},21489643,null,{"$f":"-'New Type 2 Res Summary'!AG21-'5A3_OJJ'!P21","v":{"$error":"#REF!"}},{"$f":"-'New Type 2 Res Summary'!AH21","v":{"$error":"#REF!"}},{"$f":"-'New Type 2 Res Summary'!AI21","v":{"$error":"#REF!"}},{"$f":"-'New Type 2 Res Summary'!AJ21","v":{"$error":"#REF!"}},{"$f":"-'New Type 2 Res Summary'!AK21","v":{"$error":"#REF!"}},{"$f":"-'New Type 2 Res Summary'!AL21","v":{"$error":"#REF!"}},{"$f":"-'New Type 2 Res Summary'!AM21-'5A3_OJJ'!P21","v":{"$error":"#REF!"}},null,{"$f":"-'New Type 2 Res Summary'!AN21","v":{"$error":"#REF!"}},{"$f":"-'New Type 2 Res Summary'!AO21-'5A3_OJJ'!P21","v":{"$error":"#REF!"}},null,{"$f":"-'New Type 2 Res Summary'!AQ21-'5A3_OJJ'!P21","v":{"$error":"#REF!"}},{"$f":"'2A-1_EFT (Annual)'!AQ21","v":-1431077},{"$f":"'2A-1_EFT (Annual)'!#REF!+'2A-1_EFT (Annual)'!#REF!","v":{"$error":"#REF!"}},{"$error":"#REF!"},{"$f":"#REF!","v":{"$error":"#REF!"}},20058566,{"$f":"#REF!","v":{"$error":"#REF!"}},null,null,null,{"$f":"#REF!+#REF!","v":{"$error":"#REF!"}},null,{"$error":"#REF!"}]
[16,16,"DeSoto",{"$f":"#REF!","v":{"$error":"#REF!"}},{"$f":"'2_State Distrib and Adjs'!AO22","v":3190},{"$f":"'2_State Distrib and Adjs'!AN22","v":15020722},null,null,null,null,null,null,null,null,null,null,15020722,null,{"$f":"'2_State Distrib and Adjs'!AS22","v":-31900},{"$f":"'2_State Distrib and Adjs'!AT22","v":0},{"$f":"'2_State Distrib and Adjs'!AU22","v":-31900},14988822,null,null,14988822,{"$f":"'2_State Distrib and Adjs'!AP22","v":-17889},{"$f":"'2_State Distrib and Adjs'!AW22","v":0},{"$f":"'2_State Distrib and Adjs'!AX22","v":150920},{"$f":"'2_State Distrib and Adjs'!AY22","v":814042},{"$f":"'2_State Distrib and Adjs'!AZ22","v":651233},{"$f":"'2_State Distrib and Adjs'!BB22","v":17808190},{"$f":"'2_State Distrib and Adjs'!BC22","v":11678138},{"$f":"'2_State Distrib and Adjs'!BD22","v":6130052},{"$f":"'2_State Distrib and Adjs'!BE22","v":1532513},{"$f":"'2_State Distrib and Adjs'!BF22","v":0},{"$f":"'2_State Distrib and Adjs'!BG22","v":346317},{"$f":"'2_State Distrib and Adjs'!BH22","v":499575},{"$f":"'2_State Distrib and Adjs'!BJ22","v":18669082},18669082,null,{"$f":"-'New Type 2 Res Summary'!AG22-'5A3_OJJ'!P22","v":{"$error":"#REF!"}},{"$f":"-'New Type 2 Res Summary'!AH22","v":{"$error":"#REF!"}},{"$f":"-'New Type 2 Res Summary'!AI22","v":{"$error":"#REF!"}},{"$f":"-'New Type 2 Res Summary'!AJ22","v":{"$error":"#REF!"}},{"$f":"-'New Type 2 Res Summary'!AK22","v":{"$error":"#REF!"}},{"$f":"-'New Type 2 Res Summary'!AL22","v":{"$error":"#REF!"}},{"$f":"-'New Type 2 Res Summary'!AM22-'5A3_OJJ'!P22","v":{"$error":"#REF!"}},null,{"$f":"-'New Type 2 Res Summary'!AN22","v":{"$error":"#REF!"}},{"$f":"-'New Type 2 Res Summary'!AO22-'5A3_OJJ'!P22","v":{"$error":"#REF!"}},null,{"$f":"-'New Type 2 Res Summary'!AQ22-'5A3_OJJ'!P22","v":{"$error":"#REF!"}},{"$f":"'2A-1_EFT (Annual)'!AQ22","v":-675781},{"$f":"'2A-1_EFT (Annual)'!#REF!+'2A-1_EFT (Annual)'!#REF!","v":{"$error":"#REF!"}},{"$error":"#REF!"},{"$f":"#REF!","v":{"$error":"#REF!"}},17993301,{"$f":"#REF!","v":{"$error":"#REF!"}},null,null,null,{"$f":"#REF!+#REF!","v":{"$error":"#REF!"}},null,{"$error":"#REF!"}]
[17,17,"East Baton Rouge",{"$f":"#REF!","v":{"$error":"#REF!"}},{"$f":"'2_State Distrib and Adjs'!AO23","v":4181},{"$f":"'2_State Distrib and Adjs'!AN23","v":161956403},null,null,null,null,null,null,null,null,null,null,161956403,null,{"$f":"'2_State Distrib and Adjs'!AS23","v":-24948},{"$f":"'2_State Distrib and Adjs'!AT23","v":-359667},{"$f":"'2_State Distrib and Adjs'!AU23","v":-384615},161571788,null,null,161571788,{"$f":"'2_State Distrib and Adjs'!AP23","v":-111790},{"$f":"'2_State Distrib and Adjs'!AW23","v":483000},{"$f":"'2_State Distrib and Adjs'!AX23","v":1119090},{"$f":"'2_State Distrib and Adjs'!AY23","v":6327580},{"$f":"'2_State Distrib and Adjs'!AZ23","v":5062064},{"$f":"'2_State Distrib and Adjs'!BB23","v":183943100},{"$f":"'2_State Distrib and Adjs'!BC23","v":121939484},{"$f":"'2_State Distrib and Adjs'!BD23","v":62003616},{"$f":"'2_State Distrib and Adjs'!BE23","v":15500904},{"$f":"'2_State Distrib and Adjs'!BF23","v":42000},{"$f":"'2_State Distrib and Adjs'!BG23","v":2360354},{"$f":"'2_State Distrib and Adjs'!BH23","v":741798},{"$f":"'2_State Distrib and Adjs'!BJ23","v":187185252},187185252,null,{"$f":"-'New Type 2 Res Summary'!AG23-'5A3_OJJ'!P23-#REF!","v":{"$error":"#REF!"}},{"$f":"-'New Type 2 Res Summary'!AH23-#REF!","v":{"$error":"#REF!"}},{"$f":"-'New Type 2 Res Summary'!AI23-#REF!","v":{"$error":"#REF!"}},{"$f":"-'New Type 2 Res Summary'!AJ23-#REF!","v":{"$error":"#REF!"}},{"$f":"-'New Type 2 Res Summary'!AK23-#REF!","v":{"$error":"#REF!"}},{"$f":"-'New Type 2 Res Summary'!AL23-#REF!","v":{"$error":"#REF!"}},{"$f":"-'New Type 2 Res Summary'!AM23-'5A3_OJJ'!P23-#REF!","v":{"$error":"#REF!"}},{"$f":"-#REF!","v":{"$error":"#REF!"}},{"$f":"-'New Type 2 Res Summary'!AN23-#REF!","v":{"$error":"#REF!"}},{"$f":"-'New Type 2 Res Summary'!AO23-'5A3_OJJ'!P23-#REF!","v":{"$error":"#REF!"}},null,{"$f":"-'New Type 2 Res Summary'!AQ23-'5A3_OJJ'!P23-#REF!","v":{"$error":"#REF!"}},{"$f":"'2A-1_EFT (Annual)'!AQ23","v":-52908853},{"$f":"'2A-1_EFT (Annual)'!#REF!+'2A-1_EFT (Annual)'!#REF!","v":{"$error":"#REF!"}},{"$error":"#REF!"},{"$f":"#REF!","v":{"$error":"#REF!"}},134276399,{"$f":"#REF!","v":{"$error":"#REF!"}},null,null,null,{"$f":"#REF!+#REF!","v":{"$error":"#REF!"}},null,{"$error":"#REF!"}]
[18,18,"East Carroll",{"$f":"#REF!","v":{"$error":"#REF!"}},{"$f":"'2_State Distrib and Adjs'!AO24","v":7386},{"$f":"'2_State Distrib and Adjs'!AN24","v":5554110},null,null,null,null,null,null,null,null,null,null,5554110,null,{"$f":"'2_State Distrib and Adjs'!AS24","v":-192036},{"$f":"'2_State Distrib and Adjs'!AT24","v":11079},{"$f":"'2_State Distrib and Adjs'!AU24","v":-180957},5373153,null,null,5373153,{"$f":"'2_State Distrib and Adjs'!AP24","v":-20038},{"$f":"'2_State Distrib and Adjs'!AW24","v":21000},{"$f":"'2_State Distrib and Adjs'!AX24","v":23730},{"$f":"'2_State Distrib and Adjs'!AY24","v":133542},{"$f":"'2_State Distrib and Adjs'!AZ24","v":106833},{"$f":"'2_State Distrib and Adjs'!BB24","v":5838531},{"$f":"'2_State Distrib and Adjs'!BC24","v":4029637},{"$f":"'2_State Distrib and Adjs'!BD24","v":1808894},{"$f":"'2_State Distrib and Adjs'!BE24","v":452224},{"$f":"'2_State Distrib and Adjs'!BF24","v":6000},{"$f":"'2_State Distrib and Adjs'!BG24","v":46995},{"$f":"'2_State Distrib and Adjs'!BH24","v":0},{"$f":"'2_State Distrib and Adjs'!BJ24","v":5891526},5891526,null,{"$f":"-'New Type 2 Res Summary'!AG24-'5A3_OJJ'!P24","v":{"$error":"#REF!"}},{"$f":"-'New Type 2 Res Summary'!AH24","v":{"$error":"#REF!"}},{"$f":"-'New Type 2 Res Summary'!AI24","v":{"$error":"#REF!"}},{"$f":"-'New Type 2 Res Summary'!AJ24","v":{"$error":"#REF!"}},{"$f":"-'New Type 2 Res Summary'!AK24","v":{"$error":"#REF!"}},{"$f":"-'New Type 2 Res Summary'!AL24","v":{"$error":"#REF!"}},{"$f":"-'New Type 2 Res Summary'!AM24-'5A3_OJJ'!P24","v":{"$error":"#REF!"}},null,{"$f":"-'New Type 2 Res Summary'!AN24","v":{"$error":"#REF!"}},{"$f":"-'New Type 2 Res Summary'!AO24-'5A3_OJJ'!P24","v":{"$error":"#REF!"}},null,{"$f":"-'New Type 2 Res Summary'!AQ24-'5A3_OJJ'!P24","v":{"$error":"#REF!"}},{"$f":"'2A-1_EFT (Annual)'!AQ24","v":-12694},{"$f":"'2A-1_EFT (Annual)'!#REF!+'2A-1_EFT (Annual)'!#REF!","v":{"$error":"#REF!"}},{"$error":"#REF!"},{"$f":"#REF!","v":{"$error":"#REF!"}},5878832,{"$f":"#REF!","v":{"$error":"#REF!"}},null,null,null,{"$f":"#REF!+#REF!","v":{"$error":"#REF!"}},null,{"$error":"#REF!"}]
[19,19,"East Feliciana",{"$f":"#REF!","v":{"$error":"#REF!"}},{"$f":"'2_State Distrib and Adjs'!AO25","v":5631},{"$f":"'2_State Distrib and Adjs'!AN25","v":8908344},null,null,null,null,null,null,null,null,null,null,8908344,null,{"$f":"'2_State Distrib and Adjs'!AS25","v":78834},{"$f":"'2_State Distrib and Adjs'!AT25","v":16893},{"$f":"'2_State Distrib and Adjs'!AU25","v":95727},9004071,null,null,9004071,{"$f":"'2_State Distrib and Adjs'!AP25","v":10989},{"$f":"'2_State Distrib and Adjs'!AW25","v":0},{"$f":"'2_State Distrib and Adjs'!AX25","v":52430},{"$f":"'2_State Distrib and Adjs'!AY25","v":235528},{"$f":"'2_State Distrib and Adjs'!AZ25","v":188422},{"$f":"'2_State Distrib and Adjs'!BB25","v":9844730},{"$f":"'2_State Distrib and Adjs'!BC25","v":6578236},{"$f":"'2_State Distrib and Adjs'!BD25","v":3266494},{"$f":"'2_State Distrib and Adjs'!BE25","v":816624},{"$f":"'2_State Distrib and Adjs'!BF25","v":0},{"$f":"'2_State Distrib and Adjs'!BG25","v":40488},{"$f":"'2_State Distrib and Adjs'!BH25","v":0},{"$f":"'2_State Distrib and Adjs'!BJ25","v":9885218},9885218,null,{"$f":"-'New Type 2 Res Summary'!AG25-'5A3_OJJ'!P25","v":{"$error":"#REF!"}},{"$f":"-'New Type 2 Res Summary'!AH25","v":{"$error":"#REF!"}},{"$f":"-'New Type 2 Res Summary'!AI25","v":{"$error":"#REF!"}},{"$f":"-'New Type 2 Res Summary'!AJ25","v":{"$error":"#REF!"}},{"$f":"-'New Type 2 Res Summary'!AK25","v":{"$error":"#REF!"}},{"$f":"-'New Type 2 Res Summary'!AL25","v":{"$error":"#REF!"}},{"$f":"-'New Type 2 Res Summary'!AM25-'5A3_OJJ'!P25","v":{"$error":"#REF!"}},null,{"$f":"-'New Type 2 Res Summary'!AN25","v":{"$error":"#REF!"}},{"$f":"-'New Type 2 Res Summary'!AO25-'5A3_OJJ'!P25","v":{"$error":"#REF!"}},null,{"$f":"-'New Type 2 Res Summary'!AQ25-'5A3_OJJ'!P25","v":{"$error":"#REF!"}},{"$f":"'2A-1_EFT (Annual)'!AQ25","v":-237457},{"$f":"'2A-1_EFT (Annual)'!#REF!+'2A-1_EFT (Annual)'!#REF!","v":{"$error":"#REF!"}},{"$error":"#REF!"},{"$f":"#REF!","v":{"$error":"#REF!"}},9647761,{"$f":"#REF!","v":{"$error":"#REF!"}},null,null,null,{"$f":"#REF!+#REF!","v":{"$error":"#REF!"}},null,{"$error":"#REF!"}]
[20,20,"Evangeline",{"$f":"#REF!","v":{"$error":"#REF!"}},{"$f":"'2_State Distrib and Adjs'!AO26","v":7079},{"$f":"'2_State Distrib and Adjs'!AN26","v":37456138},null,null,null,null,null,null,null,null,null,null,37456138,null,{"$f":"'2_State Distrib and Adjs'!AS26","v":-580478},{"$f":"'2_State Distrib and Adjs'!AT26","v":-42474},{"$f":"'2_State Distrib and Adjs'!AU26","v":-622952},36833186,null,null,36833186,{"$f":"'2_State Distrib and Adjs'!AP26","v":-99025},{"$f":"'2_State Distrib and Adjs'!AW26","v":147000},{"$f":"'2_State Distrib and Adjs'!AX26","v":166180},{"$f":"'2_State Distrib and Adjs'!AY26","v":884656},{"$f":"'2_State Distrib and Adjs'!AZ26","v":707725},{"$f":"'2_State Distrib and Adjs'!BB26","v":39966706},{"$f":"'2_State Distrib and Adjs'!BC26","v":26988199},{"$f":"'2_State Distrib and Adjs'!BD26","v":12978507},{"$f":"'2_State Distrib and Adjs'!BE26","v":3244627},{"$f":"'2_State Distrib and Adjs'!BF26","v":24000},{"$f":"'2_State Distrib and Adjs'!BG26","v":201717},{"$f":"'2_State Distrib and Adjs'!BH26","v":1117388},{"$f":"'2_State Distrib and Adjs'!BJ26","v":41319811},41319811,null,{"$f":"-'New Type 2 Res Summary'!AG26-'5A3_OJJ'!P26","v":{"$error":"#REF!"}},{"$f":"-'New Type 2 Res Summary'!AH26","v":{"$error":"#REF!"}},{"$f":"-'New Type 2 Res Summary'!AI26","v":{"$error":"#REF!"}},{"$f":"-'New Type 2 Res Summary'!AJ26","v":{"$error":"#REF!"}},{"$f":"-'New Type 2 Res Summary'!AK26","v":{"$error":"#REF!"}},{"$f":"-'New Type 2 Res Summary'!AL26","v":{"$error":"#REF!"}},{"$f":"-'New Type 2 Res Summary'!AM26-'5A3_OJJ'!P26","v":{"$error":"#REF!"}},null,{"$f":"-'New Type 2 Res Summary'!AN26","v":{"$error":"#REF!"}},{"$f":"-'New Type 2 Res Summary'!AO26-'5A3_OJJ'!P26","v":{"$error":"#REF!"}},null,{"$f":"-'New Type 2 Res Summary'!AQ26-'5A3_OJJ'!P26","v":{"$error":"#REF!"}},{"$f":"'2A-1_EFT (Annual)'!AQ26","v":-128760},{"$f":"'2A-1_EFT (Annual)'!#REF!+'2A-1_EFT (Annual)'!#REF!","v":{"$error":"#REF!"}},{"$error":"#REF!"},{"$f":"#REF!","v":{"$error":"#REF!"}},41191051,{"$f":"#REF!","v":{"$error":"#REF!"}},null,null,null,{"$f":"#REF!+#REF!","v":{"$error":"#REF!"}},null,{"$error":"#REF!"}]
[21,21,"Franklin",{"$f":"#REF!","v":{"$error":"#REF!"}},{"$f":"'2_State Distrib and Adjs'!AO27","v":7430},{"$f":"'2_State Distrib and Adjs'!AN27","v":19154718},null,null,null,null,null,null,null,null,null,null,19154718,null,{"$f":"'2_State Distrib and Adjs'!AS27","v":-854450},{"$f":"'2_State Distrib and Adjs'!AT27","v":-115165},{"$f":"'2_State Distrib and Adjs'!AU27","v":-969615},18185103,null,null,18185103,{"$f":"'2_State Distrib and Adjs'!AP27","v":-40243},{"$f":"'2_State Distrib and Adjs'!AW27","v":0},{"$f":"'2_State Distrib and Adjs'!AX27","v":78120},{"$f":"'2_State Distrib and Adjs'!AY27","v":459195},{"$f":"'2_State Distrib and Adjs'!AZ27","v":367355},{"$f":"'2_State Distrib and Adjs'!BB27","v":19738324},{"$f":"'2_State Distrib and Adjs'!BC27","v":13834920},{"$f":"'2_State Distrib and Adjs'!BD27","v":5903404},{"$f":"'2_State Distrib and Adjs'!BE27","v":1475851},{"$f":"'2_State Distrib and Adjs'!BF27","v":0},{"$f":"'2_State Distrib and Adjs'!BG27","v":74710},{"$f":"'2_State Distrib and Adjs'!BH27","v":0},{"$f":"'2_State Distrib and Adjs'!BJ27","v":19813034},19813034,null,{"$f":"-'New Type 2 Res Summary'!AG27-'5A3_OJJ'!P27","v":{"$error":"#REF!"}},{"$f":"-'New Type 2 Res Summary'!AH27","v":{"$error":"#REF!"}},{"$f":"-'New Type 2 Res Summary'!AI27","v":{"$error":"#REF!"}},{"$f":"-'New Type 2 Res Summary'!AJ27","v":{"$error":"#REF!"}},{"$f":"-'New Type 2 Res Summary'!AK27","v":{"$error":"#REF!"}},{"$f":"-'New Type 2 Res Summary'!AL27","v":{"$error":"#REF!"}},{"$f":"-'New Type 2 Res Summary'!AM27-'5A3_OJJ'!P27","v":{"$error":"#REF!"}},null,{"$f":"-'New Type 2 Res Summary'!AN27","v":{"$error":"#REF!"}},{"$f":"-'New Type 2 Res Summary'!AO27-'5A3_OJJ'!P27","v":{"$error":"#REF!"}},null,{"$f":"-'New Type 2 Res Summary'!AQ27-'5A3_OJJ'!P27","v":{"$error":"#REF!"}},{"$f":"'2A-1_EFT (Annual)'!AQ27","v":-130295},{"$f":"'2A-1_EFT (Annual)'!#REF!+'2A-1_EFT (Annual)'!#REF!","v":{"$error":"#REF!"}},{"$error":"#REF!"},{"$f":"#REF!","v":{"$error":"#REF!"}},19682739,{"$f":"#REF!","v":{"$error":"#REF!"}},null,null,null,{"$f":"#REF!+#REF!","v":{"$error":"#REF!"}},null,{"$error":"#REF!"}]
[22,22,"Grant",{"$f":"#REF!","v":{"$error":"#REF!"}},{"$f":"'2_State Distrib and Adjs'!AO28","v":7959},{"$f":"'2_State Distrib and Adjs'!AN28","v":21297788},null,null,null,null,null,null,null,null,null,null,21297788,null,{"$f":"'2_State Distrib and Adjs'!AS28","v":183057},{"$f":"'2_State Distrib and Adjs'!AT28","v":-167139},{"$f":"'2_State Distrib and Adjs'!AU28","v":15918},21313706,null,null,21313706,{"$f":"'2_State Distrib and Adjs'!AP28","v":0},{"$f":"'2_State Distrib and Adjs'!AW28","v":0},{"$f":"'2_State Distrib and Adjs'!AX28","v":83720},{"$f":"'2_State Distrib and Adjs'!AY28","v":398876},{"$f":"'2_State Distrib and Adjs'!AZ28","v":319100},{"$f":"'2_State Distrib and Adjs'!BB28","v":22713716},{"$f":"'2_State Distrib and Adjs'!BC28","v":15122340},{"$f":"'2_State Distrib and Adjs'!BD28","v":7591376},{"$f":"'2_State Distrib and Adjs'!BE28","v":1897844},{"$f":"'2_State Distrib and Adjs'!BF28","v":0},{"$f":"'2_State Distrib and Adjs'!BG28","v":84832},{"$f":"'2_State Distrib and Adjs'!BH28","v":0},{"$f":"'2_State Distrib and Adjs'!BJ28","v":22812548},22812548,null,{"$f":"-'New Type 2 Res Summary'!AG28-'5A3_OJJ'!P28","v":{"$error":"#REF!"}},{"$f":"-'New Type 2 Res Summary'!AH28","v":{"$error":"#REF!"}},{"$f":"-'New Type 2 Res Summary'!AI28","v":{"$error":"#REF!"}},{"$f":"-'New Type 2 Res Summary'!AJ28","v":{"$error":"#REF!"}},{"$f":"-'New Type 2 Res Summary'!AK28","v":{"$error":"#REF!"}},{"$f":"-'New Type 2 Res Summary'!AL28","v":{"$error":"#REF!"}},{"$f":"-'New Type 2 Res Summary'!AM28-'5A3_OJJ'!P28","v":{"$error":"#REF!"}},null,{"$f":"-'New Type 2 Res Summary'!AN28","v":{"$error":"#REF!"}},{"$f":"-'New Type 2 Res Summary'!AO28-'5A3_OJJ'!P28","v":{"$error":"#REF!"}},null,{"$f":"-'New Type 2 Res Summary'!AQ28-'5A3_OJJ'!P28","v":{"$error":"#REF!"}},{"$f":"'2A-1_EFT (Annual)'!AQ28","v":-53440},{"$f":"'2A-1_EFT (Annual)'!#REF!+'2A-1_EFT (Annual)'!#REF!","v":{"$error":"#REF!"}},{"$error":"#REF!"},{"$f":"#REF!","v":{"$error":"#REF!"}},22759108,{"$f":"#REF!","v":{"$error":"#REF!"}},null,null,null,{"$f":"#REF!+#REF!","v":{"$error":"#REF!"}},null,{"$error":"#REF!"}]
[23,23,"Iberia",{"$f":"#REF!","v":{"$error":"#REF!"}},{"$f":"'2_State Distrib and Adjs'!AO29","v":6271},{"$f":"'2_State Distrib and Adjs'!AN29","v":68105658},null,null,null,null,null,null,null,null,null,null,68105658,null,{"$f":"'2_State Distrib and Adjs'!AS29","v":-1015902},{"$f":"'2_State Distrib and Adjs'!AT29","v":-169317},{"$f":"'2_State Distrib and Adjs'!AU29","v":-1185219},66920439,null,null,66920439,{"$f":"'2_State Distrib and Adjs'!AP29","v":-151113},{"$f":"'2_State Distrib and Adjs'!AW29","v":168000},{"$f":"'2_State Distrib and Adjs'!AX29","v":330190},{"$f":"'2_State Distrib and Adjs'!AY29","v":1640160},{"$f":"'2_State Distrib and Adjs'!AZ29","v":1312128},{"$f":"'2_State Distrib and Adjs'!BB29","v":72680044},{"$f":"'2_State Distrib and Adjs'!BC29","v":49355892},{"$f":"'2_State Distrib and Adjs'!BD29","v":23324152},{"$f":"'2_State Distrib and Adjs'!BE29","v":5831038},{"$f":"'2_State Distrib and Adjs'!BF29","v":0},{"$f":"'2_State Distrib and Adjs'!BG29","v":311131},{"$f":"'2_State Distrib and Adjs'!BH29","v":334181},{"$f":"'2_State Distrib and Adjs'!BJ29","v":73374356},73374356,null,{"$f":"-'New Type 2 Res Summary'!AG29-'5A3_OJJ'!P29","v":{"$error":"#REF!"}},{"$f":"-'New Type 2 Res Summary'!AH29","v":{"$error":"#REF!"}},{"$f":"-'New Type 2 Res Summary'!AI29","v":{"$error":"#REF!"}},{"$f":"-'New Type 2 Res Summary'!AJ29","v":{"$error":"#REF!"}},{"$f":"-'New Type 2 Res Summary'!AK29","v":{"$error":"#REF!"}},{"$f":"-'New Type 2 Res Summary'!AL29","v":{"$error":"#REF!"}},{"$f":"-'New Type 2 Res Summary'!AM29-'5A3_OJJ'!P29","v":{"$error":"#REF!"}},null,{"$f":"-'New Type 2 Res Summary'!AN29","v":{"$error":"#REF!"}},{"$f":"-'New Type 2 Res Summary'!AO29-'5A3_OJJ'!P29","v":{"$error":"#REF!"}},null,{"$f":"-'New Type 2 Res Summary'!AQ29-'5A3_OJJ'!P29","v":{"$error":"#REF!"}},{"$f":"'2A-1_EFT (Annual)'!AQ29","v":-1360226},{"$f":"'2A-1_EFT (Annual)'!#REF!+'2A-1_EFT (Annual)'!#REF!","v":{"$error":"#REF!"}},{"$error":"#REF!"},{"$f":"#REF!","v":{"$error":"#REF!"}},72014130,{"$f":"#REF!","v":{"$error":"#REF!"}},null,null,null,{"$f":"#REF!+#REF!","v":{"$error":"#REF!"}},null,{"$error":"#REF!"}]
[24,24,"Iberville",{"$f":"#REF!","v":{"$error":"#REF!"}},{"$f":"'2_State Distrib and Adjs'!AO30","v":2842},{"$f":"'2_State Distrib and Adjs'!AN30","v":11174515},null,null,null,null,null,null,null,null,null,null,11174515,null,{"$f":"'2_State Distrib and Adjs'!AS30","v":-525872},{"$f":"'2_State Distrib and Adjs'!AT30","v":-25722},{"$f":"'2_State Distrib and Adjs'!AU30","v":-551594},10622921,null,null,10622921,{"$f":"'2_State Distrib and Adjs'!AP30","v":6566},{"$f":"'2_State Distrib and Adjs'!AW30","v":0},{"$f":"'2_State Distrib and Adjs'!AX30","v":127680},{"$f":"'2_State Distrib and Adjs'!AY30","v":833839},{"$f":"'2_State Distrib and Adjs'!AZ30","v":667072},{"$f":"'2_State Distrib and Adjs'!BB30","v":13508837},{"$f":"'2_State Distrib and Adjs'!BC30","v":9395707},{"$f":"'2_State Distrib and Adjs'!BD30","v":4113130},{"$f":"'2_State Distrib and Adjs'!BE30","v":1028283},{"$f":"'2_State Distrib and Adjs'!BF30","v":0},{"$f":"'2_State Distrib and Adjs'!BG30","v":85073},{"$f":"'2_State Distrib and Adjs'!BH30","v":79138},{"$f":"'2_State Distrib and Adjs'!BJ30","v":13690048},13690048,null,{"$f":"-'New Type 2 Res Summary'!AG30-'5A3_OJJ'!P30","v":{"$error":"#REF!"}},{"$f":"-'New Type 2 Res Summary'!AH30","v":{"$error":"#REF!"}},{"$f":"-'New Type 2 Res Summary'!AI30","v":{"$error":"#REF!"}},{"$f":"-'New Type 2 Res Summary'!AJ30","v":{"$error":"#REF!"}},{"$f":"-'New Type 2 Res Summary'!AK30","v":{"$error":"#REF!"}},{"$f":"-'New Type 2 Res Summary'!AL30","v":{"$error":"#REF!"}},{"$f":"-'New Type 2 Res Summary'!AM30-'5A3_OJJ'!P30","v":{"$error":"#REF!"}},null,{"$f":"-'New Type 2 Res Summary'!AN30","v":{"$error":"#REF!"}},{"$f":"-'New Type 2 Res Summary'!AO30-'5A3_OJJ'!P30","v":{"$error":"#REF!"}},null,{"$f":"-'New Type 2 Res Summary'!AQ30-'5A3_OJJ'!P30","v":{"$error":"#REF!"}},{"$f":"'2A-1_EFT (Annual)'!AQ30","v":-5291557},{"$f":"'2A-1_EFT (Annual)'!#REF!+'2A-1_EFT (Annual)'!#REF!","v":{"$error":"#REF!"}},{"$error":"#REF!"},{"$f":"#REF!","v":{"$error":"#REF!"}},8398491,{"$f":"#REF!","v":{"$error":"#REF!"}},null,null,null,{"$f":"#REF!+#REF!","v":{"$error":"#REF!"}},null,{"$error":"#REF!"}]
[25,25,"Jackson",{"$f":"#REF!","v":{"$error":"#REF!"}},{"$f":"'2_State Distrib and Adjs'!AO31","v":6241},{"$f":"'2_State Distrib and Adjs'!AN31","v":12643763},null,null,null,null,null,null,null,null,null,null,12643763,null,{"$f":"'2_State Distrib and Adjs'!AS31","v":-293327},{"$f":"'2_State Distrib and Adjs'!AT31","v":-53049},{"$f":"'2_State Distrib and Adjs'!AU31","v":-346376},12297387,null,null,12297387,{"$f":"'2_State Distrib and Adjs'!AP31","v":-2844},{"$f":"'2_State Distrib and Adjs'!AW31","v":0},{"$f":"'2_State Distrib and Adjs'!AX31","v":65870},{"$f":"'2_State Distrib and Adjs'!AY31","v":345860},{"$f":"'2_State Distrib and Adjs'!AZ31","v":276687},{"$f":"'2_State Distrib and Adjs'!BB31","v":13501750},{"$f":"'2_State Distrib and Adjs'!BC31","v":9137940},{"$f":"'2_State Distrib and Adjs'!BD31","v":4363810},{"$f":"'2_State Distrib and Adjs'!BE31","v":1090953},{"$f":"'2_State Distrib and Adjs'!BF31","v":0},{"$f":"'2_State Distrib and Adjs'!BG31","v":83506.5},{"$f":"'2_State Distrib and Adjs'!BH31","v":0},{"$f":"'2_State Distrib and Adjs'!BJ31","v":13597256.5},13597256.5,null,{"$f":"-'New Type 2 Res Summary'!AG31-'5A3_OJJ'!P31","v":{"$error":"#REF!"}},{"$f":"-'New Type 2 Res Summary'!AH31","v":{"$error":"#REF!"}},{"$f":"-'New Type 2 Res Summary'!AI31","v":{"$error":"#REF!"}},{"$f":"-'New Type 2 Res Summary'!AJ31","v":{"$error":"#REF!"}},{"$f":"-'New Type 2 Res Summary'!AK31","v":{"$error":"#REF!"}},{"$f":"-'New Type 2 Res Summary'!AL31","v":{"$error":"#REF!"}},{"$f":"-'New Type 2 Res Summary'!AM31-'5A3_OJJ'!P31","v":{"$error":"#REF!"}},null,{"$f":"-'New Type 2 Res Summary'!AN31","v":{"$error":"#REF!"}},{"$f":"-'New Type 2 Res Summary'!AO31-'5A3_OJJ'!P31","v":{"$error":"#REF!"}},null,{"$f":"-'New Type 2 Res Summary'!AQ31-'5A3_OJJ'!P31","v":{"$error":"#REF!"}},{"$f":"'2A-1_EFT (Annual)'!AQ31","v":-270819},{"$f":"'2A-1_EFT (Annual)'!#REF!+'2A-1_EFT (Annual)'!#REF!","v":{"$error":"#REF!"}},{"$error":"#REF!"},{"$f":"#REF!","v":{"$error":"#REF!"}},13326437.5,{"$f":"#REF!","v":{"$error":"#REF!"}},null,null,null,{"$f":"#REF!+#REF!","v":{"$error":"#REF!"}},null,{"$error":"#REF!"}]
[26,26,"Jefferson",{"$f":"#REF!","v":{"$error":"#REF!"}},{"$f":"'2_State Distrib and Adjs'!AO32","v":4745},{"$f":"'2_State Distrib and Adjs'!AN32","v":217354587},null,null,null,null,null,null,null,null,null,null,217354587,null,{"$f":"'2_State Distrib and Adjs'!AS32","v":33306},{"$f":"'2_State Distrib and Adjs'!AT32","v":518622},{"$f":"'2_State Distrib and Adjs'!AU32","v":551928},217906515,null,null,217906515,{"$f":"'2_State Distrib and Adjs'!AP32","v":-1355192},{"$f":"'2_State Distrib and Adjs'!AW32","v":441000},{"$f":"'2_State Distrib and Adjs'!AX32","v":1385020},{"$f":"'2_State Distrib and Adjs'!AY32","v":6722971},{"$f":"'2_State Distrib and Adjs'!AZ32","v":5378377},{"$f":"'2_State Distrib and Adjs'!BB32","v":240563149},{"$f":"'2_State Distrib and Adjs'!BC32","v":160130507},{"$f":"'2_State Distrib and Adjs'!BD32","v":80432642},{"$f":"'2_State Distrib and Adjs'!BE32","v":20108161},{"$f":"'2_State Distrib and Adjs'!BF32","v":30000},{"$f":"'2_State Distrib and Adjs'!BG32","v":1797619},{"$f":"'2_State Distrib and Adjs'!BH32","v":197459},{"$f":"'2_State Distrib and Adjs'!BJ32","v":242678227},242678227,null,{"$f":"-'New Type 2 Res Summary'!AG32-'5A3_OJJ'!P32","v":{"$error":"#REF!"}},{"$f":"-'New Type 2 Res Summary'!AH32","v":{"$error":"#REF!"}},{"$f":"-'New Type 2 Res Summary'!AI32","v":{"$error":"#REF!"}},{"$f":"-'New Type 2 Res Summary'!AJ32","v":{"$error":"#REF!"}},{"$f":"-'New Type 2 Res Summary'!AK32","v":{"$error":"#REF!"}},{"$f":"-'New Type 2 Res Summary'!AL32","v":{"$error":"#REF!"}},{"$f":"-'New Type 2 Res Summary'!AM32-'5A3_OJJ'!P32","v":{"$error":"#REF!"}},null,{"$f":"-'New Type 2 Res Summary'!AN32","v":{"$error":"#REF!"}},{"$f":"-'New Type 2 Res Summary'!AO32-'5A3_OJJ'!P32","v":{"$error":"#REF!"}},null,{"$f":"-'New Type 2 Res Summary'!AQ32-'5A3_OJJ'!P32","v":{"$error":"#REF!"}},{"$f":"'2A-1_EFT (Annual)'!AQ32","v":-19220771},{"$f":"'2A-1_EFT (Annual)'!#REF!+'2A-1_EFT (Annual)'!#REF!","v":{"$error":"#REF!"}},{"$error":"#REF!"},{"$f":"#REF!","v":{"$error":"#REF!"}},223457456,{"$f":"#REF!","v":{"$error":"#REF!"}},null,null,null,{"$f":"#REF!+#REF!","v":{"$error":"#REF!"}},null,{"$error":"#REF!"}]
[27,27,"Jefferson Davis",{"$f":"#REF!","v":{"$error":"#REF!"}},{"$f":"'2_State Distrib and Adjs'!AO33","v":6841},{"$f":"'2_State Distrib and Adjs'!AN33","v":35025971},null,null,null,null,null,null,null,null,null,null,35025971,null,{"$f":"'2_State Distrib and Adjs'!AS33","v":-82092},{"$f":"'2_State Distrib and Adjs'!AT33","v":-54728},{"$f":"'2_State Distrib and Adjs'!AU33","v":-136820},34889151,null,null,34889151,{"$f":"'2_State Distrib and Adjs'!AP33","v":-9358},{"$f":"'2_State Distrib and Adjs'!AW33","v":0},{"$f":"'2_State Distrib and Adjs'!AX33","v":163940},{"$f":"'2_State Distrib and Adjs'!AY33","v":770516},{"$f":"'2_State Distrib and Adjs'!AZ33","v":616412},{"$f":"'2_State Distrib and Adjs'!BB33","v":37586434},{"$f":"'2_State Distrib and Adjs'!BC33","v":25175396},{"$f":"'2_State Distrib and Adjs'!BD33","v":12411038},{"$f":"'2_State Distrib and Adjs'!BE33","v":3102760},{"$f":"'2_State Distrib and Adjs'!BF33","v":0},{"$f":"'2_State Distrib and Adjs'!BG33","v":154963},{"$f":"'2_State Distrib and Adjs'!BH33","v":39486},{"$f":"'2_State Distrib and Adjs'!BJ33","v":37794883},37794883,null,{"$f":"-'New Type 2 Res Summary'!AG33-'5A3_OJJ'!P33","v":{"$error":"#REF!"}},{"$f":"-'New Type 2 Res Summary'!AH33","v":{"$error":"#REF!"}},{"$f":"-'New Type 2 Res Summary'!AI33","v":{"$error":"#REF!"}},{"$f":"-'New Type 2 Res Summary'!AJ33","v":{"$error":"#REF!"}},{"$f":"-'New Type 2 Res Summary'!AK33","v":{"$error":"#REF!"}},{"$f":"-'New Type 2 Res Summary'!AL33","v":{"$error":"#REF!"}},{"$f":"-'New Type 2 Res Summary'!AM33-'5A3_OJJ'!P33","v":{"$error":"#REF!"}},null,{"$f":"-'New Type 2 Res Summary'!AN33","v":{"$error":"#REF!"}},{"$f":"-'New Type 2 Res Summary'!AO33-'5A3_OJJ'!P33","v":{"$error":"#REF!"}},null,{"$f":"-'New Type 2 Res Summary'!AQ33-'5A3_OJJ'!P33","v":{"$error":"#REF!"}},{"$f":"'2A-1_EFT (Annual)'!AQ33","v":-196868},{"$f":"'2A-1_EFT (Annual)'!#REF!+'2A-1_EFT (Annual)'!#REF!","v":{"$error":"#REF!"}},{"$error":"#REF!"},{"$f":"#REF!","v":{"$error":"#REF!"}},37598015,{"$f":"#REF!","v":{"$error":"#REF!"}},null,null,null,{"$f":"#REF!+#REF!","v":{"$error":"#REF!"}},null,{"$error":"#REF!"}]
[28,28,"Lafayette",{"$f":"#REF!","v":{"$error":"#REF!"}},{"$f":"'2_State Distrib and Adjs'!AO34","v":4670},{"$f":"'2_State Distrib and Adjs'!AN34","v":141699667},null,null,null,null,null,null,null,null,null,null,141699667,null,{"$f":"'2_State Distrib and Adjs'!AS34","v":-4199946},{"$f":"'2_State Distrib and Adjs'!AT34","v":-11693},{"$f":"'2_State Distrib and Adjs'!AU34","v":-4211639},137488028,null,null,137488028,{"$f":"'2_State Distrib and Adjs'!AP34","v":-259102},{"$f":"'2_State Distrib and Adjs'!AW34","v":525000},{"$f":"'2_State Distrib and Adjs'!AX34","v":965020},{"$f":"'2_State Distrib and Adjs'!AY34","v":4201670},{"$f":"'2_State Distrib and Adjs'!AZ34","v":3361336},{"$f":"'2_State Distrib and Adjs'!BB34","v":152584456},{"$f":"'2_State Distrib and Adjs'!BC34","v":105155054},{"$f":"'2_State Distrib and Adjs'!BD34","v":47429402},{"$f":"'2_State Distrib and Adjs'!BE34","v":11857351},{"$f":"'2_State Distrib and Adjs'!BF34","v":54000},{"$f":"'2_State Distrib and Adjs'!BG34","v":1172706},{"$f":"'2_State Distrib and Adjs'!BH34","v":0},{"$f":"'2_State Distrib and Adjs'!BJ34","v":154000162},154000162,null,{"$f":"-'New Type 2 Res Summary'!AG34-'5A3_OJJ'!P34","v":{"$error":"#REF!"}},{"$f":"-'New Type 2 Res Summary'!AH34","v":{"$error":"#REF!"}},{"$f":"-'New Type 2 Res Summary'!AI34","v":{"$error":"#REF!"}},{"$f":"-'New Type 2 Res Summary'!AJ34","v":{"$error":"#REF!"}},{"$f":"-'New Type 2 Res Summary'!AK34","v":{"$error":"#REF!"}},{"$f":"-'New Type 2 Res Summary'!AL34","v":{"$error":"#REF!"}},{"$f":"-'New Type 2 Res Summary'!AM34-'5A3_OJJ'!P34","v":{"$error":"#REF!"}},null,{"$f":"-'New Type 2 Res Summary'!AN34","v":{"$error":"#REF!"}},{"$f":"-'New Type 2 Res Summary'!AO34-'5A3_OJJ'!P34","v":{"$error":"#REF!"}},null,{"$f":"-'New Type 2 Res Summary'!AQ34-'5A3_OJJ'!P34","v":{"$error":"#REF!"}},{"$f":"'2A-1_EFT (Annual)'!AQ34","v":-32473464},{"$f":"'2A-1_EFT (Annual)'!#REF!+'2A-1_EFT (Annual)'!#REF!","v":{"$error":"#REF!"}},{"$error":"#REF!"},{"$f":"#REF!","v":{"$error":"#REF!"}},121526698,{"$f":"#REF!","v":{"$error":"#REF!"}},null,null,null,{"$f":"#REF!+#REF!","v":{"$error":"#REF!"}},null,{"$error":"#REF!"}]
[29,29,"Lafourche",{"$f":"#REF!","v":{"$error":"#REF!"}},{"$f":"'2_State Distrib and Adjs'!AO35","v":5642},{"$f":"'2_State Distrib and Adjs'!AN35","v":73870430},null,null,null,null,null,null,null,null,null,null,73870430,null,{"$f":"'2_State Distrib and Adjs'!AS35","v":-78988},{"$f":"'2_State Distrib and Adjs'!AT35","v":-174902},{"$f":"'2_State Distrib and Adjs'!AU35","v":-253890},73616540,null,null,73616540,{"$f":"'2_State Distrib and Adjs'!AP35","v":-153082},{"$f":"'2_State Distrib and Adjs'!AW35","v":294000},{"$f":"'2_State Distrib and Adjs'!AX35","v":407750},{"$f":"'2_State Distrib and Adjs'!AY35","v":1839257},{"$f":"'2_State Distrib and Adjs'!AZ35","v":1471405},{"$f":"'2_State Distrib and Adjs'!BB35","v":80234755},{"$f":"'2_State Distrib and Adjs'!BC35","v":53718360},{"$f":"'2_State Distrib and Adjs'!BD35","v":26516395},{"$f":"'2_State Distrib and Adjs'!BE35","v":6629099},{"$f":"'2_State Distrib and Adjs'!BF35","v":18000},{"$f":"'2_State Distrib and Adjs'!BG35","v":548757},{"$f":"'2_State Distrib and Adjs'!BH35","v":45367},{"$f":"'2_State Distrib and Adjs'!BJ35","v":80922879},80922879,null,{"$f":"-'New Type 2 Res Summary'!AG35-'5A3_OJJ'!P35","v":{"$error":"#REF!"}},{"$f":"-'New Type 2 Res Summary'!AH35","v":{"$error":"#REF!"}},{"$f":"-'New Type 2 Res Summary'!AI35","v":{"$error":"#REF!"}},{"$f":"-'New Type 2 Res Summary'!AJ35","v":{"$error":"#REF!"}},{"$f":"-'New Type 2 Res Summary'!AK35","v":{"$error":"#REF!"}},{"$f":"-'New Type 2 Res Summary'!AL35","v":{"$error":"#REF!"}},{"$f":"-'New Type 2 Res Summary'!AM35-'5A3_OJJ'!P35","v":{"$error":"#REF!"}},null,{"$f":"-'New Type 2 Res Summary'!AN35","v":{"$error":"#REF!"}},{"$f":"-'New Type 2 Res Summary'!AO35-'5A3_OJJ'!P35","v":{"$error":"#REF!"}},null,{"$f":"-'New Type 2 Res Summary'!AQ35-'5A3_OJJ'!P35","v":{"$error":"#REF!"}},{"$f":"'2A-1_EFT (Annual)'!AQ35","v":-943990},{"$f":"'2A-1_EFT (Annual)'!#REF!+'2A-1_EFT (Annual)'!#REF!","v":{"$error":"#REF!"}},{"$error":"#REF!"},{"$f":"#REF!","v":{"$error":"#REF!"}},79978889,{"$f":"#REF!","v":{"$error":"#REF!"}},null,null,null,{"$f":"#REF!+#REF!","v":{"$error":"#REF!"}},null,{"$error":"#REF!"}]
[30,30,"LaSalle",{"$f":"#REF!","v":{"$error":"#REF!"}},{"$f":"'2_State Distrib and Adjs'!AO36","v":7002},{"$f":"'2_State Distrib and Adjs'!AN36","v":16727256},null,null,null,null,null,null,null,null,null,null,16727256,null,{"$f":"'2_State Distrib and Adjs'!AS36","v":-7002},{"$f":"'2_State Distrib and Adjs'!AT36","v":-84024},{"$f":"'2_State Distrib and Adjs'!AU36","v":-91026},16636230,null,null,16636230,{"$f":"'2_State Distrib and Adjs'!AP36","v":-9438},{"$f":"'2_State Distrib and Adjs'!AW36","v":0},{"$f":"'2_State Distrib and Adjs'!AX36","v":76300},{"$f":"'2_State Distrib and Adjs'!AY36","v":367874},{"$f":"'2_State Distrib and Adjs'!AZ36","v":294300},{"$f":"'2_State Distrib and Adjs'!BB36","v":17917078},{"$f":"'2_State Distrib and Adjs'!BC36","v":12004600},{"$f":"'2_State Distrib and Adjs'!BD36","v":5912478},{"$f":"'2_State Distrib and Adjs'!BE36","v":1478120},{"$f":"'2_State Distrib and Adjs'!BF36","v":0},{"$f":"'2_State Distrib and Adjs'!BG36","v":131827},{"$f":"'2_State Distrib and Adjs'!BH36","v":0},{"$f":"'2_State Distrib and Adjs'!BJ36","v":18050905},18050905,null,{"$f":"-'New Type 2 Res Summary'!AG36-'5A3_OJJ'!P36","v":{"$error":"#REF!"}},{"$f":"-'New Type 2 Res Summary'!AH36","v":{"$error":"#REF!"}},{"$f":"-'New Type 2 Res Summary'!AI36","v":{"$error":"#REF!"}},{"$f":"-'New Type 2 Res Summary'!AJ36","v":{"$error":"#REF!"}},{"$f":"-'New Type 2 Res Summary'!AK36","v":{"$error":"#REF!"}},{"$f":"-'New Type 2 Res Summary'!AL36","v":{"$error":"#REF!"}},{"$f":"-'New Type 2 Res Summary'!AM36-'5A3_OJJ'!P36","v":{"$error":"#REF!"}},null,{"$f":"-'New Type 2 Res Summary'!AN36","v":{"$error":"#REF!"}},{"$f":"-'New Type 2 Res Summary'!AO36-'5A3_OJJ'!P36","v":{"$error":"#REF!"}},null,{"$f":"-'New Type 2 Res Summary'!AQ36-'5A3_OJJ'!P36","v":{"$error":"#REF!"}},{"$f":"'2A-1_EFT (Annual)'!AQ36","v":-118633},{"$f":"'2A-1_EFT (Annual)'!#REF!+'2A-1_EFT (Annual)'!#REF!","v":{"$error":"#REF!"}},{"$error":"#REF!"},{"$f":"#REF!","v":{"$error":"#REF!"}},17932272,{"$f":"#REF!","v":{"$error":"#REF!"}},null,null,null,{"$f":"#REF!+#REF!","v":{"$error":"#REF!"}},null,{"$error":"#REF!"}]
[31,31,"Lincoln",{"$f":"#REF!","v":{"$error":"#REF!"}},{"$f":"'2_State Distrib and Adjs'!AO37","v":5550},{"$f":"'2_State Distrib and Adjs'!AN37","v":30965338},null,null,null,null,null,null,null,null,null,null,30965338,null,{"$f":"'2_State Distrib and Adjs'!AS37","v":249750},{"$f":"'2_State Distrib and Adjs'!AT37","v":13875},{"$f":"'2_State Distrib and Adjs'!AU37","v":263625},31228963,null,null,31228963,{"$f":"'2_State Distrib and Adjs'!AP37","v":-16326},{"$f":"'2_State Distrib and Adjs'!AW37","v":63000},{"$f":"'2_State Distrib and Adjs'!AX37","v":171990},{"$f":"'2_State Distrib and Adjs'!AY37","v":987405},{"$f":"'2_State Distrib and Adjs'!AZ37","v":789924},{"$f":"'2_State Distrib and Adjs'!BB37","v":34706063},{"$f":"'2_State Distrib and Adjs'!BC37","v":22747528},{"$f":"'2_State Distrib and Adjs'!BD37","v":11958535},{"$f":"'2_State Distrib and Adjs'!BE37","v":2989634},{"$f":"'2_State Distrib and Adjs'!BF37","v":6000},{"$f":"'2_State Distrib and Adjs'!BG37","v":113270},{"$f":"'2_State Distrib and Adjs'!BH37","v":0},{"$f":"'2_State Distrib and Adjs'!BJ37","v":34863333},34863333,null,{"$f":"-'New Type 2 Res Summary'!AG37-'5A3_OJJ'!P37","v":{"$error":"#REF!"}},{"$f":"-'New Type 2 Res Summary'!AH37","v":{"$error":"#REF!"}},{"$f":"-'New Type 2 Res Summary'!AI37","v":{"$error":"#REF!"}},{"$f":"-'New Type 2 Res Summary'!AJ37","v":{"$error":"#REF!"}},{"$f":"-'New Type 2 Res Summary'!AK37","v":{"$error":"#REF!"}},{"$f":"-'New Type 2 Res Summary'!AL37","v":{"$error":"#REF!"}},{"$f":"-'New Type 2 Res Summary'!AM37-'5A3_OJJ'!P37","v":{"$error":"#REF!"}},null,{"$f":"-'New Type 2 Res Summary'!AN37","v":{"$error":"#REF!"}},{"$f":"-'New Type 2 Res Summary'!AO37-'5A3_OJJ'!P37","v":{"$error":"#REF!"}},null,{"$f":"-'New Type 2 Res Summary'!AQ37-'5A3_OJJ'!P37","v":{"$error":"#REF!"}},{"$f":"'2A-1_EFT (Annual)'!AQ37","v":-4964163},{"$f":"'2A-1_EFT (Annual)'!#REF!+'2A-1_EFT (Annual)'!#REF!","v":{"$error":"#REF!"}},{"$error":"#REF!"},{"$f":"#REF!","v":{"$error":"#REF!"}},29899170,{"$f":"#REF!","v":{"$error":"#REF!"}},null,null,null,{"$f":"#REF!+#REF!","v":{"$error":"#REF!"}},null,{"$error":"#REF!"}]
[32,32,"Livingston",{"$f":"#REF!","v":{"$error":"#REF!"}},{"$f":"'2_State Distrib and Adjs'!AO38","v":6738},{"$f":"'2_State Distrib and Adjs'!AN38","v":176771898},null,null,null,null,null,null,null,null,null,null,176771898,null,{"$f":"'2_State Distrib and Adjs'!AS38","v":1960758},{"$f":"'2_State Distrib and Adjs'!AT38","v":-394173},{"$f":"'2_State Distrib and Adjs'!AU38","v":1566585},178338483,null,null,178338483,{"$f":"'2_State Distrib and Adjs'!AP38","v":-175853},{"$f":"'2_State Distrib and Adjs'!AW38","v":0},{"$f":"'2_State Distrib and Adjs'!AX38","v":805350},{"$f":"'2_State Distrib and Adjs'!AY38","v":3766019},{"$f":"'2_State Distrib and Adjs'!AZ38","v":3012815},{"$f":"'2_State Distrib and Adjs'!BB38","v":191395843},{"$f":"'2_State Distrib and Adjs'!BC38","v":126518328},{"$f":"'2_State Distrib and Adjs'!BD38","v":64877515},{"$f":"'2_State Distrib and Adjs'!BE38","v":16219379},{"$f":"'2_State Distrib and Adjs'!BF38","v":0},{"$f":"'2_State Distrib and Adjs'!BG38","v":1593010},{"$f":"'2_State Distrib and Adjs'!BH38","v":0},{"$f":"'2_State Distrib and Adjs'!BJ38","v":193092853},193092853,null,{"$f":"-'New Type 2 Res Summary'!AG38-'5A3_OJJ'!P38","v":{"$error":"#REF!"}},{"$f":"-'New Type 2 Res Summary'!AH38","v":{"$error":"#REF!"}},{"$f":"-'New Type 2 Res Summary'!AI38","v":{"$error":"#REF!"}},{"$f":"-'New Type 2 Res Summary'!AJ38","v":{"$error":"#REF!"}},{"$f":"-'New Type 2 Res Summary'!AK38","v":{"$error":"#REF!"}},{"$f":"-'New Type 2 Res Summary'!AL38","v":{"$error":"#REF!"}},{"$f":"-'New Type 2 Res Summary'!AM38-'5A3_OJJ'!P38","v":{"$error":"#REF!"}},null,{"$f":"-'New Type 2 Res Summary'!AN38","v":{"$error":"#REF!"}},{"$f":"-'New Type 2 Res Summary'!AO38-'5A3_OJJ'!P38","v":{"$error":"#REF!"}},null,{"$f":"-'New Type 2 Res Summary'!AQ38-'5A3_OJJ'!P38","v":{"$error":"#REF!"}},{"$f":"'2A-1_EFT (Annual)'!AQ38","v":-1588099},{"$f":"'2A-1_EFT (Annual)'!#REF!+'2A-1_EFT (Annual)'!#REF!","v":{"$error":"#REF!"}},{"$error":"#REF!"},{"$f":"#REF!","v":{"$error":"#REF!"}},191504754,{"$f":"#REF!","v":{"$error":"#REF!"}},null,null,null,{"$f":"#REF!+#REF!","v":{"$error":"#REF!"}},null,{"$error":"#REF!"}]
[33,33,"Madison",{"$f":"#REF!","v":{"$error":"#REF!"}},{"$f":"'2_State Distrib and Adjs'!AO39","v":6669},{"$f":"'2_State Distrib and Adjs'!AN39","v":7815532},null,null,null,null,null,null,null,null,null,null,7815532,null,{"$f":"'2_State Distrib and Adjs'!AS39","v":33345},{"$f":"'2_State Distrib and Adjs'!AT39","v":40014},{"$f":"'2_State Distrib and Adjs'!AU39","v":73359},{"$f":"Q39+U39","v":7888891},null,null,7888891,{"$f":"'2_State Distrib and Adjs'!AP39","v":-114893},{"$f":"'2_State Distrib and Adjs'!AW39","v":0},{"$f":"'2_State Distrib and Adjs'!AX39","v":37520},{"$f":"'2_State Distrib and Adjs'!AY39","v":249444},{"$f":"'2_State Distrib and Adjs'!AZ39","v":199555},{"$f":"'2_State Distrib and Adjs'!BB39","v":8634682},{"$f":"'2_State Distrib and Adjs'!BC39","v":5755549},{"$f":"'2_State Distrib and Adjs'!BD39","v":2879133},{"$f":"'2_State Distrib and Adjs'!BE39","v":719783},{"$f":"'2_State Distrib and Adjs'!BF39","v":0},{"$f":"'2_State Distrib and Adjs'!BG39","v":41452},{"$f":"'2_State Distrib and Adjs'!BH39","v":0},{"$f":"'2_State Distrib and Adjs'!BJ39","v":8676134},8676134,null,{"$f":"-'New Type 2 Res Summary'!AG39-'5A3_OJJ'!P39","v":{"$error":"#REF!"}},{"$f":"-'New Type 2 Res Summary'!AH39","v":{"$error":"#REF!"}},{"$f":"-'New Type 2 Res Summary'!AI39","v":{"$error":"#REF!"}},{"$f":"-'New Type 2 Res Summary'!AJ39","v":{"$error":"#REF!"}},{"$f":"-'New Type 2 Res Summary'!AK39","v":{"$error":"#REF!"}},{"$f":"-'New Type 2 Res Summary'!AL39","v":{"$error":"#REF!"}},{"$f":"-'New Type 2 Res Summary'!AM39-'5A3_OJJ'!P39","v":{"$error":"#REF!"}},null,{"$f":"-'New Type 2 Res Summary'!AN39","v":{"$error":"#REF!"}},{"$f":"-'New Type 2 Res Summary'!AO39-'5A3_OJJ'!P39","v":{"$error":"#REF!"}},null,{"$f":"-'New Type 2 Res Summary'!AQ39-'5A3_OJJ'!P39","v":{"$error":"#REF!"}},{"$f":"'2A-1_EFT (Annual)'!AQ39","v":-173051},{"$f":"'2A-1_EFT (Annual)'!#REF!+'2A-1_EFT (Annual)'!#REF!","v":{"$error":"#REF!"}},{"$error":"#REF!"},{"$f":"#REF!","v":{"$error":"#REF!"}},8503083,{"$f":"#REF!","v":{"$error":"#REF!"}},null,null,null,{"$f":"#REF!+#REF!","v":{"$error":"#REF!"}},null,{"$error":"#REF!"}]
[34,34,"Morehouse",{"$f":"#REF!","v":{"$error":"#REF!"}},{"$f":"'2_State Distrib and Adjs'!AO40","v":7083},{"$f":"'2_State Distrib and Adjs'!AN40","v":22007811},null,null,null,null,null,null,null,null,null,null,22007811,null,{"$f":"'2_State Distrib and Adjs'!AS40","v":-35415},{"$f":"'2_State Distrib and Adjs'!AT40","v":3542},{"$f":"'2_State Distrib and Adjs'!AU40","v":-31873},21975938,null,null,21975938,{"$f":"'2_State Distrib and Adjs'!AP40","v":104416},{"$f":"'2_State Distrib and Adjs'!AW40","v":0},{"$f":"'2_State Distrib and Adjs'!AX40","v":94150},{"$f":"'2_State Distrib and Adjs'!AY40","v":501675},{"$f":"'2_State Distrib and Adjs'!AZ40","v":401340},{"$f":"'2_State Distrib and Adjs'!BB40","v":23830030},{"$f":"'2_State Distrib and Adjs'!BC40","v":15764155},{"$f":"'2_State Distrib and Adjs'!BD40","v":8065875},{"$f":"'2_State Distrib and Adjs'!BE40","v":2016469},{"$f":"'2_State Distrib and Adjs'!BF40","v":0},{"$f":"'2_State Distrib and Adjs'!BG40","v":198584},{"$f":"'2_State Distrib and Adjs'!BH40","v":19648},{"$f":"'2_State Distrib and Adjs'!BJ40","v":24056262},24056262,null,{"$f":"-'New Type 2 Res Summary'!AG40-'5A3_OJJ'!P40","v":{"$error":"#REF!"}},{"$f":"-'New Type 2 Res Summary'!AH40","v":{"$error":"#REF!"}},{"$f":"-'New Type 2 Res Summary'!AI40","v":{"$error":"#REF!"}},{"$f":"-'New Type 2 Res Summary'!AJ40","v":{"$error":"#REF!"}},{"$f":"-'New Type 2 Res Summary'!AK40","v":{"$error":"#REF!"}},{"$f":"-'New Type 2 Res Summary'!AL40","v":{"$error":"#REF!"}},{"$f":"-'New Type 2 Res Summary'!AM40-'5A3_OJJ'!P40","v":{"$error":"#REF!"}},null,{"$f":"-'New Type 2 Res Summary'!AN40","v":{"$error":"#REF!"}},{"$f":"-'New Type 2 Res Summary'!AO40-'5A3_OJJ'!P40","v":{"$error":"#REF!"}},null,{"$f":"-'New Type 2 Res Summary'!AQ40-'5A3_OJJ'!P40","v":{"$error":"#REF!"}},{"$f":"'2A-1_EFT (Annual)'!AQ40","v":-310105},{"$f":"'2A-1_EFT (Annual)'!#REF!+'2A-1_EFT (Annual)'!#REF!","v":{"$error":"#REF!"}},{"$error":"#REF!"},{"$f":"#REF!","v":{"$error":"#REF!"}},23746157,{"$f":"#REF!","v":{"$error":"#REF!"}},null,null,null,{"$f":"#REF!+#REF!","v":{"$error":"#REF!"}},null,{"$error":"#REF!"}]
[35,35,"Natchitoches",{"$f":"#REF!","v":{"$error":"#REF!"}},{"$f":"'2_State Distrib and Adjs'!AO41","v":5425},{"$f":"'2_State Distrib and Adjs'!AN41","v":26982321},null,null,null,null,null,null,null,null,null,null,26982321,null,{"$f":"'2_State Distrib and Adjs'!AS41","v":-960225},{"$f":"'2_State Distrib and Adjs'!AT41","v":-67813},{"$f":"'2_State Distrib and Adjs'!AU41","v":-1028038},25954283,null,null,25954283,{"$f":"'2_State Distrib and Adjs'!AP41","v":-198959},{"$f":"'2_State Distrib and Adjs'!AW41","v":0},{"$f":"'2_State Distrib and Adjs'!AX41","v":159530},{"$f":"'2_State Distrib and Adjs'!AY41","v":741175},{"$f":"'2_State Distrib and Adjs'!AZ41","v":592941},{"$f":"'2_State Distrib and Adjs'!BB41","v":28360732},{"$f":"'2_State Distrib and Adjs'!BC41","v":19665156},{"$f":"'2_State Distrib and Adjs'!BD41","v":8695576},{"$f":"'2_State Distrib and Adjs'!BE41","v":2173894},{"$f":"'2_State Distrib and Adjs'!BF41","v":0},{"$f":"'2_State Distrib and Adjs'!BG41","v":226781},{"$f":"'2_State Distrib and Adjs'!BH41","v":0},{"$f":"'2_State Distrib and Adjs'!BJ41","v":28623513},28623513,null,{"$f":"-'New Type 2 Res Summary'!AG41-'5A3_OJJ'!P41","v":{"$error":"#REF!"}},{"$f":"-'New Type 2 Res Summary'!AH41","v":{"$error":"#REF!"}},{"$f":"-'New Type 2 Res Summary'!AI41","v":{"$error":"#REF!"}},{"$f":"-'New Type 2 Res Summary'!AJ41","v":{"$error":"#REF!"}},{"$f":"-'New Type 2 Res Summary'!AK41","v":{"$error":"#REF!"}},{"$f":"-'New Type 2 Res Summary'!AL41","v":{"$error":"#REF!"}},{"$f":"-'New Type 2 Res Summary'!AM41-'5A3_OJJ'!P41","v":{"$error":"#REF!"}},null,{"$f":"-'New Type 2 Res Summary'!AN41","v":{"$error":"#REF!"}},{"$f":"-'New Type 2 Res Summary'!AO41-'5A3_OJJ'!P41","v":{"$error":"#REF!"}},null,{"$f":"-'New Type 2 Res Summary'!AQ41-'5A3_OJJ'!P41","v":{"$error":"#REF!"}},{"$f":"'2A-1_EFT (Annual)'!AQ41","v":-165593},{"$f":"'2A-1_EFT (Annual)'!#REF!+'2A-1_EFT (Annual)'!#REF!","v":{"$error":"#REF!"}},{"$error":"#REF!"},{"$f":"#REF!","v":{"$error":"#REF!"}},28457920,{"$f":"#REF!","v":{"$error":"#REF!"}},null,null,null,{"$f":"#REF!+#REF!","v":{"$error":"#REF!"}},null,{"$error":"#REF!"}]
[36,36,"Orleans",{"$f":"#REF!","v":{"$error":"#REF!"}},{"$f":"'2_State Distrib and Adjs'!AO42","v":4733},{"$f":"'2_State Distrib and Adjs'!AN42","v":201354197},null,null,null,null,null,null,null,null,null,null,201354197,null,{"$f":"'2_State Distrib and Adjs'!AS42","v":-1277910},{"$f":"'2_State Distrib and Adjs'!AT42","v":371541},{"$f":"'2_State Distrib and Adjs'!AU42","v":-906369},200447828,null,null,200447828,{"$f":"'2_State Distrib and Adjs'!AP42","v":-968107},{"$f":"'2_State Distrib and Adjs'!AW42","v":357000},{"$f":"'2_State Distrib and Adjs'!AX42","v":1391880},{"$f":"'2_State Distrib and Adjs'!AY42","v":6793557},{"$f":"'2_State Distrib and Adjs'!AZ42","v":5434839},{"$f":"'2_State Distrib and Adjs'!BB42","v":223647339},{"$f":"'2_State Distrib and Adjs'!BC42","v":149698904},{"$f":"'2_State Distrib and Adjs'!BD42","v":73948435},{"$f":"'2_State Distrib and Adjs'!BE42","v":18487109},{"$f":"'2_State Distrib and Adjs'!BF42","v":24000},{"$f":"'2_State Distrib and Adjs'!BG42","v":1173838},{"$f":"'2_State Distrib and Adjs'!BH42","v":4680691},{"$f":"'2_State Distrib and Adjs'!BJ42","v":229551868},229551868,null,{"$f":"-'New Type 2 Res Summary'!AG42-'5A3_OJJ'!P42","v":{"$error":"#REF!"}},{"$f":"-'New Type 2 Res Summary'!AH42","v":{"$error":"#REF!"}},{"$f":"-'New Type 2 Res Summary'!AI42","v":{"$error":"#REF!"}},{"$f":"-'New Type 2 Res Summary'!AJ42","v":{"$error":"#REF!"}},{"$f":"-'New Type 2 Res Summary'!AK42","v":{"$error":"#REF!"}},{"$f":"-'New Type 2 Res Summary'!AL42","v":{"$error":"#REF!"}},{"$f":"-'New Type 2 Res Summary'!AM42-'5A3_OJJ'!P42","v":{"$error":"#REF!"}},null,{"$f":"-'New Type 2 Res Summary'!AN42","v":{"$error":"#REF!"}},{"$f":"-'New Type 2 Res Summary'!AO42-'5A3_OJJ'!P42","v":{"$error":"#REF!"}},null,{"$f":"-'New Type 2 Res Summary'!AQ42-'5A3_OJJ'!P42","v":{"$error":"#REF!"}},{"$f":"'2A-1_EFT (Annual)'!AQ42","v":-15175274},{"$f":"'2A-1_EFT (Annual)'!#REF!+'2A-1_EFT (Annual)'!#REF!","v":{"$error":"#REF!"}},{"$error":"#REF!"},{"$f":"#REF!","v":{"$error":"#REF!"}},214376594,{"$f":"#REF!","v":{"$error":"#REF!"}},null,null,null,{"$f":"#REF!+#REF!","v":{"$error":"#REF!"}},null,{"$error":"#REF!"}]
[37,37,"Ouachita",{"$f":"#REF!","v":{"$error":"#REF!"}},{"$f":"'2_State Distrib and Adjs'!AO43","v":6385},{"$f":"'2_State Distrib and Adjs'!AN43","v":112354361},null,null,null,null,null,null,null,null,null,null,112354361,null,{"$f":"'2_State Distrib and Adjs'!AS43","v":-1883575},{"$f":"'2_State Distrib and Adjs'!AT43","v":-178780},{"$f":"'2_State Distrib and Adjs'!AU43","v":-2062355},110292006,null,null,110292006,{"$f":"'2_State Distrib and Adjs'!AP43","v":-596476},{"$f":"'2_State Distrib and Adjs'!AW43","v":0},{"$f":"'2_State Distrib and Adjs'!AX43","v":552860},{"$f":"'2_State Distrib and Adjs'!AY43","v":2629771},{"$f":"'2_State Distrib and Adjs'!AZ43","v":2103816},{"$f":"'2_State Distrib and Adjs'!BB43","v":118926633},{"$f":"'2_State Distrib and Adjs'!BC43","v":80898223},{"$f":"'2_State Distrib and Adjs'!BD43","v":38028410},{"$f":"'2_State Distrib and Adjs'!BE43","v":9507103},{"$f":"'2_State Distrib and Adjs'!BF43","v":0},{"$f":"'2_State Distrib and Adjs'!BG43","v":297635},{"$f":"'2_State Distrib and Adjs'!BH43","v":0},{"$f":"'2_State Distrib and Adjs'!BJ43","v":119280268},119280268,null,{"$f":"-'New Type 2 Res Summary'!AG43-'5A3_OJJ'!P43","v":{"$error":"#REF!"}},{"$f":"-'New Type 2 Res Summary'!AH43","v":{"$error":"#REF!"}},{"$f":"-'New Type 2 Res Summary'!AI43","v":{"$error":"#REF!"}},{"$f":"-'New Type 2 Res Summary'!AJ43","v":{"$error":"#REF!"}},{"$f":"-'New Type 2 Res Summary'!AK43","v":{"$error":"#REF!"}},{"$f":"-'New Type 2 Res Summary'!AL43","v":{"$error":"#REF!"}},{"$f":"-'New Type 2 Res Summary'!AM43-'5A3_OJJ'!P43","v":{"$error":"#REF!"}},null,{"$f":"-'New Type 2 Res Summary'!AN43","v":{"$error":"#REF!"}},{"$f":"-'New Type 2 Res Summary'!AO43-'5A3_OJJ'!P43","v":{"$error":"#REF!"}},null,{"$f":"-'New Type 2 Res Summary'!AQ43-'5A3_OJJ'!P43","v":{"$error":"#REF!"}},{"$f":"'2A-1_EFT (Annual)'!AQ43","v":-710988},{"$f":"'2A-1_EFT (Annual)'!#REF!+'2A-1_EFT (Annual)'!#REF!","v":{"$error":"#REF!"}},{"$error":"#REF!"},{"$f":"#REF!","v":{"$error":"#REF!"}},118569280,{"$f":"#REF!","v":{"$error":"#REF!"}},null,null,null,{"$f":"#REF!+#REF!","v":{"$error":"#REF!"}},null,{"$error":"#REF!"}]
[38,38,"Plaquemines",{"$f":"#REF!","v":{"$error":"#REF!"}},{"$f":"'2_State Distrib and Adjs'!AO44","v":3254},{"$f":"'2_State Distrib and Adjs'!AN44","v":11553812},null,null,null,null,null,null,null,null,null,null,11553812,null,{"$f":"'2_State Distrib and Adjs'!AS44","v":16285},{"$f":"'2_State Distrib and Adjs'!AT44","v":-50484},{"$f":"'2_State Distrib and Adjs'!AU44","v":-34199},11519613,null,null,11519613,{"$f":"'2_State Distrib and Adjs'!AP44","v":-111100},{"$f":"'2_State Distrib and Adjs'!AW44","v":0},{"$f":"'2_State Distrib and Adjs'!AX44","v":120890},{"$f":"'2_State Distrib and Adjs'!AY44","v":645316},{"$f":"'2_State Distrib and Adjs'!AZ44","v":516252},{"$f":"'2_State Distrib and Adjs'!BB44","v":13658945},{"$f":"'2_State Distrib and Adjs'!BC44","v":9207502},{"$f":"'2_State Distrib and Adjs'!BD44","v":4451443},{"$f":"'2_State Distrib and Adjs'!BE44","v":1112861},{"$f":"'2_State Distrib and Adjs'!BF44","v":0},{"$f":"'2_State Distrib and Adjs'!BG44","v":86519},{"$f":"'2_State Distrib and Adjs'!BH44","v":0},{"$f":"'2_State Distrib and Adjs'!BJ44","v":13745464},13745464,null,{"$f":"-'New Type 2 Res Summary'!AG44-'5A3_OJJ'!P44","v":{"$error":"#REF!"}},{"$f":"-'New Type 2 Res Summary'!AH44","v":{"$error":"#REF!"}},{"$f":"-'New Type 2 Res Summary'!AI44","v":{"$error":"#REF!"}},{"$f":"-'New Type 2 Res Summary'!AJ44","v":{"$error":"#REF!"}},{"$f":"-'New Type 2 Res Summary'!AK44","v":{"$error":"#REF!"}},{"$f":"-'New Type 2 Res Summary'!AL44","v":{"$error":"#REF!"}},{"$f":"-'New Type 2 Res Summary'!AM44-'5A3_OJJ'!P44","v":{"$error":"#REF!"}},null,{"$f":"-'New Type 2 Res Summary'!AN44","v":{"$error":"#REF!"}},{"$f":"-'New Type 2 Res Summary'!AO44-'5A3_OJJ'!P44","v":{"$error":"#REF!"}},null,{"$f":"-'New Type 2 Res Summary'!AQ44-'5A3_OJJ'!P44","v":{"$error":"#REF!"}},{"$f":"'2A-1_EFT (Annual)'!AQ44","v":-928562},{"$f":"'2A-1_EFT (Annual)'!#REF!+'2A-1_EFT (Annual)'!#REF!","v":{"$error":"#REF!"}},{"$error":"#REF!"},{"$f":"#REF!","v":{"$error":"#REF!"}},12816902,{"$f":"#REF!","v":{"$error":"#REF!"}},null,null,null,{"$f":"#REF!+#REF!","v":{"$error":"#REF!"}},null,{"$error":"#REF!"}]
[39,39,"Pointe Coupee",{"$f":"#REF!","v":{"$error":"#REF!"}},{"$f":"'2_State Distrib and Adjs'!AO45","v":4242},{"$f":"'2_State Distrib and Adjs'!AN45","v":10075505},null,null,null,null,null,null,null,null,null,null,10075505,null,{"$f":"'2_State Distrib and Adjs'!AS45","v":-551720},{"$f":"'2_State Distrib and Adjs'!AT45","v":-16976},{"$f":"'2_State Distrib and Adjs'!AU45","v":-568696},9506809,null,null,9506809,{"$f":"'2_State Distrib and Adjs'!AP45","v":-19404},{"$f":"'2_State Distrib and Adjs'!AW45","v":0},{"$f":"'2_State Distrib and Adjs'!AX45","v":78820},{"$f":"'2_State Distrib and Adjs'!AY45","v":335826},{"$f":"'2_State Distrib and Adjs'!AZ45","v":268660},{"$f":"'2_State Distrib and Adjs'!BB45","v":10674450},{"$f":"'2_State Distrib and Adjs'!BC45","v":7475937},{"$f":"'2_State Distrib and Adjs'!BD45","v":3198513},{"$f":"'2_State Distrib and Adjs'!BE45","v":799628},{"$f":"'2_State Distrib and Adjs'!BF45","v":0},{"$f":"'2_State Distrib and Adjs'!BG45","v":178822},{"$f":"'2_State Distrib and Adjs'!BH45","v":0},{"$f":"'2_State Distrib and Adjs'!BJ45","v":10853272},10853272,null,{"$f":"-'New Type 2 Res Summary'!AG45-'5A3_OJJ'!P45","v":{"$error":"#REF!"}},{"$f":"-'New Type 2 Res Summary'!AH45","v":{"$error":"#REF!"}},{"$f":"-'New Type 2 Res Summary'!AI45","v":{"$error":"#REF!"}},{"$f":"-'New Type 2 Res Summary'!AJ45","v":{"$error":"#REF!"}},{"$f":"-'New Type 2 Res Summary'!AK45","v":{"$error":"#REF!"}},{"$f":"-'New Type 2 Res Summary'!AL45","v":{"$error":"#REF!"}},{"$f":"-'New Type 2 Res Summary'!AM45-'5A3_OJJ'!P45","v":{"$error":"#REF!"}},null,{"$f":"-'New Type 2 Res Summary'!AN45","v":{"$error":"#REF!"}},{"$f":"-'New Type 2 Res Summary'!AO45-'5A3_OJJ'!P45","v":{"$error":"#REF!"}},null,{"$f":"-'New Type 2 Res Summary'!AQ45-'5A3_OJJ'!P45","v":{"$error":"#REF!"}},{"$f":"'2A-1_EFT (Annual)'!AQ45","v":-425368},{"$f":"'2A-1_EFT (Annual)'!#REF!+'2A-1_EFT (Annual)'!#REF!","v":{"$error":"#REF!"}},{"$error":"#REF!"},{"$f":"#REF!","v":{"$error":"#REF!"}},10427904,{"$f":"#REF!","v":{"$error":"#REF!"}},null,null,null,{"$f":"#REF!+#REF!","v":{"$error":"#REF!"}},null,{"$error":"#REF!"}]
[40,40,"Rapides",{"$f":"#REF!","v":{"$error":"#REF!"}},{"$f":"'2_State Distrib and Adjs'!AO46","v":6159},{"$f":"'2_State Distrib and Adjs'!AN46","v":126307587},null,null,null,null,null,null,null,null,null,null,126307587,null,{"$f":"'2_State Distrib and Adjs'!AS46","v":301791},{"$f":"'2_State Distrib and Adjs'!AT46","v":166293},{"$f":"'2_State Distrib and Adjs'!AU46","v":468084},126775671,null,null,126775671,{"$f":"'2_State Distrib and Adjs'!AP46","v":-742154},{"$f":"'2_State Distrib and Adjs'!AW46","v":0},{"$f":"'2_State Distrib and Adjs'!AX46","v":663950},{"$f":"'2_State Distrib and Adjs'!AY46","v":3247836},{"$f":"'2_State Distrib and Adjs'!AZ46","v":2598270},{"$f":"'2_State Distrib and Adjs'!BB46","v":137415328},{"$f":"'2_State Distrib and Adjs'!BC46","v":91312418},{"$f":"'2_State Distrib and Adjs'!BD46","v":46102910},{"$f":"'2_State Distrib and Adjs'!BE46","v":11525728},{"$f":"'2_State Distrib and Adjs'!BF46","v":0},{"$f":"'2_State Distrib and Adjs'!BG46","v":787829},{"$f":"'2_State Distrib and Adjs'!BH46","v":64030},{"$f":"'2_State Distrib and Adjs'!BJ46","v":138361187},138361187,null,{"$f":"-'New Type 2 Res Summary'!AG46-'5A3_OJJ'!P46","v":{"$error":"#REF!"}},{"$f":"-'New Type 2 Res Summary'!AH46","v":{"$error":"#REF!"}},{"$f":"-'New Type 2 Res Summary'!AI46","v":{"$error":"#REF!"}},{"$f":"-'New Type 2 Res Summary'!AJ46","v":{"$error":"#REF!"}},{"$f":"-'New Type 2 Res Summary'!AK46","v":{"$error":"#REF!"}},{"$f":"-'New Type 2 Res Summary'!AL46","v":{"$error":"#REF!"}},{"$f":"-'New Type 2 Res Summary'!AM46-'5A3_OJJ'!P46","v":{"$error":"#REF!"}},null,{"$f":"-'New Type 2 Res Summary'!AN46","v":{"$error":"#REF!"}},{"$f":"-'New Type 2 Res Summary'!AO46-'5A3_OJJ'!P46","v":{"$error":"#REF!"}},null,{"$f":"-'New Type 2 Res Summary'!AQ46-'5A3_OJJ'!P46","v":{"$error":"#REF!"}},{"$f":"'2A-1_EFT (Annual)'!AQ46","v":-655531},{"$f":"'2A-1_EFT (Annual)'!#REF!+'2A-1_EFT (Annual)'!#REF!","v":{"$error":"#REF!"}},{"$error":"#REF!"},{"$f":"#REF!","v":{"$error":"#REF!"}},137705656,{"$f":"#REF!","v":{"$error":"#REF!"}},null,null,null,{"$f":"#REF!+#REF!","v":{"$error":"#REF!"}},null,{"$error":"#REF!"}]
[41,41,"Red River",{"$f":"#REF!","v":{"$error":"#REF!"}},{"$f":"'2_State Distrib and Adjs'!AO47","v":3735},{"$f":"'2_State Distrib and Adjs'!AN47","v":4392267},null,null,null,null,null,null,null,null,null,null,4392267,null,{"$f":"'2_State Distrib and Adjs'!AS47","v":-141930},{"$f":"'2_State Distrib and Adjs'!AT47","v":14940},{"$f":"'2_State Distrib and Adjs'!AU47","v":-126990},4265277,null,null,4265277,{"$f":"'2_State Distrib and Adjs'!AP47","v":-16014},{"$f":"'2_State Distrib and Adjs'!AW47","v":0},{"$f":"'2_State Distrib and Adjs'!AX47","v":39760},{"$f":"'2_State Distrib and Adjs'!AY47","v":234896},{"$f":"'2_State Distrib and Adjs'!AZ47","v":187916},{"$f":"'2_State Distrib and Adjs'!BB47","v":5064178},{"$f":"'2_State Distrib and Adjs'!BC47","v":3441320},{"$f":"'2_State Distrib and Adjs'!BD47","v":1622858},{"$f":"'2_State Distrib and Adjs'!BE47","v":405715},{"$f":"'2_State Distrib and Adjs'!BF47","v":0},{"$f":"'2_State Distrib and Adjs'!BG47","v":62660},{"$f":"'2_State Distrib and Adjs'!BH47","v":105814},{"$f":"'2_State Distrib and Adjs'!BJ47","v":5234652},5234652,null,{"$f":"-'New Type 2 Res Summary'!AG47-'5A3_OJJ'!P47","v":{"$error":"#REF!"}},{"$f":"-'New Type 2 Res Summary'!AH47","v":{"$error":"#REF!"}},{"$f":"-'New Type 2 Res Summary'!AI47","v":{"$error":"#REF!"}},{"$f":"-'New Type 2 Res Summary'!AJ47","v":{"$error":"#REF!"}},{"$f":"-'New Type 2 Res Summary'!AK47","v":{"$error":"#REF!"}},{"$f":"-'New Type 2 Res Summary'!AL47","v":{"$error":"#REF!"}},{"$f":"-'New Type 2 Res Summary'!AM47-'5A3_OJJ'!P47","v":{"$error":"#REF!"}},null,{"$f":"-'New Type 2 Res Summary'!AN47","v":{"$error":"#REF!"}},{"$f":"-'New Type 2 Res Summary'!AO47-'5A3_OJJ'!P47","v":{"$error":"#REF!"}},null,{"$f":"-'New Type 2 Res Summary'!AQ47-'5A3_OJJ'!P47","v":{"$error":"#REF!"}},{"$f":"'2A-1_EFT (Annual)'!AQ47","v":-221956},{"$f":"'2A-1_EFT (Annual)'!#REF!+'2A-1_EFT (Annual)'!#REF!","v":{"$error":"#REF!"}},{"$error":"#REF!"},{"$f":"#REF!","v":{"$error":"#REF!"}},5012696,{"$f":"#REF!","v":{"$error":"#REF!"}},null,null,null,{"$f":"#REF!+#REF!","v":{"$error":"#REF!"}},null,{"$error":"#REF!"}]
[42,42,"Richland",{"$f":"#REF!","v":{"$error":"#REF!"}},{"$f":"'2_State Distrib and Adjs'!AO48","v":5974},{"$f":"'2_State Distrib and Adjs'!AN48","v":16022574},null,null,null,null,null,null,null,null,null,null,16022574,null,{"$f":"'2_State Distrib and Adjs'!AS48","v":-268830},{"$f":"'2_State Distrib and Adjs'!AT48","v":83636},{"$f":"'2_State Distrib and Adjs'!AU48","v":-185194},15837380,null,null,15837380,{"$f":"'2_State Distrib and Adjs'!AP48","v":-34886},{"$f":"'2_State Distrib and Adjs'!AW48","v":0},{"$f":"'2_State Distrib and Adjs'!AX48","v":85470},{"$f":"'2_State Distrib and Adjs'!AY48","v":386075},{"$f":"'2_State Distrib and Adjs'!AZ48","v":308861},{"$f":"'2_State Distrib and Adjs'!BB48","v":17162014},{"$f":"'2_State Distrib and Adjs'!BC48","v":11540026},{"$f":"'2_State Distrib and Adjs'!BD48","v":5621988},{"$f":"'2_State Distrib and Adjs'!BE48","v":1405497},{"$f":"'2_State Distrib and Adjs'!BF48","v":0},{"$f":"'2_State Distrib and Adjs'!BG48","v":109896},{"$f":"'2_State Distrib and Adjs'!BH48","v":0},{"$f":"'2_State Distrib and Adjs'!BJ48","v":17289910},17289910,null,{"$f":"-'New Type 2 Res Summary'!AG48-'5A3_OJJ'!P48","v":{"$error":"#REF!"}},{"$f":"-'New Type 2 Res Summary'!AH48","v":{"$error":"#REF!"}},{"$f":"-'New Type 2 Res Summary'!AI48","v":{"$error":"#REF!"}},{"$f":"-'New Type 2 Res Summary'!AJ48","v":{"$error":"#REF!"}},{"$f":"-'New Type 2 Res Summary'!AK48","v":{"$error":"#REF!"}},{"$f":"-'New Type 2 Res Summary'!AL48","v":{"$error":"#REF!"}},{"$f":"-'New Type 2 Res Summary'!AM48-'5A3_OJJ'!P48","v":{"$error":"#REF!"}},null,{"$f":"-'New Type 2 Res Summary'!AN48","v":{"$error":"#REF!"}},{"$f":"-'New Type 2 Res Summary'!AO48-'5A3_OJJ'!P48","v":{"$error":"#REF!"}},null,{"$f":"-'New Type 2 Res Summary'!AQ48-'5A3_OJJ'!P48","v":{"$error":"#REF!"}},{"$f":"'2A-1_EFT (Annual)'!AQ48","v":-94180},{"$f":"'2A-1_EFT (Annual)'!#REF!+'2A-1_EFT (Annual)'!#REF!","v":{"$error":"#REF!"}},{"$error":"#REF!"},{"$f":"#REF!","v":{"$error":"#REF!"}},17195730,{"$f":"#REF!","v":{"$error":"#REF!"}},null,null,null,{"$f":"#REF!+#REF!","v":{"$error":"#REF!"}},null,{"$error":"#REF!"}]
[43,43,"Sabine",{"$f":"#REF!","v":{"$error":"#REF!"}},{"$f":"'2_State Distrib and Adjs'!AO49","v":6029},{"$f":"'2_State Distrib and Adjs'!AN49","v":22222737},null,null,null,null,null,null,null,null,null,null,22222737,null,{"$f":"'2_State Distrib and Adjs'!AS49","v":-681277},{"$f":"'2_State Distrib and Adjs'!AT49","v":-36174},{"$f":"'2_State Distrib and Adjs'!AU49","v":-717451},21505286,null,null,21505286,{"$f":"'2_State Distrib and Adjs'!AP49","v":-46751},{"$f":"'2_State Distrib and Adjs'!AW49","v":0},{"$f":"'2_State Distrib and Adjs'!AX49","v":117180},{"$f":"'2_State Distrib and Adjs'!AY49","v":654382},{"$f":"'2_State Distrib and Adjs'!AZ49","v":523506},{"$f":"'2_State Distrib and Adjs'!BB49","v":23735176},{"$f":"'2_State Distrib and Adjs'!BC49","v":16296336},{"$f":"'2_State Distrib and Adjs'!BD49","v":7438840},{"$f":"'2_State Distrib and Adjs'!BE49","v":1859710},{"$f":"'2_State Distrib and Adjs'!BF49","v":0},{"$f":"'2_State Distrib and Adjs'!BG49","v":188462},{"$f":"'2_State Distrib and Adjs'!BH49","v":140907},{"$f":"'2_State Distrib and Adjs'!BJ49","v":24066545},24066545,null,{"$f":"-'New Type 2 Res Summary'!AG49-'5A3_OJJ'!P49","v":{"$error":"#REF!"}},{"$f":"-'New Type 2 Res Summary'!AH49","v":{"$error":"#REF!"}},{"$f":"-'New Type 2 Res Summary'!AI49","v":{"$error":"#REF!"}},{"$f":"-'New Type 2 Res Summary'!AJ49","v":{"$error":"#REF!"}},{"$f":"-'New Type 2 Res Summary'!AK49","v":{"$error":"#REF!"}},{"$f":"-'New Type 2 Res Summary'!AL49","v":{"$error":"#REF!"}},{"$f":"-'New Type 2 Res Summary'!AM49-'5A3_OJJ'!P49","v":{"$error":"#REF!"}},null,{"$f":"-'New Type 2 Res Summary'!AN49","v":{"$error":"#REF!"}},{"$f":"-'New Type 2 Res Summary'!AO49-'5A3_OJJ'!P49","v":{"$error":"#REF!"}},null,{"$f":"-'New Type 2 Res Summary'!AQ49-'5A3_OJJ'!P49","v":{"$error":"#REF!"}},{"$f":"'2A-1_EFT (Annual)'!AQ49","v":-98094},{"$f":"'2A-1_EFT (Annual)'!#REF!+'2A-1_EFT (Annual)'!#REF!","v":{"$error":"#REF!"}},{"$error":"#REF!"},{"$f":"#REF!","v":{"$error":"#REF!"}},23968451,{"$f":"#REF!","v":{"$error":"#REF!"}},null,null,null,{"$f":"#REF!+#REF!","v":{"$error":"#REF!"}},null,{"$error":"#REF!"}]
[44,44,"St. Bernard",{"$f":"#REF!","v":{"$error":"#REF!"}},{"$f":"'2_State Distrib and Adjs'!AO50","v":6049},{"$f":"'2_State Distrib and Adjs'!AN50","v":45025070},null,null,null,null,null,null,null,null,null,null,45025070,null,{"$f":"'2_State Distrib and Adjs'!AS50","v":-326646},{"$f":"'2_State Distrib and Adjs'!AT50","v":-105858},{"$f":"'2_State Distrib and Adjs'!AU50","v":-432504},44592566,null,null,44592566,{"$f":"'2_State Distrib and Adjs'!AP50","v":-242411},{"$f":"'2_State Distrib and Adjs'!AW50","v":0},{"$f":"'2_State Distrib and Adjs'!AX50","v":238350},{"$f":"'2_State Distrib and Adjs'!AY50","v":971956},{"$f":"'2_State Distrib and Adjs'!AZ50","v":777564},{"$f":"'2_State Distrib and Adjs'!BB50","v":47795959},{"$f":"'2_State Distrib and Adjs'!BC50","v":32269842},{"$f":"'2_State Distrib and Adjs'!BD50","v":15526117},{"$f":"'2_State Distrib and Adjs'!BE50","v":3881529},{"$f":"'2_State Distrib and Adjs'!BF50","v":0},{"$f":"'2_State Distrib and Adjs'!BG50","v":461274},{"$f":"'2_State Distrib and Adjs'!BH50","v":0},{"$f":"'2_State Distrib and Adjs'!BJ50","v":48291233},48291233,null,{"$f":"-'New Type 2 Res Summary'!AG50-'5A3_OJJ'!P50","v":{"$error":"#REF!"}},{"$f":"-'New Type 2 Res Summary'!AH50","v":{"$error":"#REF!"}},{"$f":"-'New Type 2 Res Summary'!AI50","v":{"$error":"#REF!"}},{"$f":"-'New Type 2 Res Summary'!AJ50","v":{"$error":"#REF!"}},{"$f":"-'New Type 2 Res Summary'!AK50","v":{"$error":"#REF!"}},{"$f":"-'New Type 2 Res Summary'!AL50","v":{"$error":"#REF!"}},{"$f":"-'New Type 2 Res Summary'!AM50-'5A3_OJJ'!P50","v":{"$error":"#REF!"}},null,{"$f":"-'New Type 2 Res Summary'!AN50","v":{"$error":"#REF!"}},{"$f":"-'New Type 2 Res Summary'!AO50-'5A3_OJJ'!P50","v":{"$error":"#REF!"}},null,{"$f":"-'New Type 2 Res Summary'!AQ50-'5A3_OJJ'!P50","v":{"$error":"#REF!"}},{"$f":"'2A-1_EFT (Annual)'!AQ50","v":-447223},{"$f":"'2A-1_EFT (Annual)'!#REF!+'2A-1_EFT (Annual)'!#REF!","v":{"$error":"#REF!"}},{"$error":"#REF!"},{"$f":"#REF!","v":{"$error":"#REF!"}},47844010,{"$f":"#REF!","v":{"$error":"#REF!"}},null,null,null,{"$f":"#REF!+#REF!","v":{"$error":"#REF!"}},null,{"$error":"#REF!"}]
[45,45,"St. Charles",{"$f":"#REF!","v":{"$error":"#REF!"}},{"$f":"'2_State Distrib and Adjs'!AO51","v":3152},{"$f":"'2_State Distrib and Adjs'!AN51","v":28364289},null,null,null,null,null,null,null,null,null,null,28364289,null,{"$f":"'2_State Distrib and Adjs'!AS51","v":-176624},{"$f":"'2_State Distrib and Adjs'!AT51","v":-160854},{"$f":"'2_State Distrib and Adjs'!AU51","v":-337478},28026811,null,null,28026811,{"$f":"'2_State Distrib and Adjs'!AP51","v":-12891},{"$f":"'2_State Distrib and Adjs'!AW51","v":0},{"$f":"'2_State Distrib and Adjs'!AX51","v":293650},{"$f":"'2_State Distrib and Adjs'!AY51","v":1764481},{"$f":"'2_State Distrib and Adjs'!AZ51","v":1411585},{"$f":"'2_State Distrib and Adjs'!BB51","v":34130357},{"$f":"'2_State Distrib and Adjs'!BC51","v":22945630},{"$f":"'2_State Distrib and Adjs'!BD51","v":11184727},{"$f":"'2_State Distrib and Adjs'!BE51","v":2796182},{"$f":"'2_State Distrib and Adjs'!BF51","v":0},{"$f":"'2_State Distrib and Adjs'!BG51","v":384395},{"$f":"'2_State Distrib and Adjs'!BH51","v":344057},{"$f":"'2_State Distrib and Adjs'!BJ51","v":34908809},34908809,null,{"$f":"-'New Type 2 Res Summary'!AG51-'5A3_OJJ'!P51","v":{"$error":"#REF!"}},{"$f":"-'New Type 2 Res Summary'!AH51","v":{"$error":"#REF!"}},{"$f":"-'New Type 2 Res Summary'!AI51","v":{"$error":"#REF!"}},{"$f":"-'New Type 2 Res Summary'!AJ51","v":{"$error":"#REF!"}},{"$f":"-'New Type 2 Res Summary'!AK51","v":{"$error":"#REF!"}},{"$f":"-'New Type 2 Res Summary'!AL51","v":{"$error":"#REF!"}},{"$f":"-'New Type 2 Res Summary'!AM51-'5A3_OJJ'!P51","v":{"$error":"#REF!"}},null,{"$f":"-'New Type 2 Res Summary'!AN51","v":{"$error":"#REF!"}},{"$f":"-'New Type 2 Res Summary'!AO51-'5A3_OJJ'!P51","v":{"$error":"#REF!"}},null,{"$f":"-'New Type 2 Res Summary'!AQ51-'5A3_OJJ'!P51","v":{"$error":"#REF!"}},{"$f":"'2A-1_EFT (Annual)'!AQ51","v":-963666},{"$f":"'2A-1_EFT (Annual)'!#REF!+'2A-1_EFT (Annual)'!#REF!","v":{"$error":"#REF!"}},{"$error":"#REF!"},{"$f":"#REF!","v":{"$error":"#REF!"}},33945143,{"$f":"#REF!","v":{"$error":"#REF!"}},null,null,null,{"$f":"#REF!+#REF!","v":{"$error":"#REF!"}},null,{"$error":"#REF!"}]
[46,46,"St. Helena",{"$f":"#REF!","v":{"$error":"#REF!"}},{"$f":"'2_State Distrib and Adjs'!AO52","v":8272},{"$f":"'2_State Distrib and Adjs'!AN52","v":8544662},null,null,null,null,null,null,null,null,null,null,8544662,null,{"$f":"'2_State Distrib and Adjs'!AS52","v":-405328},{"$f":"'2_State Distrib and Adjs'!AT52","v":49632},{"$f":"'2_State Distrib and Adjs'!AU52","v":-355696},8188966,null,null,8188966,{"$f":"'2_State Distrib and Adjs'!AP52","v":-88150},{"$f":"'2_State Distrib and Adjs'!AW52","v":0},{"$f":"'2_State Distrib and Adjs'!AX52","v":32060},{"$f":"'2_State Distrib and Adjs'!AY52","v":144800},{"$f":"'2_State Distrib and Adjs'!AZ52","v":115840},{"$f":"'2_State Distrib and Adjs'!BB52","v":8610716},{"$f":"'2_State Distrib and Adjs'!BC52","v":6035784},{"$f":"'2_State Distrib and Adjs'!BD52","v":2574932},{"$f":"'2_State Distrib and Adjs'!BE52","v":643733},{"$f":"'2_State Distrib and Adjs'!BF52","v":0},{"$f":"'2_State Distrib and Adjs'!BG52","v":26028},{"$f":"'2_State Distrib and Adjs'!BH52","v":0},{"$f":"'2_State Distrib and Adjs'!BJ52","v":8636744},8636744,null,{"$f":"-'New Type 2 Res Summary'!AG52-'5A3_OJJ'!P52","v":{"$error":"#REF!"}},{"$f":"-'New Type 2 Res Summary'!AH52","v":{"$error":"#REF!"}},{"$f":"-'New Type 2 Res Summary'!AI52","v":{"$error":"#REF!"}},{"$f":"-'New Type 2 Res Summary'!AJ52","v":{"$error":"#REF!"}},{"$f":"-'New Type 2 Res Summary'!AK52","v":{"$error":"#REF!"}},{"$f":"-'New Type 2 Res Summary'!AL52","v":{"$error":"#REF!"}},{"$f":"-'New Type 2 Res Summary'!AM52-'5A3_OJJ'!P52","v":{"$error":"#REF!"}},null,{"$f":"-'New Type 2 Res Summary'!AN52","v":{"$error":"#REF!"}},{"$f":"-'New Type 2 Res Summary'!AO52-'5A3_OJJ'!P52","v":{"$error":"#REF!"}},null,{"$f":"-'New Type 2 Res Summary'!AQ52-'5A3_OJJ'!P52","v":{"$error":"#REF!"}},{"$f":"'2A-1_EFT (Annual)'!AQ52","v":-136312},{"$f":"'2A-1_EFT (Annual)'!#REF!+'2A-1_EFT (Annual)'!#REF!","v":{"$error":"#REF!"}},{"$error":"#REF!"},{"$f":"#REF!","v":{"$error":"#REF!"}},8500432,{"$f":"#REF!","v":{"$error":"#REF!"}},null,null,null,{"$f":"#REF!+#REF!","v":{"$error":"#REF!"}},null,{"$error":"#REF!"}]
[47,47,"St. James",{"$f":"#REF!","v":{"$error":"#REF!"}},{"$f":"'2_State Distrib and Adjs'!AO53","v":3715},{"$f":"'2_State Distrib and Adjs'!AN53","v":11805841},null,null,null,null,null,null,null,null,null,null,11805841,null,{"$f":"'2_State Distrib and Adjs'!AS53","v":-297200},{"$f":"'2_State Distrib and Adjs'!AT53","v":31578},{"$f":"'2_State Distrib and Adjs'!AU53","v":-265622},11540219,null,null,11540219,{"$f":"'2_State Distrib and Adjs'!AP53","v":-5422},{"$f":"'2_State Distrib and Adjs'!AW53","v":0},{"$f":"'2_State Distrib and Adjs'!AX53","v":111160},{"$f":"'2_State Distrib and Adjs'!AY53","v":533223},{"$f":"'2_State Distrib and Adjs'!AZ53","v":426579},{"$f":"'2_State Distrib and Adjs'!BB53","v":13405594},{"$f":"'2_State Distrib and Adjs'!BC53","v":9108023},{"$f":"'2_State Distrib and Adjs'!BD53","v":4297571},{"$f":"'2_State Distrib and Adjs'!BE53","v":1074393},{"$f":"'2_State Distrib and Adjs'!BF53","v":0},{"$f":"'2_State Distrib and Adjs'!BG53","v":223166},{"$f":"'2_State Distrib and Adjs'!BH53","v":337189},{"$f":"'2_State Distrib and Adjs'!BJ53","v":13967949},13967949,null,{"$f":"-'New Type 2 Res Summary'!AG53-'5A3_OJJ'!P53","v":{"$error":"#REF!"}},{"$f":"-'New Type 2 Res Summary'!AH53","v":{"$error":"#REF!"}},{"$f":"-'New Type 2 Res Summary'!AI53","v":{"$error":"#REF!"}},{"$f":"-'New Type 2 Res Summary'!AJ53","v":{"$error":"#REF!"}},{"$f":"-'New Type 2 Res Summary'!AK53","v":{"$error":"#REF!"}},{"$f":"-'New Type 2 Res Summary'!AL53","v":{"$error":"#REF!"}},{"$f":"-'New Type 2 Res Summary'!AM53-'5A3_OJJ'!P53","v":{"$error":"#REF!"}},null,{"$f":"-'New Type 2 Res Summary'!AN53","v":{"$error":"#REF!"}},{"$f":"-'New Type 2 Res Summary'!AO53-'5A3_OJJ'!P53","v":{"$error":"#REF!"}},null,{"$f":"-'New Type 2 Res Summary'!AQ53-'5A3_OJJ'!P53","v":{"$error":"#REF!"}},{"$f":"'2A-1_EFT (Annual)'!AQ53","v":-115222},{"$f":"'2A-1_EFT (Annual)'!#REF!+'2A-1_EFT (Annual)'!#REF!","v":{"$error":"#REF!"}},{"$error":"#REF!"},{"$f":"#REF!","v":{"$error":"#REF!"}},13852727,{"$f":"#REF!","v":{"$error":"#REF!"}},null,null,null,{"$f":"#REF!+#REF!","v":{"$error":"#REF!"}},null,{"$error":"#REF!"}]
[48,48,"St. John the Baptist",{"$f":"#REF!","v":{"$error":"#REF!"}},{"$f":"'2_State Distrib and Adjs'!AO54","v":3898},{"$f":"'2_State Distrib and Adjs'!AN54","v":18724388},null,null,null,null,null,null,null,null,null,null,18724388,null,{"$f":"'2_State Distrib and Adjs'!AS54","v":261166},{"$f":"'2_State Distrib and Adjs'!AT54","v":144226},{"$f":"'2_State Distrib and Adjs'!AU54","v":405392},19129780,null,null,19129780,{"$f":"'2_State Distrib and Adjs'!AP54","v":-258227},{"$f":"'2_State Distrib and Adjs'!AW54","v":0},{"$f":"'2_State Distrib and Adjs'!AX54","v":151550},{"$f":"'2_State Distrib and Adjs'!AY54","v":827041},{"$f":"'2_State Distrib and Adjs'!AZ54","v":661633},{"$f":"'2_State Distrib and Adjs'!BB54","v":21752340},{"$f":"'2_State Distrib and Adjs'!BC54","v":14337823},{"$f":"'2_State Distrib and Adjs'!BD54","v":7414517},{"$f":"'2_State Distrib and Adjs'!BE54","v":1853629},{"$f":"'2_State Distrib and Adjs'!BF54","v":0},{"$f":"'2_State Distrib and Adjs'!BG54","v":266064},{"$f":"'2_State Distrib and Adjs'!BH54","v":0},{"$f":"'2_State Distrib and Adjs'!BJ54","v":22018404},22018404,null,{"$f":"-'New Type 2 Res Summary'!AG54-'5A3_OJJ'!P54","v":{"$error":"#REF!"}},{"$f":"-'New Type 2 Res Summary'!AH54","v":{"$error":"#REF!"}},{"$f":"-'New Type 2 Res Summary'!AI54","v":{"$error":"#REF!"}},{"$f":"-'New Type 2 Res Summary'!AJ54","v":{"$error":"#REF!"}},{"$f":"-'New Type 2 Res Summary'!AK54","v":{"$error":"#REF!"}},{"$f":"-'New Type 2 Res Summary'!AL54","v":{"$error":"#REF!"}},{"$f":"-'New Type 2 Res Summary'!AM54-'5A3_OJJ'!P54","v":{"$error":"#REF!"}},null,{"$f":"-'New Type 2 Res Summary'!AN54","v":{"$error":"#REF!"}},{"$f":"-'New Type 2 Res Summary'!AO54-'5A3_OJJ'!P54","v":{"$error":"#REF!"}},null,{"$f":"-'New Type 2 Res Summary'!AQ54-'5A3_OJJ'!P54","v":{"$error":"#REF!"}},{"$f":"'2A-1_EFT (Annual)'!AQ54","v":-616907},{"$f":"'2A-1_EFT (Annual)'!#REF!+'2A-1_EFT (Annual)'!#REF!","v":{"$error":"#REF!"}},{"$error":"#REF!"},{"$f":"#REF!","v":{"$error":"#REF!"}},21401497,{"$f":"#REF!","v":{"$error":"#REF!"}},null,null,null,{"$f":"#REF!+#REF!","v":{"$error":"#REF!"}},null,{"$error":"#REF!"}]
[49,49,"St. Landry",{"$f":"#REF!","v":{"$error":"#REF!"}},{"$f":"'2_State Distrib and Adjs'!AO55","v":6257},{"$f":"'2_State Distrib and Adjs'!AN55","v":71093826},null,null,null,null,null,null,null,null,null,null,71093826,null,{"$f":"'2_State Distrib and Adjs'!AS55","v":-2089838},{"$f":"'2_State Distrib and Adjs'!AT55","v":-140783},{"$f":"'2_State Distrib and Adjs'!AU55","v":-2230621},68863205,null,null,68863205,{"$f":"'2_State Distrib and Adjs'!AP55","v":262155},{"$f":"'2_State Distrib and Adjs'!AW55","v":126000},{"$f":"'2_State Distrib and Adjs'!AX55","v":363230},{"$f":"'2_State Distrib and Adjs'!AY55","v":1811634},{"$f":"'2_State Distrib and Adjs'!AZ55","v":1449308},{"$f":"'2_State Distrib and Adjs'!BB55","v":75592984},{"$f":"'2_State Distrib and Adjs'!BC55","v":51562245},{"$f":"'2_State Distrib and Adjs'!BD55","v":24030739},{"$f":"'2_State Distrib and Adjs'!BE55","v":6007685},{"$f":"'2_State Distrib and Adjs'!BF55","v":18000},{"$f":"'2_State Distrib and Adjs'!BG55","v":697936},{"$f":"'2_State Distrib and Adjs'!BH55","v":114186},{"$f":"'2_State Distrib and Adjs'!BJ55","v":76453106},76453106,null,{"$f":"-'New Type 2 Res Summary'!AG55-'5A3_OJJ'!P55","v":{"$error":"#REF!"}},{"$f":"-'New Type 2 Res Summary'!AH55","v":{"$error":"#REF!"}},{"$f":"-'New Type 2 Res Summary'!AI55","v":{"$error":"#REF!"}},{"$f":"-'New Type 2 Res Summary'!AJ55","v":{"$error":"#REF!"}},{"$f":"-'New Type 2 Res Summary'!AK55","v":{"$error":"#REF!"}},{"$f":"-'New Type 2 Res Summary'!AL55","v":{"$error":"#REF!"}},{"$f":"-'New Type 2 Res Summary'!AM55-'5A3_OJJ'!P55","v":{"$error":"#REF!"}},null,{"$f":"-'New Type 2 Res Summary'!AN55","v":{"$error":"#REF!"}},{"$f":"-'New Type 2 Res Summary'!AO55-'5A3_OJJ'!P55","v":{"$error":"#REF!"}},null,{"$f":"-'New Type 2 Res Summary'!AQ55-'5A3_OJJ'!P55","v":{"$error":"#REF!"}},{"$f":"'2A-1_EFT (Annual)'!AQ55","v":-3971095},{"$f":"'2A-1_EFT (Annual)'!#REF!+'2A-1_EFT (Annual)'!#REF!","v":{"$error":"#REF!"}},{"$error":"#REF!"},{"$f":"#REF!","v":{"$error":"#REF!"}},72482011,{"$f":"#REF!","v":{"$error":"#REF!"}},null,null,null,{"$f":"#REF!+#REF!","v":{"$error":"#REF!"}},null,{"$error":"#REF!"}]
[50,50,"St. Martin",{"$f":"#REF!","v":{"$error":"#REF!"}},{"$f":"'2_State Distrib and Adjs'!AO56","v":5903},{"$f":"'2_State Distrib and Adjs'!AN56","v":40310599},null,null,null,null,null,null,null,null,null,null,40310599,null,{"$f":"'2_State Distrib and Adjs'!AS56","v":-1009413},{"$f":"'2_State Distrib and Adjs'!AT56","v":-132818},{"$f":"'2_State Distrib and Adjs'!AU56","v":-1142231},39168368,null,null,39168368,{"$f":"'2_State Distrib and Adjs'!AP56","v":-78726},{"$f":"'2_State Distrib and Adjs'!AW56","v":189000},{"$f":"'2_State Distrib and Adjs'!AX56","v":218470},{"$f":"'2_State Distrib and Adjs'!AY56","v":973467},{"$f":"'2_State Distrib and Adjs'!AZ56","v":778774},{"$f":"'2_State Distrib and Adjs'!BB56","v":42709554},{"$f":"'2_State Distrib and Adjs'!BC56","v":29182712},{"$f":"'2_State Distrib and Adjs'!BD56","v":13526842},{"$f":"'2_State Distrib and Adjs'!BE56","v":3381711},{"$f":"'2_State Distrib and Adjs'!BF56","v":24000},{"$f":"'2_State Distrib and Adjs'!BG56","v":237385},{"$f":"'2_State Distrib and Adjs'!BH56","v":0},{"$f":"'2_State Distrib and Adjs'!BJ56","v":42976939},42976939,null,{"$f":"-'New Type 2 Res Summary'!AG56-'5A3_OJJ'!P56","v":{"$error":"#REF!"}},{"$f":"-'New Type 2 Res Summary'!AH56","v":{"$error":"#REF!"}},{"$f":"-'New Type 2 Res Summary'!AI56","v":{"$error":"#REF!"}},{"$f":"-'New Type 2 Res Summary'!AJ56","v":{"$error":"#REF!"}},{"$f":"-'New Type 2 Res Summary'!AK56","v":{"$error":"#REF!"}},{"$f":"-'New Type 2 Res Summary'!AL56","v":{"$error":"#REF!"}},{"$f":"-'New Type 2 Res Summary'!AM56-'5A3_OJJ'!P56","v":{"$error":"#REF!"}},null,{"$f":"-'New Type 2 Res Summary'!AN56","v":{"$error":"#REF!"}},{"$f":"-'New Type 2 Res Summary'!AO56-'5A3_OJJ'!P56","v":{"$error":"#REF!"}},null,{"$f":"-'New Type 2 Res Summary'!AQ56-'5A3_OJJ'!P56","v":{"$error":"#REF!"}},{"$f":"'2A-1_EFT (Annual)'!AQ56","v":-1516604},{"$f":"'2A-1_EFT (Annual)'!#REF!+'2A-1_EFT (Annual)'!#REF!","v":{"$error":"#REF!"}},{"$error":"#REF!"},{"$f":"#REF!","v":{"$error":"#REF!"}},41460335,{"$f":"#REF!","v":{"$error":"#REF!"}},null,null,null,{"$f":"#REF!+#REF!","v":{"$error":"#REF!"}},null,{"$error":"#REF!"}]
[51,51,"St. Mary",{"$f":"#REF!","v":{"$error":"#REF!"}},{"$f":"'2_State Distrib and Adjs'!AO57","v":6147},{"$f":"'2_State Distrib and Adjs'!AN57","v":45847471},null,null,null,null,null,null,null,null,null,null,45847471,null,{"$f":"'2_State Distrib and Adjs'!AS57","v":-1352340},{"$f":"'2_State Distrib and Adjs'!AT57","v":55323},{"$f":"'2_State Distrib and Adjs'!AU57","v":-1297017},44550454,null,null,44550454,{"$f":"'2_State Distrib and Adjs'!AP57","v":-25909},{"$f":"'2_State Distrib and Adjs'!AW57","v":0},{"$f":"'2_State Distrib and Adjs'!AX57","v":246400},{"$f":"'2_State Distrib and Adjs'!AY57","v":1207074},{"$f":"'2_State Distrib and Adjs'!AZ57","v":965659},{"$f":"'2_State Distrib and Adjs'!BB57","v":48754289},{"$f":"'2_State Distrib and Adjs'!BC57","v":33297248},{"$f":"'2_State Distrib and Adjs'!BD57","v":15457041},{"$f":"'2_State Distrib and Adjs'!BE57","v":3864260},{"$f":"'2_State Distrib and Adjs'!BF57","v":0},{"$f":"'2_State Distrib and Adjs'!BG57","v":435246},{"$f":"'2_State Distrib and Adjs'!BH57","v":13989},{"$f":"'2_State Distrib and Adjs'!BJ57","v":49219524},49219524,null,{"$f":"-'New Type 2 Res Summary'!AG57-'5A3_OJJ'!P57","v":{"$error":"#REF!"}},{"$f":"-'New Type 2 Res Summary'!AH57","v":{"$error":"#REF!"}},{"$f":"-'New Type 2 Res Summary'!AI57","v":{"$error":"#REF!"}},{"$f":"-'New Type 2 Res Summary'!AJ57","v":{"$error":"#REF!"}},{"$f":"-'New Type 2 Res Summary'!AK57","v":{"$error":"#REF!"}},{"$f":"-'New Type 2 Res Summary'!AL57","v":{"$error":"#REF!"}},{"$f":"-'New Type 2 Res Summary'!AM57-'5A3_OJJ'!P57","v":{"$error":"#REF!"}},null,{"$f":"-'New Type 2 Res Summary'!AN57","v":{"$error":"#REF!"}},{"$f":"-'New Type 2 Res Summary'!AO57-'5A3_OJJ'!P57","v":{"$error":"#REF!"}},null,{"$f":"-'New Type 2 Res Summary'!AQ57-'5A3_OJJ'!P57","v":{"$error":"#REF!"}},{"$f":"'2A-1_EFT (Annual)'!AQ57","v":-376019},{"$f":"'2A-1_EFT (Annual)'!#REF!+'2A-1_EFT (Annual)'!#REF!","v":{"$error":"#REF!"}},{"$error":"#REF!"},{"$f":"#REF!","v":{"$error":"#REF!"}},48843505,{"$f":"#REF!","v":{"$error":"#REF!"}},null,null,null,{"$f":"#REF!+#REF!","v":{"$error":"#REF!"}},null,{"$error":"#REF!"}]
[52,52,"St. Tammany",{"$f":"#REF!","v":{"$error":"#REF!"}},{"$f":"'2_State Distrib and Adjs'!AO58","v":5421},{"$f":"'2_State Distrib and Adjs'!AN58","v":195144075},null,null,null,null,null,null,null,null,null,null,195144075,null,{"$f":"'2_State Distrib and Adjs'!AS58","v":-1447407},{"$f":"'2_State Distrib and Adjs'!AT58","v":-18974},{"$f":"'2_State Distrib and Adjs'!AU58","v":-1466381},193677694,null,null,193677694,{"$f":"'2_State Distrib and Adjs'!AP58","v":-219872},{"$f":"'2_State Distrib and Adjs'!AW58","v":0},{"$f":"'2_State Distrib and Adjs'!AX58","v":1168020},{"$f":"'2_State Distrib and Adjs'!AY58","v":6110394},{"$f":"'2_State Distrib and Adjs'!AZ58","v":4888314},{"$f":"'2_State Distrib and Adjs'!BB58","v":214790141},{"$f":"'2_State Distrib and Adjs'!BC58","v":144056936},{"$f":"'2_State Distrib and Adjs'!BD58","v":70733205},{"$f":"'2_State Distrib and Adjs'!BE58","v":17683301},{"$f":"'2_State Distrib and Adjs'!BF58","v":0},{"$f":"'2_State Distrib and Adjs'!BG58","v":1183069},{"$f":"'2_State Distrib and Adjs'!BH58","v":374195},{"$f":"'2_State Distrib and Adjs'!BJ58","v":216493405},216493405,null,{"$f":"-'New Type 2 Res Summary'!AG58-'5A3_OJJ'!P58","v":{"$error":"#REF!"}},{"$f":"-'New Type 2 Res Summary'!AH58","v":{"$error":"#REF!"}},{"$f":"-'New Type 2 Res Summary'!AI58","v":{"$error":"#REF!"}},{"$f":"-'New Type 2 Res Summary'!AJ58","v":{"$error":"#REF!"}},{"$f":"-'New Type 2 Res Summary'!AK58","v":{"$error":"#REF!"}},{"$f":"-'New Type 2 Res Summary'!AL58","v":{"$error":"#REF!"}},{"$f":"-'New Type 2 Res Summary'!AM58-'5A3_OJJ'!P58","v":{"$error":"#REF!"}},null,{"$f":"-'New Type 2 Res Summary'!AN58","v":{"$error":"#REF!"}},{"$f":"-'New Type 2 Res Summary'!AO58-'5A3_OJJ'!P58","v":{"$error":"#REF!"}},null,{"$f":"-'New Type 2 Res Summary'!AQ58-'5A3_OJJ'!P58","v":{"$error":"#REF!"}},{"$f":"'2A-1_EFT (Annual)'!AQ58","v":-5230421},{"$f":"'2A-1_EFT (Annual)'!#REF!+'2A-1_EFT (Annual)'!#REF!","v":{"$error":"#REF!"}},{"$error":"#REF!"},{"$f":"#REF!","v":{"$error":"#REF!"}},211262984,{"$f":"#REF!","v":{"$error":"#REF!"}},null,null,null,{"$f":"#REF!+#REF!","v":{"$error":"#REF!"}},null,{"$error":"#REF!"}]
[53,53,"Tangipahoa",{"$f":"#REF!","v":{"$error":"#REF!"}},{"$f":"'2_State Distrib and Adjs'!AO59","v":6227},{"$f":"'2_State Distrib and Adjs'!AN59","v":115961900},null,null,null,null,null,null,null,null,null,null,115961900,null,{"$f":"'2_State Distrib and Adjs'!AS59","v":485706},{"$f":"'2_State Distrib and Adjs'!AT59","v":-136994},{"$f":"'2_State Distrib and Adjs'!AU59","v":348712},116310612,null,null,116310612,{"$f":"'2_State Distrib and Adjs'!AP59","v":-150014},{"$f":"'2_State Distrib and Adjs'!AW59","v":0},{"$f":"'2_State Distrib and Adjs'!AX59","v":594300},{"$f":"'2_State Distrib and Adjs'!AY59","v":2897599},{"$f":"'2_State Distrib and Adjs'!AZ59","v":2318079},{"$f":"'2_State Distrib and Adjs'!BB59","v":126316973},{"$f":"'2_State Distrib and Adjs'!BC59","v":83830396},{"$f":"'2_State Distrib and Adjs'!BD59","v":42486577},{"$f":"'2_State Distrib and Adjs'!BE59","v":10621644},{"$f":"'2_State Distrib and Adjs'!BF59","v":0},{"$f":"'2_State Distrib and Adjs'!BG59","v":1075342},{"$f":"'2_State Distrib and Adjs'!BH59","v":0},{"$f":"'2_State Distrib and Adjs'!BJ59","v":127468315},127468315,null,{"$f":"-'New Type 2 Res Summary'!AG59-'5A3_OJJ'!P59","v":{"$error":"#REF!"}},{"$f":"-'New Type 2 Res Summary'!AH59","v":{"$error":"#REF!"}},{"$f":"-'New Type 2 Res Summary'!AI59","v":{"$error":"#REF!"}},{"$f":"-'New Type 2 Res Summary'!AJ59","v":{"$error":"#REF!"}},{"$f":"-'New Type 2 Res Summary'!AK59","v":{"$error":"#REF!"}},{"$f":"-'New Type 2 Res Summary'!AL59","v":{"$error":"#REF!"}},{"$f":"-'New Type 2 Res Summary'!AM59-'5A3_OJJ'!P59","v":{"$error":"#REF!"}},null,{"$f":"-'New Type 2 Res Summary'!AN59","v":{"$error":"#REF!"}},{"$f":"-'New Type 2 Res Summary'!AO59-'5A3_OJJ'!P59","v":{"$error":"#REF!"}},null,{"$f":"-'New Type 2 Res Summary'!AQ59-'5A3_OJJ'!P59","v":{"$error":"#REF!"}},{"$f":"'2A-1_EFT (Annual)'!AQ59","v":-1427875},{"$f":"'2A-1_EFT (Annual)'!#REF!+'2A-1_EFT (Annual)'!#REF!","v":{"$error":"#REF!"}},{"$error":"#REF!"},{"$f":"#REF!","v":{"$error":"#REF!"}},126040440,{"$f":"#REF!","v":{"$error":"#REF!"}},null,null,null,{"$f":"#REF!+#REF!","v":{"$error":"#REF!"}},null,{"$error":"#REF!"}]
[54,54,"Tensas",{"$f":"#REF!","v":{"$error":"#REF!"}},{"$f":"'2_State Distrib and Adjs'!AO60","v":6150},{"$f":"'2_State Distrib and Adjs'!AN60","v":2084756},null,null,null,null,null,null,null,null,null,null,2084756,null,{"$f":"'2_State Distrib and Adjs'!AS60","v":-147600},{"$f":"'2_State Distrib and Adjs'!AT60","v":9225},{"$f":"'2_State Distrib and Adjs'!AU60","v":-138375},1946381,null,null,1946381,{"$f":"'2_State Distrib and Adjs'!AP60","v":63095},{"$f":"'2_State Distrib and Adjs'!AW60","v":0},{"$f":"'2_State Distrib and Adjs'!AX60","v":10080},{"$f":"'2_State Distrib and Adjs'!AY60","v":67569},{"$f":"'2_State Distrib and Adjs'!AZ60","v":54055},{"$f":"'2_State Distrib and Adjs'!BB60","v":2242533},{"$f":"'2_State Distrib and Adjs'!BC60","v":1561041},{"$f":"'2_State Distrib and Adjs'!BD60","v":681492},{"$f":"'2_State Distrib and Adjs'!BE60","v":170373},{"$f":"'2_State Distrib and Adjs'!BF60","v":0},{"$f":"'2_State Distrib and Adjs'!BG60","v":25000},{"$f":"'2_State Distrib and Adjs'!BH60","v":0},{"$f":"'2_State Distrib and Adjs'!BJ60","v":2267533},2267533,null,{"$f":"-'New Type 2 Res Summary'!AG60-'5A3_OJJ'!P60","v":{"$error":"#REF!"}},{"$f":"-'New Type 2 Res Summary'!AH60","v":{"$error":"#REF!"}},{"$f":"-'New Type 2 Res Summary'!AI60","v":{"$error":"#REF!"}},{"$f":"-'New Type 2 Res Summary'!AJ60","v":{"$error":"#REF!"}},{"$f":"-'New Type 2 Res Summary'!AK60","v":{"$error":"#REF!"}},{"$f":"-'New Type 2 Res Summary'!AL60","v":{"$error":"#REF!"}},{"$f":"-'New Type 2 Res Summary'!AM60-'5A3_OJJ'!P60","v":{"$error":"#REF!"}},null,{"$f":"-'New Type 2 Res Summary'!AN60","v":{"$error":"#REF!"}},{"$f":"-'New Type 2 Res Summary'!AO60-'5A3_OJJ'!P60","v":{"$error":"#REF!"}},null,{"$f":"-'New Type 2 Res Summary'!AQ60-'5A3_OJJ'!P60","v":{"$error":"#REF!"}},{"$f":"'2A-1_EFT (Annual)'!AQ60","v":-360030},{"$f":"'2A-1_EFT (Annual)'!#REF!+'2A-1_EFT (Annual)'!#REF!","v":{"$error":"#REF!"}},{"$error":"#REF!"},{"$f":"#REF!","v":{"$error":"#REF!"}},1907503,{"$f":"#REF!","v":{"$error":"#REF!"}},null,null,null,{"$f":"#REF!+#REF!","v":{"$error":"#REF!"}},null,{"$error":"#REF!"}]
[55,55,"Terrebonne",{"$f":"#REF!","v":{"$error":"#REF!"}},{"$f":"'2_State Distrib and Adjs'!AO61","v":5302},{"$f":"'2_State Distrib and Adjs'!AN61","v":76541190},null,null,null,null,null,null,null,null,null,null,76541190,null,{"$f":"'2_State Distrib and Adjs'!AS61","v":-811206},{"$f":"'2_State Distrib and Adjs'!AT61","v":15906},{"$f":"'2_State Distrib and Adjs'!AU61","v":-795300},75745890,null,null,75745890,{"$f":"'2_State Distrib and Adjs'!AP61","v":-96260},{"$f":"'2_State Distrib and Adjs'!AW61","v":0},{"$f":"'2_State Distrib and Adjs'!AX61","v":458080},{"$f":"'2_State Distrib and Adjs'!AY61","v":2058857},{"$f":"'2_State Distrib and Adjs'!AZ61","v":1647084},{"$f":"'2_State Distrib and Adjs'!BB61","v":82901937},{"$f":"'2_State Distrib and Adjs'!BC61","v":55790354},{"$f":"'2_State Distrib and Adjs'!BD61","v":27111583},{"$f":"'2_State Distrib and Adjs'!BE61","v":6777896},{"$f":"'2_State Distrib and Adjs'!BF61","v":0},{"$f":"'2_State Distrib and Adjs'!BG61","v":366079},{"$f":"'2_State Distrib and Adjs'!BH61","v":460308},{"$f":"'2_State Distrib and Adjs'!BJ61","v":83770324},83770324,null,{"$f":"-'New Type 2 Res Summary'!AG61-'5A3_OJJ'!P61","v":{"$error":"#REF!"}},{"$f":"-'New Type 2 Res Summary'!AH61","v":{"$error":"#REF!"}},{"$f":"-'New Type 2 Res Summary'!AI61","v":{"$error":"#REF!"}},{"$f":"-'New Type 2 Res Summary'!AJ61","v":{"$error":"#REF!"}},{"$f":"-'New Type 2 Res Summary'!AK61","v":{"$error":"#REF!"}},{"$f":"-'New Type 2 Res Summary'!AL61","v":{"$error":"#REF!"}},{"$f":"-'New Type 2 Res Summary'!AM61-'5A3_OJJ'!P61","v":{"$error":"#REF!"}},null,{"$f":"-'New Type 2 Res Summary'!AN61","v":{"$error":"#REF!"}},{"$f":"-'New Type 2 Res Summary'!AO61-'5A3_OJJ'!P61","v":{"$error":"#REF!"}},null,{"$f":"-'New Type 2 Res Summary'!AQ61-'5A3_OJJ'!P61","v":{"$error":"#REF!"}},{"$f":"'2A-1_EFT (Annual)'!AQ61","v":-1427714},{"$f":"'2A-1_EFT (Annual)'!#REF!+'2A-1_EFT (Annual)'!#REF!","v":{"$error":"#REF!"}},{"$error":"#REF!"},{"$f":"#REF!","v":{"$error":"#REF!"}},82342610,{"$f":"#REF!","v":{"$error":"#REF!"}},null,null,null,{"$f":"#REF!+#REF!","v":{"$error":"#REF!"}},null,{"$error":"#REF!"}]
[56,56,"Union",{"$f":"#REF!","v":{"$error":"#REF!"}},{"$f":"'2_State Distrib and Adjs'!AO62","v":7155},{"$f":"'2_State Distrib and Adjs'!AN62","v":12184866},null,null,null,null,null,null,null,null,null,null,12184866,null,{"$f":"'2_State Distrib and Adjs'!AS62","v":-651105},{"$f":"'2_State Distrib and Adjs'!AT62","v":10733},{"$f":"'2_State Distrib and Adjs'!AU62","v":-640372},11544494,null,null,11544494,{"$f":"'2_State Distrib and Adjs'!AP62","v":-28739},{"$f":"'2_State Distrib and Adjs'!AW62","v":0},{"$f":"'2_State Distrib and Adjs'!AX62","v":55440},{"$f":"'2_State Distrib and Adjs'!AY62","v":273172},{"$f":"'2_State Distrib and Adjs'!AZ62","v":218539},{"$f":"'2_State Distrib and Adjs'!BB62","v":12472664},{"$f":"'2_State Distrib and Adjs'!BC62","v":8723018},{"$f":"'2_State Distrib and Adjs'!BD62","v":3749646},{"$f":"'2_State Distrib and Adjs'!BE62","v":937412},{"$f":"'2_State Distrib and Adjs'!BF62","v":0},{"$f":"'2_State Distrib and Adjs'!BG62","v":50851},{"$f":"'2_State Distrib and Adjs'!BH62","v":12518},{"$f":"'2_State Distrib and Adjs'!BJ62","v":12540033},12540033,null,{"$f":"-'New Type 2 Res Summary'!AG62-'5A3_OJJ'!P62","v":{"$error":"#REF!"}},{"$f":"-'New Type 2 Res Summary'!AH62","v":{"$error":"#REF!"}},{"$f":"-'New Type 2 Res Summary'!AI62","v":{"$error":"#REF!"}},{"$f":"-'New Type 2 Res Summary'!AJ62","v":{"$error":"#REF!"}},{"$f":"-'New Type 2 Res Summary'!AK62","v":{"$error":"#REF!"}},{"$f":"-'New Type 2 Res Summary'!AL62","v":{"$error":"#REF!"}},{"$f":"-'New Type 2 Res Summary'!AM62-'5A3_OJJ'!P62","v":{"$error":"#REF!"}},null,{"$f":"-'New Type 2 Res Summary'!AN62","v":{"$error":"#REF!"}},{"$f":"-'New Type 2 Res Summary'!AO62-'5A3_OJJ'!P62","v":{"$error":"#REF!"}},null,{"$f":"-'New Type 2 Res Summary'!AQ62-'5A3_OJJ'!P62","v":{"$error":"#REF!"}},{"$f":"'2A-1_EFT (Annual)'!AQ62","v":-6417201},{"$f":"'2A-1_EFT (Annual)'!#REF!+'2A-1_EFT (Annual)'!#REF!","v":{"$error":"#REF!"}},{"$error":"#REF!"},{"$f":"#REF!","v":{"$error":"#REF!"}},6122832,{"$f":"#REF!","v":{"$error":"#REF!"}},null,null,null,{"$f":"#REF!+#REF!","v":{"$error":"#REF!"}},null,{"$error":"#REF!"}]
[57,57,"Vermilion",{"$f":"#REF!","v":{"$error":"#REF!"}},{"$f":"'2_State Distrib and Adjs'!AO63","v":6545},{"$f":"'2_State Distrib and Adjs'!AN63","v":59064216},null,null,null,null,null,null,null,null,null,null,59064216,null,{"$f":"'2_State Distrib and Adjs'!AS63","v":-117810},{"$f":"'2_State Distrib and Adjs'!AT63","v":-261800},{"$f":"'2_State Distrib and Adjs'!AU63","v":-379610},58684606,null,null,58684606,{"$f":"'2_State Distrib and Adjs'!AP63","v":-142828},{"$f":"'2_State Distrib and Adjs'!AW63","v":105000},{"$f":"'2_State Distrib and Adjs'!AX63","v":275450},{"$f":"'2_State Distrib and Adjs'!AY63","v":1267315},{"$f":"'2_State Distrib and Adjs'!AZ63","v":1013852},{"$f":"'2_State Distrib and Adjs'!BB63","v":63104368},{"$f":"'2_State Distrib and Adjs'!BC63","v":42240796},{"$f":"'2_State Distrib and Adjs'!BD63","v":20863572},{"$f":"'2_State Distrib and Adjs'!BE63","v":5215893},{"$f":"'2_State Distrib and Adjs'!BF63","v":36000},{"$f":"'2_State Distrib and Adjs'!BG63","v":226299},{"$f":"'2_State Distrib and Adjs'!BH63","v":106998},{"$f":"'2_State Distrib and Adjs'!BJ63","v":63505665},63505665,null,{"$f":"-'New Type 2 Res Summary'!AG63-'5A3_OJJ'!P63","v":{"$error":"#REF!"}},{"$f":"-'New Type 2 Res Summary'!AH63","v":{"$error":"#REF!"}},{"$f":"-'New Type 2 Res Summary'!AI63","v":{"$error":"#REF!"}},{"$f":"-'New Type 2 Res Summary'!AJ63","v":{"$error":"#REF!"}},{"$f":"-'New Type 2 Res Summary'!AK63","v":{"$error":"#REF!"}},{"$f":"-'New Type 2 Res Summary'!AL63","v":{"$error":"#REF!"}},{"$f":"-'New Type 2 Res Summary'!AM63-'5A3_OJJ'!P63","v":{"$error":"#REF!"}},null,{"$f":"-'New Type 2 Res Summary'!AN63","v":{"$error":"#REF!"}},{"$f":"-'New Type 2 Res Summary'!AO63-'5A3_OJJ'!P63","v":{"$error":"#REF!"}},null,{"$f":"-'New Type 2 Res Summary'!AQ63-'5A3_OJJ'!P63","v":{"$error":"#REF!"}},{"$f":"'2A-1_EFT (Annual)'!AQ63","v":-600789},{"$f":"'2A-1_EFT (Annual)'!#REF!+'2A-1_EFT (Annual)'!#REF!","v":{"$error":"#REF!"}},{"$error":"#REF!"},{"$f":"#REF!","v":{"$error":"#REF!"}},62904876,{"$f":"#REF!","v":{"$error":"#REF!"}},null,null,null,{"$f":"#REF!+#REF!","v":{"$error":"#REF!"}},null,{"$error":"#REF!"}]
[58,58,"Vernon",{"$f":"#REF!","v":{"$error":"#REF!"}},{"$f":"'2_State Distrib and Adjs'!AO64","v":6711},{"$f":"'2_State Distrib and Adjs'!AN64","v":50824046},null,null,null,null,null,null,null,null,null,null,50824046,null,{"$f":"'2_State Distrib and Adjs'!AS64","v":20133},{"$f":"'2_State Distrib and Adjs'!AT64","v":-83888},{"$f":"'2_State Distrib and Adjs'!AU64","v":-63755},50760291,null,null,50760291,{"$f":"'2_State Distrib and Adjs'!AP64","v":-65089},{"$f":"'2_State Distrib and Adjs'!AW64","v":0},{"$f":"'2_State Distrib and Adjs'!AX64","v":216230},{"$f":"'2_State Distrib and Adjs'!AY64","v":1085726},{"$f":"'2_State Distrib and Adjs'!AZ64","v":868581},{"$f":"'2_State Distrib and Adjs'!BB64","v":54494327},{"$f":"'2_State Distrib and Adjs'!BC64","v":36353217},{"$f":"'2_State Distrib and Adjs'!BD64","v":18141110},{"$f":"'2_State Distrib and Adjs'!BE64","v":4535278},{"$f":"'2_State Distrib and Adjs'!BF64","v":0},{"$f":"'2_State Distrib and Adjs'!BG64","v":89170},{"$f":"'2_State Distrib and Adjs'!BH64","v":79092},{"$f":"'2_State Distrib and Adjs'!BJ64","v":54666589},54666589,null,{"$f":"-'New Type 2 Res Summary'!AG64-'5A3_OJJ'!P64","v":{"$error":"#REF!"}},{"$f":"-'New Type 2 Res Summary'!AH64","v":{"$error":"#REF!"}},{"$f":"-'New Type 2 Res Summary'!AI64","v":{"$error":"#REF!"}},{"$f":"-'New Type 2 Res Summary'!AJ64","v":{"$error":"#REF!"}},{"$f":"-'New Type 2 Res Summary'!AK64","v":{"$error":"#REF!"}},{"$f":"-'New Type 2 Res Summary'!AL64","v":{"$error":"#REF!"}},{"$f":"-'New Type 2 Res Summary'!AM64-'5A3_OJJ'!P64","v":{"$error":"#REF!"}},null,{"$f":"-'New Type 2 Res Summary'!AN64","v":{"$error":"#REF!"}},{"$f":"-'New Type 2 Res Summary'!AO64-'5A3_OJJ'!P64","v":{"$error":"#REF!"}},null,{"$f":"-'New Type 2 Res Summary'!AQ64-'5A3_OJJ'!P64","v":{"$error":"#REF!"}},{"$f":"'2A-1_EFT (Annual)'!AQ64","v":-165363},{"$f":"'2A-1_EFT (Annual)'!#REF!+'2A-1_EFT (Annual)'!#REF!","v":{"$error":"#REF!"}},{"$error":"#REF!"},{"$f":"#REF!","v":{"$error":"#REF!"}},54501226,{"$f":"#REF!","v":{"$error":"#REF!"}},null,null,null,{"$f":"#REF!+#REF!","v":{"$error":"#REF!"}},null,{"$error":"#REF!"}]
[59,59,"Washington",{"$f":"#REF!","v":{"$error":"#REF!"}},{"$f":"'2_State Distrib and Adjs'!AO65","v":7751},{"$f":"'2_State Distrib and Adjs'!AN65","v":35454966},null,null,null,null,null,null,null,null,null,null,35454966,null,{"$f":"'2_State Distrib and Adjs'!AS65","v":-1410682},{"$f":"'2_State Distrib and Adjs'!AT65","v":-54257},{"$f":"'2_State Distrib and Adjs'!AU65","v":-1464939},33990027,null,null,33990027,{"$f":"'2_State Distrib and Adjs'!AP65","v":-16346},{"$f":"'2_State Distrib and Adjs'!AW65","v":0},{"$f":"'2_State Distrib and Adjs'!AX65","v":146650},{"$f":"'2_State Distrib and Adjs'!AY65","v":720693},{"$f":"'2_State Distrib and Adjs'!AZ65","v":576554},{"$f":"'2_State Distrib and Adjs'!BB65","v":36498618},{"$f":"'2_State Distrib and Adjs'!BC65","v":25291577},{"$f":"'2_State Distrib and Adjs'!BD65","v":11207041},{"$f":"'2_State Distrib and Adjs'!BE65","v":2801760},{"$f":"'2_State Distrib and Adjs'!BF65","v":0},{"$f":"'2_State Distrib and Adjs'!BG65","v":156168},{"$f":"'2_State Distrib and Adjs'!BH65","v":0},{"$f":"'2_State Distrib and Adjs'!BJ65","v":36654786},36654786,null,{"$f":"-'New Type 2 Res Summary'!AG65-'5A3_OJJ'!P65","v":{"$error":"#REF!"}},{"$f":"-'New Type 2 Res Summary'!AH65","v":{"$error":"#REF!"}},{"$f":"-'New Type 2 Res Summary'!AI65","v":{"$error":"#REF!"}},{"$f":"-'New Type 2 Res Summary'!AJ65","v":{"$error":"#REF!"}},{"$f":"-'New Type 2 Res Summary'!AK65","v":{"$error":"#REF!"}},{"$f":"-'New Type 2 Res Summary'!AL65","v":{"$error":"#REF!"}},{"$f":"-'New Type 2 Res Summary'!AM65-'5A3_OJJ'!P65","v":{"$error":"#REF!"}},null,{"$f":"-'New Type 2 Res Summary'!AN65","v":{"$error":"#REF!"}},{"$f":"-'New Type 2 Res Summary'!AO65-'5A3_OJJ'!P65","v":{"$error":"#REF!"}},null,{"$f":"-'New Type 2 Res Summary'!AQ65-'5A3_OJJ'!P65","v":{"$error":"#REF!"}},{"$f":"'2A-1_EFT (Annual)'!AQ65","v":-144827},{"$f":"'2A-1_EFT (Annual)'!#REF!+'2A-1_EFT (Annual)'!#REF!","v":{"$error":"#REF!"}},{"$error":"#REF!"},{"$f":"#REF!","v":{"$error":"#REF!"}},36509959,{"$f":"#REF!","v":{"$error":"#REF!"}},null,null,null,{"$f":"#REF!+#REF!","v":{"$error":"#REF!"}},null,{"$error":"#REF!"}]
[60,60,"Webster",{"$f":"#REF!","v":{"$error":"#REF!"}},{"$f":"'2_State Distrib and Adjs'!AO66","v":6399},{"$f":"'2_State Distrib and Adjs'!AN66","v":32444165},null,null,null,null,null,null,null,null,null,null,32444165,null,{"$f":"'2_State Distrib and Adjs'!AS66","v":-563112},{"$f":"'2_State Distrib and Adjs'!AT66","v":-217566},{"$f":"'2_State Distrib and Adjs'!AU66","v":-780678},31663487,null,null,31663487,{"$f":"'2_State Distrib and Adjs'!AP66","v":-265847},{"$f":"'2_State Distrib and Adjs'!AW66","v":0},{"$f":"'2_State Distrib and Adjs'!AX66","v":166600},{"$f":"'2_State Distrib and Adjs'!AY66","v":739548},{"$f":"'2_State Distrib and Adjs'!AZ66","v":591639},{"$f":"'2_State Distrib and Adjs'!BB66","v":34004750},{"$f":"'2_State Distrib and Adjs'!BC66","v":23343036},{"$f":"'2_State Distrib and Adjs'!BD66","v":10661714},{"$f":"'2_State Distrib and Adjs'!BE66","v":2665429},{"$f":"'2_State Distrib and Adjs'!BF66","v":0},{"$f":"'2_State Distrib and Adjs'!BG66","v":165808},{"$f":"'2_State Distrib and Adjs'!BH66","v":16770},{"$f":"'2_State Distrib and Adjs'!BJ66","v":34195328},34195328,null,{"$f":"-'New Type 2 Res Summary'!AG66-'5A3_OJJ'!P66","v":{"$error":"#REF!"}},{"$f":"-'New Type 2 Res Summary'!AH66","v":{"$error":"#REF!"}},{"$f":"-'New Type 2 Res Summary'!AI66","v":{"$error":"#REF!"}},{"$f":"-'New Type 2 Res Summary'!AJ66","v":{"$error":"#REF!"}},{"$f":"-'New Type 2 Res Summary'!AK66","v":{"$error":"#REF!"}},{"$f":"-'New Type 2 Res Summary'!AL66","v":{"$error":"#REF!"}},{"$f":"-'New Type 2 Res Summary'!AM66-'5A3_OJJ'!P66","v":{"$error":"#REF!"}},null,{"$f":"-'New Type 2 Res Summary'!AN66","v":{"$error":"#REF!"}},{"$f":"-'New Type 2 Res Summary'!AO66-'5A3_OJJ'!P66","v":{"$error":"#REF!"}},null,{"$f":"-'New Type 2 Res Summary'!AQ66-'5A3_OJJ'!P66","v":{"$error":"#REF!"}},{"$f":"'2A-1_EFT (Annual)'!AQ66","v":-150350},{"$f":"'2A-1_EFT (Annual)'!#REF!+'2A-1_EFT (Annual)'!#REF!","v":{"$error":"#REF!"}},{"$error":"#REF!"},{"$f":"#REF!","v":{"$error":"#REF!"}},34044978,{"$f":"#REF!","v":{"$error":"#REF!"}},null,null,null,{"$f":"#REF!+#REF!","v":{"$error":"#REF!"}},null,{"$error":"#REF!"}]
[61,61,"West Baton Rouge",{"$f":"#REF!","v":{"$error":"#REF!"}},{"$f":"'2_State Distrib and Adjs'!AO67","v":3898},{"$f":"'2_State Distrib and Adjs'!AN67","v":15174121},null,null,null,null,null,null,null,null,null,null,15174121,null,{"$f":"'2_State Distrib and Adjs'!AS67","v":374208},{"$f":"'2_State Distrib and Adjs'!AT67","v":-79909},{"$f":"'2_State Distrib and Adjs'!AU67","v":294299},15468420,null,null,15468420,{"$f":"'2_State Distrib and Adjs'!AP67","v":53593},{"$f":"'2_State Distrib and Adjs'!AW67","v":0},{"$f":"'2_State Distrib and Adjs'!AX67","v":123270},{"$f":"'2_State Distrib and Adjs'!AY67","v":754769},{"$f":"'2_State Distrib and Adjs'!AZ67","v":603814},{"$f":"'2_State Distrib and Adjs'!BB67","v":18136019},{"$f":"'2_State Distrib and Adjs'!BC67","v":11564036},{"$f":"'2_State Distrib and Adjs'!BD67","v":6571983},{"$f":"'2_State Distrib and Adjs'!BE67","v":1642996},{"$f":"'2_State Distrib and Adjs'!BF67","v":0},{"$f":"'2_State Distrib and Adjs'!BG67","v":168941},{"$f":"'2_State Distrib and Adjs'!BH67","v":0},{"$f":"'2_State Distrib and Adjs'!BJ67","v":18336960},18336960,null,{"$f":"-'New Type 2 Res Summary'!AG67-'5A3_OJJ'!P67","v":{"$error":"#REF!"}},{"$f":"-'New Type 2 Res Summary'!AH67","v":{"$error":"#REF!"}},{"$f":"-'New Type 2 Res Summary'!AI67","v":{"$error":"#REF!"}},{"$f":"-'New Type 2 Res Summary'!AJ67","v":{"$error":"#REF!"}},{"$f":"-'New Type 2 Res Summary'!AK67","v":{"$error":"#REF!"}},{"$f":"-'New Type 2 Res Summary'!AL67","v":{"$error":"#REF!"}},{"$f":"-'New Type 2 Res Summary'!AM67-'5A3_OJJ'!P67","v":{"$error":"#REF!"}},null,{"$f":"-'New Type 2 Res Summary'!AN67","v":{"$error":"#REF!"}},{"$f":"-'New Type 2 Res Summary'!AO67-'5A3_OJJ'!P67","v":{"$error":"#REF!"}},null,{"$f":"-'New Type 2 Res Summary'!AQ67-'5A3_OJJ'!P67","v":{"$error":"#REF!"}},{"$f":"'2A-1_EFT (Annual)'!AQ67","v":-1435111},{"$f":"'2A-1_EFT (Annual)'!#REF!+'2A-1_EFT (Annual)'!#REF!","v":{"$error":"#REF!"}},{"$error":"#REF!"},{"$f":"#REF!","v":{"$error":"#REF!"}},16901849,{"$f":"#REF!","v":{"$error":"#REF!"}},null,null,null,{"$f":"#REF!+#REF!","v":{"$error":"#REF!"}},null,{"$error":"#REF!"}]
[62,62,"West Carroll",{"$f":"#REF!","v":{"$error":"#REF!"}},{"$f":"'2_State Distrib and Adjs'!AO68","v":7377},{"$f":"'2_State Distrib and Adjs'!AN68","v":12002769},null,null,null,null,null,null,null,null,null,null,12002769,null,{"$f":"'2_State Distrib and Adjs'!AS68","v":-1018026},{"$f":"'2_State Distrib and Adjs'!AT68","v":-18443},{"$f":"'2_State Distrib and Adjs'!AU68","v":-1036469},10966300,null,null,10966300,{"$f":"'2_State Distrib and Adjs'!AP68","v":-34518},{"$f":"'2_State Distrib and Adjs'!AW68","v":0},{"$f":"'2_State Distrib and Adjs'!AX68","v":53200},{"$f":"'2_State Distrib and Adjs'!AY68","v":172244},{"$f":"'2_State Distrib and Adjs'!AZ68","v":137795},{"$f":"'2_State Distrib and Adjs'!BB68","v":11553387},{"$f":"'2_State Distrib and Adjs'!BC68","v":8473360},{"$f":"'2_State Distrib and Adjs'!BD68","v":3080027},{"$f":"'2_State Distrib and Adjs'!BE68","v":770007},{"$f":"'2_State Distrib and Adjs'!BF68","v":0},{"$f":"'2_State Distrib and Adjs'!BG68","v":54948},{"$f":"'2_State Distrib and Adjs'!BH68","v":40590},{"$f":"'2_State Distrib and Adjs'!BJ68","v":11650925},11650925,null,{"$f":"-'New Type 2 Res Summary'!AG68-'5A3_OJJ'!P68","v":{"$error":"#REF!"}},{"$f":"-'New Type 2 Res Summary'!AH68","v":{"$error":"#REF!"}},{"$f":"-'New Type 2 Res Summary'!AI68","v":{"$error":"#REF!"}},{"$f":"-'New Type 2 Res Summary'!AJ68","v":{"$error":"#REF!"}},{"$f":"-'New Type 2 Res Summary'!AK68","v":{"$error":"#REF!"}},{"$f":"-'New Type 2 Res Summary'!AL68","v":{"$error":"#REF!"}},{"$f":"-'New Type 2 Res Summary'!AM68-'5A3_OJJ'!P68","v":{"$error":"#REF!"}},null,{"$f":"-'New Type 2 Res Summary'!AN68","v":{"$error":"#REF!"}},{"$f":"-'New Type 2 Res Summary'!AO68-'5A3_OJJ'!P68","v":{"$error":"#REF!"}},null,{"$f":"-'New Type 2 Res Summary'!AQ68-'5A3_OJJ'!P68","v":{"$error":"#REF!"}},{"$f":"'2A-1_EFT (Annual)'!AQ68","v":-67104},{"$f":"'2A-1_EFT (Annual)'!#REF!+'2A-1_EFT (Annual)'!#REF!","v":{"$error":"#REF!"}},{"$error":"#REF!"},{"$f":"#REF!","v":{"$error":"#REF!"}},11583821,{"$f":"#REF!","v":{"$error":"#REF!"}},null,null,null,{"$f":"#REF!+#REF!","v":{"$error":"#REF!"}},null,{"$error":"#REF!"}]
[63,63,"West Feliciana",{"$f":"#REF!","v":{"$error":"#REF!"}},{"$f":"'2_State Distrib and Adjs'!AO69","v":4314},{"$f":"'2_State Distrib and Adjs'!AN69","v":8917248},null,null,null,null,null,null,null,null,null,null,8917248,null,{"$f":"'2_State Distrib and Adjs'!AS69","v":4317},{"$f":"'2_State Distrib and Adjs'!AT69","v":19427},{"$f":"'2_State Distrib and Adjs'!AU69","v":23744},8940992,null,null,8940992,{"$f":"'2_State Distrib and Adjs'!AP69","v":-13151},{"$f":"'2_State Distrib and Adjs'!AW69","v":0},{"$f":"'2_State Distrib and Adjs'!AX69","v":64820},{"$f":"'2_State Distrib and Adjs'!AY69","v":385459},{"$f":"'2_State Distrib and Adjs'!AZ69","v":308366},{"$f":"'2_State Distrib and Adjs'!BB69","v":10264673},{"$f":"'2_State Distrib and Adjs'!BC69","v":6824196},{"$f":"'2_State Distrib and Adjs'!BD69","v":3440477},{"$f":"'2_State Distrib and Adjs'!BE69","v":860119},{"$f":"'2_State Distrib and Adjs'!BF69","v":0},{"$f":"'2_State Distrib and Adjs'!BG69","v":66516},{"$f":"'2_State Distrib and Adjs'!BH69","v":0},{"$f":"'2_State Distrib and Adjs'!BJ69","v":10333189},10333189,null,{"$f":"-'New Type 2 Res Summary'!AG69-'5A3_OJJ'!P69","v":{"$error":"#REF!"}},{"$f":"-'New Type 2 Res Summary'!AH69","v":{"$error":"#REF!"}},{"$f":"-'New Type 2 Res Summary'!AI69","v":{"$error":"#REF!"}},{"$f":"-'New Type 2 Res Summary'!AJ69","v":{"$error":"#REF!"}},{"$f":"-'New Type 2 Res Summary'!AK69","v":{"$error":"#REF!"}},{"$f":"-'New Type 2 Res Summary'!AL69","v":{"$error":"#REF!"}},{"$f":"-'New Type 2 Res Summary'!AM69-'5A3_OJJ'!P69","v":{"$error":"#REF!"}},null,{"$f":"-'New Type 2 Res Summary'!AN69","v":{"$error":"#REF!"}},{"$f":"-'New Type 2 Res Summary'!AO69-'5A3_OJJ'!P69","v":{"$error":"#REF!"}},null,{"$f":"-'New Type 2 Res Summary'!AQ69-'5A3_OJJ'!P69","v":{"$error":"#REF!"}},{"$f":"'2A-1_EFT (Annual)'!AQ69","v":-245183},{"$f":"'2A-1_EFT (Annual)'!#REF!+'2A-1_EFT (Annual)'!#REF!","v":{"$error":"#REF!"}},{"$error":"#REF!"},{"$f":"#REF!","v":{"$error":"#REF!"}},10088006,{"$f":"#REF!","v":{"$error":"#REF!"}},null,null,null,{"$f":"#REF!+#REF!","v":{"$error":"#REF!"}},null,{"$error":"#REF!"}]
[64,64,"Winn",{"$f":"#REF!","v":{"$error":"#REF!"}},{"$f":"'2_State Distrib and Adjs'!AO70","v":7291},{"$f":"'2_State Distrib and Adjs'!AN70","v":13627188},null,null,null,null,null,null,null,null,null,null,13627188,null,{"$f":"'2_State Distrib and Adjs'!AS70","v":-911375},{"$f":"'2_State Distrib and Adjs'!AT70","v":-98429},{"$f":"'2_State Distrib and Adjs'!AU70","v":-1009804},12617384,null,null,12617384,{"$f":"'2_State Distrib and Adjs'!AP70","v":27297},{"$f":"'2_State Distrib and Adjs'!AW70","v":0},{"$f":"'2_State Distrib and Adjs'!AX70","v":61040},{"$f":"'2_State Distrib and Adjs'!AY70","v":263841},{"$f":"'2_State Distrib and Adjs'!AZ70","v":211073},{"$f":"'2_State Distrib and Adjs'!BB70","v":13576397},{"$f":"'2_State Distrib and Adjs'!BC70","v":9791677},{"$f":"'2_State Distrib and Adjs'!BD70","v":3784720},{"$f":"'2_State Distrib and Adjs'!BE70","v":946180},{"$f":"'2_State Distrib and Adjs'!BF70","v":0},{"$f":"'2_State Distrib and Adjs'!BG70","v":102184},{"$f":"'2_State Distrib and Adjs'!BH70","v":0},{"$f":"'2_State Distrib and Adjs'!BJ70","v":13684581},13684581,null,{"$f":"-'New Type 2 Res Summary'!AG70-'5A3_OJJ'!P70","v":{"$error":"#REF!"}},{"$f":"-'New Type 2 Res Summary'!AH70","v":{"$error":"#REF!"}},{"$f":"-'New Type 2 Res Summary'!AI70","v":{"$error":"#REF!"}},{"$f":"-'New Type 2 Res Summary'!AJ70","v":{"$error":"#REF!"}},{"$f":"-'New Type 2 Res Summary'!AK70","v":{"$error":"#REF!"}},{"$f":"-'New Type 2 Res Summary'!AL70","v":{"$error":"#REF!"}},{"$f":"-'New Type 2 Res Summary'!AM70-'5A3_OJJ'!P70","v":{"$error":"#REF!"}},null,{"$f":"-'New Type 2 Res Summary'!AN70","v":{"$error":"#REF!"}},{"$f":"-'New Type 2 Res Summary'!AO70-'5A3_OJJ'!P70","v":{"$error":"#REF!"}},null,{"$f":"-'New Type 2 Res Summary'!AQ70-'5A3_OJJ'!P70","v":{"$error":"#REF!"}},{"$f":"'2A-1_EFT (Annual)'!AQ70","v":-46342},{"$f":"'2A-1_EFT (Annual)'!#REF!+'2A-1_EFT (Annual)'!#REF!","v":{"$error":"#REF!"}},{"$error":"#REF!"},{"$f":"#REF!","v":{"$error":"#REF!"}},13638239,{"$f":"#REF!","v":{"$error":"#REF!"}},null,null,null,{"$f":"#REF!+#REF!","v":{"$error":"#REF!"}},null,{"$error":"#REF!"}]
[65,65,"City of Monroe",{"$f":"#REF!","v":{"$error":"#REF!"}},{"$f":"'2_State Distrib and Adjs'!AO71","v":5962},{"$f":"'2_State Distrib and Adjs'!AN71","v":46357266},null,null,null,null,null,null,null,null,null,null,46357266,null,{"$f":"'2_State Distrib and Adjs'!AS71","v":166936},{"$f":"'2_State Distrib and Adjs'!AT71","v":259347},{"$f":"'2_State Distrib and Adjs'!AU71","v":426283},{"$f":"Q71+U71","v":46783549},null,null,{"$f":"V71","v":46783549},{"$f":"'2_State Distrib and Adjs'!AP71","v":-83640},{"$f":"'2_State Distrib and Adjs'!AW71","v":0},{"$f":"'2_State Distrib and Adjs'!AX71","v":241290},{"$f":"'2_State Distrib and Adjs'!AY71","v":1322497},{"$f":"'2_State Distrib and Adjs'!AZ71","v":1057997},{"$f":"'2_State Distrib and Adjs'!BB71","v":51305436},{"$f":"'2_State Distrib and Adjs'!BC71","v":33925766},{"$f":"'2_State Distrib and Adjs'!BD71","v":17379670},{"$f":"'2_State Distrib and Adjs'!BE71","v":4344918},{"$f":"'2_State Distrib and Adjs'!BF71","v":0},{"$f":"'2_State Distrib and Adjs'!BG71","v":183883},{"$f":"'2_State Distrib and Adjs'!BH71","v":29928},{"$f":"'2_State Distrib and Adjs'!BJ71","v":51559247},51559247,null,{"$f":"-'New Type 2 Res Summary'!AG71-'5A3_OJJ'!P71","v":{"$error":"#REF!"}},{"$f":"-'New Type 2 Res Summary'!AH71","v":{"$error":"#REF!"}},{"$f":"-'New Type 2 Res Summary'!AI71","v":{"$error":"#REF!"}},{"$f":"-'New Type 2 Res Summary'!AJ71","v":{"$error":"#REF!"}},{"$f":"-'New Type 2 Res Summary'!AK71","v":{"$error":"#REF!"}},{"$f":"-'New Type 2 Res Summary'!AL71","v":{"$error":"#REF!"}},{"$f":"-'New Type 2 Res Summary'!AM71-'5A3_OJJ'!P71","v":{"$error":"#REF!"}},null,{"$f":"-'New Type 2 Res Summary'!AN71","v":{"$error":"#REF!"}},{"$f":"-'New Type 2 Res Summary'!AO71-'5A3_OJJ'!P71","v":{"$error":"#REF!"}},null,{"$f":"-'New Type 2 Res Summary'!AQ71-'5A3_OJJ'!P71","v":{"$error":"#REF!"}},{"$f":"'2A-1_EFT (Annual)'!AQ71","v":-197622},{"$f":"'2A-1_EFT (Annual)'!#REF!+'2A-1_EFT (Annual)'!#REF!","v":{"$error":"#REF!"}},{"$error":"#REF!"},{"$f":"#REF!","v":{"$error":"#REF!"}},{"$f":"AM71+BA71","v":51361625},{"$f":"#REF!","v":{"$error":"#REF!"}},null,null,null,{"$f":"#REF!+#REF!","v":{"$error":"#REF!"}},null,{"$error":"#REF!"}]
[66,66,"City of Bogalusa",{"$f":"#REF!","v":{"$error":"#REF!"}},{"$f":"'2_State Distrib and Adjs'!AO72","v":6868},{"$f":"'2_State Distrib and Adjs'!AN72","v":12382711},null,null,null,null,null,null,null,null,null,null,{"$f":"F72+H72+J72+L72+N72+P72","v":12382711},null,{"$f":"'2_State Distrib and Adjs'!AS72","v":212908},{"$f":"'2_State Distrib and Adjs'!AT72","v":-3434},{"$f":"'2_State Distrib and Adjs'!AU72","v":209474},{"$f":"Q72+U72","v":12592185},null,null,{"$f":"V72","v":12592185},{"$f":"'2_State Distrib and Adjs'!AP72","v":-28106},{"$f":"'2_State Distrib and Adjs'!AW72","v":0},{"$f":"'2_State Distrib and Adjs'!AX72","v":50890},{"$f":"'2_State Distrib and Adjs'!AY72","v":324568},{"$f":"'2_State Distrib and Adjs'!AZ72","v":259655},{"$f":"'2_State Distrib and Adjs'!BB72","v":13686045},{"$f":"'2_State Distrib and Adjs'!BC72","v":8957500},{"$f":"'2_State Distrib and Adjs'!BD72","v":4728545},{"$f":"'2_State Distrib and Adjs'!BE72","v":1182136},{"$f":"'2_State Distrib and Adjs'!BF72","v":0},{"$f":"'2_State Distrib and Adjs'!BG72","v":97605},{"$f":"'2_State Distrib and Adjs'!BH72","v":145635},{"$f":"'2_State Distrib and Adjs'!BJ72","v":13929285},{"$f":"AL72","v":13929285},null,{"$f":"-'New Type 2 Res Summary'!AG72-'5A3_OJJ'!P72","v":{"$error":"#REF!"}},{"$f":"-'New Type 2 Res Summary'!AH72","v":{"$error":"#REF!"}},{"$f":"-'New Type 2 Res Summary'!AI72","v":{"$error":"#REF!"}},{"$f":"-'New Type 2 Res Summary'!AJ72","v":{"$error":"#REF!"}},{"$f":"-'New Type 2 Res Summary'!AK72","v":{"$error":"#REF!"}},{"$f":"-'New Type 2 Res Summary'!AL72","v":{"$error":"#REF!"}},{"$f":"-'New Type 2 Res Summary'!AM72-'5A3_OJJ'!P72","v":{"$error":"#REF!"}},null,{"$f":"-'New Type 2 Res Summary'!AN72","v":{"$error":"#REF!"}},{"$f":"-'New Type 2 Res Summary'!AO72-'5A3_OJJ'!P72","v":{"$error":"#REF!"}},null,{"$f":"-'New Type 2 Res Summary'!AQ72-'5A3_OJJ'!P72","v":{"$error":"#REF!"}},{"$f":"'2A-1_EFT (Annual)'!AQ72","v":-229708},{"$f":"'2A-1_EFT (Annual)'!#REF!+'2A-1_EFT (Annual)'!#REF!","v":{"$error":"#REF!"}},{"$f":"BA72-BB72","v":{"$error":"#REF!"}},{"$f":"#REF!","v":{"$error":"#REF!"}},{"$f":"AM72+BA72","v":13699577},{"$f":"#REF!","v":{"$error":"#REF!"}},null,null,null,{"$f":"#REF!+#REF!","v":{"$error":"#REF!"}},null,{"$f":"BJ72-BK72","v":{"$error":"#REF!"}}]
[67,67,"Zachary Community",{"$f":"#REF!","v":{"$error":"#REF!"}},{"$f":"'2_State Distrib and Adjs'!AO73","v":6407},{"$f":"'2_State Distrib and Adjs'!AN73","v":34682581},null,null,null,null,null,null,null,null,null,null,{"$f":"F73+H73+J73+L73+N73+P73","v":34682581},null,{"$f":"'2_State Distrib and Adjs'!AS73","v":-64070},{"$f":"'2_State Distrib and Adjs'!AT73","v":-22425},{"$f":"'2_State Distrib and Adjs'!AU73","v":-86495},{"$f":"Q73+U73","v":34596086},null,null,{"$f":"V73","v":34596086},{"$f":"'2_State Distrib and Adjs'!AP73","v":-42421},{"$f":"'2_State Distrib and Adjs'!AW73","v":0},{"$f":"'2_State Distrib and Adjs'!AX73","v":177590},{"$f":"'2_State Distrib and Adjs'!AY73","v":669271},{"$f":"'2_State Distrib and Adjs'!AZ73","v":535416},{"$f":"'2_State Distrib and Adjs'!BB73","v":36939849},{"$f":"'2_State Distrib and Adjs'!BC73","v":24642793},{"$f":"'2_State Distrib and Adjs'!BD73","v":12297056},{"$f":"'2_State Distrib and Adjs'!BE73","v":3074264},{"$f":"'2_State Distrib and Adjs'!BF73","v":0},{"$f":"'2_State Distrib and Adjs'!BG73","v":122669},{"$f":"'2_State Distrib and Adjs'!BH73","v":0},{"$f":"'2_State Distrib and Adjs'!BJ73","v":37090518},{"$f":"AL73","v":37090518},null,{"$f":"-'New Type 2 Res Summary'!AG73-'5A3_OJJ'!P73","v":{"$error":"#REF!"}},{"$f":"-'New Type 2 Res Summary'!AH73","v":{"$error":"#REF!"}},{"$f":"-'New Type 2 Res Summary'!AI73","v":{"$error":"#REF!"}},{"$f":"-'New Type 2 Res Summary'!AJ73","v":{"$error":"#REF!"}},{"$f":"-'New Type 2 Res Summary'!AK73","v":{"$error":"#REF!"}},{"$f":"-'New Type 2 Res Summary'!AL73","v":{"$error":"#REF!"}},{"$f":"-'New Type 2 Res Summary'!AM73-'5A3_OJJ'!P73","v":{"$error":"#REF!"}},null,{"$f":"-'New Type 2 Res Summary'!AN73","v":{"$error":"#REF!"}},{"$f":"-'New Type 2 Res Summary'!AO73-'5A3_OJJ'!P73","v":{"$error":"#REF!"}},null,{"$f":"-'New Type 2 Res Summary'!AQ73-'5A3_OJJ'!P73","v":{"$error":"#REF!"}},{"$f":"'2A-1_EFT (Annual)'!AQ73","v":-591036},{"$f":"'2A-1_EFT (Annual)'!#REF!+'2A-1_EFT (Annual)'!#REF!","v":{"$error":"#REF!"}},{"$f":"BA73-BB73","v":{"$error":"#REF!"}},{"$f":"#REF!","v":{"$error":"#REF!"}},{"$f":"AM73+BA73","v":36499482},{"$f":"#REF!","v":{"$error":"#REF!"}},null,null,null,{"$f":"#REF!+#REF!","v":{"$error":"#REF!"}},null,{"$f":"BJ73-BK73","v":{"$error":"#REF!"}}]
[68,68,"City of Baker",{"$f":"#REF!","v":{"$error":"#REF!"}},{"$f":"'2_State Distrib and Adjs'!AO74","v":7190},{"$f":"'2_State Distrib and Adjs'!AN74","v":6808969},null,null,null,null,null,null,null,null,null,null,{"$f":"F74+H74+J74+L74+N74+P74","v":6808969},null,{"$f":"'2_State Distrib and Adjs'!AS74","v":-438590},{"$f":"'2_State Distrib and Adjs'!AT74","v":129420},{"$f":"'2_State Distrib and Adjs'!AU74","v":-309170},{"$f":"Q74+U74","v":6499799},null,null,{"$f":"V74","v":6499799},{"$f":"'2_State Distrib and Adjs'!AP74","v":-380841},{"$f":"'2_State Distrib and Adjs'!AW74","v":0},{"$f":"'2_State Distrib and Adjs'!AX74","v":34930},{"$f":"'2_State Distrib and Adjs'!AY74","v":125608},{"$f":"'2_State Distrib and Adjs'!AZ74","v":100485},{"$f":"'2_State Distrib and Adjs'!BB74","v":6568393},{"$f":"'2_State Distrib and Adjs'!BC74","v":4809677},{"$f":"'2_State Distrib and Adjs'!BD74","v":1758716},{"$f":"'2_State Distrib and Adjs'!BE74","v":439679},{"$f":"'2_State Distrib and Adjs'!BF74","v":0},{"$f":"'2_State Distrib and Adjs'!BG74","v":29161},{"$f":"'2_State Distrib and Adjs'!BH74","v":25291},{"$f":"'2_State Distrib and Adjs'!BJ74","v":6624845},{"$f":"AL74","v":6624845},null,{"$f":"-'New Type 2 Res Summary'!AG74-'5A3_OJJ'!P74","v":{"$error":"#REF!"}},{"$f":"-'New Type 2 Res Summary'!AH74","v":{"$error":"#REF!"}},{"$f":"-'New Type 2 Res Summary'!AI74","v":{"$error":"#REF!"}},{"$f":"-'New Type 2 Res Summary'!AJ74","v":{"$error":"#REF!"}},{"$f":"-'New Type 2 Res Summary'!AK74","v":{"$error":"#REF!"}},{"$f":"-'New Type 2 Res Summary'!AL74","v":{"$error":"#REF!"}},{"$f":"-'New Type 2 Res Summary'!AM74-'5A3_OJJ'!P74","v":{"$error":"#REF!"}},null,{"$f":"-'New Type 2 Res Summary'!AN74","v":{"$error":"#REF!"}},{"$f":"-'New Type 2 Res Summary'!AO74-'5A3_OJJ'!P74","v":{"$error":"#REF!"}},null,{"$f":"-'New Type 2 Res Summary'!AQ74-'5A3_OJJ'!P74","v":{"$error":"#REF!"}},{"$f":"'2A-1_EFT (Annual)'!AQ74","v":-3098028},{"$f":"'2A-1_EFT (Annual)'!#REF!+'2A-1_EFT (Annual)'!#REF!","v":{"$error":"#REF!"}},{"$f":"BA74-BB74","v":{"$error":"#REF!"}},{"$f":"#REF!","v":{"$error":"#REF!"}},{"$f":"AM74+BA74","v":3526817},{"$f":"#REF!","v":{"$error":"#REF!"}},null,null,null,{"$f":"#REF!+#REF!","v":{"$error":"#REF!"}},null,{"$f":"BJ74-BK74","v":{"$error":"#REF!"}}]
[69,69,"Central Community",{"$f":"#REF!","v":{"$error":"#REF!"}},{"$f":"'2_State Distrib and Adjs'!AO75","v":6922},{"$f":"'2_State Distrib and Adjs'!AN75","v":32623207},null,null,null,null,null,null,null,null,null,null,{"$f":"F75+H75+J75+L75+N75+P75","v":32623207},null,{"$f":"'2_State Distrib and Adjs'!AS75","v":-782186},{"$f":"'2_State Distrib and Adjs'!AT75","v":-69220},{"$f":"'2_State Distrib and Adjs'!AU75","v":-851406},{"$f":"Q75+U75","v":31771801},null,null,{"$f":"V75","v":31771801},{"$f":"'2_State Distrib and Adjs'!AP75","v":12864},{"$f":"'2_State Distrib and Adjs'!AW75","v":0},{"$f":"'2_State Distrib and Adjs'!AX75","v":159600},{"$f":"'2_State Distrib and Adjs'!AY75","v":573142},{"$f":"'2_State Distrib and Adjs'!AZ75","v":458512},{"$f":"'2_State Distrib and Adjs'!BB75","v":33835632},{"$f":"'2_State Distrib and Adjs'!BC75","v":23034568},{"$f":"'2_State Distrib and Adjs'!BD75","v":10801064},{"$f":"'2_State Distrib and Adjs'!BE75","v":2700266},{"$f":"'2_State Distrib and Adjs'!BF75","v":0},{"$f":"'2_State Distrib and Adjs'!BG75","v":377406},{"$f":"'2_State Distrib and Adjs'!BH75","v":0},{"$f":"'2_State Distrib and Adjs'!BJ75","v":34256038},{"$f":"AL75","v":34256038},null,{"$f":"-'New Type 2 Res Summary'!AG75-'5A3_OJJ'!P75","v":{"$error":"#REF!"}},{"$f":"-'New Type 2 Res Summary'!AH75","v":{"$error":"#REF!"}},{"$f":"-'New Type 2 Res Summary'!AI75","v":{"$error":"#REF!"}},{"$f":"-'New Type 2 Res Summary'!AJ75","v":{"$error":"#REF!"}},{"$f":"-'New Type 2 Res Summary'!AK75","v":{"$error":"#REF!"}},{"$f":"-'New Type 2 Res Summary'!AL75","v":{"$error":"#REF!"}},{"$f":"-'New Type 2 Res Summary'!AM75-'5A3_OJJ'!P75","v":{"$error":"#REF!"}},null,{"$f":"-'New Type 2 Res Summary'!AN75","v":{"$error":"#REF!"}},{"$f":"-'New Type 2 Res Summary'!AO75-'5A3_OJJ'!P75","v":{"$error":"#REF!"}},null,{"$f":"-'New Type 2 Res Summary'!AQ75-'5A3_OJJ'!P75","v":{"$error":"#REF!"}},{"$f":"'2A-1_EFT (Annual)'!AQ75","v":-687373},{"$f":"'2A-1_EFT (Annual)'!#REF!+'2A-1_EFT (Annual)'!#REF!","v":{"$error":"#REF!"}},{"$f":"BA75-BB75","v":{"$error":"#REF!"}},{"$f":"#REF!","v":{"$error":"#REF!"}},{"$f":"AM75+BA75","v":33568665},{"$f":"#REF!","v":{"$error":"#REF!"}},null,null,null,{"$f":"#REF!+#REF!","v":{"$error":"#REF!"}},null,{"$f":"BJ75-BK75","v":{"$error":"#REF!"}}]
[null,null,"Total City/Parish",{"$f":"SUM(D7:D75)","v":{"$error":"#REF!"}},null,{"$f":"SUM(F7:F75)","v":3421960400},null,{"$f":"SUM(H7:H75)","v":0},0,0,0,0,0,0,0,{"$f":"SUM(P7:P75)","v":0},3421960400,0,-28572368,-2380871,-30953239,3391007161,0,0,3391007161,-8474683,4242000,19696460,{"$f":"SUM(AC7:AC75)","v":97379637},{"$f":"SUM(AD7:AD75)","v":77903692},3727823727,2505533203,1222290524,305572641,366000,24712300.5,11690375,{"$f":"SUM(AL7:AL75)","v":3766590402.5},{"$f":"SUM(AM7:AM75)","v":3766590402.5},null,{"$f":"SUM(AO7:AO75)","v":{"$error":"#REF!"}},{"$error":"#REF!"},{"$error":"#REF!"},{"$error":"#REF!"},{"$error":"#REF!"},{"$error":"#REF!"},{"$error":"#REF!"},{"$error":"#REF!"},{"$error":"#REF!"},{"$error":"#REF!"},0,{"$error":"#REF!"},-205282965,{"$error":"#REF!"},{"$error":"#REF!"},{"$error":"#REF!"},3561307437.5,{"$error":"#REF!"},{"$f":"SUM(BG7:BG75)","v":0},0,0,{"$error":"#REF!"},0,{"$error":"#REF!"}]
[]
[341001,341001,"D'Arbonne Woods ",{"$f":"#REF!","v":{"$error":"#REF!"}},null,{"$f":"#REF!","v":{"$error":"#REF!"}},null,null,{"$f":"#REF!","v":{"$error":"#REF!"}},{"$f":"#REF!","v":{"$error":"#REF!"}},{"$f":"#REF!","v":{"$error":"#REF!"}},{"$f":"#REF!","v":{"$error":"#REF!"}},{"$f":"#REF!","v":{"$error":"#REF!"}},{"$f":"#REF!","v":{"$error":"#REF!"}},{"$f":"#REF!","v":{"$error":"#REF!"}},{"$f":"#REF!","v":{"$error":"#REF!"}},{"$f":"F78+H78+J78+L78+N78+P78","v":{"$error":"#REF!"}},null,{"$f":"#REF!","v":{"$error":"#REF!"}},{"$f":"#REF!","v":{"$error":"#REF!"}},{"$f":"#REF!","v":{"$error":"#REF!"}},{"$f":"#REF!","v":{"$error":"#REF!"}},null,{"$f":"#REF!","v":{"$error":"#REF!"}},{"$f":"#REF!","v":{"$error":"#REF!"}},{"$f":"#REF!","v":{"$error":"#REF!"}},{"$f":"#REF!","v":{"$error":"#REF!"}},{"$f":"#REF!","v":{"$error":"#REF!"}},{"$f":"#REF!","v":{"$error":"#REF!"}},{"$f":"#REF!","v":{"$error":"#REF!"}},{"$f":"#REF!","v":{"$error":"#REF!"}},{"$f":"#REF!","v":{"$error":"#REF!"}},{"$f":"#REF!","v":{"$error":"#REF!"}},{"$f":"#REF!","v":{"$error":"#REF!"}},{"$f":"#REF!","v":{"$error":"#REF!"}},{"$f":"#REF!","v":{"$error":"#REF!"}},{"$f":"#REF!","v":{"$error":"#REF!"}},{"$f":"#REF!","v":{"$error":"#REF!"}},{"$f":"AL78-X78","v":{"$error":"#REF!"}},null,{"$f":"#REF!","v":{"$error":"#REF!"}},{"$f":"#REF!","v":{"$error":"#REF!"}},{"$f":"#REF!","v":{"$error":"#REF!"}},{"$f":"#REF!","v":{"$error":"#REF!"}},{"$f":"#REF!","v":{"$error":"#REF!"}},{"$f":"#REF!","v":{"$error":"#REF!"}},{"$f":"#REF!","v":{"$error":"#REF!"}},null,{"$f":"#REF!","v":{"$error":"#REF!"}},{"$f":"#REF!","v":{"$error":"#REF!"}},{"$f":"#REF!","v":{"$error":"#REF!"}},{"$f":"#REF!","v":{"$error":"#REF!"}},{"$f":"#REF!-AW78","v":{"$error":"#REF!"}},{"$f":"#REF!","v":{"$error":"#REF!"}},{"$f":"#REF!","v":{"$error":"#REF!"}},{"$f":"#REF!","v":{"$error":"#REF!"}},{"$f":"AM78+BA78","v":{"$error":"#REF!"}},{"$f":"AH78+BD78","v":{"$error":"#REF!"}},{"$f":"-X78","v":{"$error":"#REF!"}},{"$f":"VLOOKUP($A78,'5C1_NewType 2'!$A$7:$AX$44,COLUMN('5C1_NewType 2'!#REF!),FALSE)","v":{"$error":"#REF!"}},{"$f":"BG78-BH78","v":{"$error":"#REF!"}},{"$f":"-AW78","v":{"$error":"#REF!"}},{"$f":"#REF!","v":{"$error":"#REF!"}},{"$f":"BJ78-BK78","v":{"$error":"#REF!"}}]
[343001,343001,"Madison Prep",{"$f":"#REF!","v":{"$error":"#REF!"}},null,{"$f":"#REF!","v":{"$error":"#REF!"}},null,null,{"$f":"#REF!","v":{"$error":"#REF!"}},{"$f":"#REF!","v":{"$error":"#REF!"}},{"$f":"#REF!","v":{"$error":"#REF!"}},{"$f":"#REF!","v":{"$error":"#REF!"}},{"$f":"#REF!","v":{"$error":"#REF!"}},{"$f":"#REF!","v":{"$error":"#REF!"}},{"$f":"#REF!","v":{"$error":"#REF!"}},{"$f":"#REF!","v":{"$error":"#REF!"}},{"$error":"#REF!"},null,{"$f":"#REF!","v":{"$error":"#REF!"}},{"$f":"#REF!","v":{"$error":"#REF!"}},{"$f":"#REF!","v":{"$error":"#REF!"}},{"$f":"#REF!","v":{"$error":"#REF!"}},null,{"$f":"#REF!","v":{"$error":"#REF!"}},{"$f":"#REF!","v":{"$error":"#REF!"}},{"$f":"#REF!","v":{"$error":"#REF!"}},{"$f":"#REF!","v":{"$error":"#REF!"}},{"$f":"#REF!","v":{"$error":"#REF!"}},{"$f":"#REF!","v":{"$error":"#REF!"}},{"$f":"#REF!","v":{"$error":"#REF!"}},{"$f":"#REF!","v":{"$error":"#REF!"}},{"$f":"#REF!","v":{"$error":"#REF!"}},{"$f":"#REF!","v":{"$error":"#REF!"}},{"$f":"#REF!","v":{"$error":"#REF!"}},{"$f":"#REF!","v":{"$error":"#REF!"}},{"$f":"#REF!","v":{"$error":"#REF!"}},{"$f":"#REF!","v":{"$error":"#REF!"}},{"$f":"#REF!","v":{"$error":"#REF!"}},{"$error":"#REF!"},null,{"$f":"#REF!","v":{"$error":"#REF!"}},{"$f":"#REF!","v":{"$error":"#REF!"}},{"$f":"#REF!","v":{"$error":"#REF!"}},{"$f":"#REF!","v":{"$error":"#REF!"}},{"$f":"#REF!","v":{"$error":"#REF!"}},{"$f":"#REF!","v":{"$error":"#REF!"}},{"$f":"#REF!","v":{"$error":"#REF!"}},null,{"$f":"#REF!","v":{"$error":"#REF!"}},{"$f":"#REF!","v":{"$error":"#REF!"}},{"$f":"#REF!","v":{"$error":"#REF!"}},{"$f":"#REF!","v":{"$error":"#REF!"}},{"$f":"#REF!-AW79","v":{"$error":"#REF!"}},{"$f":"#REF!","v":{"$error":"#REF!"}},{"$f":"#REF!","v":{"$error":"#REF!"}},{"$f":"#REF!","v":{"$error":"#REF!"}},{"$error":"#REF!"},{"$error":"#REF!"},{"$error":"#REF!"},{"$f":"VLOOKUP($A79,'5C1_NewType 2'!$A$7:$AX$44,COLUMN('5C1_NewType 2'!#REF!),FALSE)","v":{"$error":"#REF!"}},{"$error":"#REF!"},{"$error":"#REF!"},{"$f":"#REF!","v":{"$error":"#REF!"}},{"$error":"#REF!"}]
[344001,344001,"Int'l High School of N. O. ",{"$f":"#REF!","v":{"$error":"#REF!"}},null,{"$f":"#REF!","v":{"$error":"#REF!"}},null,null,{"$f":"#REF!","v":{"$error":"#REF!"}},{"$f":"#REF!","v":{"$error":"#REF!"}},{"$f":"#REF!","v":{"$error":"#REF!"}},{"$f":"#REF!","v":{"$error":"#REF!"}},{"$f":"#REF!","v":{"$error":"#REF!"}},{"$f":"#REF!","v":{"$error":"#REF!"}},{"$f":"#REF!","v":{"$error":"#REF!"}},{"$f":"#REF!","v":{"$error":"#REF!"}},{"$error":"#REF!"},null,{"$f":"#REF!","v":{"$error":"#REF!"}},{"$f":"#REF!","v":{"$error":"#REF!"}},{"$f":"#REF!","v":{"$error":"#REF!"}},{"$f":"#REF!","v":{"$error":"#REF!"}},null,{"$f":"#REF!","v":{"$error":"#REF!"}},{"$f":"#REF!","v":{"$error":"#REF!"}},{"$f":"#REF!","v":{"$error":"#REF!"}},{"$f":"#REF!","v":{"$error":"#REF!"}},{"$f":"#REF!","v":{"$error":"#REF!"}},{"$f":"#REF!","v":{"$error":"#REF!"}},{"$f":"#REF!","v":{"$error":"#REF!"}},{"$f":"#REF!","v":{"$error":"#REF!"}},{"$f":"#REF!","v":{"$error":"#REF!"}},{"$f":"#REF!","v":{"$error":"#REF!"}},{"$f":"#REF!","v":{"$error":"#REF!"}},{"$f":"#REF!","v":{"$error":"#REF!"}},{"$f":"#REF!","v":{"$error":"#REF!"}},{"$f":"#REF!","v":{"$error":"#REF!"}},{"$f":"#REF!","v":{"$error":"#REF!"}},{"$error":"#REF!"},null,{"$f":"#REF!","v":{"$error":"#REF!"}},{"$f":"#REF!","v":{"$error":"#REF!"}},{"$f":"#REF!","v":{"$error":"#REF!"}},{"$f":"#REF!","v":{"$error":"#REF!"}},{"$f":"#REF!","v":{"$error":"#REF!"}},{"$f":"#REF!","v":{"$error":"#REF!"}},{"$f":"#REF!","v":{"$error":"#REF!"}},null,{"$f":"#REF!","v":{"$error":"#REF!"}},{"$f":"#REF!","v":{"$error":"#REF!"}},{"$f":"#REF!","v":{"$error":"#REF!"}},{"$f":"#REF!","v":{"$error":"#REF!"}},{"$f":"#REF!-AW80","v":{"$error":"#REF!"}},{"$f":"#REF!","v":{"$error":"#REF!"}},{"$f":"#REF!","v":{"$error":"#REF!"}},{"$f":"#REF!","v":{"$error":"#REF!"}},{"$error":"#REF!"},{"$error":"#REF!"},{"$error":"#REF!"},{"$f":"VLOOKUP($A80,'5C1_NewType 2'!$A$7:$AX$44,COLUMN('5C1_NewType 2'!#REF!),FALSE)","v":{"$error":"#REF!"}},{"$error":"#REF!"},{"$error":"#REF!"},{"$f":"#REF!","v":{"$error":"#REF!"}},{"$error":"#REF!"}]
[345001,345001,"University View Academy (90%)",{"$f":"#REF!","v":{"$error":"#REF!"}},null,{"$f":"#REF!","v":{"$error":"#REF!"}},null,null,{"$f":"#REF!","v":{"$error":"#REF!"}},{"$f":"#REF!","v":{"$error":"#REF!"}},{"$f":"#REF!","v":{"$error":"#REF!"}},{"$f":"#REF!","v":{"$error":"#REF!"}},{"$f":"#REF!","v":{"$error":"#REF!"}},{"$f":"#REF!","v":{"$error":"#REF!"}},{"$f":"#REF!","v":{"$error":"#REF!"}},{"$f":"#REF!","v":{"$error":"#REF!"}},{"$error":"#REF!"},{"$f":"#REF!","v":{"$error":"#REF!"}},{"$f":"#REF!","v":{"$error":"#REF!"}},{"$f":"#REF!","v":{"$error":"#REF!"}},{"$f":"#REF!","v":{"$error":"#REF!"}},{"$f":"#REF!","v":{"$error":"#REF!"}},null,{"$f":"#REF!","v":{"$error":"#REF!"}},{"$f":"#REF!","v":{"$error":"#REF!"}},{"$f":"#REF!","v":{"$error":"#REF!"}},{"$f":"#REF!","v":{"$error":"#REF!"}},{"$f":"#REF!","v":{"$error":"#REF!"}},{"$f":"#REF!","v":{"$error":"#REF!"}},{"$f":"#REF!","v":{"$error":"#REF!"}},{"$f":"#REF!","v":{"$error":"#REF!"}},{"$f":"#REF!","v":{"$error":"#REF!"}},{"$f":"#REF!","v":{"$error":"#REF!"}},{"$f":"#REF!","v":{"$error":"#REF!"}},{"$f":"#REF!","v":{"$error":"#REF!"}},{"$f":"#REF!","v":{"$error":"#REF!"}},{"$f":"#REF!","v":{"$error":"#REF!"}},{"$f":"#REF!","v":{"$error":"#REF!"}},{"$error":"#REF!"},null,{"$f":"#REF!","v":{"$error":"#REF!"}},{"$f":"#REF!","v":{"$error":"#REF!"}},{"$f":"#REF!","v":{"$error":"#REF!"}},{"$f":"#REF!","v":{"$error":"#REF!"}},{"$f":"#REF!","v":{"$error":"#REF!"}},{"$f":"#REF!","v":{"$error":"#REF!"}},{"$f":"#REF!","v":{"$error":"#REF!"}},null,{"$f":"#REF!","v":{"$error":"#REF!"}},{"$f":"#REF!","v":{"$error":"#REF!"}},{"$f":"#REF!","v":{"$error":"#REF!"}},{"$f":"#REF!","v":{"$error":"#REF!"}},{"$f":"#REF!-AW81","v":{"$error":"#REF!"}},{"$f":"#REF!","v":{"$error":"#REF!"}},{"$f":"#REF!","v":{"$error":"#REF!"}},{"$f":"#REF!","v":{"$error":"#REF!"}},{"$error":"#REF!"},{"$error":"#REF!"},{"$error":"#REF!"},{"$f":"VLOOKUP($A81,'5C1_NewType 2'!$A$7:$AX$44,COLUMN('5C1_NewType 2'!#REF!),FALSE)","v":{"$error":"#REF!"}},{"$error":"#REF!"},{"$error":"#REF!"},{"$f":"#REF!","v":{"$error":"#REF!"}},{"$error":"#REF!"}]
[346001,346001,"Lake Charles Charter Academy ",{"$f":"#REF!","v":{"$error":"#REF!"}},null,{"$f":"#REF!","v":{"$error":"#REF!"}},null,null,{"$f":"#REF!","v":{"$error":"#REF!"}},{"$f":"#REF!","v":{"$error":"#REF!"}},{"$f":"#REF!","v":{"$error":"#REF!"}},{"$f":"#REF!","v":{"$error":"#REF!"}},{"$f":"#REF!","v":{"$error":"#REF!"}},{"$f":"#REF!","v":{"$error":"#REF!"}},{"$f":"#REF!","v":{"$error":"#REF!"}},{"$f":"#REF!","v":{"$error":"#REF!"}},{"$error":"#REF!"},null,{"$f":"#REF!","v":{"$error":"#REF!"}},{"$f":"#REF!","v":{"$error":"#REF!"}},{"$f":"#REF!","v":{"$error":"#REF!"}},{"$f":"#REF!","v":{"$error":"#REF!"}},null,{"$f":"#REF!","v":{"$error":"#REF!"}},{"$f":"#REF!","v":{"$error":"#REF!"}},{"$f":"#REF!","v":{"$error":"#REF!"}},{"$f":"#REF!","v":{"$error":"#REF!"}},{"$f":"#REF!","v":{"$error":"#REF!"}},{"$f":"#REF!","v":{"$error":"#REF!"}},{"$f":"#REF!","v":{"$error":"#REF!"}},{"$f":"#REF!","v":{"$error":"#REF!"}},{"$f":"#REF!","v":{"$error":"#REF!"}},{"$f":"#REF!","v":{"$error":"#REF!"}},{"$f":"#REF!","v":{"$error":"#REF!"}},{"$f":"#REF!","v":{"$error":"#REF!"}},{"$f":"#REF!","v":{"$error":"#REF!"}},{"$f":"#REF!","v":{"$error":"#REF!"}},{"$f":"#REF!","v":{"$error":"#REF!"}},{"$error":"#REF!"},null,{"$f":"#REF!","v":{"$error":"#REF!"}},{"$f":"#REF!","v":{"$error":"#REF!"}},{"$f":"#REF!","v":{"$error":"#REF!"}},{"$f":"#REF!","v":{"$error":"#REF!"}},{"$f":"#REF!","v":{"$error":"#REF!"}},{"$f":"#REF!","v":{"$error":"#REF!"}},{"$f":"#REF!","v":{"$error":"#REF!"}},null,{"$f":"#REF!","v":{"$error":"#REF!"}},{"$f":"#REF!","v":{"$error":"#REF!"}},{"$f":"#REF!","v":{"$error":"#REF!"}},{"$f":"#REF!","v":{"$error":"#REF!"}},{"$f":"#REF!-AW82","v":{"$error":"#REF!"}},{"$f":"#REF!","v":{"$error":"#REF!"}},{"$f":"#REF!","v":{"$error":"#REF!"}},{"$f":"#REF!","v":{"$error":"#REF!"}},{"$error":"#REF!"},{"$error":"#REF!"},{"$error":"#REF!"},{"$f":"VLOOKUP($A82,'5C1_NewType 2'!$A$7:$AX$44,COLUMN('5C1_NewType 2'!#REF!),FALSE)","v":{"$error":"#REF!"}},{"$error":"#REF!"},{"$error":"#REF!"},{"$f":"#REF!","v":{"$error":"#REF!"}},{"$error":"#REF!"}]
[347001,347001,"Lycee Francois de la Nouvelle Orleans ",{"$f":"#REF!","v":{"$error":"#REF!"}},null,{"$f":"#REF!","v":{"$error":"#REF!"}},null,null,{"$f":"#REF!","v":{"$error":"#REF!"}},{"$f":"#REF!","v":{"$error":"#REF!"}},{"$f":"#REF!","v":{"$error":"#REF!"}},{"$f":"#REF!","v":{"$error":"#REF!"}},{"$f":"#REF!","v":{"$error":"#REF!"}},{"$f":"#REF!","v":{"$error":"#REF!"}},{"$f":"#REF!","v":{"$error":"#REF!"}},{"$f":"#REF!","v":{"$error":"#REF!"}},{"$error":"#REF!"},null,{"$f":"#REF!","v":{"$error":"#REF!"}},{"$f":"#REF!","v":{"$error":"#REF!"}},{"$f":"#REF!","v":{"$error":"#REF!"}},{"$f":"#REF!","v":{"$error":"#REF!"}},null,{"$f":"#REF!","v":{"$error":"#REF!"}},{"$f":"#REF!","v":{"$error":"#REF!"}},{"$f":"#REF!","v":{"$error":"#REF!"}},{"$f":"#REF!","v":{"$error":"#REF!"}},{"$f":"#REF!","v":{"$error":"#REF!"}},{"$f":"#REF!","v":{"$error":"#REF!"}},{"$f":"#REF!","v":{"$error":"#REF!"}},{"$f":"#REF!","v":{"$error":"#REF!"}},{"$f":"#REF!","v":{"$error":"#REF!"}},{"$f":"#REF!","v":{"$error":"#REF!"}},{"$f":"#REF!","v":{"$error":"#REF!"}},{"$f":"#REF!","v":{"$error":"#REF!"}},{"$f":"#REF!","v":{"$error":"#REF!"}},{"$f":"#REF!","v":{"$error":"#REF!"}},{"$f":"#REF!","v":{"$error":"#REF!"}},{"$error":"#REF!"},null,{"$f":"#REF!","v":{"$error":"#REF!"}},{"$f":"#REF!","v":{"$error":"#REF!"}},{"$f":"#REF!","v":{"$error":"#REF!"}},{"$f":"#REF!","v":{"$error":"#REF!"}},{"$f":"#REF!","v":{"$error":"#REF!"}},{"$f":"#REF!","v":{"$error":"#REF!"}},{"$f":"#REF!","v":{"$error":"#REF!"}},null,{"$f":"#REF!","v":{"$error":"#REF!"}},{"$f":"#REF!","v":{"$error":"#REF!"}},{"$f":"#REF!","v":{"$error":"#REF!"}},{"$f":"#REF!","v":{"$error":"#REF!"}},{"$f":"#REF!-AW83","v":{"$error":"#REF!"}},{"$f":"#REF!","v":{"$error":"#REF!"}},{"$f":"#REF!","v":{"$error":"#REF!"}},{"$f":"#REF!","v":{"$error":"#REF!"}},{"$error":"#REF!"},{"$error":"#REF!"},{"$error":"#REF!"},{"$f":"VLOOKUP($A83,'5C1_NewType 2'!$A$7:$AX$44,COLUMN('5C1_NewType 2'!#REF!),FALSE)","v":{"$error":"#REF!"}},{"$error":"#REF!"},{"$error":"#REF!"},{"$f":"#REF!","v":{"$error":"#REF!"}},{"$error":"#REF!"}]
[348001,348001,"New Orleans Military/Maritime Academy ",{"$f":"#REF!","v":{"$error":"#REF!"}},null,{"$f":"#REF!","v":{"$error":"#REF!"}},null,null,{"$f":"#REF!","v":{"$error":"#REF!"}},{"$f":"#REF!","v":{"$error":"#REF!"}},{"$f":"#REF!","v":{"$error":"#REF!"}},{"$f":"#REF!","v":{"$error":"#REF!"}},{"$f":"#REF!","v":{"$error":"#REF!"}},{"$f":"#REF!","v":{"$error":"#REF!"}},{"$f":"#REF!","v":{"$error":"#REF!"}},{"$f":"#REF!","v":{"$error":"#REF!"}},{"$error":"#REF!"},null,{"$f":"#REF!","v":{"$error":"#REF!"}},{"$f":"#REF!","v":{"$error":"#REF!"}},{"$f":"#REF!","v":{"$error":"#REF!"}},{"$f":"#REF!","v":{"$error":"#REF!"}},null,{"$f":"#REF!","v":{"$error":"#REF!"}},{"$f":"#REF!","v":{"$error":"#REF!"}},{"$f":"#REF!","v":{"$error":"#REF!"}},{"$f":"#REF!","v":{"$error":"#REF!"}},{"$f":"#REF!","v":{"$error":"#REF!"}},{"$f":"#REF!","v":{"$error":"#REF!"}},{"$f":"#REF!","v":{"$error":"#REF!"}},{"$f":"#REF!","v":{"$error":"#REF!"}},{"$f":"#REF!","v":{"$error":"#REF!"}},{"$f":"#REF!","v":{"$error":"#REF!"}},{"$f":"#REF!","v":{"$error":"#REF!"}},{"$f":"#REF!","v":{"$error":"#REF!"}},{"$f":"#REF!","v":{"$error":"#REF!"}},{"$f":"#REF!","v":{"$error":"#REF!"}},{"$f":"#REF!","v":{"$error":"#REF!"}},{"$error":"#REF!"},null,{"$f":"#REF!","v":{"$error":"#REF!"}},{"$f":"#REF!","v":{"$error":"#REF!"}},{"$f":"#REF!","v":{"$error":"#REF!"}},{"$f":"#REF!","v":{"$error":"#REF!"}},{"$f":"#REF!","v":{"$error":"#REF!"}},{"$f":"#REF!","v":{"$error":"#REF!"}},{"$f":"#REF!","v":{"$error":"#REF!"}},null,{"$f":"#REF!","v":{"$error":"#REF!"}},{"$f":"#REF!","v":{"$error":"#REF!"}},{"$f":"#REF!","v":{"$error":"#REF!"}},{"$f":"#REF!","v":{"$error":"#REF!"}},{"$f":"#REF!-AW84","v":{"$error":"#REF!"}},{"$f":"#REF!","v":{"$error":"#REF!"}},{"$f":"#REF!","v":{"$error":"#REF!"}},{"$f":"#REF!","v":{"$error":"#REF!"}},{"$error":"#REF!"},{"$error":"#REF!"},{"$error":"#REF!"},{"$f":"VLOOKUP($A84,'5C1_NewType 2'!$A$7:$AX$44,COLUMN('5C1_NewType 2'!#REF!),FALSE)","v":{"$error":"#REF!"}},{"$error":"#REF!"},{"$error":"#REF!"},{"$f":"#REF!","v":{"$error":"#REF!"}},{"$error":"#REF!"}]
["3C4001","3C4001","Williams Scholar Academy",{"$f":"#REF!","v":{"$error":"#REF!"}},null,{"$f":"#REF!","v":{"$error":"#REF!"}},null,null,{"$f":"#REF!","v":{"$error":"#REF!"}},{"$f":"#REF!","v":{"$error":"#REF!"}},{"$f":"#REF!","v":{"$error":"#REF!"}},{"$f":"#REF!","v":{"$error":"#REF!"}},{"$f":"#REF!","v":{"$error":"#REF!"}},{"$f":"#REF!","v":{"$error":"#REF!"}},{"$f":"#REF!","v":{"$error":"#REF!"}},{"$f":"#REF!","v":{"$error":"#REF!"}},{"$f":"F85+H85+J85+L85+N85+P85","v":{"$error":"#REF!"}},null,{"$f":"#REF!","v":{"$error":"#REF!"}},{"$f":"#REF!","v":{"$error":"#REF!"}},{"$f":"#REF!","v":{"$error":"#REF!"}},{"$f":"#REF!","v":{"$error":"#REF!"}},null,{"$f":"#REF!","v":{"$error":"#REF!"}},{"$f":"#REF!","v":{"$error":"#REF!"}},{"$f":"#REF!","v":{"$error":"#REF!"}},{"$f":"#REF!","v":{"$error":"#REF!"}},{"$f":"#REF!","v":{"$error":"#REF!"}},{"$f":"#REF!","v":{"$error":"#REF!"}},{"$f":"#REF!","v":{"$error":"#REF!"}},{"$f":"#REF!","v":{"$error":"#REF!"}},{"$f":"#REF!","v":{"$error":"#REF!"}},{"$f":"#REF!","v":{"$error":"#REF!"}},{"$f":"#REF!","v":{"$error":"#REF!"}},{"$f":"#REF!","v":{"$error":"#REF!"}},{"$f":"#REF!","v":{"$error":"#REF!"}},{"$f":"#REF!","v":{"$error":"#REF!"}},{"$f":"#REF!","v":{"$error":"#REF!"}},{"$error":"#REF!"},null,{"$f":"#REF!","v":{"$error":"#REF!"}},{"$f":"#REF!","v":{"$error":"#REF!"}},{"$f":"#REF!","v":{"$error":"#REF!"}},{"$f":"#REF!","v":{"$error":"#REF!"}},{"$f":"#REF!","v":{"$error":"#REF!"}},{"$f":"#REF!","v":{"$error":"#REF!"}},{"$f":"#REF!","v":{"$error":"#REF!"}},null,{"$f":"#REF!","v":{"$error":"#REF!"}},{"$f":"#REF!","v":{"$error":"#REF!"}},{"$f":"#REF!","v":{"$error":"#REF!"}},{"$f":"#REF!","v":{"$error":"#REF!"}},{"$f":"#REF!-AW85","v":{"$error":"#REF!"}},{"$f":"#REF!","v":{"$error":"#REF!"}},{"$f":"#REF!","v":{"$error":"#REF!"}},{"$f":"#REF!","v":{"$error":"#REF!"}},{"$f":"AM85+BA85","v":{"$error":"#REF!"}},{"$error":"#REF!"},{"$error":"#REF!"},{"$f":"VLOOKUP($A85,'5C1_NewType 2'!$A$7:$AX$44,COLUMN('5C1_NewType 2'!#REF!),FALSE)","v":{"$error":"#REF!"}},{"$f":"BG85-BH85","v":{"$error":"#REF!"}},{"$f":"-AW85","v":{"$error":"#REF!"}},{"$f":"#REF!","v":{"$error":"#REF!"}},{"$f":"BJ85-BK85","v":{"$error":"#REF!"}}]
["3C5001","3C5001","St Landry Charter School",{"$f":"#REF!","v":{"$error":"#REF!"}},null,{"$f":"#REF!","v":{"$error":"#REF!"}},null,null,{"$f":"#REF!","v":{"$error":"#REF!"}},{"$f":"#REF!","v":{"$error":"#REF!"}},{"$f":"#REF!","v":{"$error":"#REF!"}},{"$f":"#REF!","v":{"$error":"#REF!"}},{"$f":"#REF!","v":{"$error":"#REF!"}},{"$f":"#REF!","v":{"$error":"#REF!"}},{"$f":"#REF!","v":{"$error":"#REF!"}},{"$f":"#REF!","v":{"$error":"#REF!"}},{"$f":"F86+H86+J86+L86+N86+P86","v":{"$error":"#REF!"}},null,{"$f":"#REF!","v":{"$error":"#REF!"}},{"$f":"#REF!","v":{"$error":"#REF!"}},{"$f":"#REF!","v":{"$error":"#REF!"}},{"$f":"#REF!","v":{"$error":"#REF!"}},null,{"$f":"#REF!","v":{"$error":"#REF!"}},{"$f":"#REF!","v":{"$error":"#REF!"}},{"$f":"#REF!","v":{"$error":"#REF!"}},{"$f":"#REF!","v":{"$error":"#REF!"}},{"$f":"#REF!","v":{"$error":"#REF!"}},{"$f":"#REF!","v":{"$error":"#REF!"}},{"$f":"#REF!","v":{"$error":"#REF!"}},{"$f":"#REF!","v":{"$error":"#REF!"}},{"$f":"#REF!","v":{"$error":"#REF!"}},{"$f":"#REF!","v":{"$error":"#REF!"}},{"$f":"#REF!","v":{"$error":"#REF!"}},{"$f":"#REF!","v":{"$error":"#REF!"}},{"$f":"#REF!","v":{"$error":"#REF!"}},{"$f":"#REF!","v":{"$error":"#REF!"}},{"$f":"#REF!","v":{"$error":"#REF!"}},{"$error":"#REF!"},null,{"$f":"#REF!","v":{"$error":"#REF!"}},{"$f":"#REF!","v":{"$error":"#REF!"}},{"$f":"#REF!","v":{"$error":"#REF!"}},{"$f":"#REF!","v":{"$error":"#REF!"}},{"$f":"#REF!","v":{"$error":"#REF!"}},{"$f":"#REF!","v":{"$error":"#REF!"}},{"$f":"#REF!","v":{"$error":"#REF!"}},null,{"$f":"#REF!","v":{"$error":"#REF!"}},{"$f":"#REF!","v":{"$error":"#REF!"}},{"$f":"#REF!","v":{"$error":"#REF!"}},{"$f":"#REF!","v":{"$error":"#REF!"}},{"$f":"#REF!-AW86","v":{"$error":"#REF!"}},{"$f":"#REF!","v":{"$error":"#REF!"}},{"$f":"#REF!","v":{"$error":"#REF!"}},{"$f":"#REF!","v":{"$error":"#REF!"}},{"$f":"AM86+BA86","v":{"$error":"#REF!"}},{"$error":"#REF!"},{"$error":"#REF!"},{"$f":"VLOOKUP($A86,'5C1_NewType 2'!$A$7:$AX$44,COLUMN('5C1_NewType 2'!#REF!),FALSE)","v":{"$error":"#REF!"}},{"$f":"BG86-BH86","v":{"$error":"#REF!"}},{"$f":"-AW86","v":{"$error":"#REF!"}},{"$f":"#REF!","v":{"$error":"#REF!"}},{"$f":"BJ86-BK86","v":{"$error":"#REF!"}}]
["W18001","W18001","Noble Minds Institute",{"$f":"#REF!","v":{"$error":"#REF!"}},null,{"$f":"#REF!","v":{"$error":"#REF!"}},null,null,{"$f":"#REF!","v":{"$error":"#REF!"}},{"$f":"#REF!","v":{"$error":"#REF!"}},{"$f":"#REF!","v":{"$error":"#REF!"}},{"$f":"#REF!","v":{"$error":"#REF!"}},{"$f":"#REF!","v":{"$error":"#REF!"}},{"$f":"#REF!","v":{"$error":"#REF!"}},{"$f":"#REF!","v":{"$error":"#REF!"}},{"$f":"#REF!","v":{"$error":"#REF!"}},{"$f":"F87+H87+J87+L87+N87+P87","v":{"$error":"#REF!"}},null,{"$f":"#REF!","v":{"$error":"#REF!"}},{"$f":"#REF!","v":{"$error":"#REF!"}},{"$f":"#REF!","v":{"$error":"#REF!"}},{"$f":"#REF!","v":{"$error":"#REF!"}},null,{"$f":"#REF!","v":{"$error":"#REF!"}},{"$f":"#REF!","v":{"$error":"#REF!"}},{"$f":"#REF!","v":{"$error":"#REF!"}},{"$f":"#REF!","v":{"$error":"#REF!"}},{"$f":"#REF!","v":{"$error":"#REF!"}},{"$f":"#REF!","v":{"$error":"#REF!"}},{"$f":"#REF!","v":{"$error":"#REF!"}},{"$f":"#REF!","v":{"$error":"#REF!"}},{"$f":"#REF!","v":{"$error":"#REF!"}},{"$f":"#REF!","v":{"$error":"#REF!"}},{"$f":"#REF!","v":{"$error":"#REF!"}},{"$f":"#REF!","v":{"$error":"#REF!"}},{"$f":"#REF!","v":{"$error":"#REF!"}},{"$f":"#REF!","v":{"$error":"#REF!"}},{"$f":"#REF!","v":{"$error":"#REF!"}},{"$error":"#REF!"},null,{"$f":"#REF!","v":{"$error":"#REF!"}},{"$f":"#REF!","v":{"$error":"#REF!"}},{"$f":"#REF!","v":{"$error":"#REF!"}},{"$f":"#REF!","v":{"$error":"#REF!"}},{"$f":"#REF!","v":{"$error":"#REF!"}},{"$f":"#REF!","v":{"$error":"#REF!"}},{"$f":"#REF!","v":{"$error":"#REF!"}},null,{"$f":"#REF!","v":{"$error":"#REF!"}},{"$f":"#REF!","v":{"$error":"#REF!"}},{"$f":"#REF!","v":{"$error":"#REF!"}},{"$f":"#REF!","v":{"$error":"#REF!"}},{"$f":"#REF!-AW87","v":{"$error":"#REF!"}},{"$f":"#REF!","v":{"$error":"#REF!"}},{"$f":"#REF!","v":{"$error":"#REF!"}},{"$f":"#REF!","v":{"$error":"#REF!"}},{"$f":"AM87+BA87","v":{"$error":"#REF!"}},{"$error":"#REF!"},{"$error":"#REF!"},{"$f":"VLOOKUP($A87,'5C1_NewType 2'!$A$7:$AX$44,COLUMN('5C1_NewType 2'!#REF!),FALSE)","v":{"$error":"#REF!"}},{"$f":"BG87-BH87","v":{"$error":"#REF!"}},{"$f":"-AW87","v":{"$error":"#REF!"}},{"$f":"#REF!","v":{"$error":"#REF!"}},{"$f":"BJ87-BK87","v":{"$error":"#REF!"}}]
["W1A001","3A1001","JCFA - East",{"$f":"#REF!","v":{"$error":"#REF!"}},null,{"$f":"#REF!","v":{"$error":"#REF!"}},null,null,{"$f":"#REF!","v":{"$error":"#REF!"}},{"$f":"#REF!","v":{"$error":"#REF!"}},{"$f":"#REF!","v":{"$error":"#REF!"}},{"$f":"#REF!","v":{"$error":"#REF!"}},{"$f":"#REF!","v":{"$error":"#REF!"}},{"$f":"#REF!","v":{"$error":"#REF!"}},{"$f":"#REF!","v":{"$error":"#REF!"}},{"$f":"#REF!","v":{"$error":"#REF!"}},{"$error":"#REF!"},null,{"$f":"#REF!","v":{"$error":"#REF!"}},{"$f":"#REF!","v":{"$error":"#REF!"}},{"$f":"#REF!","v":{"$error":"#REF!"}},{"$f":"#REF!","v":{"$error":"#REF!"}},null,{"$f":"#REF!","v":{"$error":"#REF!"}},{"$f":"#REF!","v":{"$error":"#REF!"}},{"$f":"#REF!","v":{"$error":"#REF!"}},{"$f":"#REF!","v":{"$error":"#REF!"}},{"$f":"#REF!","v":{"$error":"#REF!"}},{"$f":"#REF!","v":{"$error":"#REF!"}},{"$f":"#REF!","v":{"$error":"#REF!"}},{"$f":"#REF!","v":{"$error":"#REF!"}},{"$f":"#REF!","v":{"$error":"#REF!"}},{"$f":"#REF!","v":{"$error":"#REF!"}},{"$f":"#REF!","v":{"$error":"#REF!"}},{"$f":"#REF!","v":{"$error":"#REF!"}},{"$f":"#REF!","v":{"$error":"#REF!"}},{"$f":"#REF!","v":{"$error":"#REF!"}},{"$f":"#REF!","v":{"$error":"#REF!"}},{"$error":"#REF!"},null,{"$f":"#REF!","v":{"$error":"#REF!"}},{"$f":"#REF!","v":{"$error":"#REF!"}},{"$f":"#REF!","v":{"$error":"#REF!"}},{"$f":"#REF!","v":{"$error":"#REF!"}},{"$f":"#REF!","v":{"$error":"#REF!"}},{"$f":"#REF!","v":{"$error":"#REF!"}},{"$f":"#REF!","v":{"$error":"#REF!"}},null,{"$f":"#REF!","v":{"$error":"#REF!"}},{"$f":"#REF!","v":{"$error":"#REF!"}},{"$f":"#REF!","v":{"$error":"#REF!"}},{"$f":"#REF!","v":{"$error":"#REF!"}},{"$f":"#REF!-AW88","v":{"$error":"#REF!"}},{"$f":"#REF!","v":{"$error":"#REF!"}},{"$f":"#REF!","v":{"$error":"#REF!"}},{"$f":"#REF!","v":{"$error":"#REF!"}},{"$error":"#REF!"},{"$error":"#REF!"},{"$error":"#REF!"},{"$f":"VLOOKUP($A88,'5C1_NewType 2'!$A$7:$AX$44,COLUMN('5C1_NewType 2'!#REF!),FALSE)","v":{"$error":"#REF!"}},{"$error":"#REF!"},{"$error":"#REF!"},{"$f":"#REF!","v":{"$error":"#REF!"}},{"$error":"#REF!"}]
["W1B001","3B1001","Advantage Charter Academy",{"$f":"#REF!","v":{"$error":"#REF!"}},null,{"$f":"#REF!","v":{"$error":"#REF!"}},null,null,{"$f":"#REF!","v":{"$error":"#REF!"}},{"$f":"#REF!","v":{"$error":"#REF!"}},{"$f":"#REF!","v":{"$error":"#REF!"}},{"$f":"#REF!","v":{"$error":"#REF!"}},{"$f":"#REF!","v":{"$error":"#REF!"}},{"$f":"#REF!","v":{"$error":"#REF!"}},{"$f":"#REF!","v":{"$error":"#REF!"}},{"$f":"#REF!","v":{"$error":"#REF!"}},{"$error":"#REF!"},null,{"$f":"#REF!","v":{"$error":"#REF!"}},{"$f":"#REF!","v":{"$error":"#REF!"}},{"$f":"#REF!","v":{"$error":"#REF!"}},{"$f":"#REF!","v":{"$error":"#REF!"}},null,{"$f":"#REF!","v":{"$error":"#REF!"}},{"$f":"#REF!","v":{"$error":"#REF!"}},{"$f":"#REF!","v":{"$error":"#REF!"}},{"$f":"#REF!","v":{"$error":"#REF!"}},{"$f":"#REF!","v":{"$error":"#REF!"}},{"$f":"#REF!","v":{"$error":"#REF!"}},{"$f":"#REF!","v":{"$error":"#REF!"}},{"$f":"#REF!","v":{"$error":"#REF!"}},{"$f":"#REF!","v":{"$error":"#REF!"}},{"$f":"#REF!","v":{"$error":"#REF!"}},{"$f":"#REF!","v":{"$error":"#REF!"}},{"$f":"#REF!","v":{"$error":"#REF!"}},{"$f":"#REF!","v":{"$error":"#REF!"}},{"$f":"#REF!","v":{"$error":"#REF!"}},{"$f":"#REF!","v":{"$error":"#REF!"}},{"$error":"#REF!"},null,{"$f":"#REF!","v":{"$error":"#REF!"}},{"$f":"#REF!","v":{"$error":"#REF!"}},{"$f":"#REF!","v":{"$error":"#REF!"}},{"$f":"#REF!","v":{"$error":"#REF!"}},{"$f":"#REF!","v":{"$error":"#REF!"}},{"$f":"#REF!","v":{"$error":"#REF!"}},{"$f":"#REF!","v":{"$error":"#REF!"}},null,{"$f":"#REF!","v":{"$error":"#REF!"}},{"$f":"#REF!","v":{"$error":"#REF!"}},{"$f":"#REF!","v":{"$error":"#REF!"}},{"$f":"#REF!","v":{"$error":"#REF!"}},{"$f":"#REF!-AW89","v":{"$error":"#REF!"}},{"$f":"#REF!","v":{"$error":"#REF!"}},{"$f":"#REF!","v":{"$error":"#REF!"}},{"$f":"#REF!","v":{"$error":"#REF!"}},{"$error":"#REF!"},{"$error":"#REF!"},{"$error":"#REF!"},{"$f":"VLOOKUP($A89,'5C1_NewType 2'!$A$7:$AX$44,COLUMN('5C1_NewType 2'!#REF!),FALSE)","v":{"$error":"#REF!"}},{"$error":"#REF!"},{"$error":"#REF!"},{"$f":"#REF!","v":{"$error":"#REF!"}},{"$error":"#REF!"}]
["W1D001","W1D001","JCFA - Lafayette",{"$f":"#REF!","v":{"$error":"#REF!"}},null,{"$f":"#REF!","v":{"$error":"#REF!"}},null,null,{"$f":"#REF!","v":{"$error":"#REF!"}},{"$f":"#REF!","v":{"$error":"#REF!"}},{"$f":"#REF!","v":{"$error":"#REF!"}},{"$f":"#REF!","v":{"$error":"#REF!"}},{"$f":"#REF!","v":{"$error":"#REF!"}},{"$f":"#REF!","v":{"$error":"#REF!"}},{"$f":"#REF!","v":{"$error":"#REF!"}},{"$f":"#REF!","v":{"$error":"#REF!"}},{"$error":"#REF!"},null,{"$f":"#REF!","v":{"$error":"#REF!"}},{"$f":"#REF!","v":{"$error":"#REF!"}},{"$f":"#REF!","v":{"$error":"#REF!"}},{"$f":"#REF!","v":{"$error":"#REF!"}},null,{"$f":"#REF!","v":{"$error":"#REF!"}},{"$f":"#REF!","v":{"$error":"#REF!"}},{"$f":"#REF!","v":{"$error":"#REF!"}},{"$f":"#REF!","v":{"$error":"#REF!"}},{"$f":"#REF!","v":{"$error":"#REF!"}},{"$f":"#REF!","v":{"$error":"#REF!"}},{"$f":"#REF!","v":{"$error":"#REF!"}},{"$f":"#REF!","v":{"$error":"#REF!"}},{"$f":"#REF!","v":{"$error":"#REF!"}},{"$f":"#REF!","v":{"$error":"#REF!"}},{"$f":"#REF!","v":{"$error":"#REF!"}},{"$f":"#REF!","v":{"$error":"#REF!"}},{"$f":"#REF!","v":{"$error":"#REF!"}},{"$f":"#REF!","v":{"$error":"#REF!"}},{"$f":"#REF!","v":{"$error":"#REF!"}},{"$error":"#REF!"},null,{"$f":"#REF!","v":{"$error":"#REF!"}},{"$f":"#REF!","v":{"$error":"#REF!"}},{"$f":"#REF!","v":{"$error":"#REF!"}},{"$f":"#REF!","v":{"$error":"#REF!"}},{"$f":"#REF!","v":{"$error":"#REF!"}},{"$f":"#REF!","v":{"$error":"#REF!"}},{"$f":"#REF!","v":{"$error":"#REF!"}},null,{"$f":"#REF!","v":{"$error":"#REF!"}},{"$f":"#REF!","v":{"$error":"#REF!"}},{"$f":"#REF!","v":{"$error":"#REF!"}},{"$f":"#REF!","v":{"$error":"#REF!"}},{"$f":"#REF!-AW90","v":{"$error":"#REF!"}},{"$f":"#REF!","v":{"$error":"#REF!"}},{"$f":"#REF!","v":{"$error":"#REF!"}},{"$f":"#REF!","v":{"$error":"#REF!"}},{"$error":"#REF!"},{"$error":"#REF!"},{"$error":"#REF!"},{"$f":"VLOOKUP($A90,'5C1_NewType 2'!$A$7:$AX$44,COLUMN('5C1_NewType 2'!#REF!),FALSE)","v":{"$error":"#REF!"}},{"$error":"#REF!"},{"$error":"#REF!"},{"$f":"#REF!","v":{"$error":"#REF!"}},{"$error":"#REF!"}]
["W2B001","3B1002","Willow Charter Academy",{"$f":"#REF!","v":{"$error":"#REF!"}},null,{"$f":"#REF!","v":{"$error":"#REF!"}},null,null,{"$f":"#REF!","v":{"$error":"#REF!"}},{"$f":"#REF!","v":{"$error":"#REF!"}},{"$f":"#REF!","v":{"$error":"#REF!"}},{"$f":"#REF!","v":{"$error":"#REF!"}},{"$f":"#REF!","v":{"$error":"#REF!"}},{"$f":"#REF!","v":{"$error":"#REF!"}},{"$f":"#REF!","v":{"$error":"#REF!"}},{"$f":"#REF!","v":{"$error":"#REF!"}},{"$error":"#REF!"},null,{"$f":"#REF!","v":{"$error":"#REF!"}},{"$f":"#REF!","v":{"$error":"#REF!"}},{"$f":"#REF!","v":{"$error":"#REF!"}},{"$f":"#REF!","v":{"$error":"#REF!"}},null,{"$f":"#REF!","v":{"$error":"#REF!"}},{"$f":"#REF!","v":{"$error":"#REF!"}},{"$f":"#REF!","v":{"$error":"#REF!"}},{"$f":"#REF!","v":{"$error":"#REF!"}},{"$f":"#REF!","v":{"$error":"#REF!"}},{"$f":"#REF!","v":{"$error":"#REF!"}},{"$f":"#REF!","v":{"$error":"#REF!"}},{"$f":"#REF!","v":{"$error":"#REF!"}},{"$f":"#REF!","v":{"$error":"#REF!"}},{"$f":"#REF!","v":{"$error":"#REF!"}},{"$f":"#REF!","v":{"$error":"#REF!"}},{"$f":"#REF!","v":{"$error":"#REF!"}},{"$f":"#REF!","v":{"$error":"#REF!"}},{"$f":"#REF!","v":{"$error":"#REF!"}},{"$f":"#REF!","v":{"$error":"#REF!"}},{"$error":"#REF!"},null,{"$f":"#REF!","v":{"$error":"#REF!"}},{"$f":"#REF!","v":{"$error":"#REF!"}},{"$f":"#REF!","v":{"$error":"#REF!"}},{"$f":"#REF!","v":{"$error":"#REF!"}},{"$f":"#REF!","v":{"$error":"#REF!"}},{"$f":"#REF!","v":{"$error":"#REF!"}},{"$f":"#REF!","v":{"$error":"#REF!"}},null,{"$f":"#REF!","v":{"$error":"#REF!"}},{"$f":"#REF!","v":{"$error":"#REF!"}},{"$f":"#REF!","v":{"$error":"#REF!"}},{"$f":"#REF!","v":{"$error":"#REF!"}},{"$f":"#REF!-AW91","v":{"$error":"#REF!"}},{"$f":"#REF!","v":{"$error":"#REF!"}},{"$f":"#REF!","v":{"$error":"#REF!"}},{"$f":"#REF!","v":{"$error":"#REF!"}},{"$error":"#REF!"},{"$error":"#REF!"},{"$error":"#REF!"},{"$f":"VLOOKUP($A91,'5C1_NewType 2'!$A$7:$AX$44,COLUMN('5C1_NewType 2'!#REF!),FALSE)","v":{"$error":"#REF!"}},{"$error":"#REF!"},{"$error":"#REF!"},{"$f":"#REF!","v":{"$error":"#REF!"}},{"$error":"#REF!"}]
["W33001","W33001","Lincoln Prep School",{"$f":"#REF!","v":{"$error":"#REF!"}},null,{"$f":"#REF!","v":{"$error":"#REF!"}},null,null,{"$f":"#REF!","v":{"$error":"#REF!"}},{"$f":"#REF!","v":{"$error":"#REF!"}},{"$f":"#REF!","v":{"$error":"#REF!"}},{"$f":"#REF!","v":{"$error":"#REF!"}},{"$f":"#REF!","v":{"$error":"#REF!"}},{"$f":"#REF!","v":{"$error":"#REF!"}},{"$f":"#REF!","v":{"$error":"#REF!"}},{"$f":"#REF!","v":{"$error":"#REF!"}},{"$error":"#REF!"},null,{"$f":"#REF!","v":{"$error":"#REF!"}},{"$f":"#REF!","v":{"$error":"#REF!"}},{"$f":"#REF!","v":{"$error":"#REF!"}},{"$f":"#REF!","v":{"$error":"#REF!"}},null,{"$f":"#REF!","v":{"$error":"#REF!"}},{"$f":"#REF!","v":{"$error":"#REF!"}},{"$f":"#REF!","v":{"$error":"#REF!"}},{"$f":"#REF!","v":{"$error":"#REF!"}},{"$f":"#REF!","v":{"$error":"#REF!"}},{"$f":"#REF!","v":{"$error":"#REF!"}},{"$f":"#REF!","v":{"$error":"#REF!"}},{"$f":"#REF!","v":{"$error":"#REF!"}},{"$f":"#REF!","v":{"$error":"#REF!"}},{"$f":"#REF!","v":{"$error":"#REF!"}},{"$f":"#REF!","v":{"$error":"#REF!"}},{"$f":"#REF!","v":{"$error":"#REF!"}},{"$f":"#REF!","v":{"$error":"#REF!"}},{"$f":"#REF!","v":{"$error":"#REF!"}},{"$f":"#REF!","v":{"$error":"#REF!"}},{"$error":"#REF!"},null,{"$f":"#REF!","v":{"$error":"#REF!"}},{"$f":"#REF!","v":{"$error":"#REF!"}},{"$f":"#REF!","v":{"$error":"#REF!"}},{"$f":"#REF!","v":{"$error":"#REF!"}},{"$f":"#REF!","v":{"$error":"#REF!"}},{"$f":"#REF!","v":{"$error":"#REF!"}},{"$f":"#REF!","v":{"$error":"#REF!"}},null,{"$f":"#REF!","v":{"$error":"#REF!"}},{"$f":"#REF!","v":{"$error":"#REF!"}},{"$f":"#REF!","v":{"$error":"#REF!"}},{"$f":"#REF!","v":{"$error":"#REF!"}},{"$f":"#REF!-AW92","v":{"$error":"#REF!"}},{"$f":"#REF!","v":{"$error":"#REF!"}},{"$f":"#REF!","v":{"$error":"#REF!"}},{"$f":"#REF!","v":{"$error":"#REF!"}},{"$error":"#REF!"},{"$error":"#REF!"},{"$error":"#REF!"},{"$f":"VLOOKUP($A92,'5C1_NewType 2'!$A$7:$AX$44,COLUMN('5C1_NewType 2'!#REF!),FALSE)","v":{"$error":"#REF!"}},{"$error":"#REF!"},{"$error":"#REF!"},{"$f":"#REF!","v":{"$error":"#REF!"}},{"$error":"#REF!"}]
["W3B001","3A3002","Iberville Charter Academy",{"$f":"#REF!","v":{"$error":"#REF!"}},null,{"$f":"#REF!","v":{"$error":"#REF!"}},null,null,{"$f":"#REF!","v":{"$error":"#REF!"}},{"$f":"#REF!","v":{"$error":"#REF!"}},{"$f":"#REF!","v":{"$error":"#REF!"}},{"$f":"#REF!","v":{"$error":"#REF!"}},{"$f":"#REF!","v":{"$error":"#REF!"}},{"$f":"#REF!","v":{"$error":"#REF!"}},{"$f":"#REF!","v":{"$error":"#REF!"}},{"$f":"#REF!","v":{"$error":"#REF!"}},{"$error":"#REF!"},null,{"$f":"#REF!","v":{"$error":"#REF!"}},{"$f":"#REF!","v":{"$error":"#REF!"}},{"$f":"#REF!","v":{"$error":"#REF!"}},{"$f":"#REF!","v":{"$error":"#REF!"}},null,{"$f":"#REF!","v":{"$error":"#REF!"}},{"$f":"#REF!","v":{"$error":"#REF!"}},{"$f":"#REF!","v":{"$error":"#REF!"}},{"$f":"#REF!","v":{"$error":"#REF!"}},{"$f":"#REF!","v":{"$error":"#REF!"}},{"$f":"#REF!","v":{"$error":"#REF!"}},{"$f":"#REF!","v":{"$error":"#REF!"}},{"$f":"#REF!","v":{"$error":"#REF!"}},{"$f":"#REF!","v":{"$error":"#REF!"}},{"$f":"#REF!","v":{"$error":"#REF!"}},{"$f":"#REF!","v":{"$error":"#REF!"}},{"$f":"#REF!","v":{"$error":"#REF!"}},{"$f":"#REF!","v":{"$error":"#REF!"}},{"$f":"#REF!","v":{"$error":"#REF!"}},{"$f":"#REF!","v":{"$error":"#REF!"}},{"$error":"#REF!"},null,{"$f":"#REF!","v":{"$error":"#REF!"}},{"$f":"#REF!","v":{"$error":"#REF!"}},{"$f":"#REF!","v":{"$error":"#REF!"}},{"$f":"#REF!","v":{"$error":"#REF!"}},{"$f":"#REF!","v":{"$error":"#REF!"}},{"$f":"#REF!","v":{"$error":"#REF!"}},{"$f":"#REF!","v":{"$error":"#REF!"}},null,{"$f":"#REF!","v":{"$error":"#REF!"}},{"$f":"#REF!","v":{"$error":"#REF!"}},{"$f":"#REF!","v":{"$error":"#REF!"}},{"$f":"#REF!","v":{"$error":"#REF!"}},{"$f":"#REF!-AW93","v":{"$error":"#REF!"}},{"$f":"#REF!","v":{"$error":"#REF!"}},{"$f":"#REF!","v":{"$error":"#REF!"}},{"$f":"#REF!","v":{"$error":"#REF!"}},{"$error":"#REF!"},{"$error":"#REF!"},{"$error":"#REF!"},{"$f":"VLOOKUP($A93,'5C1_NewType 2'!$A$7:$AX$44,COLUMN('5C1_NewType 2'!#REF!),FALSE)","v":{"$error":"#REF!"}},{"$error":"#REF!"},{"$error":"#REF!"},{"$f":"#REF!","v":{"$error":"#REF!"}},{"$error":"#REF!"}]
["W4A001","3A4001","Delta Charter School ",{"$f":"#REF!","v":{"$error":"#REF!"}},null,{"$f":"#REF!","v":{"$error":"#REF!"}},null,null,{"$f":"#REF!","v":{"$error":"#REF!"}},{"$f":"#REF!","v":{"$error":"#REF!"}},{"$f":"#REF!","v":{"$error":"#REF!"}},{"$f":"#REF!","v":{"$error":"#REF!"}},{"$f":"#REF!","v":{"$error":"#REF!"}},{"$f":"#REF!","v":{"$error":"#REF!"}},{"$f":"#REF!","v":{"$error":"#REF!"}},{"$f":"#REF!","v":{"$error":"#REF!"}},{"$error":"#REF!"},null,{"$f":"#REF!","v":{"$error":"#REF!"}},{"$f":"#REF!","v":{"$error":"#REF!"}},{"$f":"#REF!","v":{"$error":"#REF!"}},{"$f":"#REF!","v":{"$error":"#REF!"}},null,{"$f":"#REF!","v":{"$error":"#REF!"}},{"$f":"#REF!","v":{"$error":"#REF!"}},{"$f":"#REF!","v":{"$error":"#REF!"}},{"$f":"#REF!","v":{"$error":"#REF!"}},{"$f":"#REF!","v":{"$error":"#REF!"}},{"$f":"#REF!","v":{"$error":"#REF!"}},{"$f":"#REF!","v":{"$error":"#REF!"}},{"$f":"#REF!","v":{"$error":"#REF!"}},{"$f":"#REF!","v":{"$error":"#REF!"}},{"$f":"#REF!","v":{"$error":"#REF!"}},{"$f":"#REF!","v":{"$error":"#REF!"}},{"$f":"#REF!","v":{"$error":"#REF!"}},{"$f":"#REF!","v":{"$error":"#REF!"}},{"$f":"#REF!","v":{"$error":"#REF!"}},{"$f":"#REF!","v":{"$error":"#REF!"}},{"$error":"#REF!"},null,{"$f":"#REF!","v":{"$error":"#REF!"}},{"$f":"#REF!","v":{"$error":"#REF!"}},{"$f":"#REF!","v":{"$error":"#REF!"}},{"$f":"#REF!","v":{"$error":"#REF!"}},{"$f":"#REF!","v":{"$error":"#REF!"}},{"$f":"#REF!","v":{"$error":"#REF!"}},{"$f":"#REF!","v":{"$error":"#REF!"}},null,{"$f":"#REF!","v":{"$error":"#REF!"}},{"$f":"#REF!","v":{"$error":"#REF!"}},{"$f":"#REF!","v":{"$error":"#REF!"}},{"$f":"#REF!","v":{"$error":"#REF!"}},{"$f":"#REF!-AW94","v":{"$error":"#REF!"}},{"$f":"#REF!","v":{"$error":"#REF!"}},{"$f":"#REF!","v":{"$error":"#REF!"}},{"$f":"#REF!","v":{"$error":"#REF!"}},{"$error":"#REF!"},{"$error":"#REF!"},{"$error":"#REF!"},{"$f":"VLOOKUP($A94,'5C1_NewType 2'!$A$7:$AX$44,COLUMN('5C1_NewType 2'!#REF!),FALSE)","v":{"$error":"#REF!"}},{"$error":"#REF!"},{"$error":"#REF!"},{"$f":"#REF!","v":{"$error":"#REF!"}},{"$error":"#REF!"}]
["W4B001",328002,"Lake Charles College Prep",{"$f":"#REF!","v":{"$error":"#REF!"}},null,{"$f":"#REF!","v":{"$error":"#REF!"}},null,null,{"$f":"#REF!","v":{"$error":"#REF!"}},{"$f":"#REF!","v":{"$error":"#REF!"}},{"$f":"#REF!","v":{"$error":"#REF!"}},{"$f":"#REF!","v":{"$error":"#REF!"}},{"$f":"#REF!","v":{"$error":"#REF!"}},{"$f":"#REF!","v":{"$error":"#REF!"}},{"$f":"#REF!","v":{"$error":"#REF!"}},{"$f":"#REF!","v":{"$error":"#REF!"}},{"$error":"#REF!"},null,{"$f":"#REF!","v":{"$error":"#REF!"}},{"$f":"#REF!","v":{"$error":"#REF!"}},{"$f":"#REF!","v":{"$error":"#REF!"}},{"$f":"#REF!","v":{"$error":"#REF!"}},null,{"$f":"#REF!","v":{"$error":"#REF!"}},{"$f":"#REF!","v":{"$error":"#REF!"}},{"$f":"#REF!","v":{"$error":"#REF!"}},{"$f":"#REF!","v":{"$error":"#REF!"}},{"$f":"#REF!","v":{"$error":"#REF!"}},{"$f":"#REF!","v":{"$error":"#REF!"}},{"$f":"#REF!","v":{"$error":"#REF!"}},{"$f":"#REF!","v":{"$error":"#REF!"}},{"$f":"#REF!","v":{"$error":"#REF!"}},{"$f":"#REF!","v":{"$error":"#REF!"}},{"$f":"#REF!","v":{"$error":"#REF!"}},{"$f":"#REF!","v":{"$error":"#REF!"}},{"$f":"#REF!","v":{"$error":"#REF!"}},{"$f":"#REF!","v":{"$error":"#REF!"}},{"$f":"#REF!","v":{"$error":"#REF!"}},{"$error":"#REF!"},null,{"$f":"#REF!","v":{"$error":"#REF!"}},{"$f":"#REF!","v":{"$error":"#REF!"}},{"$f":"#REF!","v":{"$error":"#REF!"}},{"$f":"#REF!","v":{"$error":"#REF!"}},{"$f":"#REF!","v":{"$error":"#REF!"}},{"$f":"#REF!","v":{"$error":"#REF!"}},{"$f":"#REF!","v":{"$error":"#REF!"}},null,{"$f":"#REF!","v":{"$error":"#REF!"}},{"$f":"#REF!","v":{"$error":"#REF!"}},{"$f":"#REF!","v":{"$error":"#REF!"}},{"$f":"#REF!","v":{"$error":"#REF!"}},{"$f":"#REF!-AW95","v":{"$error":"#REF!"}},{"$f":"#REF!","v":{"$error":"#REF!"}},{"$f":"#REF!","v":{"$error":"#REF!"}},{"$f":"#REF!","v":{"$error":"#REF!"}},{"$error":"#REF!"},{"$error":"#REF!"},{"$error":"#REF!"},{"$f":"VLOOKUP($A95,'5C1_NewType 2'!$A$7:$AX$44,COLUMN('5C1_NewType 2'!#REF!),FALSE)","v":{"$error":"#REF!"}},{"$error":"#REF!"},{"$error":"#REF!"},{"$f":"#REF!","v":{"$error":"#REF!"}},{"$error":"#REF!"}]
["W5B001","3B5001","Northeast Claiborne Charter",{"$f":"#REF!","v":{"$error":"#REF!"}},null,{"$f":"#REF!","v":{"$error":"#REF!"}},null,null,{"$f":"#REF!","v":{"$error":"#REF!"}},{"$f":"#REF!","v":{"$error":"#REF!"}},{"$f":"#REF!","v":{"$error":"#REF!"}},{"$f":"#REF!","v":{"$error":"#REF!"}},{"$f":"#REF!","v":{"$error":"#REF!"}},{"$f":"#REF!","v":{"$error":"#REF!"}},{"$f":"#REF!","v":{"$error":"#REF!"}},{"$f":"#REF!","v":{"$error":"#REF!"}},{"$error":"#REF!"},null,{"$f":"#REF!","v":{"$error":"#REF!"}},{"$f":"#REF!","v":{"$error":"#REF!"}},{"$f":"#REF!","v":{"$error":"#REF!"}},{"$f":"#REF!","v":{"$error":"#REF!"}},null,{"$f":"#REF!","v":{"$error":"#REF!"}},{"$f":"#REF!","v":{"$error":"#REF!"}},{"$f":"#REF!","v":{"$error":"#REF!"}},{"$f":"#REF!","v":{"$error":"#REF!"}},{"$f":"#REF!","v":{"$error":"#REF!"}},{"$f":"#REF!","v":{"$error":"#REF!"}},{"$f":"#REF!","v":{"$error":"#REF!"}},{"$f":"#REF!","v":{"$error":"#REF!"}},{"$f":"#REF!","v":{"$error":"#REF!"}},{"$f":"#REF!","v":{"$error":"#REF!"}},{"$f":"#REF!","v":{"$error":"#REF!"}},{"$f":"#REF!","v":{"$error":"#REF!"}},{"$f":"#REF!","v":{"$error":"#REF!"}},{"$f":"#REF!","v":{"$error":"#REF!"}},{"$f":"#REF!","v":{"$error":"#REF!"}},{"$error":"#REF!"},null,{"$f":"#REF!","v":{"$error":"#REF!"}},{"$f":"#REF!","v":{"$error":"#REF!"}},{"$f":"#REF!","v":{"$error":"#REF!"}},{"$f":"#REF!","v":{"$error":"#REF!"}},{"$f":"#REF!","v":{"$error":"#REF!"}},{"$f":"#REF!","v":{"$error":"#REF!"}},{"$f":"#REF!","v":{"$error":"#REF!"}},null,{"$f":"#REF!","v":{"$error":"#REF!"}},{"$f":"#REF!","v":{"$error":"#REF!"}},{"$f":"#REF!","v":{"$error":"#REF!"}},{"$f":"#REF!","v":{"$error":"#REF!"}},{"$f":"#REF!-AW96","v":{"$error":"#REF!"}},{"$f":"#REF!","v":{"$error":"#REF!"}},{"$f":"#REF!","v":{"$error":"#REF!"}},{"$f":"#REF!","v":{"$error":"#REF!"}},{"$error":"#REF!"},{"$error":"#REF!"},{"$error":"#REF!"},{"$f":"VLOOKUP($A96,'5C1_NewType 2'!$A$7:$AX$44,COLUMN('5C1_NewType 2'!#REF!),FALSE)","v":{"$error":"#REF!"}},{"$error":"#REF!"},{"$error":"#REF!"},{"$f":"#REF!","v":{"$error":"#REF!"}},{"$error":"#REF!"}]
["W6B001","3B6001","Acadiana Renaissance",{"$f":"#REF!","v":{"$error":"#REF!"}},null,{"$f":"#REF!","v":{"$error":"#REF!"}},null,null,{"$f":"#REF!","v":{"$error":"#REF!"}},{"$f":"#REF!","v":{"$error":"#REF!"}},{"$f":"#REF!","v":{"$error":"#REF!"}},{"$f":"#REF!","v":{"$error":"#REF!"}},{"$f":"#REF!","v":{"$error":"#REF!"}},{"$f":"#REF!","v":{"$error":"#REF!"}},{"$f":"#REF!","v":{"$error":"#REF!"}},{"$f":"#REF!","v":{"$error":"#REF!"}},{"$error":"#REF!"},null,{"$f":"#REF!","v":{"$error":"#REF!"}},{"$f":"#REF!","v":{"$error":"#REF!"}},{"$f":"#REF!","v":{"$error":"#REF!"}},{"$f":"#REF!","v":{"$error":"#REF!"}},null,{"$f":"#REF!","v":{"$error":"#REF!"}},{"$f":"#REF!","v":{"$error":"#REF!"}},{"$f":"#REF!","v":{"$error":"#REF!"}},{"$f":"#REF!","v":{"$error":"#REF!"}},{"$f":"#REF!","v":{"$error":"#REF!"}},{"$f":"#REF!","v":{"$error":"#REF!"}},{"$f":"#REF!","v":{"$error":"#REF!"}},{"$f":"#REF!","v":{"$error":"#REF!"}},{"$f":"#REF!","v":{"$error":"#REF!"}},{"$f":"#REF!","v":{"$error":"#REF!"}},{"$f":"#REF!","v":{"$error":"#REF!"}},{"$f":"#REF!","v":{"$error":"#REF!"}},{"$f":"#REF!","v":{"$error":"#REF!"}},{"$f":"#REF!","v":{"$error":"#REF!"}},{"$f":"#REF!","v":{"$error":"#REF!"}},{"$error":"#REF!"},null,{"$f":"#REF!","v":{"$error":"#REF!"}},{"$f":"#REF!","v":{"$error":"#REF!"}},{"$f":"#REF!","v":{"$error":"#REF!"}},{"$f":"#REF!","v":{"$error":"#REF!"}},{"$f":"#REF!","v":{"$error":"#REF!"}},{"$f":"#REF!","v":{"$error":"#REF!"}},{"$f":"#REF!","v":{"$error":"#REF!"}},null,{"$f":"#REF!","v":{"$error":"#REF!"}},{"$f":"#REF!","v":{"$error":"#REF!"}},{"$f":"#REF!","v":{"$error":"#REF!"}},{"$f":"#REF!","v":{"$error":"#REF!"}},{"$f":"#REF!-AW97","v":{"$error":"#REF!"}},{"$f":"#REF!","v":{"$error":"#REF!"}},{"$f":"#REF!","v":{"$error":"#REF!"}},{"$f":"#REF!","v":{"$error":"#REF!"}},{"$error":"#REF!"},{"$error":"#REF!"},{"$error":"#REF!"},{"$f":"VLOOKUP($A97,'5C1_NewType 2'!$A$7:$AX$44,COLUMN('5C1_NewType 2'!#REF!),FALSE)","v":{"$error":"#REF!"}},{"$error":"#REF!"},{"$error":"#REF!"},{"$f":"#REF!","v":{"$error":"#REF!"}},{"$error":"#REF!"}]
["W7A001","3A7001","Louisiana Key Academy ",{"$f":"#REF!","v":{"$error":"#REF!"}},null,{"$f":"#REF!","v":{"$error":"#REF!"}},null,null,{"$f":"#REF!","v":{"$error":"#REF!"}},{"$f":"#REF!","v":{"$error":"#REF!"}},{"$f":"#REF!","v":{"$error":"#REF!"}},{"$f":"#REF!","v":{"$error":"#REF!"}},{"$f":"#REF!","v":{"$error":"#REF!"}},{"$f":"#REF!","v":{"$error":"#REF!"}},{"$f":"#REF!","v":{"$error":"#REF!"}},{"$f":"#REF!","v":{"$error":"#REF!"}},{"$error":"#REF!"},null,{"$f":"#REF!","v":{"$error":"#REF!"}},{"$f":"#REF!","v":{"$error":"#REF!"}},{"$f":"#REF!","v":{"$error":"#REF!"}},{"$f":"#REF!","v":{"$error":"#REF!"}},null,{"$f":"#REF!","v":{"$error":"#REF!"}},{"$f":"#REF!","v":{"$error":"#REF!"}},{"$f":"#REF!","v":{"$error":"#REF!"}},{"$f":"#REF!","v":{"$error":"#REF!"}},{"$f":"#REF!","v":{"$error":"#REF!"}},{"$f":"#REF!","v":{"$error":"#REF!"}},{"$f":"#REF!","v":{"$error":"#REF!"}},{"$f":"#REF!","v":{"$error":"#REF!"}},{"$f":"#REF!","v":{"$error":"#REF!"}},{"$f":"#REF!","v":{"$error":"#REF!"}},{"$f":"#REF!","v":{"$error":"#REF!"}},{"$f":"#REF!","v":{"$error":"#REF!"}},{"$f":"#REF!","v":{"$error":"#REF!"}},{"$f":"#REF!","v":{"$error":"#REF!"}},{"$f":"#REF!","v":{"$error":"#REF!"}},{"$error":"#REF!"},null,{"$f":"#REF!","v":{"$error":"#REF!"}},{"$f":"#REF!","v":{"$error":"#REF!"}},{"$f":"#REF!","v":{"$error":"#REF!"}},{"$f":"#REF!","v":{"$error":"#REF!"}},{"$f":"#REF!","v":{"$error":"#REF!"}},{"$f":"#REF!","v":{"$error":"#REF!"}},{"$f":"#REF!","v":{"$error":"#REF!"}},null,{"$f":"#REF!","v":{"$error":"#REF!"}},{"$f":"#REF!","v":{"$error":"#REF!"}},{"$f":"#REF!","v":{"$error":"#REF!"}},{"$f":"#REF!","v":{"$error":"#REF!"}},{"$f":"#REF!-AW98","v":{"$error":"#REF!"}},{"$f":"#REF!","v":{"$error":"#REF!"}},{"$f":"#REF!","v":{"$error":"#REF!"}},{"$f":"#REF!","v":{"$error":"#REF!"}},{"$error":"#REF!"},{"$error":"#REF!"},{"$error":"#REF!"},{"$f":"VLOOKUP($A98,'5C1_NewType 2'!$A$7:$AX$44,COLUMN('5C1_NewType 2'!#REF!),FALSE)","v":{"$error":"#REF!"}},{"$error":"#REF!"},{"$error":"#REF!"},{"$f":"#REF!","v":{"$error":"#REF!"}},{"$error":"#REF!"}]
["W7B001","3B6002","Lafayette Renaissance",{"$f":"#REF!","v":{"$error":"#REF!"}},null,{"$f":"#REF!","v":{"$error":"#REF!"}},null,null,{"$f":"#REF!","v":{"$error":"#REF!"}},{"$f":"#REF!","v":{"$error":"#REF!"}},{"$f":"#REF!","v":{"$error":"#REF!"}},{"$f":"#REF!","v":{"$error":"#REF!"}},{"$f":"#REF!","v":{"$error":"#REF!"}},{"$f":"#REF!","v":{"$error":"#REF!"}},{"$f":"#REF!","v":{"$error":"#REF!"}},{"$f":"#REF!","v":{"$error":"#REF!"}},{"$error":"#REF!"},null,{"$f":"#REF!","v":{"$error":"#REF!"}},{"$f":"#REF!","v":{"$error":"#REF!"}},{"$f":"#REF!","v":{"$error":"#REF!"}},{"$f":"#REF!","v":{"$error":"#REF!"}},null,{"$f":"#REF!","v":{"$error":"#REF!"}},{"$f":"#REF!","v":{"$error":"#REF!"}},{"$f":"#REF!","v":{"$error":"#REF!"}},{"$f":"#REF!","v":{"$error":"#REF!"}},{"$f":"#REF!","v":{"$error":"#REF!"}},{"$f":"#REF!","v":{"$error":"#REF!"}},{"$f":"#REF!","v":{"$error":"#REF!"}},{"$f":"#REF!","v":{"$error":"#REF!"}},{"$f":"#REF!","v":{"$error":"#REF!"}},{"$f":"#REF!","v":{"$error":"#REF!"}},{"$f":"#REF!","v":{"$error":"#REF!"}},{"$f":"#REF!","v":{"$error":"#REF!"}},{"$f":"#REF!","v":{"$error":"#REF!"}},{"$f":"#REF!","v":{"$error":"#REF!"}},{"$f":"#REF!","v":{"$error":"#REF!"}},{"$error":"#REF!"},null,{"$f":"#REF!","v":{"$error":"#REF!"}},{"$f":"#REF!","v":{"$error":"#REF!"}},{"$f":"#REF!","v":{"$error":"#REF!"}},{"$f":"#REF!","v":{"$error":"#REF!"}},{"$f":"#REF!","v":{"$error":"#REF!"}},{"$f":"#REF!","v":{"$error":"#REF!"}},{"$f":"#REF!","v":{"$error":"#REF!"}},null,{"$f":"#REF!","v":{"$error":"#REF!"}},{"$f":"#REF!","v":{"$error":"#REF!"}},{"$f":"#REF!","v":{"$error":"#REF!"}},{"$f":"#REF!","v":{"$error":"#REF!"}},{"$f":"#REF!-AW99","v":{"$error":"#REF!"}},{"$f":"#REF!","v":{"$error":"#REF!"}},{"$f":"#REF!","v":{"$error":"#REF!"}},{"$f":"#REF!","v":{"$error":"#REF!"}},{"$error":"#REF!"},{"$error":"#REF!"},{"$error":"#REF!"},{"$f":"VLOOKUP($A99,'5C1_NewType 2'!$A$7:$AX$44,COLUMN('5C1_NewType 2'!#REF!),FALSE)","v":{"$error":"#REF!"}},{"$error":"#REF!"},{"$error":"#REF!"},{"$f":"#REF!","v":{"$error":"#REF!"}},{"$error":"#REF!"}]
["W8A001","3A8001","Impact Charter",{"$f":"#REF!","v":{"$error":"#REF!"}},null,{"$f":"#REF!","v":{"$error":"#REF!"}},null,null,{"$f":"#REF!","v":{"$error":"#REF!"}},{"$f":"#REF!","v":{"$error":"#REF!"}},{"$f":"#REF!","v":{"$error":"#REF!"}},{"$f":"#REF!","v":{"$error":"#REF!"}},{"$f":"#REF!","v":{"$error":"#REF!"}},{"$f":"#REF!","v":{"$error":"#REF!"}},{"$f":"#REF!","v":{"$error":"#REF!"}},{"$f":"#REF!","v":{"$error":"#REF!"}},{"$error":"#REF!"},null,{"$f":"#REF!","v":{"$error":"#REF!"}},{"$f":"#REF!","v":{"$error":"#REF!"}},{"$f":"#REF!","v":{"$error":"#REF!"}},{"$f":"#REF!","v":{"$error":"#REF!"}},null,{"$f":"#REF!","v":{"$error":"#REF!"}},{"$f":"#REF!","v":{"$error":"#REF!"}},{"$f":"#REF!","v":{"$error":"#REF!"}},{"$f":"#REF!","v":{"$error":"#REF!"}},{"$f":"#REF!","v":{"$error":"#REF!"}},{"$f":"#REF!","v":{"$error":"#REF!"}},{"$f":"#REF!","v":{"$error":"#REF!"}},{"$f":"#REF!","v":{"$error":"#REF!"}},{"$f":"#REF!","v":{"$error":"#REF!"}},{"$f":"#REF!","v":{"$error":"#REF!"}},{"$f":"#REF!","v":{"$error":"#REF!"}},{"$f":"#REF!","v":{"$error":"#REF!"}},{"$f":"#REF!","v":{"$error":"#REF!"}},{"$f":"#REF!","v":{"$error":"#REF!"}},{"$f":"#REF!","v":{"$error":"#REF!"}},{"$error":"#REF!"},null,{"$f":"#REF!","v":{"$error":"#REF!"}},{"$f":"#REF!","v":{"$error":"#REF!"}},{"$f":"#REF!","v":{"$error":"#REF!"}},{"$f":"#REF!","v":{"$error":"#REF!"}},{"$f":"#REF!","v":{"$error":"#REF!"}},{"$f":"#REF!","v":{"$error":"#REF!"}},{"$f":"#REF!","v":{"$error":"#REF!"}},null,{"$f":"#REF!","v":{"$error":"#REF!"}},{"$f":"#REF!","v":{"$error":"#REF!"}},{"$f":"#REF!","v":{"$error":"#REF!"}},{"$f":"#REF!","v":{"$error":"#REF!"}},{"$f":"#REF!-AW100","v":{"$error":"#REF!"}},{"$f":"#REF!","v":{"$error":"#REF!"}},{"$f":"#REF!","v":{"$error":"#REF!"}},{"$f":"#REF!","v":{"$error":"#REF!"}},{"$error":"#REF!"},{"$error":"#REF!"},{"$error":"#REF!"},{"$f":"VLOOKUP($A100,'5C1_NewType 2'!$A$7:$AX$44,COLUMN('5C1_NewType 2'!#REF!),FALSE)","v":{"$error":"#REF!"}},{"$error":"#REF!"},{"$error":"#REF!"},{"$f":"#REF!","v":{"$error":"#REF!"}},{"$error":"#REF!"}]
["WAG001",343002,"Louisiana Virtual Charter Academy (90%)",{"$f":"#REF!","v":{"$error":"#REF!"}},null,{"$f":"#REF!","v":{"$error":"#REF!"}},null,null,{"$f":"#REF!","v":{"$error":"#REF!"}},{"$f":"#REF!","v":{"$error":"#REF!"}},{"$f":"#REF!","v":{"$error":"#REF!"}},{"$f":"#REF!","v":{"$error":"#REF!"}},{"$f":"#REF!","v":{"$error":"#REF!"}},{"$f":"#REF!","v":{"$error":"#REF!"}},{"$f":"#REF!","v":{"$error":"#REF!"}},{"$f":"#REF!","v":{"$error":"#REF!"}},{"$error":"#REF!"},{"$f":"#REF!","v":{"$error":"#REF!"}},{"$f":"#REF!","v":{"$error":"#REF!"}},{"$f":"#REF!","v":{"$error":"#REF!"}},{"$f":"#REF!","v":{"$error":"#REF!"}},{"$f":"#REF!","v":{"$error":"#REF!"}},null,{"$f":"#REF!","v":{"$error":"#REF!"}},{"$f":"#REF!","v":{"$error":"#REF!"}},{"$f":"#REF!","v":{"$error":"#REF!"}},{"$f":"#REF!","v":{"$error":"#REF!"}},{"$f":"#REF!","v":{"$error":"#REF!"}},{"$f":"#REF!","v":{"$error":"#REF!"}},{"$f":"#REF!","v":{"$error":"#REF!"}},{"$f":"#REF!","v":{"$error":"#REF!"}},{"$f":"#REF!","v":{"$error":"#REF!"}},{"$f":"#REF!","v":{"$error":"#REF!"}},{"$f":"#REF!","v":{"$error":"#REF!"}},{"$f":"#REF!","v":{"$error":"#REF!"}},{"$f":"#REF!","v":{"$error":"#REF!"}},{"$f":"#REF!","v":{"$error":"#REF!"}},{"$f":"#REF!","v":{"$error":"#REF!"}},{"$error":"#REF!"},null,{"$f":"#REF!","v":{"$error":"#REF!"}},{"$f":"#REF!","v":{"$error":"#REF!"}},{"$f":"#REF!","v":{"$error":"#REF!"}},{"$f":"#REF!","v":{"$error":"#REF!"}},{"$f":"#REF!","v":{"$error":"#REF!"}},{"$f":"#REF!","v":{"$error":"#REF!"}},{"$f":"#REF!","v":{"$error":"#REF!"}},null,{"$f":"#REF!","v":{"$error":"#REF!"}},{"$f":"#REF!","v":{"$error":"#REF!"}},{"$f":"#REF!","v":{"$error":"#REF!"}},{"$f":"#REF!","v":{"$error":"#REF!"}},{"$f":"#REF!-AW101","v":{"$error":"#REF!"}},{"$f":"#REF!","v":{"$error":"#REF!"}},{"$f":"#REF!","v":{"$error":"#REF!"}},{"$f":"#REF!","v":{"$error":"#REF!"}},{"$error":"#REF!"},{"$error":"#REF!"},{"$error":"#REF!"},{"$f":"VLOOKUP($A101,'5C1_NewType 2'!$A$7:$AX$44,COLUMN('5C1_NewType 2'!#REF!),FALSE)","v":{"$error":"#REF!"}},{"$error":"#REF!"},{"$error":"#REF!"},{"$f":"#REF!","v":{"$error":"#REF!"}},{"$error":"#REF!"}]
["WAK001",328001,"Southwest LA Charter School ",{"$f":"#REF!","v":{"$error":"#REF!"}},null,{"$f":"#REF!","v":{"$error":"#REF!"}},null,null,{"$f":"#REF!","v":{"$error":"#REF!"}},{"$f":"#REF!","v":{"$error":"#REF!"}},{"$f":"#REF!","v":{"$error":"#REF!"}},{"$f":"#REF!","v":{"$error":"#REF!"}},{"$f":"#REF!","v":{"$error":"#REF!"}},{"$f":"#REF!","v":{"$error":"#REF!"}},{"$f":"#REF!","v":{"$error":"#REF!"}},{"$f":"#REF!","v":{"$error":"#REF!"}},{"$error":"#REF!"},null,{"$f":"#REF!","v":{"$error":"#REF!"}},{"$f":"#REF!","v":{"$error":"#REF!"}},{"$f":"#REF!","v":{"$error":"#REF!"}},{"$f":"#REF!","v":{"$error":"#REF!"}},null,{"$f":"#REF!","v":{"$error":"#REF!"}},{"$f":"#REF!","v":{"$error":"#REF!"}},{"$f":"#REF!","v":{"$error":"#REF!"}},{"$f":"#REF!","v":{"$error":"#REF!"}},{"$f":"#REF!","v":{"$error":"#REF!"}},{"$f":"#REF!","v":{"$error":"#REF!"}},{"$f":"#REF!","v":{"$error":"#REF!"}},{"$f":"#REF!","v":{"$error":"#REF!"}},{"$f":"#REF!","v":{"$error":"#REF!"}},{"$f":"#REF!","v":{"$error":"#REF!"}},{"$f":"#REF!","v":{"$error":"#REF!"}},{"$f":"#REF!","v":{"$error":"#REF!"}},{"$f":"#REF!","v":{"$error":"#REF!"}},{"$f":"#REF!","v":{"$error":"#REF!"}},{"$f":"#REF!","v":{"$error":"#REF!"}},{"$error":"#REF!"},null,{"$f":"#REF!","v":{"$error":"#REF!"}},{"$f":"#REF!","v":{"$error":"#REF!"}},{"$f":"#REF!","v":{"$error":"#REF!"}},{"$f":"#REF!","v":{"$error":"#REF!"}},{"$f":"#REF!","v":{"$error":"#REF!"}},{"$f":"#REF!","v":{"$error":"#REF!"}},{"$f":"#REF!","v":{"$error":"#REF!"}},null,{"$f":"#REF!","v":{"$error":"#REF!"}},{"$f":"#REF!","v":{"$error":"#REF!"}},{"$f":"#REF!","v":{"$error":"#REF!"}},{"$f":"#REF!","v":{"$error":"#REF!"}},{"$f":"#REF!-AW102","v":{"$error":"#REF!"}},{"$f":"#REF!","v":{"$error":"#REF!"}},{"$f":"#REF!","v":{"$error":"#REF!"}},{"$f":"#REF!","v":{"$error":"#REF!"}},{"$error":"#REF!"},{"$error":"#REF!"},{"$error":"#REF!"},{"$f":"VLOOKUP($A102,'5C1_NewType 2'!$A$7:$AX$44,COLUMN('5C1_NewType 2'!#REF!),FALSE)","v":{"$error":"#REF!"}},{"$error":"#REF!"},{"$error":"#REF!"},{"$f":"#REF!","v":{"$error":"#REF!"}},{"$error":"#REF!"}]
["WAL001",349001,"J. S. Clark Leadership Academy ",{"$f":"#REF!","v":{"$error":"#REF!"}},null,{"$f":"#REF!","v":{"$error":"#REF!"}},null,null,{"$f":"#REF!","v":{"$error":"#REF!"}},{"$f":"#REF!","v":{"$error":"#REF!"}},{"$f":"#REF!","v":{"$error":"#REF!"}},{"$f":"#REF!","v":{"$error":"#REF!"}},{"$f":"#REF!","v":{"$error":"#REF!"}},{"$f":"#REF!","v":{"$error":"#REF!"}},{"$f":"#REF!","v":{"$error":"#REF!"}},{"$f":"#REF!","v":{"$error":"#REF!"}},{"$error":"#REF!"},null,{"$f":"#REF!","v":{"$error":"#REF!"}},{"$f":"#REF!","v":{"$error":"#REF!"}},{"$f":"#REF!","v":{"$error":"#REF!"}},{"$f":"#REF!","v":{"$error":"#REF!"}},null,{"$f":"#REF!","v":{"$error":"#REF!"}},{"$f":"#REF!","v":{"$error":"#REF!"}},{"$f":"#REF!","v":{"$error":"#REF!"}},{"$f":"#REF!","v":{"$error":"#REF!"}},{"$f":"#REF!","v":{"$error":"#REF!"}},{"$f":"#REF!","v":{"$error":"#REF!"}},{"$f":"#REF!","v":{"$error":"#REF!"}},{"$f":"#REF!","v":{"$error":"#REF!"}},{"$f":"#REF!","v":{"$error":"#REF!"}},{"$f":"#REF!","v":{"$error":"#REF!"}},{"$f":"#REF!","v":{"$error":"#REF!"}},{"$f":"#REF!","v":{"$error":"#REF!"}},{"$f":"#REF!","v":{"$error":"#REF!"}},{"$f":"#REF!","v":{"$error":"#REF!"}},{"$f":"#REF!","v":{"$error":"#REF!"}},{"$error":"#REF!"},null,{"$f":"#REF!","v":{"$error":"#REF!"}},{"$f":"#REF!","v":{"$error":"#REF!"}},{"$f":"#REF!","v":{"$error":"#REF!"}},{"$f":"#REF!","v":{"$error":"#REF!"}},{"$f":"#REF!","v":{"$error":"#REF!"}},{"$f":"#REF!","v":{"$error":"#REF!"}},{"$f":"#REF!","v":{"$error":"#REF!"}},null,{"$f":"#REF!","v":{"$error":"#REF!"}},{"$f":"#REF!","v":{"$error":"#REF!"}},{"$f":"#REF!","v":{"$error":"#REF!"}},{"$f":"#REF!","v":{"$error":"#REF!"}},{"$f":"#REF!-AW103","v":{"$error":"#REF!"}},{"$f":"#REF!","v":{"$error":"#REF!"}},{"$f":"#REF!","v":{"$error":"#REF!"}},{"$f":"#REF!","v":{"$error":"#REF!"}},{"$error":"#REF!"},{"$error":"#REF!"},{"$error":"#REF!"},{"$f":"VLOOKUP($A103,'5C1_NewType 2'!$A$7:$AX$44,COLUMN('5C1_NewType 2'!#REF!),FALSE)","v":{"$error":"#REF!"}},{"$error":"#REF!"},{"$error":"#REF!"},{"$f":"#REF!","v":{"$error":"#REF!"}},{"$error":"#REF!"}]
["WAU001","WAU001","GEO Prep Academy",{"$f":"#REF!","v":{"$error":"#REF!"}},null,{"$f":"#REF!","v":{"$error":"#REF!"}},null,null,{"$f":"#REF!","v":{"$error":"#REF!"}},{"$f":"#REF!","v":{"$error":"#REF!"}},{"$f":"#REF!","v":{"$error":"#REF!"}},{"$f":"#REF!","v":{"$error":"#REF!"}},{"$f":"#REF!","v":{"$error":"#REF!"}},{"$f":"#REF!","v":{"$error":"#REF!"}},{"$f":"#REF!","v":{"$error":"#REF!"}},{"$f":"#REF!","v":{"$error":"#REF!"}},{"$error":"#REF!"},null,{"$f":"#REF!","v":{"$error":"#REF!"}},{"$f":"#REF!","v":{"$error":"#REF!"}},{"$f":"#REF!","v":{"$error":"#REF!"}},{"$f":"#REF!","v":{"$error":"#REF!"}},null,{"$f":"#REF!","v":{"$error":"#REF!"}},{"$f":"#REF!","v":{"$error":"#REF!"}},{"$f":"#REF!","v":{"$error":"#REF!"}},{"$f":"#REF!","v":{"$error":"#REF!"}},{"$f":"#REF!","v":{"$error":"#REF!"}},{"$f":"#REF!","v":{"$error":"#REF!"}},{"$f":"#REF!","v":{"$error":"#REF!"}},{"$f":"#REF!","v":{"$error":"#REF!"}},{"$f":"#REF!","v":{"$error":"#REF!"}},{"$f":"#REF!","v":{"$error":"#REF!"}},{"$f":"#REF!","v":{"$error":"#REF!"}},{"$f":"#REF!","v":{"$error":"#REF!"}},{"$f":"#REF!","v":{"$error":"#REF!"}},{"$f":"#REF!","v":{"$error":"#REF!"}},{"$f":"#REF!","v":{"$error":"#REF!"}},{"$error":"#REF!"},null,{"$f":"#REF!","v":{"$error":"#REF!"}},{"$f":"#REF!","v":{"$error":"#REF!"}},{"$f":"#REF!","v":{"$error":"#REF!"}},{"$f":"#REF!","v":{"$error":"#REF!"}},{"$f":"#REF!","v":{"$error":"#REF!"}},{"$f":"#REF!","v":{"$error":"#REF!"}},{"$f":"#REF!","v":{"$error":"#REF!"}},null,{"$f":"#REF!","v":{"$error":"#REF!"}},{"$f":"#REF!","v":{"$error":"#REF!"}},{"$f":"#REF!","v":{"$error":"#REF!"}},{"$f":"#REF!","v":{"$error":"#REF!"}},{"$f":"#REF!-AW104","v":{"$error":"#REF!"}},{"$f":"#REF!","v":{"$error":"#REF!"}},{"$f":"#REF!","v":{"$error":"#REF!"}},{"$f":"#REF!","v":{"$error":"#REF!"}},{"$error":"#REF!"},{"$error":"#REF!"},{"$error":"#REF!"},{"$f":"VLOOKUP($A104,'5C1_NewType 2'!$A$7:$AX$44,COLUMN('5C1_NewType 2'!#REF!),FALSE)","v":{"$error":"#REF!"}},{"$error":"#REF!"},{"$error":"#REF!"},{"$f":"#REF!","v":{"$error":"#REF!"}},{"$error":"#REF!"}]
["WBQ001","WBQ001","New Harmony High School",{"$f":"#REF!","v":{"$error":"#REF!"}},null,{"$f":"#REF!","v":{"$error":"#REF!"}},null,null,{"$f":"#REF!","v":{"$error":"#REF!"}},{"$f":"#REF!","v":{"$error":"#REF!"}},{"$f":"#REF!","v":{"$error":"#REF!"}},{"$f":"#REF!","v":{"$error":"#REF!"}},{"$f":"#REF!","v":{"$error":"#REF!"}},{"$f":"#REF!","v":{"$error":"#REF!"}},{"$f":"#REF!","v":{"$error":"#REF!"}},{"$f":"#REF!","v":{"$error":"#REF!"}},{"$error":"#REF!"},null,{"$f":"#REF!","v":{"$error":"#REF!"}},{"$f":"#REF!","v":{"$error":"#REF!"}},{"$f":"#REF!","v":{"$error":"#REF!"}},{"$f":"#REF!","v":{"$error":"#REF!"}},null,{"$f":"#REF!","v":{"$error":"#REF!"}},{"$f":"#REF!","v":{"$error":"#REF!"}},{"$f":"#REF!","v":{"$error":"#REF!"}},{"$f":"#REF!","v":{"$error":"#REF!"}},{"$f":"#REF!","v":{"$error":"#REF!"}},{"$f":"#REF!","v":{"$error":"#REF!"}},{"$f":"#REF!","v":{"$error":"#REF!"}},{"$f":"#REF!","v":{"$error":"#REF!"}},{"$f":"#REF!","v":{"$error":"#REF!"}},{"$f":"#REF!","v":{"$error":"#REF!"}},{"$f":"#REF!","v":{"$error":"#REF!"}},{"$f":"#REF!","v":{"$error":"#REF!"}},{"$f":"#REF!","v":{"$error":"#REF!"}},{"$f":"#REF!","v":{"$error":"#REF!"}},{"$f":"#REF!","v":{"$error":"#REF!"}},{"$error":"#REF!"},null,{"$f":"#REF!","v":{"$error":"#REF!"}},{"$f":"#REF!","v":{"$error":"#REF!"}},{"$f":"#REF!","v":{"$error":"#REF!"}},{"$f":"#REF!","v":{"$error":"#REF!"}},{"$f":"#REF!","v":{"$error":"#REF!"}},{"$f":"#REF!","v":{"$error":"#REF!"}},{"$f":"#REF!","v":{"$error":"#REF!"}},null,{"$f":"#REF!","v":{"$error":"#REF!"}},{"$f":"#REF!","v":{"$error":"#REF!"}},{"$f":"#REF!","v":{"$error":"#REF!"}},{"$f":"#REF!","v":{"$error":"#REF!"}},{"$f":"#REF!-AW105","v":{"$error":"#REF!"}},{"$f":"#REF!","v":{"$error":"#REF!"}},{"$f":"#REF!","v":{"$error":"#REF!"}},{"$f":"#REF!","v":{"$error":"#REF!"}},{"$error":"#REF!"},{"$error":"#REF!"},{"$error":"#REF!"},{"$f":"VLOOKUP($A105,'5C1_NewType 2'!$A$7:$AX$44,COLUMN('5C1_NewType 2'!#REF!),FALSE)","v":{"$error":"#REF!"}},{"$error":"#REF!"},{"$error":"#REF!"},{"$f":"#REF!","v":{"$error":"#REF!"}},{"$error":"#REF!"}]
["WBR001","WBR001","Athlos Academy of Jefferson Parish",{"$f":"#REF!","v":{"$error":"#REF!"}},null,{"$f":"#REF!","v":{"$error":"#REF!"}},null,null,{"$f":"#REF!","v":{"$error":"#REF!"}},{"$f":"#REF!","v":{"$error":"#REF!"}},{"$f":"#REF!","v":{"$error":"#REF!"}},{"$f":"#REF!","v":{"$error":"#REF!"}},{"$f":"#REF!","v":{"$error":"#REF!"}},{"$f":"#REF!","v":{"$error":"#REF!"}},{"$f":"#REF!","v":{"$error":"#REF!"}},{"$f":"#REF!","v":{"$error":"#REF!"}},{"$error":"#REF!"},null,{"$f":"#REF!","v":{"$error":"#REF!"}},{"$f":"#REF!","v":{"$error":"#REF!"}},{"$f":"#REF!","v":{"$error":"#REF!"}},{"$f":"#REF!","v":{"$error":"#REF!"}},null,{"$f":"#REF!","v":{"$error":"#REF!"}},{"$f":"#REF!","v":{"$error":"#REF!"}},{"$f":"#REF!","v":{"$error":"#REF!"}},{"$f":"#REF!","v":{"$error":"#REF!"}},{"$f":"#REF!","v":{"$error":"#REF!"}},{"$f":"#REF!","v":{"$error":"#REF!"}},{"$f":"#REF!","v":{"$error":"#REF!"}},{"$f":"#REF!","v":{"$error":"#REF!"}},{"$f":"#REF!","v":{"$error":"#REF!"}},{"$f":"#REF!","v":{"$error":"#REF!"}},{"$f":"#REF!","v":{"$error":"#REF!"}},{"$f":"#REF!","v":{"$error":"#REF!"}},{"$f":"#REF!","v":{"$error":"#REF!"}},{"$f":"#REF!","v":{"$error":"#REF!"}},{"$f":"#REF!","v":{"$error":"#REF!"}},{"$error":"#REF!"},null,{"$f":"#REF!","v":{"$error":"#REF!"}},{"$f":"#REF!","v":{"$error":"#REF!"}},{"$f":"#REF!","v":{"$error":"#REF!"}},{"$f":"#REF!","v":{"$error":"#REF!"}},{"$f":"#REF!","v":{"$error":"#REF!"}},{"$f":"#REF!","v":{"$error":"#REF!"}},{"$f":"#REF!","v":{"$error":"#REF!"}},null,{"$f":"#REF!","v":{"$error":"#REF!"}},{"$f":"#REF!","v":{"$error":"#REF!"}},{"$f":"#REF!","v":{"$error":"#REF!"}},{"$f":"#REF!","v":{"$error":"#REF!"}},{"$f":"#REF!-AW106","v":{"$error":"#REF!"}},{"$f":"#REF!","v":{"$error":"#REF!"}},{"$f":"#REF!","v":{"$error":"#REF!"}},{"$f":"#REF!","v":{"$error":"#REF!"}},{"$error":"#REF!"},{"$error":"#REF!"},{"$error":"#REF!"},{"$f":"VLOOKUP($A106,'5C1_NewType 2'!$A$7:$AX$44,COLUMN('5C1_NewType 2'!#REF!),FALSE)","v":{"$error":"#REF!"}},{"$error":"#REF!"},{"$error":"#REF!"},{"$f":"#REF!","v":{"$error":"#REF!"}},{"$error":"#REF!"}]
["WBX001","WBX001","GEO Next Generation HS ",{"$f":"#REF!","v":{"$error":"#REF!"}},null,{"$f":"#REF!","v":{"$error":"#REF!"}},null,null,{"$f":"#REF!","v":{"$error":"#REF!"}},{"$f":"#REF!","v":{"$error":"#REF!"}},{"$f":"#REF!","v":{"$error":"#REF!"}},{"$f":"#REF!","v":{"$error":"#REF!"}},{"$f":"#REF!","v":{"$error":"#REF!"}},{"$f":"#REF!","v":{"$error":"#REF!"}},{"$f":"#REF!","v":{"$error":"#REF!"}},{"$f":"#REF!","v":{"$error":"#REF!"}},{"$error":"#REF!"},null,{"$f":"#REF!","v":{"$error":"#REF!"}},{"$f":"#REF!","v":{"$error":"#REF!"}},{"$f":"#REF!","v":{"$error":"#REF!"}},{"$f":"#REF!","v":{"$error":"#REF!"}},null,{"$f":"#REF!","v":{"$error":"#REF!"}},{"$f":"#REF!","v":{"$error":"#REF!"}},{"$f":"#REF!","v":{"$error":"#REF!"}},{"$f":"#REF!","v":{"$error":"#REF!"}},{"$f":"#REF!","v":{"$error":"#REF!"}},{"$f":"#REF!","v":{"$error":"#REF!"}},{"$f":"#REF!","v":{"$error":"#REF!"}},{"$f":"#REF!","v":{"$error":"#REF!"}},{"$f":"#REF!","v":{"$error":"#REF!"}},{"$f":"#REF!","v":{"$error":"#REF!"}},{"$f":"#REF!","v":{"$error":"#REF!"}},{"$f":"#REF!","v":{"$error":"#REF!"}},{"$f":"#REF!","v":{"$error":"#REF!"}},{"$f":"#REF!","v":{"$error":"#REF!"}},{"$f":"#REF!","v":{"$error":"#REF!"}},{"$error":"#REF!"},null,{"$f":"#REF!","v":{"$error":"#REF!"}},{"$f":"#REF!","v":{"$error":"#REF!"}},{"$f":"#REF!","v":{"$error":"#REF!"}},{"$f":"#REF!","v":{"$error":"#REF!"}},{"$f":"#REF!","v":{"$error":"#REF!"}},{"$f":"#REF!","v":{"$error":"#REF!"}},{"$f":"#REF!","v":{"$error":"#REF!"}},null,{"$f":"#REF!","v":{"$error":"#REF!"}},{"$f":"#REF!","v":{"$error":"#REF!"}},{"$f":"#REF!","v":{"$error":"#REF!"}},{"$f":"#REF!","v":{"$error":"#REF!"}},{"$f":"#REF!-AW107","v":{"$error":"#REF!"}},{"$f":"#REF!","v":{"$error":"#REF!"}},{"$f":"#REF!","v":{"$error":"#REF!"}},{"$f":"#REF!","v":{"$error":"#REF!"}},{"$error":"#REF!"},{"$error":"#REF!"},{"$error":"#REF!"},{"$f":"VLOOKUP($A107,'5C1_NewType 2'!$A$7:$AX$44,COLUMN('5C1_NewType 2'!#REF!),FALSE)","v":{"$error":"#REF!"}},{"$error":"#REF!"},{"$error":"#REF!"},{"$f":"#REF!","v":{"$error":"#REF!"}},{"$error":"#REF!"}]
["WBY001","WBY001","Red River Charter Academy",{"$f":"#REF!","v":{"$error":"#REF!"}},null,{"$f":"#REF!","v":{"$error":"#REF!"}},null,null,{"$f":"#REF!","v":{"$error":"#REF!"}},{"$f":"#REF!","v":{"$error":"#REF!"}},{"$f":"#REF!","v":{"$error":"#REF!"}},{"$f":"#REF!","v":{"$error":"#REF!"}},{"$f":"#REF!","v":{"$error":"#REF!"}},{"$f":"#REF!","v":{"$error":"#REF!"}},{"$f":"#REF!","v":{"$error":"#REF!"}},{"$f":"#REF!","v":{"$error":"#REF!"}},{"$error":"#REF!"},null,{"$f":"#REF!","v":{"$error":"#REF!"}},{"$f":"#REF!","v":{"$error":"#REF!"}},{"$f":"#REF!","v":{"$error":"#REF!"}},{"$f":"#REF!","v":{"$error":"#REF!"}},null,{"$f":"#REF!","v":{"$error":"#REF!"}},{"$f":"#REF!","v":{"$error":"#REF!"}},{"$f":"#REF!","v":{"$error":"#REF!"}},{"$f":"#REF!","v":{"$error":"#REF!"}},{"$f":"#REF!","v":{"$error":"#REF!"}},{"$f":"#REF!","v":{"$error":"#REF!"}},{"$f":"#REF!","v":{"$error":"#REF!"}},{"$f":"#REF!","v":{"$error":"#REF!"}},{"$f":"#REF!","v":{"$error":"#REF!"}},{"$f":"#REF!","v":{"$error":"#REF!"}},{"$f":"#REF!","v":{"$error":"#REF!"}},{"$f":"#REF!","v":{"$error":"#REF!"}},{"$f":"#REF!","v":{"$error":"#REF!"}},{"$f":"#REF!","v":{"$error":"#REF!"}},{"$f":"#REF!","v":{"$error":"#REF!"}},{"$error":"#REF!"},null,{"$f":"#REF!","v":{"$error":"#REF!"}},{"$f":"#REF!","v":{"$error":"#REF!"}},{"$f":"#REF!","v":{"$error":"#REF!"}},{"$f":"#REF!","v":{"$error":"#REF!"}},{"$f":"#REF!","v":{"$error":"#REF!"}},{"$f":"#REF!","v":{"$error":"#REF!"}},{"$f":"#REF!","v":{"$error":"#REF!"}},null,{"$f":"#REF!","v":{"$error":"#REF!"}},{"$f":"#REF!","v":{"$error":"#REF!"}},{"$f":"#REF!","v":{"$error":"#REF!"}},{"$f":"#REF!","v":{"$error":"#REF!"}},{"$f":"#REF!-AW108","v":{"$error":"#REF!"}},{"$f":"#REF!","v":{"$error":"#REF!"}},{"$f":"#REF!","v":{"$error":"#REF!"}},{"$f":"#REF!","v":{"$error":"#REF!"}},{"$error":"#REF!"},{"$error":"#REF!"},{"$error":"#REF!"},{"$f":"VLOOKUP($A108,'5C1_NewType 2'!$A$7:$AX$44,COLUMN('5C1_NewType 2'!#REF!),FALSE)","v":{"$error":"#REF!"}},{"$error":"#REF!"},{"$error":"#REF!"},{"$f":"#REF!","v":{"$error":"#REF!"}},{"$error":"#REF!"}]
["WJ5001","WJ5001","Collegiate Academies",{"$f":"#REF!","v":{"$error":"#REF!"}},null,{"$f":"#REF!","v":{"$error":"#REF!"}},null,null,{"$f":"#REF!","v":{"$error":"#REF!"}},{"$f":"#REF!","v":{"$error":"#REF!"}},{"$f":"#REF!","v":{"$error":"#REF!"}},{"$f":"#REF!","v":{"$error":"#REF!"}},{"$f":"#REF!","v":{"$error":"#REF!"}},{"$f":"#REF!","v":{"$error":"#REF!"}},{"$f":"#REF!","v":{"$error":"#REF!"}},{"$f":"#REF!","v":{"$error":"#REF!"}},{"$error":"#REF!"},null,{"$f":"#REF!","v":{"$error":"#REF!"}},{"$f":"#REF!","v":{"$error":"#REF!"}},{"$f":"#REF!","v":{"$error":"#REF!"}},{"$f":"#REF!","v":{"$error":"#REF!"}},null,{"$f":"#REF!","v":{"$error":"#REF!"}},{"$f":"#REF!","v":{"$error":"#REF!"}},{"$f":"#REF!","v":{"$error":"#REF!"}},{"$f":"#REF!","v":{"$error":"#REF!"}},{"$f":"#REF!","v":{"$error":"#REF!"}},{"$f":"#REF!","v":{"$error":"#REF!"}},{"$f":"#REF!","v":{"$error":"#REF!"}},{"$f":"#REF!","v":{"$error":"#REF!"}},{"$f":"#REF!","v":{"$error":"#REF!"}},{"$f":"#REF!","v":{"$error":"#REF!"}},{"$f":"#REF!","v":{"$error":"#REF!"}},{"$f":"#REF!","v":{"$error":"#REF!"}},{"$f":"#REF!","v":{"$error":"#REF!"}},{"$f":"#REF!","v":{"$error":"#REF!"}},{"$f":"#REF!","v":{"$error":"#REF!"}},{"$error":"#REF!"},null,{"$f":"#REF!","v":{"$error":"#REF!"}},{"$f":"#REF!","v":{"$error":"#REF!"}},{"$f":"#REF!","v":{"$error":"#REF!"}},{"$f":"#REF!","v":{"$error":"#REF!"}},{"$f":"#REF!","v":{"$error":"#REF!"}},{"$f":"#REF!","v":{"$error":"#REF!"}},{"$f":"#REF!","v":{"$error":"#REF!"}},null,{"$f":"#REF!","v":{"$error":"#REF!"}},{"$f":"#REF!","v":{"$error":"#REF!"}},{"$f":"#REF!","v":{"$error":"#REF!"}},{"$f":"#REF!","v":{"$error":"#REF!"}},{"$f":"#REF!-AW109","v":{"$error":"#REF!"}},{"$f":"#REF!","v":{"$error":"#REF!"}},{"$f":"#REF!","v":{"$error":"#REF!"}},{"$f":"#REF!","v":{"$error":"#REF!"}},{"$error":"#REF!"},{"$error":"#REF!"},{"$error":"#REF!"},{"$f":"VLOOKUP($A109,'5C1_NewType 2'!$A$7:$AX$44,COLUMN('5C1_NewType 2'!#REF!),FALSE)","v":{"$error":"#REF!"}},{"$error":"#REF!"},{"$error":"#REF!"},{"$f":"#REF!","v":{"$error":"#REF!"}},{"$error":"#REF!"}]
["WZ8001","3A3001","GEO Prep Mid-City of Great BR",{"$f":"#REF!","v":{"$error":"#REF!"}},null,{"$f":"#REF!","v":{"$error":"#REF!"}},null,null,{"$f":"#REF!","v":{"$error":"#REF!"}},{"$f":"#REF!","v":{"$error":"#REF!"}},{"$f":"#REF!","v":{"$error":"#REF!"}},{"$f":"#REF!","v":{"$error":"#REF!"}},{"$f":"#REF!","v":{"$error":"#REF!"}},{"$f":"#REF!","v":{"$error":"#REF!"}},{"$f":"#REF!","v":{"$error":"#REF!"}},{"$f":"#REF!","v":{"$error":"#REF!"}},{"$error":"#REF!"},null,{"$f":"#REF!","v":{"$error":"#REF!"}},{"$f":"#REF!","v":{"$error":"#REF!"}},{"$f":"#REF!","v":{"$error":"#REF!"}},{"$f":"#REF!","v":{"$error":"#REF!"}},null,{"$f":"#REF!","v":{"$error":"#REF!"}},{"$f":"#REF!","v":{"$error":"#REF!"}},{"$f":"#REF!","v":{"$error":"#REF!"}},{"$f":"#REF!","v":{"$error":"#REF!"}},{"$f":"#REF!","v":{"$error":"#REF!"}},{"$f":"#REF!","v":{"$error":"#REF!"}},{"$f":"#REF!","v":{"$error":"#REF!"}},{"$f":"#REF!","v":{"$error":"#REF!"}},{"$f":"#REF!","v":{"$error":"#REF!"}},{"$f":"#REF!","v":{"$error":"#REF!"}},{"$f":"#REF!","v":{"$error":"#REF!"}},{"$f":"#REF!","v":{"$error":"#REF!"}},{"$f":"#REF!","v":{"$error":"#REF!"}},{"$f":"#REF!","v":{"$error":"#REF!"}},{"$f":"#REF!","v":{"$error":"#REF!"}},{"$error":"#REF!"},null,{"$f":"#REF!","v":{"$error":"#REF!"}},{"$f":"#REF!","v":{"$error":"#REF!"}},{"$f":"#REF!","v":{"$error":"#REF!"}},{"$f":"#REF!","v":{"$error":"#REF!"}},{"$f":"#REF!","v":{"$error":"#REF!"}},{"$f":"#REF!","v":{"$error":"#REF!"}},{"$f":"#REF!","v":{"$error":"#REF!"}},null,{"$f":"#REF!","v":{"$error":"#REF!"}},{"$f":"#REF!","v":{"$error":"#REF!"}},{"$f":"#REF!","v":{"$error":"#REF!"}},{"$f":"#REF!","v":{"$error":"#REF!"}},{"$f":"#REF!-AW110","v":{"$error":"#REF!"}},{"$f":"#REF!","v":{"$error":"#REF!"}},{"$f":"#REF!","v":{"$error":"#REF!"}},{"$f":"#REF!","v":{"$error":"#REF!"}},{"$error":"#REF!"},{"$error":"#REF!"},{"$error":"#REF!"},{"$f":"VLOOKUP($A110,'5C1_NewType 2'!$A$7:$AX$44,COLUMN('5C1_NewType 2'!#REF!),FALSE)","v":{"$error":"#REF!"}},{"$error":"#REF!"},{"$error":"#REF!"},{"$f":"#REF!","v":{"$error":"#REF!"}},{"$error":"#REF!"}]
[null,null,"Total New Type 2 Charter Schools",{"$f":"SUM(D78:D110)","v":{"$error":"#REF!"}},null,{"$f":"SUM(F78:F110)","v":{"$error":"#REF!"}},null,{"$f":"SUM(H78:H110)","v":0},{"$error":"#REF!"},{"$error":"#REF!"},{"$error":"#REF!"},{"$error":"#REF!"},{"$error":"#REF!"},{"$error":"#REF!"},{"$error":"#REF!"},{"$error":"#REF!"},{"$error":"#REF!"},{"$error":"#REF!"},{"$error":"#REF!"},{"$error":"#REF!"},{"$error":"#REF!"},{"$error":"#REF!"},0,{"$error":"#REF!"},{"$error":"#REF!"},{"$error":"#REF!"},{"$error":"#REF!"},{"$error":"#REF!"},{"$error":"#REF!"},{"$error":"#REF!"},{"$error":"#REF!"},{"$error":"#REF!"},{"$error":"#REF!"},{"$error":"#REF!"},{"$error":"#REF!"},{"$error":"#REF!"},{"$error":"#REF!"},{"$f":"SUM(AL78:AL110)","v":{"$error":"#REF!"}},{"$f":"SUM(AM78:AM110)","v":{"$error":"#REF!"}},null,{"$f":"SUM(AO78:AO110)","v":{"$error":"#REF!"}},{"$error":"#REF!"},{"$error":"#REF!"},{"$error":"#REF!"},{"$error":"#REF!"},{"$error":"#REF!"},{"$error":"#REF!"},0,{"$error":"#REF!"},{"$error":"#REF!"},{"$error":"#REF!"},{"$error":"#REF!"},{"$error":"#REF!"},{"$error":"#REF!"},{"$error":"#REF!"},{"$error":"#REF!"},{"$error":"#REF!"},{"$error":"#REF!"},{"$error":"#REF!"},{"$error":"#REF!"},{"$error":"#REF!"},{"$error":"#REF!"},{"$error":"#REF!"},{"$error":"#REF!"}]
[]
[396211,"WX1001","Linwood Public Charter (RSD Operated)",{"$f":"#REF!","v":{"$error":"#REF!"}},{"$f":"#REF!","v":{"$error":"#REF!"}},{"$f":"#REF!","v":{"$error":"#REF!"}},{"$f":"#REF!","v":{"$error":"#REF!"}},{"$f":"#REF!","v":{"$error":"#REF!"}},null,null,null,null,null,null,null,null,{"$f":"F113+H113+J113+L113+N113+P113","v":{"$error":"#REF!"}},null,{"$f":"#REF!","v":{"$error":"#REF!"}},{"$f":"#REF!","v":{"$error":"#REF!"}},{"$f":"#REF!","v":{"$error":"#REF!"}},{"$f":"#REF!","v":{"$error":"#REF!"}},{"$f":"#REF!","v":{"$error":"#REF!"}},{"$f":"#REF!","v":{"$error":"#REF!"}},{"$f":"#REF!","v":{"$error":"#REF!"}},{"$f":"#REF!","v":{"$error":"#REF!"}},{"$f":"#REF!","v":{"$error":"#REF!"}},{"$f":"#REF!","v":{"$error":"#REF!"}},{"$f":"#REF!","v":{"$error":"#REF!"}},{"$f":"#REF!","v":{"$error":"#REF!"}},{"$f":"#REF!","v":{"$error":"#REF!"}},{"$f":"#REF!","v":{"$error":"#REF!"}},{"$f":"#REF!","v":{"$error":"#REF!"}},{"$f":"#REF!","v":{"$error":"#REF!"}},{"$f":"#REF!","v":{"$error":"#REF!"}},{"$f":"#REF!","v":{"$error":"#REF!"}},{"$f":"#REF!","v":{"$error":"#REF!"}},{"$f":"#REF!","v":{"$error":"#REF!"}},{"$f":"AL113-W113-X113","v":{"$error":"#REF!"}},{"$f":"#REF!","v":{"$error":"#REF!"}},{"$f":"#REF!","v":{"$error":"#REF!"}},{"$f":"#REF!","v":{"$error":"#REF!"}},{"$f":"#REF!","v":{"$error":"#REF!"}},{"$f":"#REF!","v":{"$error":"#REF!"}},{"$f":"#REF!","v":{"$error":"#REF!"}},{"$f":"#REF!","v":{"$error":"#REF!"}},{"$f":"#REF!","v":{"$error":"#REF!"}},{"$f":"#REF!","v":{"$error":"#REF!"}},{"$f":"#REF!","v":{"$error":"#REF!"}},{"$f":"#REF!","v":{"$error":"#REF!"}},{"$f":"#REF!","v":{"$error":"#REF!"}},{"$f":"#REF!","v":{"$error":"#REF!"}},{"$f":"#REF!-AV113-AW113","v":{"$error":"#REF!"}},{"$f":"#REF!","v":{"$error":"#REF!"}},{"$f":"#REF!","v":{"$error":"#REF!"}},{"$f":"#REF!","v":{"$error":"#REF!"}},{"$f":"AM113+BA113","v":{"$error":"#REF!"}},{"$f":"AH113+BD113","v":{"$error":"#REF!"}},{"$f":"-W120","v":{"$error":"#REF!"}},125292,{"$f":"BG113-BH113","v":{"$error":"#REF!"}},{"$f":"-AV120","v":{"$error":"#REF!"}},197714,{"$f":"BJ113-BK113","v":{"$error":"#REF!"}},"1.75 to RSD"]
["WA7001","W9B001","Capitol High School (RSD Operated)",{"$f":"#REF!","v":{"$error":"#REF!"}},{"$f":"#REF!","v":{"$error":"#REF!"}},{"$f":"#REF!","v":{"$error":"#REF!"}},{"$f":"#REF!","v":{"$error":"#REF!"}},{"$f":"#REF!","v":{"$error":"#REF!"}},null,null,null,null,null,null,null,null,{"$error":"#REF!"},null,{"$f":"#REF!","v":{"$error":"#REF!"}},{"$f":"#REF!","v":{"$error":"#REF!"}},{"$f":"#REF!","v":{"$error":"#REF!"}},{"$f":"#REF!","v":{"$error":"#REF!"}},{"$f":"#REF!","v":{"$error":"#REF!"}},{"$f":"#REF!","v":{"$error":"#REF!"}},{"$f":"#REF!","v":{"$error":"#REF!"}},{"$f":"#REF!","v":{"$error":"#REF!"}},{"$f":"#REF!","v":{"$error":"#REF!"}},{"$f":"#REF!","v":{"$error":"#REF!"}},{"$f":"#REF!","v":{"$error":"#REF!"}},{"$f":"#REF!","v":{"$error":"#REF!"}},{"$f":"#REF!","v":{"$error":"#REF!"}},{"$f":"#REF!","v":{"$error":"#REF!"}},{"$f":"#REF!","v":{"$error":"#REF!"}},{"$f":"#REF!","v":{"$error":"#REF!"}},{"$f":"#REF!","v":{"$error":"#REF!"}},{"$f":"#REF!","v":{"$error":"#REF!"}},{"$f":"#REF!","v":{"$error":"#REF!"}},{"$f":"#REF!","v":{"$error":"#REF!"}},{"$error":"#REF!"},{"$f":"#REF!","v":{"$error":"#REF!"}},{"$f":"#REF!","v":{"$error":"#REF!"}},{"$f":"#REF!","v":{"$error":"#REF!"}},{"$f":"#REF!","v":{"$error":"#REF!"}},{"$f":"#REF!","v":{"$error":"#REF!"}},{"$f":"#REF!","v":{"$error":"#REF!"}},{"$f":"#REF!","v":{"$error":"#REF!"}},{"$f":"#REF!","v":{"$error":"#REF!"}},{"$f":"#REF!","v":{"$error":"#REF!"}},{"$f":"#REF!","v":{"$error":"#REF!"}},{"$f":"#REF!","v":{"$error":"#REF!"}},{"$f":"#REF!","v":{"$error":"#REF!"}},{"$f":"#REF!","v":{"$error":"#REF!"}},{"$f":"#REF!-AV114-AW114","v":{"$error":"#REF!"}},{"$f":"#REF!","v":{"$error":"#REF!"}},{"$f":"#REF!","v":{"$error":"#REF!"}},{"$f":"#REF!","v":{"$error":"#REF!"}},{"$error":"#REF!"},{"$error":"#REF!"}]
["WAO001","3AP003","Celerity Dalton Charter School",{"$f":"#REF!","v":{"$error":"#REF!"}},{"$f":"#REF!","v":{"$error":"#REF!"}},{"$f":"#REF!","v":{"$error":"#REF!"}},{"$f":"#REF!","v":{"$error":"#REF!"}},{"$f":"#REF!","v":{"$error":"#REF!"}},null,null,null,null,null,null,null,null,{"$error":"#REF!"},null,{"$f":"#REF!","v":{"$error":"#REF!"}},{"$f":"#REF!","v":{"$error":"#REF!"}},{"$f":"#REF!","v":{"$error":"#REF!"}},{"$f":"#REF!","v":{"$error":"#REF!"}},{"$f":"#REF!","v":{"$error":"#REF!"}},{"$f":"#REF!","v":{"$error":"#REF!"}},{"$f":"#REF!","v":{"$error":"#REF!"}},{"$f":"#REF!","v":{"$error":"#REF!"}},{"$f":"#REF!","v":{"$error":"#REF!"}},{"$f":"#REF!","v":{"$error":"#REF!"}},{"$f":"#REF!","v":{"$error":"#REF!"}},{"$f":"#REF!","v":{"$error":"#REF!"}},{"$f":"#REF!","v":{"$error":"#REF!"}},{"$f":"#REF!","v":{"$error":"#REF!"}},{"$f":"#REF!","v":{"$error":"#REF!"}},{"$f":"#REF!","v":{"$error":"#REF!"}},{"$f":"#REF!","v":{"$error":"#REF!"}},{"$f":"#REF!","v":{"$error":"#REF!"}},{"$f":"#REF!","v":{"$error":"#REF!"}},{"$f":"#REF!","v":{"$error":"#REF!"}},{"$error":"#REF!"},{"$f":"#REF!","v":{"$error":"#REF!"}},{"$f":"#REF!","v":{"$error":"#REF!"}},{"$f":"#REF!","v":{"$error":"#REF!"}},{"$f":"#REF!","v":{"$error":"#REF!"}},{"$f":"#REF!","v":{"$error":"#REF!"}},{"$f":"#REF!","v":{"$error":"#REF!"}},{"$f":"#REF!","v":{"$error":"#REF!"}},{"$f":"#REF!","v":{"$error":"#REF!"}},{"$f":"#REF!","v":{"$error":"#REF!"}},{"$f":"#REF!","v":{"$error":"#REF!"}},{"$f":"#REF!","v":{"$error":"#REF!"}},{"$f":"#REF!","v":{"$error":"#REF!"}},{"$f":"#REF!","v":{"$error":"#REF!"}},{"$f":"#REF!-AV115-AW115","v":{"$error":"#REF!"}},{"$f":"#REF!","v":{"$error":"#REF!"}},{"$f":"#REF!","v":{"$error":"#REF!"}},{"$f":"#REF!","v":{"$error":"#REF!"}},{"$error":"#REF!"},{"$error":"#REF!"},{"$f":"-X115","v":{"$error":"#REF!"}},2480,{"$f":"BG115-BH115","v":{"$error":"#REF!"}},{"$f":"-AW115","v":{"$error":"#REF!"}},3914,{"$f":"BJ115-BK115","v":{"$error":"#REF!"}}]
["WAP001","3AP001","Celerity Lanier Charter School",{"$f":"#REF!","v":{"$error":"#REF!"}},{"$f":"#REF!","v":{"$error":"#REF!"}},{"$f":"#REF!","v":{"$error":"#REF!"}},{"$f":"#REF!","v":{"$error":"#REF!"}},{"$f":"#REF!","v":{"$error":"#REF!"}},null,null,null,null,null,null,null,null,{"$error":"#REF!"},null,{"$f":"#REF!","v":{"$error":"#REF!"}},{"$f":"#REF!","v":{"$error":"#REF!"}},{"$f":"#REF!","v":{"$error":"#REF!"}},{"$f":"#REF!","v":{"$error":"#REF!"}},{"$f":"#REF!","v":{"$error":"#REF!"}},{"$f":"#REF!","v":{"$error":"#REF!"}},{"$f":"#REF!","v":{"$error":"#REF!"}},{"$f":"#REF!","v":{"$error":"#REF!"}},{"$f":"#REF!","v":{"$error":"#REF!"}},{"$f":"#REF!","v":{"$error":"#REF!"}},{"$f":"#REF!","v":{"$error":"#REF!"}},{"$f":"#REF!","v":{"$error":"#REF!"}},{"$f":"#REF!","v":{"$error":"#REF!"}},{"$f":"#REF!","v":{"$error":"#REF!"}},{"$f":"#REF!","v":{"$error":"#REF!"}},{"$f":"#REF!","v":{"$error":"#REF!"}},{"$f":"#REF!","v":{"$error":"#REF!"}},{"$f":"#REF!","v":{"$error":"#REF!"}},{"$f":"#REF!","v":{"$error":"#REF!"}},{"$f":"#REF!","v":{"$error":"#REF!"}},{"$error":"#REF!"},{"$f":"#REF!","v":{"$error":"#REF!"}},{"$f":"#REF!","v":{"$error":"#REF!"}},{"$f":"#REF!","v":{"$error":"#REF!"}},{"$f":"#REF!","v":{"$error":"#REF!"}},{"$f":"#REF!","v":{"$error":"#REF!"}},{"$f":"#REF!","v":{"$error":"#REF!"}},{"$f":"#REF!","v":{"$error":"#REF!"}},{"$f":"#REF!","v":{"$error":"#REF!"}},{"$f":"#REF!","v":{"$error":"#REF!"}},{"$f":"#REF!","v":{"$error":"#REF!"}},{"$f":"#REF!","v":{"$error":"#REF!"}},{"$f":"#REF!","v":{"$error":"#REF!"}},{"$f":"#REF!","v":{"$error":"#REF!"}},{"$f":"#REF!-AV116-AW116","v":{"$error":"#REF!"}},{"$f":"#REF!","v":{"$error":"#REF!"}},{"$f":"#REF!","v":{"$error":"#REF!"}},{"$f":"#REF!","v":{"$error":"#REF!"}},{"$error":"#REF!"},{"$error":"#REF!"},{"$f":"-X116","v":{"$error":"#REF!"}},2733,{"$f":"BG116-BH116","v":{"$error":"#REF!"}},{"$f":"-AW116","v":{"$error":"#REF!"}},4312,{"$f":"BJ116-BK116","v":{"$error":"#REF!"}}]
["WAV001","WAV001","Democracy Prep",{"$f":"#REF!","v":{"$error":"#REF!"}},{"$f":"#REF!","v":{"$error":"#REF!"}},{"$f":"#REF!","v":{"$error":"#REF!"}},{"$f":"#REF!","v":{"$error":"#REF!"}},{"$f":"#REF!","v":{"$error":"#REF!"}},null,null,null,null,null,null,null,null,{"$error":"#REF!"},null,{"$f":"#REF!","v":{"$error":"#REF!"}},{"$f":"#REF!","v":{"$error":"#REF!"}},{"$f":"#REF!","v":{"$error":"#REF!"}},{"$f":"#REF!","v":{"$error":"#REF!"}},{"$f":"#REF!","v":{"$error":"#REF!"}},{"$f":"#REF!","v":{"$error":"#REF!"}},{"$f":"#REF!","v":{"$error":"#REF!"}},{"$f":"#REF!","v":{"$error":"#REF!"}},{"$f":"#REF!","v":{"$error":"#REF!"}},{"$f":"#REF!","v":{"$error":"#REF!"}},{"$f":"#REF!","v":{"$error":"#REF!"}},{"$f":"#REF!","v":{"$error":"#REF!"}},{"$f":"#REF!","v":{"$error":"#REF!"}},{"$f":"#REF!","v":{"$error":"#REF!"}},{"$f":"#REF!","v":{"$error":"#REF!"}},{"$f":"#REF!","v":{"$error":"#REF!"}},{"$f":"#REF!","v":{"$error":"#REF!"}},{"$f":"#REF!","v":{"$error":"#REF!"}},{"$f":"#REF!","v":{"$error":"#REF!"}},{"$f":"#REF!","v":{"$error":"#REF!"}},{"$error":"#REF!"},{"$f":"#REF!","v":{"$error":"#REF!"}},{"$f":"#REF!","v":{"$error":"#REF!"}},{"$f":"#REF!","v":{"$error":"#REF!"}},{"$f":"#REF!","v":{"$error":"#REF!"}},{"$f":"#REF!","v":{"$error":"#REF!"}},{"$f":"#REF!","v":{"$error":"#REF!"}},{"$f":"#REF!","v":{"$error":"#REF!"}},{"$f":"#REF!","v":{"$error":"#REF!"}},{"$f":"#REF!","v":{"$error":"#REF!"}},{"$f":"#REF!","v":{"$error":"#REF!"}},{"$f":"#REF!","v":{"$error":"#REF!"}},{"$f":"#REF!","v":{"$error":"#REF!"}},{"$f":"#REF!","v":{"$error":"#REF!"}},{"$f":"#REF!-AV117-AW117","v":{"$error":"#REF!"}},{"$f":"#REF!","v":{"$error":"#REF!"}},{"$f":"#REF!","v":{"$error":"#REF!"}},{"$f":"#REF!","v":{"$error":"#REF!"}},{"$error":"#REF!"},{"$error":"#REF!"},{"$f":"-X117","v":{"$error":"#REF!"}},5761,{"$f":"BG117-BH117","v":{"$error":"#REF!"}},{"$f":"-AW117","v":{"$error":"#REF!"}},9092,{"$f":"BJ117-BK117","v":{"$error":"#REF!"}}]
["WB2001",389002,"Kenilworth Middle",{"$f":"#REF!","v":{"$error":"#REF!"}},{"$f":"#REF!","v":{"$error":"#REF!"}},{"$f":"#REF!","v":{"$error":"#REF!"}},{"$f":"#REF!","v":{"$error":"#REF!"}},{"$f":"#REF!","v":{"$error":"#REF!"}},null,null,null,null,null,null,null,null,{"$error":"#REF!"},null,{"$f":"#REF!","v":{"$error":"#REF!"}},{"$f":"#REF!","v":{"$error":"#REF!"}},{"$f":"#REF!","v":{"$error":"#REF!"}},{"$f":"#REF!","v":{"$error":"#REF!"}},{"$f":"#REF!","v":{"$error":"#REF!"}},{"$f":"#REF!","v":{"$error":"#REF!"}},{"$f":"#REF!","v":{"$error":"#REF!"}},{"$f":"#REF!","v":{"$error":"#REF!"}},{"$f":"#REF!","v":{"$error":"#REF!"}},{"$f":"#REF!","v":{"$error":"#REF!"}},{"$f":"#REF!","v":{"$error":"#REF!"}},{"$f":"#REF!","v":{"$error":"#REF!"}},{"$f":"#REF!","v":{"$error":"#REF!"}},{"$f":"#REF!","v":{"$error":"#REF!"}},{"$f":"#REF!","v":{"$error":"#REF!"}},{"$f":"#REF!","v":{"$error":"#REF!"}},{"$f":"#REF!","v":{"$error":"#REF!"}},{"$f":"#REF!","v":{"$error":"#REF!"}},{"$f":"#REF!","v":{"$error":"#REF!"}},{"$f":"#REF!","v":{"$error":"#REF!"}},{"$error":"#REF!"},{"$f":"#REF!","v":{"$error":"#REF!"}},{"$f":"#REF!","v":{"$error":"#REF!"}},{"$f":"#REF!","v":{"$error":"#REF!"}},{"$f":"#REF!","v":{"$error":"#REF!"}},{"$f":"#REF!","v":{"$error":"#REF!"}},{"$f":"#REF!","v":{"$error":"#REF!"}},{"$f":"#REF!","v":{"$error":"#REF!"}},{"$f":"#REF!","v":{"$error":"#REF!"}},{"$f":"#REF!","v":{"$error":"#REF!"}},{"$f":"#REF!","v":{"$error":"#REF!"}},{"$f":"#REF!","v":{"$error":"#REF!"}},{"$f":"#REF!","v":{"$error":"#REF!"}},{"$f":"#REF!","v":{"$error":"#REF!"}},{"$f":"#REF!-AV118-AW118","v":{"$error":"#REF!"}},{"$f":"#REF!","v":{"$error":"#REF!"}},{"$f":"#REF!","v":{"$error":"#REF!"}},{"$f":"#REF!","v":{"$error":"#REF!"}},{"$error":"#REF!"},{"$error":"#REF!"},{"$f":"-X118","v":{"$error":"#REF!"}},4269,{"$f":"BG118-BH118","v":{"$error":"#REF!"}},{"$f":"-AW118","v":{"$error":"#REF!"}},6737,{"$f":"BJ118-BK118","v":{"$error":"#REF!"}}]
["WYA001","3AP004","Celerity Glen Oaks",{"$f":"#REF!","v":{"$error":"#REF!"}},{"$f":"#REF!","v":{"$error":"#REF!"}},{"$f":"#REF!","v":{"$error":"#REF!"}},{"$f":"#REF!","v":{"$error":"#REF!"}},{"$f":"#REF!","v":{"$error":"#REF!"}},null,null,null,null,null,null,null,null,{"$error":"#REF!"},null,{"$f":"#REF!","v":{"$error":"#REF!"}},{"$f":"#REF!","v":{"$error":"#REF!"}},{"$f":"#REF!","v":{"$error":"#REF!"}},{"$f":"#REF!","v":{"$error":"#REF!"}},{"$f":"#REF!","v":{"$error":"#REF!"}},{"$f":"#REF!","v":{"$error":"#REF!"}},{"$f":"#REF!","v":{"$error":"#REF!"}},{"$f":"#REF!","v":{"$error":"#REF!"}},{"$f":"#REF!","v":{"$error":"#REF!"}},{"$f":"#REF!","v":{"$error":"#REF!"}},{"$f":"#REF!","v":{"$error":"#REF!"}},{"$f":"#REF!","v":{"$error":"#REF!"}},{"$f":"#REF!","v":{"$error":"#REF!"}},{"$f":"#REF!","v":{"$error":"#REF!"}},{"$f":"#REF!","v":{"$error":"#REF!"}},{"$f":"#REF!","v":{"$error":"#REF!"}},{"$f":"#REF!","v":{"$error":"#REF!"}},{"$f":"#REF!","v":{"$error":"#REF!"}},{"$f":"#REF!","v":{"$error":"#REF!"}},{"$f":"#REF!","v":{"$error":"#REF!"}},{"$error":"#REF!"},{"$f":"#REF!","v":{"$error":"#REF!"}},{"$f":"#REF!","v":{"$error":"#REF!"}},{"$f":"#REF!","v":{"$error":"#REF!"}},{"$f":"#REF!","v":{"$error":"#REF!"}},{"$f":"#REF!","v":{"$error":"#REF!"}},{"$f":"#REF!","v":{"$error":"#REF!"}},{"$f":"#REF!","v":{"$error":"#REF!"}},{"$f":"#REF!","v":{"$error":"#REF!"}},{"$f":"#REF!","v":{"$error":"#REF!"}},{"$f":"#REF!","v":{"$error":"#REF!"}},{"$f":"#REF!","v":{"$error":"#REF!"}},{"$f":"#REF!","v":{"$error":"#REF!"}},{"$f":"#REF!","v":{"$error":"#REF!"}},{"$f":"#REF!-AV119-AW119","v":{"$error":"#REF!"}},{"$f":"#REF!","v":{"$error":"#REF!"}},{"$f":"#REF!","v":{"$error":"#REF!"}},{"$f":"#REF!","v":{"$error":"#REF!"}},{"$error":"#REF!"},{"$error":"#REF!"},{"$f":"-X119","v":{"$error":"#REF!"}},2656,{"$f":"BG119-BH119","v":{"$error":"#REF!"}},{"$f":"-AW119","v":{"$error":"#REF!"}},4191,{"$f":"BJ119-BK119","v":{"$error":"#REF!"}}]
[null,null,"Total Type 5 Charters - LA",{"$f":"SUM(D113:D119)","v":{"$error":"#REF!"}},null,{"$f":"SUM(F113:F119)","v":{"$error":"#REF!"}},null,{"$f":"SUM(H113:H119)","v":{"$error":"#REF!"}},0,0,0,0,0,0,0,0,{"$error":"#REF!"},0,{"$error":"#REF!"},{"$error":"#REF!"},{"$error":"#REF!"},{"$error":"#REF!"},{"$error":"#REF!"},{"$error":"#REF!"},{"$error":"#REF!"},{"$error":"#REF!"},{"$error":"#REF!"},{"$error":"#REF!"},{"$f":"SUM(AC113:AC119)","v":{"$error":"#REF!"}},{"$f":"SUM(AD113:AD119)","v":{"$error":"#REF!"}},{"$error":"#REF!"},{"$error":"#REF!"},{"$error":"#REF!"},{"$error":"#REF!"},{"$error":"#REF!"},{"$error":"#REF!"},{"$error":"#REF!"},{"$error":"#REF!"},{"$error":"#REF!"},null,{"$f":"SUM(AO113:AO119)","v":{"$error":"#REF!"}},{"$error":"#REF!"},{"$error":"#REF!"},{"$error":"#REF!"},{"$error":"#REF!"},{"$error":"#REF!"},{"$error":"#REF!"},{"$error":"#REF!"},{"$error":"#REF!"},{"$error":"#REF!"},{"$error":"#REF!"},{"$error":"#REF!"},{"$error":"#REF!"},{"$error":"#REF!"},{"$error":"#REF!"},{"$error":"#REF!"},{"$error":"#REF!"},{"$error":"#REF!"},{"$error":"#REF!"},143191,{"$error":"#REF!"},{"$error":"#REF!"},225960,{"$error":"#REF!"}]
[]
[null,null,"Total Table 3",{"$f":"D76+D111+D120","v":{"$error":"#REF!"}},null,{"$f":"F76+F111+F120","v":{"$error":"#REF!"}},null,{"$f":"H76+H111+H120","v":{"$error":"#REF!"}},{"$error":"#REF!"},{"$error":"#REF!"},{"$error":"#REF!"},{"$error":"#REF!"},{"$error":"#REF!"},{"$error":"#REF!"},{"$error":"#REF!"},{"$error":"#REF!"},{"$error":"#REF!"},{"$error":"#REF!"},{"$error":"#REF!"},{"$error":"#REF!"},{"$error":"#REF!"},{"$error":"#REF!"},{"$error":"#REF!"},{"$error":"#REF!"},{"$error":"#REF!"},{"$error":"#REF!"},{"$error":"#REF!"},{"$error":"#REF!"},{"$error":"#REF!"},{"$error":"#REF!"},{"$error":"#REF!"},{"$error":"#REF!"},{"$error":"#REF!"},{"$error":"#REF!"},{"$error":"#REF!"},{"$error":"#REF!"},{"$error":"#REF!"},{"$f":"AL76+AL111+AL120","v":{"$error":"#REF!"}},{"$f":"AM76+AM111+AM120","v":{"$error":"#REF!"}},null,{"$f":"AO76+AO111+AO120","v":{"$error":"#REF!"}},{"$error":"#REF!"},{"$error":"#REF!"},{"$error":"#REF!"},{"$error":"#REF!"},{"$error":"#REF!"},{"$error":"#REF!"},{"$error":"#REF!"},{"$error":"#REF!"},{"$error":"#REF!"},{"$error":"#REF!"},{"$error":"#REF!"},{"$error":"#REF!"},{"$error":"#REF!"},{"$error":"#REF!"},{"$error":"#REF!"},{"$error":"#REF!"},{"$error":"#REF!"}]
[]
[318,318001,"LSU Lab School",{"$f":"'5A1_Labs'!$C$7","v":1463},{"$f":"'5A1_Labs'!$D$7","v":4756.3184019594255},{"$f":"'5A1_Labs'!$E$7","v":6958493.8220666396},{"$f":"'5A1_Labs'!$F$7","v":605.97},{"$f":"'5A1_Labs'!$G$7","v":886534.11},null,null,null,null,null,null,null,null,{"$f":"F124+H124+J124+L124+N124+P124","v":7845027.9320666399},null,{"$f":"'5A1_Labs'!$I$7","v":26811},{"$f":"'5A1_Labs'!$J$7","v":-18768},{"$f":"'5A1_Labs'!$K$7","v":8043},{"$f":"'5A1_Labs'!$L$7","v":7853071},null,null,{"$f":"V124","v":7853071},{"$f":"'5A1_Labs'!$M$7","v":-32061},{"$f":"'5A1_Labs'!$O$7","v":0},{"$f":"'5A1_Labs'!$P$7","v":48860},{"$f":"'5A1_Labs'!Q$7","v":176732},{"$f":"'5A1_Labs'!R$7","v":141386},{"$f":"'5A1_Labs'!$T$7","v":8453087},{"$f":"'5A1_Labs'!$U$7","v":5626248},{"$f":"'5A1_Labs'!$V$7","v":2826839},{"$f":"'5A1_Labs'!$W$7","v":706710},{"$f":"'5A1_Labs'!$X$7","v":0},{"$f":"'5A1_Labs'!$Y$7","v":21931},{"$f":"'5A1_Labs'!$Z$7","v":0},{"$f":"'5A1_Labs'!$AB$7","v":8498018},{"$f":"AL124","v":8498018},null,null,null,null,null,null,null,null,null,null,null,null,null,null,null,null,null,{"$f":"AM124+BA124","v":8498018},{"$f":"AH124+BD124","v":706710}]
[319,319001,"Southern Lab School",{"$f":"'5A1_Labs'!$C$8","v":764},{"$f":"'5A1_Labs'!$D$8","v":4756.3184019594255},{"$f":"'5A1_Labs'!$E$8","v":3633827.259097001},{"$f":"'5A1_Labs'!$F$8","v":699.9},{"$f":"'5A1_Labs'!$G$8","v":534723.6},null,null,null,null,null,null,null,null,4168550.8590970011,null,{"$f":"'5A1_Labs'!$I$8","v":136405},{"$f":"'5A1_Labs'!$J$8","v":-133677},{"$f":"'5A1_Labs'!$K$8","v":2728},{"$f":"'5A1_Labs'!$L$8","v":4171279},null,null,{"$f":"V125","v":4171279},{"$f":"'5A1_Labs'!$M$8","v":-13586},{"$f":"'5A1_Labs'!$O$8","v":0},{"$f":"'5A1_Labs'!$P$8","v":28000},{"$f":"'5A1_Labs'!Q$8","v":43781},{"$f":"'5A1_Labs'!R$8","v":35025},{"$f":"'5A1_Labs'!$T$8","v":4330170},{"$f":"'5A1_Labs'!$U$8","v":2889320},{"$f":"'5A1_Labs'!$V$8","v":1440850},{"$f":"'5A1_Labs'!$W$8","v":360213},{"$f":"'5A1_Labs'!$X$8","v":0},{"$f":"'5A1_Labs'!$Y$8","v":10000},{"$f":"'5A1_Labs'!$Z$8","v":0},{"$f":"'5A1_Labs'!$AB$8","v":4340170},4340170,null,null,null,null,null,null,null,null,null,null,null,null,null,null,null,null,null,4340170,360213]
[302006,302,"LA School for Math, Science and the Arts",{"$f":"'5A5_LSMSA'!$C$87","v":270},null,{"$f":"'5A5_LSMSA'!$E$87","v":2562563},null,null,null,null,null,null,null,null,null,null,2562563,null,{"$f":"'5A5_LSMSA'!$F$87","v":104803},{"$f":"'5A5_LSMSA'!$G$87","v":-86653},{"$f":"'5A5_LSMSA'!$H$87","v":18150},{"$f":"'5A5_LSMSA'!$I$87","v":2580713},null,null,{"$f":"'5A5_LSMSA'!$I$87","v":2580713},{"$f":"'5A5_LSMSA'!$J$87","v":0},{"$f":"'5A5_LSMSA'!$K$78","v":0},{"$f":"'5A5_LSMSA'!$K$82","v":18900},{"$f":"'5A5_LSMSA'!$K$84","v":82146},{"$f":"'5A5_LSMSA'!$K$85","v":65718},{"$f":"'5A5_LSMSA'!$K$87","v":2870698},{"$f":"'5A5_LSMSA'!$L$87","v":1901749},{"$f":"'5A5_LSMSA'!$M$87","v":968949},{"$f":"'5A5_LSMSA'!$N$87","v":242243},{"$f":"'5A5_LSMSA'!$O$79","v":0},{"$f":"'5A5_LSMSA'!$O$80","v":10000},{"$f":"'5A5_LSMSA'!$O$81","v":0},{"$f":"'5A5_LSMSA'!$O$87","v":2880698},2880698,null,null,null,null,null,null,null,null,null,null,null,null,null,null,null,null,null,2880698,242243]
[334001,334,"New Orleans Center for Creative Arts",{"$f":"#REF!","v":{"$error":"#REF!"}},null,{"$f":"#REF!","v":{"$error":"#REF!"}},null,null,null,null,null,null,null,null,null,null,{"$error":"#REF!"},null,{"$f":"#REF!","v":{"$error":"#REF!"}},{"$f":"#REF!","v":{"$error":"#REF!"}},{"$f":"#REF!","v":{"$error":"#REF!"}},{"$f":"#REF!","v":{"$error":"#REF!"}},null,null,{"$f":"#REF!","v":{"$error":"#REF!"}},{"$f":"#REF!","v":{"$error":"#REF!"}},{"$f":"#REF!","v":{"$error":"#REF!"}},{"$f":"#REF!","v":{"$error":"#REF!"}},{"$f":"#REF!","v":{"$error":"#REF!"}},{"$f":"#REF!","v":{"$error":"#REF!"}},{"$f":"#REF!","v":{"$error":"#REF!"}},{"$f":"#REF!","v":{"$error":"#REF!"}},{"$f":"#REF!","v":{"$error":"#REF!"}},{"$f":"#REF!","v":{"$error":"#REF!"}},{"$f":"#REF!","v":{"$error":"#REF!"}},{"$f":"#REF!","v":{"$error":"#REF!"}},{"$f":"#REF!","v":{"$error":"#REF!"}},{"$f":"#REF!","v":{"$error":"#REF!"}},{"$error":"#REF!"},null,null,null,null,null,null,null,null,null,null,null,null,null,null,null,null,null,{"$error":"#REF!"},{"$error":"#REF!"}]
["3C1001","3C1","Thrive",{"$f":"'5A6_Thrive'!$C$87","v":165},null,{"$f":"'5A6_Thrive'!$E$87","v":1512013},null,null,null,null,null,null,null,null,null,null,1512013,null,{"$f":"'5A6_Thrive'!$F$87","v":122756},{"$f":"'5A6_Thrive'!$G$87","v":10881},{"$f":"'5A6_Thrive'!$H$87","v":133637},{"$f":"'5A6_Thrive'!$I$87","v":1645650},null,null,{"$f":"'5A6_Thrive'!$I$87","v":1645650},{"$f":"'5A6_Thrive'!$J$87","v":-18025},{"$f":"'5A6_Thrive'!$K$78","v":0},{"$f":"'5A6_Thrive'!$K$82","v":11550},{"$f":"'5A6_Thrive'!$K$84","v":72523},{"$f":"'5A6_Thrive'!$K$85","v":58019},{"$f":"'5A6_Thrive'!$K$87","v":1878502},{"$f":"'5A6_Thrive'!$L$87","v":1218446},{"$f":"'5A6_Thrive'!$M$87","v":660056},{"$f":"'5A6_Thrive'!$N$87","v":165015},{"$f":"'5A6_Thrive'!$O$79","v":0},{"$f":"'5A6_Thrive'!$O$80","v":10000},{"$f":"'5A6_Thrive'!$O$81","v":0},{"$f":"'5A6_Thrive'!$O$87","v":1888502},1888502,null,null,null,null,null,null,null,null,null,null,null,null,null,null,null,null,null,1888502,165015]
["A02","A02","Office of Juvenile Justice",{"$f":"'5A3_OJJ'!$C$87","v":232.31844400000008},null,{"$f":"'5A3_OJJ'!$G$76","v":1976039},null,null,null,null,null,null,null,null,null,null,1976039,null,null,null,null,{"$f":"Q129","v":1976039},null,null,{"$f":"V129","v":1976039},null,{"$f":"'5A3_OJJ'!$G$78","v":0},{"$f":"'5A3_OJJ'!$G$82","v":15820},{"$f":"'5A3_OJJ'!$G$84","v":50862},{"$f":"'5A3_OJJ'!$G$85","v":40690},{"$f":"'5A3_OJJ'!$G$87","v":2159705},{"$f":"'5A3_OJJ'!$H$87","v":1121407},{"$f":"'5A3_OJJ'!$I$87","v":1038298},{"$f":"'5A3_OJJ'!$J$87","v":259582},{"$f":"'5A3_OJJ'!$K$79","v":0},{"$f":"'5A3_OJJ'!$K$80","v":28920},{"$f":"'5A3_OJJ'!$K$81","v":0},{"$f":"'5A3_OJJ'!$K$87","v":2188625},2188625,null,{"$f":"'5A3_OJJ'!$P$87","v":943765},null,null,null,null,null,{"$f":"'5A3_OJJ'!$P$87","v":943765},null,null,{"$f":"'5A3_OJJ'!$P$87","v":943765},null,{"$f":"'5A3_OJJ'!$P$87","v":943765},{"$f":"'5A3_OJJ'!$P$87","v":943765},{"$f":"'5A3_OJJ'!$Q$87","v":474940},{"$f":"'5A3_OJJ'!$R$87","v":468825},{"$f":"'5A3_OJJ'!$S$87","v":117212},3132390,376794]
[null,null,"Total Lab & State Approved Schools",{"$f":"SUM(D124:D129)","v":{"$error":"#REF!"}},null,{"$f":"SUM(F124:F129)","v":{"$error":"#REF!"}},null,{"$f":"SUM(H124:H129)","v":1421257.71},0,0,0,0,0,0,0,0,{"$error":"#REF!"},0,{"$f":"SUM(S124:S129)","v":{"$error":"#REF!"}},{"$error":"#REF!"},{"$error":"#REF!"},{"$error":"#REF!"},0,0,{"$error":"#REF!"},{"$error":"#REF!"},{"$error":"#REF!"},{"$error":"#REF!"},{"$error":"#REF!"},{"$f":"SUM(AD124:AD129)","v":{"$error":"#REF!"}},{"$error":"#REF!"},{"$error":"#REF!"},{"$error":"#REF!"},{"$error":"#REF!"},{"$error":"#REF!"},{"$error":"#REF!"},{"$error":"#REF!"},{"$f":"SUM(AL124:AL129)","v":{"$error":"#REF!"}},{"$f":"SUM(AM124:AM129)","v":{"$error":"#REF!"}},null,{"$f":"SUM(AO124:AO129)","v":943765},0,0,0,0,0,943765,0,0,943765,0,{"$f":"SUM(AZ124:AZ129)","v":943765},943765,474940,468825,117212,{"$error":"#REF!"},{"$error":"#REF!"},{"$f":"SUM(BG124:BG129)","v":0},0,0,0,0,0]
[]
[321001,321001,"New Vision Learning",{"$f":"#REF!","v":{"$error":"#REF!"}},null,{"$f":"#REF!","v":{"$error":"#REF!"}},{"$f":"#REF!","v":{"$error":"#REF!"}},{"$f":"#REF!","v":{"$error":"#REF!"}},{"$f":"#REF!","v":{"$error":"#REF!"}},{"$f":"#REF!","v":{"$error":"#REF!"}},{"$f":"#REF!","v":{"$error":"#REF!"}},{"$f":"#REF!","v":{"$error":"#REF!"}},{"$f":"#REF!","v":{"$error":"#REF!"}},{"$f":"#REF!","v":{"$error":"#REF!"}},{"$f":"#REF!","v":{"$error":"#REF!"}},{"$f":"#REF!","v":{"$error":"#REF!"}},{"$f":"F132+H132+J132+L132+N132+P132","v":{"$error":"#REF!"}},null,{"$f":"#REF!","v":{"$error":"#REF!"}},{"$f":"#REF!","v":{"$error":"#REF!"}},{"$f":"#REF!","v":{"$error":"#REF!"}},{"$f":"#REF!","v":{"$error":"#REF!"}},null,{"$f":"#REF!","v":{"$error":"#REF!"}},{"$f":"#REF!","v":{"$error":"#REF!"}},{"$f":"#REF!","v":{"$error":"#REF!"}},{"$f":"#REF!","v":{"$error":"#REF!"}},{"$f":"#REF!","v":{"$error":"#REF!"}},{"$f":"#REF!","v":{"$error":"#REF!"}},{"$f":"#REF!","v":{"$error":"#REF!"}},{"$f":"#REF!","v":{"$error":"#REF!"}},{"$f":"#REF!","v":{"$error":"#REF!"}},{"$f":"#REF!","v":{"$error":"#REF!"}},{"$f":"#REF!","v":{"$error":"#REF!"}},{"$f":"#REF!","v":{"$error":"#REF!"}},{"$f":"#REF!","v":{"$error":"#REF!"}},{"$f":"#REF!","v":{"$error":"#REF!"}},{"$f":"#REF!","v":{"$error":"#REF!"}},{"$f":"AL132-X132","v":{"$error":"#REF!"}},null,null,null,null,null,null,null,null,null,null,null,null,null,null,null,null,null,{"$f":"AM132+BA132","v":{"$error":"#REF!"}},{"$f":"AH132+BD132","v":{"$error":"#REF!"}},{"$f":"-X132","v":{"$error":"#REF!"}},{"$f":"VLOOKUP($A132,'5A2_Legacy Type 2'!$A$7:$AH$14,COLUMN('5A2_Legacy Type 2'!#REF!),FALSE)","v":{"$error":"#REF!"}},{"$f":"BG132-BH132","v":{"$error":"#REF!"}}]
[329001,329001,"Glencoe Charter School",{"$f":"#REF!","v":{"$error":"#REF!"}},null,{"$f":"#REF!","v":{"$error":"#REF!"}},{"$f":"#REF!","v":{"$error":"#REF!"}},{"$f":"#REF!","v":{"$error":"#REF!"}},{"$f":"#REF!","v":{"$error":"#REF!"}},{"$f":"#REF!","v":{"$error":"#REF!"}},{"$f":"#REF!","v":{"$error":"#REF!"}},{"$f":"#REF!","v":{"$error":"#REF!"}},{"$f":"#REF!","v":{"$error":"#REF!"}},{"$f":"#REF!","v":{"$error":"#REF!"}},{"$f":"#REF!","v":{"$error":"#REF!"}},{"$f":"#REF!","v":{"$error":"#REF!"}},{"$error":"#REF!"},null,{"$f":"#REF!","v":{"$error":"#REF!"}},{"$f":"#REF!","v":{"$error":"#REF!"}},{"$f":"#REF!","v":{"$error":"#REF!"}},{"$f":"#REF!","v":{"$error":"#REF!"}},null,{"$f":"#REF!","v":{"$error":"#REF!"}},{"$f":"#REF!","v":{"$error":"#REF!"}},{"$f":"#REF!","v":{"$error":"#REF!"}},{"$f":"#REF!","v":{"$error":"#REF!"}},{"$f":"#REF!","v":{"$error":"#REF!"}},{"$f":"#REF!","v":{"$error":"#REF!"}},{"$f":"#REF!","v":{"$error":"#REF!"}},{"$f":"#REF!","v":{"$error":"#REF!"}},{"$f":"#REF!","v":{"$error":"#REF!"}},{"$f":"#REF!","v":{"$error":"#REF!"}},{"$f":"#REF!","v":{"$error":"#REF!"}},{"$f":"#REF!","v":{"$error":"#REF!"}},{"$f":"#REF!","v":{"$error":"#REF!"}},{"$f":"#REF!","v":{"$error":"#REF!"}},{"$f":"#REF!","v":{"$error":"#REF!"}},{"$error":"#REF!"},null,null,null,null,null,null,null,null,null,null,null,null,null,null,null,null,null,{"$error":"#REF!"},{"$error":"#REF!"},{"$error":"#REF!"},{"$f":"VLOOKUP($A133,'5A2_Legacy Type 2'!$A$7:$AH$14,COLUMN('5A2_Legacy Type 2'!#REF!),FALSE)","v":{"$error":"#REF!"}},{"$f":"BG133-BH133","v":{"$error":"#REF!"}}]
[331001,331001,"International School of LA",{"$f":"#REF!","v":{"$error":"#REF!"}},null,{"$f":"#REF!","v":{"$error":"#REF!"}},{"$f":"#REF!","v":{"$error":"#REF!"}},{"$f":"#REF!","v":{"$error":"#REF!"}},{"$f":"#REF!","v":{"$error":"#REF!"}},{"$f":"#REF!","v":{"$error":"#REF!"}},{"$f":"#REF!","v":{"$error":"#REF!"}},{"$f":"#REF!","v":{"$error":"#REF!"}},{"$f":"#REF!","v":{"$error":"#REF!"}},{"$f":"#REF!","v":{"$error":"#REF!"}},{"$f":"#REF!","v":{"$error":"#REF!"}},{"$f":"#REF!","v":{"$error":"#REF!"}},{"$error":"#REF!"},null,{"$f":"#REF!","v":{"$error":"#REF!"}},{"$f":"#REF!","v":{"$error":"#REF!"}},{"$f":"#REF!","v":{"$error":"#REF!"}},{"$f":"#REF!","v":{"$error":"#REF!"}},null,{"$f":"#REF!","v":{"$error":"#REF!"}},{"$f":"#REF!","v":{"$error":"#REF!"}},{"$f":"#REF!","v":{"$error":"#REF!"}},{"$f":"#REF!","v":{"$error":"#REF!"}},{"$f":"#REF!","v":{"$error":"#REF!"}},{"$f":"#REF!","v":{"$error":"#REF!"}},{"$f":"#REF!","v":{"$error":"#REF!"}},{"$f":"#REF!","v":{"$error":"#REF!"}},{"$f":"#REF!","v":{"$error":"#REF!"}},{"$f":"#REF!","v":{"$error":"#REF!"}},{"$f":"#REF!","v":{"$error":"#REF!"}},{"$f":"#REF!","v":{"$error":"#REF!"}},{"$f":"#REF!","v":{"$error":"#REF!"}},{"$f":"#REF!","v":{"$error":"#REF!"}},{"$f":"#REF!","v":{"$error":"#REF!"}},{"$error":"#REF!"},null,null,null,null,null,null,null,null,null,null,null,null,null,null,null,null,null,{"$error":"#REF!"},{"$error":"#REF!"},{"$error":"#REF!"},{"$f":"VLOOKUP($A134,'5A2_Legacy Type 2'!$A$7:$AH$14,COLUMN('5A2_Legacy Type 2'!#REF!),FALSE)","v":{"$error":"#REF!"}},{"$error":"#REF!"}]
[333001,333001,"Avoyelles Public Charter",{"$f":"#REF!","v":{"$error":"#REF!"}},null,{"$f":"#REF!","v":{"$error":"#REF!"}},{"$f":"#REF!","v":{"$error":"#REF!"}},{"$f":"#REF!","v":{"$error":"#REF!"}},{"$f":"#REF!","v":{"$error":"#REF!"}},{"$f":"#REF!","v":{"$error":"#REF!"}},{"$f":"#REF!","v":{"$error":"#REF!"}},{"$f":"#REF!","v":{"$error":"#REF!"}},{"$f":"#REF!","v":{"$error":"#REF!"}},{"$f":"#REF!","v":{"$error":"#REF!"}},{"$f":"#REF!","v":{"$error":"#REF!"}},{"$f":"#REF!","v":{"$error":"#REF!"}},{"$error":"#REF!"},null,{"$f":"#REF!","v":{"$error":"#REF!"}},{"$f":"#REF!","v":{"$error":"#REF!"}},{"$f":"#REF!","v":{"$error":"#REF!"}},{"$f":"#REF!","v":{"$error":"#REF!"}},null,{"$f":"#REF!","v":{"$error":"#REF!"}},{"$f":"#REF!","v":{"$error":"#REF!"}},{"$f":"#REF!","v":{"$error":"#REF!"}},{"$f":"#REF!","v":{"$error":"#REF!"}},{"$f":"#REF!","v":{"$error":"#REF!"}},{"$f":"#REF!","v":{"$error":"#REF!"}},{"$f":"#REF!","v":{"$error":"#REF!"}},{"$f":"#REF!","v":{"$error":"#REF!"}},{"$f":"#REF!","v":{"$error":"#REF!"}},{"$f":"#REF!","v":{"$error":"#REF!"}},{"$f":"#REF!","v":{"$error":"#REF!"}},{"$f":"#REF!","v":{"$error":"#REF!"}},{"$f":"#REF!","v":{"$error":"#REF!"}},{"$f":"#REF!","v":{"$error":"#REF!"}},{"$f":"#REF!","v":{"$error":"#REF!"}},{"$error":"#REF!"},null,null,null,null,null,null,null,null,null,null,null,null,null,null,null,null,null,{"$error":"#REF!"},{"$error":"#REF!"},{"$error":"#REF!"},{"$f":"VLOOKUP($A135,'5A2_Legacy Type 2'!$A$7:$AH$14,COLUMN('5A2_Legacy Type 2'!#REF!),FALSE)","v":{"$error":"#REF!"}},{"$error":"#REF!"}]
[336001,336001,"Delhi Charter School",{"$f":"#REF!","v":{"$error":"#REF!"}},null,{"$f":"#REF!","v":{"$error":"#REF!"}},{"$f":"#REF!","v":{"$error":"#REF!"}},{"$f":"#REF!","v":{"$error":"#REF!"}},{"$f":"#REF!","v":{"$error":"#REF!"}},{"$f":"#REF!","v":{"$error":"#REF!"}},{"$f":"#REF!","v":{"$error":"#REF!"}},{"$f":"#REF!","v":{"$error":"#REF!"}},{"$f":"#REF!","v":{"$error":"#REF!"}},{"$f":"#REF!","v":{"$error":"#REF!"}},{"$f":"#REF!","v":{"$error":"#REF!"}},{"$f":"#REF!","v":{"$error":"#REF!"}},{"$error":"#REF!"},null,{"$f":"#REF!","v":{"$error":"#REF!"}},{"$f":"#REF!","v":{"$error":"#REF!"}},{"$f":"#REF!","v":{"$error":"#REF!"}},{"$f":"#REF!","v":{"$error":"#REF!"}},null,{"$f":"#REF!","v":{"$error":"#REF!"}},{"$f":"#REF!","v":{"$error":"#REF!"}},{"$f":"#REF!","v":{"$error":"#REF!"}},{"$f":"#REF!","v":{"$error":"#REF!"}},{"$f":"#REF!","v":{"$error":"#REF!"}},{"$f":"#REF!","v":{"$error":"#REF!"}},{"$f":"#REF!","v":{"$error":"#REF!"}},{"$f":"#REF!","v":{"$error":"#REF!"}},{"$f":"#REF!","v":{"$error":"#REF!"}},{"$f":"#REF!","v":{"$error":"#REF!"}},{"$f":"#REF!","v":{"$error":"#REF!"}},{"$f":"#REF!","v":{"$error":"#REF!"}},{"$f":"#REF!","v":{"$error":"#REF!"}},{"$f":"#REF!","v":{"$error":"#REF!"}},{"$f":"#REF!","v":{"$error":"#REF!"}},{"$error":"#REF!"},null,null,null,null,null,null,null,null,null,null,null,null,null,null,null,null,null,{"$error":"#REF!"},{"$error":"#REF!"},{"$error":"#REF!"},{"$f":"VLOOKUP($A136,'5A2_Legacy Type 2'!$A$7:$AH$14,COLUMN('5A2_Legacy Type 2'!#REF!),FALSE)","v":{"$error":"#REF!"}},{"$error":"#REF!"}]
[337001,337001,"Belle Chasse Academy",{"$f":"#REF!","v":{"$error":"#REF!"}},null,{"$f":"#REF!","v":{"$error":"#REF!"}},{"$f":"#REF!","v":{"$error":"#REF!"}},{"$f":"#REF!","v":{"$error":"#REF!"}},{"$f":"#REF!","v":{"$error":"#REF!"}},{"$f":"#REF!","v":{"$error":"#REF!"}},{"$f":"#REF!","v":{"$error":"#REF!"}},{"$f":"#REF!","v":{"$error":"#REF!"}},{"$f":"#REF!","v":{"$error":"#REF!"}},{"$f":"#REF!","v":{"$error":"#REF!"}},{"$f":"#REF!","v":{"$error":"#REF!"}},{"$f":"#REF!","v":{"$error":"#REF!"}},{"$error":"#REF!"},null,{"$f":"#REF!","v":{"$error":"#REF!"}},{"$f":"#REF!","v":{"$error":"#REF!"}},{"$f":"#REF!","v":{"$error":"#REF!"}},{"$f":"#REF!","v":{"$error":"#REF!"}},null,{"$f":"#REF!","v":{"$error":"#REF!"}},{"$f":"#REF!","v":{"$error":"#REF!"}},{"$f":"#REF!","v":{"$error":"#REF!"}},{"$f":"#REF!","v":{"$error":"#REF!"}},{"$f":"#REF!","v":{"$error":"#REF!"}},{"$f":"#REF!","v":{"$error":"#REF!"}},{"$f":"#REF!","v":{"$error":"#REF!"}},{"$f":"#REF!","v":{"$error":"#REF!"}},{"$f":"#REF!","v":{"$error":"#REF!"}},{"$f":"#REF!","v":{"$error":"#REF!"}},{"$f":"#REF!","v":{"$error":"#REF!"}},{"$f":"#REF!","v":{"$error":"#REF!"}},{"$f":"#REF!","v":{"$error":"#REF!"}},{"$f":"#REF!","v":{"$error":"#REF!"}},{"$f":"#REF!","v":{"$error":"#REF!"}},{"$error":"#REF!"},null,null,null,null,null,null,null,null,null,null,null,null,null,null,null,null,null,{"$error":"#REF!"},{"$error":"#REF!"},{"$error":"#REF!"},{"$f":"VLOOKUP($A137,'5A2_Legacy Type 2'!$A$7:$AH$14,COLUMN('5A2_Legacy Type 2'!#REF!),FALSE)","v":{"$error":"#REF!"}},{"$error":"#REF!"}]
[340001,340001,"The MAX",{"$f":"#REF!","v":{"$error":"#REF!"}},null,{"$f":"#REF!","v":{"$error":"#REF!"}},{"$f":"#REF!","v":{"$error":"#REF!"}},{"$f":"#REF!","v":{"$error":"#REF!"}},{"$f":"#REF!","v":{"$error":"#REF!"}},{"$f":"#REF!","v":{"$error":"#REF!"}},{"$f":"#REF!","v":{"$error":"#REF!"}},{"$f":"#REF!","v":{"$error":"#REF!"}},{"$f":"#REF!","v":{"$error":"#REF!"}},{"$f":"#REF!","v":{"$error":"#REF!"}},{"$f":"#REF!","v":{"$error":"#REF!"}},{"$f":"#REF!","v":{"$error":"#REF!"}},{"$error":"#REF!"},null,{"$f":"#REF!","v":{"$error":"#REF!"}},{"$f":"#REF!","v":{"$error":"#REF!"}},{"$f":"#REF!","v":{"$error":"#REF!"}},{"$f":"#REF!","v":{"$error":"#REF!"}},null,{"$f":"#REF!","v":{"$error":"#REF!"}},{"$f":"#REF!","v":{"$error":"#REF!"}},{"$f":"#REF!","v":{"$error":"#REF!"}},{"$f":"#REF!","v":{"$error":"#REF!"}},{"$f":"#REF!","v":{"$error":"#REF!"}},{"$f":"#REF!","v":{"$error":"#REF!"}},{"$f":"#REF!","v":{"$error":"#REF!"}},{"$f":"#REF!","v":{"$error":"#REF!"}},{"$f":"#REF!","v":{"$error":"#REF!"}},{"$f":"#REF!","v":{"$error":"#REF!"}},{"$f":"#REF!","v":{"$error":"#REF!"}},{"$f":"#REF!","v":{"$error":"#REF!"}},{"$f":"#REF!","v":{"$error":"#REF!"}},{"$f":"#REF!","v":{"$error":"#REF!"}},{"$f":"#REF!","v":{"$error":"#REF!"}},{"$error":"#REF!"},null,null,null,null,null,null,null,null,null,null,null,null,null,null,null,null,null,{"$error":"#REF!"},{"$error":"#REF!"},{"$error":"#REF!"},{"$f":"VLOOKUP($A138,'5A2_Legacy Type 2'!$A$7:$AH$14,COLUMN('5A2_Legacy Type 2'!#REF!),FALSE)","v":{"$error":"#REF!"}},{"$error":"#REF!"}]
[null,null,"Total Legacy Type 2 Charter Schools",{"$f":"SUM(D132:D138)","v":{"$error":"#REF!"}},null,{"$f":"SUM(F132:F138)","v":{"$error":"#REF!"}},null,{"$f":"SUM(H132:H138)","v":{"$error":"#REF!"}},{"$error":"#REF!"},{"$error":"#REF!"},{"$error":"#REF!"},{"$error":"#REF!"},{"$error":"#REF!"},{"$error":"#REF!"},{"$error":"#REF!"},{"$f":"SUM(P132:P138)","v":{"$error":"#REF!"}},{"$error":"#REF!"},0,{"$error":"#REF!"},{"$error":"#REF!"},{"$error":"#REF!"},{"$error":"#REF!"},0,{"$error":"#REF!"},{"$error":"#REF!"},{"$error":"#REF!"},{"$error":"#REF!"},{"$f":"SUM(AB132:AB138)","v":{"$error":"#REF!"}},{"$f":"SUM(AC132:AC138)","v":{"$error":"#REF!"}},{"$f":"SUM(AD132:AD138)","v":{"$error":"#REF!"}},{"$error":"#REF!"},{"$error":"#REF!"},{"$error":"#REF!"},{"$error":"#REF!"},{"$error":"#REF!"},{"$f":"SUM(AJ132:AJ138)","v":{"$error":"#REF!"}},{"$f":"SUM(AK132:AK138)","v":{"$error":"#REF!"}},{"$f":"SUM(AL132:AL138)","v":{"$error":"#REF!"}},{"$f":"SUM(AM132:AM138)","v":{"$error":"#REF!"}},null,0,0,0,0,0,0,0,0,0,0,0,{"$f":"SUM(AZ132:AZ138)","v":0},0,0,0,0,{"$f":"SUM(BE132:BE138)","v":{"$error":"#REF!"}},{"$error":"#REF!"},{"$error":"#REF!"},{"$error":"#REF!"},{"$error":"#REF!"},0,0,0]
[]
[null,null,"Total Statewide",{"$f":"D122+D130+D139","v":{"$error":"#REF!"}},null,{"$f":"F122+F130+F139","v":{"$error":"#REF!"}},null,{"$f":"H122+H130+H139","v":{"$error":"#REF!"}},{"$error":"#REF!"},{"$error":"#REF!"},{"$error":"#REF!"},{"$error":"#REF!"},{"$error":"#REF!"},{"$error":"#REF!"},{"$error":"#REF!"},{"$f":"P122+P130+P139","v":{"$error":"#REF!"}},{"$error":"#REF!"},{"$error":"#REF!"},{"$error":"#REF!"},{"$error":"#REF!"},{"$error":"#REF!"},{"$error":"#REF!"},{"$error":"#REF!"},{"$error":"#REF!"},{"$error":"#REF!"},{"$error":"#REF!"},{"$error":"#REF!"},{"$error":"#REF!"},{"$error":"#REF!"},{"$error":"#REF!"},{"$error":"#REF!"},{"$error":"#REF!"},{"$error":"#REF!"},{"$error":"#REF!"},{"$error":"#REF!"},{"$error":"#REF!"},{"$error":"#REF!"},{"$error":"#REF!"},{"$error":"#REF!"},null,{"$f":"AO122+AO130+AO139","v":{"$error":"#REF!"}},{"$error":"#REF!"},{"$error":"#REF!"},{"$error":"#REF!"},{"$error":"#REF!"},{"$error":"#REF!"},{"$error":"#REF!"},{"$error":"#REF!"},{"$error":"#REF!"},{"$error":"#REF!"},{"$error":"#REF!"},{"$error":"#REF!"},{"$error":"#REF!"},{"$error":"#REF!"},{"$error":"#REF!"},{"$error":"#REF!"},{"$error":"#REF!"},{"$error":"#REF!"},{"$f":"BG76+BG130+BG139+BG111+BG120","v":{"$error":"#REF!"}},{"$error":"#REF!"},{"$error":"#REF!"},{"$error":"#REF!"},{"$error":"#REF!"},{"$error":"#REF!"}]
[null,null,null,null,null,null,null,null,null,null,null,null,null,null,null,null,"Rounding Diff",null,null,null,null,"Rounding Diff",null,null,null,null,null,null,null,null,null,"App Ctrl",null,"Rounding Diff",null,null,null,null,null,null,null,null,null,null,null,null,null,null,null,null,"Audit Summary",null,null,"Statewide YTD until April:",null,null,null,null,null,"App Ctrl",null,null,"App Ctrl"]
[null,null,null,{"$f":"#REF!","v":{"$error":"#REF!"}},null,null,null,null,null,null,null,null,null,null,null,null,{"$f":"#REF!+#REF!","v":{"$error":"#REF!"}},{"$f":"#REF!","v":{"$error":"#REF!"}},{"$f":"#REF!","v":{"$error":"#REF!"}},{"$f":"#REF!","v":{"$error":"#REF!"}},{"$f":"#REF!","v":{"$error":"#REF!"}},{"$f":"F141+H141+J141+L141+N141+P141+U141","v":{"$error":"#REF!"}},null,{"$f":"BG141-BG113","v":{"$error":"#REF!"}},{"$f":"V141+W141+X141","v":{"$error":"#REF!"}},{"$f":"#REF!","v":{"$error":"#REF!"}},{"$f":"#REF!","v":{"$error":"#REF!"}},{"$f":"#REF!","v":{"$error":"#REF!"}},{"$f":"#REF!","v":{"$error":"#REF!"}},{"$f":"#REF!","v":{"$error":"#REF!"}},{"$f":"V141+W141+X141+Z141+AA141+AB141+AC141+AD141","v":{"$error":"#REF!"}},null,{"$f":"AE141-AF141","v":{"$error":"#REF!"}},{"$f":"ROUND(AG141/$AH$147,0)","v":{"$error":"#REF!"}},{"$f":"#REF!","v":{"$error":"#REF!"}},{"$f":"#REF!","v":{"$error":"#REF!"}},{"$f":"#REF!","v":{"$error":"#REF!"}},{"$f":"AE141+AI141+AJ141+AK141","v":{"$error":"#REF!"}},{"$f":"#REF!","v":{"$error":"#REF!"}},null,null,null,null,null,null,null,null,null,null,null,{"$f":"[1]LEA_Summary!$O$139","v":-65205},null,null,null,null,null,{"$f":"AM141","v":{"$error":"#REF!"}},{"$f":"AH141+BD141","v":{"$error":"#REF!"}},{"$f":"-W141+-X141","v":{"$error":"#REF!"}}]
[null,null,"Reconcile",{"$f":"D143-D122","v":{"$error":"#REF!"}},{"$f":"D143-D122+D85+D86","v":{"$error":"#REF!"}},"1st Yr Adj",null,null,null,null,null,null,null,null,null,null,{"$f":"Q143-Q141","v":{"$error":"#REF!"}},{"$f":"R143-Q122-R122","v":{"$error":"#REF!"}},{"$f":"S143-S141","v":{"$error":"#REF!"}},{"$f":"T143-T141","v":{"$error":"#REF!"}},{"$f":"U143-U141","v":{"$error":"#REF!"}},{"$f":"V143-V141","v":{"$error":"#REF!"}},null,{"$f":"X143+X141","v":{"$error":"#REF!"}},{"$f":"Y143-Y141","v":{"$error":"#REF!"}},{"$f":"Z143-Z141","v":{"$error":"#REF!"}},{"$error":"#REF!"},{"$f":"AB143-AB141","v":{"$error":"#REF!"}},{"$f":"AC143-AC141","v":{"$error":"#REF!"}},{"$f":"AD143-AD141","v":{"$error":"#REF!"}},{"$f":"AE143-AE141","v":{"$error":"#REF!"}},{"$f":"AF143-AF141","v":{"$error":"#REF!"}},{"$error":"#REF!"},{"$f":"AH143-AH141","v":{"$error":"#REF!"}},{"$error":"#REF!"},{"$error":"#REF!"},{"$error":"#REF!"},{"$error":"#REF!"},{"$f":"AM143-AM141","v":{"$error":"#REF!"}},{"$f":"AM143-AM141+AM85+AM86-#REF!-AJ85","v":{"$error":"#REF!"}},"1st Yr Adj",null,null,null,null,null,null,null,null,null,{"$f":"AY143-AY141","v":{"$error":"#REF!"}},null,null,{"$f":"BB143-BB141","v":{"$error":"#REF!"}},{"$f":"BC141-BL76","v":{"$error":"#REF!"}},null,{"$f":"BE143-BE141","v":{"$error":"#REF!"}},{"$f":"BF143-BF141","v":{"$error":"#REF!"}},{"$f":"BG143-BG141","v":{"$error":"#REF!"}},{"$f":"BH143-BH141","v":{"$error":"#REF!"}},null,null,{"$f":"BK143-BK120-BK111","v":{"$error":"#REF!"}}]
[null,null,null,{"$f":"#REF!","v":{"$error":"#REF!"}},{"$f":"D145-D141+D129+D85+D86","v":{"$error":"#REF!"}},"1st Yr Adj",null,null,null,null,null,null,null,null,null,"1st Yr Adj",{"$f":"Q143-Q141+Q85+Q86-#REF!","v":{"$error":"#REF!"}},{"$f":"R143-Q122-R122+Q85+Q86","v":{"$error":"#REF!"}},null,null,null,null,null,null,null,{"$f":"[1]LEA_Summary!$I$139","v":-2048105},null,null,null,null,null,null,null,null,null,null,null,null,{"$f":"AL141-X141-W141","v":{"$error":"#REF!"}}]
[null,null,"Reconcile 2",{"$f":"D145-D141+D129","v":{"$error":"#REF!"}},"OJJ Rounding",null,null,null,null,null,null,null,null,null,null,null,null,"Rounding Diff",null,null,null,null,null,null,null,{"$f":"Z145-Z141","v":{"$error":"#REF!"}},null,null,null,null,null,null,null,null,null,null,null,null,{"$f":"AM145-AM141","v":{"$error":"#REF!"}}]
[null,null,null,null,null,null,null,null,null,null,null,null,null,null,null,null,null,null,null,null,null,null,null,null,null,null,null,null,null,null,null,null,null,12]

{"sheet":"Table List","index":3,"n_rows":71,"n_cols":2,"rows_kept":71,"cut":false,"hidden":false,"merged":[]}
["Detailed Listing of MFP Formula Tables"]
[]
["Table 1","State Level Summary"]
[]
["Table 2","MFP Distribution and Adjustments"]
[null,"Provides the total state cost allocation, minus audit adjustments, and the monthly MFP payments for the 69 city/parish school systems"]
[]
["Table 2A-1","MFP Transfer Amount (Annual)"]
[null,"Provides the annual MF{ state cost allocation (from Table 2) for the 69 city/parish school systems, minus the local revenue representation due to other public schools"]
[]
["Table 2A-2","MFP Transfer Amount (Monthly)"]
[null,"Provides the monthly MFP state cost allocation amount (from Table 2) for the 69 city/parish schools systems, minus the local revenue representation due to other public schools"]
[]
["Table 3","Level 1 Base Cost and Level 2 Reward Incentive Allocations "]
[null,"Provides the detailed calculation of Levels 1 and 3 including student counts along with a summary of totals for all 3 Levels "]
[]
["Table 3A","Level 3 Legislative Allocations"]
[null,"Provides funding for:"]
[null,"Pay Raise Allocation (Continuation of pay raises given in prior years 2001-02 through 2008-09)"]
[null,"Historical Formula Allocation"]
[null,"Mandated Costs Allocation "]
[]
["Table 4","Level 4 Supplementary Allocations"]
[null,"Provides allocations for specific purposes:"]
[null,"International Language Associate/Escadrille Salary"]
[null,"International Language Associate/Escadrille 1st, Second, and Third Year Stipends"]
[null,"Career Development Fund (CDF)"]
[null,"High Cost Services (HCS)"]
[null,"Supplemental Course Allocation (SCA)"]
[null,"2019-20 Certificated and Support Staff Pay Raises"]
[null,"2021-22 Certificated and Support Staff Pay Raises"]
[null,"2022-23 Certificated and Support Staff Pay Raises"]
[null,"(Note:  Resident Teachers are funded within Pay Raise Allocations)"]
[null,"Mentor Teacher Stipends"]
[]
["Table 5A1","LSU and SU Lab Schools Allocation "]
[]
["Table 5A2","Legacy Type 2 Charter Schools Allocation "]
[]
["Tables 5A2A - 5A2H","Legacy Type 2 Charter School Allocations - School Specific"]
[]
["Table 5A3","Office of Juvenile Justice (OJJ) Schools Allocation"]
[]
["Table 5A4","New Orleans Center for Creative Arts (NOCCA) Allocation"]
[]
["Table 5A5","Louisiana School for the Math, Science, and the Arts (LSMSA) Allocation"]
[]
["Table 5A6","Trive Academy Allocation"]
[]
["Table 5A7","Special School District (SSD) (including LSDVI)"]
[]
["Table 5B2","Recovery School District (RSD-LA) (including Operated & Type 5 Charters)"]
[]
["Table 5C1","New Type 2 Charter Schools Allocation (Summary)"]
[]
["Tables 5C1A - 5C3","New Type 2 Charter School Allocations - School Specific"]
[]
["Table 6","Local Deducation Calculation"]
[null,"Provies the calculation of the Local Deduction amount for the city/parish school systems"]
[]
["Table 7","Local Property and Sales Tax Revenues Data"]
[null,"Provides for the summary of the Net Assessed Property Values, Ad Valorem and Sales Tax amounts, and millage and sales tax rates for the 69 city/parish school systems"]
[]
["Table 8","February 1 Base Student Count"]
[null,"Provides the MFP student membership count for the school systems and schools funded through the MFP formula"]
[]
["Table 8A","February 1 Student Counts - RSD"]
[null,"Provides the MFP student membership count for the RSD Operated and Type 5 charter schools by parish and site"]
[]
["Table 9","Per Pupil Summary"]
[null,"Provides the per pupil amounts used to calculate the state cost allocations and local revenue representation amounts"]

{"sheet":"Data Sources","index":4,"n_rows":36,"n_cols":6,"rows_kept":36,"cut":false,"hidden":false,"merged":[]}
[null,"Data Sources"]
[]
[null,"MFP Budget Letter ","FY2023-24"]
[]
[null,"MFP formula calculations utilize the following data:"]
[]
["Table","Data Element within Formula","Date or Time Period ","Status- July","Data Source","Data Definition"]
[]
[3,"Base Student Count","February 1, 2024 Base Student Count","Final","EdLink Student & Enrollment from Processing Period 3","MFP eligible students are enrolled and actively attending  as of the count date"]
[3,"Economically Disadvantaged Weight Student Count","February 1, 2024 Student Count","Final","EdLink Student & Enrollment (PP3) & LDH data file","MFP eligible students who are also Economically Disadvantaged "]
[3,"Career and Technical Education (CTE) Unit Count","October 2022 Unit Count","Final","EdLink Student & Course enrollments (PP2)","Count of course enrollments in specific CTE eligible courses."]
[3,"Students with Disabilties Weight Student Count","February 1, 2024 Student Count","Final","EdLink Student (PP3) & eSER","MFP eligible students who are also identified as Students with Disabilities and actively receiving services "]
[3,"Gifted and Talented Weight Student Count","February 1, 2024 Student Count","Final","EdLink Student & Enrollment (PP3) & eSER","MFP eligible students who are also identified as Gifted and Talented students and actively receiving services "]
[3,"Econcomy of Scale Weight Student Count","February 1, 2024 Base Student Count","Final","EdLink Student (PP3)","School systems with student counts of 7,500 or less"]
[7,"Net Assessed Taxable Property Values","2021 Louisiana Tax Commission Annual Report","Final","Louisiana Tax Commission","Net Assessed Taxable Property Values"]
[7,"City & Parish School System Local Revenues and Tax Rates","FY 2021-2022 Annual Financial Report (AFR)","Final","Annual FinancialReport (AFR)","Ad valorem and Sales Taxes + Other Revenues"]
[7,"AFR Audit Adjustments","FY 2021-22 MFP AFR Data Audits ","Final","Annual Financial Reports and LEA Single Audits "]
["3A","Pay Raise Allocation (Continuation of pay raises given in prior years 2001-02 through 2008-09)","February 1, 2024 Base Student Count","Final","EdLink Student & Enrollment from Processing Period 3","MFP eligible students are enrolled and actively attending  as of the count date"]
["3A","Historical Formula Allocation","February 1, 2024 Base Student Count","Final","EdLink Student & Enrollment from Processing Period 3","MFP eligible students are enrolled and actively attending  as of the count date"]
["3A","Mandated Costs Allocation ","February 1, 2024 Base Student Count","Final","EdLink Student & Enrollment from Processing Period 3","MFP eligible students are enrolled and actively attending  as of the count date"]
[4,"International Language Associate/Escadrille Salary","Prior Year - February 2023 Count of International Language Associate/Escadrille Teacher Count","Final","Prior Year International Language Associate/Escadrille Teacher Count","International Language Associate/Escadrille Teachers"]
[4,"International Language Associate/Escadrille 1st, Second, and Third Year Stipends","2023-24 Count of International Language Associate/Escadrille Teachers Eligible for Stipends","Pending - Data Available in Spring 2024","Current Year International Language Associate/Escadrille Teachers Eligible for Stipends ","International Language Associate/Escadrille Teachers Eligible for Stipends "]
[4,"Career Development Fund (CDF) - Initial Allocation","75% of Prior Year CDF Allocations","Complete","Prior Year MFP CDF Allocations"]
[4,"Career Development Fund (CDF) - Final Allocation","Enrollments in 2023-24 Jump Start Technical Course Grid, 2023-24 Class Schedule Data Collection","Complete","EdLink Student & Courses (PP2)","Jump Start Techncial Courses  and Student Class Schedule Data "]
[4,"High Cost Services (HCS)","HCS Applications - Round 1","HCS Round 2 Pending - Data Available Spring 2024","Applications through eGMS","HCS Approved Applications"]
[4,"Supplemental Course Allocation (SCA) - Initial Allocation ","February 1, 2023 Base Student Count for Grades 7 - 12","Complete","EdLink Student & Enrollment (PP3)","Grades 7 - 12, February 1 Base Student Count"]
[4,"Supplemental Course Allocation (SCA) - Reallocation","Reallocation includes a review by Program staff on usage of funds and adjustments to allocations ","Pending - Data Available Spring 2024","SCA Spending Data Collection","SCA Spending Data "]
[4,"2019-20, 2021-22, and 2022-23 Certificated and Support Staff Pay Raises - Initital Allocation","Fall 2022 Staffing Data Collection","Complete","EdLink Fall / Winter CLASS Collection (PP2)","Pay Raise Eligible Positions  "]
[4,"2019-20, 2021-22, and 2022-23 Certificated and Support Staff Pay Raises -  Final Allocation","Spring 2024 Staffing Data Collection","Complete","EdLink Fall / Winter CLASS Collection (PP2)","Pay Raise Eligible Positions  "]
[4,"Resident Teachers ","Fall 2023 Staffing Data Collection + Special Resident Teacher Data Collection","Pending - Data Available Winter 2024","Fall Mentor & Resident Collection & EdLink Fall / Winter CLASS Collection (PP2)","Eligible Resident Teachers"]
[4,"Mentor Teacher Stipends","Fall 2023 Staffing Data Collection + Special Mentor Teacher Data Collection","Pending - Data Available Winter 2024","Fall Mentor & Resident Collection & EdLink Fall / Winter CLASS Collection (PP2)","Eligible Mentor Teachers"]
[9,"Per Pupil Summary/Charter Per Pupil - Initial ","FY 2022-23 Local Tax Survey and February 1, 2023 Student Counts","Final ","AFR Local Revenue Tax Survey","Projected Local Revenues "]
[9,"Per Pupil Summary/Charter Per Pupil - Final","FY2022-23 Annual Financial Report (AFR) and October 1, 2023 Student Counts","Complete","AFR","Actual Local Revenues"]
["Various ","October Mid Year Adjustments","October 1, 2023 Student Counts","Complete","EdLink Student & Enrollment (PP1)"]
["Various ","February Mid Year Adjustments","February 1, 2024 Student Counts","Complete","EdLink Student & Enrollment (PP3)"]
["Various ","Prior Period MFP Audit Adjustments","October 1, 2021 And February 1, 2022 ","Complete","MFP Student Count Audits"]

{"sheet":"1_State Summary","index":5,"n_rows":11,"n_cols":2,"rows_kept":11,"cut":false,"hidden":false,"merged":[[0,0,0,1],[1,0,1,1],[0,7,0,8],[1,7,1,8]]}
["FY2023-24 MFP Budget Letter"]
["TABLE 1: STATE LEVEL SUMMARY"]
["MFP Formula Items","BESE Adopted \nProjection \nJuly 2023"]
["Level 1 State Cost Allocation",2435692680]
["Level 2 Incentive for Local Effort ",510256602]
["Level 3 Legislative Allocations\n(Continuation of Prior Year Pay Raises, Historical Formula Allocation, Mandated Costs)",599816618]
["Level 4 Supplementary Funding \nInternational Language/Escadrille Associate Program Salary and Stipends, Career Development Fund (CDF), High Cost Services (HCS), Supplemental Course Allocation (SCA), FY2019-20, FY2021-22 and  FY2022-23 Certificated & Non-Certificated Pay Raises, and Mentor Teacher Stipends\n\n",404100996.5]
["Allocations for Other Public Schools\nLab Schools, State Schools, and Legacy Type 2 Charter Schools",69117962]
["Prior Year Audit Adjustments ",-8728860]
["Mid-Year Adjustments (Oct and Feb)  ",-16336109]
["Total MFP Allocation",3993919889.5]

{"sheet":"2_State Distrib and Adjs","index":6,"n_rows":76,"n_cols":62,"rows_kept":76,"cut":false,"hidden":false,"merged":[[0,61,1,61],[0,57,0,60],[0,53,1,53],[0,56,1,56],[3,0,3,1],[0,41,0,43],[0,44,0,46],[0,47,1,47],[0,48,0,52],[0,55,1,55],[0,54,1,54],[5,0,5,1],[0,40,1,40],[0,3,0,7],[0,0,1,1],[0,2,1,2],[0,39,1,39],[0,8,0,14],[0,15,0,20],[0,21,0,26],[0,27,0,32],[0,33,0,38]]}
["School Systems\nand Schools",null,"Total MFP\nState Cost\nAllocation\n\n(Levels 1, 2,\n& 3 with\nContinuation\nof Prior Year\nPay Raises)","Minus State Cost Allocations to Other Public Schools",null,null,null,null,"Minus State Cost Allocations to Other Public Schools",null,null,null,null,null,null,"Minus State Cost Allocations to Other Public Schools",null,null,null,null,null,"Minus State Cost Allocations to Other Public Schools",null,null,null,null,null,"Minus State Cost Allocations to Other Public Schools",null,null,null,null,null,"Minus State Cost Allocations to Other Public Schools",null,null,null,null,null,"\nTotal MFP\nAllocation\n- State Cost\nAllocations to\nOther Public\nSchools","City/Parish\nPer Pupil\n\n(After State Cost\nAllocations to\nOther Public\nSchools)","Prior Years Audit Adjustments\nCity/Parish Only",null,null,"Mid-Year Adjustment for Students",null,null,"\nTotal MFP\nAllocation\n- State Cost\nAllocations to\nOther Public\nSchools\n+/- Adjustments","Level 4 Funds Paid Monthly",null,null,null,null,"\nTotal MFP\nAllocation\n- State Cost\nAllocations to\nOther Public\nSchools\n+/- Adjustments\n+ Monthly Level 4"," YTD\nPayments","Balance\nRemaining","Monthly\nPayments","Level 4 Funds Paid Annually",null,null,null,"\nTotal MFP\nAllocation\n- State Cost\nAllocations to\nOther Public\nSchools\n+/- Adjustments\n+ Total Level 4\nFunds"]
[null,null,null,"Recovery\nSchool\nDistrict\n&\nType 5\nCharters","Madison\nPrep\n\n\n\n343001","D'Arbonne\nWoods\n\n\n\n341001","International\nHigh School\n\n\n\n344001","New\nOrleans\nMilitary/\nMaritime\n\n348001","Lycee\nFrancais\n\n\n\n347001","Lake\nCharles\nCharter\n\n\n346001","J.S. Clark\nAcademy\n\n\n\nWAL001","Southwest\nLouisiana\nCharter\n\n\nWAK001","Louisiana\nKey\nAcademy\n\n\nW7A001","JCFA\nEast\n\n\n\nW1A001","GEO Prep\nMid-City\n\n\n\nWZ8001","Delta \nCharter\nSchool\n\n\nW4A001","Impact\nCharter\n\n\n\nW8A001","Advantage\nCharter\nAcademy\n\n\nW1B001","Iberville\nCharter\nAcademy\n\n\nW3B001","Lake\nCharles\nCollege\nPreparatory\n\nW4B001","Northeast\nClaiborne\nCharter\n\n\nW5B001","Acadiana\nRenaissance\n\n\n\nW6B001","Lafayette\nRenaissance\n\n\n\nW7B001","Willow\nCharter\nAcademy\n\n\nW2B001","GEO\nPrep\nAcademy\n\n\nWAU001","Lincoln\nPrep\nSchool\n\n\nW33001","Noble\nMinds\nInstitute\n\n\nW18001","JCFA\nLafayette\n\n\n\nW1D001","Collegiate\nAcademy\n\n\n\nWJ5001","New\nHarmony\nHigh\nSchool\n\nWBQ001","Athlos\nAcademy\nof Jefferson\nParish\n\nWBR001","GEO Next\nGeneration\nHigh School\n\n\nWBX001","Red River\nCharter\nAcademy\n\n\nWBY001","St Landry\nCharter\nSchool\n\n\n3C5001","Geo Prep Baker\n\n\n\nWZN001","Louisiana Key Academy Northshore\n \n\nWZO001","Louisiana\nVirtual\nCharter\nAcademy\n\nWAG001","University\nView\nAcademy\n\n\n345001","Total\nState Cost \nAllocations\nto Other\nPublic\nSchools",null,null,"Prior Years\nMFP Audit\nAdjustments\n","Total\nDue to\nDistrict\n(+)","Total\nDue to\nState\n(-)","October\n\nMid-Year\nAdjustment\nfor Students","February\n\nMid-Year\nAdjustment\nfor Students","Total\nMid-Year\nAdjustment\nfor Students",null,"Salaries for\nInternational\nAssociate/\nEscadrille\nTeachers","Supplemental\nCourse\nAllocation\n\n(Initial)","FY2019-20\nCertificated\nand Non-\nCertificated\nPay Raise","FY2021-22\nCertificated\nand Non-\nCertificated\nPay Raise","FY2022-23\nCertificated\nand Non-\nCertificated\nPay Raise",null,null,null,null,"Stipends for\nInternational\nAssociate/\nEscadrille\nTeachers","Career\nDevelopment\nFund\nAllocation\n\n","High Cost\nServices\nAllocation","Mentor \nTeacher Stipend Allocation"]
[]
["FY2023-24",null,1,2,3,4,5,6,7,8,9,10,11,12,13,14,15,16,17,18,19,20,21,22,23,24,25,26,27,28,29,30,31,33,null,null,34,35,36,37,38,39,40,41,42,43,44,45,46,47,48,49,50,51,52,53,54,55,56,57,58,59]
["March 2024",null,"Link in File","Link in File","Link in File","Link in File","Link in File","Link in File","Link in File","Link in File","Link in File","Link in File","Link in File","Link in File","Link in File","Link in File","Link in File","Link in File","Link in File","Link in File","Link in File","Link in File","Link in File","Link in File","Link in File","Link in File","Link in File","Link in File","Link in File","Link in File","Link in File","Link in File","Link in File",null,null,null,"Link in File","Link in File","Formula","Formula","Formula","Link out\nof File","Formula","Formula","Link out\nof File","Link out\nof File","Formula","Formula","Link in File","Link in File",null,null,null,"Formula","Formula","Formula","Formula","Link in File","Link in File","Link in File",null,"Formula"]
["March 2024",null,"(T3, C33)","(T5B2, C6)","-(T5C1A, C16)","-(T5C1B, C16)","-(T5C1C, C16)","-(T5C1D, C16)","-(T5C1E, C16)","-(T5C1F, C16)","-(T5C1G, C16)","-(T5C1H, C16)","-(T5C1I, C16)","-(T5C1J, C16)","-(T5C1M, C16)","-(T5C1N, C16)","-(T5C1O, C16)","-(T5C1Q, C16)","-(T5C1R, C16)","-(T5C1S, C16)","-(T5C1T, C16)","-(T5C1U, C16)","-(T5C1V, C16)","-(T5C1W, C16)","-(T5C1Y, C16)","-(T5C1Z, C16)","-(T5C1AE, C16)","-(T5C1AF, C16)","-(T5C1AG, C16)","-(T5C1AI, C16)","-(T5C1AJ, C16)","-(T5C1AK, C16)","-(T5C1AL, C16)","-(T5C1AN, C16)",null,null,"-(T5C2,\nC16 + C16a)","-(T5C3,\nC16 + C16a)","Sum (C2:C33)","Sum (C1:C35)","C35 ÷ (T8, C1)","Link to Over/Under in Nov 2023 + Audit File","If C39 > 0, C39, 0","If C39 < 0, C39, 0","Link to October Tab in Mid-Year File","Link to February Tab in Mid-Year File","C42 + C43","C37 + C39 + C44","(T4, C2)","(T4, C14)","(T4, C26)","(T4, C38)","(T4, C50)","Sum (C45:C50)","Prior Month File:\n(T2, C52 + C54)","C51 - C52","C53 ÷ Months\nRemaining","(T4, C7)","(T4, C9)","(T4, C10)","(T4, C52)","C48 + C52 + C53 + C54"]
[1,"Acadia",55583303,0,0,0,0,0,0,0,-12071,-27614,0,0,0,0,0,0,0,0,0,-5274,-216999,-70489,0,0,0,-11523,0,0,0,0,0,0,0,0,-166255,-237147,-747372,54835931,6229,-48399,0,-48399,43603,-118351,-74748,54712784,0,261940,1208252,966604,1812382,58961962,39390048,19571914,4892979,0,251363,0,8000,59221325]
[2,"Allen",28215140,0,0,0,0,0,0,0,0,0,0,0,0,0,0,0,0,-5819,0,0,0,0,0,0,0,0,0,0,0,0,0,0,0,0,0,-115575,-121394,28093746,7418,137324,137324,0,-526678,-51926,-578604,27652466,0,121310,635957,508765,953935,29872433,20179464,9692969,2423242,0,153758,0,0,30026191]
[3,"Ascension",115764026,0,-22390,0,0,0,0,0,0,0,-120246,0,-12702,0,0,0,-326243,0,0,0,0,0,-13089,0,0,0,0,0,0,0,0,0,0,0,-120092,-564161,-1178923,114585103,4907,-215245,0,-215245,544677,95687,640364,115010222,0,754950,3690624,2952499,5535937,127944232,84832200,43112032,10778008,0,1157523,169989,83000,129354744]
[4,"Assumption",18604206,0,0,0,0,0,0,0,0,0,0,0,0,0,0,0,-94947,0,0,-5900,-10096,0,0,0,0,0,0,0,0,0,0,0,0,0,-76277,-125721,-312941,18291265,6780,-6704,0,-6704,-603420,13560,-589860,17694701,21000,85120,425482,340386,638224,19204913,13154829,6050084,1512521,0,80012,226020,12000,19522945]
[5,"Avoyelles",33033306,0,0,0,0,0,0,0,0,0,0,0,0,0,0,0,0,0,0,0,0,0,0,0,0,0,0,0,0,0,-1060549,0,0,0,-167728,-253986,-1482263,31551043,6682,-109759,0,-109759,-53456,-210483,-263939,31177345,0,152320,588086,470469,882129,33270349,22426400,10843949,2710987,0,222202,99893,0,33592444]
[6,"Beauregard",33717417,0,0,0,0,0,0,-10765,0,0,0,0,0,0,0,0,0,0,0,0,0,0,0,0,0,0,0,0,0,0,0,0,0,0,-128889,-69249,-208903,33508514,6124,-33781,0,-33781,275580,6124,281704,33756437,0,167440,866614,693291,1299920,36783702,24290324,12493378,3123345,0,91339,0,20000,36895041]
[7,"Bienville",8511852,0,0,0,0,0,0,0,0,0,0,0,0,0,0,0,0,0,0,0,0,0,0,-57986,0,0,0,0,0,0,0,0,0,0,-18026,-48575,-124587,8387265,4596,-7902,0,-7902,-160860,-64344,-225204,8154159,0,57260,375089,300071,562633,9449212,6485699,2963513,740878,0,66757,0,0,9515969]
[8,"Bossier",133681455,0,0,0,0,0,0,0,0,0,0,0,0,0,0,0,0,0,0,0,0,0,0,0,0,0,0,0,0,0,0,0,0,0,-451934,-272577,-724511,132956944,6027,-115217,0,-115217,-952266,-415863,-1368129,131473598,105000,694050,3338627,2670901,5007940,143290116,96372680,46917436,11729359,12000,643470,0,59000,144004586]
[9,"Caddo",186407981,-5162017,0,0,0,0,0,0,0,0,0,0,0,0,0,0,0,0,0,0,0,0,0,0,0,0,0,0,0,0,0,0,0,0,-727052,-475890,-6364959,180043022,5427,-787770,0,-787770,-4184217,40703,-4143514,175111738,231000,1074710,4771117,3816892,7156676,192162133,131317833,60844300,15211075,12000,1062328,0,75000,193311461]
[10,"Calcasieu",128453212,0,0,0,0,0,0,-3876011,0,-2900278,0,0,0,0,0,0,-263,-2457238,0,-7449,0,0,0,0,0,0,0,0,0,0,0,0,0,0,-224406,-275297,-9740942,118712270,4381,-102235,0,-102235,1196013,155526,1351539,119961574,924000,856590,4767353,3813883,7151031,137474431,90942013,46532418,11633105,60000,904714,844845,152000,139435990]
[11,"Caldwell",11796840,0,0,0,0,0,0,0,0,0,0,0,0,0,0,0,0,0,0,0,0,0,0,0,0,0,0,0,0,0,0,0,0,0,-6556,-65156,-71712,11725128,8114,0,0,0,-178508,-154166,-332674,11392454,0,44450,264886,211908,397328,12311026,8404367,3906659,976665,0,96159,119144,2000,12528329]
[12,"Cameron",2949291,0,0,0,0,0,0,-20811,0,0,0,0,0,0,0,0,0,0,0,0,0,0,0,0,0,0,0,0,0,0,0,0,0,0,0,-60,-20871,2928420,2800,11929,11929,0,47600,4200,51800,2992149,0,35350,261410,209127,392114,3890150,2558173,1331977,332994,0,27474,0,4000,3921624]
[13,"Catahoula",7800763,0,0,0,0,0,0,0,0,0,0,0,0,-586930,0,0,0,0,0,0,0,0,0,0,0,0,0,0,0,0,0,0,0,0,-31013,-18877,-636820,7163943,7470,-3855,0,-3855,-380970,14940,-366030,6794058,0,30240,188137,150510,282206,7445151,5190044,2255107,563777,0,25000,64256,0,7534407]
[14,"Claiborne",13344515,0,0,-12157,0,0,0,0,0,0,0,0,0,0,0,0,0,0,-268379,0,0,0,0,-241045,0,0,0,0,0,0,0,0,0,0,-29742,-34516,-585839,12758676,8014,210,210,0,-320560,-92161,-412721,12346165,0,47180,278844,223075,418265,13313529,9129237,4184292,1046073,0,41452,0,0,13354981]
[15,"Concordia",22026623,0,0,0,0,0,0,0,0,0,0,0,0,-2275163,0,0,0,0,0,0,0,0,0,0,0,0,0,0,0,0,0,0,0,0,-76257,-28469,-2379889,19646734,6984,-184809,0,-184809,6975,38363,45338,19507263,42000,85890,524268,419415,786404,21365240,14340849,7024391,1756098,0,116403,0,8000,21489643]
[16,"DeSoto",15146618,0,0,0,0,0,0,0,0,0,0,0,0,0,0,0,0,0,0,0,0,0,0,0,0,0,0,0,0,0,0,0,0,0,-46796,-79100,-125896,15020722,3190,-17889,0,-17889,-31900,0,-31900,14970933,0,150920,814042,651233,1221062,17808190,11678138,6130052,1532513,0,346317,499575,15000,18669082]
[17,"East Baton Rouge",180357074,-1750390,-2093277,0,0,0,0,0,0,0,-1662578,0,-2686688,0,-746588,-944821,-273578,0,0,0,-3840,0,-2870441,0,0,0,-1919350,0,0,-1492737,0,0,-113043,0,-502272,-1341068,-18400671,161956403,4181,-111790,0,-111790,-24948,-359667,-384615,161459998,483000,1119090,6327580,5062064,9491368,183943100,121939484,62003616,15500904,42000,2360354,741798,98000,187185252]
[18,"East Carroll",5578089,0,0,0,0,0,0,0,0,0,0,0,0,0,0,0,0,0,0,0,0,0,0,0,0,0,0,0,0,0,0,0,0,0,-23979,0,-23979,5554110,7386,-20038,0,-20038,-192036,11079,-180957,5353115,21000,23730,133542,106833,200311,5838531,4029637,1808894,452224,6000,46995,0,0,5891526]
[19,"East Feliciana",9160996,0,0,0,0,0,0,0,0,0,-37333,0,0,0,0,-62737,0,0,0,0,0,0,0,0,0,0,0,0,0,-9045,0,0,0,0,-26920,-116617,-252652,8908344,5631,10989,10989,0,78834,16893,95727,9015060,0,52430,235528,188422,353290,9844730,6578236,3266494,816624,0,40488,0,0,9885218]
[20,"Evangeline",37741152,0,0,0,0,0,0,0,-24712,0,0,0,0,0,0,0,0,0,0,0,-6080,0,0,0,0,0,0,0,0,0,0,0,0,0,-98369,-155853,-285014,37456138,7079,-99025,0,-99025,-580478,-42474,-622952,36734161,147000,166180,884656,707725,1326984,39966706,26988199,12978507,3244627,24000,201717,1117388,10000,41319811]
[21,"Franklin",19350530,0,0,0,0,0,0,0,0,0,0,0,0,-6351,0,0,0,0,0,0,0,0,0,0,0,0,0,0,0,0,0,0,0,0,-30035,-159426,-195812,19154718,7430,-40243,0,-40243,-854450,-115165,-969615,18144860,0,78120,459195,367355,688794,19738324,13834920,5903404,1475851,0,74710,0,0,19813034]
[22,"Grant",21365889,0,0,0,0,0,0,0,0,0,0,0,0,0,0,0,0,0,0,0,0,0,0,0,0,0,0,0,0,0,0,0,0,0,-12949,-55152,-68101,21297788,7959,0,0,0,183057,-167139,15918,21313706,0,83720,398876,319100,598314,22713716,15122340,7591376,1897844,0,84832,0,14000,22812548]
[23,"Iberia",69365539,0,0,0,0,0,0,0,0,0,0,0,0,0,0,0,0,0,0,-710432,-18804,-15705,0,-9437,0,0,0,0,0,0,0,0,0,0,-231800,-273703,-1259881,68105658,6271,-151113,0,-151113,-1015902,-169317,-1185219,66769326,168000,330190,1640160,1312128,2460240,72680044,49355892,23324152,5831038,0,311131,334181,49000,73374356]
[24,"Iberville",11718285,0,-7578,0,0,0,0,0,0,0,-21911,0,-6665,0,0,0,-475919,0,0,0,0,0,0,0,0,0,0,0,0,0,0,0,0,0,-2419,-29278,-543770,11174515,2842,6566,6566,0,-525872,-25722,-551594,10629487,0,127680,833839,667072,1250759,13508837,9395707,4113130,1028283,0,85073,79138,17000,13690048]
[25,"Jackson",12989903,0,0,-4672,0,0,0,0,0,0,0,0,0,0,0,0,0,0,0,0,0,0,0,-177684,0,0,0,0,0,0,0,0,0,0,-117351,-46433,-346140,12643763,6241,-2844,0,-2844,-293327,-53049,-346376,12294543,0,65870,345860,276687,518790,13501750,9137940,4363810,1090953,0,83506.5,0,12000,13597256.5]
[26,"Jefferson",229220222,0,0,0,-188147,-3048890,-928173,0,0,0,0,-597814,0,0,0,0,-62214,0,0,0,-20681,0,0,0,-65357,0,0,-111246,-4531094,0,0,0,0,0,-936864,-1375155,-11865635,217354587,4745,-1355192,0,-1355192,33306,518622,551928,216551323,441000,1385020,6722971,5378377,10084458,240563149,160130507,80432642,20108161,30000,1797619,197459,90000,242678227]
[27,"Jefferson Davis",35212725,0,0,0,0,0,0,-22476,0,0,0,0,0,0,0,0,0,-654,0,0,0,0,0,0,0,0,0,0,0,0,0,0,0,0,-93673,-69951,-186754,35025971,6841,-9358,0,-9358,-82092,-54728,-136820,34879793,0,163940,770516,616412,1155773,37586434,25175396,12411038,3102760,0,154963,39486,14000,37794883]
[28,"Lafayette",157669983,0,0,0,0,0,0,-3845,-4367,-4367,-7406,0,0,0,0,0,0,0,0,-6695601,-4966327,-2831532,0,0,0,-244221,0,0,0,0,0,-4367,0,0,-385672,-822611,-15970316,141699667,4670,-259102,0,-259102,-4199946,-11693,-4211639,137228926,525000,965020,4201670,3361336,6302504,152584456,105155054,47429402,11857351,54000,1172706,0,189000,154000162]
[29,"Lafourche",74884917,0,0,0,0,0,0,0,0,-5260,0,0,0,0,0,0,-326362,0,0,-4810,-34232,0,0,0,0,0,0,0,0,0,0,0,0,0,-183579,-460244,-1014487,73870430,5642,-153082,0,-153082,-78988,-174902,-253890,73463458,294000,407750,1839257,1471405,2758885,80234755,53718360,26516395,6629099,18000,548757,45367,76000,80922879]
[30,"LaSalle",16858648,0,0,0,0,0,0,0,0,0,0,0,0,0,0,0,0,0,0,0,0,0,0,0,0,0,0,0,0,0,0,0,0,0,-30951,-100441,-131392,16727256,7002,-9438,0,-9438,-7002,-84024,-91026,16626792,0,76300,367874,294300,551812,17917078,12004600,5912478,1478120,0,131827,0,2000,18050905]
[31,"Lincoln",34475555,0,0,-300671,0,0,0,0,0,0,0,0,0,0,0,0,0,0,-14965,0,0,0,0,-2981641,0,0,0,0,0,0,-158,0,0,0,-99780,-113002,-3510217,30965338,5550,-16326,0,-16326,249750,13875,263625,31212637,63000,171990,987405,789924,1481107,34706063,22747528,11958535,2989634,6000,113270,0,38000,34863333]
[32,"Livingston",179690192,0,-68175,0,0,0,0,0,0,0,-105060,0,-5370,0,0,-24383,-27048,0,0,0,0,0,-77636,0,0,0,0,0,0,-18287,0,0,0,0,-453837,-2138498,-2918294,176771898,6738,-175853,0,-175853,1960758,-394173,1566585,178162630,0,805350,3766019,3012815,5649029,191395843,126518328,64877515,16219379,0,1593010,0,104000,193092853]
[33,"Madison",8085403,0,0,0,0,0,0,0,0,0,0,0,0,0,0,0,0,0,0,0,0,0,0,0,0,0,0,0,0,0,0,0,-5456,0,-25487,-238928,-269871,7815532,6669,-114893,0,-114893,33345,40014,73359,7773998,0,37520,249444,199555,374165,8634682,5755549,2879133,719783,0,41452,0,0,8676134]
[34,"Morehouse",22475272,0,0,-5970,0,0,0,0,0,0,0,0,0,0,0,0,0,0,0,0,0,0,0,0,0,0,0,0,0,0,0,0,0,0,-215286,-246205,-467461,22007811,7083,104416,104416,0,-35415,3542,-31873,22080354,0,94150,501675,401340,752511,23830030,15764155,8065875,2016469,0,198584,19648,8000,24056262]
[35,"Natchitoches",27144335,0,0,0,0,0,0,0,0,0,0,0,0,0,0,0,0,0,0,0,0,0,0,0,0,0,0,0,0,0,0,0,0,0,-132070,-29944,-162014,26982321,5425,-198959,0,-198959,-960225,-67813,-1028038,25755324,0,159530,741175,592941,1111762,28360732,19665156,8695576,2173894,0,226781,0,36000,28623513]
[36,"Orleans",209835741,0,0,0,-1415826,-879071,-2984308,0,0,0,0,-29536,0,0,0,0,-19619,0,0,0,-3722,0,0,0,-630351,0,0,-1149048,-433053,0,0,0,0,-11886,-491169,-433955,-8481544,201354197,4733,-968107,0,-968107,-1277910,371541,-906369,199479721,357000,1391880,6793557,5434839,10190342,223647339,149698904,73948435,18487109,24000,1173838,4680691,26000,229551868]
[37,"Ouachita",113008930,0,0,-59337,0,0,0,0,0,0,0,0,0,0,0,0,0,0,0,0,0,0,0,-16517,0,0,0,0,0,0,0,0,0,0,-182356,-396359,-654569,112354361,6385,-596476,0,-596476,-1883575,-178780,-2062355,109695530,0,552860,2629771,2103816,3944656,118926633,80898223,38028410,9507103,0,297635,0,56000,119280268]
[38,"Plaquemines",11697140,0,0,0,0,-45250,-5121,0,0,0,0,-2842,0,0,0,0,0,0,0,0,0,0,0,0,0,0,0,0,-14212,0,0,0,0,0,-11164,-64739,-143328,11553812,3254,-111100,0,-111100,16285,-50484,-34199,11408513,0,120890,645316,516252,967974,13658945,9207502,4451443,1112861,0,86519,0,0,13745464]
[39,"Pointe Coupee",10215076,0,0,0,0,0,0,0,0,0,-33587,0,0,0,0,0,-3452,0,0,0,0,0,0,0,0,0,0,0,0,0,0,0,0,0,-40120,-62412,-139571,10075505,4242,-19404,0,-19404,-551720,-16976,-568696,9487405,0,78820,335826,268660,503739,10674450,7475937,3198513,799628,0,178822,0,0,10853272]
[40,"Rapides",126989009,0,0,0,0,0,0,0,0,0,0,0,0,0,0,0,0,0,0,0,0,0,0,0,0,0,0,0,0,0,-17359,0,0,0,-306344,-357719,-681422,126307587,6159,-742154,0,-742154,301791,166293,468084,126033517,0,663950,3247836,2598270,4871755,137415328,91312418,46102910,11525728,0,787829,64030,94000,138361187]
[41,"Red River",4416758,0,0,0,0,0,0,0,0,0,0,0,0,0,0,0,0,0,0,0,0,0,0,0,0,0,0,0,0,0,0,0,0,0,-17867,-6624,-24491,4392267,3735,-16014,0,-16014,-141930,14940,-126990,4249263,0,39760,234896,187916,352343,5064178,3441320,1622858,405715,0,62660,105814,2000,5234652]
[42,"Richland",16111242,0,0,0,0,0,0,0,0,0,0,0,0,0,0,0,0,0,0,0,0,0,0,0,0,0,0,0,0,0,0,0,0,0,-29619,-59049,-88668,16022574,5974,-34886,0,-34886,-268830,83636,-185194,15802494,0,85470,386075,308861,579114,17162014,11540026,5621988,1405497,0,109896,0,18000,17289910]
[43,"Sabine",22335599,0,0,0,0,0,0,0,0,0,0,0,0,0,0,0,0,0,0,0,0,0,0,0,0,0,0,0,0,0,0,0,0,0,-40072,-72790,-112862,22222737,6029,-46751,0,-46751,-681277,-36174,-717451,21458535,0,117180,654382,523506,981573,23735176,16296336,7438840,1859710,0,188462,140907,2000,24066545]
[44,"St. Bernard",45404893,0,0,0,-32764,-27761,-26387,0,0,0,0,-5719,0,0,0,0,0,0,0,0,0,0,0,0,-4883,0,0,0,-16621,0,0,0,0,-9363,-151033,-105292,-379823,45025070,6049,-242411,0,-242411,-326646,-105858,-432504,44350155,0,238350,971956,777564,1457934,47795959,32269842,15526117,3881529,0,461274,0,34000,48291233]
[45,"St. Charles",28505505,0,0,0,0,0,-18666,0,0,0,0,-2598,0,0,0,0,0,0,0,0,-2911,0,0,0,0,0,0,0,0,0,0,0,0,0,-52653,-64388,-141216,28364289,3152,-12891,0,-12891,-176624,-160854,-337478,28013920,0,293650,1764481,1411585,2646721,34130357,22945630,11184727,2796182,0,384395,344057,50000,34908809]
[46,"St. Helena",8742053,0,0,0,0,0,0,0,0,0,0,0,0,0,0,0,0,0,0,0,0,0,0,0,0,0,0,0,0,0,0,0,0,0,-64743,-132648,-197391,8544662,8272,-88150,0,-88150,-405328,49632,-355696,8100816,0,32060,144800,115840,217200,8610716,6035784,2574932,643733,0,26028,0,0,8636744]
[47,"St. James",11832482,0,0,0,0,0,0,0,0,0,0,0,0,0,0,0,0,0,0,0,0,0,0,0,0,0,0,0,0,0,0,0,0,0,-9623,-17018,-26641,11805841,3715,-5422,0,-5422,-297200,31578,-265622,11534797,0,111160,533223,426579,799835,13405594,9108023,4297571,1074393,0,223166,337189,2000,13967949]
[48,"St. John the Baptist",18992199,0,0,0,-6349,0,-3374,0,0,0,-6095,0,0,0,0,0,0,0,0,0,0,0,0,0,-13931,0,0,0,0,0,0,0,0,0,-69075,-168987,-267811,18724388,3898,-258227,0,-258227,261166,144226,405392,18871553,0,151550,827041,661633,1240563,21752340,14337823,7414517,1853629,0,266064,0,0,22018404]
[49,"St. Landry",76622054,0,0,0,0,0,0,0,-1912319,0,-25618,0,0,0,0,0,0,0,0,-76568,-744839,-173070,0,-5535,0,-11431,0,0,0,0,-5896,-1466176,0,0,-433990,-672786,-5528228,71093826,6257,262155,262155,0,-2089838,-140783,-2230621,69125360,126000,363230,1811634,1449308,2717452,75592984,51562245,24030739,6007685,18000,697936,114186,30000,76453106]
[50,"St. Martin",41667389,0,0,0,0,0,0,0,-10602,0,0,0,0,0,0,0,0,0,0,-519959,-333716,-58299,0,0,0,-523,0,0,0,0,0,0,0,0,-200286,-233405,-1356790,40310599,5903,-78726,0,-78726,-1009413,-132818,-1142231,39089642,189000,218470,973467,778774,1460201,42709554,29182712,13526842,3381711,24000,237385,0,6000,42976939]
[51,"St. Mary",46222073,0,0,0,0,0,0,0,0,0,0,0,0,0,0,0,-18622,0,0,0,0,0,0,0,0,0,0,0,0,0,0,0,0,0,-81013,-274967,-374602,45847471,6147,-25909,0,-25909,-1352340,55323,-1297017,44524545,0,246400,1207074,965659,1810611,48754289,33297248,15457041,3864260,0,435246,13989,16000,49219524]
[52,"St. Tammany",198410396,0,0,0,-4251,-9133,-42303,0,0,0,-8186,0,0,0,0,0,0,0,0,0,0,0,0,0,-4829,0,0,-9080,-9657,0,0,0,0,-706770,-641395,-1830717,-3266321,195144075,5421,-219872,0,-219872,-1447407,-18974,-1466381,193457822,0,1168020,6110394,4888314,9165591,214790141,144056936,70733205,17683301,0,1183069,374195,146000,216493405]
[53,"Tangipahoa",117895440,0,0,0,0,0,0,0,0,0,-18877,0,0,0,-11217,0,0,0,0,0,0,0,-9900,0,0,0,0,0,0,0,0,0,0,-108698,-363392,-1421456,-1933540,115961900,6227,-150014,0,-150014,485706,-136994,348712,116160598,0,594300,2897599,2318079,4346397,126316973,83830396,42486577,10621644,0,1075342,0,76000,127468315]
[54,"Tensas",2302868,0,0,0,0,0,0,0,0,0,0,0,0,-209591,0,0,0,0,0,0,0,0,0,0,0,0,0,0,0,0,0,0,0,0,0,-8521,-218112,2084756,6150,63095,63095,0,-147600,9225,-138375,2009476,0,10080,67569,54055,101353,2242533,1561041,681492,170373,0,25000,0,0,2267533]
[55,"Terrebonne",77919181,0,0,0,0,0,0,0,0,0,0,0,0,0,0,0,-242533,0,0,-14273,-13629,0,0,0,0,0,0,0,0,0,0,0,0,0,-367949,-739607,-1377991,76541190,5302,-96260,0,-96260,-811206,15906,-795300,75649630,0,458080,2058857,1647084,3088286,82901937,55790354,27111583,6777896,0,366079,460308,42000,83770324]
[56,"Union",19399571,0,0,-5634545,0,0,0,0,0,0,0,0,0,0,0,0,0,0,-1055045,0,0,0,0,-419773,0,0,0,0,0,0,0,0,0,0,-59029,-46313,-7214705,12184866,7155,-28739,0,-28739,-651105,10733,-640372,11515755,0,55440,273172,218539,409758,12472664,8723018,3749646,937412,0,50851,12518,4000,12540033]
[57,"Vermilion",59975668,0,0,0,0,0,0,0,0,0,0,0,0,0,0,0,0,0,0,-509484,-12954,0,0,0,0,-18092,0,0,0,0,0,0,0,0,-202925,-167997,-911452,59064216,6545,-142828,0,-142828,-117810,-261800,-379610,58541778,105000,275450,1267315,1013852,1900973,63104368,42240796,20863572,5215893,36000,226299,106998,32000,63505665]
[58,"Vernon",51221687,0,0,0,0,0,0,0,0,0,0,0,0,0,0,0,0,0,0,0,0,0,0,0,0,0,0,0,0,0,0,0,0,0,-221630,-176011,-397641,50824046,6711,-65089,0,-65089,20133,-83888,-63755,50695202,0,216230,1085726,868581,1628588,54494327,36353217,18141110,4535278,0,89170,79092,4000,54666589]
[59,"Washington",35842776,0,0,0,0,0,0,0,0,0,0,0,0,0,0,0,0,0,0,0,0,0,0,0,0,0,0,0,0,0,0,0,0,0,-78640,-309170,-387810,35454966,7751,-16346,0,-16346,-1410682,-54257,-1464939,33973681,0,146650,720693,576554,1081040,36498618,25291577,11207041,2801760,0,156168,0,0,36654786]
[60,"Webster",32623568,0,0,0,0,0,0,0,0,0,0,0,0,0,0,0,0,0,0,0,0,0,0,-16511,0,0,0,0,0,0,0,0,0,0,-28570,-134322,-179403,32444165,6399,-265847,0,-265847,-563112,-217566,-780678,31397640,0,166600,739548,591639,1109323,34004750,23343036,10661714,2665429,0,165808,16770,8000,34195328]
[61,"West Baton Rouge",15529052,0,-6771,0,0,0,0,0,0,0,-90488,0,-3331,0,0,0,-85891,0,0,0,0,0,-6264,0,0,0,0,0,0,0,0,0,-3331,0,-26796,-132059,-354931,15174121,3898,53593,53593,0,374208,-79909,294299,15522013,0,123270,754769,603814,1132153,18136019,11564036,6571983,1642996,0,168941,0,32000,18336960]
[62,"West Carroll",12112941,0,0,0,0,0,0,0,0,0,0,0,0,0,0,0,0,0,0,0,0,0,0,0,0,0,0,0,0,0,0,0,0,0,-11526,-98646,-110172,12002769,7377,-34518,0,-34518,-1018026,-18443,-1036469,10931782,0,53200,172244,137795,258366,11553387,8473360,3080027,770007,0,54948,40590,2000,11650925]
[63,"West Feliciana",9000264,0,0,0,0,0,0,0,0,0,0,0,0,0,0,-6423,0,0,0,0,0,0,0,0,0,0,0,0,0,0,0,0,0,0,-17528,-59065,-83016,8917248,4314,-13151,0,-13151,4317,19427,23744,8927841,0,64820,385459,308366,578187,10264673,6824196,3440477,860119,0,66516,0,2000,10333189]
[64,"Winn",13721322,0,0,0,0,0,0,0,0,0,0,0,0,0,0,0,0,0,0,0,0,0,0,-379,0,0,0,0,0,0,0,0,0,0,-48571,-45184,-94134,13627188,7291,27297,27297,0,-911375,-98429,-1009804,12644681,0,61040,263841,211073,395762,13576397,9791677,3784720,946180,0,102184,0,6000,13684581]
[65,"City of Monroe",46551001,0,0,-10484,0,0,0,0,0,0,0,0,0,-10484,0,0,0,0,0,0,0,0,0,-9283,0,0,0,0,0,0,0,0,0,0,-87367,-76117,-193735,46357266,5962,-83640,0,-83640,166936,259347,426283,46699909,0,241290,1322497,1057997,1983743,51305436,33925766,17379670,4344918,0,183883,29928,40000,51559247]
[66,"City of Bogalusa",12676588,0,0,0,0,0,0,0,0,0,0,0,0,0,0,0,0,0,0,0,0,0,0,0,0,0,0,0,0,0,0,0,0,0,-83212,-210665,-293877,12382711,6868,-28106,0,-28106,212908,-3434,209474,12564079,0,50890,324568,259655,486853,13686045,8957500,4728545,1182136,0,97605,145635,0,13929285]
[67,"Zachary Community",35510263,0,-17709,0,0,0,0,0,0,0,-204734,0,0,0,-57047,-71685,0,0,0,0,0,0,-29578,0,0,0,0,0,0,-16841,0,0,-11000,0,-105997,-313091,-827682,34682581,6407,-42421,0,-42421,-64070,-22425,-86495,34553665,0,177590,669271,535416,1003907,36939849,24642793,12297056,3074264,0,122669,0,28000,37090518]
[68,"City of Baker",10474321,0,-93234,0,0,0,0,0,0,0,-131321,0,-23872,0,-1312743,-1364257,0,0,0,0,0,0,-100630,0,0,0,-173293,0,0,-58434,0,0,-164477,0,-77302,-165789,-3665352,6808969,7190,-380841,0,-380841,-438590,129420,-309170,6118958,0,34930,125608,100485,188412,6568393,4809677,1758716,439679,0,29161,25291,2000,6624845]
[69,"Central Community",33619593,0,-48836,0,0,0,0,0,0,0,-226962,0,-17965,0,-6161,-193262,-18062,0,0,0,0,0,-64530,0,0,0,-24126,0,0,-18581,0,0,-17771,0,-43907,-316223,-996386,32623207,6922,12864,12864,0,-782186,-69220,-851406,31784665,0,159600,573142,458512,859713,33835632,23034568,10801064,2700266,0,377406,0,43000,34256038]
[null,"STATE TOTALS",3545765900,-6912407,-2357970,-6027836,-1647337,-4010105,-4008332,-3933908,-1964071,-2937519,-2700402,-638509,-2756593,-3088519,-2133756,-2667568,-1974753,-2463711,-1338389,-8549750,-6388830,-3149095,-3172068,-3935791,-719351,-285790,-2116769,-1269374,-5004637,-1613925,-1083962,-1470543,-315078,-836717,-10521179,-19810956,-123805500,3421960400,5480,-8474683,690438,-9165121,-28572368,-2380871,-30953239,3382532478,4242000,19696460,97379637,77903692,146069460,3727823727,2505533203,1222290524,305572641,366000,24712300.5,11690375,1998000,3766590402.5]

{"sheet":"2A-1_EFT (Annual)","index":7,"n_rows":76,"n_cols":44,"rows_kept":76,"cut":false,"hidden":false,"merged":[[1,53,2,53],[0,48,1,48],[0,44,1,44],[3,0,3,1],[5,0,5,1],[0,43,1,43],[0,0,1,1],[0,2,1,2],[0,3,0,9],[0,10,0,17],[0,18,0,25],[0,26,0,33],[0,34,0,42]]}
["School\nSystem\n\n",null,"Total MFP\nAllocation\n- State Cost\nAllocations to\nOther Public Schools\n+/- Adjustments\n+ Total Level 4","Local Revenue Representation Due to Other Public Schools",null,null,null,null,null,null,"Local Revenue Representation Due to Other Public Schools",null,null,null,null,null,null,null,"Local Revenue Representation Due to Other Public Schools",null,null,null,null,null,null,null,"Local Revenue Representation Due to Other Public Schools",null,null,null,null,null,null,null,"Local Revenue Representation Due to Other Public Schools",null,null,null,null,null,null,null,null,"Total MFP\nPayment \nAmount minus\nLocal Revenue\nRepresentation\ndue to Other\nPublic Schools"]
[null,null,null,"Office of\nJuvenile\nJustice\n\n\nTable 5A3","Recovery\nSchool\nDistrict\n&\nType 5\nCharters","Madison\nPrep\n\n\n\n343001","D'Arbonne\nWoods\n\n\n\n341001","International\nHigh School\n\n\n\n344001","New\nOrleans\nMilitary/\nMaritime\n\n348001","Lycee\nFrancais\n\n\n\n347001","Lake\nCharles\nCharter\n\n\n346001","J.S. Clark\nAcademy\n\n\n\nWAL001","Southwest\nLouisiana\nCharter\n\n\nWAK001","Louisiana\nKey\nAcademy\n\n\nW7A001","JCFA\nEast\n\n\n\nW1A001","GEO Prep\nMid-City\n\n\n\nWZ8001","Delta \nCharter\nSchool\n\n\nW4A001","Impact\nCharter\n\n\n\nW8A001","Advantage\nCharter\nAcademy\n\n\nW1B001","Iberville\nCharter\nAcademy\n\n\nW3B001","Lake\nCharles\nCollege\nPreparatory\n\nW4B001","Northeast\nClaiborne\nCharter\n\n\nW5B001","Acadiana\nRenaissance\n\n\n\nW6B001","Lafayette\nRenaissance\n\n\n\nW7B001","Willow\nCharter\nAcademy\n\n\nW2B001","GEO\nPrep\nAcademy\n\n\nWAU001","Lincoln\nPrep\nSchool\n\n\nW33001","Noble\nMinds\nInstitute\n\n\nW18001","JCFA\nLafayette\n\n\n\nW1D001","Collegiate\nAcademy\n\n\n\nWJ5001","New\nHarmony\nHigh\nSchool\n\nWBQ001","Athlos\nAcademy\nof Jefferson\nParish\n\nWBR001","GEO Next\nGeneration\nHigh\n\n\nWBX001","Red River\nCharter\nAcademy\n\n\nWBY001","St Landry\nCharter\nSchool\n\n\n3C5001","Geo Prep Baker\n\n\n\nWZN001","Louisiana Key Academy Northshore\n \n\nWZO001","Discovery Ochsner Baton Rouge\n\n\nWZP001","Kenilworth Science and Technology Academy\n\nWZQ001","Louisiana Key Caddo\n\n\nWZT001","Louisiana\nVirtual\nCharter\nAcademy\n\nWAG001","University\nView\nAcademy\n\n\n345001","Total\nLocal Revenue\nRepresentation\ndue to Other\nPublic Schools"]
[]
["FY2023-24",null,1,2,3,4,5,6,7,8,9,10,11,12,13,14,15,16,17,18,19,20,21,22,23,24,25,26,27,28,29,30,31,32,34,35,36,37,38,39,40,41,42,43]
["March 2024",null,"Link in File","Link in File","Link in File","Link in File","Link in File","Link in File","Link in File","Link in File","Link in File","Link in File","Link in File","Link in File","Link in File","Link in File","Link in File","Link in File","Link in File","Link in File","Link in File","Link in File","Link in File","Link in File","Link in File","Link in File","Link in File","Link in File","Link in File","Link in File","Link in File","Link in File","Link in File","Link in File",null,null,null,null,null,null,"Link in File","Link in File","Formula","Formula"]
["March 2024",null,"(T2, C59)","(T5A3, C14)","-(T5B2,\nC36 + C41)","-(T5C1A,\nC36 + C39)","-(T5C1B,\nC36 + C39)","-(T5C1C,\nC36 + C39)","-(T5C1D,\nC36 + C39)","-(T5C1E,\nC36 + C39)","-(T5C1F,\nC36 + C39)","-(T5C1G,\nC36 + C39)","-(T5C1H,\nC36 + C39)","-(T5C1I,\nC36 + C39)","-(T5C1J,\nC36 + C39)","-(T5C1M,\nC36 + C39)","-(T5C1N,\nC36 + C39)","-(T5C1O,\nC36 + C39)","-(T5C1Q,\nC36 + C39)","-(T5C1R,\nC36 + C39)","-(T5C1S,\nC36 + C39)","-(T5C1T,\nC36 + C39)","-(T5C1U,\nC36 + C39)","-(T5C1V,\nC36 + C39)","-(T5C1W,\nC36 + C39)","-(T5C1Y,\nC36 + C39)","-(T5C1Z,\nC36 + C39)","-(T5C1AE,\nC36 + C39)","-(T5C1AF,\nC36 + C39)","-(T5C1AG,\nC36 + C39)","-(T5C1AI,\nC36 + C39)","-(T5C1AJ,\nC36 + C39)","-(T5C1AK,\nC36 + C39)","-(T5C1AL,\nC36 + C39)","-(T5C1AN,\nC36 + C39)","-(T5C1AO,\nC36 + C39)","-(T5C1AP,\nC36 + C39)",null,null,null,"-(T5C2,\nC36 + C39)","-(T5C3,\nC36 + C39)","Sum(C2:C38)","Sum(C1:C38)"]
[1,"Acadia",59221325,-27085,null,0,0,0,0,0,0,-6626,-9939,0,0,0,0,0,0,0,0,0,0,-167306,-31473,0,0,0,-4970,0,0,0,0,0,-3313,0,0,0,0,0,-59634,-92433,-402779,58818546]
[2,"Allen",30026191,-2985,null,0,0,0,0,0,-4560,0,0,0,0,0,0,0,0,0,0,0,0,0,0,0,0,0,0,0,0,0,0,0,0,0,0,0,0,0,-16416,-69768,-93729,29932462]
[3,"Ascension",129354744,-3302,null,-25377,0,0,0,0,0,0,0,-152262,0,-16918,0,0,0,-600589,0,0,0,-25377,0,-16918,0,0,0,-8459,0,0,0,0,0,0,0,-25377,0,0,-213167,-913572,-2001318,127353426]
[4,"Assumption",19522945,-6243,null,0,0,0,0,0,0,0,0,0,0,0,0,0,0,-50440,0,0,0,-31525,0,0,0,0,0,0,0,0,0,0,0,0,0,0,0,0,-70931,-107815,-266954,19255991]
[5,"Avoyelles",33592444,-1185,null,0,0,0,0,0,0,0,0,0,0,0,0,0,0,0,0,0,0,0,0,0,0,0,0,0,0,0,0,-399023,0,0,0,0,0,0,-49701,-111828,-561737,33030707]
[6,"Beauregard",36895041,-11321,null,0,0,0,0,0,-12774,0,-6387,0,0,0,0,0,0,0,0,0,0,0,0,0,0,0,0,0,0,0,0,0,0,0,0,0,0,0,-89098,-77602,-197182,36697859]
[7,"Bienville",9515969,0,null,0,0,0,0,0,0,0,0,0,0,0,0,0,0,0,0,0,0,0,0,0,-245205,0,0,0,0,0,0,0,0,0,0,0,0,0,-58850,-117699,-421754,9094215]
[8,"Bossier",144004586,-12489,null,0,0,0,0,0,0,0,0,0,0,0,0,0,0,0,0,0,0,0,0,0,0,0,0,0,0,0,0,0,0,0,0,0,0,-105332,-345737,-236996,-700554,143304032]
[9,"Caddo",193311461,-107689,-6605659,0,0,0,0,0,0,0,0,0,0,0,0,0,0,0,0,0,0,0,0,0,0,0,0,0,0,0,0,0,0,0,0,0,0,-420784,-787843,-486908,-8408883,184902578]
[10,"Calcasieu",139435990,-61899,null,0,0,0,0,0,-7244121,0,-6120373,0,0,0,0,0,0,0,-5026708,0,0,-8578,0,0,0,0,0,0,0,0,0,0,0,0,0,0,0,0,-436269,-633057,-19531005,119904985]
[11,"Caldwell",12528329,0,null,0,0,0,0,0,0,0,0,0,0,0,0,0,0,0,0,0,0,0,0,0,0,0,0,0,0,0,0,0,0,0,0,0,0,0,-18144,-52416,-70560,12457769]
[12,"Cameron",3921624,0,null,0,0,0,0,0,-136520,0,-8532,0,0,0,0,0,0,0,0,0,0,0,0,0,0,0,0,0,0,0,0,0,0,0,0,0,0,0,0,-7679,-152731,3768893]
[13,"Catahoula",7534407,0,null,0,0,0,0,0,0,0,0,0,0,0,-415017,0,0,0,0,0,0,0,0,0,0,0,0,0,0,0,0,0,0,0,0,0,0,0,-8737,-17474,-441228,7093179]
[14,"Claiborne",13354981,0,null,0,-8782,0,0,0,0,0,0,0,0,0,0,0,0,0,0,-182226,0,0,0,0,-171249,0,0,0,0,0,0,0,0,0,0,0,0,0,-27664,-11856,-401777,12953204]
[15,"Concordia",21489643,-2480,null,0,0,0,0,0,0,0,0,0,0,0,-1374945,0,0,0,0,0,0,0,0,0,0,0,0,0,0,0,0,0,0,0,0,0,0,0,-36345,-17307,-1431077,20058566]
[16,"DeSoto",18669082,-15973,null,0,0,0,0,0,0,0,0,0,0,0,0,0,0,0,0,0,0,0,0,0,0,0,0,0,0,0,0,0,0,0,0,0,0,-82476,-296914,-280418,-675781,17993301]
[17,"East Baton Rouge",187185252,-126704,-5740132,-5172352,0,0,0,0,-4754,0,0,-2928464,0,-6242002,0,-1939632,-2937972,-665560,0,0,0,0,0,-6978872,0,0,0,-4308624,0,0,-4027276,0,0,-427860,-14262,-974570,-6517734,0,-1091043,-2811040,-52908853,134276399]
[18,"East Carroll",5891526,-4423,null,0,0,0,0,0,0,0,0,0,0,0,0,0,0,0,0,0,0,0,0,0,0,0,0,0,0,0,0,0,0,0,0,0,0,0,-8271,0,-12694,5878832]
[19,"East Feliciana",9885218,0,null,0,0,0,0,0,0,0,0,-31040,0,0,0,0,-46560,0,0,0,0,0,0,0,0,0,0,0,0,0,0,0,0,0,0,-6208,0,0,-36317,-117332,-237457,9647761]
[20,"Evangeline",41319811,-7059,null,0,0,0,0,0,0,-17045,0,0,0,0,0,0,0,0,0,0,0,-3409,0,0,0,0,0,0,0,0,0,0,0,0,0,0,0,0,-49089,-52158,-128760,41191051]
[21,"Franklin",19813034,-6583,null,0,0,0,0,0,0,0,0,0,0,0,-3704,0,0,0,0,0,0,0,0,0,0,0,0,0,0,0,0,0,0,0,0,0,0,0,-10000,-110008,-130295,19682739]
[22,"Grant",22812548,-6244,null,0,0,0,0,0,0,0,0,0,0,0,0,0,0,0,0,0,0,0,0,0,0,0,0,0,0,0,0,0,0,0,0,0,0,0,-7452,-39744,-53440,22759108]
[23,"Iberia",73374356,-17586,null,0,0,0,0,0,0,0,0,0,0,0,0,0,0,0,0,0,-972090,-13887,-18516,0,-2314,0,0,0,-4629,0,0,0,0,0,0,0,0,0,-158312,-172892,-1360226,72014130]
[24,"Iberville",13690048,-13720,null,-47290,0,0,0,0,0,0,0,-118225,0,-70935,0,0,0,-4755282,0,0,0,0,0,-23645,0,0,0,0,0,0,0,0,-47290,0,0,-23645,0,0,-42562,-148963,-5291557,8398491]
[25,"Jackson",13597256.5,-2162,null,0,-5834,0,0,0,0,0,0,0,0,0,0,0,0,0,0,0,0,0,0,0,-160435,0,0,0,0,0,0,0,0,0,0,0,0,0,-57757,-44631,-270819,13326437.5]
[26,"Jefferson",242678227,-43253,null,0,0,-400680,-5083759,-1484424,0,0,0,0,-943823,0,0,0,0,-53424,0,0,0,-53424,0,0,0,-118296,0,0,-179352,-7445016,0,0,0,0,-15264,0,0,0,-1332547,-2067509,-19220771,223457456]
[27,"Jefferson Davis",37794883,-8504,null,0,0,0,0,0,-38888,0,0,0,0,0,0,0,0,0,-24305,0,-4861,0,0,0,0,0,0,0,0,0,0,0,0,0,0,0,0,0,-56874,-63436,-196868,37598015]
[28,"Lafayette",154000162,-51685,null,0,0,0,0,0,0,-35220,0,-7044,0,0,0,0,-7044,0,0,0,-16838682,-9703110,-3858005,0,0,0,-377561,0,0,0,0,0,-7044,0,0,0,0,0,-532526,-1055543,-32473464,121526698]
[29,"Lafourche",80922879,-14299,null,0,0,0,0,0,0,0,0,0,0,0,0,0,0,-298732,0,0,0,-63367,0,0,0,0,0,0,0,0,0,0,0,0,0,0,0,0,-176524,-391068,-943990,79978889]
[30,"LaSalle",18050905,0,null,0,0,0,0,0,0,0,0,0,0,0,0,0,0,0,0,0,0,0,0,0,0,0,0,0,0,0,0,0,0,0,0,0,0,0,-23211,-95422,-118633,17932272]
[31,"Lincoln",34863333,-13513,null,0,-494385,0,0,0,0,0,0,0,0,0,0,0,0,0,0,-20772,0,0,0,0,-4282192,0,0,0,0,0,0,0,0,0,0,0,0,0,-74781,-78520,-4964163,29899170]
[32,"Livingston",193092853,-3369,null,-39831,0,0,0,0,0,0,0,-47073,0,-10863,0,-1810,-10863,-7242,0,0,0,0,0,-39831,0,0,0,0,0,0,-10863,0,0,0,-3621,-39831,-9052,0,-223235,-1140615,-1588099,191504754]
[33,"Madison",8676134,-10043,null,0,0,0,0,0,0,0,0,0,0,0,0,0,0,0,0,0,0,0,0,0,0,0,0,0,0,0,0,0,0,0,0,0,0,0,-11479,-151529,-173051,8503083]
[34,"Morehouse",24056262,-1602,null,0,-4996,0,0,0,0,0,0,0,0,0,0,0,0,0,0,0,0,0,0,0,0,0,0,0,0,0,0,0,0,0,0,0,0,0,-134892,-168615,-310105,23746157]
[35,"Natchitoches",28623513,-1770,null,0,0,0,0,0,0,0,0,0,0,0,0,0,0,0,0,0,0,0,0,0,0,0,0,0,0,0,0,0,0,0,0,0,0,0,-135469,-28354,-165593,28457920]
[36,"Orleans",229551868,-111014,null,0,0,-2605259,-1739556,-4939571,0,0,0,0,-67392,0,0,0,0,-25272,0,0,0,-16848,0,0,0,-1128816,0,0,-2465872,-745524,0,0,0,0,-33696,0,0,0,-708880,-587574,-15175274,214376594]
[37,"Ouachita",119280268,-25899,null,0,-61468,0,0,0,0,0,0,0,0,0,0,0,0,0,0,0,0,0,0,0,-25146,0,0,0,0,0,0,0,0,0,0,0,0,0,-231343,-367132,-710988,118569280]
[38,"Plaquemines",13745464,-5431,null,0,0,0,-285708,-39408,0,0,0,0,-19704,0,0,0,0,0,0,0,0,0,0,0,0,0,0,0,0,-108372,0,0,0,0,0,0,0,0,-79800,-390139,-928562,12816902]
[39,"Pointe Coupee",10853272,-5875,null,0,0,0,0,0,-19534,0,0,-43951,0,0,0,0,0,0,0,0,0,0,0,0,0,0,0,0,0,0,0,0,0,0,0,0,0,0,-149435,-206573,-425368,10427904]
[40,"Rapides",138361187,-28581,null,0,0,0,0,0,0,0,0,0,0,0,0,0,0,0,0,0,0,0,0,0,0,0,0,0,0,0,0,0,0,0,0,0,0,0,-239333,-387617,-655531,137705656]
[41,"Red River",5234652,0,null,0,0,0,0,0,0,0,0,0,0,0,0,0,0,0,0,0,0,0,0,0,0,0,0,0,0,0,0,0,0,0,0,0,0,-20363,-128287,-73306,-221956,5012696]
[42,"Richland",17289910,-6815,null,0,0,0,0,0,0,0,0,0,0,0,0,0,0,0,0,0,0,0,0,0,0,0,0,0,0,0,0,0,0,0,0,0,0,0,-38223,-49142,-94180,17195730]
[43,"Sabine",24066545,-6334,null,0,0,0,0,0,0,0,0,0,0,0,0,0,0,0,0,0,0,0,0,0,0,0,0,0,0,0,0,0,0,0,0,0,0,0,-39762,-51998,-98094,23968451]
[44,"St. Bernard",48291233,-7544,null,0,0,-22220,-41663,-33330,0,0,0,0,-5555,0,0,0,0,0,0,0,0,0,0,0,0,-16665,0,0,-11110,-16665,0,0,0,0,0,0,0,0,-139986,-152485,-447223,47844010]
[45,"St. Charles",34908809,0,null,0,0,0,0,-133182,0,0,0,0,-28539,0,0,0,0,-19026,0,0,0,-38052,0,0,0,0,0,0,0,0,0,0,0,0,0,0,0,0,-299659,-445208,-963666,33945143]
[46,"St. Helena",8636744,-1329,null,0,0,0,0,0,0,0,0,0,0,0,0,0,0,0,0,0,0,0,0,0,0,0,0,-2096,0,0,0,0,0,0,-4192,-4192,0,0,-35842,-88661,-136312,8500432]
[47,"St. James",13967949,0,null,0,0,0,0,0,0,0,0,0,0,0,0,0,0,0,0,0,0,0,0,0,0,0,0,0,0,0,0,0,0,0,0,0,0,0,-14403,-100819,-115222,13852727]
[48,"St. John the Baptist",22018404,-5375,null,0,0,0,0,-12493,0,0,0,-24986,0,0,0,0,0,0,0,0,0,0,0,0,0,-6246,0,0,0,0,0,0,0,0,0,0,0,0,-157412,-410395,-616907,21401497]
[49,"St. Landry",76453106,-35436,null,0,0,0,0,0,0,-1459622,-5731,-9552,0,0,0,0,0,0,0,0,-32478,-573150,-62176,0,0,0,-5731,0,0,0,0,0,-1120072,0,0,0,0,0,-304343,-362804,-3971095,72482011]
[50,"St. Martin",42976939,-5176,null,0,0,0,0,0,0,0,0,0,0,0,0,0,0,4172,0,0,-659286,-391530,-55572,0,0,0,0,0,0,0,0,0,0,0,0,0,0,0,-154591,-254621,-1516604,41460335]
[51,"St. Mary",49219524,-6578,null,0,0,0,0,0,0,0,0,0,0,0,0,0,0,-3281,0,0,0,0,0,0,0,0,0,0,0,0,0,0,0,0,0,0,0,0,-64964,-301196,-376019,48843505]
[52,"St. Tammany",216493405,-24054,null,0,0,-16234,-20293,-68994,0,0,0,-8117,-4059,0,0,0,0,-16234,0,0,0,0,0,0,0,0,0,0,-16234,-24351,0,0,0,0,-1635576,0,0,0,-843072,-2553203,-5230421,211262984]
[53,"Tangipahoa",127468315,-9916,null,0,0,0,0,0,0,0,0,-6969,0,0,0,-9292,-4646,0,0,0,0,0,0,0,0,-2323,0,0,0,0,0,0,0,0,-169579,0,0,0,-219524,-1005626,-1427875,126040440]
[54,"Tensas",2267533,-7434,null,0,0,0,0,0,0,0,0,0,0,0,-327996,0,0,0,0,0,0,0,0,0,0,0,0,0,0,0,0,0,0,0,0,0,0,0,0,-24600,-360030,1907503]
[55,"Terrebonne",83770324,-22175,null,0,0,0,0,0,0,0,0,0,0,0,0,0,0,-196846,0,0,0,-55822,0,0,0,0,0,0,0,0,0,0,0,0,0,0,0,0,-375477,-777394,-1427714,82342610]
[56,"Union",12540033,0,null,0,-5068438,0,0,0,0,0,0,0,0,0,0,0,0,0,0,-874355,0,0,0,0,-377947,0,0,0,0,0,0,0,0,0,0,0,0,0,-60923,-35538,-6417201,6122832]
[57,"Vermilion",63505665,-3588,null,0,0,0,0,0,0,0,0,0,0,0,0,0,0,0,0,0,-396270,-20202,0,0,0,0,-3108,0,0,0,0,0,0,0,0,0,0,0,-95104,-82517,-600789,62904876]
[58,"Vernon",54666589,0,null,0,0,0,0,0,0,0,0,0,0,0,0,0,0,0,0,0,0,0,0,0,0,0,0,0,0,0,0,0,0,0,0,0,0,0,-81950,-83413,-165363,54501226]
[59,"Washington",36654786,-888,null,0,0,0,0,0,0,0,0,0,0,0,0,0,0,0,0,0,0,0,0,0,0,0,0,0,0,0,0,0,0,0,-3598,0,0,0,-26989,-113352,-144827,36509959]
[60,"Webster",34195328,-4795,null,0,0,0,0,0,0,0,0,0,0,0,0,0,0,0,0,0,0,0,0,0,-12494,0,0,0,0,0,0,0,0,0,0,0,0,-9371,-25300,-98390,-150350,34044978]
[61,"West Baton Rouge",18336960,-18727,null,-41154,0,0,0,0,0,0,0,-192052,0,-54872,0,0,-13718,-390963,0,0,0,0,-13718,-13718,0,0,0,-6859,0,0,0,0,0,-13718,0,-27436,0,0,-92597,-555579,-1435111,16901849]
[62,"West Carroll",11650925,0,null,0,0,0,0,0,0,0,0,0,0,0,0,0,0,0,0,0,0,0,0,0,0,0,0,0,0,0,0,0,0,0,0,0,0,0,-26841,-40263,-67104,11583821]
[63,"West Feliciana",10333189,0,null,0,0,0,0,0,0,0,0,0,0,0,0,0,-13546,0,0,0,0,0,0,0,0,0,0,0,0,0,0,0,0,0,0,0,0,0,-36575,-195062,-245183,10088006]
[64,"Winn",13684581,0,null,0,0,0,0,0,0,0,0,0,0,0,0,0,0,0,0,0,0,0,0,0,0,0,0,0,0,0,0,0,0,0,0,0,0,0,-27033,-19309,-46342,13638239]
[65,"City of Monroe",51559247,-13681,null,0,-24664,0,0,0,0,0,0,0,0,0,-6166,0,0,0,0,0,0,0,0,0,-3277,0,0,0,0,0,0,0,0,0,0,0,0,0,-94340,-55494,-197622,51361625]
[66,"City of Bogalusa",13929285,0,null,0,0,0,0,0,0,0,0,0,0,0,0,0,0,0,0,0,0,0,0,0,0,0,0,0,0,0,0,0,0,0,-14093,0,0,0,-76099,-139516,-229708,13699577]
[67,"Zachary Community",37090518,0,null,-11606,0,0,0,0,0,0,0,-98651,0,0,0,-31916,-46424,0,0,0,0,0,0,-17409,0,0,0,-8705,0,0,0,0,0,-14508,0,-11606,-2902,0,-107065,-240244,-591036,36499482]
[68,"City of Baker",6624845,-316,null,-87605,0,0,0,0,0,0,0,-97617,0,-7509,0,-1071284,-1213955,0,0,0,0,0,0,-65078,0,0,0,-120144,0,0,-50060,0,0,-170204,0,0,-25030,0,-63075,-126151,-3098028,3526817]
[69,"Central Community",34256038,-1634,null,-37961,0,0,0,0,0,0,0,-124729,0,-10846,0,-5423,-84056,-18981,0,0,0,0,0,-37961,0,0,0,-27115,0,0,-10846,0,0,-32538,0,-21692,-27115,0,-34165,-212311,-687373,33568665]
[null,"STATE TOTALS",3766590402.5,-943765,-12345791,-5463176,-5668567,-3044393,-7170979,-6711402,-7461151,-1518513,-6150962,-3890732,-1069072,-6413945,-2127828,-3059357,-4378784,-7097700,-5051013,-1077353,-18903667,-11165587,-4039460,-7193432,-5280259,-1272346,-391370,-4482002,-2677197,-8339928,-4099045,-399023,-1177719,-658828,-1893881,-1134557,-6581833,-638326,-11750183,-22559839,-205282965,3561307437.5]

{"sheet":"2A-2_EFT (Monthly)","index":8,"n_rows":76,"n_cols":85,"rows_kept":76,"cut":false,"hidden":false,"merged":[[3,0,3,1],[5,0,5,1],[0,33,0,42],[0,43,1,43],[0,0,1,1],[0,2,1,2],[0,3,0,8],[0,9,0,16],[0,17,0,24],[0,25,0,32],[0,74,0,82],[0,83,1,83],[0,84,1,84],[299,45,301,55],[0,44,1,44],[0,45,0,50],[0,51,0,58],[0,59,0,66],[0,67,0,73]]}
["School\nSystem\n\n",null,"Monthly\nPayment\nAmount\n\nTable 2","Local Revenue Representation Due Monthly to Other Public Schools",null,null,null,null,null,"Local Revenue Representation Due Monthly to Other Public Schools",null,null,null,null,null,null,null,"Local Revenue Representation Due Monthly to Other Public Schools",null,null,null,null,null,null,null,"Local Revenue Representation Due Monthly to Other Public Schools",null,null,null,null,null,null,null,"Local Revenue Representation Due Monthly to Other Public Schools",null,null,null,null,null,null,null,null,null,"Total MFP\nPayment\nAmount minus\nLocal Revenue\nRepresentation \ndue to Other\nPublic Schools","March Only:\nLocal Revenue\nRepresentation\nAdmin. Fee\nPayable to\nRecovery\nSchool District\n(1.75%)","March Only: Local Revenue Representation Admin. Fee Payable to DOE (.25%)",null,null,null,null,null,"March Only: Local Revenue Representation Admin. Fee Payable to DOE (.25%)",null,null,null,null,null,null,null,"March Only: Local Revenue Representation Admin. Fee Payable to DOE (.25%)",null,null,null,null,null,null,null,"March Only: Local Revenue Representation Admin. Fee Payable to DOE (.25%)",null,null,null,null,null,null,"March Only: Local Revenue Representation Admin. Fee Payable to DOE (.25%)",null,null,null,null,null,null,null,null,"March Only:\nLocal Revenue\nRepresentation\nAdmin. Fee\nPayable to DOE\n(.25%)","March\nPayment\nAmount to City/Parish School \nSystems"]
[null,null,null,"Office of\nJuvenile\nJustice\n\n\nTable 5A3","Recovery\nSchool\nDistrict\n&\nType 5\nCharters","Madison\nPrep\n\n\n\n343001","D'Arbonne\nWoods\n\n\n\n341001","International\nHigh School\n\n\n\n344001","New\nOrleans\nMilitary/\nMaritime\n\n348001","Lycee\nFrancais\n\n\n\n347001","Lake\nCharles\nCharter\n\n\n346001","J.S. Clark\nAcademy\n\n\n\nWAL001","Southwest\nLouisiana\nCharter\n\n\nWAK001","Louisiana\nKey\nAcademy\n\n\nW7A001","JCFA\nEast\n\n\n\nW1A001","GEO Prep\nMid-City\n\n\n\nWZ8001","Delta \nCharter\nSchool\n\n\nW4A001","Impact\nCharter\n\n\n\nW8A001","Advantage\nCharter\nAcademy\n\n\nW1B001","Iberville\nCharter\nAcademy\n\n\nW3B001","Lake\nCharles\nCollege\nPreparatory\n\nW4B001","Northeast\nClaiborne\nCharter\n\n\nW5B001","Acadiana\nRenaissance\n\n\n\nW6B001","Lafayette\nRenaissance\n\n\n\nW7B001","Willow\nCharter\nAcademy\n\n\nW2B001","GEO\nPrep\nAcademy\n\n\nWAU001","Lincoln\nPrep\nSchool\n\n\nW33001","Noble\nMinds\nInstitute\n\n\nW18001","JCFA\nLafayette\n\n\n\nW1D001","Collegiate\nAcademy\n\n\n\nWJ5001","New\nHarmony\nHigh\nSchool\n\nWBQ001","Athlos\nAcademy\nof Jefferson\nParish\n\nWBR001","GEO Next\nGeneration\nHigh\n\n\nWBX001","Red River\nCharter\nAcademy\n\n\nWBY001","St Landry\nCharter\nSchool\n\n\n3C5001","Geo Prep Baker\n\n\n\nWZN001","Louisiana Key Academy Northshore\n\nWZO001","Discovery Ochsner Baton Rouge\n\n\nWZP001","Kenilworth Science and Technology Academy\n\nWZQ001","Louisiana Key Caddo\n\n\nWZT001","Louisiana\nVirtual\nCharter\nAcademy\n\nWAG001","University\nView\nAcademy\n\n\n345001","Total\nLocal Revenue Representation\ndue monthly\nto Other\nPublic Schools",null,null,"Recovery \nSchool \nDistrict\n(0.25%)","Madison\nPrep\n\n\n\n343001","D'Arbonne\nWoods\n\n\n\n341001","International\nHigh School\n\n\n\n344001","New\nOrleans\nMilitary/\nMaritime\n\n348001","Lycee\nFrancais\n\n\n\n347001","Lake\nCharles\nCharter\n\n\n346001","J.S. Clark\nAcademy\n\n\n\nWAL001","Southwest\nLouisiana\nCharter\n\n\nWAK001","Louisiana\nKey\nAcademy\n\n\nW7A001","JCFA\nEast\n\n\n\nW1A001","GEO Prep\nMid-City\n\n\n\nWZ8001","Delta \nCharter\nSchool\n\n\nW4A001","Impact\nCharter\n\n\n\nW8A001","Advantage\nCharter\nAcademy\n\n\nW1B001","Iberville\nCharter\nAcademy\n\n\nW3B001","Lake\nCharles\nCollege\nPreparatory\n\nW4B001","Northeast\nClaiborne\nCharter\n\n\nW5B001","Acadiana\nRenaissance\n\n\n\nW6B001","Lafayette\nRenaissance\n\n\n\nW7B001","Willow\nCharter\nAcademy\n\n\nW2B001","GEO\nPrep\nAcademy\n\n\nWAU001","Lincoln\nPrep\nSchool\n\n\nW33001","Noble\nMinds\n\n\n\nW18001","JCFA\nLafayette\n\n\n\nW1D001","Collegiate\nAcademy\n\n\n\nWJ5001","New\nHarmony\nHigh\nSchool\n\nWBQ001","Athlos\nAcademy\nof Jefferson\nParish\n\nWBR001","GEO Next\nGeneration\nHigh\n\n\nWBX001","Red River\nCharter\nAcademy\n\n\nWBY001","St Landry\nCharter\nSchool\n\n\n3C5001","Geo Prep Baker\n\n\n\nWZN001","Louisiana Key Academy Northshore\n\nWZO001","Discovery Ochsner Baton Rouge\n\nWZP001","Kenilworth Science and Technology \n\nWZQ001","Louisiana Key Caddo\n\n\nWZT001","Louisiana\nVirtual\nCharter\nAcademy\n\nWAG001","University\nView\nAcademy\n\n\n345001"]
[]
["FY2023-24",null,1,2,3,4,5,6,7,8,9,10,11,12,13,14,15,16,17,18,19,20,21,22,23,24,25,26,27,28,29,30,31,32,34,35,36,null,null,null,37,38,39,40,41,42,43,44,45,46,47,48,49,50,51,52,53,54,55,56,57,58,59,60,61,62,63,64,65,66,67,68,69,70,71,73,74,75,null,null,null,76,77,78,79]
["March 2024",null,"Link in File","Link in File","Link in File","Link in File","Link in File","Link in File","Link in File","Link in File","Link in File","Link in File","Link in File","Link in File","Link in File","Link in File","Link in File","Link in File","Link in File","Link in File","Link in File","Link in File","Link in File","Link in File","Link in File","Link in File","Link in File","Link in File","Link in File","Link in File","Link in File","Link in File","Link in File","Link in File",null,null,null,null,null,null,"Link in File","Link in File","Formula","Formula",null,"Link in File","Link in File","Link in File","Link in File","Link in File","Link in File","Link in File","Link in File","Link in File","Link in File","Link in File","Link in File","Link in File","Link in File","Link in File","Link in File","Link in File","Link in File","Link in File","Link in File","Link in File","Link in File","Link in File","Link in File","Link in File","Link in File","Link in File","Link in File","Link in File",{"$error":"#VALUE!"},null,null,null,null,null,null,"Link in File","Link in File","Formula","Formula"]
["March 2024",null,"(T2, C54)","-(T5A3, C17)","-(T5B2, C45)","-(T5C1A, C43)","-(T5C1B, C43)","-(T5C1C, C43)","-(T5C1D, C43)","-(T5C1E, C43)","-(T5C1F, C43)","-(T5C1G, C43)","-(T5C1H, C43)","-(T5C1I, C43)","-(T5C1J, C43)","-(T5C1M, C43)","-(T5C1N, C43)","-(T5C1O, C43)","-(T5C1Q, C43)","-(T5C1R, C43)","-(T5C1S, C43)","-(T5C1T, C43)","-(T5C1U, C43)","-(T5C1V, C43)","-(T5C1W, C43)","-(T5C1Y, C43)","-(T5C1Z, C43)","-(T5C1AE, C43)","-(T5C1AF, C43)","-(T5C1AG, C43)","-(T5C1AI, C43)","-(T5C1AJ, C43)","-(T5C1AK, C43)","-(T5C1AL, C43)","-(T5C1AN, C43)","Link in File","Link in File",null,null,null,"-(T5C2, C43)","-(T5C3, C43)","Sum (C2:C38)","C1 + C39","(T5B2, C37)","(T5B2, C38)","-(T5C1A, C48)","-(T5C1B, C48)","-(T5C1C, C48)","-(T5C1D, C48)","-(T5C1E, C48)","-(T5C1F, C48)","-(T5C1G, C48)","-(T5C1H, C48)","-(T5C1I, C48)","-(T5C1J, C48)","-(T5C1M, C48)","-(T5C1N, C48)","-(T5C1O, C48)","-(T5C1Q, C48)","-(T5C1R, C48)","-(T5C1S, C48)","-(T5C1T, C48)","-(T5C1U, C48)","-(T5C1V, C48)","-(T5C1W, C48)","-(T5C1Y, C48)","-(T5C1Z, C48)","-(T5C1AE, C48)","-(T5C1AF, C48)","-(T5C1AG, C48)","-(T5C1AI, C48)","-(T5C1AJ, C48)","-(T5C1AK, C48)","-(T5C1AL, C48)","-(T5C1AN, C48)","-(T5C1AO, C48)","-(T5C1AP, C48)",null,null,null,"-(T5C2, C48)","-(T5C3, C48)","Sum (C40:C77)","Sum C40:C77"]
[1,"Acadia",4892979,-3016,null,0,0,0,0,0,0,439,-277,0,0,0,0,0,0,0,0,0,8475,-22462,-2897,0,0,0,-140,0,0,0,0,0,-826,0,0,0,0,0,-1003,-4231,-25938,4867041,null,null,0,0,0,0,0,0,0,8,0,0,0,0,0,0,0,0,0,8,-128,-5,0,0,0,5,0,0,0,0,0,-8,0,0,0,0,0,60,52,-8,4867033]
[2,"Allen",2423242,-248,null,0,0,0,0,0,-1137,0,0,0,0,0,0,0,0,0,610,0,0,0,0,0,0,0,0,0,0,0,0,0,0,0,0,0,0,0,-4094,-8055,-12924,2410318,null,null,0,0,0,0,0,-11,0,0,0,0,0,0,0,0,0,9,0,0,0,0,0,0,0,0,0,0,0,0,0,0,0,0,0,0,0,-41,-34,-77,2410241]
[3,"Ascension",10778008,-64,null,436,0,0,0,0,0,0,0,-14972,0,-161,0,0,0,-52372,0,0,0,-6329,0,-1513,0,0,0,-2110,0,0,0,0,0,0,0,-1188,406,0,-25157,-84157,-187181,10590827,null,null,39,0,0,0,0,0,0,0,-35,0,19,0,0,0,-36,0,0,0,-63,0,-1,0,0,0,-21,0,0,0,0,0,0,0,161,61,0,-112,-124,-112,10590715]
[4,"Assumption",1512521,-1215,null,0,0,0,0,0,0,0,0,0,0,0,0,0,0,4401,0,0,107,-5740,0,0,0,0,0,0,0,0,0,0,0,0,0,0,0,0,-6229,-5874,-14550,1497971,null,null,0,0,0,0,0,0,0,0,0,0,0,0,0,0,129,0,0,16,-47,0,0,0,0,0,0,0,0,0,0,0,0,0,0,0,0,-5,46,139,1498110]
[5,"Avoyelles",2710987,714,null,0,0,0,0,0,0,0,0,0,0,0,0,0,0,0,0,0,0,0,0,0,0,0,0,0,0,0,0,-15976,0,0,0,0,0,0,-384,-9205,-24851,2686136,null,null,0,0,0,0,0,0,0,0,0,0,0,0,0,0,0,0,0,0,0,0,0,0,0,0,0,0,0,0,255,0,0,0,0,0,0,57,1,313,2686449]
[6,"Beauregard",3123345,-1484,null,0,0,0,0,0,-1668,0,-1593,0,0,0,0,0,0,0,0,0,0,0,0,0,0,0,0,0,0,0,0,0,0,0,0,0,0,0,-9925,-11838,-26508,3096837,null,null,0,0,0,0,0,-9,0,-16,0,0,0,0,0,0,0,0,0,0,0,0,0,0,0,0,0,0,0,0,0,0,0,0,0,0,0,-38,-81,-144,3096693]
[7,"Bienville",740878,0,null,0,0,0,0,0,0,0,0,0,0,0,0,0,0,0,0,0,0,0,0,0,-2670,0,0,0,0,0,0,0,0,0,0,0,0,0,4120,8243,9693,750571,null,null,0,0,0,0,0,0,0,0,0,0,0,0,0,0,0,0,0,0,0,0,0,266,0,0,0,0,0,0,0,0,0,0,0,0,0,136,271,673,751244]
[8,"Bossier",11729359,-862,null,0,0,0,0,0,0,0,0,0,0,0,0,0,0,0,0,0,0,0,0,0,0,0,0,0,0,0,0,0,0,0,0,0,0,-19708,-22678,-18507,-61755,11667604,null,null,0,0,0,0,0,0,0,0,0,0,0,0,0,0,0,0,0,0,0,0,0,0,0,0,0,0,0,0,0,0,0,0,0,0,-73,91,18,36,11667640]
[9,"Caddo",15211075,-17122,-643989,0,0,0,0,0,0,0,0,0,0,0,0,0,0,0,0,0,0,0,0,0,0,0,0,0,0,0,0,0,0,0,0,0,0,-51363,-54824,-30989,-798287,14412788,null,null,0,0,0,0,0,0,0,0,0,0,0,0,0,0,0,0,0,0,0,0,0,0,0,0,0,0,0,0,0,0,0,0,0,0,122,160,143,425,14413213]
[10,"Calcasieu",11633105,-8755,null,0,0,0,0,0,-537803,0,-571606,0,0,0,0,0,0,0,-481523,0,139,-2139,0,0,0,0,0,0,0,0,0,0,0,0,0,0,0,0,-45288,-76933,-1723908,9909197,null,null,0,0,0,0,0,968,0,-1043,0,0,0,0,0,0,0,-958,0,21,-21,0,0,0,0,0,0,0,0,0,0,0,0,0,0,0,0,-145,-366,-1544,9907653]
[11,"Caldwell",976665,0,null,0,0,0,0,0,0,0,0,0,0,0,0,0,0,0,0,0,0,0,0,0,0,0,0,0,0,0,0,0,0,0,0,0,0,0,-3883,-6659,-10542,966123,null,null,0,0,0,0,0,0,0,0,0,0,0,0,0,0,0,0,0,0,0,0,0,0,0,0,0,0,0,0,0,0,0,0,0,0,0,-35,-35,-70,966053]
[12,"Cameron",332994,0,null,0,0,0,0,0,-11327,0,-2128,0,0,0,0,0,0,0,0,0,0,0,0,0,0,0,0,0,0,0,0,0,0,0,0,0,0,0,0,-1915,-15370,317624,null,null,0,0,0,0,0,1,0,-21,0,0,0,0,0,0,0,0,0,0,0,0,0,0,0,0,0,0,0,0,0,0,0,0,0,0,0,0,-19,-39,317585]
[13,"Catahoula",563777,0,null,0,0,0,0,0,0,0,0,0,0,0,-41603,0,0,0,0,0,0,0,0,0,0,0,0,0,0,0,0,0,0,0,0,0,0,0,951,-2480,-43132,520645,null,null,0,0,0,0,0,0,0,0,0,0,0,-107,0,0,0,0,0,0,0,0,0,0,0,0,0,0,0,0,0,0,0,0,0,0,0,25,-16,-98,520547]
[14,"Claiborne",1046073,0,null,0,-776,0,0,0,0,0,0,0,0,0,0,0,0,0,0,-18587,0,0,0,0,-17263,0,0,0,0,0,0,0,0,0,0,0,0,0,-4355,-1049,-42030,1004043,null,null,0,-1,0,0,0,0,0,0,0,0,0,0,0,0,0,0,-52,0,0,0,0,-45,0,0,0,0,0,0,0,0,0,0,0,0,0,-31,-1,-130,1003913]
[15,"Concordia",1756098,-64,null,0,0,0,0,0,0,0,0,0,0,0,-104167,0,0,0,0,0,0,0,0,0,0,0,0,0,0,0,0,0,0,0,0,0,0,0,-1842,-1908,-107981,1648117,null,null,0,0,0,0,0,0,0,0,0,0,0,153,0,0,0,0,0,0,0,0,0,0,0,0,0,0,0,0,0,0,0,0,0,0,0,18,-7,164,1648281]
[16,"DeSoto",1532513,-1813,null,0,0,0,0,0,0,0,0,0,0,0,0,0,0,0,0,0,0,0,0,0,0,0,0,0,0,0,0,0,0,0,0,0,0,-13536,-38355,-8070,-61774,1470739,null,null,0,0,0,0,0,0,0,0,0,0,0,0,0,0,0,0,0,0,0,0,0,0,0,0,0,0,0,0,0,0,0,0,0,0,136,-205,229,160,1470899]
[17,"East Baton Rouge",15500904,-15316,-227440,-462211,0,0,0,0,-1186,0,0,-264142,0,-538691,0,-180860,-361643,-51816,0,0,0,1586,0,-627316,0,0,0,-386316,0,0,-435096,0,0,-59132,-7835,-65931,-528335,0,-100841,-248653,-4561174,10939730,6084,869,-485,0,0,0,0,-12,0,0,-311,0,-298,0,-295,-1766,53,0,0,0,24,0,-710,0,0,0,-539,0,0,-1519,0,0,-355,-36,807,-3038,0,-153,-226,-7990,10937824]
[18,"East Carroll",452224,-878,null,0,0,0,0,0,0,0,0,0,0,0,0,0,0,0,0,0,0,0,0,0,0,0,0,0,0,0,0,0,0,0,0,0,0,0,346,0,-532,451692,null,null,0,0,0,0,0,0,0,0,0,0,0,0,0,0,0,0,0,0,0,0,0,0,0,0,0,0,0,0,0,0,0,0,0,0,0,15,0,15,451707]
[19,"East Feliciana",816624,0,null,0,0,0,0,0,0,0,0,-2725,0,0,0,0,-578,0,0,0,0,0,0,0,0,0,0,0,0,0,2006,0,0,0,0,-645,0,0,-5445,-8498,-15885,800739,null,null,0,0,0,0,0,0,0,0,-3,0,0,0,0,50,0,0,0,0,0,0,0,0,0,0,0,0,0,30,0,0,0,0,-16,0,0,-37,19,43,800782]
[20,"Evangeline",3244627,-557,null,0,0,0,0,0,0,-4035,0,0,0,0,0,0,0,0,0,0,0,-310,0,0,0,0,0,0,0,0,0,0,0,0,0,0,0,0,-5442,-3779,-14123,3230504,null,null,0,0,0,0,0,0,-11,0,0,0,0,0,0,0,0,0,0,0,-1,0,0,0,0,0,0,0,0,0,0,0,0,0,0,0,0,-21,9,-24,3230480]
[21,"Franklin",1475851,-944,null,0,0,0,0,0,0,0,0,0,0,0,-340,0,0,0,0,0,0,0,0,0,0,0,0,0,0,0,0,0,0,0,0,0,0,0,-390,-14811,-16485,1459366,null,null,0,0,0,0,0,0,0,0,0,0,0,0,0,0,0,0,0,0,0,0,0,0,0,0,0,0,0,0,0,0,0,0,0,0,0,7,-85,-78,1459288]
[22,"Grant",1897844,-1257,null,0,0,0,0,0,0,0,0,0,0,0,0,0,0,0,0,0,0,0,0,0,0,0,0,0,0,0,0,0,0,0,0,0,0,0,-1192,-7247,-9696,1888148,null,null,0,0,0,0,0,0,0,0,0,0,0,0,0,0,0,0,0,0,0,0,0,0,0,0,0,0,0,0,0,0,0,0,0,0,0,-9,-59,-68,1888080]
[23,"Iberia",5831038,-871,null,0,0,0,0,0,0,0,0,0,0,0,0,0,0,0,0,0,-113991,-1179,-3096,0,185,0,0,0,-1154,0,0,0,0,0,0,0,0,0,-14129,-12969,-147204,5683834,null,null,0,0,0,0,0,0,0,0,0,0,0,0,0,0,0,0,0,-1045,-1,-23,0,5,0,0,0,-12,0,0,0,0,0,0,0,0,0,-15,21,-1070,5682764]
[24,"Iberville",1028283,-2966,null,-1709,0,0,0,0,0,0,0,-5951,0,-10966,0,0,0,-604313,0,0,0,0,0,-5897,0,0,0,0,0,0,0,0,-11793,0,0,-5897,0,0,-7588,-3868,-660948,367335,null,null,34,0,0,0,0,0,0,0,58,0,-76,0,0,0,-3078,0,0,0,0,0,-59,0,0,0,0,0,0,0,0,-118,0,0,-59,0,0,-61,128,-3231,364104]
[25,"Jackson",1090953,-541,null,0,-559,0,0,0,0,0,0,0,0,0,0,0,0,0,0,0,0,0,0,0,-14913,0,0,0,0,0,0,0,0,0,0,0,0,0,2537,-4677,-18153,1072800,null,null,0,-2,0,0,0,0,0,0,0,0,0,0,0,0,0,0,0,0,0,0,0,-24,0,0,0,0,0,0,0,0,0,0,0,0,0,111,-15,70,1072870]
[26,"Jefferson",20108161,-2379,null,0,0,-46374,-475524,-115836,0,0,0,0,-85674,0,0,0,0,4932,0,0,0,-7239,0,0,0,-12462,0,0,-15519,-643301,0,0,0,0,-5997,0,0,0,-107776,-196865,-1710014,18398147,null,null,0,0,-197,-813,114,0,0,0,0,-134,0,0,0,0,141,0,0,0,-42,0,0,0,-40,0,0,-9,-368,0,0,0,0,-38,0,0,0,45,-376,-1717,18396430]
[27,"Jefferson Davis",3102760,-1548,null,0,0,0,0,0,-7370,0,0,0,0,0,0,0,0,0,-6061,0,883,0,0,0,0,0,0,0,0,0,0,0,0,0,0,0,0,0,-4407,-8137,-26640,3076120,null,null,0,0,0,0,0,-62,0,0,0,0,0,0,0,0,0,-61,0,-12,0,0,0,0,0,0,0,0,0,0,0,0,0,0,0,0,0,5,-43,-173,3075947]
[28,"Lafayette",11857351,-5933,null,0,0,0,0,0,1152,-2452,1152,-605,0,0,0,0,-1757,0,0,0,-1500472,-1175357,-274862,0,0,0,-35441,0,0,0,0,0,-605,0,0,0,0,0,-47847,-82962,-3125989,8731362,null,null,0,0,0,0,0,17,-71,17,-1,0,0,0,0,-18,0,0,0,-15942,-5546,640,0,0,0,-86,0,0,0,0,0,-1,0,0,0,0,0,-54,72,-20973,8710389]
[29,"Lafourche",6629099,-1155,null,0,0,0,0,0,0,887,986,0,0,0,0,0,0,-15354,0,0,98,-8902,0,0,0,0,0,0,0,0,0,0,0,0,0,0,0,0,-15633,-27440,-66513,6562586,null,null,0,0,0,0,0,0,0,15,0,0,0,0,0,0,142,0,0,15,-54,0,0,0,0,0,0,0,0,0,0,0,0,0,0,0,0,-14,76,180,6562766]
[30,"LaSalle",1478120,0,null,0,0,0,0,0,0,0,0,0,0,0,0,0,0,0,0,0,0,0,0,0,0,0,0,0,0,0,0,0,0,0,0,0,0,0,-1796,-11822,-13618,1464502,null,null,0,0,0,0,0,0,0,0,0,0,0,0,0,0,0,0,0,0,0,0,0,0,0,0,0,0,0,0,0,0,0,0,0,0,0,2,-59,-57,1464445]
[31,"Lincoln",2989634,-3195,null,0,-40845,0,0,0,0,0,0,0,0,0,0,0,0,0,0,-988,0,0,0,0,-325859,0,0,0,0,0,0,0,0,0,0,0,0,0,3989,8087,-358811,2630823,null,null,0,4,0,0,0,0,0,0,0,0,0,0,0,0,0,0,11,0,0,0,0,336,0,0,0,0,0,0,0,0,0,0,0,0,0,153,220,724,2631547]
[32,"Livingston",16219379,-170,null,-3265,0,0,0,0,0,0,0,-5071,0,-2103,0,-451,-285,1224,0,0,0,0,0,-2659,0,0,0,0,0,0,-891,0,0,0,-1448,-3143,-2257,0,-18573,-105507,-144599,16074780,null,null,0,0,0,0,0,0,0,0,-18,0,-18,0,-5,9,28,0,0,0,0,0,9,0,0,0,0,0,0,0,0,0,0,-9,18,-23,0,0,-161,-170,16074610]
[33,"Madison",719783,-1821,null,0,0,0,0,0,0,0,0,0,0,0,0,0,0,0,0,0,0,0,0,0,0,0,0,0,0,0,0,0,0,792,0,0,0,0,-13,-12854,-13896,705887,null,null,0,0,0,0,0,0,0,0,0,0,0,0,0,0,0,0,0,0,0,0,0,0,0,0,0,0,0,0,0,0,12,0,0,0,0,14,-4,22,705909]
[34,"Morehouse",2016469,-109,null,0,-420,0,0,0,0,0,0,0,0,0,0,0,0,0,0,0,0,0,0,0,0,0,0,0,0,0,0,0,0,0,0,0,0,0,-11353,-13818,-25700,1990769,null,null,0,0,0,0,0,0,0,0,0,0,0,0,0,0,0,0,0,0,0,0,0,0,0,0,0,0,0,0,0,0,0,0,0,0,0,-2,3,1,1990770]
[35,"Natchitoches",2173894,-131,null,0,0,0,0,0,0,0,0,0,0,0,0,0,0,0,0,0,0,0,0,0,0,0,0,0,0,0,0,0,0,0,0,0,0,0,-10457,-985,-11573,2162321,null,null,0,0,0,0,0,0,0,0,0,0,0,0,0,0,0,0,0,0,0,0,0,0,0,0,0,0,0,0,0,0,0,0,0,0,0,12,21,33,2162354]
[36,"Orleans",18487109,-9832,null,0,0,-284177,-194976,-439722,0,0,0,0,-8098,0,0,0,0,-82,0,0,0,-2958,0,0,0,-130989,0,0,-301462,-68989,0,0,0,0,-8153,0,0,0,-59230,-42413,-1551081,16936028,null,null,0,0,-1025,-758,-438,0,0,0,0,-37,0,0,0,0,31,0,0,0,-23,0,0,0,-559,0,0,-1478,-106,0,0,0,0,-47,0,0,0,-4,97,-4347,16931681]
[37,"Ouachita",9507103,-4205,null,0,-6453,0,0,0,0,0,0,0,0,0,0,0,0,0,0,0,0,0,0,0,-4495,0,0,0,0,0,0,0,0,0,0,0,0,0,-36123,-41226,-92502,9414601,null,null,0,-21,0,0,0,0,0,0,0,0,0,0,0,0,0,0,0,0,0,0,0,-36,0,0,0,0,0,0,0,0,0,0,0,0,0,-254,-161,-472,9414129]
[38,"Plaquemines",1112861,-1358,null,0,0,0,-33391,-4419,0,0,0,0,-2210,0,0,0,0,0,0,0,0,0,0,0,0,0,0,0,0,-13505,0,0,0,0,0,0,0,0,-10166,-51051,-116100,996761,null,null,0,0,0,-145,-18,0,0,0,0,-8,0,0,0,0,0,0,0,0,0,0,0,0,0,0,0,0,-68,0,0,0,0,0,0,0,0,-54,-280,-573,996188]
[39,"Pointe Coupee",799628,-665,null,0,0,0,0,0,-4871,0,0,-1864,0,0,0,0,0,1516,0,0,0,0,0,0,0,0,0,0,0,0,0,0,0,0,0,0,0,0,-22259,-29686,-57829,741799,null,null,0,0,0,0,0,-49,0,0,27,0,0,0,0,0,23,0,0,0,0,0,0,0,0,0,0,0,0,0,0,0,0,0,0,0,0,-148,-188,-335,741464]
[40,"Rapides",11525728,-4639,null,0,0,0,0,0,0,0,0,0,0,0,0,0,0,0,0,0,0,0,0,0,0,0,0,0,0,0,0,2860,0,0,0,0,0,0,-20218,-49474,-71471,11454257,null,null,0,0,0,0,0,0,0,0,0,0,0,0,0,0,0,0,0,0,0,0,0,0,0,0,0,0,0,0,43,0,0,0,0,0,0,-5,-259,-221,11454036]
[41,"Red River",405715,710,null,0,0,0,0,0,0,0,0,0,0,0,0,0,0,0,0,0,0,0,0,0,0,0,0,0,0,0,0,0,0,0,0,0,0,-5078,-19002,-13951,-37321,368394,null,null,0,0,0,0,0,0,0,0,0,0,0,0,0,0,0,0,0,0,0,0,0,0,0,0,0,0,0,0,0,0,0,0,0,0,-51,-126,-118,-295,368099]
[42,"Richland",1405497,-1030,null,0,0,0,0,0,0,0,0,0,0,0,0,0,0,0,0,0,0,0,0,0,0,0,0,0,0,0,0,0,0,0,0,0,0,0,-5133,-2577,-8740,1396757,null,null,0,0,0,0,0,0,0,0,0,0,0,0,0,0,0,0,0,0,0,0,0,0,0,0,0,0,0,0,0,0,0,0,0,0,0,-30,23,-7,1396750]
[43,"Sabine",1859710,-614,null,0,0,0,0,0,0,0,0,0,0,0,0,0,0,0,0,0,0,0,0,0,0,0,0,0,0,0,0,0,0,0,0,0,0,0,-3470,-1917,-6001,1853709,null,null,0,0,0,0,0,0,0,0,0,0,0,0,0,0,0,0,0,0,0,0,0,0,0,0,0,0,0,0,0,0,0,0,0,0,0,-2,36,34,1853743]
[44,"St. Bernard",3881529,-1436,null,0,0,-571,-6248,-4170,0,0,0,0,-557,0,0,0,0,0,0,0,0,0,0,0,0,-3328,0,0,-2771,-1670,0,0,0,0,1575,0,0,0,-15525,-25351,-60052,3821477,null,null,0,0,19,-42,-21,0,0,0,0,-2,0,0,0,0,0,0,0,0,0,0,0,0,-30,0,0,-28,-5,0,0,0,0,12,0,0,0,-58,-190,-345,3821132]
[45,"St. Charles",2796182,0,null,0,0,0,0,-16429,0,0,0,0,-4319,0,0,0,0,-4745,0,0,0,-6691,0,0,0,0,0,0,0,0,0,0,0,0,0,0,0,0,-34449,-58158,-124791,2671391,null,null,0,0,0,0,-81,0,0,0,0,-29,0,0,0,0,-48,0,0,0,-53,0,0,0,0,0,0,0,0,0,0,0,0,0,0,0,0,-143,-318,-672,2670719]
[46,"St. Helena",643733,-332,null,0,0,0,0,0,0,0,0,0,0,0,0,0,0,0,0,0,0,0,0,0,0,0,0,-523,0,0,0,0,0,0,-1637,-388,0,0,-3610,-10268,-16758,626975,null,null,0,0,0,0,0,0,0,0,0,0,0,0,0,0,0,0,0,0,0,0,0,0,0,0,-5,0,0,0,0,0,0,-10,0,0,0,-10,-44,-69,626906]
[47,"St. James",1074393,0,null,0,0,0,0,0,0,0,0,0,0,0,0,0,0,0,0,0,0,0,0,0,0,0,0,0,0,0,0,0,0,0,0,0,0,0,3236,-16037,-12801,1061592,null,null,0,0,0,0,0,0,0,0,0,0,0,0,0,0,0,0,0,0,0,0,0,0,0,0,0,0,0,0,0,0,0,0,0,0,0,67,-115,-48,1061544]
[48,"St. John the Baptist",1853629,-988,null,0,0,3616,0,-1308,0,0,0,-4423,0,0,0,0,0,0,0,0,0,0,0,0,0,3866,0,0,0,0,0,0,0,0,0,0,0,0,-11597,-25880,-36714,1816915,null,null,0,0,54,0,-4,0,0,0,-35,0,0,0,0,0,0,0,0,0,0,0,0,0,66,0,0,0,0,0,0,0,0,0,0,0,0,22,124,227,1817142]
[49,"St. Landry",6007685,-3435,null,0,0,0,0,0,0,-131368,-1429,-636,0,0,0,0,0,0,0,0,-653,-69633,789,0,582,0,-265,0,0,0,0,582,-101486,0,0,0,0,0,-37678,-29744,-374374,5633311,null,null,0,0,0,0,0,0,-867,-14,2,0,0,0,0,0,0,0,0,15,-331,64,0,9,0,3,0,0,0,0,9,-556,0,0,0,0,0,-186,6,-1846,5631465]
[50,"St. Martin",3381711,-1294,null,0,0,0,0,0,0,164,0,0,0,0,0,0,0,1043,0,0,-96493,-46966,-5685,0,0,0,0,0,0,0,0,0,0,0,0,0,0,0,-13543,-31867,-194641,3187070,null,null,0,0,0,0,0,0,25,0,0,0,0,0,0,0,0,0,0,-505,-217,-16,0,0,0,0,0,0,0,0,0,0,0,0,0,0,0,-10,-161,-884,3186186]
[51,"St. Mary",3864260,-533,null,0,0,0,0,0,0,0,0,0,0,0,0,0,0,1239,0,0,0,0,0,0,0,0,0,0,0,0,0,0,0,0,0,0,0,0,-4169,-31609,-35072,3829188,null,null,0,0,0,0,0,0,0,0,0,0,0,0,0,0,23,0,0,0,0,0,0,0,0,0,0,0,0,0,0,0,0,0,0,0,0,19,-99,-57,3829131]
[52,"St. Tammany",17683301,-3618,null,0,0,-2708,-2379,-5140,0,0,0,-684,-1012,0,0,0,0,-4048,0,0,0,0,0,0,0,1340,0,0,-1366,-3391,0,0,0,0,-392186,0,0,0,-61838,-210783,-687813,16995488,null,null,0,0,-21,-11,9,0,0,0,0,-10,0,0,0,0,-41,0,0,0,0,0,0,0,20,0,0,-1,-21,0,0,0,0,-2093,0,0,0,150,22,-1997,16993491]
[53,"Tangipahoa",10621644,-1587,null,0,0,0,0,0,0,0,0,-232,0,0,0,-811,-1159,0,0,0,0,0,0,1506,0,-579,0,0,0,0,0,0,0,0,-47410,0,0,0,-14754,-94206,-159232,10462412,null,null,0,0,0,0,0,0,0,0,6,0,0,0,0,-12,0,0,0,0,0,0,23,0,-6,0,0,0,0,0,0,0,0,-277,0,0,0,52,-160,-374,10462038]
[54,"Tensas",170373,-1261,null,0,0,0,0,0,0,0,0,0,0,0,-29346,0,0,0,0,0,0,0,0,0,0,0,0,0,0,0,0,0,0,0,0,0,0,0,0,-4925,-35532,134841,null,null,0,0,0,0,0,0,0,0,0,0,0,-31,0,0,0,0,0,0,0,0,0,0,0,0,0,0,0,0,0,0,0,0,0,0,0,0,-44,-75,134766]
[55,"Terrebonne",6777896,-3174,null,0,0,0,0,0,0,0,0,0,0,0,0,0,0,-4049,0,0,281,-11105,0,0,0,0,0,0,0,0,0,0,0,0,0,0,0,0,-37055,-77323,-132425,6645471,null,null,0,0,0,0,0,0,0,0,0,0,0,0,0,0,185,0,0,42,-98,0,0,0,0,0,0,0,0,0,0,0,0,0,0,0,0,-88,-191,-150,6645321]
[56,"Union",937412,582,null,0,-456270,0,0,0,0,0,0,0,0,0,0,0,0,0,0,-73236,0,0,0,0,-37587,0,0,0,0,0,0,0,0,0,0,0,0,0,-7099,-3196,-576806,360606,null,null,0,-526,0,0,0,0,0,0,0,0,0,0,0,0,0,0,-8,0,0,0,0,-93,0,0,0,0,0,0,0,0,0,0,0,0,0,-30,-4,-661,359945]
[57,"Vermilion",5215893,-33,null,0,0,0,0,0,0,0,0,0,0,0,0,0,0,0,0,0,-48462,-4034,0,0,0,0,729,0,0,0,0,0,0,0,0,0,0,0,-9271,-9744,-70815,5145078,null,null,0,0,0,0,0,0,0,0,0,0,0,0,0,0,0,0,0,-410,-36,0,0,0,0,15,0,0,0,0,0,0,0,0,0,0,0,-21,-43,-495,5144583]
[58,"Vernon",4535278,0,null,0,0,0,0,0,0,0,0,0,0,0,0,0,0,0,0,0,0,0,0,0,0,0,0,0,0,0,0,0,0,0,0,0,0,0,-5982,-9337,-15319,4519959,null,null,0,0,0,0,0,0,0,0,0,0,0,0,0,0,0,0,0,0,0,0,0,0,0,0,0,0,0,0,0,0,0,0,0,0,0,12,-37,-25,4519934]
[59,"Washington",2801760,-204,null,0,0,0,0,0,0,0,0,0,0,0,0,0,0,0,0,0,0,0,0,0,0,0,0,0,0,0,0,0,0,0,-1539,0,0,0,-3203,-15121,-20067,2781693,null,null,0,0,0,0,0,0,0,0,0,0,0,0,0,0,0,0,0,0,0,0,0,0,0,0,0,0,0,0,0,0,0,-9,0,0,0,-14,-85,-108,2781585]
[60,"Webster",2665429,-583,null,0,0,0,0,0,0,0,0,0,0,0,0,0,0,0,0,0,0,0,0,0,-132,0,0,0,0,0,0,0,0,0,0,0,0,-548,-2729,-8426,-12418,2653011,null,null,0,0,0,0,0,0,0,0,0,0,0,0,0,0,0,0,0,0,0,0,0,14,0,0,0,0,0,0,0,0,0,0,0,0,-23,-9,-4,-22,2652989]
[61,"West Baton Rouge",1642996,-3694,null,-6199,0,0,0,0,0,0,0,-11319,0,-11652,0,0,-3421,-46699,0,0,0,0,-3421,-1389,0,0,0,-1711,0,0,0,0,0,-1389,0,-2778,0,0,-8462,-67228,-169362,1473634,null,null,-42,0,0,0,0,0,0,0,70,0,-106,0,0,-34,-213,0,0,0,0,-34,-3,0,0,0,-17,0,0,0,0,0,-3,0,-8,0,0,-11,-317,-718,1472916]
[62,"West Carroll",770007,572,null,0,0,0,0,0,0,0,0,0,0,0,0,0,0,0,0,0,0,0,0,0,0,0,0,0,0,0,0,0,0,0,0,0,0,0,-5646,-3233,-8307,761700,null,null,0,0,0,0,0,0,0,0,0,0,0,0,0,0,0,0,0,0,0,0,0,0,0,0,0,0,0,0,0,0,0,0,0,0,0,-51,1,-50,761650]
[63,"West Feliciana",860119,0,null,0,0,0,0,0,0,0,0,0,0,0,0,0,-1207,0,0,0,0,0,0,0,0,0,0,0,0,0,0,0,0,0,0,0,0,0,-1305,-19337,-21849,838270,null,null,0,0,0,0,0,0,0,0,0,0,0,0,0,-1,0,0,0,0,0,0,0,0,0,0,0,0,0,0,0,0,0,0,0,0,0,27,-47,-21,838249]
[64,"Winn",946180,0,null,0,0,0,0,0,0,0,0,0,0,0,0,0,0,0,0,0,0,0,0,0,0,0,0,0,0,0,0,0,0,0,0,0,0,0,-2233,-1433,-3666,942514,null,null,0,0,0,0,0,0,0,0,0,0,0,0,0,0,0,0,0,0,0,0,0,0,0,0,0,0,0,0,0,0,0,0,0,0,0,0,3,3,942517]
[65,"City of Monroe",4344918,-673,null,0,-4187,0,0,0,0,0,0,0,0,0,426,0,0,0,0,0,0,0,0,0,1149,0,0,0,0,0,0,0,0,0,0,0,0,0,-10270,-3235,-16790,4328128,null,null,0,-32,0,0,0,0,0,0,0,0,0,15,0,0,0,0,0,0,0,0,0,15,0,0,0,0,0,0,0,0,0,0,0,0,0,-37,20,-19,4328109]
[66,"City of Bogalusa",1182136,0,null,0,0,0,0,0,0,0,0,0,0,0,0,0,0,0,0,0,0,0,0,0,0,0,0,0,0,0,0,0,0,0,-5187,0,0,0,-7267,-6354,-18808,1163328,null,null,0,0,0,0,0,0,0,0,0,0,0,0,0,0,0,0,0,0,0,0,0,0,0,0,0,0,0,0,0,0,0,-35,0,0,0,-14,79,30,1163358]
[67,"Zachary Community",3074264,0,null,6,0,0,0,0,0,0,0,-3333,0,0,0,1709,-1909,0,0,0,0,0,0,493,0,0,0,-2171,0,0,2900,0,0,-1684,0,-2894,-724,0,-11907,-20757,-40271,3033993,null,null,15,0,0,0,0,0,0,0,73,0,0,0,65,29,0,0,0,0,0,0,29,0,0,0,-22,0,0,44,0,0,-7,0,-29,-7,0,-46,-12,132,3034125]
[68,"City of Baker",439679,-79,null,-10445,0,0,0,0,0,0,0,-13701,0,1168,0,-101452,-135509,0,0,0,0,0,0,-4827,0,0,0,-10199,0,0,-5642,0,0,-21163,0,152,-922,0,-7519,-15041,-325179,114500,null,null,-48,0,0,0,0,0,0,0,-84,0,27,0,-186,-520,0,0,0,0,0,0,8,0,0,0,-3,0,0,-22,0,0,-106,0,23,17,0,-35,-68,-997,113503]
[69,"Central Community",2700266,-109,null,-2429,0,0,0,0,0,0,0,-9989,0,-65,0,-472,4553,-2094,0,0,0,0,0,-669,0,0,0,-3242,0,0,-65,0,0,-5474,0,-5410,-3770,0,-2977,-15729,-47941,2652325,null,null,11,0,0,0,0,0,0,0,6,0,13,0,-1,174,-7,0,0,0,0,0,37,0,0,0,-15,0,0,13,0,0,-41,0,-54,25,0,-2,29,188,2652513]
[null,"STATE TOTALS",305572641,-117212,-871429,-485816,-509510,-330214,-712518,-587024,-564210,-136365,-574895,-339647,-101870,-562470,-175030,-282337,-502915,-771217,-486974,-92811,-1750088,-1369458,-289172,-642271,-401003,-142152,-35117,-406272,-322272,-730856,-436788,-12534,-114710,-88050,-469817,-88122,-535602,-90233,-1051409,-2067049,-19247439,286325202,6084,869,-476,-578,-1170,-1769,-439,843,-924,-1054,-245,-220,-439,30,-422,-2089,-2668,-1010,-49,-17797,-6637,626,-667,447,-549,-63,-622,-1528,-568,-1454,307,-683,-500,-2542,843,-2965,111,-1106,-2887,-50044,286281242]

{"sheet":"3_Levels 1&2","index":9,"n_rows":76,"n_cols":52,"rows_kept":76,"cut":false,"hidden":false,"merged":[[1,14,2,14],[1,15,2,15],[1,16,2,16],[0,3,0,4],[0,5,0,6],[0,7,0,8],[0,9,0,10],[1,11,2,11],[1,36,2,36],[1,39,2,39],[1,40,2,40],[1,17,2,17],[1,18,2,18],[1,19,2,19],[1,20,2,20],[1,21,2,21],[1,22,2,22],[1,23,2,23],[1,24,2,24],[1,33,2,33],[1,25,2,25],[1,26,2,26],[1,27,2,27],[1,51,2,51],[0,0,2,1],[1,44,2,44],[1,45,2,45],[1,46,2,46],[1,47,2,47],[1,34,2,34],[1,35,2,35],[1,37,2,37],[1,38,2,38],[1,29,2,29],[1,30,2,30],[1,41,2,41],[1,42,2,42],[1,43,2,43],[0,39,0,42],[3,0,3,1],[5,0,5,1],[1,49,2,49],[1,50,2,50],[1,28,2,28],[1,31,2,31],[1,32,2,32],[1,48,2,48],[0,2,1,2],[1,4,2,4],[1,6,2,6],[1,8,2,8],[1,10,2,10],[1,12,2,12],[1,13,2,13],[0,35,0,38]]}
["School\nSystem",null,"MFP Funded\nMembership\n\nCity/Parish\nSchool Systems,\nNew Type 2\nCharter Schools,\n& RSD/Type 5\nCharter Schools",0.22,null,0.06,null,1.5,null,0.6,null,7500,37500,37500,null,null,4015,null,null,0.75,null,null,null,null,null,null,null,0.34,null,1.72,null,null,null,null,null,"Without Continuation of Prior Year Pay Raises",null,null,null,"With Continuation of Prior Year Pay Raises"]
[null,null,null,"Economically\nDisadvantaged\n(ED)","Add-On\nStudent\nUnits","Career &\nTechnical\nEducation\nUnits\n(CTE)","Add-On\nStudent\nUnits","Students\nwith\nDisabilities\n(SWD)","Add-On\nStudent\nUnits","Gifted and\nTalented\nStudents\n(GT)","Add-On\nStudent\nUnits","Economy-\nof-Scale:\nIf < 7,500,\nthen\n7,500 less\nFebruary\nMembership\n\n\nFeb 1 Count","Economy-\nof-Scale\nPercent\nSupport","Add-On\nStudent\nUnits","Total\nWeighted\nAdd-On\nStudent\nUnits","Total\nWeighted\nMembership\nand Units","Per Pupil\nAmount","Total\nLevel 1\nCosts","Local Cost\nAllocation of\nLevel 1\n\n(Deduction for\nProperty,\nSales, and\nOther Revenues)","Local Cost\nAllocation of\nLevel 1 with\n75% max Local\nCost Allocation\n\n(Deduction for\nProperty\n& Sales and\nOther Revenues)","State Cost\nAllocation\nof Level 1","Percent\nState Cost\nAllocation","Percent\nLocal Cost\nAllocation","Per Pupil\nLocal Cost\nAllocation\nof Level 1","Actual Sales\nand Property\nTax Revenues\n(Including Debt)\nPlus Other\nRevenue","Local Revenue\nOver Level 1","Local\nRevenue\nUnder\nLevel 1","Local\nRevenue\nLimit on\nLevel 2\nState\nSupport","Eligible\nLocal\nRevenue\nLevel 2","Local Cost\nAllocation\nof Level 2","State Cost\nAllocation\nof Level 2","Per\nPupil\nAmount","Percent\nState","Levels 1 & 2\nState Cost\nAllocation","Per\nPupil\nAmount","Level 3\nState Cost\nAllocation\nwithout\nContinuation\nof Prior Year\nPay Raises","Per Pupil\nAmount","Levels 1, 2 & 3\nState Cost\nAllocation\nwithout\nContinuation\nof Prior Year\nPay Raises","Per Pupil\nAmount","Level 3\nState Cost\nAllocation\nwith\nContinuation\nof Prior Year\nPay Raises","Per Pupil\nAmount","Levels 1, 2 & 3\nState Cost\nAllocation\nwith\nContinuation\nof Prior Year\nPay Raises","Per Pupil\nAmount","State Funds\n(With\nContinuation\nof Prior Year\nPay Raises)\nas Percent of\nTotal State\nand Local","Rank","Level 1 &\nEligible\nLevel 2\nLocal Cost\nAllocation","Per Pupil\nAmount","Rank\n","Local\nRevenue\nas Percent\nof Total\nState and\nLocal","Total Level\n1, 2, & 3 State\nCost Allocation\n(With Continuation\nof Prior Year\nPay Raises)\nand Local Cost\nAllocation\nLevels 1 and 2","Per Pupil\nAmount","Rank"]
[null,null,"\nFeb 1 Count","\nFeb 1 Count",null,"\n",null,"\nFeb 1 Count",null,"\nFeb 1 Count"]
["FY2023-24",null,1,"(2a)",2,"(3a)",3,"(4a)",4,"(5a)",5,"(6a)","(6b)",6,7,8,9,10,11,"11a",12,13,14,15,16,17,18,19,20,21,22,23,24,25,26,27,28,29,30,31,32,33,34,35,36,37,38,39,40,41,42,43]
["March 2024",null,"Link in File","Link to \"Counts in Budget Letter\"","Formula","Link to \"Counts in Budget Letter\"","Formula","Link to \"Counts in Budget Letter\"","Formula","Link to \"Counts in Budget Letter\"","Formula","Formula","Formula","Formula","Formula","Formula","Resolution","Formula","Link in File","Formula","Formula","Formula","Formula","Formula","Link in File","Formula","Formula","Formula","Formula","Formula","Formula","Formula","Formula","Formula","Formula","Link in File","Formula","Formula","Formula","Link in File","Formula","Formula","Formula","Formula","Formula","Formula","Formula","Formula","Formula","Formula","Formula","Formula"]
["March 2024",null,"(T8, C34)","Link to ED Tab in Student Count File","C2a x 22%","Link to CTE Tab in Student Count File","C3a x 6%","Link to SWD Tab in Student Count File","C4a x 150%","Link to GT Tab in Student Count File","C5a x 60%","If C1 < 7,500,\n7,500 - C1, 0","C6a ÷ 37,500","C1 x C6b","C2 + C3 +\nC4 + C5 + C6","C1 + C7","Resolution","C8 x C9","(T6, C8)","If C11 > C10 x 75%,\nC10 x 75%, C11","C10 - C11a","C12 ÷ C10","C11a ÷ C10","C11a ÷ C1","(T7, C40)","If C16 - C11a > 0,\nC16 - C11a, 0","If C16 - C11a < 0, C16 - C11a, 0","C10 x 34%","Lesser of\nC17 and C19","If C20 > 0, C20 x C14 x 1.72, 0","If C20 - C21 > 0,\nC20 - C21, 0","C22 ÷ C1","C22 ÷ C20","C12 + C22","C25 ÷ C1","(T3A, C8)","C27 ÷ C1","C25 + C27","C29 ÷ C1","(T3A, C9)","C31 ÷ C1","C25 + C31","C33 ÷ C1","C33 ÷ C41","Rank High\nto Low","C11a + C20","C37 ÷ C1","Rank High\nto Low","C37 ÷ C41","C33 + C37","C41 ÷ C1","Rank High\nto Low"]
[1,"Acadia",8923,6601,1452.22,3551,213.06,1090,1635,56,33.6,0,0,0,3333.8799999999997,12256.88,4015,49211373,11887665,11887665,37323708,0.75839999999999996,0.24160000000000001,1332.2498038776196,28625178,16737513,0,16731866.82,16731866.82,6952960.7207846409,9778906,1096,0.58440000000000003,47102614,5279,1543235,172.95024095035302,48645849,5451.7369718704467,8480689,950.4302364675558,55583303,6229.2169673876497,0.66011201545435105,25,28619531.82,3207.39,59,0.33988798454564911,84202834.819999993,9436.6059419477751,52]
[2,"Allen",3805,2754,605.88,1947,116.82,466,699,22,13.2,3695,9.8530000000000006E-2,374.90665000000001,1809.80665,5614.8066500000004,4015,22543449,3695425,3695425,18848024,0.83609999999999995,0.16389999999999999,971.20236530880425,16539524,12844099,0,7664772.6600000001,7664772.6600000001,2160760.73103528,5504012,1447,0.71809999999999996,24352036,6400,658076,172.95032851511169,25010112,6572.9597897503281,3863104,1015.2704336399474,28215140,7415.2798948751642,0.71294754936526805,3,11360197.66,2985.6,65,0.287052450634732,39575337.659999996,10400.877177398159,15]
[3,"Ascension",23593,12999,2859.78,13967.5,838.05,2587,3880.5,518,310.8,0,0,0,7889.13,31482.13,4015,126400752,45289408,45289408,81111344,0.64170000000000005,0.35830000000000001,1919.6120883312847,185783289,140493881,0,42976255.68,42976255.68,26485234.945447683,16491021,699,0.38369999999999999,97602365,4137,4080415,172.95023947781121,101682780,4309.8707243673971,18161661,769.79023439155685,115764026,4906.7107192811427,0.56738813935150423,50,88265663.680000007,3741.18,33,0.43261186064849583,204029689.68000001,8647.8908862798289,67]
[4,"Assumption",2751,1895,416.9,1332,79.92,445,667.5,63,37.799999999999997,4749,0.12664,348.38664,1550.5066399999998,4301.5066399999996,4015,17270549,4180376,4180376,13090173,0.75790000000000002,0.24210000000000001,1519.584151217739,16178558,11998182,0,5871986.6600000001,5871986.6600000001,2445165.7090639202,3426821,1246,0.58360000000000001,16516994,6004,475786,172.95019992729917,16992780,6176.9465648854966,2087212,758.71028716830244,18604206,6762.7066521264996,0.64921261930317931,27,10052362.66,3654.08,36,0.35078738069682069,28656568.66,10416.782500908761,14]
[5,"Avoyelles",4960,4025,885.5,3813.5,228.81,646,969,13,7.8,2540,6.7729999999999999E-2,335.94079999999997,2427.0508,7387.0508,4015,29659009,6125388,6125388,23533621,0.79349999999999998,0.20649999999999999,1234.9572580645161,15251250,9125862,0,10084063.060000001,9125862,3241323.6651599999,5884538,1186,0.64480000000000004,29418159,5931,857833,172.95020161290321,30275992,6104.0306451612905,3615147,728.86028225806456,33033306,6659.9407258064521,0.68413813311237659,12,15251250,3074.85,63,0.31586186688762347,48284556,9734.7895161290326,35]
[6,"Beauregard",5503,3595,790.9,2093.5,125.61,912,1368,48,28.799999999999997,1997,5.3249999999999999E-2,293.03474999999997,2606.3447500000002,8109.3447500000002,4015,32559019,8749003,8749003,23810016,0.73129999999999995,0.26869999999999999,1589.8606214791932,33003362,24254359,0,11070066.460000001,11070066.460000001,5116186.19541944,5953880,1082,0.53779999999999994,29763896,5409,951745,172.95020897692169,30715641,5581.6174813737962,3953521,718.43012902053431,33717417,6127.0974014174089,0.62980257445904864,35,19819069.460000001,3601.5,37,0.37019742554095136,53536486.460000001,9728.600119934581,36]
[7,"Bienville",1854,1416,311.52,1052.5,63.15,309,463.5,77,46.199999999999996,5646,0.15056,279.13824,1163.5082400000001,3017.5082400000001,4015,12115296,5960792,5960792,6154504,0.50800000000000001,0.49199999999999999,3215.0981661272922,28782830,22822038,0,4119200.64,4119200.64,3485832.3495936003,633368,342,0.15379999999999999,6787872,3661,320650,172.95037756202805,7108522,3834.1542610571737,1723980,929.87055016181228,8511852,4591.0744336569578,0.45782719062136051,58,10079992.640000001,5436.89,12,0.54217280937863954,18591844.640000001,10027.963667745416,29]
[8,"Bossier",22178,13507,2971.54,9442.5,566.54999999999995,3277,4915.5,1208,724.8,0,0,0,9178.39,31356.39,4015,125895906,34674625,34674625,91221281,0.72460000000000002,0.27539999999999998,1563.4694291640365,132171067,97496442,0,42804608.040000007,42804608.040000007,20276029.173251521,22528579,1016,0.52629999999999999,113749860,5129,3835690,172.95022093966995,117585550,5301.9005320587967,19931595,898.71020831454598,133681455,6027.6605194336726,0.63307927361307337,34,77479233.040000007,3493.52,43,0.36692072638692658,211160688.04000002,9521.1781062314021,51]
[9,"Caddo",34342,25767,5668.74,13002,780.12,4442,6663,1630,978,0,0,0,14089.86,48431.86,4015,194453918,66682833,66682833,127771085,0.65710000000000002,0.34289999999999998,1941.7282918874846,244441874,177759041,0,66114332.120000005,66114332.120000005,38993439.712390564,27120892,790,0.41020000000000001,154891977,4510,5939456,172.9502067439287,160831433,4683.228495719527,31516004,917.7102090734378,186407981,5427.988498049036,0.58397548807036759,45,132797165.12,3866.9,31,0.41602451192963241,319205146.12,9294.8909824704442,59]
[10,"Calcasieu",29376,19308,4247.76,10503,630.17999999999995,5038,7557,761,456.59999999999997,0,0,0,12891.54,42267.54,4015,169704173,76915821,76915821,92788352,0.54679999999999995,0.45319999999999999,2618.3217933006536,254209869,177294048,0,57699418.820000008,57699418.820000008,44976927.767865285,12722491,433,0.2205,105510843,3592,5080586,172.9502314814815,110591429,3764.6864447167754,22942369,780.9902301198257,128453212,4372.72644335512,0.48828816648790663,56,134615239.81999999,4582.49,17,0.51171183351209337,263068451.81999999,8955.216905637255,65]
[11,"Caldwell",1456,1091,240.02,977.5,58.65,292,438,44,26.4,6044,0.16117000000000001,234.66352000000001,997.73352,2453.7335199999998,4015,9851740,1694101,1694101,8157639,0.82799999999999996,0.17199999999999999,1163.5309065934066,6268407,4574306,0,3349591.6,3349591.6,990943.17894400004,2358648,1620,0.70420000000000005,10516287,7223,251816,172.95054945054946,10768103,7395.6751373626375,1280553,879.5006868131868,11796840,8102.2252747252751,0.70050278576106306,6,5043692.5999999996,3464.07,47,0.29949721423893677,16840532.600000001,11566.299862637363,3]
[12,"Cameron",1054,520,114.4,452.5,27.15,156,234,49,29.4,6446,0.17188999999999999,181.17205999999999,586.12205999999992,1640.1220599999999,4015,6585090,7133884,4938818,1646272,0.25,0.75,4685.7855787476283,16927651,11988833,0,2238930.6,2238930.6,2888220.4740000004,0,0,0,1646272,1562,182290,172.95066413662238,1828562,1734.8785578747629,1303019,1236.2609108159393,2949291,2798.1888045540795,0.29122933418765345,69,7177748.5999999996,6810.01,1,0.7087706658123466,10127039.6,9608.196963946868,45]
[13,"Catahoula",1056,864,190.08,575.5,34.53,138,207,3,1.7999999999999998,6444,0.17183999999999999,181.46303999999998,614.87303999999995,1670.8730399999999,4015,6708555,1364762,1364762,5343793,0.79659999999999997,0.2034,1292.3882575757575,4662660,3297898,0,2280908.7000000002,2280908.7000000002,797971.34687760007,1482937,1404,0.6502,6826730,6465,182635,172.94981060606059,7009365,6637.65625,974033,922.37973484848487,7800763,7387.086174242424,0.68150161040988688,14,3645670.7,3452.34,48,0.31849838959011317,11446433.699999999,10839.425852272727,9]
[14,"Claiborne",1675,1458,320.76,619,37.14,351,526.5,154,92.399999999999991,5825,0.15533,260.17775,1236.97775,2911.97775,4015,11691591,2504089,2504089,9187502,0.78580000000000005,0.2142,1494.9785074626866,7440896,4936807,0,3975140.9400000004,3975140.9400000004,1464537.32567856,2510604,1499,0.63160000000000005,11698106,6984,289692,172.95044776119403,11987798,7156.8943283582093,1646409,982.93074626865666,13344515,7966.8746268656714,0.67315812629699823,17,6479229.9400000004,3868.2,30,0.32684187370300177,19823744.940000001,11835.07160597015,1]
[15,"Concordia",3186,2616,575.52,1600.5,96.03,396,594,101,60.599999999999994,4314,0.11504,366.51744000000002,1692.6674399999999,4878.6674400000002,4015,19587850,3977598,3977598,15610252,0.79690000000000005,0.2031,1248.4613935969869,12778804,8801206,0,6659869.0000000009,6659869.0000000009,2326505.357508,4333364,1360,0.65069999999999995,19943616,6260,318600,100,20262216,6359.7664783427499,2083007,653.80006277463906,22026623,6913.5665411173886,0.67433756764691744,16,10637467,3338.82,55,0.32566243235308256,32664090,10252.382297551789,20]
[16,"DeSoto",4749,2947,648.34,3603,216.17999999999998,526,789,193,115.8,2751,7.3359999999999995E-2,348.38664,2117.7066399999999,6866.7066400000003,4015,27569827,16505831,16505831,11063996,0.40129999999999999,0.59870000000000001,3475.6435038955569,76867529,60361698,0,9373741.1800000016,9373741.1800000016,9652741.2124815211,0,0,0,11063996,2330,821341,172.95030532743735,11885337,2502.7030953885028,4082622,859.68035375868601,15146618,3189.4331438197514,0.36919387185466412,65,25879572.18,5449.48,11,0.63080612814533588,41026190.18,8638.9113876605606,69]
[17,"East Baton Rouge",43070,35099,7721.78,20481,1228.8599999999999,4932,7398,1274,764.4,0,0,0,17113.04,60183.040000000001,4015,241634906,123576177,123576177,118058729,0.48859999999999998,0.51139999999999997,2869.1938007894128,407236151,283659974,0,82155868.040000007,82155868.040000007,72264958.774928316,9890909,230,0.12039999999999999,127949638,2971,17887692,415.31674019038775,145837330,3386.0536336196888,52407436,1216.7967494775946,180357074,4187.5336429068957,0.46713845354785688,57,205732045.03999999,4776.6899999999996,14,0.53286154645214323,386089119.03999996,8964.2237993963299,64]
[18,"East Carroll",756,736,161.91999999999999,533,31.98,97,145.5,0,0,6744,0.17984,135.95903999999999,475.35903999999994,1231.3590399999998,4015,4943907,1146566,1146566,3797341,0.7681,0.2319,1516.6216931216932,3425352,2278786,0,1680928.3800000001,1680928.3800000001,670468.54107384,1010460,1337,0.60109999999999997,4807801,6360,130750,172.94973544973544,4938551,6532.4748677248681,770288,1018.8994708994709,5578089,7378.4246031746034,0.66361711588898675,24,2827494.38,3740.07,34,0.33638288411101341,8405583.379999999,11118.496534391534,6]
[19,"East Feliciana",1627,1246,274.12,863.5,51.809999999999995,223,334.5,45,27,5873,0.15661,254.80447000000001,942.2344700000001,2569.2344700000003,4015,10315476,4048514,4048514,6266962,0.60750000000000004,0.39250000000000002,2488.3306699446835,9679506,5630992,0,3507261.8400000003,3507261.8400000003,2367752.4681840003,1139509,700,0.32490000000000002,7406471,4552,281390,172.95021511985249,7687861,4725.1757836508914,1754525,1078.3804548248311,9160996,5630.6060233558701,0.54801226502831779,51,7555775.8399999999,4643.99,15,0.45198773497168221,16716771.84,10274.598549477567,18]
[20,"Evangeline",5329,3943,867.46,2361,141.66,943,1414.5,128,76.8,2171,5.7889999999999997E-2,308.49581000000001,2808.91581,8137.9158100000004,4015,32673732,6119396,6119396,26554336,0.81269999999999998,0.18729999999999999,1148.3197598048414,18132274,12012878,0,11109068.880000001,11109068.880000001,3578853.1941052801,7530216,1413,0.67779999999999996,34084552,6396,532900,100,34617452,6496.0502908613253,3656600,686.17001313567278,37741152,7082.2203039969972,0.68658204553962687,9,17228464.879999999,3232.96,57,0.31341795446037318,54969616.879999995,10315.184252204916,17]
[21,"Franklin",2607,2213,486.86,959,57.54,435,652.5,102,61.199999999999996,4893,0.13048000000000001,340.16136000000006,1598.2613600000002,4205.2613600000004,4015,16884124,3354328,3354328,13529796,0.80130000000000001,0.19869999999999999,1286.6620636747218,9276766,5922438,0,5740602.1600000001,5740602.1600000001,1961931.1566102398,3778671,1449,0.65820000000000001,17308467,6639,450881,172.95013425393174,17759348,6812.1779823551979,2042063,783.29996164173383,19350530,7422.527809743,0.68026777880045375,15,9094930.1600000001,3488.66,44,0.31973222119954625,28445460.16,10911.185331799003,7]
[22,"Grant",2686,2015,443.3,2073.5,124.41,541,811.5,8,4.8,4814,0.12837000000000001,344.80182000000002,1728.8118199999999,4414.8118199999999,4015,17725469,2297851,2297851,15427618,0.87039999999999995,0.12959999999999999,855.4918093819806,7626081,5328230,0,6026659.4600000009,5328230,1187726.4057599998,4140504,1542,0.77710000000000001,19568122,7285,464544,172.95011169024571,20032666,7458.177959791512,1797767,669.31012658227849,21365889,7954.5379746835442,0.73695885446901332,2,7626081,2839.2,68,0.26304114553098668,28991970,10793.73417721519,12]
[23,"Iberia",11069,8575,1886.5,5366,321.95999999999998,1622,2433,375,225,0,0,0,4866.46,15935.46,4015,63980872,16345316,16345316,47635556,0.74450000000000005,0.2555,1476.6750383955191,49806538,33461222,0,21753496.48,21753496.48,9559791.5631007999,12193705,1102,0.5605,59829261,5405,1914386,172.95022133887434,61743647,5578.0691119342309,9536278,861.53021953202642,69365539,6266.6491101273832,0.6454748765027396,29,38098812.479999997,3441.94,50,0.3545251234972604,107464351.47999999,9708.5871786069201,38]
[24,"Iberville",4129,3310,728.2,1547,92.82,464,696,139,83.399999999999991,3371,8.9889999999999998E-2,371.15580999999997,1971.57581,6100.5758100000003,4015,24493812,18616989,18370359,6123453,0.25,0.75,4449.1060789537414,74809859,56439500,0,8327896.080000001,8327896.080000001,10742985.943200001,0,0,0,6123453,1483,2067634,500.75902155485591,8191087,1983.7943812061033,5594832,1355.0089610075079,11718285,2838.0443206587552,0.30503228493761847,68,26698255.079999998,6466.03,2,0.69496771506238153,38416540.079999998,9304.0784887381924,58]
[25,"Jackson",2084,1479,325.38,1634,98.039999999999992,253,379.5,88,52.8,5416,0.14443,300.99212,1156.7121199999999,3240.7121200000001,4015,13011459,3892371,3892371,9119088,0.70089999999999997,0.29909999999999998,1867.7404030710172,12269982,8377611,0,4423896.0600000005,4423896.0600000005,2275882.1758591197,2148014,1031,0.48549999999999999,11267102,5406,360428,172.95009596928983,11627530,5579.4289827255279,1722801,826.67994241842609,12989903,6233.1588291746639,0.60967799296726355,40,8316267.0599999996,3990.53,25,0.39032200703273651,21306170.059999999,10223.690047984644,21]
[26,"Jefferson",48388,37722,8298.84,18891.5,1133.49,6566,9849,2931,1758.6,0,0,0,21039.93,69427.929999999993,4015,278753139,129062192,129062192,149690947,0.53700000000000003,0.46300000000000002,2667.2355129370917,384552656,255490464,0,94776067.260000005,94776067.260000005,75475868.923173606,19300198,399,0.2036,168991145,3492,19736547,407.88102422088122,188727692,3900.2994957427463,60229077,1244.7110233942299,229220222,4737.1294949160947,0.50593958943780526,55,223838259.25999999,4625.8999999999996,16,0.49406041056219469,453058481.25999999,9363.0338360750593,55]
[27,"Jefferson Davis",5148,3698,813.56000000000006,3489,209.34,821,1231.5,88,52.8,2352,6.2719999999999998E-2,322.88256000000001,2630.0825600000003,7778.0825600000007,4015,31229001,6999682,6999682,24229319,0.77590000000000003,0.22409999999999999,1359.6895881895882,24479926,17480244,0,10617860.34,10617860.34,4092675.5037736795,6525185,1268,0.61450000000000005,30754504,5974,890348,172.95027195027194,31644852,6147.0186480186476,4458221,866.01029526029527,35212725,6840.0786713286716,0.66652558794339045,23,17617542.34,3422.21,52,0.33347441205660949,52830267.340000004,10262.289693084695,19]
[28,"Lafayette",33843,23335,5133.7,15279.5,916.77,3107,4660.5,1483,889.8,0,0,0,11600.769999999999,45443.77,4015,182456737,74563579,74563579,107893158,0.59130000000000005,0.40870000000000001,2203.220134148864,230837014,156273435,0,62035290.580000006,62035290.580000006,43608576.007279128,18426715,544,0.29699999999999999,126319873,3733,7849531,231.93957391484207,134169404,3964.4654433708597,31350110,926.33956800520048,157669983,4658.8654374612179,0.53580248679950171,52,136598869.58000001,4036.25,24,0.46419751320049812,294268852.58000004,8695.1172348787059,66]
[29,"Lafourche",13273,8851,1947.22,7748,464.88,1430,2145,275,165,0,0,0,4722.1000000000004,17995.099999999999,4015,72250327,21608970,21608970,50641357,0.70089999999999997,0.29909999999999998,1628.0396293226852,76184625,54575655,0,24565111.180000003,24565111.180000003,12637570.57677336,11927541,899,0.48549999999999999,62568898,4714,2295568,172.95019965343178,64864466,4886.9483914714083,12316019,927.90017328411056,74884917,5641.8983651020872,0.61858199824729454,37,46174081.18,3478.8,45,0.38141800175270535,121058998.18000001,9120.6960129586387,63]
[30,"LaSalle",2409,1513,332.86,968,58.08,289,433.5,21,12.6,5091,0.13575999999999999,327.04584,1164.0858400000002,3573.0858400000002,4015,14345940,2860434,2860434,11485506,0.80059999999999998,0.19939999999999999,1187.3947696139478,12638039,9777605,0,4877619.6000000006,4877619.6000000006,1672867.4389728003,3204752,1330,0.65700000000000003,14690258,6098,416637,172.95018679950186,15106895,6271.0232461602327,2168390,900.12038190120381,16858648,6998.1934412619348,0.68540279400714443,10,7738053.5999999996,3212.14,58,0.31459720599285551,24596701.600000001,10210.336903279369,22]
[31,"Lincoln",6212,4071,895.62,3119.5,187.17,1084,1626,241,144.6,1288,3.4349999999999999E-2,213.38219999999998,3066.7721999999999,9278.7721999999994,4015,37254270,12857679,12857679,24396591,0.65490000000000004,0.34510000000000002,2069.8131036703157,49858662,37000983,0,12666451.800000001,12666451.800000001,7518451.1278296001,5148001,829,0.40639999999999998,29544592,4756,1074367,172.95025756600128,30618959,4929.0017707662591,4930963,793.78026400515137,34475555,5549.8317772054088,0.57459559229891832,48,25524130.800000001,4108.84,23,0.42540440770108168,59999685.799999997,9658.6744687701212,42]
[32,"Livingston",26680,18375,4042.5,16241,974.45999999999992,3645,5467.5,924,554.4,0,0,0,11038.859999999999,37718.86,4015,151441223,26999271,26999271,124441952,0.82169999999999999,0.17829999999999999,1011.9666791604197,97634980,70116687,0,51490015.82,51490015.82,15790752.091614317,35699264,1338,0.69330000000000003,160141216,6002,4614312,172.95022488755623,164755528,6175.2446776611696,19548976,732.72023988005992,179690192,6735.0146926536736,0.69598944432480669,7,78489286.819999993,2941.88,66,0.30401055567519331,258179478.81999999,9676.8920097451264,41]
[33,"Madison",1212,1147,252.34,777.5,46.65,182,273,10,6,6288,0.16768,203.22816,781.21816000000001,1993.2181599999999,4015,8002771,2298060,2298060,5704711,0.71279999999999999,0.28720000000000001,1896.0891089108911,6252472,3954412,0,2720942.14,2720942.14,1344101.8820857601,1376840,1136,0.50600000000000001,7081551,5843,209616,172.95049504950495,7291167,6015.8143564356433,1003852,828.26072607260721,8085403,6671.1245874587457,0.61699885753074324,39,5019002.1399999997,4141.09,20,0.38300114246925665,13104405.140000001,10812.215462046204,10]
[34,"Morehouse",3176,2655,584.1,1958,117.47999999999999,499,748.5,9,5.3999999999999995,4324,0.11531,366.22456,1821.7045600000001,4997.7045600000001,4015,20065784,4421584,4421584,15644200,0.77959999999999996,0.22040000000000001,1392.1863979848868,14414630,9993046,0,6822366.5600000005,6822366.5600000005,2586277.2944972804,4236089,1334,0.62090000000000001,19880289,6260,549290,172.95025188916875,20429579,6432.4870906801007,2594983,817.06013853904278,22475272,7076.5969773299748,0.66654182076729351,22,11243950.560000001,3540.29,40,0.33345817923270649,33719222.560000002,10616.883677581865,13]
[35,"Natchitoches",5003,4607,1013.54,2983.5,179.01,552,828,159,95.399999999999991,2497,6.6589999999999996E-2,333.14976999999999,2449.0997699999998,7452.0997699999998,4015,29920181,10414574,10414574,19505607,0.65190000000000003,0.34810000000000002,2081.6658005196882,32909746,22495172,0,10172861.540000001,10172861.540000001,6090817.735567281,4082044,816,0.40129999999999999,23587651,4715,865270,172.95022986208275,24452921,4887.6516090345795,3556684,710.91025384769137,27144335,5425.6116330201876,0.56868485482332165,49,20587435.539999999,4115.0200000000004,21,0.43131514517667835,47731770.539999999,9540.6297301619034,50]
[36,"Orleans",44418,37335,8213.7000000000007,14682.5,880.94999999999993,6297,9445.5,1921,1152.5999999999999,0,0,0,19692.75,64110.75,4015,257404661,110630587,110630587,146774074,0.57020000000000004,0.42980000000000002,2490.6701562429644,352544716,241914129,0,87517584.74000001,87517584.74000001,64697899.624553449,22819685,514,0.26069999999999999,169593759,3818,7682103,172.95022288261515,177275862,3991.0815885451843,40241982,905.98365527488852,209835741,4724.1150209374582,0.51432356631601828,54,198148171.74000001,4460.99,18,0.48567643368398172,407983912.74000001,9185.1031730379582,62]
[37,"Ouachita",17699,12051,2651.22,6781,406.85999999999996,2460,3690,570,342,0,0,0,7090.08,24789.08,4015,99528156,22078426,22078426,77449730,0.7782,0.2218,1247.4391773546529,93596117,71517691,0,33839573.039999999,33839573.039999999,12909661.75646784,20929911,1183,0.61850000000000005,98379641,5558,3061046,172.95022317645063,101440687,5731.4360698344535,14629289,826.5602011413074,113008930,6385.0460477993111,0.66898114256987862,20,55917999.039999999,3159.39,61,0.33101885743012144,168926929.03999999,9544.433529577942,49]
[38,"Plaquemines",3596,2604,572.88,2011,120.66,508,762,189,113.39999999999999,3904,0.10410999999999999,374.37955999999997,1943.3195599999999,5539.3195599999999,4015,22240368,15145244,15145244,7095124,0.31900000000000001,0.68100000000000005,4211.6918798665183,48048205,32902961,0,7561725.1200000001,7561725.1200000001,8857199.8675584011,0,0,0,7095124,1973,1617624,449.83982202447163,8712748,2422.8998887652947,4602016,1279.7597330367075,11697140,3252.8197997775305,0.33999252703218952,67,22706969.120000001,6314.51,3,0.66000747296781037,34404109.120000005,9567.327341490547,47]
[39,"Pointe Coupee",2409,1893,416.46,1794.5,107.67,462,693,47,28.2,5091,0.13575999999999999,327.04584,1572.3758400000002,3981.3758400000002,4015,15985224,8723360,8723360,7261864,0.45429999999999998,0.54569999999999996,3621.1540058115402,21036715,12313355,0,5434976.1600000001,5434976.1600000001,5101290.3636806393,333686,139,6.1400000000000003E-2,7595550,3153,741325,307.73142382731425,8336875,3460.7202158572022,2619526,1087.3914487339146,10215076,4240.3802407638022,0.41910734258062948,61,14158336.16,5877.27,6,0.58089265741937057,24373412.16,10117.647222914073,24]
[40,"Rapides",20611,16143,3551.46,12549.5,752.97,3070,4605,548,328.8,0,0,0,9238.23,29849.23,4015,119844658,32558638,32558638,87286020,0.72829999999999995,0.2717,1579.6728931153268,111688823,79130185,0,40747183.720000006,40747183.720000006,19042136.884765282,21705047,1053,0.53269999999999995,108991067,5288,3564677,172.95022075590705,112555744,5460.9550240163016,17997942,873.2202222114405,126989009,6161.2250254718356,0.63401041626242927,32,73305821.719999999,3556.64,39,0.36598958373757073,200294830.72,9717.860885934695,37]
[41,"Red River",1184,1068,234.96,690,41.4,170,255,14,8.4,6316,0.16843,199.42112,739.18111999999996,1923.18112,4015,7721572,4558871,4558871,3162701,0.40960000000000002,0.59040000000000004,3850.3978040540542,19790104,15231233,0,2625334.48,2625334.48,2665995.6604262399,0,0,0,3162701,2671,204773,172.95016891891891,3367474,2844.1503378378379,1254057,1059.1697635135135,4416758,3730.3699324324325,0.3807233776413888,64,7184205.4800000004,6067.74,4,0.61927662235861125,11600963.48,9798.1110472972978,34]
[42,"Richland",2698,2147,472.34,1579.5,94.77,382,573,48,28.799999999999997,4802,0.12805,345.47890000000001,1514.3889000000001,4212.3888999999999,4015,16912741,5338474,5338474,11574267,0.68440000000000001,0.31559999999999999,1978.6782802075611,16363495,11025021,0,5750331.9400000004,5750331.9400000004,3121464.1876540803,2628868,974,0.4572,14203135,5264,466620,172.95033358042994,14669755,5437.2702001482576,1908107,707.23017049666419,16111242,5971.5500370644922,0.59232402955830976,44,11088805.939999999,4110.01,22,0.40767597044169035,27200047.939999998,10081.559651593772,26]
[43,"Sabine",3705,2500,550,2714,162.84,502,753,102,61.199999999999996,3795,0.1012,374.94599999999997,1901.9860000000001,5606.9859999999999,4015,22512049,6688922,6688922,15823127,0.70289999999999997,0.29709999999999998,1805.3770580296896,23236941,16548019,0,7654096.6600000001,7654096.6600000001,3911335.2424199195,3742761,1010,0.48899999999999999,19565888,5281,640781,172.95033738191634,20206669,5453.8917678812413,2769711,747.56032388663971,22335599,6028.5017543859649,0.60895421978670072,42,14343018.66,3871.26,29,0.39104578021329939,36678617.659999996,9899.7618515519553,31]
[44,"St. Bernard",7508,5833,1283.26,3376.5,202.59,907,1360.5,134,80.399999999999991,0,0,0,2926.75,10434.75,4015,41895521,10735592,10735592,31159929,0.74380000000000002,0.25619999999999998,1429.8870538092701,38612853,27877261,0,14244477.140000001,14244477.140000001,6277028.2744209599,7967449,1061,0.55930000000000002,39127378,5211,1298510,172.95018646776771,40425888,5384.3750665956313,6277515,836.11014917421414,45404893,6047.5350293020774,0.64509366233211696,30,24980069.140000001,3327.13,56,0.35490633766788299,70384962.140000001,9374.6619792221627,54]
[45,"St. Charles",9043,4956,1090.32,5348.5,320.90999999999997,1117,1675.5,718,430.8,0,0,0,3517.53,12560.53,4015,50430528,32531065,32531065,17899463,0.35489999999999999,0.64510000000000001,3597.3753179254672,151045473,118514408,0,17146379.52,17146379.52,19025142.61676544,0,0,0,17899463,1979,3787982,418.88554683180359,21687445,2398.257768439677,10606042,1172.8455158686277,28505505,3152.217737476501,0.36460002052887497,66,49677444.520000003,5493.47,8,0.63539997947112492,78182949.520000011,8645.6872188433063,68]
[46,"St. Helena",1062,1031,226.82,469,28.14,182,273,68,40.799999999999997,6438,0.17168,182.32416000000001,751.08416,1813.0841599999999,4015,7279533,1242712,1242712,6036821,0.82930000000000004,0.17069999999999999,1170.1619585687383,4215554,2972842,0,2475041.2200000002,2475041.2200000002,726682.00235688,1748359,1646,0.70640000000000003,7785180,7331,183673,172.95009416195856,7968853,7503.6280602636534,956873,901.0103578154426,8742053,8231.6883239171366,0.70162030176421153,5,3717753.22,3500.71,42,0.29837969823578847,12459806.220000001,11732.39757062147,2]
[47,"St. James",3185,1954,429.88,1945,116.69999999999999,524,786,98,58.8,4315,0.11507000000000001,366.49795,1757.8779499999998,4942.8779500000001,4015,19845655,12293058,12293058,7552597,0.38059999999999999,0.61939999999999995,3859.67284144427,47871985,35578927,0,6747522.7000000002,6747522.7000000002,7188594.7638535993,0,0,0,7552597,2371,1379114,433.00282574568291,8931711,2804.3048665620095,4279885,1343.76295133438,11832482,3715.0649921507065,0.38326233179321079,63,19040580.699999999,5978.2,5,0.61673766820678921,30873062.699999999,9693.2692935635787,39]
[48,"St. John the Baptist",4875,4013,882.86,2563,153.78,693,1039.5,94,56.4,2625,7.0000000000000007E-2,341.25000000000006,2473.7900000000004,7348.7900000000009,4015,29505392,16175569,16175569,13329823,0.45179999999999998,0.54820000000000002,3318.0654358974357,60507179,44331610,0,10031833.280000001,10031833.280000001,9459055.7270451225,572778,117,5.7099999999999998E-2,13902601,2852,843132,172.95015384615385,14745733,3024.7657435897436,5089598,1044.0201025641027,18992199,3895.8356923076922,0.42018510035847817,60,26207402.280000001,5375.88,13,0.57981489964152177,45199601.280000001,9271.7130830769238,60]
[49,"St. Landry",12299,10206,2245.3200000000002,8120,487.2,1781,2671.5,243,145.79999999999998,0,0,0,5549.8200000000006,17848.82,4015,71663012,18045967,18045967,53617045,0.74819999999999998,0.25180000000000002,1467.2710789495081,44646623,26600656,0,24365424.080000002,24365424.080000002,10552567.707351681,13812856,1123,0.56689999999999996,67429901,5483,2127115,172.95023985689895,69557016,5655.501748109602,9192153,747.39027563216519,76622054,6229.9417838848685,0.64370189360228847,31,42411391.079999998,3448.36,49,0.35629810639771159,119033445.08,9678.3027140417926,40]
[50,"St. Martin",7073,5161,1135.42,3929,235.73999999999998,813,1219.5,300,180,427,1.1390000000000001E-2,80.56147,2851.22147,9924.2214700000004,4015,39845749,11003102,11003102,28842647,0.72389999999999999,0.27610000000000001,1555.6485225505444,32901687,21898585,0,13547554.66,13547554.66,6433625.3275967203,7113929,1006,0.52510000000000001,35956576,5084,1223277,172.95023328149301,37179853,5256.5888590414252,5710813,807.41029266223666,41667389,5891.0489184221688,0.62924522439009112,36,24550656.66,3471.04,46,0.37075477560990888,66218045.659999996,9362.0876092181534,56]
[51,"St. Mary",7520,6019,1324.18,3746.5,224.79,1247,1870.5,521,312.59999999999997,0,0,0,3732.07,11252.07,4015,45177061,13207425,13207425,31969636,0.7077,0.2923,1756.3065159574469,45112131,31904706,0,15360200.74,15360200.74,7722433.0832394399,7637768,1016,0.49719999999999998,39607404,5267,1300586,172.95026595744682,40907990,5439.8922872340427,6614669,879.61023936170216,46222073,6146.5522606382983,0.61802726550199238,38,28567625.739999998,3798.89,32,0.38197273449800767,74789698.739999995,9945.4386622340426,30]
[52,"St. Tammany",36592,17658,3884.76,15148.5,908.91,6751,10126.5,2352,1411.2,0,0,0,16331.37,52923.37,4015,212487331,73660456,73660456,138826875,0.65329999999999999,0.34670000000000001,2013.0207695671186,290813847,217153391,0,72245692.540000007,72245692.540000007,43081840.358222961,29163852,797,0.4037,167990727,4591,6328594,172.9502076956712,174319321,4763.8642599475297,30419669,831.32020660253602,198410396,5422.2342588543943,0.57624415424205755,46,145906148.53999999,3987.38,26,0.42375584575794256,344316544.53999996,9409.6126076738074,53]
[53,"Tangipahoa",18931,14694,3232.68,13141,788.45999999999992,2553,3829.5,390,234,0,0,0,8084.6399999999994,27015.64,4015,108467795,27626872,27626872,80840923,0.74529999999999996,0.25469999999999998,1459.3456235803708,89424330,61797458,0,36879050.300000004,36879050.300000004,16156121.871625202,20722928,1095,0.56189999999999996,101563851,5365,3274121,172.95024034652158,104837972,5537.8993185779937,16331589,862.69024351592623,117895440,6227.6393217473988,0.64635175150772428,28,64505922.299999997,3407.42,53,0.35364824849227561,182401362.30000001,9635.0621890021666,43]
[54,"Tensas",379,365,80.3,270.5,16.23,89,133.5,3,1.7999999999999998,7121,0.18989,71.968310000000002,303.79831000000001,682.79831000000001,4015,2741435,1133723,1133723,1607712,0.58640000000000003,0.41360000000000002,2991.3535620052771,3255469,2121746,0,932087.9,932087.9,663079.87535680004,269008,710,0.28860000000000002,1876720,4952,65548,172.94986807387863,1942268,5124.7176781002636,426148,1124.4010554089709,2302868,6076.1688654353566,0.52713144012483948,53,2065810.9,5450.69,10,0.47286855987516035,4368678.9000000004,11526.857255936677,4]
[55,"Terrebonne",14694,10564,2324.08,7255.5,435.33,1843,2764.5,544,326.39999999999998,0,0,0,5850.3099999999995,20544.309999999998,4015,82485405,29552896,29552896,52932509,0.64170000000000005,0.35830000000000001,2011.2219953722608,86433471,56880575,0,28045037.700000003,28045037.700000003,17283483.653605204,10761554,732,0.38369999999999999,63694063,4335,2541331,172.95025180345721,66235394,4507.648972369675,14225118,968.09024091465903,77919181,5302.7889614808764,0.57497668226255416,47,57597933.700000003,3919.83,28,0.42502331773744595,135517114.69999999,9222.615673063834,61]
[56,"Union",2842,2178,479.16,1224.5,73.47,345,517.5,42,25.2,4658,0.12421,353.00482,1448.33482,4290.33482,4015,17225694,3736287,3736287,13489407,0.78310000000000002,0.21690000000000001,1314.6681914144967,14707024,10970737,0,5856735.96,5856735.96,2184960.7711252798,3671775,1292,0.62690000000000001,17161182,6038,491525,172.95038705137227,17652707,6211.3676988036596,2238389,787.61048557353979,19399571,6826.0277973258271,0.66912160487484718,19,9593022.9600000009,3375.45,54,0.33087839512515288,28992593.960000001,10201.475707248417,23]
[57,"Vermilion",9163,6037,1328.14,3907,234.42,1190,1785,245,147,0,0,0,3494.5600000000004,12657.560000000001,4015,50820103,10489474,10489474,40330629,0.79359999999999997,0.2064,1144.7641602095384,27629363,17139889,0,17278835.02,17139889,6084797.7141119996,11055091,1206,0.64500000000000002,51385720,5608,1584743,172.95023463931028,52970463,5780.9083269671501,8589948,937.46022045181712,59975668,6545.4183127796578,0.68461442585414989,11,27629363,3015.32,64,0.31538557414585017,87605031,9560.7367674342458,48]
[58,"Vernon",7625,4700,1034,2974,178.44,1050,1575,123,73.8,0,0,0,2861.2400000000002,10486.24,4015,42102254,7463634,7463634,34638620,0.82269999999999999,0.17730000000000001,978.83724590163933,25959386,18495752,0,14314766.360000001,14314766.360000001,4365373.8900801605,9949392,1305,0.69499999999999995,44588012,5848,1318745,172.95016393442623,45906757,6020.5582950819671,6633675,869.99016393442628,51221687,6717.5982950819671,0.70166610551300035,4,21778400.359999999,2856.18,67,0.29833389448699971,73000087.359999999,9573.7819488524583,46]
[59,"Washington",4626,3488,767.36,2435.5,146.13,920,1380,331,198.6,2874,7.664E-2,354.53663999999998,2846.6266399999995,7472.6266399999995,4015,30002596,3669714,3669714,26332882,0.87770000000000004,0.12230000000000001,793.28015564202337,10660340,6990626,0,10200882.640000001,6990626,1470520.1228560002,5520106,1193,0.78959999999999997,31852988,6886,800068,172.95028102031992,32653056,7058.5940337224383,3989788,862.47038478166883,35842776,7748.1141374837871,0.77076073783958909,1,10660340,2304.44,69,0.22923926216041093,46503116,10052.554258538694,27]
[60,"Webster",5095,3755,826.1,2690,161.4,787,1180.5,296,177.6,2405,6.4130000000000006E-2,326.74235000000004,2672.3423499999999,7767.3423499999999,4015,31185880,8249507,8249507,22936373,0.73550000000000004,0.26450000000000001,1619.1377821393523,30858289,22608782,0,10603199.200000001,10603199.200000001,4823819.4440480005,5779380,1134,0.54510000000000003,28715753,5636,881181,172.95014720314035,29596934,5809.0155053974486,3907815,766.9901864573111,32623568,6403.0555446516191,0.63375930964327631,33,18852706.199999999,3700.24,35,0.36624069035672357,51476274.200000003,10103.292286555446,25]
[61,"West Baton Rouge",3988,3108,683.76,2603.5,156.21,522,783,200,120,3512,9.3649999999999997E-2,373.47620000000001,2116.4461999999999,6104.4462000000003,4015,24509351,13457750,13457750,11051601,0.45090000000000002,0.54910000000000003,3374.561183550652,54801396,41343646,0,8333179.3400000008,8333179.3400000008,7870287.8940216815,462891,116,5.5500000000000001E-2,11514492,2887,689725,172.9501003009027,12204217,3060.2349548645939,4014560,1006.6599799398194,15529052,3893.9448345035107,0.41610556710958951,62,21790929.34,5464.12,9,0.58389443289041043,37319981.340000004,9358.0695436308943,57]
[62,"West Carroll",1642,1264,278.08,1058.5,63.51,266,399,0,0,5858,0.15620999999999999,256.49681999999996,997.08681999999988,2639.08682,4015,10595934,2029748,2029748,8566186,0.80840000000000001,0.19159999999999999,1236.1437271619975,6074782,4045034,0,3602617.56,3602617.56,1187249.8221331199,2415368,1471,0.6704,10981554,6688,283984,172.95006090133984,11265538,6860.8635809987818,1131387,689.0298416565164,12112941,7376.9433617539589,0.68259970370441436,13,5632365.5599999996,3430.19,51,0.31740029629558569,17745306.559999999,10807.12945188794,11]
[63,"West Feliciana",2087,1038,228.36,1351,81.06,334,501,191,114.6,5413,0.14435000000000001,301.25845000000004,1226.2784500000002,3313.2784500000002,4015,13302813,7126312,7126312,6176501,0.46429999999999999,0.53569999999999995,3414.6200287494012,27350446,20224134,0,4522956.42,4522956.42,4167470.1372136795,355486,170,7.8600000000000003E-2,6531987,3130,888856,425.90129372304744,7420843,3555.7465261140392,2468277,1182.6914230953521,9000264,4312.536655486344,0.43585800476929148,59,11649268.42,5581.82,7,0.5641419952307084,20649532.420000002,9894.3614853857216,33]
[64,"Winn",1883,1473,324.06,1462,87.72,294,441,53,31.799999999999997,5617,0.14979000000000001,282.05457000000001,1166.6345699999999,3049.6345700000002,4015,12244283,2604632,2604632,9639651,0.7873,0.2127,1383.2352628783856,7233483,4628851,0,4163056.22,4163056.22,1523029.1397496802,2640027,1402,0.63419999999999999,12279678,6521,325665,172.95007966011684,12605343,6694.2873074880508,1441644,765.61019649495483,13721322,7286.9474243228888,0.66969179343793606,18,6767688.2199999997,3594.1,38,0.330308206562064,20489010.219999999,10881.046319702602,8]
[65,"City of Monroe",7808,6356,1398.32,2828,169.68,1235,1852.5,594,356.4,0,0,0,3776.9,11584.9,4015,46513374,14891317,14891317,31622057,0.67979999999999996,0.32019999999999998,1907.1871157786886,47239857,32348540,0,15814547.160000002,15814547.160000002,8709766.9610870406,7104780,910,0.44929999999999998,38726837,4960,1350395,172.9501793032787,40077232,5132.8422131147545,7824164,1002.0701844262295,46551001,5961.9622182377052,0.60254840658616238,43,30705864.16,3932.62,27,0.39745159341383768,77256865.159999996,9894.5780174180327,32]
[66,"City of Bogalusa",1851,1699,373.78000000000003,740,44.4,353,529.5,146,87.6,5649,0.15064,278.83463999999998,1314.11464,3165.1146399999998,4015,12707935,3800725,3800725,8907210,0.70089999999999997,0.29909999999999998,2053.3360345759047,10698435,6897710,0,4320697.9000000004,4320697.9000000004,2222791.6760507999,2097906,1133,0.48549999999999999,11005116,5945,320131,172.95029713668288,11325247,6118.4478660183686,1671472,903.01026472177205,12676588,6848.5078336034576,0.6095096334428789,41,8121422.9000000004,4387.59,19,0.39049036655712116,20798010.899999999,11236.094489465153,5]
[67,"Zachary Community",5530,3247,714.34,1872,112.32,603,904.5,383,229.79999999999998,1970,5.253E-2,290.49090000000001,2251.4508999999998,7781.4508999999998,4015,31242525,7110063,7110063,24132462,0.77239999999999998,0.2276,1285.7256781193489,30621643,23511580,0,10622458.5,10622458.5,4158395.0739119998,6464063,1169,0.60850000000000004,30596525,5533,956415,172.95027124773961,31552940,5705.7757685352626,4913738,888.56021699819166,35510263,6421.3857142857141,0.66694977232079211,21,17732521.5,3206.6,60,0.33305022767920789,53242784.5,9627.9899638336356,44]
[68,"City of Baker",1532,1419,312.18,747.5,44.85,129,193.5,2,1.2,5968,0.15915000000000001,243.81780000000003,795.54780000000005,2327.5478000000003,4015,9345104,2231640,2231640,7113464,0.76119999999999999,0.23880000000000001,1456.6840731070497,7535942,5304302,0,3177335.3600000003,3177335.3600000003,1305046.01642496,1872289,1222,0.58930000000000005,8985753,5865,264960,172.95039164490862,9250713,6038.3244125326373,1488568,971.65013054830285,10474321,6837.0241514360314,0.65945511325836648,26,5408975.3600000003,3530.66,41,0.34054488674163358,15883296.359999999,10367.686919060052,16]
[69,"Central Community",4855,2740,602.79999999999995,2959.5,177.57,554,831,429,257.39999999999998,2645,7.0529999999999995E-2,342.42314999999996,2211.1931500000001,7066.1931500000001,4015,28370765,5465804,5465804,22904961,0.80730000000000002,0.19270000000000001,1125.8092687950566,24584548,19118744,0,9646060.1000000015,9646060.1000000015,3197128.7437844006,6448931,1328,0.66859999999999997,29353892,6046,839673,172.95015447991761,30193565,6219.065911431514,4265701,878.62018537590109,33619593,6924.7359423274975,0.68989509037274399,8,15111864.1,3112.64,62,0.31010490962725595,48731457.100000001,10037.375303810504,28]
[null,"STATE TOTAL",649170,466650,102663.00000000001,312774,18766.440000000002,89689,134533.5,25179,15107.399999999996,196976,null,13093.080700000002,284163.42070000002,933333.4206999999,4015,3747333684,1314082700,1311641004,2435692680,0.65,0.35,2020.4892462683119,4509058659,3196898633,0,1274093452.5600002,1269087619.3800001,765830364.92545474,510256602,786,0.40210000000000001,2945949282,4538,141709935,218.29402929895096,3087659217,4756.3184019594255,599816618,923.97464146525567,3545765900,5461.9990141257294,0.57875933561494386,null,2580728623.3800001,3975.43,null,0.42124066438505642,6126494523.3799982,9437.427058212792]

{"sheet":"3A_Level 3","index":10,"n_rows":76,"n_cols":11,"rows_kept":76,"cut":false,"hidden":false,"merged":[[0,10,2,10],[1,7,2,7],[0,7,0,8],[3,0,3,1],[5,0,5,1],[0,0,2,1],[1,2,2,2],[1,3,2,3],[0,4,0,6],[1,4,2,4],[0,2,0,3],[0,9,2,9],[1,5,2,5]]}
["School\nSystem",null,"Continuation of Prior\nYear Pay Raises",null,"Historical Formula Allocation",null,null,"Mandated Cost\nAdjustment",null,"Total\nLevel 3\nState Cost\nAllocation\n(Without\nContinuation\nof Prior Year\nPay Raises)","Total\nLevel 3\nState Cost\nAllocation\n(With\nContinuation\nof Prior Year\nPay Raises)"]
[null,null,"Continuation\nof Prior Year\nPay Raises\nPer Pupil\nAmount","Continuation\nof Prior Year\nPay Raises\n(City/Parish\nSchool Systems,\nNew Type 2\nCharter Schools,\n& RSD/Type 5\nCharter Schools)","Pay Raise &\nInsurance\nSupplement\nAmounts\nfrom Prior\nYears","Feb. 1\nMFP Funded\nMembership","Redistribution\nAllocation\n\n$38,456,219","Feb. 1\nMFP Funded\nMembership","Increase\nCost\nAdjustment"]
[null,null,null,null,null,null,72.950219763751591,null,100]
["FY2023-24",null,1,2,3,4,5,6,7,8,9]
["March 2024",null,"Values","Formula","Values","Formula","Per Pupil (I3)\nC5 ÷ C6","Link in File","Per Pupil (K3)\nResolution","Formula","Formula"]
["March 2024",null,"Historical Data","C1 x (T3, C1)","Historical Data","(T3, C1)","C4 x $72.94","(T3, C1)","C6 x $100","C3 + C5 + C7","C2 + C3 + C5 + C7"]
[1,"Acadia",777.48,6937454,0,8923,650935,8923,892300,1543235,8480689]
[2,"Allen",842.32,3205028,0,3805,277576,3805,380500,658076,3863104]
[3,"Ascension",596.84,14081246,0,23593,1721115,23593,2359300,4080415,18161661]
[4,"Assumption",585.76,1611426,0,2751,200686,2751,275100,475786,2087212]
[5,"Avoyelles",555.91,2757314,0,4960,361833,4960,496000,857833,3615147]
[6,"Beauregard",545.4799999999999,3001776,0,5503,401445,5503,550300,951745,3953521]
[7,"Bienville",756.91999999999985,1403330,0,1854,135250,1854,185400,320650,1723980]
[8,"Bossier",725.76,16095905,0,22178,1617890,22178,2217800,3835690,19931595]
[9,"Caddo",744.76,25576548,0,34342,2505256,34342,3434200,5939456,31516004]
[10,"Calcasieu",608.04000000000008,17861783,0,29376,2142986,29376,2937600,5080586,22942369]
[11,"Caldwell",706.55,1028737,0,1456,106216,1456,145600,251816,1280553]
[12,"Cameron",1063.31,1120729,0,1054,76890,1054,105400,182290,1303019]
[13,"Catahoula",749.43000000000006,791398,0,1056,77035,1056,105600,182635,974033]
[14,"Claiborne",809.9799999999999,1356717,0,1675,122192,1675,167500,289692,1646409]
[15,"Concordia",553.79999999999995,1764407,0,0,0,3186,318600,318600,2083007]
[16,"DeSoto",686.73,3261281,0,4749,346441,4749,474900,821341,4082622]
[17,"East Baton Rouge",801.48,34519744,13580692,0,0,43070,4307000,17887692,52407436]
[18,"East Carroll",845.94999999999993,639538,0,756,55150,756,75600,130750,770288]
[19,"East Feliciana",905.43,1473135,0,1627,118690,1627,162700,281390,1754525]
[20,"Evangeline",586.16999999999996,3123700,0,0,0,5329,532900,532900,3656600]
[21,"Franklin",610.35,1591182,0,2607,190181,2607,260700,450881,2042063]
[22,"Grant",496.36,1333223,0,2686,195944,2686,268600,464544,1797767]
[23,"Iberia",688.58,7621892,0,11069,807486,11069,1106900,1914386,9536278]
[24,"Iberville",854.24999999999989,3527198,1654734,0,0,4129,412900,2067634,5594832]
[25,"Jackson",653.73,1362373,0,2084,152028,2084,208400,360428,1722801]
[26,"Jefferson",836.83,40492530,14897747,0,0,48388,4838800,19736547,60229077]
[27,"Jefferson Davis",693.06,3567873,0,5148,375548,5148,514800,890348,4458221]
[28,"Lafayette",694.4,23500579,1996377,33843,2468854,33843,3384300,7849531,31350110]
[29,"Lafourche",754.94999999999993,10020451,0,13273,968268,13273,1327300,2295568,12316019]
[30,"LaSalle",727.17,1751753,0,2409,175737,2409,240900,416637,2168390]
[31,"Lincoln",620.83000000000004,3856596,0,6212,453167,6212,621200,1074367,4930963]
[32,"Livingston",559.77,14934664,0,26680,1946312,26680,2668000,4614312,19548976]
[33,"Madison",655.31000000000006,794236,0,1212,88416,1212,121200,209616,1003852]
[34,"Morehouse",644.11000000000013,2045693,0,3176,231690,3176,317600,549290,2594983]
[35,"Natchitoches",537.96,2691414,0,5003,364970,5003,500300,865270,3556684]
[36,"Orleans",732.46,32559879,0,44418,3240303,44418,4441800,7682103,40241982]
[37,"Ouachita",653.61,11568243,0,17699,1291146,17699,1769900,3061046,14629289]
[38,"Plaquemines",829.92000000000007,2984392,1258024,0,0,3596,359600,1617624,4602016]
[39,"Pointe Coupee",779.66,1878201,324688,2409,175737,2409,240900,741325,2619526]
[40,"Rapides",700.2700000000001,14433265,0,20611,1503577,20611,2061100,3564677,17997942]
[41,"Red River",886.22,1049284,0,1184,86373,1184,118400,204773,1254057]
[42,"Richland",534.28,1441487,0,2698,196820,2698,269800,466620,1908107]
[43,"Sabine",574.6099999999999,2128930,0,3705,270281,3705,370500,640781,2769711]
[44,"St. Bernard",663.16000000000008,4979005,0,7508,547710,7508,750800,1298510,6277515]
[45,"St. Charles",753.96000000000015,6818060,2883682,0,0,9043,904300,3787982,10606042]
[46,"St. Helena",728.06,773200,0,1062,77473,1062,106200,183673,956873]
[47,"St. James",910.76,2900771,1060614,0,0,3185,318500,1379114,4279885]
[48,"St. John the Baptist",871.07,4246466,0,4875,355632,4875,487500,843132,5089598]
[49,"St. Landry",574.43999999999994,7065038,0,12299,897215,12299,1229900,2127115,9192153]
[50,"St. Martin",634.46,4487536,0,7073,515977,7073,707300,1223277,5710813]
[51,"St. Mary",706.66,5314083,0,7520,548586,7520,752000,1300586,6614669]
[52,"St. Tammany",658.37,24091075,0,36592,2669394,36592,3659200,6328594,30419669]
[53,"Tangipahoa",689.74,13057468,0,18931,1381021,18931,1893100,3274121,16331589]
[54,"Tensas",951.45,360600,0,379,27648,379,37900,65548,426148]
[55,"Terrebonne",795.14,11683787,0,14694,1071931,14694,1469400,2541331,14225118]
[56,"Union",614.66000000000008,1746864,0,2842,207325,2842,284200,491525,2238389]
[57,"Vermilion",764.51,7005205,0,9163,668443,9163,916300,1584743,8589948]
[58,"Vernon",697.04,5314930,0,7625,556245,7625,762500,1318745,6633675]
[59,"Washington",689.52,3189720,0,4626,337468,4626,462600,800068,3989788]
[60,"Webster",594.04,3026634,0,5095,371681,5095,509500,881181,3907815]
[61,"West Baton Rouge",833.70999999999992,3324835,0,3988,290925,3988,398800,689725,4014560]
[62,"West Carroll",516.08000000000004,847403,0,1642,119784,1642,164200,283984,1131387]
[63,"West Feliciana",756.79,1579421,680156,0,0,2087,208700,888856,2468277]
[64,"Winn",592.66,1115979,0,1883,137365,1883,188300,325665,1441644]
[65,"City of Monroe",829.12,6473769,0,7808,569595,7808,780800,1350395,7824164]
[66,"City of Bogalusa",730.06,1351341,0,1851,135031,1851,185100,320131,1671472]
[67,"Zachary Community",715.61,3957323,0,5530,403415,5530,553000,956415,4913738]
[68,"City of Baker",798.7,1223608,0,1532,111760,1532,153200,264960,1488568]
[69,"Central Community",705.67,3426028,0,4855,354173,4855,485500,839673,4265701]
[null,"STATE TOTALS",705.68,458106683,38336714,527157,38456221,649170,64917000,141709935,599816618]

{"sheet":"4_Level 4","index":11,"n_rows":211,"n_cols":56,"rows_kept":211,"cut":false,"hidden":false,"merged":[[0,17,0,24],[0,25,0,28],[0,29,0,36],[1,39,2,39],[0,53,0,54],[1,53,2,53],[0,41,0,48],[0,49,0,52],[1,44,2,44],[1,48,2,48],[1,50,2,50],[1,51,2,51],[1,52,2,52],[1,38,2,38],[0,37,0,40],[1,36,2,36],[1,40,2,40],[1,26,2,26],[1,32,2,32],[1,27,2,27],[1,28,2,28],[3,0,3,2],[5,0,5,2],[238,41,240,41],[238,45,240,45],[237,17,239,17],[237,21,239,21],[237,29,239,29],[237,33,239,33],[0,0,2,2],[0,55,2,55],[1,5,2,5],[1,7,2,7],[1,9,2,9],[1,13,2,13],[0,13,0,16],[0,3,0,4],[0,5,0,9],[1,10,2,10],[1,15,2,15],[1,16,2,16],[0,10,0,11],[1,3,2,3],[1,20,2,20],[1,24,2,24]]}
["School Systems\nand Schools",null,null,"International Language Associate \nSalary Allocation",null,"International Language Associate Stipend Allocation\nIncludes Escadrille Louisiane Graduates",null,null,null,null,"Career Development Fund (CDF)",null,"\nHigh Cost\nServices (HCS)\n\n\n\n","Supplemental Course Allocation (SCA)",null,null,null,"FY2019-20 Certificated and Non-Certificated Pay Raise (Monthly Payment) - Final",null,null,null,null,null,null,null,"FY2019-20 Certificated and Non-Certificated Pay Raise",null,null,null,"FY2021-22 Certificated and Non-Certificated Pay Raise (Monthly Payment) - Final",null,null,null,null,null,null,null,"FY2021-22 Certificated and Non-Certificated Pay Raise",null,null,null,"FY2022-23 Certificated and Non-Certificated Pay Raise (Monthly Payment) - Final",null,null,null,null,null,null,null,"FY2022-23 Certificated and Non-Certificated Pay Raise",null,null,null,"Mentor Teacher \nStipend Allocation",null,"Total\nLevel 4"]
[null,null,null,"Qualifying\nTeachers\nAs \nof Prior Year\n\n(Includes\nEscadrille)\n","Total Salary\nAllocation\n(Monthly Payment)","Qualifying\nFirst Year\nTeachers\n\n\n\n\nAugust 2023 Data","First Year\nTeacher\nStipends\n(Annual Payment)","Qualifying\nSecond and\nThird Year\nTeachers\n\n\n\nPending","Second &\nThird Year\nTeacher\nStipends\n(Annual Payment)","Total\nStipend\nAllocation\n(Annual Payment)","Number of\nQualifying\nCourses\n\nFinal CLASS Course  Data \n\nFebruary 2024 Data","Final\nAllocation\n\nFebruary 2024 data","\nHigh Cost\nServices\nAllocation\n(Annual \nPayment)\n\nFebruary 2024 Data \n\n","Grades\n7 - 12\n\nFeb 1 count\n\n  ","Initial\nFunding\nfor SCA","\n\nReallocation\nof Unused\nSCA Funds\n\nPending","SCA \nFunding\n(Monthly \nPayment)","Certificated\nStaff\nFTE Count\n","Pay Raise Amount","Retirement Allocation FY23-24 Rate","\nTotal \nCost","Non-Certificated Staff\nFTE Count\n","Pay Raise Amount","Retirement Allocation FY23-24 Rate","\nTotal \nCost","Total Staff\nFTE Count\n","Total \nPay Raise\nCost","Total \nRetirement \nCost ","Grand \nTotal\n(Monthly \nPayment)","Certificated\nStaff\nFTE Count\n","Pay Raise Amount","Retirement Allocation FY22-23 Rate","\nTotal \nCost","Non-Certificated Staff\nFTE Count\n","Pay Raise Amount","Retirement Allocation FY22-23 Rate","\nTotal \nCost","Total Staff\nFTE Count\n","Total \nPay Raise\nCost","Total Retirement Cost ","Grand \nTotal\n(Monthly \nPayment)","Certificated\nStaff\nFTE Count\n","Pay Raise Amount","Retirement Allocation FY22-23 Rate","\nTotal \nCost","Non-Certificated Staff\nFTE Count\n","Pay Raise Amount","Retirement Allocation FY22-23 Rate","\nTotal \nCost","Total Staff\nFTE Count\n","Total \nPay Raise\nCost","Total \nRetirement \nCost ","Grand \nTotal\n(Monthly \nPayment)","Number of Qualifying \nMentor \nTeachers  \n\n \nJanuary 2024","Mentor Teacher\nStipend\n(Annual \nPayment)"]
[null,null,null,null,21000,null,6000,null,4000,null,null,241,12000000,null,70,null,null,null,1000,0.24099999999999999,null,null,500,0.27600000000000002,null,null,null,null,null,null,800,0.24099999999999999,null,null,400,0.27600000000000002,null,null,null,null,null,null,1500,0.24099999999999999,null,null,750,0.27600000000000002,null,null,null,null,null,null,2000]
["FY2023-24",null,null,1,2,3,4,5,6,7,8,9,10,11,12,13,14,15,16,17,18,19,20,21,22,23,24,25,26,27,28,29,30,31,32,33,34,35,36,37,38,39,40,41,42,43,44,45,46,47,48,49,50,51,52,53]
[0,null,null,"Input","Per Pupil ($E$3)\nResolution","Input","Per Pupil ($G$3)\nResolution","Input","Per Pupil ($I$3)\nResolution","Formula","Input","Per Pupil ($L$3)\nResolution","Input","SIS Multistats","Per Pupil ($O$3)\nResolution","Input","Formula",null,null,null,null,null,null,null,null,null,null,null,null,null,null,null,null,null,null,null,null,null,null,null,null,null,null,null,null,null,null,null,null,null,null,null,null,null,null,"Formula"]
["March 2024",null,null,"Prior Year\nFeb. 1 Count","C1 x $21,000","CY Annual Count","C3 x $6,000","CY Annual Count","C5 x $4,000","C4 + C6","Annual CY CLASS Course Count","CY Count Or Min.","CY HCS\nAllocation","Prior Year\nFeb. 1 Count","C11 x $70","Reallocation Calculation","C12 + C13","CY Oct Certificated FTE","C15 x $1,000","C16 x 24.1%","C16 + C17","CY Oct Non-Certificated FTE","C19 x $500","C20 x 28.7%","C20 + C21","C15 + C19","C16 + C20","C17 + C21","C18 + C22","CY Oct Certificated FTE","C27 x $800","C28 x 24.1%","C28 + C29","CY Oct Non-Certificated FTE","C31 x $400","C32 x 27.6%","C32 + C33","C27 + C31","C28 + C32","C29 + C33","C30 + C34","CY Oct Certificated FTE","C39 x $1500","C40 x 24.1%","C40 + C41","CY Oct Non-Certificated FTE","C43 x $750","C44 x 27.6%","C44 + C45","C39 + C43","C40 + C44","C41 + C45","C42 + C46","Fall Mentor Teacher Data Collection","C51 x $2,000","C2 + C7 + C9 + C10\n+ C14 + C26 + C38 + C50 + C52"]
[1,1,"Acadia",0,0,0,0,null,0,0,1043,251363,0,3742,261940,null,261940,717.23842400000035,717238,172854,890092,498.68472899999932,249342,68818,318160,1215.9231529999997,966580,241672,1208252,717.23842400000035,573791,138284,712075,498.68472899999932,199474,55055,254529,1215.9231529999997,773265,193339,966604,717.23842400000035,1075858,259282,1335140,498.68472899999932,374014,103228,477242,1215.9231529999997,1449872,362510,1812382,4,8000,4508541]
[2,2,"Allen",0,0,0,0,null,0,0,638,153758,0,1733,121310,null,121310,386.5,386500,93147,479647,245,122500,33810,156310,631.5,509000,126957,635957,386.5,309200,74517,383717,245,98000,27048,125048,631.5,407200,101565,508765,386.5,579750,139720,719470,245,183750,50715,234465,631.5,763500,190435,953935,0,0,2373725]
[3,3,"Ascension",0,0,0,0,null,0,0,4803,1157523,169989,10785,754950,null,754950,2278.4763669999979,2278476,549113,2827589,1352.7202939999997,676360,186675,863035,3631.1966609999977,2954836,735788,3690624,2278.4763669999979,1822781,439290,2262071,1352.7202939999997,541088,149340,690428,3631.1966609999977,2363869,588630,2952499,2278.4763669999979,3417715,823669,4241384,1352.7202939999997,1014540,280013,1294553,3631.1966609999977,4432255,1103682,5535937,41.5,83000,14344522]
[4,4,"Assumption",1,21000,0,0,null,0,0,332,80012,226020,1216,85120,null,85120,246.83737799999989,246837,59488,306325,186.766661,93383,25774,119157,433.60403899999989,340220,85262,425482,246.83737799999989,197470,47590,245060,186.766661,74707,20619,95326,433.60403899999989,272177,68209,340386,246.83737799999989,370256,89232,459488,186.766661,140075,38661,178736,433.60403899999989,510331,127893,638224,6,12000,1828244]
[5,5,"Avoyelles",0,0,0,0,null,0,0,922,222202,99893,2176,152320,null,152320,328.17423100000002,328174,79090,407264,283.42025699999999,141710,39112,180822,611.59448799999996,469884,118202,588086,328.17423100000002,262539,63272,325811,283.42025699999999,113368,31290,144658,611.59448799999996,375907,94562,470469,328.17423100000002,492261,118635,610896,283.42025699999999,212565,58668,271233,611.59448799999996,704826,177303,882129,0,0,2415099]
[6,6,"Beauregard",0,0,0,0,null,0,0,379,91339,0,2392,167440,null,167440,512.70581500000003,512706,123562,636268,361.04303500000003,180522,49824,230346,873.74885000000006,693228,173386,866614,512.70581500000003,410165,98850,509015,361.04303500000003,144417,39859,184276,873.74885000000006,554582,138709,693291,512.70581500000003,769059,185343,954402,361.04303500000003,270782,74736,345518,873.74885000000006,1039841,260079,1299920,10,20000,3138604]
[7,7,"Bienville",0,0,0,0,null,0,0,277,66757,0,818,57260,null,57260,217.81987099999992,217820,52495,270315,164.22296300000002,82111,22663,104774,382.04283399999997,299931,75158,375089,217.81987099999992,174256,41996,216252,164.22296300000002,65689,18130,83819,382.04283399999997,239945,60126,300071,217.81987099999992,326730,78742,405472,164.22296300000002,123167,33994,157161,382.04283399999997,449897,112736,562633,0,0,1361810]
[8,8,"Bossier",5,105000,2,12000,null,0,12000,2670,643470,0,9915,694050,null,694050,2051.4999950000001,2051500,494412,2545912,1242.5,621250,171465,792715,3293.9999950000001,2672750,665877,3338627,2051.4999950000001,1641200,395529,2036729,1242.5,497000,137172,634172,3293.9999950000001,2138200,532701,2670901,2051.4999950000001,3077250,741617,3818867,1242.5,931875,257198,1189073,3293.9999950000001,4009125,998815,5007940,29.5,59000,12530988]
[9,9,"Caddo",11,231000,2,12000,null,0,12000,4408,1062328,0,15353,1074710,null,1074710,2806.4778530000021,2806478,676361,3482839,2019.2436779999973,1009622,278656,1288278,4825.7215309999992,3816100,955017,4771117,2806.4778530000021,2245182,541089,2786271,2019.2436779999973,807697,222924,1030621,4825.7215309999992,3052879,764013,3816892,2806.4778530000021,4209717,1014542,5224259,2019.2436779999973,1514433,417984,1932417,4825.7215309999992,5724150,1432526,7156676,37.5,75000,18199723]
[10,10,"Calcasieu",44,924000,10,60000,null,0,60000,3754,904714,844845,12237,856590,null,856590,2986.1426189999993,2986143,719660,3705803,1663.8718900000001,831936,229614,1061550,4650.0145089999996,3818079,949274,4767353,2986.1426189999993,2388914,575728,2964642,1663.8718900000001,665549,183692,849241,4650.0145089999996,3054463,759420,3813883,2986.1426189999993,4479214,1079491,5558705,1663.8718900000001,1247904,344422,1592326,4650.0145089999996,5727118,1423913,7151031,76,152000,19474416]
[11,11,"Caldwell",0,0,0,0,null,0,0,399,96159,119144,635,44450,null,44450,151.57110000000009,151571,36529,188100,120.353661,60177,16609,76786,271.9247610000001,211748,53138,264886,151.57110000000009,121257,29223,150480,120.353661,48141,13287,61428,271.9247610000001,169398,42510,211908,151.57110000000009,227357,54793,282150,120.353661,90265,24913,115178,271.9247610000001,317622,79706,397328,1,2000,1135875]
[12,12,"Cameron",0,0,0,0,null,0,0,114,27474,0,505,35350,null,35350,161.73728500000001,161737,38979,200716,95.131099999999989,47566,13128,60694,256.86838499999999,209303,52107,261410,161.73728500000001,129390,31183,160573,95.131099999999989,38052,10502,48554,256.86838499999999,167442,41685,209127,161.73728500000001,242606,58468,301074,95.131099999999989,71348,19692,91040,256.86838499999999,313954,78160,392114,2,4000,929475]
[13,13,"Catahoula",0,0,0,0,null,0,0,92,25000,64256,432,30240,null,30240,99.921835999999985,99922,24081,124003,100.52441399999999,50262,13872,64134,200.44624999999996,150184,37953,188137,99.921835999999985,79937,19265,99202,100.52441399999999,40210,11098,51308,200.44624999999996,120147,30363,150510,99.921835999999985,149883,36122,186005,100.52441399999999,75393,20808,96201,200.44624999999996,225276,56930,282206,0,0,740349]
[14,14,"Claiborne",0,0,0,0,null,0,0,172,41452,0,674,47180,null,47180,143.34313499999996,143343,34546,177889,158.23523600000001,79118,21837,100955,301.57837099999995,222461,56383,278844,143.34313499999996,114675,27637,142312,158.23523600000001,63294,17469,80763,301.57837099999995,177969,45106,223075,143.34313499999996,215015,51819,266834,158.23523600000001,118676,32755,151431,301.57837099999995,333691,84574,418265,0,0,1008816]
[15,15,"Concordia",2,42000,0,0,null,0,0,483,116403,0,1227,85890,null,85890,318.22140999999993,318221,76691,394912,202.75269,101376,27980,129356,520.97409999999991,419597,104671,524268,318.22140999999993,254577,61353,315930,202.75269,81101,22384,103485,520.97409999999991,335678,83737,419415,318.22140999999993,477332,115037,592369,202.75269,152065,41970,194035,520.97409999999991,629397,157007,786404,4,8000,1982380]
[16,16,"DeSoto",0,0,0,0,null,0,0,1437,346317,499575,2156,150920,null,150920,487.90416899999997,487904,117585,605489,326.88502999999997,163443,45110,208553,814.78919899999994,651347,162695,814042,487.90416899999997,390323,94068,484391,326.88502999999997,130754,36088,166842,814.78919899999994,521077,130156,651233,487.90416899999997,731856,176377,908233,326.88502999999997,245164,67665,312829,814.78919899999994,977020,244042,1221062,7.5,15000,3698149]
[17,17,"East Baton Rouge",23,483000,7,42000,null,0,42000,9794,2360354,741798,15987,1119090,null,1119090,3979.6069500000003,3979607,959085,4938692,2176.93914,1088470,300418,1388888,6156.5460899999998,5068077,1259503,6327580,3979.6069500000003,3183686,767268,3950954,2176.93914,870776,240334,1111110,6156.5460899999998,4054462,1007602,5062064,3979.6069500000003,5969410,1438628,7408038,2176.93914,1632704,450626,2083330,6156.5460899999998,7602114,1889254,9491368,49,98000,25725254]
[18,18,"East Carroll",1,21000,1,6000,null,0,6000,195,46995,0,339,23730,null,23730,75.670797000000007,75671,18237,93908,62.121852999999994,31061,8573,39634,137.79265000000001,106732,26810,133542,75.670797000000007,60537,14589,75126,62.121852999999994,24849,6858,31707,137.79265000000001,85386,21447,106833,75.670797000000007,113506,27355,140861,62.121852999999994,46591,12859,59450,137.79265000000001,160097,40214,200311,0,0,538411]
[19,19,"East Feliciana",0,0,0,0,null,0,0,168,40488,0,749,52430,null,52430,143.761978,143762,34647,178409,89.527090000000001,44764,12355,57119,233.28906799999999,188526,47002,235528,143.761978,115010,27717,142727,89.527090000000001,35811,9884,45695,233.28906799999999,150821,37601,188422,143.761978,215643,51970,267613,89.527090000000001,67145,18532,85677,233.28906799999999,282788,70502,353290,0,0,870158]
[20,20,"Evangeline",7,147000,4,24000,null,0,24000,837,201717,1117388,2374,166180,null,166180,553.99999799999978,554000,133514,687514,309,154500,42642,197142,862.99999799999978,708500,176156,884656,553.99999799999978,443200,106811,550011,309,123600,34114,157714,862.99999799999978,566800,140925,707725,553.99999799999978,831000,200271,1031271,309,231750,63963,295713,862.99999799999978,1062750,264234,1326984,5,10000,4585650]
[21,21,"Franklin",0,0,0,0,null,0,0,310,74710,0,1116,78120,null,78120,252.67389400000008,252674,60894,313568,228.25611499999999,114128,31499,145627,480.93000900000004,366802,92393,459195,252.67389400000008,202139,48715,250854,228.25611499999999,91302,25199,116501,480.93000900000004,293441,73914,367355,252.67389400000008,379011,91342,470353,228.25611499999999,171192,47249,218441,480.93000900000004,550203,138591,688794,0,0,1668174]
[22,22,"Grant",0,0,0,0,null,0,0,352,84832,0,1196,83720,null,83720,242.49985500000003,242500,58443,300943,153.499999,76750,21183,97933,395.99985400000003,319250,79626,398876,242.49985500000003,194000,46754,240754,153.499999,61400,16946,78346,395.99985400000003,255400,63700,319100,242.49985500000003,363750,87664,451414,153.499999,115125,31775,146900,395.99985400000003,478875,119439,598314,7,14000,1498842]
[23,23,"Iberia",8,168000,0,0,null,0,0,1291,311131,334181,4717,330190,null,330190,1026.6814600000002,1026681,247430,1274111,573.74422500000003,286872,79177,366049,1600.4256850000002,1313553,326607,1640160,1026.6814600000002,821345,197944,1019289,573.74422500000003,229498,63341,292839,1600.4256850000002,1050843,261285,1312128,1026.6814600000002,1540022,371145,1911167,573.74422500000003,430308,118765,549073,1600.4256850000002,1970330,489910,2460240,24.5,49000,6605030]
[24,24,"Iberville",0,0,0,0,null,0,0,353,85073,79138,1824,127680,null,127680,505.22616199999942,505226,121759,626985,324.22249599999998,162111,44743,206854,829.44865799999934,667337,166502,833839,505.22616199999942,404181,97408,501589,324.22249599999998,129689,35794,165483,829.44865799999934,533870,133202,667072,505.22616199999942,757839,182639,940478,324.22249599999998,243167,67114,310281,829.44865799999934,1001006,249753,1250759,8.5,17000,3060561]
[25,25,"Jackson",0,0,0,0,null,0,0,346.5,83506.5,0,941,65870,null,65870,194.13593,194136,46787,240923,164.47865199999998,82239,22698,104937,358.61458199999998,276375,69485,345860,194.13593,155309,37429,192738,164.47865199999998,65791,18158,83949,358.61458199999998,221100,55587,276687,194.13593,291204,70180,361384,164.47865199999998,123359,34047,157406,358.61458199999998,414563,104227,518790,6,12000,1302713.5]
[26,26,"Jefferson",21,441000,5,30000,null,0,30000,7459,1797619,197459,19786,1385020,null,1385020,4189.1080360000069,4189108,1009575,5198683,2389.1666309999982,1194583,329705,1524288,6578.2746670000051,5383691,1339280,6722971,4189.1080360000069,3351286,807660,4158946,2389.1666309999982,955667,263764,1219431,6578.2746670000051,4306953,1071424,5378377,4189.1080360000069,6283662,1514363,7798025,2389.1666309999982,1791875,494558,2286433,6578.2746670000051,8075537,2008921,10084458,45,90000,26126904]
[27,27,"Jefferson Davis",0,0,0,0,null,0,0,643,154963,39486,2342,163940,null,163940,456.24888600000025,456249,109956,566205,320.23586,160118,44193,204311,776.48474600000031,616367,154149,770516,456.24888600000025,364999,87965,452964,320.23586,128094,35354,163448,776.48474600000031,493093,123319,616412,456.24888600000025,684373,164934,849307,320.23586,240177,66289,306466,776.48474600000031,924550,231223,1155773,7,14000,2915090]
[28,28,"Lafayette",25,525000,9,54000,null,0,54000,4866,1172706,0,13786,965020,null,965020,2509.0163000000002,2509016,604673,3113689,1705.2992100000001,852650,235331,1087981,4214.3155100000004,3361666,840004,4201670,2509.0163000000002,2007213,483738,2490951,1705.2992100000001,682120,188265,870385,4214.3155100000004,2689333,672003,3361336,2509.0163000000002,3763524,907009,4670533,1705.2992100000001,1278974,352997,1631971,4214.3155100000004,5042498,1260006,6302504,94.5,189000,16771236]
[29,29,"Lafourche",14,294000,3,18000,null,0,18000,2277,548757,45367,5825,407750,null,407750,1106.3155160000001,1106316,266622,1372938,730.90776500000004,365454,100865,466319,1837.223281,1471770,367487,1839257,1106.3155160000001,885052,213298,1098350,730.90776500000004,292363,80692,373055,1837.223281,1177415,293990,1471405,1106.3155160000001,1659473,399933,2059406,730.90776500000004,548181,151298,699479,1837.223281,2207654,551231,2758885,38,76000,7459421]
[30,30,"LaSalle",0,0,0,0,null,0,0,547,131827,0,1090,76300,null,76300,214.36149800000001,214361,51661,266022,159.64228500000002,79821,22031,101852,374.003783,294182,73692,367874,214.36149800000001,171489,41329,212818,159.64228500000002,63857,17625,81482,374.003783,235346,58954,294300,214.36149800000001,321542,77492,399034,159.64228500000002,119732,33046,152778,374.003783,441274,110538,551812,1,2000,1424113]
[31,31,"Lincoln",3,63000,1,6000,null,0,6000,470,113270,0,2457,171990,null,171990,600.95018299999992,600950,144829,745779,378.72457100000003,189362,52264,241626,979.67475399999989,790312,197093,987405,600.95018299999992,480760,115863,596623,378.72457100000003,151490,41811,193301,979.67475399999989,632250,157674,789924,600.95018299999992,901425,217243,1118668,378.72457100000003,284043,78396,362439,979.67475399999989,1185468,295639,1481107,19,38000,3650696]
[32,32,"Livingston",0,0,0,0,null,0,0,6610,1593010,0,11505,805350,null,805350,2221.913599,2221914,535481,2757395,1580.9154410000001,790458,218166,1008624,3802.8290400000001,3012372,753647,3766019,2221.913599,1777531,428385,2205916,1580.9154410000001,632366,174533,806899,3802.8290400000001,2409897,602918,3012815,2221.913599,3332870,803222,4136092,1580.9154410000001,1185687,327250,1512937,3802.8290400000001,4518557,1130472,5649029,52,104000,14930223]
[33,33,"Madison",0,0,0,0,null,0,0,172,41452,0,536,37520,null,37520,135.535506,135536,32664,168200,127.34179999999999,63671,17573,81244,262.87730599999998,199207,50237,249444,135.535506,108428,26131,134559,127.34179999999999,50937,14059,64996,262.87730599999998,159365,40190,199555,135.535506,203303,48996,252299,127.34179999999999,95506,26360,121866,262.87730599999998,298809,75356,374165,0,0,902136]
[34,34,"Morehouse",0,0,0,0,null,0,0,824,198584,19648,1345,94150,null,94150,286.45135699999997,286451,69035,355486,229.13503100000003,114568,31621,146189,515.58638799999994,401019,100656,501675,286.45135699999997,229161,55228,284389,229.13503100000003,91654,25297,116951,515.58638799999994,320815,80525,401340,286.45135699999997,429677,103552,533229,229.13503100000003,171851,47431,219282,515.58638799999994,601528,150983,752511,4,8000,1975908]
[35,35,"Natchitoches",0,0,0,0,null,0,0,941,226781,0,2279,159530,null,159530,487.75188399999979,487752,117548,605300,212.96928,106485,29390,135875,700.72116399999982,594237,146938,741175,487.75188399999979,390202,94039,484241,212.96928,85188,23512,108700,700.72116399999982,475390,117551,592941,487.75188399999979,731628,176322,907950,212.96928,159727,44085,203812,700.72116399999982,891355,220407,1111762,18,36000,2868189]
[36,36,"Orleans",17,357000,4,24000,null,0,24000,4595,1173838,4680691,19884,1391880,null,1391880,4360.5703050000002,4360573,1050898,5411471,2166.2775039999992,1083140,298946,1382086,6526.847808999999,5443713,1349844,6793557,4360.5703050000002,3488456,840718,4329174,2166.2775039999992,866509,239156,1105665,6526.847808999999,4354965,1079874,5434839,4360.5703050000002,6540857,1576353,8117210,2166.2775039999992,1624708,448424,2073132,6526.847808999999,8165565,2024777,10190342,13,26000,30022937]
[37,37,"Ouachita",0,0,0,0,null,0,0,1235,297635,0,7898,552860,null,552860,1498.9899470000007,1498990,361257,1860247,1206.1500149999997,603075,166449,769524,2705.1399620000002,2102065,527706,2629771,1498.9899470000007,1199192,289005,1488197,1206.1500149999997,482460,133159,615619,2705.1399620000002,1681652,422164,2103816,1498.9899470000007,2248485,541885,2790370,1206.1500149999997,904613,249673,1154286,2705.1399620000002,3153098,791558,3944656,28,56000,9584738]
[38,38,"Plaquemines",0,0,0,0,null,0,0,359,86519,0,1727,120890,null,120890,365.86612299999996,365866,88174,454040,299.80555600000002,149903,41373,191276,665.67167900000004,515769,129547,645316,365.86612299999996,292693,70539,363232,299.80555600000002,119922,33098,153020,665.67167900000004,412615,103637,516252,365.86612299999996,548799,132261,681060,299.80555600000002,224854,62060,286914,665.67167900000004,773653,194321,967974,0,0,2336951]
[39,39,"Pointe Coupee",0,0,0,0,null,0,0,742,178822,0,1126,78820,null,78820,203.68394099999995,203684,49088,252772,130.17828800000001,65089,17965,83054,333.86222899999996,268773,67053,335826,203.68394099999995,162947,39270,202217,130.17828800000001,52071,14372,66443,333.86222899999996,215018,53642,268660,203.68394099999995,305526,73632,379158,130.17828800000001,97634,26947,124581,333.86222899999996,403160,100579,503739,0,0,1365867]
[40,40,"Rapides",0,0,0,0,null,0,0,3269,787829,64030,9485,663950,null,663950,1986.8042540000017,1986804,478820,2465624,1226.03889,613019,169193,782212,3212.8431440000018,2599823,648013,3247836,1986.8042540000017,1589443,383056,1972499,1226.03889,490416,135355,625771,3212.8431440000018,2079859,518411,2598270,1986.8042540000017,2980206,718230,3698436,1226.03889,919529,253790,1173319,3212.8431440000018,3899735,972020,4871755,47,94000,12327670]
[41,41,"Red River",0,0,0,0,null,0,0,260,62660,105814,568,39760,null,39760,131.324815,131325,31649,162974,112.729069,56365,15557,71922,244.05388399999998,187690,47206,234896,131.324815,105060,25319,130379,112.729069,45092,12445,57537,244.05388399999998,150152,37764,187916,131.324815,196987,47474,244461,112.729069,84547,23335,107882,244.05388399999998,281534,70809,352343,1,2000,985389]
[42,42,"Richland",0,0,0,0,null,0,0,456,109896,0,1221,85470,null,85470,217.14747299999999,217147,52332,269479,182.75165899999999,91376,25220,116596,399.89913200000001,308523,77552,386075,217.14747299999999,173718,41866,215584,182.75165899999999,73101,20176,93277,399.89913200000001,246819,62042,308861,217.14747299999999,325721,78499,404220,182.75165899999999,137064,37830,174894,399.89913200000001,462785,116329,579114,9,18000,1487416]
[43,43,"Sabine",0,0,0,0,null,0,0,782,188462,140907,1674,117180,null,117180,373.5,373500,90014,463514,299.16666499999997,149583,41285,190868,672.66666499999997,523083,131299,654382,373.5,298800,72011,370811,299.16666499999997,119667,33028,152695,672.66666499999997,418467,105039,523506,373.5,560250,135020,695270,299.16666499999997,224375,61928,286303,672.66666499999997,784625,196948,981573,1,2000,2608010]
[44,44,"St. Bernard",0,0,0,0,null,0,0,1914,461274,0,3405,238350,null,238350,626.40291399999978,626403,150963,777366,305,152500,42090,194590,931.40291399999978,778903,193053,971956,626.40291399999978,501122,120770,621892,305,122000,33672,155672,931.40291399999978,623122,154442,777564,626.40291399999978,939604,226445,1166049,305,228750,63135,291885,931.40291399999978,1168354,289580,1457934,17,34000,3941078]
[45,45,"St. Charles",0,0,0,0,null,0,0,1595,384395,344057,4195,293650,null,293650,1011.0545600000002,1011055,243664,1254719,799,399500,110262,509762,1810.05456,1410555,353926,1764481,1011.0545600000002,808844,194931,1003775,799,319600,88210,407810,1810.05456,1128444,283141,1411585,1011.0545600000002,1516582,365496,1882078,799,599250,165393,764643,1810.05456,2115832,530889,2646721,25,50000,6894889]
[46,46,"St. Helena",0,0,0,0,null,0,0,108,26028,0,458,32060,null,32060,82.235479999999995,82235,19819,102054,67,33500,9246,42746,149.23548,115735,29065,144800,82.235479999999995,65788,15855,81643,67,26800,7397,34197,149.23548,92588,23252,115840,82.235479999999995,123353,29728,153081,67,50250,13869,64119,149.23548,173603,43597,217200,0,0,535928]
[47,47,"St. James",0,0,0,0,null,0,0,926,223166,337189,1588,111160,null,111160,353.02314399999995,353023,85079,438102,149.09287,74546,20575,95121,502.11601399999995,427569,105654,533223,353.02314399999995,282419,68063,350482,149.09287,59637,16460,76097,502.11601399999995,342056,84523,426579,353.02314399999995,529535,127618,657153,149.09287,111820,30862,142682,502.11601399999995,641355,158480,799835,1,2000,2433152]
[48,48,"St. John the Baptist",0,0,0,0,null,0,0,1104,266064,0,2165,151550,null,151550,508.45301599999976,508453,122537,630990,307.290029,153645,42406,196051,815.74304499999971,662098,164943,827041,508.45301599999976,406762,98030,504792,307.290029,122916,33925,156841,815.74304499999971,529678,131955,661633,508.45301599999976,762680,183806,946486,307.290029,230468,63609,294077,815.74304499999971,993148,247415,1240563,0,0,3146851]
[49,49,"St. Landry",6,126000,3,18000,null,0,18000,2896,697936,114186,5189,363230,null,363230,1110.6160920000023,1110616,267658,1378274,679.24754900000005,339624,93736,433360,1789.8636410000022,1450240,361394,1811634,1110.6160920000023,888493,214127,1102620,679.24754900000005,271699,74989,346688,1789.8636410000022,1160192,289116,1449308,1110.6160920000023,1665924,401488,2067412,679.24754900000005,509436,140604,650040,1789.8636410000022,2175360,542092,2717452,15,30000,7327746]
[50,50,"St. Martin",9,189000,4,24000,null,0,24000,985,237385,0,3121,218470,null,218470,587.84811199999967,587848,141671,729519,382.36381299999999,191182,52766,243948,970.21192499999961,779030,194437,973467,587.84811199999967,470278,113337,583615,382.36381299999999,152946,42213,195159,970.21192499999961,623224,155550,778774,587.84811199999967,881772,212507,1094279,382.36381299999999,286773,79149,365922,970.21192499999961,1168545,291656,1460201,3,6000,3887297]
[51,51,"St. Mary",0,0,0,0,null,0,0,1806,435246,13989,3520,246400,null,246400,707.89998699999967,707900,170604,878504,515,257500,71070,328570,1222.8999869999998,965400,241674,1207074,707.89998699999967,566320,136483,702803,515,206000,56856,262856,1222.8999869999998,772320,193339,965659,707.89998699999967,1061850,255906,1317756,515,386250,106605,492855,1222.8999869999998,1448100,362511,1810611,8,16000,4694979]
[52,52,"St. Tammany",0,0,0,0,null,0,0,4909,1183069,374195,16686,1168020,null,1168020,3595.0588999999973,3595059,866409,4461468,2584.5236409999993,1292262,356664,1648926,6179.5825409999961,4887321,1223073,6110394,3595.0588999999973,2876047,693127,3569174,2584.5236409999993,1033809,285331,1319140,6179.5825409999961,3909856,978458,4888314,3595.0588999999973,5392588,1299614,6692202,2584.5236409999993,1938393,534996,2473389,6179.5825409999961,7330981,1834610,9165591,73,146000,23035583]
[53,53,"Tangipahoa",0,0,0,0,null,0,0,4462,1075342,0,8490,594300,null,594300,1711.5576070000004,1711558,412485,2124043,1212.4699579999999,606235,167321,773556,2924.0275650000003,2317793,579806,2897599,1711.5576070000004,1369246,329988,1699234,1212.4699579999999,484988,133857,618845,2924.0275650000003,1854234,463845,2318079,1711.5576070000004,2567336,618728,3186064,1212.4699579999999,909352,250981,1160333,2924.0275650000003,3476688,869709,4346397,38,76000,11307717]
[54,54,"Tensas",0,0,0,0,null,0,0,45,25000,0,144,10080,null,10080,34.498829000000001,34499,8314,42813,38.802289999999999,19401,5355,24756,73.301119,53900,13669,67569,34.498829000000001,27599,6651,34250,38.802289999999999,15521,4284,19805,73.301119,43120,10935,54055,34.498829000000001,51748,12471,64219,38.802289999999999,29102,8032,37134,73.301119,80850,20503,101353,0,0,258057]
[55,55,"Terrebonne",0,0,0,0,null,0,0,1519,366079,460308,6544,458080,null,458080,1254.3317960000013,1254332,302294,1556626,787.19577199999981,393598,108633,502231,2041.5275680000011,1647930,410927,2058857,1254.3317960000013,1003465,241835,1245300,787.19577199999981,314878,86906,401784,2041.5275680000011,1318343,328741,1647084,1254.3317960000013,1881498,453441,2334939,787.19577199999981,590397,162950,753347,2041.5275680000011,2471895,616391,3088286,21,42000,8120694]
[56,56,"Union",0,0,0,0,null,0,0,211,50851,12518,792,55440,null,55440,159.36815599999997,159368,38408,197776,118.17644199999999,59088,16308,75396,277.54459799999995,218456,54716,273172,159.36815599999997,127495,30726,158221,118.17644199999999,47271,13047,60318,277.54459799999995,174766,43773,218539,159.36815599999997,239052,57612,296664,118.17644199999999,88632,24462,113094,277.54459799999995,327684,82074,409758,2,4000,1024278]
[57,57,"Vermilion",5,105000,6,36000,null,0,36000,939,226299,106998,3935,275450,null,275450,794.99999399999967,795000,191595,986595,439.999999,220000,60720,280720,1234.9999929999997,1015000,252315,1267315,794.99999399999967,636000,153276,789276,439.999999,176000,48576,224576,1234.9999929999997,812000,201852,1013852,794.99999399999967,1192500,287393,1479893,439.999999,330000,91080,421080,1234.9999929999997,1522500,378473,1900973,16,32000,4963887]
[58,58,"Vernon",0,0,0,0,null,0,0,370,89170,79092,3089,216230,null,216230,637.64916999999991,637649,153673,791322,461.44710299999991,230724,63680,294404,1099.0962729999999,868373,217353,1085726,637.64916999999991,510119,122939,633058,461.44710299999991,184579,50944,235523,1099.0962729999999,694698,173883,868581,637.64916999999991,956474,230510,1186984,461.44710299999991,346085,95519,441604,1099.0962729999999,1302559,326029,1628588,2,4000,3971387]
[59,59,"Washington",0,0,0,0,null,0,0,648,156168,0,2095,146650,null,146650,419.35880200000003,419359,101066,520425,313.90095200000002,156950,43318,200268,733.25975400000004,576309,144384,720693,419.35880200000003,335487,80852,416339,313.90095200000002,125560,34655,160215,733.25975400000004,461047,115507,576554,419.35880200000003,629038,151598,780636,313.90095200000002,235426,64978,300404,733.25975400000004,864464,216576,1081040,0,0,2681105]
[60,60,"Webster",0,0,0,0,null,0,0,688,165808,16770,2380,166600,null,166600,425.91689099999996,425917,102646,528563,330.69860100000005,165349,45636,210985,756.61549200000002,591266,148282,739548,425.91689099999996,340734,82117,422851,330.69860100000005,132279,36509,168788,756.61549200000002,473013,118626,591639,425.91689099999996,638875,153969,792844,330.69860100000005,248024,68455,316479,756.61549200000002,886899,222424,1109323,4,8000,2797688]
[61,61,"West Baton Rouge",0,0,0,0,null,0,0,701,168941,0,1761,123270,null,123270,489.95050000000003,489951,118078,608029,230,115000,31740,146740,719.95050000000003,604951,149818,754769,489.95050000000003,391960,94462,486422,230,92000,25392,117392,719.95050000000003,483960,119854,603814,489.95050000000003,734926,177117,912043,230,172500,47610,220110,719.95050000000003,907426,224727,1132153,16,32000,2814947]
[62,62,"West Carroll",0,0,0,0,null,0,0,228,54948,40590,760,53200,null,53200,106.40099000000004,106401,25643,132044,63.010130000000004,31505,8695,40200,169.41112000000004,137906,34338,172244,106.40099000000004,85121,20514,105635,63.010130000000004,25204,6956,32160,169.41112000000004,110325,27470,137795,106.40099000000004,159601,38464,198065,63.010130000000004,47258,13043,60301,169.41112000000004,206859,51507,258366,1,2000,719143]
[63,63,"West Feliciana",0,0,0,0,null,0,0,276,66516,0,926,64820,null,64820,238.55858500000002,238559,57493,296052,140.13551699999999,70068,19339,89407,378.69410200000004,308627,76832,385459,238.55858500000002,190847,45994,236841,140.13551699999999,56054,15471,71525,378.69410200000004,246901,61465,308366,238.55858500000002,357838,86239,444077,140.13551699999999,105102,29008,134110,378.69410200000004,462940,115247,578187,1,2000,1405348]
[64,64,"Winn",0,0,0,0,null,0,0,424,102184,0,872,61040,null,61040,144.00933999999998,144009,34706,178715,133.42643199999998,66713,18413,85126,277.43577199999993,210722,53119,263841,144.00933999999998,115207,27765,142972,133.42643199999998,53371,14730,68101,277.43577199999993,168578,42495,211073,144.00933999999998,216014,52059,268073,133.42643199999998,100070,27619,127689,277.43577199999993,316084,79678,395762,3,6000,1039900]
[65,65,"City of Monroe",0,0,0,0,null,0,0,763,183883,29928,3447,241290,null,241290,779.87850599999945,779879,187951,967830,555.90330900000004,277952,76715,354667,1335.7818149999994,1057831,264666,1322497,779.87850599999945,623903,150361,774264,555.90330900000004,222361,61372,283733,1335.7818149999994,846264,211733,1057997,779.87850599999945,1169818,281926,1451744,555.90330900000004,416927,115072,531999,1335.7818149999994,1586745,396998,1983743,20,40000,4859338]
[66,66,"City of Bogalusa",0,0,0,0,null,0,0,405,97605,145635,727,50890,null,50890,183.88923599999998,183889,44317,228206,151.03713600000003,75519,20843,96362,334.92637200000001,259408,65160,324568,183.88923599999998,147111,35454,182565,151.03713600000003,60415,16675,77090,334.92637200000001,207526,52129,259655,183.88923599999998,275834,66476,342310,151.03713600000003,113278,31265,144543,334.92637200000001,389112,97741,486853,0,0,1365206]
[67,67,"Zachary Community",0,0,0,0,null,0,0,509,122669,0,2537,177590,null,177590,433.32105200000001,433321,104430,537751,206.143304,103072,28448,131520,639.46435599999995,536393,132878,669271,433.32105200000001,346657,83544,430201,206.143304,82457,22758,105215,639.46435599999995,429114,106302,535416,433.32105200000001,649982,156646,806628,206.143304,154607,42672,197279,639.46435599999995,804589,199318,1003907,14,28000,2536853]
[68,68,"City of Baker",0,0,0,0,null,0,0,121,29161,25291,499,34930,null,34930,76.673079999999999,76673,18478,95151,47.737630000000003,23869,6588,30457,124.41070999999999,100542,25066,125608,76.673079999999999,61338,14782,76120,47.737630000000003,19095,5270,24365,124.41070999999999,80433,20052,100485,76.673079999999999,115010,27717,142727,47.737630000000003,35803,9882,45685,124.41070999999999,150813,37599,188412,1,2000,505887]
[69,69,"Central Community",0,0,0,0,null,0,0,1566,377406,0,2280,159600,null,159600,397.89685900000001,397897,95893,493790,124.37582,62188,17164,79352,522.27267900000004,460085,113057,573142,397.89685900000001,318317,76714,395031,124.37582,49750,13731,63481,522.27267900000004,368067,90445,458512,397.89685900000001,596845,143840,740685,124.37582,93282,25746,119028,522.27267900000004,690127,169586,859713,21.5,43000,2471373]
[null,null,"Total City/Parish",202,4242000,61,366000,0,0,366000,102194.5,24712300.5,11690375,281378,19696460,0,19696460,59085.219732999991,59085222,14239539,73324761,37703.55902500001,18851783,5203093,24054876,96788.778757999986,77937005,19442632,97379637,59085.219732999991,47268173,11391626,58659799,37703.55902500001,15081421,4162472,19243893,96788.778757999986,62349594,15554098,77903692,59085.219732999991,88627829,21359317,109987146,37703.55902500001,28277669,7804645,36082314,96788.778757999986,116905498,29163962,146069460,999,1998000,384008714.5]
[]
[318,318001,"LSU Lab School",0,0,0,0,null,0,0,91,21931,0,698,48860,null,48860,125.95987999999997,125960,30356,156316,32,16000,4416,20416,157.95987999999997,141960,34772,176732,125.95987999999997,100768,24285,125053,32,12800,3533,16333,157.95987999999997,113568,27818,141386,125.95987999999997,188940,45535,234475,32,24000,6624,30624,157.95987999999997,212940,52159,265099,11.5,23000,677008]
[319,319001,"Southern Lab School",0,0,0,0,null,0,0,3,10000,0,400,28000,null,28000,33.22222,33222,8007,41229,4,2000,552,2552,37.22222,35222,8559,43781,33.22222,26578,6405,32983,4,1600,442,2042,37.22222,28178,6847,35025,33.22222,49833,12010,61843,4,3000,828,3828,37.22222,52833,12838,65671,0,0,182477]
[302006,302006,"LA School for Math, Science and the Arts",0,0,0,0,null,0,0,0,10000,0,270,18900,null,18900,49.127119999999998,49127,11840,60967,33.196680000000001,16598,4581,21179,82.323800000000006,65725,16421,82146,49.127119999999998,39302,9472,48774,33.196680000000001,13279,3665,16944,82.323800000000006,52581,13137,65718,49.127119999999998,73691,17760,91451,33.196680000000001,24898,6872,31770,82.323800000000006,98589,24632,123221,0,0,299985]
[334001,334001,"New Orleans Center for Creative Arts",0,0,0,0,null,0,0,0,10000,0,223,15610,null,15610,76.444909999999993,76445,18423,94868,10.430670000000001,5215,1439,6654,86.875579999999999,81660,19862,101522,76.444909999999993,61156,14739,75895,10.430670000000001,4172,1151,5323,86.875579999999999,65328,15890,81218,76.444909999999993,114667,27635,142302,10.430670000000001,7823,2159,9982,86.875579999999999,122490,29794,152284,0,0,360634]
["3C1001","3C1001","Thrive",0,0,0,0,null,0,0,36,10000,0,165,11550,null,11550,30.677969999999998,30678,7393,38071,54,27000,7452,34452,84.677970000000002,57678,14845,72523,30.677969999999998,24542,5915,30457,54,21600,5962,27562,84.677970000000002,46142,11877,58019,30.677969999999998,46017,11090,57107,54,40500,11178,51678,84.677970000000002,86517,22268,108785,0,0,260877]
[101001,null,"Special School District",0,null,0,null,null,null,null,58,13978,0,216,15120,null,15120,99.278469000000015,99278,23926,123204,63.515504999999997,31758,8765,40523,162.79397400000002,131036,32691,163727,99.278469000000015,79423,19141,98564,63.515504999999997,25406,7012,32418,162.79397400000002,104829,26153,130982,99.278469000000015,148918,35889,184807,63.515504999999997,47637,13148,60785,162.79397400000002,196555,49037,245592,0,0,569399]
["A02","A02","Office of Juvenile Justice",0,0,0,0,null,0,0,120,28920,0,226,15820,null,15820,35.333330000000004,35333,8515,43848,10.993590000000001,5497,1517,7014,46.326920000000001,40830,10032,50862,35.333330000000004,28267,6812,35079,10.993590000000001,4397,1214,5611,46.326920000000001,32664,8026,40690,35.333330000000004,53000,12773,65773,10.993590000000001,8245,2276,10521,46.326920000000001,61245,15049,76294,0,0,212586]
[null,null,"Total Lab & State Approved Schools",0,0,0,0,0,0,0,308,104829,0,2198,153860,0,153860,450.04389899999995,450043,108460,558503,208.13644500000001,104068,28722,132790,658.18034399999999,554111,137182,691293,450.04389899999995,360036,86769,446805,208.13644500000001,83254,22979,106233,658.18034399999999,443290,109748,553038,450.04389899999995,675066,162692,837758,208.13644500000001,156103,43085,199188,658.18034399999999,831169,205777,1036946,11.5,23000,2562966]
[]
[321001,321001,"New Vision Learning",0,0,0,0,null,0,0,0,0,0,0,0,null,0,17.94031,17940,4324,22264,7.3545400000000001,3677,1015,4692,25.29485,21617,5339,26956,17.94031,14352,3459,17811,7.3545400000000001,2942,812,3754,25.29485,17294,4271,21565,17.94031,26910,6485,33395,7.3545400000000001,5516,1522,7038,25.29485,32426,8007,40433,0,0,88954]
[329001,329001,"Glencoe Charter School",0,0,0,0,null,0,0,83,20003,0,158,11060,null,11060,38.266670000000005,38267,9222,47489,22.334130000000002,11167,3082,14249,60.600800000000007,49434,12304,61738,38.266670000000005,30613,7378,37991,22.334130000000002,8934,2466,11400,60.600800000000007,39547,9844,49391,38.266670000000005,57400,13833,71233,22.334130000000002,16751,4623,21374,60.600800000000007,74151,18456,92607,1,2000,236799]
[331001,331001,"International School of LA",15,315000,7,42000,null,0,42000,18,4338,0,210,14700,null,14700,113.84291,113843,27436,141279,89.342910000000003,44671,12329,57000,203.18582000000001,158514,39765,198279,113.84291,91074,21949,113023,89.342910000000003,35737,9863,45600,203.18582000000001,126811,31812,158623,113.84291,170764,41154,211918,89.342910000000003,67007,18494,85501,203.18582000000001,237771,59648,297419,0,0,1030359]
[333001,333001,"Avoyelles Public Charter School",0,0,0,0,null,0,0,24,10000,0,318,22260,null,22260,47.219709999999999,47220,11380,58600,24.112940000000002,12056,3327,15383,71.332650000000001,59276,14707,73983,47.219709999999999,37776,9104,46880,24.112940000000002,9645,2662,12307,71.332650000000001,47421,11766,59187,47.219709999999999,70830,17070,87900,24.112940000000002,18085,4991,23076,71.332650000000001,88915,22061,110976,0,0,276406]
[336001,336001,"Delhi Charter School",0,0,0,0,null,0,0,167,40247,0,341,23870,null,23870,46.459428000000003,46459,11197,57656,54.528209000000004,27264,7525,34789,100.98763700000001,73723,18722,92445,46.459428000000003,37168,8957,46125,54.528209000000004,21811,6020,27831,100.98763700000001,58979,14977,73956,46.459428000000003,69689,16795,86484,54.528209000000004,40896,11287,52183,100.98763700000001,110585,28082,138667,0,0,369185]
[337001,337001,"Belle Chasse Academy",0,0,0,0,null,0,0,0,0,25169,186,13020,null,13020,87,87000,20967,107967,97.5,48750,13455,62205,184.5,135750,34422,170172,87,69600,16774,86374,97.5,39000,10764,49764,184.5,108600,27538,136138,87,130500,31451,161951,97.5,73125,20183,93308,184.5,203625,51634,255259,1,2000,601758]
[340001,340001,"The MAX Charter School",0,0,0,0,null,0,0,0,0,0,27,1890,null,1890,12.994540000000001,12995,3132,16127,7.7142800000000005,3857,1065,4922,20.708820000000003,16852,4197,21049,12.994540000000001,10396,2505,12901,7.7142800000000005,3086,852,3938,20.708820000000003,13482,3357,16839,12.994540000000001,19492,4698,24190,7.7142800000000005,5786,1597,7383,20.708820000000003,25278,6295,31573,0,0,71351]
[null,null,"Total Legacy Type 2 Charter Schools",15,315000,7,42000,0,0,42000,292,74588,25169,1240,86800,0,86800,363.723568,363724,87658,451382,302.88700899999998,151442,41798,193240,666.61057700000015,515166,129456,644622,363.723568,290979,70126,361105,302.88700899999998,121155,33439,154594,666.61057700000015,412134,103565,515699,363.723568,545585,131486,677071,302.88700899999998,227166,62697,289863,666.61057700000015,772751,194183,966934,2,4000,2674812]
[]
[341001,341001,"D'Arbonne Woods ",0,0,0,0,null,0,0,174,41934,0,443,31010,null,31010,71.335949999999997,71336,17192,88528,45.165745999999999,22583,6233,28816,116.501696,93919,23425,117344,71.335949999999997,57069,13754,70823,45.165745999999999,18066,4986,23052,116.501696,75135,18740,93875,71.335949999999997,107004,25788,132792,45.165745999999999,33874,9349,43223,116.501696,140878,35137,176015,0,0,460178]
[343001,343001,"Madison Prep",0,0,0,0,null,0,0,223,53743,0,569,39830,null,39830,46.738959999999999,46739,11264,58003,15.21951,7610,2100,9710,61.958469999999998,54349,13364,67713,46.738959999999999,37391,9011,46402,15.21951,6088,1680,7768,61.958469999999998,43479,10691,54170,46.738959999999999,70108,16896,87004,15.21951,11415,3151,14566,61.958469999999998,81523,20047,101570,0,0,317026]
[344001,344001,"Int'l High School of N. O. ",0,0,0,0,null,0,0,109,26269,0,379,26530,null,26530,41,41000,9881,50881,14,7000,1932,8932,55,48000,11813,59813,41,32800,7905,40705,14,5600,1546,7146,55,38400,9451,47851,41,61500,14822,76322,14,10500,2898,13398,55,72000,17720,89720,0,0,250183]
[345001,345001,"University View Academy",0,0,0,0,null,0,0,545,131345,0,2321,162470,null,162470,253.63911300000001,253639,61127,314766,72.834446999999997,36417,10051,46468,326.47356000000002,290056,71178,361234,253.63911300000001,202911,48902,251813,72.834446999999997,29134,8041,37175,326.47356000000002,232045,56943,288988,253.63911300000001,380459,91691,472150,72.834446999999997,54626,15077,69703,326.47356000000002,435085,106768,541853,0,0,1485890]
[346001,346001,"Lake Charles Charter Academy ",0,0,0,0,null,0,0,113,27233,0,249,17430,null,17430,77.470259999999996,77470,18670,96140,20.427019999999999,10214,2819,13033,97.897279999999995,87684,21489,109173,77.470259999999996,61976,14936,76912,20.427019999999999,8171,2255,10426,97.897279999999995,70147,17191,87338,77.470259999999996,116205,28005,144210,20.427019999999999,15320,4228,19548,97.897279999999995,131525,32233,163758,0,0,404932]
[347001,347001,"Lycee Francois de la Nouvelle Orleans ",39,819000,7,42000,null,0,42000,0,10000,104074,278,19460,null,19460,92,92000,22172,114172,45,22500,6210,28710,137,114500,28382,142882,92,73600,17738,91338,45,18000,4968,22968,137,91600,22706,114306,92,138000,33258,171258,45,33750,9315,43065,137,171750,42573,214323,0,0,1466045]
[348001,348001,"New Orleans Military/Maritime Acdmy ",0,0,0,0,null,0,0,363,87483,0,864,60480,null,60480,96.185159999999996,96185,23181,119366,29,14500,4002,18502,125.18516,110685,27183,137868,96.185159999999996,76948,18544,95492,29,11600,3202,14802,125.18516,88548,21746,110294,96.185159999999996,144278,34771,179049,29,21750,6003,27753,125.18516,166028,40774,206802,0,0,602927]
["3C5001","3C5001","St Landry Charter School",0,0,0,0,null,0,0,0,0,0,0,0,null,0,22,22000,5302,27302,29,14500,4002,18502,51,36500,9304,45804,22,17600,4242,21842,29,11600,3202,14802,51,29200,7444,36644,22,33000,7953,40953,29,21750,6003,27753,51,54750,13956,68706,0,0,151154]
["W18001","W18001","Noble Minds Institute",0,0,0,0,null,0,0,0,0,8582,10,700,null,700,13,13000,3133,16133,11,5500,1518,7018,24,18500,4651,23151,13,10400,2506,12906,11,4400,1214,5614,24,14800,3720,18520,13,19500,4700,24200,11,8250,2277,10527,24,27750,6977,34727,0,0,85680]
["W1A001","W1A001","JCFA - East",0,0,0,0,null,0,0,42,10122,0,133,9310,null,9310,26.813550000000003,26814,6462,33276,9,4500,1242,5742,35.813550000000006,31314,7704,39018,26.813550000000003,21451,5170,26621,9,3600,994,4594,35.813550000000006,25051,6164,31215,26.813550000000003,40220,9693,49913,9,6750,1863,8613,35.813550000000006,46970,11556,58526,0,0,148191]
["W1B001","W1B001","Advantage Charter Academy",0,0,0,0,null,0,0,0,0,0,127,8890,null,8890,42.728830000000002,42729,10298,53027,28,14000,3864,17864,70.728830000000002,56729,14162,70891,42.728830000000002,34183,8238,42421,28,11200,3091,14291,70.728830000000002,45383,11329,56712,42.728830000000002,64093,15446,79539,28,21000,5796,26796,70.728830000000002,85093,21242,106335,0,0,242828]
["W1D001","W1D001","JCFA - Lafayette",0,0,0,0,null,0,0,0,10000,0,58,4060,null,4060,7.9661099999999996,7966,1920,9886,3,1500,414,1914,10.96611,9466,2334,11800,7.9661099999999996,6373,1536,7909,3,1200,331,1531,10.96611,7573,1867,9440,7.9661099999999996,11949,2880,14829,3,2250,621,2871,10.96611,14199,3501,17700,0,0,53000]
["W2B001","W2B001","Willow Charter Academy",0,0,0,0,null,0,0,0,0,0,147,10290,null,10290,46.642919999999997,46643,11241,57884,19,9500,2622,12122,65.642920000000004,56143,13863,70006,46.642919999999997,37314,8993,46307,19,7600,2098,9698,65.642920000000004,44914,11091,56005,46.642919999999997,69964,16861,86825,19,14250,3933,18183,65.642920000000004,84214,20794,105008,1,2000,243309]
["W33001","W33001","Lincoln Prep School",0,0,0,0,null,0,0,59,14219,0,307,21490,null,21490,75.37209,75372,18165,93537,50.242760000000004,25121,6933,32054,125.61485,100493,25098,125591,75.37209,60298,14532,74830,50.242760000000004,20097,5547,25644,125.61485,80395,20079,100474,75.37209,113058,27247,140305,50.242760000000004,37682,10400,48082,125.61485,150740,37647,188387,0,0,450161]
["W3B001","W3B001","Iberville Charter Academy",0,0,0,0,null,0,0,31,7471,0,119,8330,null,8330,50.069790000000005,50070,12067,62137,15.29787,7649,2111,9760,65.367660000000001,57719,14178,71897,50.069790000000005,40056,9653,49709,15.29787,6119,1689,7808,65.367660000000001,46175,11342,57517,50.069790000000005,75105,18100,93205,15.29787,11473,3167,14640,65.367660000000001,86578,21267,107845,0,0,253060]
["W4A001","W4A001","Delta Charter School ",0,0,0,0,null,0,0,26,10000,0,234,16380,null,16380,34.865277000000006,34865,8402,43267,11.925926,5963,1646,7609,46.79120300000001,40828,10048,50876,34.865277000000006,27892,6722,34614,11.925926,4770,1317,6087,46.79120300000001,32662,8039,40701,34.865277000000006,52298,12604,64902,11.925926,8944,2469,11413,46.79120300000001,61242,15073,76315,0,0,194272]
["W4B001","W4B001","Lake Charles College Prep",0,0,0,0,null,0,0,87,20967,0,559,39130,null,39130,43.156410000000001,43156,10401,53557,7,3500,966,4466,50.156410000000001,46656,11367,58023,43.156410000000001,34525,8321,42846,7,2800,773,3573,50.156410000000001,37325,9094,46419,43.156410000000001,64735,15601,80336,7,5250,1449,6699,50.156410000000001,69985,17050,87035,0.5,1000,252574]
["W5B001","W5B001","Northeast Claiborne Charter",0,0,0,0,null,0,0,19,10000,0,81,5670,null,5670,7,7000,1687,8687,7,3500,966,4466,14,10500,2653,13153,7,5600,1350,6950,7,2800,773,3573,14,8400,2123,10523,7,10500,2531,13031,7,5250,1449,6699,14,15750,3980,19730,0,0,59076]
["W6B001","W6B001","Acadiana Renaissance",0,0,0,0,null,0,0,322,77602,0,740,51800,null,51800,196.33149999999998,196332,47316,243648,54.941190000000006,27471,7582,35053,251.27268999999998,223803,54898,278701,196.33149999999998,157065,37853,194918,54.941190000000006,21976,6065,28041,251.27268999999998,179041,43918,222959,196.33149999999998,294497,70974,365471,54.941190000000006,41206,11373,52579,251.27268999999998,335703,82347,418050,7,14000,1063112]
["W7A001","W7A001","Louisiana Key Academy ",0,0,0,0,null,0,0,22,10000,0,91,6370,null,6370,56,56000,13496,69496,14,7000,1932,8932,70,63000,15428,78428,56,44800,10797,55597,14,5600,1546,7146,70,50400,12343,62743,56,84000,20244,104244,14,10500,2898,13398,70,94500,23142,117642,0,0,275183]
["W7B001","W7B001","Lafayette Renaissance",0,0,0,0,null,0,0,154,37114,0,468,32760,null,32760,114.57907999999999,114579,27614,142193,41.010149999999996,20505,5659,26164,155.58922999999999,135084,33273,168357,114.57907999999999,91663,22091,113754,41.010149999999996,16404,4528,20932,155.58922999999999,108067,26619,134686,114.57907999999999,171869,41420,213289,41.010149999999996,30758,8489,39247,155.58922999999999,202627,49909,252536,0,0,625453]
["W8A001","W8A001","Impact Charter",0,0,0,0,null,0,0,12,2892,0,89,6230,null,6230,52,52000,12532,64532,27.04035,13520,3732,17252,79.040350000000004,65520,16264,81784,52,41600,10026,51626,27.04035,10816,2985,13801,79.040350000000004,52416,13011,65427,52,78000,18798,96798,27.04035,20280,5597,25877,79.040350000000004,98280,24395,122675,0,0,279008]
["WAG001","WAG001","Louisiana Virtual Charter Academy",0,0,0,0,null,0,0,448,107968,0,1120,78400,null,78400,98.849180000000004,98849,23823,122672,29.45017,14725,4064,18789,128.29935,113574,27887,141461,98.849180000000004,79079,19058,98137,29.45017,11780,3251,15031,128.29935,90859,22309,113168,98.849180000000004,148274,35734,184008,29.45017,22088,6096,28184,128.29935,170362,41830,212192,0,0,653189]
["WAK001","WAK001","Southwest LA Charter School ",0,0,0,0,null,0,0,34,8194,0,172,12040,null,12040,69.582099999999997,69582,16769,86351,24.63636,12318,3400,15718,94.218459999999993,81900,20169,102069,69.582099999999997,55666,13416,69082,24.63636,9855,2720,12575,94.218459999999993,65521,16136,81657,69.582099999999997,104373,25154,129527,24.63636,18477,5100,23577,94.218459999999993,122850,30254,153104,1,2000,359064]
["WAL001","WAL001","J. S. Clark Leadership Academy ",0,0,0,0,null,0,0,115,27715,0,194,13580,null,13580,29,29000,6989,35989,25,12500,3450,15950,54,41500,10439,51939,29,23200,5591,28791,25,10000,2760,12760,54,33200,8351,41551,29,43500,10484,53984,25,18750,5175,23925,54,62250,15659,77909,0,0,212694]
["WAU001","WAU001","GEO Prep Academy",0,0,0,0,null,0,0,72,17352,0,145,10150,null,10150,69.402349999999984,69402,16726,86128,53.1,26550,7328,33878,122.50234999999998,95952,24054,120006,69.402349999999984,55522,13381,68903,53.1,21240,5862,27102,122.50234999999998,76762,19243,96005,69.402349999999984,104104,25089,129193,53.1,39825,10992,50817,122.50234999999998,143929,36081,180010,0,0,423523]
["WBQ001","WBQ001","New Harmony High School",0,0,0,0,null,0,0,158,38078,0,276,19320,null,19320,35.242500000000007,35243,8494,43737,10.848500000000001,5424,1497,6921,46.091000000000008,40667,9991,50658,35.242500000000007,28194,6795,34989,10.848500000000001,4339,1198,5537,46.091000000000008,32533,7993,40526,35.242500000000007,52864,12740,65604,10.848500000000001,8136,2246,10382,46.091000000000008,61000,14986,75986,0,0,224568]
["WBR001","WBR001","Athlos Academy",0,0,0,0,null,0,0,0,0,22223,253,17710,null,17710,90.767349999999993,90767,21875,112642,46.991839999999996,23496,6485,29981,137.75918999999999,114263,28360,142623,90.767349999999993,72614,17500,90114,46.991839999999996,18797,5188,23985,137.75918999999999,91411,22688,114099,90.767349999999993,136151,32812,168963,46.991839999999996,35244,9727,44971,137.75918999999999,171395,42539,213934,0,0,510589]
["WBX001","WBX001","GEO Next Generation HS ",0,0,0,0,null,0,0,83,20003,0,379,26530,null,26530,31,31000,7471,38471,14,7000,1932,8932,45,38000,9403,47403,31,24800,5977,30777,14,5600,1546,7146,45,30400,7523,37923,31,46500,11207,57707,14,10500,2898,13398,45,57000,14105,71105,0,0,202964]
["WBY001","WBY001","Red River Charter Academy",0,0,0,0,null,0,0,73,17593,0,150,10500,null,10500,12,12000,2892,14892,6.2074699999999998,3104,857,3961,18.207470000000001,15104,3749,18853,12,9600,2314,11914,6.2074699999999998,2483,685,3168,18.207470000000001,12083,2999,15082,12,18000,4338,22338,6.2074699999999998,4656,1285,5941,18.207470000000001,22656,5623,28279,0,0,90307]
["WJ5001","WJ5001","Collegiate Academy (EBR)",0,0,0,0,null,0,0,176,42416,149577,464,32480,null,32480,55,55000,13255,68255,21,10500,2898,13398,76,65500,16153,81653,55,44000,10604,54604,21,8400,2318,10718,76,52400,12922,65322,55,82500,19883,102383,21,15750,4347,20097,76,98250,24230,122480,0,0,493928]
["WZ8001","WZ8001","GEO Prep Mid-City of Greater B. R.",0,0,0,0,null,0,0,65,15665,0,138,9660,null,9660,51,51000,12291,63291,36,18000,4968,22968,87,69000,17259,86259,51,40800,9833,50633,36,14400,3974,18374,87,55200,13807,69007,51,76500,18437,94937,36,27000,7452,34452,87,103500,25889,129389,0,0,309980]
["WZN001",null,"GEO Prep Baker",0,0,0,0,null,0,0,0,0,0,0,0,null,0,7.6967999999999996,7697,1855,9552,4,2000,552,2552,11.6968,9697,2407,12104,7.6967999999999996,6157,1484,7641,4,1600,442,2042,11.6968,7757,1926,9683,7.6967999999999996,11545,2782,14327,4,3000,828,3828,11.6968,14545,3610,18155,0,0,39942]
["WZO001",null,"Louisiana Key Academy Northshore",0,0,0,0,null,0,0,0,0,0,0,0,null,0,31.8964,31896,7687,39583,3,1500,414,1914,34.8964,33396,8101,41497,31.8964,25517,6150,31667,3,1200,331,1531,34.8964,26717,6481,33198,31.8964,47845,11531,59376,3,2250,621,2871,34.8964,50095,12152,62247,0,0,136942]
["WZP001",null,"Discovery Ochsner BR",0,0,0,0,null,0,0,0,0,0,0,0,null,0,17,17000,4097,21097,9,4500,1242,5742,26,21500,5339,26839,17,13600,3278,16878,9,3600,994,4594,26,17200,4272,21472,17,25500,6146,31646,9,6750,1863,8613,26,32250,8009,40259,0,0,88570]
["WZQ001",null,"Kenilworth Science and Tech Academy",0,0,0,0,null,0,0,0,0,0,0,0,null,0,66,66000,15906,81906,13,6500,1794,8294,79,72500,17700,90200,66,52800,12725,65525,13,5200,1435,6635,79,58000,14160,72160,66,99000,23859,122859,13,9750,2691,12441,79,108750,26550,135300,0,0,297660]
["WZT001",null,"LaKey Caddo",0,0,0,0,null,0,0,0,0,0,0,0,null,0,14,14000,3374,17374,0,0,0,0,14,14000,3374,17374,14,11200,2699,13899,0,0,0,0,14,11200,2699,13899,14,21000,5061,26061,0,0,0,0,14,21000,5061,26061,0,0,57334]
[null,null,null,null,null,0]
[null,null,"Total New Type 2 Charter Schools",39,819000,7,42000,0,0,42000,3525,883378,284456,11557,808990,0,808990,2145.3316800000002,2145331,517027,2662358,865.33930899999973,432670,119417,552087,3010.6709890000006,2578001,636444,3214445,2145.3316800000002,1716264,413625,2129889,865.33930899999973,346135,95535,441670,3010.6709890000006,2062399,509160,2571559,2145.3316800000002,3217998,775540,3993538,865.33930899999973,649004,179126,828130,3010.6709890000006,3867002,954666,4821668,9.5,19000,13464496]
[]
[396211,396211,"Linwood Public Charter (RSD Operated)",0,0,0,0,null,0,0,0,0,0,225,15750,null,15750,74.377919999999989,74378,17925,92303,84.173290000000009,42087,11616,53703,158.55121,116465,29541,146006,74.377919999999989,59502,14340,73842,84.173290000000009,33669,9293,42962,158.55121,93171,23633,116804,74.377919999999989,111567,26888,138455,84.173290000000009,63130,17424,80554,158.55121,174697,44312,219009,0,0,497569]
["WZV001","WA7001","Prescott Academy",0,0,0,0,null,0,0,0,0,0,0,0,null,0,29.466888999999998,29467,7102,36569,3.4444409999999999,1722,475,2197,32.91133,31189,7577,38766,29.466888999999998,23574,5681,29255,3.4444409999999999,1378,380,1758,32.91133,24952,6061,31013,29.466888999999998,44200,10652,54852,3.4444409999999999,2583,713,3296,32.91133,46783,11365,58148,0,0,127927]
["WAO001","3AP003","Redesign Dalton Charter School",0,0,0,0,null,0,0,0,0,0,0,0,null,0,22,22000,5302,27302,7,3500,966,4466,29,25500,6268,31768,22,17600,4242,21842,7,2800,773,3573,29,20400,5015,25415,22,33000,7953,40953,7,5250,1449,6699,29,38250,9402,47652,0,0,104835]
["WAP001","3AP001","Redesign Lanier Charter School",0,0,0,0,null,0,0,0,0,0,0,0,null,0,36,36000,8676,44676,10,5000,1380,6380,46,41000,10056,51056,36,28800,6941,35741,10,4000,1104,5104,46,32800,8045,40845,36,54000,13014,67014,10,7500,2070,9570,46,61500,15084,76584,0,0,168485]
["WYA001","3AP004","Redesign Glen Oaks",0,0,0,0,null,0,0,0,0,0,59,4130,null,4130,15,15000,3615,18615,4,2000,552,2552,19,17000,4167,21167,15,12000,2892,14892,4,1600,442,2042,19,13600,3334,16934,15,22500,5423,27923,4,3000,828,3828,19,25500,6251,31751,0,0,73982]
[null,null,null,null,null,0]
[null,null,"Total RSD/Type 5 Charters",0,0,0,0,0,0,0,0,0,0,284,19880,0,19880,176.844809,176845,42620,219465,108.61773100000001,54309,14989,69298,285.46253999999999,231154,57609,288763,176.844809,141476,34096,175572,108.61773100000001,43447,11992,55439,285.46253999999999,184923,46088,231011,176.844809,265267,63930,329197,108.61773100000001,81463,22484,103947,285.46253999999999,346730,86414,433144,0,0,972798]
[]
[null,null,"Total Statewide",256,5376000,75,450000,0,0,450000,106319.5,25775095.5,12000000,296657,20765990,0,20765990,62221.163688999994,62221165,14995304,77216469,39188.539519000005,19594272,5408019,25002291,101409.70320799998,81815437,20403323,102218760,62221.163688999994,49776928,11996242,61773170,39188.539519000005,15675412,4326417,20001829,101409.70320799998,65452340,16322659,81774999,62221.163688999994,93331745,22492965,115824710,39188.539519000005,29391405,8112037,37503442,101409.70320799998,122723150,30605002,153328152,1022,2044000,403683786.5]
[]
[36,36,"Orleans Direct Run",0,0,4,24000,null,0,24000,0,25000,107755,515,36050,null,36050,271.09005699999994,271090,65333,336423,278.97899900000004,139489,38499,177988,550.06905600000005,410579,103832,514411,271.09005699999994,216872,52266,269138,278.97899900000004,111592,30799,142391,550.06905600000005,328464,83065,411529,271.09005699999994,406635,97999,504634,278.97899900000004,209234,57749,266983,550.06905600000005,615869,155748,771617,0,0,1890362]
["W31001","W31001","Dr. Martin Luther King Jr Charter",0,0,0,0,null,0,0,91,21931,0,319,22330,null,22330,79.465490000000003,79465,19151,98616,68.297089999999997,34149,9425,43574,147.76258000000001,113614,28576,142190,79.465490000000003,63572,15321,78893,68.297089999999997,27319,7540,34859,147.76258000000001,90891,22861,113752,79.465490000000003,119198,28727,147925,68.297089999999997,51223,14138,65361,147.76258000000001,170421,42865,213286,0,0,513489]
["W62001",395005,"LB Landry-OP Walker",0,0,0,0,null,0,0,162,39042,0,614,42980,null,42980,43.5,43500,10484,53984,18,9000,2484,11484,61.5,52500,12968,65468,43.5,34800,8387,43187,18,7200,1987,9187,61.5,42000,10374,52374,43.5,65250,15725,80975,18,13500,3726,17226,61.5,78750,19451,98201,0,0,298065]
["W66001",395001,"Martin Behrman ",0,0,0,0,null,0,0,0,0,0,177,12390,null,12390,38.5,38500,9279,47779,24,12000,3312,15312,62.5,50500,12591,63091,38.5,30800,7423,38223,24,9600,2650,12250,62.5,40400,10073,50473,38.5,57750,13918,71668,24,18000,4968,22968,62.5,75750,18886,94636,0,0,220590]
["W71001",397001,"Sophie B. Wright Learning Acdmy ",0,0,0,0,null,0,0,182,43862,0,402,28140,null,28140,43.947919999999996,43948,10591,54539,22,11000,3036,14036,65.947919999999996,54948,13627,68575,43.947919999999996,35158,8473,43631,22,8800,2429,11229,65.947919999999996,43958,10902,54860,43.947919999999996,65922,15887,81809,22,16500,4554,21054,65.947919999999996,82422,20441,102863,0,0,298300]
["W81001",398002,"KIPP McDonogh 15 Sch. for Creative Arts ",0,0,0,0,null,0,0,0,0,87799,216,15120,null,15120,105,105000,25305,130305,37,18500,5106,23606,142,123500,30411,153911,105,84000,20244,104244,37,14800,4085,18885,142,98800,24329,123129,105,157500,37958,195458,37,27750,7659,35409,142,185250,45617,230867,0,0,610826]
["W82001",398001,"KIPP Believe College Prep ",0,0,0,0,null,0,0,0,0,81607,176,12320,null,12320,90,90000,21690,111690,36,18000,4968,22968,126,108000,26658,134658,90,72000,17352,89352,36,14400,3974,18374,126,86400,21326,107726,90,135000,32535,167535,36,27000,7452,34452,126,162000,39987,201987,0,0,538298]
["W84001",398005,"KIPP Renaissance High",0,0,0,0,null,0,0,233,56153,77397,634,44380,null,44380,73,73000,17593,90593,22,11000,3036,14036,95,84000,20629,104629,73,58400,14074,72474,22,8800,2429,11229,95,67200,16503,83703,73,109500,26390,135890,22,16500,4554,21054,95,126000,30944,156944,0,0,523206]
["W85001",398006,"KIPP N.O. Leadership Acdmy ",0,0,0,0,null,0,0,0,0,143013,197,13790,null,13790,98,98000,23618,121618,39,19500,5382,24882,137,117500,29000,146500,98,78400,18894,97294,39,15600,4306,19906,137,94000,23200,117200,98,147000,35427,182427,39,29250,8073,37323,137,176250,43500,219750,0,0,640253]
["W86001",398007,"KIPP East ",0,0,0,0,null,0,0,0,0,88917,211,14770,null,14770,109,109000,26269,135269,33,16500,4554,21054,142,125500,30823,156323,109,87200,21015,108215,33,13200,3643,16843,142,100400,24658,125058,109,163500,39404,202904,33,24750,6831,31581,142,188250,46235,234485,0,0,619553]
["W87001",398008,"KIPP Booker T. Washington High School",0,0,0,0,null,0,0,186,44826,14871,672,47040,null,47040,67,67000,16147,83147,19,9500,2622,12122,86,76500,18769,95269,67,53600,12918,66518,19,7600,2098,9698,86,61200,15016,76216,67,100500,24221,124721,19,14250,3933,18183,86,114750,28154,142904,0,0,421126]
["W91001",399001,"Samuel J_Green Charter School",0,0,0,0,null,0,0,0,0,63831,122,8540,null,8540,60.790959999999998,60791,14651,75442,41,20500,5658,26158,101.79096,81291,20309,101600,60.790959999999998,48633,11721,60354,41,16400,4526,20926,101.79096,65033,16247,81280,60.790959999999998,91186,21976,113162,41,30750,8487,39237,101.79096,121936,30463,152399,1,2000,409650]
["W92001",399002,"Arthur Ashe Charter School",0,0,0,0,null,0,0,0,0,193415,189,13230,null,13230,79,79000,19039,98039,60,30000,8280,38280,139,109000,27319,136319,79,63200,15231,78431,60,24000,6624,30624,139,87200,21855,109055,79,118500,28559,147059,60,45000,12420,57420,139,163500,40979,204479,1,2000,658498]
["W94001",399004,"Phillis Wheatley Community School",0,0,0,0,null,0,0,0,0,33671,167,11690,null,11690,71.790959999999998,71791,17302,89093,37,18500,5106,23606,108.79096,90291,22408,112699,71.790959999999998,57433,13841,71274,37,14800,4085,18885,108.79096,72233,17926,90159,71.790959999999998,107686,25952,133638,37,27750,7659,35409,108.79096,135436,33611,169047,0,0,417266]
["W95001",399005,"Langston Hughes Charter Academy",0,0,0,0,null,0,0,0,0,73675,165,11550,null,11550,76.581919999999997,76582,18456,95038,49,24500,6762,31262,125.58192,101082,25218,126300,76.581919999999997,61266,14765,76031,49,19600,5410,25010,125.58192,80866,20175,101041,76.581919999999997,114873,27684,142557,49,36750,10143,46893,125.58192,151623,37827,189450,0,0,502016]
["WAA001",368001,"Morris Jeff Community School ",0,0,0,0,null,0,0,215,51815,403583,647,45290,null,45290,154,154000,37114,191114,54,27000,7452,34452,208,181000,44566,225566,154,123200,29691,152891,54,21600,5962,27562,208,144800,35653,180453,154,231000,55671,286671,54,40500,11178,51678,208,271500,66849,338349,9,18000,1263056]
["WAE001",364001,"Fannie C. Williams Charter School ",0,0,0,0,null,0,0,0,0,0,106,7420,null,7420,41,41000,9881,50881,21,10500,2898,13398,62,51500,12779,64279,41,32800,7905,40705,21,8400,2318,10718,62,41200,10223,51423,41,61500,14822,76322,21,15750,4347,20097,62,77250,19169,96419,0,0,219541]
["WAF001",363001,"Harriet Tubman Charter School ",0,0,0,0,null,0,0,0,0,186553,191,13370,null,13370,121.851685,121852,29366,151218,55.750575000000005,27875,7694,35569,177.60226,149727,37060,186787,121.851685,97481,23493,120974,55.750575000000005,22300,6155,28455,177.60226,119781,29648,149429,121.851685,182778,44049,226827,55.750575000000005,41813,11540,53353,177.60226,224591,55589,280180,0,0,816319]
["WAH001",360001,"The NET Charter School ",0,0,0,0,null,0,0,4,10000,0,172,12040,null,12040,20.539725000000001,20540,4950,25490,4.7857799999999999,2393,660,3053,25.325505,22933,5610,28543,20.539725000000001,16432,3960,20392,4.7857799999999999,1914,528,2442,25.325505,18346,4488,22834,20.539725000000001,30810,7425,38235,4.7857799999999999,3589,991,4580,25.325505,34399,8416,42815,0,0,116232]
["WAM001",363002,"Paul Habans Elem ",0,0,0,0,null,0,0,0,0,86943,181,12670,null,12670,95.851685000000003,95852,23100,118952,50.250614999999996,25125,6935,32060,146.10230000000001,120977,30035,151012,95.851685000000003,76681,18480,95161,50.250614999999996,20100,5548,25648,146.10230000000001,96781,24028,120809,95.851685000000003,143778,34650,178428,50.250614999999996,37688,10402,48090,146.10230000000001,181466,45052,226518,0,0,597952]
["WAZ001","WAZ001","Audubon Charter School",12,252000,0,0,null,0,0,0,0,119957,150,10500,null,10500,83.279679999999999,83280,20070,103350,43.5,21750,6003,27753,126.77968,105030,26073,131103,83.279679999999999,66624,16056,82680,43.5,17400,4802,22202,126.77968,84024,20858,104882,83.279679999999999,124920,30106,155026,43.5,32625,9005,41630,126.77968,157545,39111,196656,0,0,815098]
["WBA001","WBA001","Einstein Charter @ Village De L'Est",0,0,0,0,null,0,0,0,0,0,0,0,null,0,35.79157,35792,8626,44418,17.158110000000001,8579,2368,10947,52.949680000000001,44371,10994,55365,35.79157,28633,6901,35534,17.158110000000001,6863,1894,8757,52.949680000000001,35496,8795,44291,35.79157,53687,12939,66626,17.158110000000001,12869,3552,16421,52.949680000000001,66556,16491,83047,0,0,182703]
["WBB001","WBB001","Benjamin Franklin High School",0,0,0,0,null,0,0,316,76156,0,1024,71680,null,71680,82.986829999999998,82987,20000,102987,17.927509999999998,8964,2474,11438,100.91434,91951,22474,114425,82.986829999999998,66389,16000,82389,17.927509999999998,7171,1979,9150,100.91434,73560,17979,91539,82.986829999999998,124480,30000,154480,17.927509999999998,13446,3711,17157,100.91434,137926,33711,171637,0,0,525437]
["WBC001","WBC001","Alice M. Harte Elementary Charter",0,0,0,0,null,0,0,0,0,260673,161,11270,null,11270,75,75000,18075,93075,73,36500,10074,46574,148,111500,28149,139649,75,60000,14460,74460,73,29200,8059,37259,148,89200,22519,111719,75,112500,27113,139613,73,54750,15111,69861,148,167250,42224,209474,0,0,732785]
["WBD001","WBD001","Edna Karr High School",0,0,0,0,null,0,0,545,131345,182804,1098,76860,null,76860,92.070000000000007,92070,22189,114259,23.5,11750,3243,14993,115.57000000000001,103820,25432,129252,92.070000000000007,73656,17751,91407,23.5,9400,2594,11994,115.57000000000001,83056,20345,103401,92.070000000000007,138105,33283,171388,23.5,17625,4865,22490,115.57000000000001,155730,38148,193878,0,0,817540]
["WBE001","WBE001","Lusher Charter School",0,0,0,0,null,0,0,290,69890,24683,1040,72800,null,72800,169.06950999999995,169070,40746,209816,52.441289999999995,26221,7237,33458,221.51079999999996,195291,47983,243274,169.06950999999995,135256,32597,167853,52.441289999999995,20977,5790,26767,221.51079999999996,156233,38387,194620,169.06950999999995,253604,61119,314723,52.441289999999995,39331,10855,50186,221.51079999999996,292935,71974,364909,0,0,970176]
["WBF001","WBF001","Eleanor McMain Secondary School",0,0,0,0,null,0,0,315,75915,0,807,56490,null,56490,72.399090000000001,72399,17448,89847,22.327269999999999,11164,3081,14245,94.72636,83563,20529,104092,72.399090000000001,57919,13958,71877,22.327269999999999,8931,2465,11396,94.72636,66850,16423,83273,72.399090000000001,108599,26172,134771,22.327269999999999,16745,4622,21367,94.72636,125344,30794,156138,0,0,475908]
["WBG001","WBG001","Robert Russa Moton Charter School",0,0,0,0,null,0,0,0,0,10869,98,6860,null,6860,0,0,0,0,0,0,0,0,0,0,0,0,0,0,0,0,0,0,0,0,0,0,0,0,0,0,0,0,0,0,0,0,0,0,0,0,0,0,17729]
["WBH001","WBH001","Lake Forest Elementary Charter School",0,0,0,0,null,0,0,0,0,0,111,7770,null,7770,56.642179999999996,56642,13651,70293,44,22000,6072,28072,100.64218,78642,19723,98365,56.642179999999996,45314,10921,56235,44,17600,4858,22458,100.64218,62914,15779,78693,56.642179999999996,84963,20476,105439,44,33000,9108,42108,100.64218,117963,29584,147547,1,2000,334375]
["WBI001","WBI001","New Orleans Charter Sci. & Math HS",0,0,0,0,null,0,0,275,66275,0,557,38990,null,38990,54.636709999999994,54637,13168,67805,20.364799999999999,10182,2810,12992,75.001509999999996,64819,15978,80797,54.636709999999994,43709,10534,54243,20.364799999999999,8146,2248,10394,75.001509999999996,51855,12782,64637,54.636709999999994,81955,19751,101706,20.364799999999999,15274,4216,19490,75.001509999999996,97229,23967,121196,0,0,371895]
["WBK001","WBK001","Bricolage Academy",0,0,0,0,null,0,0,0,0,133321,167,11690,null,11690,93,93000,22413,115413,49,24500,6762,31262,142,117500,29175,146675,93,74400,17930,92330,49,19600,5410,25010,142,94000,23340,117340,93,139500,33620,173120,49,36750,10143,46893,142,176250,43763,220013,0,0,629039]
["WBL001","WBL001","Wilson Charter School",0,0,0,0,null,0,0,0,0,171159,150,10500,null,10500,52.824549999999995,52825,12731,65556,22,11000,3036,14036,74.824549999999988,63825,15767,79592,52.824549999999995,42260,10185,52445,22,8800,2429,11229,74.824549999999988,51060,12614,63674,52.824549999999995,79237,19096,98333,22,16500,4554,21054,74.824549999999988,95737,23650,119387,0,0,444312]
["WBM001","WBM001","Sarah Towles Reed High",0,0,0,0,null,0,0,114,27474,15273,343,24010,null,24010,45,45000,10845,55845,25,12500,3450,15950,70,57500,14295,71795,45,36000,8676,44676,25,10000,2760,12760,70,46000,11436,57436,45,67500,16268,83768,25,18750,5175,23925,70,86250,21443,107693,0,0,303681]
["WBN001","WBN001","Einstein Middle @ Sarah Towles Reed",0,0,0,0,null,0,0,0,0,0,217,15190,null,15190,36,36000,8676,44676,22,11000,3036,14036,58,47000,11712,58712,36,28800,6941,35741,22,8800,2429,11229,58,37600,9370,46970,36,54000,13014,67014,22,16500,4554,21054,58,70500,17568,88068,0,0,208940]
["WBO001","WBO001","Einstein Charter @ Sherwood Forest",0,0,0,0,null,0,0,0,0,17234,0,0,null,0,44,44000,10604,54604,31,15500,4278,19778,75,59500,14882,74382,44,35200,8483,43683,31,12400,3422,15822,75,47600,11905,59505,44,66000,15906,81906,31,23250,6417,29667,75,89250,22323,111573,0,0,262694]
["WBP001","WBP001","McDonogh 42 Charter School",0,0,0,0,null,0,0,0,0,25668,100,7000,null,7000,56.99,56990,13735,70725,19.5,9750,2691,12441,76.490000000000009,66740,16426,83166,56.99,45592,10988,56580,19.5,7800,2153,9953,76.490000000000009,53392,13141,66533,56.99,85485,20602,106087,19.5,14625,4037,18662,76.490000000000009,100110,24639,124749,0,0,307116]
["WBT001","WBT001","Audubon Gentilly",0,0,0,0,null,0,0,0,0,13793,0,0,null,0,42.279679999999999,42280,10189,52469,20.5,10250,2829,13079,62.779679999999999,52530,13018,65548,42.279679999999999,33824,8152,41976,20.5,8200,2263,10463,62.779679999999999,42024,10415,52439,42.279679999999999,63420,15284,78704,20.5,15375,4244,19619,62.779679999999999,78795,19528,98323,0,0,230103]
["WBU001","WBU001","Collegiate Rosenwald",0,0,0,0,null,0,0,34,10000,70623,306,21420,null,21420,48,48000,11568,59568,17,8500,2346,10846,65,56500,13914,70414,48,38400,9254,47654,17,6800,1877,8677,65,45200,11131,56331,48,72000,17352,89352,17,12750,3519,16269,65,84750,20871,105621,0,0,334409]
["WBV001","WBV001","Dwight D. Eisenhower ",0,0,0,0,null,0,0,0,0,120212,144,10080,null,10080,52.332730000000005,52333,12612,64945,21,10500,2898,13398,73.332729999999998,62833,15510,78343,52.332730000000005,41866,10090,51956,21,8400,2318,10718,73.332729999999998,50266,12408,62674,52.332730000000005,78499,18918,97417,21,15750,4347,20097,73.332729999999998,94249,23265,117514,0,0,388823]
["WBW001","WBW001","Living School",0,0,0,0,null,0,0,22,10000,0,204,14280,null,14280,16,16000,3856,19856,1,500,138,638,17,16500,3994,20494,16,12800,3085,15885,1,400,110,510,17,13200,3195,16395,16,24000,5784,29784,1,750,207,957,17,24750,5991,30741,0,0,91910]
["WBZ001","WBZ001","McDonogh 35 Senior H. S.",0,0,0,0,null,0,0,453,109173,107039,844,59080,null,59080,77.206360000000004,77206,18607,95813,19,9500,2622,12122,96.206360000000004,86706,21229,107935,77.206360000000004,61765,14885,76650,19,7600,2098,9698,96.206360000000004,69365,16983,86348,77.206360000000004,115810,27910,143720,19,14250,3933,18183,96.206360000000004,130060,31843,161903,0,0,631478]
["WC2001","WC2001","Opportunities Academy",0,0,0,0,null,0,0,0,10000,422760,76,5320,null,5320,16,16000,3856,19856,33,16500,4554,21054,49,32500,8410,40910,16,12800,3085,15885,33,13200,3643,16843,49,26000,6728,32728,16,24000,5784,29784,33,24750,6831,31581,49,48750,12615,61365,0,0,573083]
["WJ1001",382001,"Sci Academy",0,0,0,0,null,0,0,61,14701,187764,618,43260,null,43260,80,80000,19280,99280,38.333330000000004,19167,5290,24457,118.33333,99167,24570,123737,80,64000,15424,79424,38.333330000000004,15333,4232,19565,118.33333,79333,19656,98989,80,120000,28920,148920,38.333330000000004,28750,7935,36685,118.33333,148750,36855,185605,0,0,654056]
["WJ2001",382002,"G.W. Carver Collegiate Acdmy ",0,0,0,0,null,0,0,7,10000,132044,746,52220,null,52220,88,88000,21208,109208,40.333330000000004,20167,5566,25733,128.33332999999999,108167,26774,134941,88,70400,16966,87366,40.333330000000004,16133,4453,20586,128.33332999999999,86533,21419,107952,88,132000,31812,163812,40.333330000000004,30250,8349,38599,128.33332999999999,162250,40161,202411,0,0,639568]
["WJ4001",382004,"Livingston Collegiate Academy",0,0,0,0,null,0,0,215,51815,20260,565,39550,null,39550,79,79000,19039,98039,31.33333,15667,4324,19991,110.33333,94667,23363,118030,79,63200,15231,78431,31.33333,12533,3459,15992,110.33333,75733,18690,94423,79,118500,28559,147059,31.33333,23500,6486,29986,110.33333,142000,35045,177045,0,0,501123]
["WL1001",398004,"KIPP Central City Primary ",0,0,0,0,null,0,0,0,0,60019,192,13440,null,13440,96,96000,23136,119136,31,15500,4278,19778,127,111500,27414,138914,96,76800,18509,95309,31,12400,3422,15822,127,89200,21931,111131,96,144000,34704,178704,31,23250,6417,29667,127,167250,41121,208371,0,0,531875]
["WU1001",374001,"Success Preparatory Academy ",0,0,0,0,null,0,0,0,0,139660,107,7490,null,7490,57.288139999999999,57288,13806,71094,21.35999,10680,2948,13628,78.648129999999995,67968,16754,84722,57.288139999999999,45831,11045,56876,21.35999,8544,2358,10902,78.648129999999995,54375,13403,67778,57.288139999999999,85932,20710,106642,21.35999,16020,4422,20442,78.648129999999995,101952,25132,127084,0,0,426734]
["WZ2001",369002,"ReNEW SciTech Acdmy. ",0,0,0,0,null,0,0,0,0,171088,140,9800,null,9800,90,90000,21690,111690,45.333330000000004,22667,6256,28923,135.33332999999999,112667,27946,140613,90,72000,17352,89352,45.333330000000004,18133,5005,23138,135.33332999999999,90133,22357,112490,90,135000,32535,167535,45.333330000000004,34000,9384,43384,135.33332999999999,169000,41919,210919,0,0,644910]
["WZ3001",369003,"ReNEW Delores T. Aaron Elem ",0,0,0,0,null,0,0,0,0,114196,163,11410,null,11410,75,75000,18075,93075,31.33333,15667,4324,19991,106.33333,90667,22399,113066,75,60000,14460,74460,31.33333,12533,3459,15992,106.33333,72533,17919,90452,75,112500,27113,139613,31.33333,23500,6486,29986,106.33333,136000,33599,169599,0,0,498723]
["WZ6001",369006,"ReNEW Schaumburg Elem ",0,0,0,0,null,0,0,0,0,117793,151,10570,null,10570,77,77000,18557,95557,35.333330000000004,17667,4876,22543,112.33333,94667,23433,118100,77,61600,14846,76446,35.333330000000004,14133,3901,18034,112.33333,75733,18747,94480,77,115500,27836,143336,35.333330000000004,26500,7314,33814,112.33333,142000,35150,177150,0,0,518093]
["WZ9001",360002,"The NET 2 Charter School",0,0,0,0,null,0,0,59,14219,87762,141,9870,null,9870,18.189624999999996,18190,4384,22574,6.1081500000000002,3054,843,3897,24.297774999999994,21244,5227,26471,18.189624999999996,14552,3507,18059,6.1081500000000002,2443,674,3117,24.297774999999994,16995,4181,21176,18.189624999999996,27284,6575,33859,6.1081500000000002,4581,1264,5845,24.297774999999994,31865,7839,39704,0,0,199202]
["WZA001",360003,"Accelerated High, City Park ",0,0,0,0,null,0,0,10,10000,0,150,10500,null,10500,24.391484999999999,24391,5878,30269,6.3987199999999991,3199,883,4082,30.790205,27590,6761,34351,24.391484999999999,19513,4703,24216,6.3987199999999991,2559,706,3265,30.790205,22072,5409,27481,24.391484999999999,36587,8817,45404,6.3987199999999991,4799,1325,6124,30.790205,41386,10142,51528,0,0,133860]
["WZB001","WZB001","Warren Easton Charter High School",0,0,0,0,null,0,0,446,107486,0,1078,75460,null,75460,92.516670000000005,92517,22297,114814,39,19500,5382,24882,131.51667,112017,27679,139696,92.516670000000005,74013,17837,91850,39,15600,4306,19906,131.51667,89613,22143,111756,92.516670000000005,138775,33445,172220,39,29250,8073,37323,131.51667,168025,41518,209543,0,0,643941]
["WZC001","3C2001","Edward Hynes Charter School - Lakeview",3,63000,0,0,null,0,0,0,0,8070,139,9730,null,9730,56.333333000000003,56333,13576,69909,32,16000,4416,20416,88.33333300000001,72333,17992,90325,56.333333000000003,45067,10861,55928,32,12800,3533,16333,88.33333300000001,57867,14394,72261,56.333333000000003,84500,20365,104865,32,24000,6624,30624,88.33333300000001,108500,26989,135489,0,0,378875]
["WZD001","3C2002","Edward Hynes Charter School - UNO",2,42000,0,0,null,0,0,0,0,0,0,0,null,0,37.275132999999997,37275,8983,46258,23.02732,11514,3178,14692,60.302453,48789,12161,60950,37.275132999999997,29820,7187,37007,23.02732,9211,2542,11753,60.302453,39031,9729,48760,37.275132999999997,55913,13475,69388,23.02732,17270,4767,22037,60.302453,73183,18242,91425,0,0,243135]
["WZE001",398009,"John F. Kennedy High School",0,0,0,0,null,0,0,265,63865,119145,512,35840,null,35840,73,73000,17593,90593,18,9000,2484,11484,91,82000,20077,102077,73,58400,14074,72474,18,7200,1987,9187,91,65600,16061,81661,73,109500,26390,135890,18,13500,3726,17226,91,123000,30116,153116,0,0,555704]
["WZG001","3C3001","Foundation Preparatory Academy",0,0,0,0,null,0,0,0,0,48387,57,3990,null,3990,27.329787,27330,6587,33917,27,13500,3726,17226,54.329786999999996,40830,10313,51143,27.329787,21864,5269,27133,27,10800,2981,13781,54.329786999999996,32664,8250,40914,27.329787,40995,9880,50875,27,20250,5589,25839,54.329786999999996,61245,15469,76714,0,0,221148]
["WZH001","3C3002","Lafayette Academy",0,0,0,0,null,0,0,0,0,17221,149,10430,null,10430,37.335105999999996,37335,8998,46333,16,8000,2208,10208,53.335105999999996,45335,11206,56541,37.335105999999996,29868,7198,37066,16,6400,1766,8166,53.335105999999996,36268,8964,45232,37.335105999999996,56003,13497,69500,16,12000,3312,15312,53.335105999999996,68003,16809,84812,0,0,214236]
["WZI001","3C3003","Esperanza Charter School",0,0,0,0,null,0,0,0,0,53244,118,8260,null,8260,41.960096,41960,10112,52072,25,12500,3450,15950,66.960095999999993,54460,13562,68022,41.960096,33568,8090,41658,25,10000,2760,12760,66.960095999999993,43568,10850,54418,41.960096,62940,15169,78109,25,18750,5175,23925,66.960095999999993,81690,20344,102034,0,0,285978]
["WZJ001","3C2003","Hynes Parkview",0,0,0,0,null,0,0,0,0,24978,105,7350,null,7350,39.332633000000001,39333,9479,48812,17.892699999999998,8946,2469,11415,57.225332999999999,48279,11948,60227,39.332633000000001,31466,7583,39049,17.892699999999998,7157,1975,9132,57.225332999999999,38623,9558,48181,39.332633000000001,58999,14219,73218,17.892699999999998,13420,3704,17124,57.225332999999999,72419,17923,90342,0,0,231078]
["WZK001","3C6001","Homer Plessy Community School",0,0,0,0,null,0,0,0,0,39962,143,10010,null,10010,84.973399999999998,84973,20478,105451,26.994679999999999,13497,3725,17222,111.96808,98470,24203,122673,84.973399999999998,67979,16383,84362,26.994679999999999,10798,2980,13778,111.96808,78777,19363,98140,84.973399999999998,127460,30718,158178,26.994679999999999,20246,5588,25834,111.96808,147706,36306,184012,0,0,454797]
["WZL001","WZL001","YACS at Lawrence D. Crocker",0,0,0,0,null,0,0,0,0,0,98,6860,null,6860,50.373919999999998,50374,12140,62514,15.87998,7940,2191,10131,66.253900000000002,58314,14331,72645,50.373919999999998,40299,9712,50011,15.87998,6352,1753,8105,66.253900000000002,46651,11465,58116,50.373919999999998,75561,18210,93771,15.87998,11910,3287,15197,66.253900000000002,87471,21497,108968,0,0,246589]
["WZM001","3C7001","Rooted School",0,0,0,0,null,0,0,95,22895,0,139,9730,null,9730,17,17000,4097,21097,5,2500,690,3190,22,19500,4787,24287,17,13600,3278,16878,5,2000,552,2552,22,15600,3830,19430,17,25500,6146,31646,5,3750,1035,4785,22,29250,7181,36431,0,0,112773]
["WZS001",363003,"Mildred Osborne Charter School",0,null,0,null,null,null,null,0,0,0,null,null,null,null,76.851685000000003,76852,18521,95373,69.333945,34667,9568,44235,146.18563,111519,28089,139608,76.851685000000003,61481,14817,76298,69.333945,27734,7655,35389,146.18563,89215,22472,111687,76.851685000000003,115278,27782,143060,69.333945,52000,14352,66352,146.18563,167278,42134,209412,1,2000,462707]
[null,null,"Placeholder for closed schools (OPSB only)",0,0,0,0,0,0,0,0,0,0,703,49210,null,null,null,null,null,null,null,null,null,null,null,null,null,null,null,null,null,null,null,null,null,null,null,null,null,null,null,null,null,null,null,null,null,null,null,null,null,null,null,0,0]
[null,null,"Total Orleans Parish",17,357000,4,24000,0,0,24000,4595,1173838,4680691,19884,1391880,0,1342670,4360.5703050000002,4360573,1050898,5411471,2166.2775039999992,1083140,298946,1382086,6526.8478090000008,5443713,1349844,6793557,4360.5703050000002,3488456,840718,4329174,2166.2775039999992,866509,239156,1105665,6526.8478090000008,4354965,1079874,5434839,4360.5703050000002,6540857,1576353,8117210,2166.2775039999992,1624708,448424,2073132,6526.8478090000008,8165565,2024777,10190342,13,26000,30022937]

{"sheet":"5A1_Labs","index":12,"n_rows":9,"n_cols":28,"rows_kept":9,"cut":false,"hidden":false,"merged":[[18,8,19,9],[0,0,2,1],[1,8,1,10],[0,2,0,13],[0,14,0,27],[1,14,1,18],[1,23,1,26],[3,0,3,1],[5,0,5,1]]}
["Table 5A1\nLab Schools",null,"MFP State Cost Allocation",null,null,null,null,null,null,null,null,null,null,null,"MFP State Cost Allocation"]
[null,null,null,null,null,null,null,null,"Mid-Year Adjustment for Students",null,null,null,null,null,"Level 4 Funds Paid Monthly",null,null,null,null,null,null,null,null,"Level 4 Funds Paid Annually"]
[null,null,"Feb. 1\nMFP Funded\nMember-\nship\n(Per SIS)","MFP State\nCost Allocation\nAverage\nPer Pupil\n\n(Levels 1, 2,\n& 3 without\nContinuation\nof Prior Year\nPay Raises)","MFP\nState Cost\nAllocation\n\n(Levels 1, 2,\n& 3 without\nContinuation\nof Prior Year\nPay Raises)","Continuation\nof Prior Year\nPay Raises\nPer Pupil","Continuation\nof Prior Year\nPay Raises","Total MFP\nState Cost\nAllocation\n\n(Levels 1, 2,\n& 3 with\nContinuation\nof Prior Year\nPay Raises)","October\n\nMid-Year\nAdjustment\nfor Students","February\n\nMid-Year\nAdjustment\nfor Students","Total\nMid-Year\nAdjustment\nfor Students","Total MFP\nState Cost\nAllocation\n+/- Mid-Year\nAdjustments","Prior Years\nMFP Audit\nAdjustments\n\n","Total MFP\nState Cost\nAllocation\n+/- Mid-Year\nAdjustments\n+/- Audit\nAdjustments","Salaries for\nInternational\nAssociate/\nEscadrille\nTeachers","Supplemental\nCourse\nAllocation\n\n(Initial)","FY2019-20\nCertificated\nand Non-\nCertificated\nPay Raise","FY2021-22\nCertificated\nand Non-\nCertificated\nPay Raise","FY2022-23\nCertificated\nand Non-\nCertificated\nPay Raise","Total MFP\nState Cost\nAllocation\n+/- Mid-Year Adjs\n+/- Audit Adjs\n+ Monthly\nLevel 4","Year To\nDate\nState\nPayments","Balance\nDue","Monthly\nPayment","Stipends for\nInternational\nAssociate/\nEscadrille\nTeachers","Career\nDevelopment\nFund\nAllocation\n\nFinal","High Cost\nServices\nAllocation","Mentor Teacher Stipend Allocation","Total MFP State Cost Allocation\n+/- Mid-Year Adjs\n+/- Audit Adjs\n+ Total Level 4"]
["FY2023-24",null,1,2,3,4,5,6,7,8,9,10,11,12,13,14,15,16,17,18,19,20,21,22,23,24,25,26]
["March 2024",null,"Link in File","Link in File","Formula","Values","Formula","Formula","Link to Mid-Year File","Link to Mid-Year File","Formula","Formula","Link to Audit File","Formula","Link in File","Link in File",null,null,null,"Formula","Link to Prior Month File","Formula","Formula","Link in File","Link in File","Link in File",null,"Formula"]
["March 2024",null,"(T8)","(T9, C15,\nState Average)","C1 x C2","Historical Data","C1 x C4","C3 + C5","Link to October Tab\nin Mid-Year File","Link to February Tab\nin Mid-Year File","C7 + C8","C6 + C9","Link to Audit File","C10 + C11","(T4, C2)","(T4, C14)","(T4, C26)","(T4, C38)","(T4, C50)","Sum (C12:C17)","Linked to Prior Month file","C18 - C19","C20 ÷ Months Remaining","(T4, C7)","(T4, C9)","(T4, C10)","(T4,C52)","C18+ C22 + C23 + C24 + C25"]
[318,"Louisiana State\nUniversity Lab School",1463,4756.3184019594255,6958493.8220666396,605.97,886534.11,7845028,26811,-18768,8043,7853071,-32061,7821010,0,48860,176732,141386,265099,8453087,5626248,2826839,706710,0,21931,0,23000,8498018]
[319,"Southern University\nLab School",764,4756.3184019594255,3633827.259097001,699.9,534723.6,4168551,136405,-133677,2728,4171279,-13586,4157693,0,28000,43781,35025,65671,4330170,2889320,1440850,360213,0,10000,0,0,4340170]
[null,"TOTAL ",2227,null,10592321.081163641,null,1421257.71,12013579,163216,-152445,10771,12024350,-45647,11978703,0,76860,220513,176411,330770,12783257,8515568,4267689,1066923,0,31931,0,23000,12838188]

{"sheet":"for incrementing rows (DNCHG)","index":13,"n_rows":0,"n_cols":0,"rows_kept":0,"cut":false,"hidden":true,"merged":[]}

{"sheet":"5A2_Legacy Type 2","index":14,"n_rows":14,"n_cols":34,"rows_kept":14,"cut":false,"hidden":false,"merged":[[19,0,19,1],[1,27,2,27],[1,30,2,30],[1,31,2,31],[1,33,2,33],[1,7,1,9],[1,10,1,12],[1,13,1,15],[1,3,1,6],[3,0,3,1],[5,0,5,1],[0,20,0,33],[0,2,0,19],[13,0,13,1],[1,32,2,32],[1,23,2,23],[1,24,2,24],[1,25,2,25],[1,26,2,26],[1,28,2,28],[1,29,2,29],[1,16,1,18],[1,19,2,19],[1,20,1,22],[0,0,2,1],[1,2,2,2]]}
["Table 5A2\nLegacy Type 2\nCharter Schools\n",null,"MFP State Cost Allocation",null,null,null,null,null,null,null,null,null,null,null,null,null,null,null,null,null,"MFP State Cost Allocation"]
[null,null,"Feb. 1\nMFP Funded\nMembership\n\n","Unweighted Legacy Type 2 Charter School\n(Includes Final Local Revenue\nRepresentation)",null,null,null,"Economically Disadvantaged (ED)",null,null,"Career & Technical Units (CTE)",null,null,"Students with Disabilities (SWD)",null,null,"Gifted & Talented (GT)",null,null,"Total MFP\nState Cost\nAllocation\n\n(Levels 1,\n2, & 3)","Mid-Year Adjustment for Students",null,null,"Total MFP\nState Cost\nAllocation\n+/- Mid-Year\nAdjustments","State\nAdmin Fee\nto the\nDept. of\nEducation\n\n0.25%","Total MFP\nState Cost\nAllocation\n+/- Mid-Year\nAdjustments\n- Admin Fee","Prior Years\nMFP Audit\nAdjustments\n\n","Level 4\nMonthly\nFunds","Total MFP\nState Cost\nAllocation\n+/- Mid-Year\nAdjustments\n- Admin Fee\n+/- Audit Adj.\n+ Monthly\nLevel 4","Year To\nDate\nState\nPayments","Balance\nDue","State Cost\nAllocation\nMonthly\nPayment\n","Level 4\nAnnual","Total MFP\nState Cost\nAllocation\n+/- Mid-Year\nAdjustments\n- Admin Fee\n+/- Audit Adj.\n+ Total Level 4"]
[null,null,null,"Per Pupil","Unweighted\nState Cost\nAllocation\nWithout\nContinuation\nof Prior Year\nPay Raises","Per Pupil","Continuation\nof Prior Year\nPay Raises\nState Cost\nAllocation","Student Count\n\n\n","Per Pupil","State Cost\nAllocation","Student Count\n\n","Per Pupil","State Cost\nAllocation","Student Count\n\n","Per Pupil","State Cost\nAllocation","Student Count\n\n","Per Pupil","State Cost\nAllocation",null,"October\n\nMid-Year\nAdjustment\nfor Students","February\n\nMid-Year\nAdjustment\nfor Students","Total\nMid-Year\nAdjustment\nfor Students"]
["FY2023-24",null,1,2,3,4,5,6,7,8,9,10,11,12,13,14,15,16,17,18,19,20,21,22,23,24,25,"(26a)",26,27,28,29,"(30a)",30]
["March 2024",null,"Link in File",null,"Link in File",null,"Link in File","Link in File",null,"Link in File","Link in File",null,"Link in File","Link in File",null,"Link in File","Link in File",null,"Link in File",null,"Link in File","Link in File","Link in File","Link in File","Link in File","Link in File","Link in File","Link in File","Link in File","Link in File","Link in File","Link in File","Link in File","Link in File"]
["March 2024",null,"T8","N/A","T5A2, C3","N/A","T5A2, C5","T5A2, C6","N/A","T5A2, C8","T5A2, C9","N/A","T52A, C11","T52A, C12","N/A","T52A, C14","T52A, C15","N/A","T52A, C17","C3 + C5 + C8 + C11 + C14 + C17","Link to October Tab in Mid-Year File","Link to February Tab in Mid-Year File","C19 + C20","C18 + C21","C22 x -.25%","C22 + C23","Link to Audit File","(T4, C2 + C14 + C26 + C38 + C50)","C24 + C25 + C26a","Prior Month File: (T5A2, Cell AC87)","C26 - C27","C28 ÷ Months Remaining","(T4, C7 + C9 + C10)","C26 + C30a"]
[321001,"New Vision Learning",172,null,1718288.9237620041,null,123203.6,153,null,96080.408248147214,11,null,1896.628271984612,28,null,118787.82745649567,0,null,0,2058257,392424,-62762,329662,2387919,-5970,2381949,0,88954,2470903,1397888,1073015,268253,0,2470903]
[329001,"Glencoe Charter School",433,null,4385781.6480758712,null,259107.20000000001,309,null,195323.65998664836,165,null,28487.346330832428,34,null,148011.5645618694,1,null,1704.73358235418,5018416,355083,-85016,270067,5288483,-13221,5275262,0,214796,5490058,3382408,2107650,526914,22003,5512061]
[331001,"International School of LA",1139,null,12339501.239151558,null,814168.59,718,null,354491.63889995072,0,null,0,100,null,337298.60668623471,0,null,0,13845460,-752764,-37204,-789968,13055492,-32640,13022852,-1072,984021,14005801,9338101,4667700,1166927,46338,14052139]
[333001,"Avoyelles Public Charter",701,null,5339074.3833577679,null,375820.12,429,null,300635.21882318426,105,null,20070.50124794052,51,null,243713.22943927767,35,null,66901.670826468398,6346215,111137,-91811,19326,6365541,-15914,6349627,0,266406,6616033,4339592,2276441,569111,10000,6626033]
[336001,"Delhi Charter School",656,null,6281118.2280658521,null,345725.12,507,null,317133.01685423509,353,null,60628.055152820467,52,null,222785.53303012022,6,null,9438.8753769238756,7236828,-157577,-206242,-363819,6873009,-17183,6855826,-26985,328938,7157779,4920883,2236896,559226,40247,7198026]
[337001,"Belle Chasse Academy",781,null,12440280.970286902,null,616130.9,313,null,124982.98289802275,181,null,18599.783782580162,99,null,264799.85796631261,52,null,56226.455931039018,13521021,252659,-19939,232720,13753741,-34385,13719356,0,574589,14293945,8365175,5928770,1482193,27169,14321114]
[340001,"The MAX",102,null,997582.60106440401,null,67239.420000000013,98,null,59360.690476879601,0,null,0,23,null,93523.977501475427,0,null,0,1217706,-27508,-3799,-31307,1186399,-2966,1183433,0,71351,1254784,851811,402973,100744,0,1254784]
["State Total",null,3984,null,43501627.993764363,null,2601394.9500000002,2527,null,1448007.6161870682,815,null,129682.31478615818,387,null,1428920.5966417859,94,null,134271.73571678548,49243903,173454,-506773,-333319,48910584,-122279,48788305,-28057,2529055,51289303,32595858,18693445,4673368,145757,51435060]

{"sheet":"5A3_OJJ","index":15,"n_rows":87,"n_cols":21,"rows_kept":87,"cut":false,"hidden":false,"merged":[[1,10,2,10],[1,9,2,9],[1,2,2,2],[1,8,2,8],[3,0,3,1],[1,6,2,6],[1,7,2,7],[78,0,78,1],[77,0,77,1],[1,3,2,3],[0,0,2,1],[75,0,75,1],[5,0,5,1],[80,0,80,1],[79,0,79,1],[85,0,85,1],[1,13,2,13],[0,20,2,20],[1,14,2,14],[1,15,2,15],[1,16,2,16],[1,17,2,17],[1,18,2,18],[0,19,2,19],[0,11,0,18],[1,11,2,11],[1,12,2,12],[0,2,0,10],[76,0,76,1],[87,0,87,1],[83,0,83,1],[81,0,81,1],[86,0,86,1],[84,0,84,1]]}
["Table 5A3\nOffice of Juvenile\nJustice (OJJ)\n",null,"MFP State Cost Allocation for Youth in Secure Care\nBased on FY2022-23 Average Daily Membership (ADM)",null,null,null,null,null,null,null,null,"MFP Local Revenue Representation \nfor Youth in Secure Care",null,null,null,null,null,null,null,"Total\nState Cost\nAllocation\nand\nLocal Revenue\nRepresentation\nPayment","State Cost\nAllocation\nand\nLocal Revenue\nRepresentation\nMonthly\nPayment\n"]
[null,null,"ADM for\nYouth in\nSecure\nCare","Levels 1, 2, & 3\nState Cost\nAllocation\nPer Pupil\n(With\nContinuation\nof Prior Year\nPay Raises)","Per Pupil\nAmount\nAdjusted for\nYear Round\nSchool","Per Pupil\nAmount\nAdjusted for\nYear Round\nSchool & 50%\nSpecial Ed","Total\nState Cost\nAllocation\n+ Monthly Level 4","Year To\nDate\nState\nPayments","Balance\nDue","State Cost\nAllocation\nMonthly\nPayment\n","Total\nState Cost\nAllocation\n+ Total\nLevel 4\nFunds","Levels 1 and 2\nLocal Revenue\nRepresentation","Feb. 1\nMFP\nFunded\nMembership","Feb. 1\nMFP\nFunded\nMembership\n+ OJJ ADM","Adjusted\nLocal\nRevenue\nRepresentation\nPer Pupil\nincluding\nOJJ","Total Local\nRevenue\nRepresentation\n for OJJ\nSecure Care\nStudents","Year To\nDate\nPayments","Balance\nDue","Local\nRevenue\nRepresentation\nMonthly\nPayment\n"]
[null,null,null,null,0.31638418079096048,1470.3473918621949]
["FY2023-24",null,1,2,3,4,5,6,7,8,9,10,11,12,13,14,15,16,17,18,19]
["March 2024",null,"Link to OJJ ADM","Link in File","Formula","Formula","T4, C2; T4, C14","Link to Prior Month","Formula","Formula","T4, C7; T4, C9; T4, C10","Link in File","Link in File","Formula","Formula","Formula","Link to Prior Month","Formula","Formula","Formula","Formula"]
["March 2024",null,"Link to OJJ Tab in Student Count File","T3, C34","C2 x 131.64%","C3 + $1,470","C1 x C4\n","Prior Month File: (T5A3,\nC6 + C8)","C5 - C6","C7 ÷ Months Remaining","C5","T3, C37","T3, C1","C1 + C11","C10 ÷ C12","C1 x C13","Prior Month File: (T5A3,\nC15 + C17)","C14 - C15","C16 ÷ Months Remaining","C5 + C14","C8 + C17"]
[1,"Acadia",8.4525159999999993,6229.2169673876497,8200.0426745837412,9670.3900664459361,81739,45320,36419,9105,81739,28619531.82,8923,8931.4525159999994,3204.3535772854802,27085,15022,12063,3016,108824,12121]
[2,"Allen",1,7415.2798948751642,9761.357149750922,11231.704541613117,11232,7488,3744,936,11232,11360197.66,3805,3806,2984.8128376248028,2985,1992,993,248,14217,1184]
[3,"Ascension",0.88268100000000005,4906.7107192811427,6459.1163705791314,7929.4637624413263,6999,6464,535,134,6999,88265663.680000007,23593,23593.882680999999,3741.0402040813647,3302,3048,254,64,10301,198]
[4,"Assumption",1.709497,6762.7066521264996,8902.3200561891208,10372.667448051316,17732,3936,13796,3449,17732,10052362.66,2751,2752.7094969999998,3651.8065821894465,6243,1384,4859,1215,23975,4664]
[5,"Avoyelles",0.38547399999999998,6659.9407258064521,8767.0406164570813,10237.388008319276,3946,13448,-9502,-2376,3946,15251250,4960,4960.3854739999997,3074.60984230759,1185,4040,-2855,-714,5131,-3090]
[6,"Beauregard",3.145251,6127.0974014174089,8065.6140933912784,9535.9614852534723,29993,14256,15737,3934,29993,19819069.460000001,5503,5506.1452509999999,3599.4454480474442,11321,5384,5937,1484,41314,5418]
[7,"Bienville",0,4591.0744336569578,6043.6177572998367,7513.9651491620316,0,0,0,0,0,10079992.640000001,1854,1854,5436.8892340884577,0,0,0,0,0,0]
[8,"Bossier",3.5754199999999998,6027.6605194336726,7934.7169549607097,9405.0643468229046,33627,24336,9291,2323,33627,77479233.040000007,22178,22181.575420000001,3492.9544711301664,12489,9040,3449,862,46116,3185]
[9,"Caddo",27.871510000000001,5427.988498049036,7145.3181923470356,8615.6655842092296,240132,87382,152750,38188,240132,132797165.12,34342,34369.871509999997,3863.7667028042961,107689,39200,68489,17122,347821,55310]
[10,"Calcasieu",13.513966,4372.72644335512,5756.1879169589993,7226.5353088211941,97659,42408,55251,13813,97659,134615239.81999999,29376,29389.513965999999,4580.3833290925813,61899,26880,35019,8755,159558,22568]
[11,"Caldwell",0,8102.2252747252751,10665.641180853045,12135.98857271524,0,0,0,0,0,5043692.5999999996,1456,1456,3464.0745879120877,0,0,0,0,0,0]
[12,"Cameron",0,2798.1888045540795,3683.4914771813587,5153.8388690435531,0,0,0,0,0,7177748.5999999996,1054,1054,6810.0081593927889,0,0,0,0,0,0]
[13,"Catahoula",0,7387.086174242424,9724.2433819123435,11194.590773774538,0,0,0,0,0,3645670.7,1056,1056,3452.3396780303033,0,0,0,0,0,0]
[14,"Claiborne",0,7966.8746268656714,10487.467729150856,11957.815121013051,0,0,0,0,0,6479229.9400000004,1675,1675,3868.196979104478,0,0,0,0,0,0]
[15,"Concordia",0.74301700000000004,6913.5665411173886,9100.9096275726079,10571.257019434803,7855,7048,807,202,7855,10637467,3186,3186.7430169999998,3338.0372823454441,2480,2224,256,64,10335,266]
[16,"DeSoto",2.9329619999999998,3189.4331438197514,4198.5193362147011,5668.8667280768959,16627,9072,7555,1889,16627,25879572.18,4749,4751.9329619999999,5446.1147467677602,15973,8720,7253,1813,32600,3702]
[17,"East Baton Rouge",26.541896999999999,4187.5336429068957,5512.4030440525803,6982.7504359147752,185335,95710,89625,22406,185335,205732045.03999999,43070,43096.541897000003,4773.7483330262567,126704,65440,61264,15316,312039,37722]
[18,"East Carroll",1.1843570000000001,7378.4246031746034,9712.841426777868,11183.188818640063,13245,2734,10511,2628,13245,2827494.38,756,757.18435699999998,3734.2218626949261,4423,912,3511,878,17668,3506]
[19,"East Feliciana",0,5630.6060233558701,7412.0406974119642,8882.3880892741581,0,0,0,0,0,7555775.8399999999,1627,1627,4643.9925261216958,0,0,0,0,0,0]
[20,"Evangeline",2.184358,7082.2203039969972,9322.9227730581933,10793.270164920388,23576,16136,7440,1860,23576,17228464.879999999,5329,5331.1843580000004,3231.6392987135932,7059,4832,2227,557,30635,2417]
[21,"Franklin",1.8882680000000001,7422.527809743,9770.8981902266605,11241.245582088855,21226,9056,12170,3043,21226,9094930.1600000001,2607,2608.8882680000002,3486.1324923555521,6583,2808,3775,944,27809,3987]
[22,"Grant",2.2011180000000001,7954.5379746835442,10471.227955374383,11941.575347236578,26285,5126,21159,5290,26285,7626081,2686,2688.201118,2836.8714486934455,6244,1216,5028,1257,32529,6547]
[23,"Iberia",5.1117330000000001,6266.6491101273832,8249.3177551394365,9719.6651470016313,49684,39840,9844,2461,49684,38098812.479999997,11069,11074.111733,3440.3492937919773,17586,14104,3482,871,67270,3332]
[24,"Iberville",2.122906,2838.0443206587552,3735.9566480988133,5206.3040399610081,11052,1496,9556,2389,11052,26698255.079999998,4129,4131.1229059999996,6462.7113953021662,13720,1856,11864,2966,24772,5355]
[25,"Jackson",0.54189900000000002,6233.1588291746639,8205.2316790830318,9675.5790709452267,5243,0,5243,1311,5243,8316267.0599999996,2084,2084.5418989999998,3989.4938374659173,2162,0,2162,541,7405,1852]
[26,"Jefferson",9.3519579999999998,4737.1294949160947,6235.8823294658196,7706.2297213280144,72068,56208,15860,3965,72068,223838259.25999999,48388,48397.351957999999,4625.0104645033152,43253,33736,9517,2379,115321,6344]
[27,"Jefferson Davis",2.4860340000000001,6840.0786713286716,9004.171358302714,10474.518750164909,26040,7088,18952,4738,26040,17617542.34,5148,5150.4860339999996,3420.5591906668592,8504,2312,6192,1548,34544,6286]
[28,"Lafayette",12.810055,4658.8654374612179,6132.8567623077051,7603.2041541699,97397,52672,44725,11181,97397,136598869.58000001,33843,33855.810055000002,4034.7245969920718,51685,27952,23733,5933,149082,17114]
[29,"Lafourche",4.1117319999999999,5641.8983651020872,7426.9057574507697,8897.2531493129645,36583,24752,11831,2958,36583,46174081.18,13273,13277.111731999999,3477.7203138776749,14299,9678,4621,1155,50882,4113]
[30,"LaSalle",0,6998.1934412619348,9212.3111401922652,10682.65853205446,0,0,0,0,0,7738053.5999999996,2409,2409,3212.1434620174346,0,0,0,0,0,0]
[31,"Lincoln",3.290502,5549.8317772054088,7305.7107575641821,8776.058149426377,28878,1567,27311,6828,28878,25524130.800000001,6212,6215.2905019999998,4106.6673861481886,13513,735,12778,3195,42391,10023]
[32,"Livingston",1.145251,6735.0146926536736,8865.8667988039888,10336.214190666184,11838,9448,2390,598,11838,78489286.819999993,26680,26681.145251000002,2941.7510411048879,3369,2688,681,170,15207,768]
[33,"Madison",2.430167,6671.1245874587457,8781.7628750163149,10252.11026687851,24914,6832,18082,4521,24914,5019002.1399999997,1212,1214.430167,4132.8042372320278,10043,2760,7283,1821,34957,6342]
[34,"Morehouse",0.45251400000000003,7076.5969773299748,9315.5203147903048,10785.8677066525,4881,3560,1321,330,4881,11243950.560000001,3176,3176.4525140000001,3539.7823548260353,1602,1168,434,109,6483,439]
[35,"Natchitoches",0.43016799999999999,5425.6116330201876,7142.1893248231845,8612.5367166853794,3705,2616,1089,272,3705,20587435.539999999,5003,5003.4301679999999,4114.6643100305982,1770,1248,522,131,5475,403]
[36,"Orleans",24.899443000000002,4724.1150209374582,6218.7502817990271,7689.097673661222,191454,123632,67822,16956,191454,198148171.74000001,44418,44442.899443000002,4458.4888525136366,111014,71688,39326,9832,302468,26788]
[37,"Ouachita",8.2011160000000007,6385.0460477993111,8405.1736109448557,9875.5210028070505,80990,28391,52599,13150,80990,55917999.039999999,17699,17707.201116,3157.9242068625522,25899,9080,16819,4205,106889,17355]
[38,"Plaquemines",0.86033599999999999,3252.8197997775305,4281.96052739076,5752.3079192529549,4949,0,4949,1237,4949,22706969.120000001,3596,3596.8603360000002,6312.9971694291553,5431,0,5431,1358,10380,2595]
[39,"Pointe Coupee",1,4240.3802407638022,5581.9694694800337,7052.3168613422285,7052,3864,3188,797,7052,14158336.16,2409,2410,5874.8282821576768,5875,3216,2659,665,12927,1462]
[40,"Rapides",8.039104,6161.2250254718356,8110.5391578245062,9580.8865496867002,77022,27006,50016,12504,77022,73305821.719999999,20611,20619.039103999999,3555.2491728762957,28581,10024,18557,4639,105603,17143]
[41,"Red River",0,3730.3699324324325,4910.599967552298,6380.9473594144929,0,2992,-2992,-748,0,7184205.4800000004,1184,1184,6067.7411148648653,0,2840,-2840,-710,0,-1458]
[42,"Richland",1.6592180000000001,5971.5500370644922,7860.8540035933711,9331.2013954555659,15482,6128,9354,2339,15482,11088805.939999999,2698,2699.6592179999998,4107.4835912863728,6815,2696,4119,1030,22297,3369]
[43,"Sabine",1.636871,6028.5017543859649,7935.8243433442358,9406.1717352064297,15397,9440,5957,1489,15397,14343018.66,3705,3706.6368710000002,3869.550527654048,6334,3880,2454,614,21731,2103]
[44,"St. Bernard",2.2681559999999998,6047.5350293020774,7960.8794453524524,9431.2268372146464,21391,5104,16287,4072,21391,24980069.140000001,7508,7510.2681560000001,3326.1221332081554,7544,1800,5744,1436,28935,5508]
[45,"St. Charles",0,3152.217737476501,4149.5295640227387,5619.8769558849335,0,0,0,0,0,49677444.520000003,9043,9043,5493.4694813668038,0,0,0,0,0,0]
[46,"St. Helena",0.379888,8231.6883239171366,10836.064290806175,12306.411682668369,4675,0,4675,1169,4675,3717753.22,1062,1062.3798879999999,3499.4574558437052,1329,0,1329,332,6004,1501]
[47,"St. James",0,3715.0649921507065,4890.4527862774839,6360.8001781396788,0,0,0,0,0,19040580.699999999,3185,3185,5978.2043014128722,0,0,0,0,0,0]
[48,"St. John the Baptist",1,3895.8356923076922,5128.4164763146455,6598.7638681768403,6599,1744,4855,1214,6599,26207402.280000001,4875,4876,5374.7748728465958,5375,1422,3953,988,11974,2202]
[49,"St. Landry",10.284917999999999,6229.9417838848685,8200.9968115546581,9671.3442034168529,99469,60904,38565,9641,99469,42411391.079999998,12299,12309.284917999999,3445.4796816004614,35436,21696,13740,3435,134905,13076]
[50,"St. Martin",1.4916199999999999,5891.0489184221688,7754.8836044766404,9225.2309963388361,13761,0,13761,3440,13761,24550656.66,7073,7074.4916199999998,3470.3068402249378,5176,0,5176,1294,18937,4734]
[51,"St. Mary",1.7318439999999999,6146.5522606382983,8091.2241623091722,9561.5715541713671,16559,11200,5359,1340,16559,28567625.739999998,7520,7521.7318439999999,3798.0117255560058,6578,4448,2130,533,23137,1873]
[52,"St. Tammany",6.0335200000000002,5422.2342588543943,7137.7434028987227,8608.0907947609176,51937,20680,31257,7814,51937,145906148.53999999,36592,36598.033519999997,3986.7209930901226,24054,9582,14472,3618,75991,11432]
[53,"Tangipahoa",2.9106160000000001,6227.6393217473988,8197.9658868200222,9668.3132786822171,28141,10118,18023,4506,28141,64505922.299999997,18931,18933.910616000001,3406.8990610682195,9916,3568,6348,1587,38057,6093]
[54,"Tensas",1.3687149999999999,6076.1688654353566,7998.5725742736613,9468.9199661358562,12960,4159,8801,2200,12960,2065810.9,379,380.36871500000001,5431.0746876225085,7434,2392,5042,1261,20394,3461]
[55,"Terrebonne",5.6592180000000001,5302.7889614808764,6980.5075029663512,8450.8548948285461,47825,20447,27378,6845,47825,57597933.700000003,14694,14699.659218000001,3918.317618511202,22175,9480,12695,3174,70000,10019]
[56,"Union",0,6826.0277973258271,8985.6750100390836,10456.022401901278,0,7215,-7215,-1804,0,9593022.9600000009,2842,2842,3375.44790992259,0,2328,-2328,-582,0,-2386]
[57,"Vermilion",1.1899439999999999,6545.4183127796578,8616.2851236025999,10086.632515464795,12003,11552,451,113,12003,27629363,9163,9164.1899439999997,3014.9269241292368,3588,3456,132,33,15591,146]
[58,"Vernon",0,6717.5982950819671,8842.9401285542281,10313.287520416423,0,0,0,0,0,21778400.359999999,7625,7625,2856.1836537704917,0,0,0,0,0,0]
[59,"Washington",0.38547500000000001,7748.1141374837871,10199.494881546454,11669.842273408649,4498,344,4154,1039,4498,10660340,4626,4626.385475,2304.2481128315403,888,72,816,204,5386,1243]
[60,"Webster",1.296089,6403.0555446516191,8428.881027705238,9899.2284195674329,12830,6600,6230,1558,12830,18852706.199999999,5095,5096.2960890000004,3699.2956984371945,4795,2464,2331,583,17625,2141]
[61,"West Baton Rouge",3.4301689999999998,3893.9448345035107,5125.9273810130962,6596.2747728752911,22626,4768,17858,4465,22626,21790929.34,3988,3991.4301690000002,5459.4289308234165,18727,3951,14776,3694,41353,8159]
[62,"West Carroll",0,7376.9433617539589,9710.8915440037981,11181.238935865993,0,7456,-7456,-1864,0,5632365.5599999996,1642,1642,3430.1860901339828,0,2288,-2288,-572,0,-2436]
[63,"West Feliciana",0,4312.536655486344,5676.9550323633794,7147.3024242255742,0,0,0,0,0,11649268.42,2087,2087,5581.8248298993767,0,0,0,0,0,0]
[64,"Winn",0,7286.9474243228888,9592.422315634085,11062.76970749628,0,0,0,0,0,6767688.2199999997,1883,1883,3594.0988953797132,0,0,0,0,0,0]
[65,"City of Monroe",3.480448,5961.9622182377052,7848.2327505614985,9318.5801424236925,32433,26048,6385,1596,32433,30705864.16,7808,7811.4804480000003,3930.8636006202546,13681,10990,2691,673,46114,2269]
[66,"City of Bogalusa",0,6848.5078336034576,9015.267374178562,10485.614766040757,0,0,0,0,0,8121422.9000000004,1851,1851,4387.5866558616963,0,0,0,0,0,0]
[67,"Zachary Community",0,6421.3857142857141,8453.0105730427767,9923.3579649049716,0,0,0,0,0,17732521.5,5530,5530,3206.6042495479205,0,0,0,0,0,0]
[68,"City of Baker",8.9385000000000006E-2,6837.0241514360314,9000.1504366361314,10470.497828498326,936,0,936,234,936,5408975.3600000003,1532,1532.089385,3530.4567820630127,316,0,316,79,1252,313]
[69,"Central Community",0.52514000000000005,6924.7359423274975,9115.6128506345012,10585.960242496696,5559,4088,1471,368,5559,15111864.1,4855,4855.5251399999997,3112.3027199484341,1634,1200,434,109,7193,477]
["State Subtotal",null,232.31844400000008,null,null,null,1976039,999879,976160,244046,1976039,2580728623.3800001,649170,649402.31844400009,null,943765,474940,468825,117212,2919804,361258]
["Level 4 Allocations"]
["Int'l Assoc/Escadrille Salaries",null,null,null,null,null,0,0,0,0,0,null,null,null,null,null,0,null,null,0,0]
["Int'l Assoc/Escadrille Stipends",null,null,null,null,null,null,0,null,null,0,null,null,null,null,null,0,null,null,0,0]
["Career Development Fund",null,null,null,null,null,null,0,null,null,28920,null,null,null,null,null,0,null,null,0,0]
["High Cost Services Allocation",null,null,null,null,null,null,0,null,null,0,null,null,null,null,null,0,null,null,0,0]
["Supplemental Course Allocation",null,null,null,null,null,15820,10544,5276,1319,15820,null,null,null,null,null,0,null,null,15820,1319]
["Mentor Teacher Stipend Allocation",null,null,null,null,null,null,0,null,null,null,null,null,null,null,null,0,null,null,null,0]
["FY2019-20 Pay Raise",null,null,null,null,null,50862,33632,17230,4308,50862,null,null,null,null,null,0,null,null,50862,4308]
["FY2021-22 Pay Raise",null,null,null,null,null,40690,26904,13786,3447,40690,null,null,null,null,null,0,null,null,40690,3447]
["FY2022-23 Pay Raise",null,null,null,null,null,76294,50448,25846,6462,76294,null,null,null,null,null,0,null,null,76294,6462]
["State Grand Total With Level 4",null,232.31844400000008,null,null,null,2159705,1121407,1038298,259582,2188625,2580728623.3800001,649170,649402.31844400009,null,943765,474940,468825,117212,3103470,376794]

{"sheet":"5A4_NOCCA","index":16,"n_rows":87,"n_cols":15,"rows_kept":87,"cut":false,"hidden":false,"merged":[[0,8,0,14],[1,5,1,7],[75,0,75,1],[76,0,76,1],[0,0,2,1],[3,0,3,1],[5,0,5,1],[80,0,80,1],[81,0,81,1],[0,2,0,7],[77,0,77,1],[78,0,78,1],[79,0,79,1],[84,0,84,1],[86,0,86,1],[87,0,87,1],[85,0,85,1],[83,0,83,1]]}
["Table 5A4\nNew Orleans Center for Creative Arts (NOCCA)\n\n(Site Code 334001)",null,"MFP State Cost Allocation",null,null,null,null,null,"MFP State Cost Allocation"]
[null,null,null,null,null,"Mid-Year Adjustment for Students"]
[null,null,"Feb. 1\nMFP Funded\nMembership\n","State Cost &\nLocal Cost\nAllocation\nPer Pupil\n\n(Levels 1, 2,\n& 3 without\nContinuation\nof Prior Year\nPay Raises)","State Cost &\nLocal Cost\nAllocation\n\n(Levels 1, 2,\n& 3 without\nContinuation\nof Prior Year\nPay Raises)","October\n\nMid-Year\nAdjustment\nfor Students","February\n\nMid-Year\nAdjustment\nfor Students","Total\nMid-Year\nAdjustment\nfor Students","Total MFP\nState Cost &\nLocal Cost\nAllocation\n+/- Mid-Year\nAdjustments","Prior Years\nMFP Audit\nAdjustments\n\n","Total MFP\nState Cost &\nLocal Cost\nAllocation\n+/- Mid-Year Adjs\n+/- Audit Adjs\n+ Monthly Level 4","Year To\nDate\nState\nPayments","Balance\nDue","Monthly\nPayment","Total MFP\nState Cost &\nLocal Cost\nAllocation\n+/- Mid-Year Adjs\n+/- Audit Adjs\n+ Total Level 4"]
["FY2023-24",null,1,2,3,4,5,6,7,8,9,10,11,12,13]
["March 2024",null,null,"Link in File","Formula","Link to Mid-Year File","Link to Mid-Year File","Formula","Formula","Link to Audit File","T4, C2; T4, C14","Link to Prior Month,","Formula","Formula","T4, C7; T4, C9; T4, C10"]
["March 2024",null,"T8, C45","T9, C17","C1 x C2","Link to October Tab in Mid-Year File","Link to February Tab in Mid-Year File","C4 + C5 ","C3 + C6","Link to Audit File","C7 + C8;\n(T4, C2; C14; C26; C38)","Prior Month File: (T5A4, C10 + C12)","C9 - C10","C11 ÷ Remaining Months","C9; (T4, C2; C7; C9;\nC10; C14; C26; C38)"]
[1,"Acadia",0,9436.6069718704457,0,0,0,0,0,0,0,0,0,0,0]
[2,"Allen",0,10400.879789750328,0,0,0,0,0,0,0,0,0,0,0]
[3,"Ascension",0,8647.8907243673966,0,0,0,0,0,0,0,0,0,0,0]
[4,"Assumption",0,10416.786564885497,0,0,0,0,0,0,0,0,0,0,0]
[5,"Avoyelles",0,9734.7906451612907,0,0,0,0,0,0,0,0,0,0,0]
[6,"Beauregard",0,9728.5974813737957,0,0,0,0,0,0,0,0,0,0,0]
[7,"Bienville",0,10027.964261057174,0,0,0,0,0,0,0,0,0,0,0]
[8,"Bossier",0,9521.1805320587973,0,0,0,0,0,0,0,0,0,0,0]
[9,"Caddo",0,9294.8884957195278,0,0,0,0,0,0,0,0,0,0,0]
[10,"Calcasieu",0,8955.2164447167743,0,0,0,0,0,0,0,0,0,0,0]
[11,"Caldwell",0,11566.295137362638,0,0,0,0,0,0,0,0,0,0,0]
[12,"Cameron",0,9608.1985578747626,0,0,0,0,0,0,0,0,0,0,0]
[13,"Catahoula",0,10839.42625,0,0,0,0,0,0,0,0,0,0,0]
[14,"Claiborne",0,11835.074328358209,0,0,0,0,0,0,0,0,0,0,0]
[15,"Concordia",0,10252.386478342751,0,0,0,0,0,0,0,0,0,0,0]
[16,"DeSoto",0,8638.9130953885033,0,0,0,0,0,0,0,0,0,0,0]
[17,"East Baton Rouge",1,8964.2236336196875,8964,0,0,0,8964,0,8964,5976,2988,747,8964]
[18,"East Carroll",0,11118.494867724869,0,0,0,0,0,0,0,0,0,0,0]
[19,"East Feliciana",0,10274.595783650891,0,0,0,0,0,0,0,0,0,0,0]
[20,"Evangeline",0,10315.180290861324,0,0,0,0,0,0,0,0,0,0,0]
[21,"Franklin",0,10911.187982355197,0,0,0,0,0,0,0,0,0,0,0]
[22,"Grant",0,10793.737959791511,0,0,0,0,0,0,0,0,0,0,0]
[23,"Iberia",0,9708.5891119342305,0,0,0,0,0,0,0,0,0,0,0]
[24,"Iberville",0,9304.0743812061028,0,0,0,0,0,0,0,0,0,0,0]
[25,"Jackson",0,10223.688982725529,0,0,0,0,0,0,0,0,0,0,0]
[26,"Jefferson",42,9363.0294957427468,393247,0,4682,4682,397929,0,397929,262168,135761,33940,397929]
[27,"Jefferson Davis",0,10262.288648018646,0,0,0,0,0,0,0,0,0,0,0]
[28,"Lafayette",0,8695.1154433708598,0,0,0,0,0,0,0,0,0,0,0]
[29,"Lafourche",1,9120.6983914714074,9121,0,0,0,9121,0,9121,6080,3041,760,9121]
[30,"LaSalle",0,10210.333246160233,0,0,0,0,0,0,0,0,0,0,0]
[31,"Lincoln",0,9658.6717707662592,0,0,0,0,0,0,0,0,0,0,0]
[32,"Livingston",0,9676.8946776611701,0,0,0,0,0,0,0,0,0,0,0]
[33,"Madison",0,10812.214356435645,0,0,0,0,0,0,0,0,0,0,0]
[34,"Morehouse",0,10616.887090680102,0,0,0,0,0,0,0,0,0,0,0]
[35,"Natchitoches",0,9540.631609034579,0,0,0,0,0,0,0,0,0,0,0]
[36,"Orleans",134,9198.1015885451852,1232546,36792,-9198,27594,1260140,0,1260140,821696,438444,109611,1260140]
[37,"Ouachita",0,9544.4360698344535,0,0,0,0,0,0,0,0,0,0,0]
[38,"Plaquemines",4,9567.3298887652945,38269,-9567,0,-9567,28702,0,28702,25512,3190,798,28702]
[39,"Pointe Coupee",0,10117.650215857204,0,0,0,0,0,0,0,0,0,0,0]
[40,"Rapides",0,9717.8650240163024,0,0,0,0,0,0,0,0,0,0,0]
[41,"Red River",0,9798.1103378378375,0,0,0,0,0,0,0,0,0,0,0]
[42,"Richland",0,10081.560200148258,0,0,0,0,0,0,0,0,0,0,0]
[43,"Sabine",0,9899.7617678812421,0,0,0,0,0,0,0,0,0,0,0]
[44,"St. Bernard",5,9374.6650665956313,46873,0,0,0,46873,0,46873,31248,15625,3906,46873]
[45,"St. Charles",6,8645.6877684396768,51874,0,0,0,51874,0,51874,34584,17290,4323,51874]
[46,"St. Helena",0,11732.398060263655,0,0,0,0,0,0,0,0,0,0,0]
[47,"St. James",0,9693.264866562009,0,0,0,0,0,0,0,0,0,0,0]
[48,"St. John the Baptist",4,9271.7157435897443,37087,9272,0,9272,46359,0,46359,24728,21631,5408,46359]
[49,"St. Landry",0,9678.3017481096012,0,0,0,0,0,0,0,0,0,0,0]
[50,"St. Martin",0,9362.0888590414252,0,0,0,0,0,0,0,0,0,0,0]
[51,"St. Mary",0,9945.4422872340419,0,0,0,0,0,0,0,0,0,0,0]
[52,"St. Tammany",22,9409.6142599475297,207012,9410,4705,14115,221127,0,221127,138008,83119,20780,221127]
[53,"Tangipahoa",3,9635.0593185779944,28905,0,-4818,-4818,24087,0,24087,19272,4815,1204,24087]
[54,"Tensas",0,11526.857678100263,0,0,0,0,0,0,0,0,0,0,0]
[55,"Terrebonne",1,9222.6189723696752,9223,-9223,0,-9223,0,0,0,6152,-6152,-1538,0]
[56,"Union",0,10201.477698803659,0,0,0,0,0,0,0,0,0,0,0]
[57,"Vermilion",0,9560.73832696715,0,0,0,0,0,0,0,0,0,0,0]
[58,"Vernon",0,9573.7782950819674,0,0,0,0,0,0,0,0,0,0,0]
[59,"Washington",0,10052.554033722439,0,0,0,0,0,0,0,0,0,0,0]
[60,"Webster",0,10103.295505397447,0,0,0,0,0,0,0,0,0,0,0]
[61,"West Baton Rouge",0,9358.0649548645943,0,0,0,0,0,0,0,0,0,0,0]
[62,"West Carroll",0,10807.133580998781,0,0,0,0,0,0,0,0,0,0,0]
[63,"West Feliciana",0,9894.3565261140393,0,0,0,0,0,0,0,0,0,0,0]
[64,"Winn",0,10881.04730748805,0,0,0,0,0,0,0,0,0,0,0]
[65,"City of Monroe",0,9894.5822131147543,0,0,0,0,0,0,0,0,0,0,0]
[66,"City of Bogalusa",0,11236.097866018368,0,0,0,0,0,0,0,0,0,0,0]
[67,"Zachary Community",0,9627.9857685352617,0,0,0,0,0,0,0,0,0,0,0]
[68,"City of Baker",0,10367.684412532637,0,0,0,0,0,0,0,0,0,0,0]
[69,"Central Community",0,10037.375911431514,0,0,0,0,0,0,0,0,0,0,0]
["State Subtotal",null,223,null,2063121,36684,-4629,32055,2095176,0,2095176,1375424,719752,179939,2095176]
["Level 4 Allocations"]
["Int'l Assoc/Escadrille Salaries",null,null,null,null,null,null,null,null,null,0,0,0,0,0]
["Int'l Assoc/Escadrille Stipends",null,null,null,null,null,null,null,null,null,null,0,null,null,0]
["Career Development Fund",null,null,null,null,null,null,null,null,null,null,0,null,null,10000]
["High Cost Services Allocation",null,null,null,null,null,null,null,null,null,null,0,null,null,0]
["Supplemental Course Allocation",null,null,null,null,null,null,null,null,null,15610,10408,5202,1301,15610]
["Mentor Teacher Stipend Allocation",null,null,null,null,null,null,null,null,null,null,0,null,null,0]
["FY2019-20 Pay Raise",null,null,null,null,null,null,null,null,null,101522,60944,40578,10145,101522]
["FY2021-22 Pay Raise",null,null,null,null,null,null,null,null,null,81218,48760,32458,8115,81218]
["FY2022-23 Pay Raise",null,null,null,null,null,null,null,null,null,152284,91424,60860,15215,152284]
["State Grand Total With Level 4",null,223,null,2063121,36684,-4629,32055,2095176,0,2445810,1586960,858850,214715,2455810]

{"sheet":"5A5_LSMSA","index":17,"n_rows":87,"n_cols":15,"rows_kept":87,"cut":false,"hidden":false,"merged":[[84,0,84,1],[85,0,85,1],[87,0,87,1],[3,0,3,1],[5,0,5,1],[0,8,0,14],[86,0,86,1],[76,0,76,1],[79,0,79,1],[80,0,80,1],[81,0,81,1],[78,0,78,1],[75,0,75,1],[77,0,77,1],[0,0,2,1],[1,5,1,7],[0,2,0,7],[83,0,83,1]]}
["Table 5A5\nLouisiana School\nfor Math, Science\nand the Arts\n(LSMSA)\n\n(Site Code 302006)",null,"MFP State Cost Allocation",null,null,null,null,null,"MFP State Cost Allocation"]
[null,null,null,null,null,"Mid-Year Adjustment for Students"]
[null,null,"Feb. 1\nMFP Funded\nMembership\n","State Cost &\nLocal Cost\nAllocation\nPer Pupil\n\n(Levels 1, 2,\n& 3 without\nContinuation\nof Prior Year\nPay Raises)","State Cost &\nLocal Cost\nAllocation\n\n(Levels 1, 2,\n& 3 without\nContinuation\nof Prior Year\nPay Raises)","October\n\nMid-Year\nAdjustment\nfor Students","February\n\nMid-Year\nAdjustment\nfor Students","Total\nMid-Year\nAdjustment\nfor Students","Total MFP\nState Cost &\nLocal Cost\nAllocation\n+/- Mid-Year\nAdjustments","Prior Years\nMFP Audit\nAdjustments\n\n","Total MFP\nState Cost &\nLocal Cost\nAllocation\n+/- Mid-Year Adjs\n+/- Audit Adjs\n+ Monthly Level 4","Year To\nDate\nState\nPayments","Balance\nDue","Monthly\nPayment","Total MFP\nState Cost &\nLocal Cost\nAllocation\n+/- Mid-Year Adjs\n+/- Audit Adjs\n+ Total Level 4"]
["FY2023-24",null,1,2,3,4,5,6,7,8,9,10,11,12,13]
["March 2024",null,"Link in File","Link in File","Formula","Link to Mid-Year File","Link to Mid-Year File","Formula","Formula","Link to Audit File","T4, C2; T4, C14","Link to Prior Month,","Formula","Formula","T4, C7; T4, C9; T4, C10"]
["March 2024",null,"T8, C44","T9, C17","C1 x C2","Link to October Tab in Mid-Year File","Link to February Tab in Mid-Year File","C4 + C5 ","C3 + C6","Link to Audit File","C7 + C8;\n(T4, C2; C14; C26; C38)","Prior Month File: (T5A4, C10 + C12)","C9 - C10","C11 ÷ Remaining Months","C9; (T4, C2; C7; C9;\nC10; C14; C26; C38)"]
[1,"Acadia",2,9436.6069718704457,18873,0,-4718,-4718,14155,0,14155,12584,1571,393,14155]
[2,"Allen",3,10400.879789750328,31203,-10401,0,-10401,20802,0,20802,20800,2,1,20802]
[3,"Ascension",8,8647.8907243673966,69183,-17296,0,-17296,51887,0,51887,46120,5767,1442,51887]
[4,"Assumption",1,10416.786564885497,10417,0,0,0,10417,0,10417,6944,3473,868,10417]
[5,"Avoyelles",1,9734.7906451612907,9735,0,0,0,9735,0,9735,6488,3247,812,9735]
[6,"Beauregard",3,9728.5974813737957,29186,19457,0,19457,48643,0,48643,19456,29187,7297,48643]
[7,"Bienville",2,10027.964261057174,20056,10028,0,10028,30084,0,30084,13368,16716,4179,30084]
[8,"Bossier",9,9521.1805320587973,85691,0,-4761,-4761,80930,0,80930,57128,23802,5951,80930]
[9,"Caddo",2,9294.8884957195278,18590,18590,0,18590,37180,0,37180,12392,24788,6197,37180]
[10,"Calcasieu",18,8955.2164447167743,161194,17910,0,17910,179104,0,179104,107464,71640,17910,179104]
[11,"Caldwell",1,11566.295137362638,11566,11566,0,11566,23132,0,23132,7712,15420,3855,23132]
[12,"Cameron",0,9608.1985578747626,0,0,0,0,0,0,0,0,0,0,0]
[13,"Catahoula",0,10839.42625,0,10839,0,10839,10839,0,10839,0,10839,2710,10839]
[14,"Claiborne",1,11835.074328358209,11835,0,0,0,11835,0,11835,7888,3947,987,11835]
[15,"Concordia",0,10252.386478342751,0,0,0,0,0,0,0,0,0,0,0]
[16,"DeSoto",2,8638.9130953885033,17278,8639,0,8639,25917,0,25917,11520,14397,3599,25917]
[17,"East Baton Rouge",8,8964.2236336196875,71714,8964,0,8964,80678,0,80678,47808,32870,8218,80678]
[18,"East Carroll",0,11118.494867724869,0,0,0,0,0,0,0,0,0,0,0]
[19,"East Feliciana",0,10274.595783650891,0,0,0,0,0,0,0,0,0,0,0]
[20,"Evangeline",4,10315.180290861324,41261,0,-10315,-10315,30946,0,30946,27510,3436,859,30946]
[21,"Franklin",3,10911.187982355197,32734,0,0,0,32734,0,32734,21824,10910,2728,32734]
[22,"Grant",1,10793.737959791511,10794,10794,-5397,5397,16191,0,16191,7199,8992,2248,16191]
[23,"Iberia",4,9708.5891119342305,38834,-19417,4854,-14563,24271,0,24271,25888,-1617,-404,24271]
[24,"Iberville",0,9304.0743812061028,0,18608,0,18608,18608,0,18608,0,18608,4652,18608]
[25,"Jackson",0,10223.688982725529,0,0,0,0,0,0,0,0,0,0,0]
[26,"Jefferson",4,9363.0294957427468,37452,28089,0,28089,65541,0,65541,24968,40573,10143,65541]
[27,"Jefferson Davis",1,10262.288648018646,10262,10262,0,10262,20524,0,20524,6840,13684,3421,20524]
[28,"Lafayette",11,8695.1154433708598,95646,-8695,-4348,-13043,82603,0,82603,63767,18836,4709,82603]
[29,"Lafourche",8,9120.6983914714074,72966,-27362,0,-27362,45604,0,45604,48647,-3043,-761,45604]
[30,"LaSalle",1,10210.333246160233,10210,10210,0,10210,20420,0,20420,6808,13612,3403,20420]
[31,"Lincoln",8,9658.6717707662592,77269,-48293,0,-48293,28976,0,28976,51512,-22536,-5634,28976]
[32,"Livingston",8,9676.8946776611701,77415,38708,-4838,33870,111285,0,111285,51608,59677,14919,111285]
[33,"Madison",0,10812.214356435645,0,0,0,0,0,0,0,0,0,0,0]
[34,"Morehouse",0,10616.887090680102,0,0,0,0,0,0,0,0,0,0,0]
[35,"Natchitoches",21,9540.631609034579,200353,38163,-23852,14311,214664,0,214664,133568,81096,20274,214664]
[36,"Orleans",2,9198.1015885451852,18396,-9198,0,-9198,9198,0,9198,12264,-3066,-767,9198]
[37,"Ouachita",6,9544.4360698344535,57267,0,0,0,57267,0,57267,38176,19091,4773,57267]
[38,"Plaquemines",0,9567.3298887652945,0,9567,0,9567,9567,0,9567,0,9567,2392,9567]
[39,"Pointe Coupee",4,10117.650215857204,40471,-10118,5059,-5059,35412,0,35412,26984,8428,2107,35412]
[40,"Rapides",17,9717.8650240163024,165204,-58307,0,-58307,106897,0,106897,110136,-3239,-810,106897]
[41,"Red River",1,9798.1103378378375,9798,0,0,0,9798,0,9798,6535,3263,816,9798]
[42,"Richland",0,10081.560200148258,0,0,0,0,0,0,0,0,0,0,0]
[43,"Sabine",3,9899.7617678812421,29699,-9900,0,-9900,19799,0,19799,19800,-1,0,19799]
[44,"St. Bernard",0,9374.6650665956313,0,18749,-9375,9374,9374,0,9374,0,9374,2344,9374]
[45,"St. Charles",10,8645.6877684396768,86457,8646,0,8646,95103,0,95103,57640,37463,9366,95103]
[46,"St. Helena",0,11732.398060263655,0,0,0,0,0,0,0,0,0,0,0]
[47,"St. James",1,9693.264866562009,9693,0,0,0,9693,0,9693,6464,3229,807,9693]
[48,"St. John the Baptist",1,9271.7157435897443,9272,0,0,0,9272,0,9272,6184,3088,772,9272]
[49,"St. Landry",9,9678.3017481096012,87105,0,-4839,-4839,82266,0,82266,58072,24194,6049,82266]
[50,"St. Martin",2,9362.0888590414252,18724,18724,0,18724,37448,0,37448,12480,24968,6242,37448]
[51,"St. Mary",5,9945.4422872340419,49727,-19891,0,-19891,29836,0,29836,33152,-3316,-829,29836]
[52,"St. Tammany",15,9409.6142599475297,141144,-18819,-4705,-23524,117620,0,117620,94096,23524,5881,117620]
[53,"Tangipahoa",12,9635.0593185779944,115621,-28905,-4818,-33723,81898,0,81898,77080,4818,1205,81898]
[54,"Tensas",0,11526.857678100263,0,0,0,0,0,0,0,0,0,0,0]
[55,"Terrebonne",16,9222.6189723696752,147562,27668,0,27668,175230,0,175230,98376,76854,19214,175230]
[56,"Union",1,10201.477698803659,10201,0,0,0,10201,0,10201,6800,3401,850,10201]
[57,"Vermilion",2,9560.73832696715,19121,0,0,0,19121,0,19121,12750,6371,1593,19121]
[58,"Vernon",7,9573.7782950819674,67016,47869,-9574,38295,105311,0,105311,44680,60631,15158,105311]
[59,"Washington",2,10052.554033722439,20105,10053,-5026,5027,25132,0,25132,13406,11726,2932,25132]
[60,"Webster",1,10103.295505397447,10103,0,0,0,10103,0,10103,6736,3367,842,10103]
[61,"West Baton Rouge",2,9358.0649548645943,18716,9358,0,9358,28074,0,28074,12480,15594,3899,28074]
[62,"West Carroll",0,10807.133580998781,0,0,0,0,0,0,0,0,0,0,0]
[63,"West Feliciana",3,9894.3565261140393,29683,-19789,0,-19789,9894,0,9894,19792,-9898,-2475,9894]
[64,"Winn",0,10881.04730748805,0,0,0,0,0,0,0,0,0,0,0]
[65,"City of Monroe",2,9894.5822131147543,19789,-9895,0,-9895,9894,0,9894,13192,-3298,-825,9894]
[66,"City of Bogalusa",1,11236.097866018368,11236,0,0,0,11236,0,11236,7488,3748,937,11236]
[67,"Zachary Community",4,9627.9857685352617,38512,9628,0,9628,48140,0,48140,25672,22468,5617,48140]
[68,"City of Baker",0,10367.684412532637,0,0,0,0,0,0,0,0,0,0,0]
[69,"Central Community",6,10037.375911431514,60224,0,0,0,60224,0,60224,40152,20072,5018,60224]
["State Subtotal",null,270,null,2562563,104803,-86653,18150,2580713,0,2580713,1708398,872315,218084,2580713]
["Level 4 Allocations"]
["Int'l Assoc/Escadrille Salaries",null,null,null,null,null,null,null,null,null,0,0,0,0,0]
["Int'l Assoc/Escadrille Stipends",null,null,null,null,null,null,null,null,null,null,0,null,null,0]
["Career Development Fund",null,null,null,null,null,null,null,null,null,null,0,null,null,10000]
["High Cost Services Allocation",null,null,null,null,null,null,null,null,null,null,0,null,null,0]
["Supplemental Course Allocation",null,null,null,null,null,null,null,null,null,18900,12600,6300,1575,18900]
["Mentor Teacher Stipend Allocation",null,null,null,null,null,null,null,null,null,null,0,null,null,0]
["FY2019-20 Pay Raise",null,null,null,null,null,null,null,null,null,82146,54775,27371,6843,82146]
["FY2021-22 Pay Raise",null,null,null,null,null,null,null,null,null,65718,43816,21902,5476,65718]
["FY20221-23 Pay Raise",null,null,null,null,null,null,null,null,null,123221,82160,41061,10265,123221]
["State Grand Total With Level 4",null,270,null,2562563,104803,-86653,18150,2580713,0,2870698,1901749,968949,242243,2880698]

{"sheet":"5A6_Thrive","index":18,"n_rows":87,"n_cols":15,"rows_kept":87,"cut":false,"hidden":false,"merged":[[87,0,87,1],[86,0,86,1],[0,0,2,1],[0,2,0,7],[78,0,78,1],[79,0,79,1],[80,0,80,1],[81,0,81,1],[83,0,83,1],[84,0,84,1],[85,0,85,1],[0,8,0,14],[1,5,1,7],[75,0,75,1],[76,0,76,1],[77,0,77,1],[3,0,3,1],[5,0,5,1]]}
["Table 5A6\nThrive Academy of Baton Rouge\n\n(Site Code 3C1001)",null,"MFP State Cost Allocation",null,null,null,null,null,"MFP State Cost Allocation"]
[null,null,null,null,null,"Mid-Year Adjustment for Students"]
[null,null,"Feb. 1\nMFP Funded\nMembership\n","State Cost &\nLocal Cost\nAllocation\nPer Pupil\n\n(Levels 1, 2,\n& 3 without\nContinuation\nof Prior Year\nPay Raises)","State Cost &\nLocal Cost\nAllocation\n\n(Levels 1, 2,\n& 3 without\nContinuation\nof Prior Year\nPay Raises)","October\n\nMid-Year\nAdjustment\nfor Students","February\n\nMid-Year\nAdjustment\nfor Students","Total\nMid-Year\nAdjustment\nfor Students","Total MFP\nState Cost &\nLocal Cost\nAllocation\n+/- Mid-Year\nAdjustments","Prior Years\nMFP Audit\nAdjustments\n\n","Total MFP\nState Cost &\nLocal Cost\nAllocation\n+/- Mid-Year Adjs\n+/- Audit Adjs\n+ Monthly Level 4","Year To\nDate\nState\nPayments","Balance\nDue","Monthly\nPayment","Total MFP\nState Cost &\nLocal Cost\nAllocation\n+/- Mid-Year Adjs\n+/- Audit Adjs\n+ Total Level 4"]
["FY2023-24",null,1,2,3,4,5,6,7,8,9,10,11,12,13]
["March 2024",null,null,"Link in File","Formula","Link to Mid-Year File","Link to Mid-Year File","Formula","Formula","Link to Audit File","T4, C2; T4, C14","Link to Prior Month,","Formula","Formula","T4, C7; T4, C9; T4, C10"]
["March 2024",null,"T8, C46","T9, C17","C1 x C2","Link to October Tab in Mid-Year File","Link to February Tab in Mid-Year File","C4 + C5 ","C3 + C6","Link to Audit File","C7 + C8;\n(T4, C2; C14; C26; C38)","Prior Month File: (T5A4, C10 + C12)","C9 - C10","C11 ÷ Remaining Months","C9; (T4, C2; C7; C9;\nC10; C14; C26; C38)"]
[1,"Acadia",0,9436.6069718704457,0,0,0,0,0,0,0,0,0,0,0]
[2,"Allen",0,10400.879789750328,0,0,0,0,0,0,0,0,0,0,0]
[3,"Ascension",15,8647.8907243673966,129718,-60535,4324,-56211,73507,0,73507,86480,-12973,-3243,73507]
[4,"Assumption",3,10416.786564885497,31250,-20834,0,-20834,10416,0,10416,20832,-10416,-2604,10416]
[5,"Avoyelles",0,9734.7906451612907,0,0,0,0,0,0,0,0,0,0,0]
[6,"Beauregard",0,9728.5974813737957,0,0,0,0,0,0,0,0,0,0,0]
[7,"Bienville",0,10027.964261057174,0,0,0,0,0,0,0,0,0,0,0]
[8,"Bossier",0,9521.1805320587973,0,0,0,0,0,0,0,0,0,0,0]
[9,"Caddo",0,9294.8884957195278,0,0,0,0,0,0,0,0,0,0,0]
[10,"Calcasieu",0,8955.2164447167743,0,0,0,0,0,0,0,0,0,0,0]
[11,"Caldwell",0,11566.295137362638,0,0,0,0,0,0,0,0,0,0,0]
[12,"Cameron",0,9608.1985578747626,0,0,0,0,0,0,0,0,0,0,0]
[13,"Catahoula",0,10839.42625,0,0,0,0,0,0,0,0,0,0,0]
[14,"Claiborne",0,11835.074328358209,0,0,0,0,0,0,0,0,0,0,0]
[15,"Concordia",0,10252.386478342751,0,0,0,0,0,0,0,0,0,0,0]
[16,"DeSoto",0,8638.9130953885033,0,0,0,0,0,0,0,0,0,0,0]
[17,"East Baton Rouge",88,8964.2236336196875,788852,152392,-26893,125499,914351,-18025,896326,525904,370422,92606,896326]
[18,"East Carroll",0,11118.494867724869,0,0,0,0,0,0,0,0,0,0,0]
[19,"East Feliciana",0,10274.595783650891,0,0,0,0,0,0,0,0,0,0,0]
[20,"Evangeline",0,10315.180290861324,0,0,0,0,0,0,0,0,0,0,0]
[21,"Franklin",0,10911.187982355197,0,0,0,0,0,0,0,0,0,0,0]
[22,"Grant",0,10793.737959791511,0,0,0,0,0,0,0,0,0,0,0]
[23,"Iberia",1,9708.5891119342305,9709,0,0,0,9709,0,9709,6472,3237,809,9709]
[24,"Iberville",3,9304.0743812061028,27912,-18608,0,-18608,9304,0,9304,18608,-9304,-2326,9304]
[25,"Jackson",0,10223.688982725529,0,0,0,0,0,0,0,0,0,0,0]
[26,"Jefferson",11,9363.0294957427468,102993,-37452,0,-37452,65541,0,65541,68664,-3123,-781,65541]
[27,"Jefferson Davis",0,10262.288648018646,0,0,0,0,0,0,0,0,0,0,0]
[28,"Lafayette",1,8695.1154433708598,8695,17390,0,17390,26085,0,26085,5800,20285,5071,26085]
[29,"Lafourche",1,9120.6983914714074,9121,-9121,4560,-4561,4560,0,4560,6080,-1520,-380,4560]
[30,"LaSalle",0,10210.333246160233,0,0,0,0,0,0,0,0,0,0,0]
[31,"Lincoln",0,9658.6717707662592,0,0,0,0,0,0,0,0,0,0,0]
[32,"Livingston",4,9676.8946776611701,38708,0,4838,4838,43546,0,43546,25808,17738,4435,43546]
[33,"Madison",0,10812.214356435645,0,0,0,0,0,0,0,0,0,0,0]
[34,"Morehouse",0,10616.887090680102,0,0,0,0,0,0,0,0,0,0,0]
[35,"Natchitoches",0,9540.631609034579,0,0,0,0,0,0,0,0,0,0,0]
[36,"Orleans",6,9198.1015885451852,55189,-18396,4599,-13797,41392,0,41392,36792,4600,1150,41392]
[37,"Ouachita",0,9544.4360698344535,0,0,0,0,0,0,0,0,0,0,0]
[38,"Plaquemines",0,9567.3298887652945,0,0,4784,4784,4784,0,4784,0,4784,1196,4784]
[39,"Pointe Coupee",0,10117.650215857204,0,10118,0,10118,10118,0,10118,0,10118,2530,10118]
[40,"Rapides",0,9717.8650240163024,0,0,0,0,0,0,0,0,0,0,0]
[41,"Red River",0,9798.1103378378375,0,0,0,0,0,0,0,0,0,0,0]
[42,"Richland",0,10081.560200148258,0,0,0,0,0,0,0,0,0,0,0]
[43,"Sabine",0,9899.7617678812421,0,0,0,0,0,0,0,0,0,0,0]
[44,"St. Bernard",0,9374.6650665956313,0,0,0,0,0,0,0,0,0,0,0]
[45,"St. Charles",0,8645.6877684396768,0,8646,-4323,4323,4323,0,4323,0,4323,1081,4323]
[46,"St. Helena",0,11732.398060263655,0,0,0,0,0,0,0,0,0,0,0]
[47,"St. James",3,9693.264866562009,29080,-19387,0,-19387,9693,0,9693,19384,-9691,-2423,9693]
[48,"St. John the Baptist",1,9271.7157435897443,9272,27815,13908,41723,50995,0,50995,6184,44811,11203,50995]
[49,"St. Landry",4,9678.3017481096012,38713,38713,-19357,19356,58069,0,58069,25808,32261,8065,58069]
[50,"St. Martin",0,9362.0888590414252,0,9362,-4681,4681,4681,0,4681,0,4681,1170,4681]
[51,"St. Mary",0,9945.4422872340419,0,0,0,0,0,0,0,0,0,0,0]
[52,"St. Tammany",5,9409.6142599475297,47048,-28229,4705,-23524,23524,0,23524,31368,-7844,-1961,23524]
[53,"Tangipahoa",5,9635.0593185779944,48175,-28905,9635,-19270,28905,0,28905,32120,-3215,-804,28905]
[54,"Tensas",0,11526.857678100263,0,0,0,0,0,0,0,0,0,0,0]
[55,"Terrebonne",0,9222.6189723696752,0,27668,0,27668,27668,0,27668,0,27668,6917,27668]
[56,"Union",0,10201.477698803659,0,0,0,0,0,0,0,0,0,0,0]
[57,"Vermilion",1,9560.73832696715,9561,-9561,0,-9561,0,0,0,6376,-6376,-1594,0]
[58,"Vernon",0,9573.7782950819674,0,0,0,0,0,0,0,0,0,0,0]
[59,"Washington",1,10052.554033722439,10053,0,0,0,10053,0,10053,6704,3349,837,10053]
[60,"Webster",0,10103.295505397447,0,0,0,0,0,0,0,0,0,0,0]
[61,"West Baton Rouge",5,9358.0649548645943,46790,9358,-4679,4679,51469,0,51469,31192,20277,5069,51469]
[62,"West Carroll",0,10807.133580998781,0,0,0,0,0,0,0,0,0,0,0]
[63,"West Feliciana",0,9894.3565261140393,0,0,0,0,0,0,0,0,0,0,0]
[64,"Winn",0,10881.04730748805,0,0,0,0,0,0,0,0,0,0,0]
[65,"City of Monroe",0,9894.5822131147543,0,0,0,0,0,0,0,0,0,0,0]
[66,"City of Bogalusa",0,11236.097866018368,0,0,0,0,0,0,0,0,0,0,0]
[67,"Zachary Community",1,9627.9857685352617,9628,-9628,14442,4814,14442,0,14442,6416,8026,2007,14442]
[68,"City of Baker",4,10367.684412532637,41471,51838,0,51838,93309,0,93309,27648,65661,16415,93309]
[69,"Central Community",2,10037.375911431514,20075,30112,5019,35131,55206,0,55206,13384,41822,10456,55206]
["State Subtotal",null,165,null,1512013,122756,10881,133637,1645650,-18025,1627625,1008024,619601,154901,1627625]
["Level 4 Allocations"]
["Int'l Assoc/Escadrille Salaries",null,null,null,null,null,null,null,null,null,0,0,0,0,0]
["Int'l Assoc/Escadrille Stipends",null,null,null,null,null,null,null,null,null,null,0,null,null,0]
["Career Development Fund",null,null,null,null,null,null,null,null,null,null,0,null,null,10000]
["High Cost Services Allocation",null,null,null,null,null,null,null,null,null,null,0,null,null,0]
["Supplemental Course Allocation",null,null,null,null,null,null,null,null,null,11550,7703,3847,962,11550]
["Mentor Teacher Stipend Allocation",null,null,null,null,null,null,null,null,null,null,0,null,null,0]
["FY2019-20 Pay Raise",null,null,null,null,null,null,null,null,null,72523,61431,11092,2773,72523]
["FY2021-22 Pay Raise",null,null,null,null,null,null,null,null,null,58019,49144,8875,2219,58019]
["FY2022-23 Pay Raise",null,null,null,null,null,null,null,null,null,108785,92144,16641,4160,108785]
["State Grand Total With Level 4",null,165,null,1512013,122756,10881,133637,1645650,-18025,1878502,1218446,660056,165015,1888502]

{"sheet":"5A7_SSD","index":19,"n_rows":87,"n_cols":15,"rows_kept":87,"cut":false,"hidden":false,"merged":[[86,0,86,1],[87,0,87,1],[3,0,3,1],[5,0,5,1],[0,8,0,14],[1,5,1,7],[75,0,75,1],[84,0,84,1],[85,0,85,1],[77,0,77,1],[78,0,78,1],[79,0,79,1],[80,0,80,1],[81,0,81,1],[83,0,83,1],[76,0,76,1],[0,0,2,1],[0,2,0,7]]}
["Table 5A7\nSpecial School District \n\n\n(Site Code 101001)\n(Added in 22-23)",null,"MFP State Cost Allocation",null,null,null,null,null,"MFP State Cost Allocation"]
[null,null,null,null,null,"Mid-Year Adjustment for Students"]
[null,null,"Feb. 1\nMFP Funded\nMembership\n","State Cost &\nLocal Cost\nAllocation\nPer Pupil\n\n(Levels 1, 2,\n& 3 without\nContinuation\nof Prior Year\nPay Raises)","State Cost &\nLocal Cost\nAllocation\n\n(Levels 1, 2,\n& 3 without\nContinuation\nof Prior Year\nPay Raises)","October\n\nMid-Year\nAdjustment\nfor Students","February\n\nMid-Year\nAdjustment\nfor Students","Total\nMid-Year\nAdjustment\nfor Students","Total MFP\nState Cost &\nLocal Cost\nAllocation\n+/- Mid-Year\nAdjustments","Prior Years\nMFP Audit\nAdjustments\n\n","Total MFP\nState Cost &\nLocal Cost\nAllocation\n+/- Mid-Year Adjs\n+/- Audit Adjs\n+ Monthly Level 4","Year To\nDate\nState\nPayments","Balance\nDue","Monthly\nPayment","Total MFP\nState Cost &\nLocal Cost\nAllocation\n+/- Mid-Year Adjs\n+/- Audit Adjs\n+ Total Level 4"]
["FY2023-24",null,1,2,3,4,5,6,7,8,9,10,11,12,13]
["March 2024",null,null,"Link in File","Formula","Link to Mid-Year File","Link to Mid-Year File","Formula","Formula","Link to Audit File","T4, C2; T4, C14","Link to Prior Month,","Formula","Formula","T4, C7; T4, C9; T4, C10"]
["March 2024",null,"T8, C46","T9, C17","C1 x C2","Link to October Tab in Mid-Year File","Link to February Tab in Mid-Year File","C4 + C5 ","C3 + C6","Link to Audit File","C7 + C8;\n(T4, C2; C14; C26; C38)","Prior Month File: (T5A4, C10 + C12)","C9 - C10","C11 ÷ Remaining Months","C9; (T4, C2; C7; C9;\nC10; C14; C26; C38)"]
[1,"Acadia",7,9436.6069718704457,66056,18873,0,18873,84929,null,84929,44040,40889,10222,84929]
[2,"Allen",1,10400.879789750328,10401,0,5200,5200,15601,null,15601,6936,8665,2166,15601]
[3,"Ascension",19,8647.8907243673966,164310,8648,0,8648,172958,null,172958,109543,63415,15854,172958]
[4,"Assumption",0,10416.786564885497,0,10417,0,10417,10417,null,10417,0,10417,2604,10417]
[5,"Avoyelles",5,9734.7906451612907,48674,0,0,0,48674,null,48674,32448,16226,4057,48674]
[6,"Beauregard",1,9728.5974813737957,9729,-9729,0,-9729,0,null,0,6488,-6488,-1622,0]
[7,"Bienville",1,10027.964261057174,10028,0,0,0,10028,null,10028,6688,3340,835,10028]
[8,"Bossier",0,9521.1805320587973,0,9521,0,9521,9521,null,9521,0,9521,2380,9521]
[9,"Caddo",6,9294.8884957195278,55769,-18590,9295,-9295,46474,null,46474,37182,9292,2323,46474]
[10,"Calcasieu",5,8955.2164447167743,44776,17910,0,17910,62686,null,62686,29848,32838,8210,62686]
[11,"Caldwell",0,11566.295137362638,0,0,0,0,0,null,0,0,0,0,0]
[12,"Cameron",0,9608.1985578747626,0,0,0,0,0,null,0,0,0,0,0]
[13,"Catahoula",0,10839.42625,0,0,0,0,0,null,0,0,0,0,0]
[14,"Claiborne",1,11835.074328358209,11835,-11835,0,-11835,0,null,0,7888,-7888,-1972,0]
[15,"Concordia",1,10252.386478342751,10252,0,5126,5126,15378,null,15378,6832,8546,2137,15378]
[16,"DeSoto",0,8638.9130953885033,0,0,0,0,0,null,0,0,0,0,0]
[17,"East Baton Rouge",54,8964.2236336196875,484068,26893,-8964,17929,501997,null,501997,322712,179285,44821,501997]
[18,"East Carroll",1,11118.494867724869,11118,0,0,0,11118,null,11118,7415,3703,926,11118]
[19,"East Feliciana",1,10274.595783650891,10275,0,0,0,10275,null,10275,6848,3427,857,10275]
[20,"Evangeline",2,10315.180290861324,20630,0,5158,5158,25788,null,25788,13752,12036,3009,25788]
[21,"Franklin",0,10911.187982355197,0,0,0,0,0,null,0,0,0,0,0]
[22,"Grant",2,10793.737959791511,21587,0,5397,5397,26984,null,26984,14392,12592,3148,26984]
[23,"Iberia",1,9708.5891119342305,9709,0,0,0,9709,null,9709,6472,3237,809,9709]
[24,"Iberville",3,9304.0743812061028,27912,-9304,0,-9304,18608,null,18608,18608,0,0,18608]
[25,"Jackson",0,10223.688982725529,0,0,0,0,0,null,0,0,0,0,0]
[26,"Jefferson",10,9363.0294957427468,93630,37452,0,37452,131082,null,131082,62423,68659,17165,131082]
[27,"Jefferson Davis",3,10262.288648018646,30787,20525,-5131,15394,46181,null,46181,20528,25653,6413,46181]
[28,"Lafayette",12,8695.1154433708598,104341,-8695,-4348,-13043,91298,null,91298,69560,21738,5435,91298]
[29,"Lafourche",2,9120.6983914714074,18241,0,0,0,18241,null,18241,12160,6081,1520,18241]
[30,"LaSalle",0,10210.333246160233,0,0,0,0,0,null,0,0,0,0,0]
[31,"Lincoln",3,9658.6717707662592,28976,-19317,4829,-14488,14488,null,14488,19320,-4832,-1208,14488]
[32,"Livingston",13,9676.8946776611701,125800,0,0,0,125800,null,125800,83864,41936,10484,125800]
[33,"Madison",0,10812.214356435645,0,0,0,0,0,null,0,0,0,0,0]
[34,"Morehouse",0,10616.887090680102,0,0,0,0,0,null,0,0,0,0,0]
[35,"Natchitoches",3,9540.631609034579,28622,-19081,0,-19081,9541,null,9541,19080,-9539,-2385,9541]
[36,"Orleans",6,9198.1015885451852,55189,-18396,4599,-13797,41392,null,41392,36792,4600,1150,41392]
[37,"Ouachita",4,9544.4360698344535,38178,-9544,0,-9544,28634,null,28634,25455,3179,795,28634]
[38,"Plaquemines",0,9567.3298887652945,0,0,0,0,0,null,0,0,0,0,0]
[39,"Pointe Coupee",2,10117.650215857204,20235,0,5059,5059,25294,null,25294,13488,11806,2952,25294]
[40,"Rapides",53,9717.8650240163024,515047,-97179,-4859,-102038,413009,null,413009,343368,69641,17410,413009]
[41,"Red River",0,9798.1103378378375,0,0,0,0,0,null,0,0,0,0,0]
[42,"Richland",0,10081.560200148258,0,0,5041,5041,5041,null,5041,0,5041,1260,5041]
[43,"Sabine",1,9899.7617678812421,9900,0,0,0,9900,null,9900,6600,3300,825,9900]
[44,"St. Bernard",0,9374.6650665956313,0,0,4687,4687,4687,null,4687,0,4687,1172,4687]
[45,"St. Charles",0,8645.6877684396768,0,0,0,0,0,null,0,0,0,0,0]
[46,"St. Helena",0,11732.398060263655,0,0,0,0,0,null,0,0,0,0,0]
[47,"St. James",0,9693.264866562009,0,0,0,0,0,null,0,0,0,0,0]
[48,"St. John the Baptist",1,9271.7157435897443,9272,0,-4636,-4636,4636,null,4636,6184,-1548,-387,4636]
[49,"St. Landry",3,9678.3017481096012,29035,-19357,0,-19357,9678,null,9678,19360,-9682,-2421,9678]
[50,"St. Martin",0,9362.0888590414252,0,0,0,0,0,null,0,0,0,0,0]
[51,"St. Mary",2,9945.4422872340419,19891,-9945,0,-9945,9946,null,9946,13264,-3318,-830,9946]
[52,"St. Tammany",3,9409.6142599475297,28229,0,9410,9410,37639,null,37639,18822,18817,4704,37639]
[53,"Tangipahoa",5,9635.0593185779944,48175,9635,-4818,4817,52992,null,52992,32120,20872,5218,52992]
[54,"Tensas",1,11526.857678100263,11527,0,0,0,11527,null,11527,7688,3839,960,11527]
[55,"Terrebonne",9,9222.6189723696752,83004,-18445,4611,-13834,69170,null,69170,55336,13834,3459,69170]
[56,"Union",2,10201.477698803659,20403,0,0,0,20403,null,20403,13600,6803,1701,20403]
[57,"Vermilion",1,9560.73832696715,9561,0,4780,4780,14341,null,14341,6376,7965,1991,14341]
[58,"Vernon",0,9573.7782950819674,0,9574,0,9574,9574,null,9574,0,9574,2394,9574]
[59,"Washington",2,10052.554033722439,20105,10053,10053,20106,40211,null,40211,13406,26805,6701,40211]
[60,"Webster",0,10103.295505397447,0,0,0,0,0,null,0,0,0,0,0]
[61,"West Baton Rouge",6,9358.0649548645943,56148,0,0,0,56148,null,56148,37432,18716,4679,56148]
[62,"West Carroll",0,10807.133580998781,0,0,0,0,0,null,0,0,0,0,0]
[63,"West Feliciana",1,9894.3565261140393,9894,0,0,0,9894,null,9894,6599,3295,824,9894]
[64,"Winn",1,10881.04730748805,10881,0,0,0,10881,null,10881,7256,3625,906,10881]
[65,"City of Monroe",2,9894.5822131147543,19789,0,-4947,-4947,14842,null,14842,13192,1650,413,14842]
[66,"City of Bogalusa",1,11236.097866018368,11236,0,-5618,-5618,5618,null,5618,7488,-1870,-468,5618]
[67,"Zachary Community",2,9627.9857685352617,19256,0,4814,4814,24070,null,24070,12840,11230,2808,24070]
[68,"City of Baker",0,10367.684412532637,0,0,0,0,0,null,0,0,0,0,0]
[69,"Central Community",0,10037.375911431514,0,0,0,0,0,null,0,0,0,0,0]
["State Subtotal",null,265,null,2492481,-89916,44738,-45178,2447303,0,2447303,1661693,785610,196404,2447303]
["Level 4 Allocations"]
["Int'l Assoc/Escadrille Salaries",null,null,null,null,null,null,null,null,null,0,0,0,0,0]
["Int'l Assoc/Escadrille Stipends",null,null,null,null,null,null,null,null,null,null,0,null,null,0]
["Career Development Fund",null,null,null,null,null,null,null,null,null,null,0,null,null,13978]
["High Cost Services Allocation",null,null,null,null,null,null,null,null,null,null,0,null,null,0]
["Supplemental Course Allocation",null,null,null,null,null,null,null,null,null,15120,10080,5040,1260,15120]
["Mentor Teacher Stipend Allocation",null,null,null,null,null,null,null,null,null,null,0,null,null,0]
["FY2019-20 Pay Raise",null,null,null,null,null,null,null,null,null,163727,106407,57320,14330,163727]
["FY2021-22 Pay Raise",null,null,null,null,null,null,null,null,null,130982,85126,45856,11464,130982]
["FY2022-23 Pay Raise",null,null,null,null,null,null,null,null,null,245592,159608,85984,21496,245592]
["State Grand Total With Level 4",null,265,null,2492481,-89916,44738,-45178,2447303,0,3002724,2022914,979810,244954,3016702]

{"sheet":"5B2_RSD LA","index":20,"n_rows":79,"n_cols":52,"rows_kept":79,"cut":false,"hidden":false,"merged":[[3,0,3,2],[5,0,5,2],[0,51,2,51],[1,9,1,11],[1,19,1,23],[1,28,1,31],[1,35,1,39],[0,0,2,2],[0,3,0,17],[0,18,0,32],[0,33,0,43],[0,44,0,49],[0,50,2,50]]}
["Table 5B2\nRSD Operated\n& Type 5\nCharter Schools\n\n\n(In Caddo Parish &\nEast Baton Rouge Parish)",null,null,"MFP State Cost Allocation",null,null,null,null,null,null,null,null,null,null,null,null,null,null,"MFP State Cost Allocation",null,null,null,null,null,null,null,null,null,null,null,null,null,null,"Local Revenue Representation",null,null,null,null,null,null,null,null,null,null,"Local Revenue Representation",null,null,null,null,null,"Total\nState Cost\nAllocation\nand\nLocal\nRevenue\nRepresentation\n\n","Total\nState Cost\nAllocation\nand\nLocal\nRevenue\nRepresentation\nMonthly \nPayment\n"]
[null,null,null,null,null,null,null,null,null,"Mid-Year Adjustment for Students",null,null,null,null,null,null,null,null,null,"Level 4 Funds Paid Monthly",null,null,null,null,null,null,null,null,"Level 4 Funds Paid Annually",null,null,null,null,null,null,"Mid-Year Adjustment for Students"]
[null,null,null,"Feb. 1\nMFP Funded\nMember-\nship\n\n","State Cost\nAllocation\nPer Pupil\n\n(Levels 1,\n2, & 3 without\nContinuation\nof Prior Year\nPay Raises)","State Cost\nAllocation\n\n(Levels 1,\n2, & 3 without\nContinuation\nof Prior Year\nPay Raises)","Continuation\nof Prior Year\nPay Raises\nPer Pupil","Continuation\nof Prior Year\nPay Raises","Total MFP\nState Cost\nAllocation\n\n(Levels 1, 2,\n& 3 with\nContinuation\nof Prior Year\nPay Raises)","October\n\nMid-Year\nAdjustment\nfor Students","February\n\nMid-Year\nAdjustment\nfor Students","Total\nMid-Year\nAdjustment\nfor Students","Total MFP\nState Cost\nAllocation\n+/- Mid-Year\nAdjustments","State\nAdmin\nFee\nto RSD\n\n1.75%","State Admin\nFee to the\nDept. of\nEducation\n\n.25%","Total State\nAdmin Fee","Total MFP\nState Cost\nAllocation\n+/- Mid-Year\nAdjustments\n- Admin Fee","Prior Years\nMFP Audit\nAdjustments\n\n","Total MFP\nState Cost\nAllocation\n+/- Mid-Year\nAdjustments\n- Admin Fee\n+/- Audit\nAdjustments","Salaries for\nInternational\nAssociate/\nEscadrille\nTeachers","Supplemental\nCourse\nAllocation\n\n","FY2019-20\nCertificated\nand Non-\nCertificated\nPay Raise","FY2021-22\nCertificated\nand Non-\nCertificated\nPay Raise","FY2022-23\nCertificated\nand Non-\nCertificated\nPay Raise","Total MFP\nState Cost\nAllocation\n+/- Mid-Year\nAdjustments\n- Admin Fee\n+/- Audit Adj.\n+ Monthly\nLevel 4","Year To\nDate\nState\nPayments","Balance\nDue","State Cost\nAllocation\nMonthly\nPayment","Stipends for\nInternational\nAssociate/\nEscadrille\nTeachers","Career\nDevelopment\nFund\nAllocation\n\n","High Cost\nServices\nAllocation","Mentor Teacher Stipend Allocation","Total MFP\nState Cost\nAllocation\n+/- Mid-Year\nAdjustments\n- Admin Fee\n+/- Audit Adj.\n+Total Level 4","\nLocal Revenue\nRepresentation\nPer Pupil\n(per charter law)\n\nIn a District\nBuilding","Total\nLocal Revenue\nRepresentation","Change in\nFunded\nStudent\nCount Per\n\nMid-Year\nAdjustment","October\n\nMid-Year\nAdjustment","Change in\nFunded\nStudent\nCount Per\nFeb. \nMid-Year\nAdjustment","February\n\nMid-Year\nAdjustment\n\n(Half the\nPer Pupil)","Total\nMid-Year\nAdjustment\nfor Students","Total\nLocal Revenue\nRepresentation\n+/- Mid-Year Adjustments","Admin\nFee to\nRSD\n\n1.75%","Admin\nFee to the\nDept. of\nEducation\n\n.25%","Total\nAdmin\nFee","Total\nLocal Revenue\nRepresentation\n+/- Mid-Year Adjustments\n- Admin Fee","Prior Years\nMFP Audit\nAdjustments\n\n","Total\nLocal Revenue\nRepresentation\n+/- Mid-Year\nAdjustments\n- Admin Fee\n +/- Audit Adjs","Year To\nDate\nPayments","Balance\nDue","Local Revenue\nRepresentation\nMonthly\nPayment"]
["FY2023-24",null,null,1,2,3,4,5,6,7,8,9,10,11,12,13,14,15,16,17,18,19,20,null,21,22,23,24,25,26,27,null,28,29,30,31,32,33,34,35,36,37,38,39,40,41,42,43,44,45,46,47]
[0,null,null,"Link in File","Link in File","Formula","Values","Formula","Formula","Link to Mid-Year File","Link to Mid-Year File","Formula","Formula","Formula","Formula","Formula","Formula","Link to Audit File","Formula","Link in File","Link in File",null,null,null,"Formula","Link to Prior Month,","Formula","Formula","Link in File","Link in File","Link in File",null,"Formula","Link in File","Formula","Link to Mid-Year File","Formula","Link to Mid-Year File","Formula","Formula","Formula","Formula","Formula","Formula","Formula","Link to Audit File","Formula","Link to Prior Month,","Formula","Formula","Formula","Formula"]
["March 2024",null,null,"T8A, C3","T9, C15","C1 x C2","Historical Data","C1 x C4","C3 + C5","Link to October Tab in Mid-Year File","Link to February Tab in Mid-Year File","C7 + C8","C6 + C9","C10 x -1.75%","C10 x -.25%","C11 + C12","C10 + C13","Link to Audit File","C14 + C15","T4, C2","T4, C14","T4, C26","T4, C38","T4, C50","Sum (C16:C20a)","Prior Month File:\n(T5B2, C22 + C24","C21 - C22","C23 ÷ Months Remaining","T4, C7","T4, C9","T4, C10","T4, C52","C21 + C25 + C26 + C27 + C27a","T9, C11","C1 x C29","Link to October Tab in Mid-Year File","C29 x C31","Link to February Tab in Mid-Year File","C29 x C33 x .5","C32 + C34","C30 + C35","C36 x -1.75%","C36 x -.25%","C37 + C38","C36 + C39","Link to Audit File","C40 + C41","Prior Month File:\n(T5B2, C43 + C45)","C42 - C43","C44 ÷ Months Remaining","C21 + C42","C24 + C45"]
[396211,"WX1001","Linwood Public Charter School\nCaddo Parish",951,4683.228495719527,4453750.2994292704,744.76,708266.76,5162017,385404,-84134,301270,5463287,null,null,0,5463287,4017,5467304,0,15750,146006,116804,219009,5964873,3779512,2185361,546340,0,0,0,0,5964873,6563,6241413,71,465973,-31,-101727,364246,6605659,null,null,0,6605659,0,6605659,4029704,2575955,643989,12570532,1190329]
["WZV001",null,"Prescott Academy***\nEast Baton Rouge Parish",0,3386.0536336196888,0,801.48,0,0,1356912,-50250,1306662,1306662,null,null,0,1306662,null,1306662,0,0,38766,31013,58148,1434589,1239512,195077,48769,0,0,0,0,1434589,8289,0,324,2685636,-24,-99468,2586168,2586168,null,null,0,2586168,null,2586168,2479592,106576,26644,4020757,75413]
[null,null,"Total RSD Operated",951,null,4453750.2994292704,null,708266.76,5162017,1742316,-134384,1607932,6769949,0,0,0,6769949,4017,6773966,0,15750,184772,147817,277157,7399462,5019024,2380438,595109,0,0,0,0,7399462,null,6241413,395,3151609,-55,-201195,2950414,9191827,0,0,0,9191827,0,9191827,6509296,2682531,670633,16591289,1265742]
[]
["WAO001","3AP003","Redesign Dalton Charter School",172,3386.0536336196888,582401.22498258646,801.48,137854.56,720256,-87938,20938,-67000,653256,-11432,-1633,-13065,640191,0,640191,0,0,31768,25415,47652,745026,543190,201836,50459,0,0,0,0,745026,8289,1425708,-21,-174069,10,41445,-132624,1293084,-22629,-3233,-25862,1267222,0,1267222,941352,325870,81468,2012248,131927]
["WAP001","3AP001","Redesign Lanier Charter School",170,3386.0536336196888,575629.11771534709,801.48,136251.6,711881,-37688,0,-37688,674193,-11798,-1685,-13483,660710,-1506,659204,0,0,51056,40845,76584,827689,555503,272186,68047,0,0,0,0,827689,8289,1409130,-9,-74601,0,0,-74601,1334529,-23354,-3336,-26690,1307839,0,1307839,930408,377431,94358,2135528,162405]
["WYA001","3AP004","Redesign Glen Oaks",76,3386.0536336196888,257340.07615509635,801.48,60912.480000000003,318253,-46063,-6281,-52344,265909,-4653,-665,-5318,260591,-6480,254111,0,4130,21167,16934,31751,328093,258648,69445,17361,0,0,0,0,328093,8289,629964,-11,-91179,-3,-12434,-103613,526351,-9211,-1316,-10527,515824,0,515824,415944,99880,24970,843917,42331]
[null,null,"Total Type 5 Charter Schools\nEast Baton Rouge Parish",418,null,1415370.4188530298,null,335018.64,1750390,-171689,14657,-157032,1593358,-27883,-3983,-31866,1561492,-7986,1553506,0,4130,103991,83194,155987,1900808,1357341,543467,135867,0,0,0,0,1900808,null,3464802,-41,-339849,7,29011,-310838,3153964,-55194,-7885,-63079,3090885,0,3090885,2287704,803181,200796,4991693,336663]
[]
[null,null,"Total RSD Operated & Type 5 Charter Schools\nEast Baton Rouge Parish",418,null,1415370.4188530298,null,335018.64,1750390,1185223,-35593,1149630,2900020,-27883,-3983,-31866,2868154,-7986,2860168,0,4130,142757,114207,214135,3335397,2596853,738544,184636,0,0,0,0,3335397,null,3464802,283,2345787,-17,-70457,2275330,5740132,-55194,-7885,-63079,5677053,0,5677053,4767296,909757,227440,9012450,412076]
[]
[null,null,"Total RSD Operated & Type 5 Charter Schools",1369,null,5869120.7182823,null,1043285.4,6912407,1570627,-119727,1450900,8363307,-27883,-3983,-31866,8331441,-3969,8327472,0,19880,288763,231011,433144,9300270,6376365,2923905,730976,0,0,0,0,9300270,null,9706215,354,2811760,-48,-172184,2639576,12345791,-55194,-7885,-63079,12282712,0,12282712,8797000,3485712,871429,21582982,1602405]
[]
[]
[]
[]
[]
[]
[]
[]
[]
[]
[]
[]
[]
[]
[]
[]
[]
[]
[]
[]
[]
[]
[]
[]
[]
[]
[]
[]
[]
[]
[]
[]
[]
[]
[]
[]
[]
[]
[]
[]
[]
[]
[]
[]
[]
[]
[]
[]
[]
[]
[]
[]
[]
[]
[]
[]
[]
["closed schools (closed in 2022-23)"]
["WA7001","WA7001","Capitol High School"]
["WAV001","WAV001","Democracy Prep Baton Rouge"]
["WB2001",389002,"Kenilworth Science and Technology Charter School (transitioned to New T2)"]

{"sheet":"5C1_NewType 2","index":21,"n_rows":44,"n_cols":50,"rows_kept":44,"cut":false,"hidden":false,"merged":[[0,33,0,47],[0,19,0,32],[1,47,2,47],[1,41,2,41],[1,46,2,46],[1,44,2,44],[1,45,2,45],[1,24,2,24],[1,25,2,25],[1,22,2,22],[1,23,2,23],[0,48,2,48],[0,49,2,49],[1,33,2,33],[1,32,2,32],[3,0,3,2],[1,26,2,26],[1,27,2,27],[1,40,2,40],[1,34,2,34],[1,35,1,39],[1,28,2,28],[1,31,2,31],[1,43,2,43],[1,29,2,29],[1,30,2,30],[1,42,2,42],[5,0,5,2],[0,0,2,2],[1,19,1,21],[43,0,43,2],[1,12,1,14],[0,3,0,18],[1,15,1,17],[1,18,2,18],[1,3,2,3],[1,4,1,5],[1,6,1,8],[1,9,1,11]]}
["Table 5C1\nNew Type 2\nCharter Schools\n",null,null,"MFP State Cost Allocation",null,null,null,null,null,null,null,null,null,null,null,null,null,null,null,"MFP State Cost Allocation",null,null,null,null,null,null,null,null,null,null,null,null,null,"Local Revenue Representation",null,null,null,null,null,null,null,null,null,null,null,null,null,null,"Total\nState Cost\nAllocation\nand Local\nRevenue\nRepresentation","State Cost\nAllocation\nand Local\nRevenue\nRepresentation\nMonthly\nPayment"]
[null,null,null,"Feb. 1\nMFP Funded\nMembership\n","Unweighted",null,"Economically Disadvantaged (ED)",null,null,"Career & Technical Units (CTE)",null,null,"Students with Disabilities (SWD)",null,null,"Gifted & Talented (GT)",null,null,"Total MFP\nState Cost\nAllocation\n\n(Levels 1,\n2, & 3)","Mid-Year Adjustment for Students",null,null,"Total MFP\nState Cost\nAllocation\n+/- Mid-Year\nAdjustments","State Admin\nFee to the\nDept. of\nEducation\n\n0.25%","Total MFP\nState Cost\nAllocation\n+/- Mid-Year\nAdjustments\n- Admin Fee","Prior Years\nMFP Audit\nAdjustments\n\n","Level 4\nMonthly\nFunds","Total MFP State\nCost Allocation\n+/- Mid-Year Adjs\n- Admin Fee\n+/- Audit Adjs\n+ Monthly Level 4","Year To\nDate State\nPayments","Balance\nDue","State\nCost\nAllocation\nMonthly\nPayment\n","Level 4\nAnnual\nAllocation","Total MFP State\nCost Allocation\n+/- Mid-Year Adjs\n- Admin Fee\n+/- Audit Adjs\n+ Total Level 4","\nLocal Revenue\nRepresentation\nPer Pupil\n\n(per charter law)","Local\nRevenue\nRepresentation","Mid-Year Adjustment for Students",null,null,null,null,"Total Local\nRevenue\nRepresentation\n+/- Mid-Year\nAdjustments","Admin Fee\nto the\nDept. of\nEducation\n\n0.25%","Total Local\nRevenue\nRepresentation\n+/- Mid-Year\nAdjustments\n- Admin Fee","Prior Years\nMFP Audit\nAdjustments\n\n","Total Local\nRevenue\nRepresentation\n+/- Mid-Year\nAdjustments\n- Admin Fee\n+/- Audit Adj.","Year To\nDate\nPayments","Balance\nDue","Local\nRevenue\nRepresentation\nMonthly\nPayment\n"]
[null,null,null,null,"Per\nPupil","Unweighted\nState Cost\nAllocation\nWith\nContinuation\nof Prior Year\nPay Raises","Student Count\n\n","Per\nPupil","State Cost\nAllocation","Student Count\n\n","Per\nPupil","State Cost\nAllocation","Student Count\n\n","Per Pupil","State Cost\nAllocation","Student Count\n\n","Per\nPupil","State Cost\nAllocation",null,"October\n\nMid-Year\nAdjustment\nfor Students","February\n\nMid-Year\nAdjustment\nfor Students","Total\nMid-Year\nAdjustment\nfor Students",null,null,null,null,null,null,null,null,null,null,null,null,null,"Change in\nFunded\nStudent\nCount Per\n\nMid-Year\nAdjustment","October\n\nMid-Year\nAdjustment","Change in\nFunded\nStudent\nCount Per\n\nMid-Year\nAdjustment","February\n\nMid-Year\nAdjustment\n\n(Half the\nPer Pupil)","Total\nMid-Year\nAdjustment\nfor Students"]
["FY2023-24",null,null,1,2,3,4,5,6,7,8,9,10,11,12,13,14,15,16,17,18,19,20,21,22,23,"(24a)",24,25,26,27,"(28a)",28,29,30,31,32,33,34,35,36,37,38,39,40,41,42,43,44,45]
[0,null,null,"Link in File",null,"Link in File","Link in File",null,"Link in File","Link in File",null,"Link in File","Link in File",null,"Link in File","Link in File",null,"Link in File","Link in File","Link in File","Link in File","Link in File","Link in File","Link in File","Link in File","Link in File","Link in File","Link in File","Link in File","Link in File","Link in File","Link in File","Link in File",null,"Link in File","Link in File","Link in File","Link in File","Link in File","Link in File","Link in File","Link in File","Link in File","Link in File","Link in File","Link in File","Link in File","Link in File","Formula","Formula"]
["March 2024",null,null,"T8","N/A","T5C1, C3","T5C1, C4","N/A","T5C1, C6","T5C1, C7","N/A","T5C1, C9","T5C1, C10","N/A","T5C1, C12","T5C1, C13","N/A","T5C1, C15","C3 + C6 + C9\n+ C12 + C15","Link to October Tab in Mid-Year File","Link to February Tab in Mid-Year File","C17 + C18","C16 + C19","C20 x -.25%","C20 + C21","Link to Audit File","\n(T4, C2; C14; C26; C38; C50)","C22 + C23 + C24a","Prior Month File: (T5C1, C25 + C27)","C24 - C25","C26 ÷ Remaining Months","(T4, C7 + C9 + C10)","C24 + C28a","T9, C12","T5C1, C30","Link to October Tab in Mid-Year File","T5C1, C32","Link to February Tab in Mid-Year File","T5C1, C34","C32 + C34","C30 + C35","C36 x -.25%","C36 + C37","Link to Audit File","C38 + C39","Prior Month File:\n(T5C1, C41 + C43)","C40 - C41","C42 ÷ Remaining Months","C24 + C40","C27 + C43"]
[341001,2,"D'Arbonne Woods ",973,null,5023648.0745904921,573,null,393997.58023034089,395,null,73710.014626006261,100,null,465412.92235299275,38,null,71068.541216782571,6027836,100768,-27062,73706,6101542,-15253,6086289,0,418244,6504533,4278987,2225546,556387,41934,6546467,null,5643673,10,60075,-12,-35181,24894,5668567,-14172,5654395,0,5654395,3616360,2038035,509510,12158928,1065897]
[343001,1,"Madison Prep",569,null,2009261.7986929363,462,null,207280.38614329931,494,null,60340.072511997554,27,null,81089.091257907989,0,null,0,2357970,98192,-20397,77795,2435765,-6089,2429676,0,263283,2692959,1730205,962754,240690,53743,2746702,null,5279556,25,224155,-9,-40535,183620,5463176,-13658,5449518,0,5449518,3506256,1943262,485816,8142477,726506]
[344001,3,"Int'l High School of N. O. ",379,null,1420181.4695178024,300,null,150881.22758664822,33,null,4558.7873958358205,21,null,71715.608301749322,0,null,0,1647337,65531,31883,97414,1744751,-4362,1740389,-1987,223914,1962316,1234932,727384,181846,26269,1988585,null,2873973,18,131643,11,41726,173369,3047342,-7620,3039722,-2949,3036773,1715920,1320853,330214,4999089,512060]
[345001,33,"University View Academy (90%)",3608,null,14322296.181548132,2327,null,1225360.3696645873,2348,null,337588.76533734368,471,null,1884084.326604774,174,null,248942.99543302838,18018268,598457,-64126,534331,18552599,-46382,18506217,0,1354545,19860762,12833799,7026963,1756747,131345,19992107,null,22197301,108,343000,-23,19538,362538,22559839,-56402,22503437,0,22503437,14235270,8268167,2067049,42364199,3823796]
[346001,6,"Lake Charles Charter Academy ",931,null,3173269.8909718376,824,null,397317.47109684796,377,null,49585.350434777203,91,null,299245.80284738197,11,null,14488.733510395918,3933908,-247907,-41034,-288941,3644967,-9112,3635855,-4716,377699,4008838,2894048,1114790,278699,27233,4036071,null,8036947,-55,-489551,-20,-86245,-575796,7461151,-18652,7442499,0,7442499,5185664,2256835,564210,11451337,842909]
[347001,5,"Lycee Francois de la Nouvelle Orleans ",911,null,3408000.7532327129,489,null,242807.03985076208,30,null,4056.8957597441949,75,null,252859.43845966933,74,null,100608.71157834804,4008332,-132789,-39125,-171914,3836418,-9591,3826827,5073,1309971,5141871,3598717,1543154,385790,156074,5297945,null,7221493,-59,-455461,-14,-54630,-510091,6711402,-16778,6694624,0,6694624,4346535,2348089,587024,11836495,972814]
[348001,4,"New Orleans Military/Maritime Academy ",864,null,3257114.3830106184,698,null,334704.00273761217,1004,null,130991.15186183974,89,null,287295.62175613595,0,null,0,4010105,254139,-28535,225604,4235709,-10589,4225120,-4415,515444,4736149,2958569,1777580,444396,87483,4823632,null,6905705,39,318238,-10,-46179,272059,7177764,-17944,7159820,-6785,7153035,4302966,2850069,712518,11889184,1156914]
["3C5001",31,"St Landry Charter School",259,null,1261425.5213794159,228,null,150539.81958937165,0,null,0,13,null,58577.11476164811,0,null,0,1470543,300971,-44368,256603,1727146,-4318,1722828,-7151,151154,1866831,1239456,627375,156845,0,1866831,null,992862,47,218727,-15,-28658,190069,1182931,-2957,1179974,-5212,1174762,715922,458840,114710,3041593,271555]
["W18001",23,"Noble Minds Institute",140,null,521662.26931816421,121,null,60351.014245784099,0,null,0,40,null,136249.77466432902,1,null,1088.3279832462215,719351,-10482,21034,10552,729903,-1825,728078,0,77098,805176,522370,282806,70702,8582,813758,null,1177303,8,53823,11,41220,95043,1272346,-3182,1269164,0,1269164,700558,568606,142152,2074340,212854]
["W1A001",10,"JCFA - East",133,null,503470.47763891704,117,null,55633.77842944755,88,null,11489.810450985644,21,null,67915.964518890309,0,null,0,638509,66085,-30375,35710,674219,-1685,672534,-6623,138069,803980,508546,295434,73860,10122,814102,null,1041989,10,90090,-12,-52830,37260,1079249,-2697,1076552,-10177,1066375,658894,407481,101870,1870355,175730]
["W1B001",14,"Advantage Charter Academy",509,null,2233221.1352210264,487,null,273127.48050545307,1,null,117.69966655057637,42,null,161102.22263155942,0,null,0,2667568,405643,-55577,350066,3017634,-7545,3010089,0,242828,3252917,1922689,1330228,332558,0,3252917,null,3637807,90,816821,-19,-75844,740977,4378784,-10947,4367837,0,4367837,2356186,2011651,502915,7620754,835473]
["W1D001",24,"JCFA - Lafayette",58,null,231993.18631653924,52,null,28269.245958961299,28,null,4160.0193980737286,6,null,21367.910760924984,0,null,0,285790,5015,-8887,-3872,281918,-705,281213,-6487,43000,317726,221006,96720,24180,10000,327726,null,382836,2,21755,-2,-3362,18393,401229,-1003,400226,-9859,390367,249902,140465,35117,708093,59297]
["W2B001",20,"Willow Charter Academy",646,null,2534605.7126675616,642,null,341844.01544851629,95,null,13828.506688866069,70,null,258816.92619681548,0,null,0,3149095,-207126,-118246,-325372,2823723,-7059,2816664,-29254,241309,3028719,2270967,757752,189439,2000,3030719,null,4401851,-27,-173921,-48,-158330,-332251,4069600,-10173,4059427,-30140,4029287,2872606,1156681,289172,7058006,478611]
["W33001",22,"Lincoln Prep School",681,null,3010983.3268865589,598,null,355133.56197611685,185,null,30143.273896529168,132,null,532912.64145315858,4,null,6619.2066761472925,3935791,240838,-214951,25887,3961678,-9906,3951772,-46353,435942,4341361,2908980,1432381,358099,14219,4355580,null,5368447,36,278574,-79,-317076,-38502,5329945,-13324,5316621,-49686,5266935,3662925,1604010,401003,9608296,759102]
["W3B001",15,"Iberville Charter Academy",497,null,1713890.0394250443,310,null,113532.43424717963,115.5,null,10647.60312480981,47,null,136684.0846511891,0,null,0,1974753,-125673,22469,-103204,1871549,-4678,1866871,-7462,245589,2104998,1431334,673664,168417,7471,2112469,null,6686052,-23,312444,11,77094,389538,7075590,-17689,7057901,22110,7080011,3995148,3084863,771217,9185009,939634]
["W4A001",12,"Delta Charter School ",488,null,2531009.6791330022,346,null,236458.40074220841,273,null,51571.039592292022,56,null,259882.9690489824,5,null,9597.2974591746879,3088519,-8912,-18315,-27227,3061292,-7654,3053638,0,184272,3237910,2200447,1037463,259367,10000,3247910,null,2176393,-3,-17811,-8,-30754,-48565,2127828,-5319,2122509,0,2122509,1422391,700118,175030,5360419,434397]
["W4B001",16,"Lake Charles College Prep",559,null,1908182.2228484293,451,null,217813.96043961871,827.5,null,109187.95154744902,67,null,220623.89663557426,6,null,7902.9455511250462,2463711,136986,-34248,102738,2566449,-6416,2560033,0,230607,2790640,1801544,989096,247276,21967,2812607,null,4791084,39,319975,-14,-60046,259929,5051013,-12628,5038385,0,5038385,3090488,1947897,486974,7829025,734250]
["W5B001",17,"Northeast Claiborne Charter",202,null,1067985.9145998913,178,null,122859.23747813501,157,null,29539.87370752648,25,null,118003.60384997993,0,null,0,1338389,-56658,-17387,-74045,1264344,-3161,1261183,0,49076,1310259,921431,388828,97209,10000,1320259,null,1099986,-2,-16282,-2,-6351,-22633,1077353,-2694,1074659,0,1074659,703416,371243,92811,2384918,190020]
["W6B001",18,"Acadiana Renaissance",1820,null,7342367.8349437099,790,null,438001.01832618297,763,null,115659.98625616444,138,null,523479.54911030334,89,null,130241.12261114041,8549750,4739970,-92947,4647023,13196773,-32990,13163783,0,971510,14135293,8870679,5264614,1316154,91602,14226895,null,11996635,1065,6988881,-34,-81849,6907032,18903667,-47259,18856408,0,18856408,11856055,7000353,1750088,32991701,3066242]
["W7A001",9,"Louisiana Key Academy ",426,null,1591962.3577648413,308,null,145291.06462192175,0,null,0,289,null,963149.05821730581,0,null,0,2700402,-638,101203,100565,2800967,-7002,2793965,0,265183,3059148,1977032,1082116,270533,10000,3069148,null,3857378,2,-26123,14,59477,33354,3890732,-9728,3881004,0,3881004,2522421,1358583,339647,6940152,610180]
["W7B001",19,"Lafayette Renaissance",1330,null,5355974.4736428969,1135,null,617124.89907405991,268.5,null,40094.475790198405,87,null,324840.77979074453,33,null,50795.95406653922,6388830,1850952,-90514,1760438,8149268,-20374,8128894,0,588339,8717233,4592054,4125179,1031298,37114,8754347,null,8696302,394,2569311,-36,-100026,2469285,11165587,-27915,11137672,0,11137672,5659847,5477825,1369458,19854905,2400756]
["W8A001",13,"Impact Charter",422,null,1862420.6407718891,375,null,210329.79560194036,45,null,6675.6107172418378,14,null,54329.413982853177,0,null,0,2133756,92702,-41633,51069,2184825,-5462,2179363,0,276116,2455479,1563407,892072,223019,2892,2458371,null,2980081,12,141037,-14,-61761,79276,3059357,-7649,3051708,0,3051708,1922360,1129348,282337,5507187,505356]
["WAG001",32,"Louisiana Virtual Charter Academy (90%)",1915,null,7542637.6431097975,1592,null,834579.53001565335,1128,null,160601.46321835439,248,null,990697.4957869706,27,null,39615.949990300673,9568130,17827,-65296,-47469,9520661,-23802,9496859,2214,545221,10044294,6712617,3331677,832924,107968,10152262,null,11800141,5,73,-25,-56517,-56444,11743697,-29358,11714339,6486,11720825,7515226,4205599,1051409,21765119,1884333]
["WAK001",8,"Southwest LA Charter School ",696,null,2381236.3304641075,649,null,314363.00836803991,67,null,8824.9558654229677,70,null,231777.36919320948,1,null,1317.1575918541744,2937519,200121,-70518,129603,3067122,-7668,3059454,-16590,348870,3391734,2156607,1235127,308781,10194,3401928,null,5945151,38,316293,-20,-71851,244442,6189593,-15474,6174119,-38631,6135488,3835912,2299576,574895,9527222,883676]
["WAL001",7,"J. S. Clark Leadership Academy ",327,null,1594957.5509607703,320,null,211564.4824525647,319,null,57516.611579317025,21,null,94624.569999585408,3,null,5407.1182856905943,1964071,443276,-76137,367139,2331210,-5827,2325383,0,184979,2510362,1763438,746924,186732,27715,2538077,null,1252488,80,318921,-26,-52896,266025,1518513,-3797,1514716,0,1514716,969258,545458,136365,4025078,323097]
["WAU001",21,"GEO Prep Academy",749,null,2637123.1506304336,652,null,291156.17799645715,294,null,35725.738616690709,67,null,205051.89577149739,2,null,3010.7198655190996,3172068,186018,-22057,163961,3336029,-8341,3327688,0,406171,3733859,2389154,1344705,336178,17352,3751211,null,6916331,28,318754,-10,-41653,277101,7193432,-17984,7175448,0,7175448,4606368,2569080,642271,10909307,978449]
["WBQ001",26,"New Harmony High School",278,null,1037733.119790176,185,null,92811.370083889415,266.5,null,36407.256118914345,30,null,102422.30025225198,0,null,0,1269374,146258,60181,206439,1475813,-3689,1472124,-6238,186490,1652376,953895,698481,174622,38078,1690454,null,2322250,34,278467,21,87264,365731,2687981,-6721,2681260,-10784,2670476,1381390,1289086,322272,4322852,496894]
["WBR001",27,"Athlos Academy of Jefferson Parish",1101,null,4174232.1726893103,977,null,465561.17200520349,256,null,33333.097688698108,97,null,315906.86797532655,12,null,15603.641533580982,5004637,-70160,-18118,-88278,4916359,-12291,4904068,0,488366,5392434,3651129,1741305,435329,22223,5414657,null,8532379,-17,-109075,-17,-83376,-192451,8339928,-20851,8319077,0,8319077,5395655,2923422,730856,13711511,1166185]
["WBX001",28,"GEO Next Generation HS ",379,null,1327250.8867237901,314,null,140012.70305206667,155,null,18493.188162987663,43,null,128168.95787813855,0,null,0,1613925,309245,-25120,284125,1898050,-4745,1893305,-2015,182961,2074251,1184541,889710,222428,20003,2094254,null,3515383,66,644826,-12,-57048,587778,4103161,-10257,4092904,-4116,4088788,2341638,1747150,436788,6163039,659216]
["WBY001",29,"Red River Charter Academy",173,null,881436.23065731325,173,null,121038.67725017377,227,null,43256.832240541575,8,null,38229.526186553361,0,null,0,1083962,-209013,-17566,-226579,857383,-2143,855240,-2751,72714,925203,779848,145355,36340,17593,942796,null,539656,-39,-128544,-7,-10738,-139282,400374,-1001,399373,-1351,398022,347888,50134,12534,1323225,48874]
["WJ5001",25,"Collegiate Academies",464,null,1637559.3771670056,442,null,197616.60343443113,206,null,24913.974640034117,85,null,256679.05676505051,0,null,0,2116769,81798,60310,142108,2258877,-5648,2253229,-23724,301935,2531440,1587756,943684,235922,191993,2723433,null,4278320,16,156795,21,92927,249722,4528042,-11320,4516722,-46040,4470682,2845600,1625082,406272,7002122,642194]
["WZ8001",11,"GEO Prep Mid-City of Great BR",656,null,2250729.8376348689,619,null,268345.82512364438,204,null,24153.194079326906,73,null,213365.02479858903,0,null,0,2756593,136132,-35670,100462,2857055,-7142,2849913,0,294315,3144228,2046389,1097839,274460,15665,3159893,null,6230435,26,285343,-20,-101833,183510,6413945,-16034,6397911,0,6397911,4148032,2249879,562470,9542139,836930]
["WZN001",null,"GEO Prep Baker",65,null,283671.09300365328,56,null,31407.111173138117,0,null,0,0,null,0,0,null,0,315078,163427,-13624,149803,464881,-1163,463718,0,39942,503660,232633,271027,67758,0,503660,null,472103,26,207845,-5,-21120,186725,658828,-1647,657181,0,657181,304984,352197,88050,1160841,155808]
["WZO001",null,"Louisiana Key Academy Northshore",115,null,497576.15634286002,37,null,21693.073428985426,0,null,0,79,null,315873.49558415642,1,null,1573.9006227305631,836717,872220,35057,907277,1743994,-4361,1739633,0,136942,1876575,782279,1094296,273576,0,1876575,null,886384,131,968527,11,38970,1007497,1893881,-4734,1889147,0,1889147,774474,1114673,278668,3765722,552244]
["WZP001",null,"Discovery Ochsner BR",0,null,0,94,null,42816.921470584406,0,null,0,11,null,32367.408301408504,0,null,0,75184,561016,-2127,558889,634073,-1584,632489,0,88570,721059,366304,354755,88690,0,721059,null,0,128,1121089,-1,13468,1134557,1134557,-2836,1131721,0,1131721,779240,352481,88122,1852780,176812]
["WZQ001",null,"Kenilworth Middle",0,null,0,627,null,272317.89309073985,0,null,0,87,null,255996.77474750363,5,null,5884.9833275288174,534199,2925565,-38168,2887397,3421596,-8553,3413043,0,297660,3710703,1950578,1760125,440031,0,3710703,null,0,709,6674689,-21,-92856,6581833,6581833,-16455,6565378,0,6565378,4422970,2142408,535602,10276081,975633]
["WZT001",null,"LaKey Caddo",0,null,0,18,null,10575.991889850564,0,null,0,52,null,206079.31592724353,1,null,1582.8971053352068,218238,362076,98235,460311,678549,-1697,676852,0,57334,734186,291460,442726,110684,0,734186,null,0,70,563684,20,74642,638326,638326,-1595,636731,0,636731,275805,360926,90233,1370917,200917]
["State Total",null,null,23323,null,92531070.89329648,18566,null,9634518.3448304143,10650,null,1527173.2009745198,2892,null,10566878.781022355,487,null,715350.20440846798,114974977,14291870,-941756,13350114,128325091,-320812,128004279,-158479,12235662,140081462,89329827,50751635,12687966,1228834,141310296,0,170136675,3037,23327087,-415,-1283219,22043868,192180543,-480454,191700089,-187134,191512955,119242530,72270425,18067649,331594417,30755615]

{"sheet":"6_Local Deduct Calc","index":22,"n_rows":76,"n_cols":10,"rows_kept":76,"cut":false,"hidden":false,"merged":[[3,0,3,1],[5,0,5,1],[0,0,2,1],[0,9,2,9],[0,2,0,4],[1,2,2,2],[1,3,2,3],[1,5,2,5],[1,6,2,6],[0,5,0,7],[0,8,2,8]]}
["School \nSystem",null,"Local Deduction Property Tax",null,null,"Local Deduction Sales Tax",null,null,"Other\nRevenue","Total Local\nDeduction\n\n(Property,\nSales, and\nOther Revenue)"]
[null,null,"2021\nAd Valorem\nTax Revenues","2021\nNet Assessed\nTaxable\nProperty\nwith Growth\nCap of 10%","Projected\nYield of\nProperty\nTax Millage\nRate of","FY2021-22\nSales Tax\nRevenue","FY2021-22\nComputed\nSales\nTax Base\nwith Growth\nCap of 15%","Projected\nYield of\nSales Tax\nRate of"]
[null,null,null,null,12.159699999999999,null,null,5.9739999999999993E-3]
["FY2023-24",null,1,2,3,4,5,6,7,8]
[null,null,"Link in File","Link in File","Formula","Link in File","Link in File","Formula","Link in File","Formula"]
["March 2024",null,"(T7, C27)","(T7, C3c)","C2 x 12.06 ÷ 1,000","(T7, C32)","(T7, C36)","C5 x 0.60%","(T7, C39)","C3 + C6 + C7"]
[1,"Acadia",12295423,421134872,5120874,15892362,1059490800,6329398,437393,11887665]
[2,"Allen",6006238,125545111,1526591,10444251,348141700,2079799,89035,3695425]
[3,"Ascension",97469156,1577944366,19187330,88093553,4332356532.5,25881498,220580,45289408]
[4,"Assumption",7815679,200226729,2434697,8262549,275418300,1645349,100330,4180376]
[5,"Avoyelles",3751042,159133099,1935011,11098564,634203657,3788733,401644,6125388]
[6,"Beauregard",16950447,305838886,3718909,15717697,785884850,4694876,335218,8749003]
[7,"Bienville",22219785,337247932,4100834,6392821,282848077.5,1689734,170224,5960792]
[8,"Bossier",67918288,1047396717,12736030,63524412,3550423125.5499997,21210228,728367,34674625]
[9,"Caddo",139631657,1861587795,22636349,100981165,6732077667,40217432,3829052,66682833]
[10,"Calcasieu",70281290,2644948911,32161785,182874150,7314966000,43699607,1054429,76915821]
[11,"Caldwell",3439500,65887570,801173,2760557,138027850,824578,68350,1694101]
[12,"Cameron",16314618,438675166,5334158,0,198642887.28914607,1186693,613033,7133884]
[13,"Catahoula",1032969,45880445,557892,3524708,117490267,701887,104983,1364762]
[14,"Claiborne",4184835,118074707,1435753,3119528,155976400,931803,136533,2504089]
[15,"Concordia",6166235,155035012,1885179,6445387,322269350,1925237,167182,3977598]
[16,"DeSoto",45315801,761712574,9262196,30483768,1033758735.9999999,6175675,1067960,16505831]
[17,"East Baton Rouge",177999710,4345981733.1800003,52845834,225383582,11194758030,66877484,3852859,123576177]
[18,"East Carroll",812137,44765849,544339,2511015,83700500,500027,102200,1146566]
[19,"East Feliciana",5101901,216247810.90000001,2629509,4503922,225196100,1345322,73683,4048514]
[20,"Evangeline",8240487,248286331,3019087,9684127,484206350,2892649,207660,6119396]
[21,"Franklin",2766140,111313320,1353537,6430679,321533950,1920844,79947,3354328]
[22,"Grant",3488691,63405082,770987,3722410,186120500,1111884,414980,2297851]
[23,"Iberia",20626681,594291559,7226407,28605373,1430268650,8544425,574484,16345316]
[24,"Iberville",43923918,767782715,9336007,30750123,1530827560,9145164,135818,18616989]
[25,"Jackson",5388015,200019850,2432181,6769887,225662900,1348110,112080,3892371]
[26,"Jefferson",119503972,3999079375,48627605,263245539,13162276950,78631442,1803145,129062192]
[27,"Jefferson Davis",9713067,265438709,3227655,14447115,577884600,3452283,319744,6999682]
[28,"Lafayette",77404968,2214956938,26933212,150865077,7543253850,45063398,2566969,74563579]
[29,"Lafourche",31036429,751221860,9134632,44668614,2007826514.9999998,11994756,479582,21608970]
[30,"LaSalle",4073388,89827990,1092281,8486429,282880967,1689931,78222,2860434]
[31,"Lincoln",22133347,492742369,5991599,27408855,1096354200,6549620,316460,12857679]
[32,"Livingston",19605462,637161570,7747694,77012190,3052267992,18234249,1017328,26999271]
[33,"Madison",2281161,105469548,1282478,3883803,155352120,928074,87508,2298060]
[34,"Morehouse",6485851,157129979,1910653,7725435,386271750,2307587,203344,4421584]
[35,"Natchitoches",10452520,391338733,4758562,22010761,872036581.99999988,5209547,446465,10414574]
[36,"Orleans",186540617,4244925520,51617021,163353311,9434679887.0499992,56362778,2650788,110630587]
[37,"Ouachita",34940920,802883678,9762825,57861811,1928727033,11522215,793386,22078426]
[38,"Plaquemines",23061524,861682593,10477802,24895138,765968954,4575899,91543,15145244]
[39,"Pointe Coupee",11497313,474637167,5771446,9393252,469662600,2805764,146150,8723360]
[40,"Rapides",44284707,966666501.9000001,11754375,66447815,3322390750,19847962,956301,32558638]
[41,"Red River",12701291,233982380,2845156,6937480,261530239.99999997,1562382,151333,4558871]
[42,"Richland",8230189,227498272,2766311,7929764,396488200,2368621,203542,5338474]
[43,"Sabine",8273716,253030694.40000001,3076777,14754552,569714048,3403472,208673,6688922]
[44,"St. Bernard",16533161,394164935,4792927,21938441,971110484.99999988,5801414,141251,10735592]
[45,"St. Charles",86783701,1604950565,19515717,63988709,2132956967,12742285,273063,32531065]
[46,"St. Helena",2277517,52801097,642045,1906987,95349350,569617,31050,1242712]
[47,"St. James",30348472,661512229,8043790,17442244,697689760,4167999,81269,12293058]
[48,"St. John the Baptist",29342598,772903646,9398276,30983471,1104148442,6596183,181110,16175569]
[49,"St. Landry",14293537,697268773,8478579,29638811,1481940550,8853113,714275,18045967]
[50,"St. Martin",13638718,413713842,5030636,18951238,947561900,5660735,311731,11003102]
[51,"St. Mary",21759306,538177811,6544081,22910806,1041400273,6221325,442019,13207425]
[52,"St. Tammany",147494744,2415902255,29376647,141216732,7060836600,42181438,2102371,73660456]
[53,"Tangipahoa",7602672,651578636,7923001,81622237,3264889480,19504450,199421,27626872]
[54,"Tensas",2222681,58039024,705737,1005100,67006667,400298,27688,1133723]
[55,"Terrebonne",9061157,999504683,12153677,77068715,2861670608.75,17095620,303599,29552896]
[56,"Union",5557394,151068319,1836945,9053052,301768400,1802764,96578,3736287]
[57,"Vermilion",12544004,321767285,3912594,14139949,942663267,5631470,945410,10489474]
[58,"Vernon",8782312,165134304.5,2007984,16713851,835692550,4992427,463223,7463634]
[59,"Washington",3335575,112563067,1368733,7163530,358176500,2139746,161235,3669714]
[60,"Webster",13457723,259915045,3160489,17110530,803311268,4798982,290036,8249507]
[61,"West Baton Rouge",32050962,564536824.5,6864598,22334776,1034063324.9999999,6177494,415658,13457750]
[62,"West Carroll",1835556,66117659,803971,4155518,191173182.5,1142069,83708,2029748]
[63,"West Feliciana",17766344,425171326,5169956,9524364,317478800,1896618,59738,7126312]
[64,"Winn",2279275,79339420,964744,4725966,236298300,1411646,228242,2604632]
[65,"City of Monroe",13736458,392123611,4768105,33338353,1666917650,9958166,165046,14891317]
[66,"City of Bogalusa",6588992,104348170,1268842,3918429,391842900,2340869,191014,3800725]
[67,"Zachary Community",18002594,268715451.54000002,3267499,12514594,625729700,3738109,104455,7110063]
[68,"City of Baker",2546388,58307049,708996,4943548,247177400,1476638,46006,2231640]
[69,"Central Community",11970459,201361613,2448497,12610089,504403560,3013307,4000,5465804]
[null,"STATE TOTAL",1953173385,46459024659.920006,564927799,2520223571,119433075863.13914,713493198,35661703,1314082700]

{"sheet":"7_Local Revenue","index":23,"n_rows":76,"n_cols":46,"rows_kept":76,"cut":false,"hidden":false,"merged":[[1,25,2,25],[1,26,2,26],[1,27,2,27],[1,11,2,11],[1,6,2,6],[1,8,2,8],[1,30,2,30],[1,15,2,15],[1,28,2,28],[1,29,2,29],[1,17,2,17],[0,16,2,16],[0,17,0,22],[1,19,2,19],[1,20,2,20],[1,21,2,21],[0,23,2,23],[1,22,2,22],[0,24,0,30],[1,24,2,24],[0,45,2,45],[0,44,2,44],[0,36,2,36],[0,31,2,31],[1,37,2,37],[1,38,2,38],[1,32,2,32],[1,33,2,33],[1,34,2,34],[1,42,2,42],[0,43,2,43],[0,37,0,42],[1,39,2,39],[1,41,2,41],[1,35,2,35],[0,32,0,35],[3,0,3,1],[4,0,4,1],[1,18,2,18],[1,12,2,12],[1,13,2,13],[1,14,2,14],[1,2,2,2],[1,9,2,9],[1,3,2,3],[1,5,2,5],[1,4,2,4],[0,0,2,1],[0,8,0,9],[0,10,0,15],[0,2,0,7],[1,10,2,10]]}
["School\nSystem",null,"2021 Assessed Property Value",null,null,null,null,null,"Ad Valorem\nConstitutional Tax",null,"Ad Valorem Renewable Taxes",null,null,null,null,null,"Total\nAd Valorem\nTaxes\n\n(Non Debt)","Debt Service Taxes",null,null,null,null,null,"Total\nAd Valorem\nTaxes\n\n(Debt)","Summary Of 2021-2022 Ad Valorem Taxes",null,null,null,null,null,null,"Total\nAd Valorem\nRevenue\nIncluding Debt\nWith CAFR\nAudit Adjs.","2021-2022 Summary Of Sales Taxes",null,null,null,"Total\nSales Tax\nRevenue\nWith CAFR\nAudit Adjs.","2021-2022 Computed Sales Tax Base",null,null,null,null,null,"Other Revenues:\n\n(Includes State &\nFederal taxes in\nlieu of & 50% of\nearnings from\n16th section and\nother real estate)","Total Local\nRevenue\n\n(For Use in MFP\nLevels 1 and 2)","Per Pupil\nAmount"]
[null,null,"Total Assessed\nProperty Value","Assessed\nHomestead\nExemption","Net Assessed\nTaxable\nProperty","Prior Year\nNet Assessed\nTaxable\nProperty\n\n(Without cap)","Percent\nChange\nof Net\nAssessed\nTaxable\nProperty","Net Assessed\nTaxable Property\nWith Cap Of","Parish\nMill\nRate","Parish\nRevenue\nAmount","Parish\nMill\nRate","Parish\nRevenue\nAmount","District\nMill\nLow","District\nMill\nHigh","# Of\nDistricts","District\nRevenue\nAmount","","Parish\nMill\nRate","Parish\nRevenue\nAmount","District\nMill\nLow","District\nMill\nHigh","# Of\nDistricts","District\nRevenue\nAmount","","Parishwide\nMillage\nIncluding\nDebt","Parishwide\nRevenue\nIncluding\nDebt","District\nRevenue\nIncluding\nDebt","Total\nAverage\nMill Rate\n\n(Debt)","Total\nAverage\nMill Rate\n\n(Non Debt)","Total\nAverage\nMill Rate\nIncluding\nDebt","AFR Audit\nAdjustments\n \n","","Combined\nSales\nPercent","Sales\nRevenue\n\n(Non Debt)","Sales\nRevenue\n\n(Debt)","AFR Audit\nAdjustments\n\n","","Prior Year\nComputed\nSales Tax Base\n\n(Without Cap)","Computed\nSales Tax\nBase","Percent\nChange of\nComputed\nSales Tax\nBase","Computed\nSales Tax\nBase With\nGrowth Cap Of","Non\nDebt\nRate","Debt\nRate"]
[null,null,null,null,null,null,null,0.1,null,null,null,null,null,null,null,null,null,null,null,null,null,null,null,null,null,null,null,null,null,null,null,null,null,null,null,null,null,null,null,null,0.15]
["FY2023-24",null,1,2,3,"(3a)","(3b)","(3c)",4,5,6,7,8,9,10,11,12,13,14,15,16,17,18,19,20,21,22,23,24,25,26,27,28,29,30,31,32,33,34,35,36,37,38,39,40,41]
["March 2024",null,"Louisiana Tax Commission\nTable 41","Louisiana Tax Commission\nTable 43","C1 - C2","Prior Year\nT7, C3","(C3 - C3a) ÷ C3a","If C3b > 10%,\n3a x (1 + 10%), C3","KPC 62220,\nC3","KPC 62160 through 62220, C4","KPC 62320,\nC3","KPC 62260 through 62320, C4","KPC 62320,\nC5","KPC 62320,\nC6","KPC 62320,\nC7","KPC 62260 through 62320, C8","C5 + C7 + C11","KPC 62620,\nC3","KPC 62560 through 62620, C4","KPC 62620,\nC5","KPC 62620,\nC6","KPC 62620,\nC7","KPC 62560 through 62620, C8","C14 + C18","C4 + C6\n+ C13","C5 + C7\n+ C14","C11 + C18","(C19 ÷ C3)\n*1,000","(C12 ÷ C3)\n*1,000","(C27 ÷ C3)\n*1,000","CAFR Audit\nAdjustments","C12 + C19 + C26","KPC 63320,\nC3","KPC 63320,\nC4","KPC 63320,\nC5","CAFR Audit\nAdjustments","C29 + C30 + C31","Prior Year\nT7, C34","C32 ÷ C28","(C34 - C33) ÷ C33","If C35 > 15%,\nC33 x (1 + 15%)","C29 ÷ C34","C30 ÷ C34","KPC 6700, 6850, 7000, 7150, 12200, 12300, 12400, and 50% of 2250 & 2300","C27 + C32\n+ C39","C40 ÷\n(T3, C1)"]
[null,null,"Input (Louisiana Tax Commission Annual Report)","Input (Louisiana Tax Commission Annual Report)","Formula","Input\n(Prior Year\nBudget Letter)","Formula","Formula","Input\n(AFR in Access)","Input\n(AFR in Access)","Input\n(AFR in Access)","Input\n(AFR in Access)","Input\n(AFR in Access)","Input\n(AFR in Access)","Input\n(AFR in Access)","Input\n(AFR in Access)","Formula","Input\n(AFR in Access)","Input\n(AFR in Access)","Input\n(AFR in Access)","Input\n(AFR in Access)","Input\n(AFR in Access)","Input\n(AFR in Access)","Formula","Formula","Formula","Formula","Formula","Formula","Formula",null,"Formula","Input\n(AFR in Access)","Input\n(AFR in Access)","Input\n(AFR in Access)",null,"Formula","Input\n(Prior Year\nBudget Letter)","Formula","Formula","Formula","Formula","Formula","Input\n(AFR in Access)","Formula","Formula"]
[1,"Acadia",512539600,91404728,421134872,420332881,1.9079901579243809E-3,421134872,5.14,2163628,20.05,8195033,0,13.4,3,1936762,12295423,0,0,0,0,0,0,0,25.19,10358661,1936762,0,29.2,29.2,0,12295423,1.4999999999999999E-2,15892362,0,0,15892362,1056811467,1059490800,2.5352989475084867E-3,1059490800,1.4999999999999999E-2,0,437393,28625178,3208.02]
[2,"Allen",155101950,29556839,125545111,123297966,1.822532092702973E-2,125545111,4.28,528872,5.15,638309,0,89.2,6,2523460,3690641,0,0,0,38.75,5,2315597,2315597,9.43,1167181,4839057,18.440000000000001,29.4,47.84,0,6006238,0.03,10414934,0,29317,10444251,346984000,348141700,3.3364650819634333E-3,348141700,2.9915790036068646E-2,0,89035,16539524,4346.79]
[3,"Ascension",1826645870,248701504,1577944366,1533573714,2.8932845936872911E-2,1577944366,3.61,5713000,42.9,68071075,0,0,0,0,73784075,15.08,23685081,0,0,0,0,23685081,61.589999999999996,97469156,0,15.01,46.76,61.77,0,97469156,0.02,88093553,0,0,88093553,3767266550,4404677650,0.16919723930869718,4332356532.5,0.02,0,220580,185783289,7874.51]
[4,"Assumption",238644323,38417594,200226729,204645105,-2.1590430907203962E-2,200226729,5.49,1089776,33.880000000000003,6725903,0,0,0,0,7815679,0,0,0,0,0,0,0,39.370000000000005,7815679,0,0,39.03,39.03,0,7815679,0.03,8262549,0,0,8262549,242194033,275418300,0.13718036975749937,275418300,0.03,0,100330,16178558,5880.97]
[5,"Avoyelles",222360060,63226961,159133099,154325837,3.1150078907396433E-2,159133099,3.62,574889,20,3176153,0,0,0,0,3751042,0,0,0,0,0,0,0,23.62,3751042,0,0,23.57,23.57,0,3751042,1.7500000000000002E-2,10762417,0,336147,11098564,585550800,634203657,8.3089045391108673E-2,634203657,1.6969969947681962E-2,0,401644,15251250,3074.85]
[6,"Beauregard",366700428,60861542,305838886,282651261,8.2036163284620905E-2,305838886,5.12,1586992,31.77,9847402,0,0,0,0,11434394,17.8,5516053,0,0,0,0,5516053,54.69,16950447,0,18.04,37.39,55.42,0,16950447,0.02,15717697,0,0,15717697,747403100,785884850,5.1487276410814992E-2,785884850,0.02,0,335218,33003362,5997.34]
[7,"Bienville",355272744,18024812,337247932,343353853,-1.7783173092861725E-2,337247932,5.99,1978585,54.02,17843635,0,0,0,0,19822220,0,0,0,54.12,4,2397565,2397565,60.010000000000005,19822220,2397565,7.11,58.78,65.89,0,22219785,0.02,6392821,0,0,6392821,245954850,319641050,0.29959238453724329,282848077.5,0.02,0,170224,28782830,15524.72]
[8,"Bossier",1250266568,202869851,1047396717,1027259067,1.9603282800715351E-2,1047396717,3.41,3596394,47.19,49818000,0,0,0,0,53414394,13.83,14576812,0,0,0,0,14576812,64.429999999999993,67991206,0,13.92,51,64.84,-72918,67918288,1.7500000000000002E-2,63524412,0,0,63524412,3087324457,3629966400,0.17576446873591428,3550423125.5499997,1.7500000000000002E-2,0,728367,132171067,5959.56]
[9,"Caddo",2197777142,336189347,1861587795,1841180696,1.1083702454807836E-2,1861587795,7.81,14585037,61.96,115709208,0,0,0,0,130294245,5,9337412,0,0,0,0,9337412,74.77,139631657,0,5.0199999999999996,69.989999999999995,75.010000000000005,0,139631657,1.4999999999999999E-2,100981165,0,0,100981165,5961211533,6732077667,0.12931366882933928,6732077667,1.4999999999257288E-2,0,3829052,244441874,7117.87]
[10,"Calcasieu",2949545061,304596150,2644948911,2580379252,2.5023321261769316E-2,2644948911,5.0599999999999996,13623872,11.94,32215076,0,0,0,381636,46220584,0,0,0,21.3,10,24060706,24060706,17,45838948,24442342,9.1,17.48,26.57,0,70281290,2.5000000000000001E-2,182874150,0,0,182874150,7016809200,7314966000,4.2491792423256999E-2,7314966000,2.5000000000000001E-2,0,1054429,254209869,8653.66]
[11,"Caldwell",80903660,15016090,65887570,63711665,3.4152380101822796E-2,65887570,5.44,346281,33.07,2104935,0,0,0,0,2451216,15.53,988284,0,0,0,0,988284,54.04,3439500,0,15,37.200000000000003,52.2,0,3439500,0.02,2760557,0,0,2760557,134033900,138027850,2.9798058550859149E-2,138027850,0.02,0,68350,6268407,4305.22]
[12,"Cameron",445598526,6923360,438675166,466951228,-6.0554636768189417E-2,438675166,4.8099999999999996,2120281,29.26,12897427,0,0,0,0,15017708,0,0,0,11.18,1,1296910,1296910,34.07,15017708,1296910,2.96,34.229999999999997,37.19,0,16314618,0,0,0,0,0,203361705,198642887.28914607,-2.3204062489808167E-2,198642887.28914607,0,0,613033,16927651,16060.39]
[13,"Catahoula",59719159,13838714,45880445,45572459,6.7581606689250629E-3,45880445,4.16,186504,13.27,459147,0,5.56,4,334684,980335,0,0,0,12.9,1,52634,52634,17.43,645651,387318,1.1499999999999999,21.37,22.51,0,1032969,0.03,3548229,0,-23521,3524708,125954733,117490267,-6.7202444865648678E-2,117490267,3.020019522127735E-2,0,104983,4662660,4415.3999999999996]
[14,"Claiborne",137860721,19786014,118074707,125656440,-6.0337003021890483E-2,118074707,5.37,635047,20.61,2437281,0,12.01,3,724185,3796513,0,0,0,12.91,1,388322,388322,25.98,3072328,1112507,3.29,32.15,35.44,0,4184835,0.02,3119528,0,0,3119528,143038600,155976400,9.0449710777370587E-2,155976400,0.02,0,136533,7440896,4442.33]
[15,"Concordia",184037590,27998000,156039590,140940920,0.10712765320390984,155035012,2.78,431642,37.22,5734593,0,0,0,0,6166235,0,0,0,0,0,0,0,40,6166235,0,0,39.520000000000003,39.520000000000003,0,6166235,0.02,6445387,0,0,6445387,309897100,322269350,3.9923735975586738E-2,322269350,0.02,0,167182,12778804,4010.92]
[16,"DeSoto",805869498,44156924,761712574,714488367,6.6095137697322365E-2,761712574,5.32,4051260,51.34,39096435,0,0,0,0,43147695,0,0,0,4,3,2168106,2168106,56.660000000000004,43147695,2168106,2.85,56.65,59.49,0,45315801,2.5000000000000001E-2,28245566,2238202,0,30483768,898920640,1219350720,0.35646092184511413,1033758735.9999999,2.3164431313084394E-2,1.835568686915607E-3,1067960,76867529,16186.05]
[17,"East Baton Rouge",4910362207.1800003,564380474,4345981733.1800003,4286244027.8000002,1.393707520909902E-2,4345981733.1800003,4.7300000000000004,20411069,35.840000000000003,157588641,0,0,0,0,177999710,0,0,0,0,0,0,0,40.570000000000007,177999710,0,0,40.96,40.96,0,177999710,0.02,225383582,0,0,225383582,9734572200,11269179100,0.15764502727711033,11194758030,0.02,0,3852859,407236151,9455.2199999999993]
[18,"East Carroll",50225291,5459442,44765849,49336947,-9.2650605235058428E-2,44765849,8.1999999999999993,405601,8.24,406536,0,0,0,0,812137,0,0,0,0,0,0,0,16.439999999999998,812137,0,0,18.14,18.14,0,812137,0.03,2511015,0,0,2511015,93078933,83700500,-0.10075784818031809,83700500,0.03,0,102200,3425352,4530.8900000000003]
[19,"East Feliciana",289974033,37742130,252231903,196588919,0.28304232142402697,216247810.90000001,3.34,837785,17,4264116,0,0,0,0,5101901,0,0,0,0,0,0,0,20.34,5101901,0,0,20.23,20.23,null,5101901,0.02,4503922,0,null,4503922,204727600,225196100,9.9979191862748354E-2,225196100,0.02,0,73683,9679506,5949.3]
[20,"Evangeline",300505075,52218744,248286331,252689476,-1.7425122208097023E-2,248286331,4.58,1158717,10.53,2664373,0,12.55,3,3785572,7608662,0,0,0,11.75,1,631825,631825,15.11,3823090,4417397,2.54,30.64,33.19,0,8240487,0.02,9684127,0,0,9684127,448109500,484206350,8.0553637001670356E-2,484206350,0.02,0,207660,18132274,3402.57]
[21,"Franklin",141804389,30491069,111313320,108793966,2.3157111489069165E-2,111313320,4.62,514680,20.21,2251460,0,0,0,0,2766140,0,0,0,0,0,0,0,24.830000000000002,2766140,0,0,24.85,24.85,0,2766140,0.02,6430679,0,0,6430679,307314800,321533950,4.6269004942163537E-2,321533950,0.02,0,79947,9276766,3558.41]
[22,"Grant",98473437,35068355,63405082,60709249,4.4405639081451988E-2,63405082,5.44,343480,22.51,2047895,0,15.59,8,0,2391375,53.5,1097316,0,19.5,3,0,1097316,81.45,3488691,0,17.309999999999999,37.72,55.02,0,3488691,0.02,3722410,0,0,3722410,177769000,186120500,4.6979507113163711E-2,186120500,0.02,0,414980,7626081,2839.2]
[23,"Iberia",706175464,111883905,594291559,633717368,-6.221355290360292E-2,594291559,4.4000000000000004,2555303,6.15,3556868,0,0,0,0,6112171,25,14514510,0,0,0,0,14514510,35.549999999999997,20626681,0,24.42,10.28,34.71,0,20626681,0.02,28605373,0,0,28605373,1354301450,1430268650,5.6093272291778171E-2,1430268650,0.02,0,574484,49806538,4499.6400000000003]
[24,"Iberville",819122225,51339510,767782715,737049085,4.1698213355763139E-2,767782715,3.49,2631114,54.34,38127804,0,0,0,0,40758918,0,3165000,0,0,0,0,3165000,57.830000000000005,43923918,0,4.12,53.09,57.21,0,43923918,0.02,30750123,0,0,30750123,1331154400,1537506150,0.15501714151265999,1530827560,0.02,0,135818,74809859,18118.150000000001]
[25,"Jackson",223808470,23788620,200019850,202579590,-1.2635725050090189E-2,200019850,5.09,1020963,21.78,4367052,0,0,0,0,5388015,0,0,0,0,0,0,0,26.87,5388015,0,0,26.94,26.94,0,5388015,0.03,6769887,0,0,6769887,200356500,225662900,0.12630685802556943,225662900,0.03,0,112080,12269982,5887.71]
[26,"Jefferson",4743335705,744256330,3999079375,3958267029,1.0310660119944122E-2,3999079375,2.83,5445121,27.12,108206140,0,0,0,0,113651261,0,5852711,0,0,0,0,5852711,29.950000000000003,119503972,0,1.46,28.42,29.88,0,119503972,0.02,252956139,10289400,0,263245539,11594040500,13162276950,0.13526228841446603,13162276950,1.9218265955116526E-2,7.8173404488347288E-4,1803145,384552656,7947.27]
[27,"Jefferson Davis",319793905,54355196,265438709,252482434,5.1315550134469951E-2,265438709,6.48,1690959,10.77,2810378,0,19,7,3136171,7637508,0,0,0,23.16,5,2075559,2075559,17.25,4501337,5211730,7.82,28.77,36.590000000000003,0,9713067,2.5000000000000001E-2,12698147,1748968,0,14447115,604324000,577884600,-4.3750372316836664E-2,577884600,2.1973499553371037E-2,3.0265004466289635E-3,319744,24479926,4755.2299999999996]
[28,"Lafayette",2632598034,417641096,2214956938,2202052148,5.8603471365202197E-3,2214956938,4.92,10577070,31.02,66827898,0,0,0,0,77404968,0,0,0,0,0,0,0,35.94,77404968,0,0,34.950000000000003,34.950000000000003,0,77404968,0.02,144176385,6688692,0,150865077,6658438050,7543253850,0.13288639067536268,7543253850,1.9113288226406434E-2,8.8671177359356669E-4,2566969,230837014,6820.82]
[29,"Lafourche",918863673,167641813,751221860,983643976,-0.23628682904677292,751221860,3.63,2601899,28.47,20400414,0,0,0,0,23002313,11.2,8034116,0,0,0,0,8034116,43.3,31036429,0,null,null,null,0,31036429,0.02,44668614,0,0,44668614,1745936100,2233430700,0.27921674796689294,2007826514.9999998,0.02,0,479582,76184625,5739.82]
[30,"LaSalle",112752750,22924760,89827990,89389090,4.9099951683141642E-3,89827990,4.53,417476,39.67,3655912,0,0,0,0,4073388,0,0,0,0,0,0,0,44.2,4073388,0,0,45.35,45.35,0,4073388,0.03,7400601,1085828,0,8486429,262853367,282880967,7.619305101007133E-2,282880967,2.6161537407357632E-2,3.8384625572918094E-3,78222,12638039,5246.18]
[31,"Lincoln",551708152,58965783,492742369,480536798,2.5399867504007467E-2,492742369,3.89,1928462,27.76,13760565,0,3.1,4,1197102,16886129,0,0,0,17.100000000000001,3,5247218,5247218,31.650000000000002,15689027,6444320,10.65,34.270000000000003,44.92,0,22133347,2.5000000000000001E-2,27408855,0,0,27408855,1027191350,1096354200,6.733200196827982E-2,1096354200,2.5000000000000001E-2,0,316460,49858662,8026.19]
[32,"Livingston",893674090,256512520,637161570,618808879,2.9658092543303666E-2,637161570,3.29,2034836,19.18,11862662,0,0,0,0,13897498,0,0,0,11.57,10,5707964,5707964,22.47,13897498,5707964,8.9600000000000009,21.81,30.77,0,19605462,2.5000000000000001E-2,77012190,0,0,77012190,2654146080,3080487600,0.16063227386489592,3052267992,2.5000000000000001E-2,0,1017328,97634980,3659.48]
[33,"Madison",116010765,10541217,105469548,106510036,-9.7689198039516197E-3,105469548,4.5199999999999996,473908,5.18,609853,0,0,0,0,1083761,12,1197400,0,0,0,0,1197400,21.7,2281161,0,11.35,10.28,21.63,0,2281161,2.5000000000000001E-2,3883803,0,null,3883803,154662680,155352120,4.4577011079854562E-3,155352120,2.5000000000000001E-2,0,87508,6252472,5158.8100000000004]
[34,"Morehouse",193193010,36063031,157129979,157842183,-4.5121271542474806E-3,157129979,5.77,905993,21.75,3414943,0,9.68,0,648520,4969456,10,1516395,0,0,0,0,1516395,37.519999999999996,5837331,648520,9.65,31.63,41.28,0,6485851,0.02,7725435,0,0,7725435,388714500,386271750,-6.2841751465407131E-3,386271750,0.02,0,203344,14414630,4538.6099999999997]
[35,"Natchitoches",446348893,55010160,391338733,384060234,1.8951451766287264E-2,391338733,4.6500000000000004,1736417,7,2612542,0,20,5,3310818,7659777,0,0,0,33,3,2792743,2792743,11.65,4348959,6103561,7.14,19.57,26.71,0,10452520,2.5000000000000001E-2,22010761,0,0,22010761,758292680,880430440,0.16106941715433676,872036581.99999988,2.5000000000000001E-2,0,446465,32909746,6578]
[36,"Orleans",4725632490,480706970,4244925520,4269786671,-5.822574502106782E-3,4244925520,27.65,113835599,17.66,72705018,0,0,0,0,186540617,0,0,0,0,0,0,0,45.31,186540617,0,0,43.94,43.94,0,186540617,1.4999999999999999E-2,163353311,0,0,163353311,8204069467,10890220733,0.3274169333651743,9434679887.0499992,1.5000000000459127E-2,0,2650788,352544716,7936.98]
[37,"Ouachita",970991041,168107363,802883678,785222991,2.2491301455028333E-2,802883678,5.18,4187346,24.15,19333479,0,0,0,0,23520825,0,0,0,36,0,11420095,11420095,29.33,23520825,11420095,null,null,null,0,34940920,0.03,50205830,7655981,0,57861811,1839814367,1928727033,4.8326976674815801E-2,1928727033,2.603055234929141E-2,3.9694476558933571E-3,793386,93596117,5288.21]
[38,"Plaquemines",894000901,32318308,861682593,964807563,-0.10688656884004961,861682593,6.03,5783765,18.38,17216344,0,0,0,0,23000109,0,61415,0,0,0,0,61415,24.41,23061524,0,7.0000000000000007E-2,26.69,26.76,0,23061524,2.5000000000000001E-2,24895138,0,0,24895138,666059960,995805520,0.49506888238710522,765968954,2.5000000000000001E-2,0,91543,48048205,13361.57]
[39,"Pointe Coupee",517150317,42513150,474637167,535083958,-0.11296692807972389,474637167,4.54,2007585,21.46,9489728,0,0,0,0,11497313,0,0,0,0,0,0,0,26,11497313,0,0,24.22,24.22,0,11497313,0.02,9393252,0,0,9393252,410220200,469662600,0.14490363955748645,469662600,0.02,0,146150,21036715,8732.5499999999993]
[40,"Rapides",1203974978,190688765,1013286213,878787729,0.15305002512159566,966666501.9000001,4.93,4958423,21.64,21812249,0,24.39,13,11750773,38521445,0,0,0,44,7,5745364,5745364,26.57,26770672,17496137,5.67,38.020000000000003,43.7,17898,44284707,0.02,66447815,0,0,66447815,3217980150,3322390750,3.2446004988564023E-2,3322390750,0.02,0,956301,111688823,5418.89]
[41,"Red River",245792800,11810420,233982380,238997140,-2.0982510502008517E-2,233982380,5.16,1205861,39.590000000000003,9251971,0,0,0,0,10457832,9.6,2243459,0,0,0,0,2243459,54.35,12701291,0,9.59,44.69,54.28,0,12701291,0.02,6937480,0,0,6937480,227417600,346874000,0.52527332976867225,261530239.99999997,0.02,0,151333,19790104,16714.61]
[42,"Richland",258236031,30737759,227498272,217999502,4.3572438986580801E-2,227498272,9.6999999999999993,2214660,9.57,2184927,0,0,0,0,4399587,0,0,0,24,4,3830602,3830602,19.27,4399587,3830602,16.84,19.34,36.18,0,8230189,0.02,7929764,0,0,7929764,358651400,396488200,0.10549742730685005,396488200,0.02,0,203542,16363495,6065.05]
[43,"Sabine",308502352,40146923,268355429,230027904,0.16662119826992816,253030694.40000001,5.37,1424297,9.02,2392395,0,16.489999999999998,7,2538439,6355131,0,0,0,20.21,5,1918585,1918585,14.39,3816692,4457024,7.15,23.68,30.83,0,8273716,2.5000000000000001E-2,14287830,473495,-6773,14754552,495403520,590182080,0.191315879225081,569714048,2.4209189814777161E-2,8.0228630459264368E-4,208673,23236941,6271.78]
[44,"St. Bernard",465382168,71217233,394164935,410551771,-3.9914176865163249E-2,394164935,3.91,1535138,38.200000000000003,14998023,0,0,0,0,16533161,0,0,0,0,0,0,0,42.11,16533161,0,0,41.94,41.94,0,16533161,0.02,21938441,0,0,21938441,844443900,1096922050,0.29898747566297773,971110484.99999988,0.02,0,141251,38612853,5142.8900000000003]
[45,"St. Charles",1703286291,98335726,1604950565,1700971420,-5.6450598682016656E-2,1604950565,4.04,6459987,42.06,72312857,0,0,0,0,78772844,4.3499999999999996,8010857,0,0,0,0,8010857,50.45,86783701,0,4.99,49.08,54.07,0,86783701,0.03,62875509,1113200,0,63988709,2061642567,2132956967,3.4591059159092344E-2,2132956967,2.9478095420009474E-2,5.2190457530219825E-4,273063,151045473,16703.03]
[46,"St. Helena",71306950,18505853,52801097,49927056,5.7564800135621853E-2,52801097,3.38,172960,41.13,2104557,0,0,0,0,2277517,0,0,0,0,0,0,0,44.510000000000005,2277517,0,0,43.13,43.13,0,2277517,0.02,1906987,0,0,1906987,93798350,95349350,1.6535472105852607E-2,95349350,0.02,0,31050,4215554,3969.45]
[47,"St. James",703862295,42350066,661512229,675323797,-2.0451771522572305E-2,661512229,3.85,2607003,34.380000000000003,23393094,0,0,0,0,26000097,6.6,4348375,0,0,0,0,4348375,44.830000000000005,30348472,0,6.57,39.299999999999997,45.88,0,30348472,2.5000000000000001E-2,17442244,0,0,17442244,803388720,697689760,-0.1315663978951559,697689760,2.5000000000000001E-2,0,81269,47871985,15030.45]
[48,"St. John the Baptist",857089957,84186311,772903646,772895358,1.0723314500745132E-5,772903646,3.71,2625600,26.36,18655255,0,0,0,0,21280855,11,8061743,0,0,0,0,8061743,41.07,29342598,0,10.43,27.53,37.96,0,29342598,2.5000000000000001E-2,30983471,0,0,30983471,960129080,1239338840,0.2908043989251945,1104148442,2.5000000000000001E-2,0,181110,60507179,12411.73]
[49,"St. Landry",831070020,133801247,697268773,689978055,1.0566594034646508E-2,697268773,4.37,3064319,16.149999999999999,11226161,0,0,0,0,14290480,0,0,0,0,0,0,0,20.52,14290480,0,0,20.49,20.5,3057,14293537,0.02,29638811,0,null,29638811,1411587050,1481940550,4.9840001011627305E-2,1481940550,0.02,0,714275,44646623,3630.1]
[50,"St. Martin",505208897,91495055,413713842,410928069,6.7792229593350069E-3,413713842,2.42,987905,9.49,3874030,0,0,0,0,4861935,21.5,8776783,0,0,0,0,8776783,33.409999999999997,13638718,0,21.21,11.75,32.97,0,13638718,0.02,18951238,0,0,18951238,851129150,947561900,0.11329978534984966,947561900,0.02,0,311731,32901687,4651.7299999999996]
[51,"St. Mary",613257680,75079869,538177811,573365472,-6.1370387158576581E-2,538177811,8.83,4753477,11.82,6362546,0,12.73,3,6736128,17852151,0,0,0,20,3,3907155,3907155,20.65,11116023,10643283,7.26,33.17,40.43,0,21759306,2.2000000000000002E-2,22910806,0,0,22910806,940078971,1041400273,0.107779564404276,1041400273,2.1999999994238528E-2,0,442019,45112131,5998.95]
[52,"St. Tammany",2957996970,542094715,2415902255,2380973373,1.4670001099588105E-2,2415902255,3.48,8285147,44.62,106108141,0,0,0,0,114393288,13.9,33101456,0,0,0,0,33101456,61.999999999999993,147494744,0,13.7,47.35,61.05,0,147494744,0.02,141216732,0,0,141216732,6256311650,7060836600,0.12859412941808934,7060836600,0.02,0,2102371,290813847,7947.47]
[53,"Tangipahoa",876719506,225140870,651578636,630707098,3.3092283353373643E-2,651578636,4.0599999999999996,2643843,0,0,0,15,2,4958833,7602676,0,0,0,0,0,-4,-4,4.0599999999999996,2643843,4958829,0,11.67,11.67,0,7602672,2.5000000000000001E-2,79779440,1842797,0,81622237,2925796300,3264889480,0.11589774038609592,3264889480,2.4435571399494968E-2,5.6442860050503151E-4,199421,89424330,4723.7]
[54,"Tensas",63179434,5140410,58039024,57615325,7.3539288375098115E-3,58039024,5.42,378800,32.28,1827795,0,0,0,0,2206595,0,0,0,0,0,0,0,37.700000000000003,2206595,0,0,38.020000000000003,38.299999999999997,16086,2222681,1.4999999999999999E-2,1005100,0,null,1005100,59843733,67006667,0.11969397029426623,67006667,1.499999992538056E-2,0,27688,3255469,8589.6299999999992]
[55,"Terrebonne",1180408543,180903860,999504683,1041672410,-4.0480794725090204E-2,999504683,3.86,3748095,5.41,5313062,0,0,0,0,9061157,0,0,0,0,0,0,0,9.27,9061157,0,0,9.07,9.07,0,9061157,2.58E-2,77068715,0,0,77068715,2488409225,2987159496,0.20042936105093406,2861670608.75,2.5800000001071251E-2,0,303599,86433471,5882.23]
[56,"Union",187791815,36723496,151068319,161029764,-6.1860892996154423E-2,151068319,3.55,530090,15,2216522,0,0,0,0,2746612,19,2810782,0,0,0,0,2810782,37.549999999999997,5557394,0,18.61,18.18,36.79,0,5557394,0.03,8766739,286313,0,9053052,289924967,301768400,4.084999343985439E-2,301768400,2.9051216098173301E-2,9.4878390182669885E-4,96578,14707024,5174.8900000000003]
[57,"Vermilion",418667873,96900588,321767285,328691926,-2.1067268321035667E-2,321767285,4.82,1518384,35,11025620,0,0,0,0,12544004,0,0,0,0,0,0,0,39.82,12544004,0,0,38.979999999999997,38.979999999999997,0,12544004,1.4999999999999999E-2,14139949,0,0,14139949,872532733,942663267,8.0375820124103006E-2,942663267,1.4999999994695879E-2,0,945410,27629363,3015.32]
[58,"Vernon",227899030,57886763,170012267,150122095,0.13249330153566002,165134304.5,4.18,657306,8.1199999999999992,1265127,0,19.11,0,2711600,4634033,0,0,0,30.98,0,4148279,4148279,12.299999999999999,1922433,6859879,24.4,27.26,51.66,0,8782312,0.02,16713851,0,0,16713851,786821350,835692550,6.2112193574818474E-2,835692550,0.02,0,463223,25959386,3404.51]
[59,"Washington",155010874,42447807,112563067,108170710,4.0605788757418715E-2,112563067,3.91,434794,15.07,1675793,0,5.22,1,41744,2152331,0,0,0,14,1,1183244,1183244,18.98,2110587,1224988,10.51,19.12,29.63,0,3335575,0.02,7163530,0,0,7163530,326581050,358176500,9.6746121674849167E-2,358176500,0.02,0,161235,10660340,2304.44]
[60,"Webster",318658377,58743332,259915045,265910805,-2.2548011917003521E-2,259915045,4.22,1099755,11.57,3011509,0,26.7,5,1870230,5981494,0,0,0,40,6,7476229,7476229,15.79,4111264,9346459,28.76,23.01,51.78,0,13457723,2.1299999999999999E-2,17110530,0,0,17110530,754410329,803311268,6.482008148645059E-2,803311268,2.1299999989543281E-2,0,290036,30858289,6056.58]
[61,"West Baton Rouge",633014020,51482858,581531162,513215295,0.13311346654234069,564536824.5,4.3899999999999997,2519776,39,22385254,0,0,0,0,24905030,12.45,7145932,0,0,0,0,7145932,55.84,32050962,0,12.29,42.83,55.11,0,32050962,0.02,22334776,0,0,22334776,899185500,1116738800,0.24194484897721327,1034063324.9999999,0.02,0,415658,54801396,13741.57]
[62,"West Carroll",84473229,18355570,66117659,68040322,-2.8257699897422592E-2,66117659,7.49,496160,18.23,1207406,4.57,4.57,1,131990,1835556,0,0,0,0,0,0,0,25.72,1703566,131990,0,27.76,27.76,0,1835556,0.02,4155518,0,0,4155518,166237550,207775900,0.24987344916957691,191173182.5,0.02,0,83708,6074782,3699.62]
[63,"West Feliciana",444040966,18869640,425171326,417575348,1.819067633274175E-2,425171326,4.46,1832282,29.5,12208436,0,0,0,0,14040718,8.8000000000000007,3725626,0,0,0,0,3725626,42.760000000000005,17766344,0,8.76,33.020000000000003,41.79,0,17766344,0.03,9524364,0,0,9524364,290165200,317478800,9.413120525824599E-2,317478800,0.03,0,59738,27350446,13105.15]
[64,"Winn",96680110,17340690,79339420,76001402,4.3920479256422139E-2,79339420,4.93,392873,15.72,1252658,0,3.44,0,213162,1858693,0,0,0,0,0,420582,420582,20.65,1645531,633744,5.3,23.43,28.73,0,2279275,0.02,4725966,0,0,4725966,213343800,236298300,0.10759393992232257,236298300,0.02,0,228242,7233483,3841.47]
[65,"City of Monroe",435189975,43066364,392123611,393278152,-2.9356855806218292E-3,392123611,7.04,2801964,20.47,8143208,0,0,0,0,10945172,7,2791286,0,0,0,0,2791286,34.51,13736458,0,null,null,null,0,13736458,0.02,33338353,0,0,33338353,1600513650,1666917650,4.148918067646596E-2,1666917650,0.02,0,165046,47239857,6050.19]
[66,"City of Bogalusa",123416700,19068530,104348170,104216330,1.2650608594641549E-3,104348170,6.43,674366,56.61,5914626,0,0,0,0,6588992,0,0,0,0,0,0,0,63.04,6588992,0,0,63.14,63.14,0,6588992,0.01,3918429,0,0,3918429,376050600,391842900,4.1995146397851776E-2,391842900,0.01,0,191014,10698435,5779.81]
[67,"Zachary Community",318617172.54000002,49901721,268715451.54000002,264852475.19999999,1.458538885499543E-2,268715451.54000002,5,1339629,38.200000000000003,10234247,0,0,0,0,11573876,24,6428718,0,0,0,0,6428718,67.2,18002594,0,23.92,43.07,67,0,18002594,0.02,12514594,0,0,12514594,592183750,625729700,5.6647873231914926E-2,625729700,0.02,0,104455,30621643,5537.37]
[68,"City of Baker",79205710,20898661,58307049,57503721,1.3970017696767832E-2,58307049,5,292226,38.200000000000003,2254162,0,0,0,0,2546388,0,0,0,0,0,0,0,43.2,2546388,0,0,43.67,43.67,0,2546388,0.02,4943548,0,0,4943548,241611300,247177400,2.3037415882452519E-2,247177400,0.02,0,46006,7535942,4919.0200000000004]
[69,"Central Community",270931410,69569797,201361613,193115974,4.2697860923716233E-2,201361613,3.49,777790,28.99,6480387,0,0,0,0,7258177,23.65,4712282,0,0,0,0,4712282,56.129999999999995,11970459,0,23.4,36.049999999999997,59.45,0,11970459,2.5000000000000001E-2,10088071,2522018,0,12610089,464648960,504403560,8.5558353557920366E-2,504403560,1.9999999603492094E-2,5.0000003965079073E-3,4000,24584548,5063.76]
[null,"STATE TOTAL",54004219350.720001,7424389275,46579830075.720001,46446969127,2.8604869427910221E-3,46459024659.920006,5.1392753623188421,299150118,25.524637681159415,1334242251,0,89.2,75,48931809,1682324178,4.9389855072463762,181699804,0,54.12,76,89185280,270885084,35.602898550724632,1815092173,138117089,5.82,36.119999999999997,41.93,-35877,1953173385,2.06E-2,2483943507,35944894,335170,2520223571,107563086457,122427600769.28915,0.13819345280903103,119433075863.13914,2.0299999999999999E-2,2.9999999999999997E-4,35661703,4509058659,6945.88]

{"sheet":"9_Per Pupil Summary","index":24,"n_rows":77,"n_cols":19,"rows_kept":77,"cut":false,"hidden":false,"merged":[[80,1,81,1],[0,16,1,16],[0,17,1,17],[0,15,1,15],[0,0,1,1],[0,2,0,7],[0,8,0,11],[0,12,0,13],[4,0,4,1],[2,0,2,1]]}
["School\nSystem\n\n\n",null,"Unweighted State Cost Allocation Per Pupil Amounts\nFor Types 1, 2, 3, 3B, and 4 Charter Schools",null,null,null,null,null,"Weighted State Cost Allocation Per Pupil Amounts\nFor Types 1, 2, 3, 3B, and 4 Charter Schools",null,null,null," Local Revenue Representation Per Pupil ",null,"Legacy Type 2\nCharter Schools","City/Parish\nPer Pupil\n\n(After State Cost\nAllocations to\nOther Public\nSchools)","State Cost\nAllocation\nPer Pupil\n\n(Levels 1, 2,\n& 3 without\nContinuation\nof Prior Year\nPay Raises)","Levels 1 & 2\nLocal Cost\nAllocation\nPer Pupil","State Approved\nPublic Schools"]
[null,null,"Level 1\nBase","Level 2","Level 3\nHistorical\nFormula\nAllocation\n& Mandated\nCost\nAdjustments","Unweighted\nPer Pupil\nWithout\nContinuation\nof Prior Year\nPay Raises","Level 3\nContinuation\nof Prior Year\nPay Raises","Unweighted\nPer Pupil\nWith\nContinuation\nof Prior Year\nPay Raises","Economically\nDisadvantaged","Career &\nTechnical\nEducation","Students\nWith\nDisabilities","Gifted &\nTalented","In a District\nBuilding","Not In a\nDistrict\nBuilding","Unweighted\nPer Pupil\nWithout\nContinuation\nof Prior Year\nPay Raise\n(With Local Revenue\nRepresentation)",null,null,null,"Total State Cost\n& Local Cost\nAllocation\nPer Pupil\n\n(With\nContinuation\nof Prior Year\nPay Raises)"]
["Final Charter Per Pupil",null,1,2,3,4,5,6,7,8,9,10,11,12,13,14,15,16,17]
[null,null,"Link in File","Link in File","Link in File","Formula","Values","Formula","Link in File","Link in File","Link in File","Link in File","Link to Charter Per Pupil","Link to Charter Per Pupil","Formula"]
["FY2023-24 . March 2024",null,"Charter Per\nPupil File, C1","Charter Per\nPupil File, C6","Table 3 col 28","C1 + C2 + C3","Charter Per\nPupil File, C7","C4 + C5","Charter Per\nPupil File, C2","Charter Per\nPupil File, C3","Charter Per\nPupil File, C4","Charter Per\nPupil File, C5","FINAL Charter Per\nPupil File, C9","FINALCharter Per\nPupil File, C12","C1 + C2 + C3 + C12","T2, C36","T3, C30","T3, C38","C5 + C15 + C16"]
[1,"Acadia",3045.123065576232,1096,172.95024095035302,4314.0733065265849,777.48,5091.5533065265845,669.92707442677101,182.7073839345739,4567.6845983643479,1827.0738393457391,3313,3313,7627.0733065265849,6229,5451.7369718704467,3207.39,9436.6069718704457]
[2,"Allen",3356.8429288655911,1447,172.95032851511169,4976.7932573807029,842.32,5819.1132573807026,738.50544435043003,201.41057573193544,5035.2643932983874,2014.1057573193546,3948,4560,9536.7932573807029,7418,6572.9597897503281,2985.6,10400.879789750328]
[3,"Ascension",2576.4249115291755,699,172.95023947781121,3448.3751510069865,596.84,4045.2151510069866,566.81348053641864,154.58549469175051,3864.637367293763,1545.8549469175052,7407,8459,11907.375151006987,4907,4309.8707243673971,3741.18,8647.8907243673966]
[4,"Assumption",3043.1600124183469,1246,172.95019992729917,4462.1102123456458,585.76,5047.870212345646,669.49520273203632,182.58960074510082,4564.7400186275208,1825.8960074510078,6305,6305,10767.110212345646,6780,6176.9465648854966,3654.08,10416.786564885497]
[5,"Avoyelles",3185.7938488794471,1186,172.95020161290321,4544.7440504923507,555.91,5100.6540504923505,700.87464675347837,191.14763093276684,4778.6907733191701,1911.4763093276683,3068,3068,7612.7440504923507,6682,6104.0306451612905,3074.85,9734.7906451612907]
[6,"Beauregard",2936.1208252984925,1082,172.95020897692169,4191.0710342754146,545.4799999999999,4736.5510342754142,645.94658156566834,176.16724951790957,4404.1812379477387,1761.6724951790954,5307,6387,10578.071034275414,6124,5581.6174813737962,3601.5,9728.5974813737957]
[7,"Bienville",2039.5980757951468,342,172.95037756202805,2554.5484533571744,756.91999999999985,3311.4684533571744,448.71157667493225,122.37588454770881,3059.3971136927203,1223.758845477088,15082,16347,18901.548453357173,4596,3834.1542610571737,5436.89,10027.964261057174]
[8,"Bossier",2909.1767579112266,1016,172.95022093966995,4098.1269788508962,725.76,4823.8869788508964,640.01888674046984,174.55060547467357,4363.7651368668403,1745.5060547467356,5502,6196,10294.126978850896,6027,5301.9005320587967,3493.52,9521.1805320587973]
[9,"Caddo",2638.161842225345,790,172.9502067439287,3601.1120489692739,744.76,4345.8720489692741,580.39560528957588,158.28971053352072,3957.2427633380166,1582.8971053352068,6563,7514,11115.112048969273,5427,4683.228495719527,3866.9,9294.8884957195278]
[10,"Calcasieu",2195.2626530902908,433,172.9502314814815,2801.2128845717721,608.04000000000008,3409.252884571772,482.95778367986406,131.71575918541743,3292.8939796354366,1317.1575918541744,7939,8578,11379.212884571773,4381,3764.6864447167754,4582.49,8955.2164447167743]
[11,"Caldwell",3324.5822879739608,1620,172.95054945054946,5117.53283742451,706.55,5824.0828374245102,731.40810335427136,199.47493727843764,4986.8734319609412,1994.7493727843764,3778,4480,9597.5328374245109,8114,7395.6751373626375,3464.07,11566.295137362638]
[12,"Cameron",1003.7496843375184,0,172.95066413662238,1176.7003484741408,1063.31,2240.0103484741408,220.82493055425402,60.224981060251089,1505.6245265062773,602.24981060251093,15756,17065,18241.70034847414,2800,1734.8785578747629,6810.01,9608.1985578747626]
[13,"Catahoula",3198.2040957462573,1404,172.94981060606059,4775.1539063523187,749.43000000000006,5524.583906352319,703.6049010641766,191.89224574477544,4797.3061436193857,1918.9224574477539,4818,4854,9629.1539063523196,7470,6637.65625,3452.34,10839.42625]
[14,"Claiborne",3155.0728710066551,1499,172.95044776119403,4827.0233187678496,809.9799999999999,5637.0033187678491,694.11603162146412,189.3043722603993,4732.6093065099831,1893.0437226039928,4391,4391,9218.0233187678496,8014,7156.8943283582093,3868.2,11835.074328358209]
[15,"Concordia",3199.6958579328789,1360,100,4659.6958579328784,553.79999999999995,5213.4958579328786,703.93308874523325,191.98175147597269,4799.5437868993176,1919.8175147597267,3846,3846,8505.6958579328784,6984,6359.7664783427499,3338.82,10252.386478342751]
[16,"Desoto",1611.2521737203556,0,172.95030532743735,1784.2024790477928,686.73,2470.9324790477931,354.47547821847826,96.675130423221333,2416.8782605805332,966.75130423221333,15976,18328,20112.202479047792,3190,2502.7030953885028,5449.48,8638.9130953885033]
[17,"East Baton Rouge",1961.6611091762729,230,415.31674019038775,2606.9778493666608,801.48,3408.4578493666609,431.56544401878006,117.69966655057637,2942.4916637644096,1176.9966655057635,8289,9508,12114.97784936666,4181,3386.0536336196888,4776.6899999999996,8964.2236336196875]
[18,"East Carroll",3083.8617142892786,1337,172.94973544973544,4593.8114497390134,845.94999999999993,5439.7614497390132,678.44957714364136,185.03170285735675,4625.7925714339181,0,4595,4595,9188.8114497390125,7386,6532.4748677248681,3740.07,11118.494867724869]
[19,"East Feliciana",2439.233193068595,700,172.95021511985249,3312.1834081884476,905.43,4217.6134081884475,536.63130247509093,146.35399158411568,3658.849789602893,1463.5399158411569,6208,6208,9520.1834081884481,5631,4725.1757836508914,4643.99,10274.595783650891]
[20,"Evangeline",3263.0389180691213,1413,100,4776.0389180691218,586.16999999999996,5362.2089180691219,717.86856197520683,195.78233508414732,4894.5583771036827,1957.8233508414728,3288,3409,8185.0389180691218,7079,6496.0502908613253,3232.96,10315.180290861324]
[21,"Franklin",3217.349610821811,1449,172.95013425393174,4839.299745075743,610.35,5449.6497450757433,707.81691438079838,193.04097664930865,4826.0244162327162,1930.4097664930862,2575,3704,8543.299745075743,7430,6812.1779823551979,3488.66,10911.187982355197]
[22,"Grant",3494.513159113541,1542,172.95011169024571,5209.4632708037871,496.36,5705.8232708037867,768.79289500497907,209.67078954681244,5241.7697386703112,2096.7078954681242,1644,2760,7969.4632708037871,7959,7458.177959791512,2839.2,10793.737959791511]
[23,"Iberia",2989.2802592457324,1102,172.95022133887434,4264.230480584607,688.58,4952.8104805846069,657.64165703406115,179.35681555474395,4483.9203888685997,1793.5681555474393,3380,4629,8893.230480584607,6271,5578.0691119342309,3441.94,9708.5891119342305]
[24,"Iberville",1003.7500050343608,0,500.75902155485591,1504.5090265892168,854.24999999999989,2358.7590265892168,220.82500110755942,60.225000302061645,1505.6250075515413,602.25000302061642,22900,23645,25149.509026589218,2842,1983.7943812061033,6466.03,9304.0743812061028]
[25,"Jackson",2813.9148626382766,1031,172.95009596928983,4017.8649586075667,653.73,4671.5949586075667,619.06126978042096,168.83489175829661,4220.8722939574154,1688.3489175829659,5834,5834,9851.8649586075662,6241,5579.4289827255279,3990.53,10223.688982725529]
[26,"Jefferson",2156.0623656790576,399,407.88102422088122,2962.9433898999387,836.83,3799.7733898999386,474.33372044939267,129.36374194074347,3234.0935485185864,1293.6374194074344,7057,7632,10594.943389899938,4745,3900.2994957427463,4625.8999999999996,9363.0294957427468]
[27,"Jefferson Davis",3115.0760888812165,1268,172.95027195027194,4556.0263608314881,693.06,5249.0863608314885,685.31673955386759,186.90456533287301,4672.6141333218238,1869.0456533287297,4137,4861,9417.026360831489,6841,6147.0186480186476,3422.21,10262.288648018646]
[28,"Lafayette",2374.2123067694429,544,231.93957391484207,3150.1518806842851,694.4,3844.5518806842852,522.3267074892774,142.45273840616659,3561.3184601541639,1424.5273840616655,6394,7044,10194.151880684285,4670,3964.4654433708597,4036.25,8695.1154433708598]
[29,"Lafourche",2814.1748031408551,899,172.95019965343178,3886.125002794287,754.94999999999993,4641.0750027942868,619.11845669098818,168.85048818845129,4221.2622047112827,1688.504881884513,5334,6035,9921.1250027942879,5642,4886.9483914714083,3478.8,9120.6983914714074]
[30,"LaSalle",3214.4500620225795,1330,172.95018679950186,4717.4002488220813,727.17,5444.5702488220813,707.17901364496743,192.86700372135473,4821.6750930338685,1928.6700372135476,4222,5731,10448.400248822081,7002,6271.0232461602327,3212.14,10210.333246160233]
[31,"Lincoln",2629.2908667377351,829,172.95025756600128,3631.2411243037363,620.83000000000004,4252.0711243037367,578.44399068230177,157.75745200426411,3943.9363001066026,1577.5745200426411,7204,8309,11940.241124303737,5550,4929.0017707662591,4108.84,9658.6717707662592]
[32,"Livingston",3299.1970595081611,1338,172.95022488755623,4810.1472843957172,559.77,5369.9172843957167,725.82335309179541,197.95182357048964,4948.7955892622413,1979.5182357048966,3290,3621,8431.1472843957163,6738,6175.2446776611696,2941.88,9676.8946776611701]
[33,"Madison",2862.0605182525533,1136,172.95049504950495,4171.011013302058,655.31000000000006,4826.3210133020584,629.65331401556159,171.72363109515319,4293.0907773788304,1717.2363109515318,2831,5102,9273.0110133020571,6669,6015.8143564356433,4141.09,10812.214356435645]
[34,"Morehouse",3130.2770726407243,1334,172.95025188916875,4637.2273245298929,644.11000000000013,5281.3373245298935,688.66095598095944,187.81662435844345,4695.4156089610869,1878.1662435844341,4287,4996,9633.2273245298929,7083,6432.4870906801007,3540.29,10616.887090680102]
[35,"Natchitoches",2617.4645538864011,816,172.95022986208275,3606.4147837484838,537.96,4144.3747837484843,575.84220185500828,157.04787323318405,3926.1968308296014,1570.4787323318403,6522,7001,10607.414783748483,5425,4887.6516090345795,4115.0200000000004,9540.631609034579]
[36,"Orleans*",2289.3832001653386,514,172.95022288261515,2976.3334230479536,746.03,3722.3634230479538,503.66430403637469,137.36299200992033,3434.0748002480082,1373.629920099203,7582,8424,11400.333423047954,4733,3991.0815885451843,4460.99,9198.1015885451852]
[37,"Ouachita",3124.3487051556572,1183,172.95022317645063,4480.2989283321076,653.61,5133.9089283321073,687.3567151342445,187.4609223093394,4686.5230577334851,1874.6092230933943,4556,5588,10068.298928332108,6385,5731.4360698344535,3159.39,9544.4360698344535]
[38,"Plaquemines",1280.8656231416264,0,449.83982202447163,1730.7054451660981,829.92000000000007,2560.625445166098,281.7904370911578,76.851937388497589,1921.2984347124398,768.51937388497583,19704,19704,21434.705445166099,3254,2422.8998887652947,6314.51,9567.3298887652945]
[39,"Pointe Coupee",1823.9584233775829,139,307.73142382731425,2270.689847204897,779.66,3050.3498472048968,401.27085314306822,109.43750540265496,2735.9376350663742,1094.3750540265496,9767,9767,12037.689847204896,4242,3460.7202158572022,5877.27,10117.650215857204]
[40,"Rapides",2924.2302062733279,1053,172.95022075590705,4150.180427029235,700.2700000000001,4850.4504270292355,643.33064538013207,175.45381237639967,4386.3453094099914,1754.5381237639965,5182,5781,9931.1804270292341,6159,5460.9550240163016,3556.64,9717.8650240163024]
[41,"Red River",1644.5154162079129,0,172.95016891891891,1817.4655851268319,886.22,2703.6855851268319,361.79339156574082,98.670924972474765,2466.7731243118697,986.70924972474768,18397,20363,22180.465585126833,3735,2844.1503378378379,6067.74,9798.1103378378375]
[42,"Richland",2747.6729415937834,974,172.95033358042994,3894.6232751742132,534.28,4428.9032751742134,604.48804715063227,164.86037649562698,4121.5094123906738,1648.6037649562695,4720,6067,9961.6232751742136,5974,5437.2702001482576,4110.01,10081.560200148258]
[43,"Sabine",2822.0379005761738,1010,172.95033738191634,4004.9882379580899,574.6099999999999,4579.5982379580901,620.84833812675834,169.32227403457046,4233.0568508642609,1693.2227403457043,6137,6797,10801.98823795809,6029,5453.8917678812413,3871.26,9899.7617678812421]
[44,"St. Bernard",2986.1691942787324,1061,172.95018646776771,4220.1193807465006,663.16000000000008,4883.2793807465005,656.95722274132106,179.17015165672393,4479.2537914180984,1791.701516567239,5555,5555,9775.1193807465006,6049,5384.3750665956313,3327.13,9374.6650665956313]
[45,"St. Charles",1425.0563471445871,0,418.88554683180359,1843.9418939763907,753.96000000000015,2597.901893976391,313.51239637180907,85.503380828675205,2137.5845207168804,855.03380828675222,17056,19026,20869.941893976389,3152,2398.257768439677,5493.47,8645.6877684396768]
[46,"St. Helena",3329.5867523325564,1646,172.95009416195856,5148.536846494515,728.06,5876.5968464945145,732.50908551316218,199.77520513995336,4994.380128498834,1997.7520513995332,2403,4192,9340.536846494515,8272,7503.6280602636534,3500.71,11732.398060263655]
[47,"St. James",1527.9756199523397,0,433.00282574568291,1960.9784456980226,910.76,2871.7384456980226,336.15463638951474,91.678537197140372,2291.9634299285094,916.78537197140383,14628,16003,17963.978445698023,3715,2804.3048665620095,5978.2,9693.264866562009]
[48,"St. John",1813.8799720770357,117,172.95015384615385,2103.8301259231894,871.07,2974.9001259231895,399.05359385694783,108.83279832462213,2720.8199581155532,1088.3279832462215,9931,12493,14596.830125923188,3898,3024.7657435897436,5375.88,9271.7157435897443]
[49,"St. Landry",3003.9546031614414,1123,172.95023985689895,4299.9048430183402,574.43999999999994,4874.3448430183398,660.87001269551706,180.23727618968647,4505.9319047421623,1802.3727618968646,3821,3821,8120.9048430183402,6257,5655.501748109602,3448.36,9678.3017481096012]
[50,"St. Martin",2906.2881241806867,1006,172.95023328149301,4085.2383574621799,634.46,4719.69835746218,639.38338731975114,174.37728745084121,4359.4321862710303,1743.7728745084123,3766,5052,9137.2383574621799,5903,5256.5888590414252,3471.04,9362.0888590414252]
[51,"St. Mary",2841.2226372569671,1016,172.95026595744682,4030.172903214414,706.66,4736.8329032144138,625.06898019653272,170.473358235418,4261.8339558854505,1704.73358235418,6006,6562,10592.172903214414,6147,5439.8922872340427,3798.89,9945.4422872340419]
[52,"St. Tammany",2623.1677045509382,797,172.9502076956712,3593.1179122466092,658.37,4251.4879122466091,577.09689500120646,157.39006227305632,3934.7515568264075,1573.9006227305631,7210,8117,11710.117912246609,5421,4763.8642599475297,3987.38,9409.6142599475297]
[53,"Tangipahoa",2992.374898392191,1095,172.95024034652158,4260.3251387387127,689.74,4950.0651387387124,658.32247764628198,179.54249390353141,4488.5623475882858,1795.4249390353143,3823,4646,8906.3251387387136,6227,5537.8993185779937,3407.42,9635.0593185779944]
[54,"Tensas",2354.592822586219,710,172.94986807387863,3237.5426906600978,951.45,4188.9926906600977,518.01042096896811,141.27556935517313,3531.8892338793285,1412.7556935517312,9111,9111,12348.542690660099,6150,5124.7176781002636,5450.69,11526.857678100263]
[55,"Terrebonne",2576.5045893485835,732,172.95025180345721,3481.4548411520409,795.14,4276.5948411520412,566.83100965668848,154.59027536091503,3864.7568840228755,1545.9027536091503,5876,5876,9357.4548411520409,5302,4507.648972369675,3919.83,9222.6189723696752]
[56,"Union",3144.1385266989487,1292,172.95038705137227,4609.0889137503218,614.66000000000008,5223.7489137503217,691.71047587376881,188.64831160193691,4716.2077900484228,1886.4831160193692,4473,5641,10250.088913750322,7155,6211.3676988036596,3375.45,10201.477698803659]
[57,"Vermilion",3186.2877995443037,1206,172.95023463931028,4565.2380341836133,764.51,5329.7480341836135,700.9833158997468,191.1772679726582,4779.4316993164557,1911.7726797265821,3108,3108,7673.2380341836133,6545,5780.9083269671501,3015.32,9560.73832696715]
[58,"Vernon",3303.2450144188956,1305,172.95016393442623,4781.1951783533214,697.04,5478.2351783533213,726.71390317215707,198.19470086513374,4954.8675216283436,1981.9470086513375,2868,3252,8033.1951783533214,6711,6020.5582950819671,2856.18,9573.7782950819674]
[59,"Washington",3523.9124431887849,1193,172.95028102031992,4889.8627242091052,689.52,5579.3827242091047,775.26073750153273,211.43474659132707,5285.8686647831773,2114.3474659132712,2182,2399,7288.8627242091052,7751,7058.5940337224383,2304.44,10052.554033722439]
[60,"Webster",2952.9241748949048,1134,172.95014720314035,4259.874322098045,594.04,4853.914322098045,649.64331847687913,177.17545049369429,4429.3862623423565,1771.7545049369428,4787,6247,10506.874322098045,6399,5809.0155053974486,3700.24,10103.295505397447]
[61,"West Baton Rouge",1810.4182816780331,116,172.9501003009027,2099.3683819789358,833.70999999999992,2933.0783819789358,398.29202196916731,108.625096900682,2715.6274225170496,1086.2509690068198,12240,13718,15817.368381978937,3898,3060.2349548645939,5464.12,9358.0649548645943]
[62,"West Carroll",3245.890182574592,1471,172.95006090133984,4889.8402434759319,516.08000000000004,5405.9202434759318,714.0958401664102,194.75341095447553,4868.8352738618878,0,3728,3728,8617.8402434759319,7377,6860.8635809987818,3430.19,10807.133580998781]
[63,"West Feliciana",1864.1659894295935,170,425.90129372304744,2460.0672831526408,756.79,3216.8572831526408,410.11651767451059,111.8499593657756,2796.2489841443899,1118.4995936577559,11871,13546,16006.067283152641,4314,3555.7465261140392,5581.82,9894.3565261140393]
[64,"Winn",3160.9200311498307,1402,172.95007966011684,4735.8701108099476,592.66,5328.5301108099475,695.40240685296271,189.65520186898985,4741.3800467247447,1896.552018689898,4092,4291,9026.8701108099485,7291,6694.2873074880508,3594.1,10881.04730748805]
[65,"City Of Monroe",2729.5925730908339,910,172.9501793032787,3812.5427523941125,829.12,4641.6627523941124,600.51036607998344,163.77555438545005,4094.3888596362513,1637.7555438545,5800,6166,9978.5427523941125,5962,5132.8422131147545,3932.62,9894.5822131147543]
[66,"City Of Bogalusa",2814.1824272121789,1133,172.95029713668288,4120.1327243488622,730.06,4850.1927243488626,619.12013398667932,168.85094563273069,4221.2736408182673,1688.5094563273071,5637,5637,9757.1327243488631,6868,6118.4478660183686,4387.59,11236.097866018368]
[67,"Zachary Community",3101.2805079834147,1169,172.95027124773961,4443.230779231154,715.61,5158.8407792311536,682.28171175635123,186.07683047900488,4651.9207619751223,1860.7683047900487,4600,5803,10246.230779231155,6407,5705.7757685352626,3206.6,9627.9857685352617]
[68,"City Of Baker",3056.2053333555596,1222,172.95039164490862,4451.155725000468,798.7,5249.8557250004678,672.36517333822314,183.37232000133355,4584.3080000333393,1833.7232000133358,5006,5006,9457.155725000468,7190,6038.3244125326373,3530.66,10367.684412532637]
[69,"Central Community",3241.4852684857615,1328,172.95015447991761,4742.4354229656792,705.67,5448.1054229656793,713.12675906686752,194.4891161091457,4862.2279027286422,1944.8911610914565,3849,5423,10165.435422965678,6922,6219.065911431514,3112.64,10037.375911431514]
[null,"State Total",2607.3417379565331,786,218.29402929895096,3611.6357672554841,null,3611.6357672554841,572.49102561741142,157.99516769161647,3934.7838677618738,1528.2574303194338,6156,6911,10522.635767255484,5480,4756.3184019594255,3975.43,8731.7484019594249]
[]
[null,null,"* Continuation of prior year pay raise is $732 for Types 1, 3, 3B, and 4 Charter Schools in Orleans Parish"]