{"text_format":"1","workbook":"xlsx","n_sheets":29,"sheets":["Leg Type 2 Res Summary","New Type 2 Res Summary","LEA Summary","Track Changes Proj 23-24 Sim","Table List","Data Sources","for incrementing columns (DNCHG","1_State Summary","2_State Distrib and Adjs","2A-1_EFT (Annual)","2A-2_EFT (Monthly)","3_Levels 1&2","3A_Level 3","4_Level 4","5A1_Labs","for incrementing rows (DNCHG)","5A2_Legacy Type 2","5A3_OJJ","5A4_NOCCA","5A5_LSMSA","5A6_Thrive","5A7_SSD","5B2_RSD LA","5C1_NewType 2","6_Local Deduct Calc","7_Local Revenue","8_2.1.24 SIS BASE","8_RSD Op & 5s","9_Per Pupil Summary"],"not_rendered":{"charts":0,"images":0,"macros":1,"external_links":1,"defined_names":139,"comments":0,"pivot_tables":0},"unopened":[],"bounds":{"document_bytes":16777216,"sheet_cells":100000,"rows_first":2000,"rows_last":500,"rows_between":2000,"halvings":0,"cell_chars":16384,"cell_head_chars":4096},"cells_cut":0,"cells_raw":0,"read":"whole","date_system":"1900"}

{"sheet":"Leg Type 2 Res Summary","index":0,"n_rows":91,"n_cols":32,"rows_kept":91,"cut":false,"hidden":true,"merged":[[89,0,89,1],[90,0,90,1],[1,30,2,30],[1,25,2,25],[1,26,2,26],[1,27,2,27],[1,28,2,28],[1,29,2,29],[81,0,81,1],[84,0,84,1],[75,0,75,1],[76,0,76,1],[77,0,77,1],[78,0,78,1],[79,0,79,1],[80,0,80,1],[82,0,82,1],[83,0,83,1],[0,0,2,1],[0,2,0,9],[0,10,0,19],[0,20,0,26],[0,27,0,31],[1,2,2,2],[1,3,1,6],[1,7,1,9],[1,10,1,12],[1,13,1,15],[1,31,2,31],[1,16,1,18],[1,19,2,19],[1,20,1,22],[1,23,2,23],[1,24,2,24]]}
["Table 5A2\nLegacy Type 2\nCharter Schools",null,"MFP State Cost Allocation",null,null,null,null,null,null,null,"MFP State Cost Allocation",null,null,null,null,null,null,null,null,null,"MFP State Cost Allocation",null,null,null,null,null,null,"MFP State Cost Allocation"]
[null,null,"Feb. 1, 2021\nMFP Funded\nMembership\n\n(Per SIS)","Unweighted Legacy Type 2 Charter School\n(Includes Initial Local Revenue Representation)",null,null,null,"Economically Disadvantaged (ED)",null,null,"Career & Technical Units (CTE)",null,null,"Students with Disabilities (SWD)",null,null,"Gifted & Talented (GT)",null,null,"Total MFP\nState Cost\nAllocation\n\n(Levels 1,\n2, & 3)","Mid-Year Adjustment for Students",null,null,"Total MFP\nState Cost\nAllocation\n+/- Mid-Year\nAdjustments","State\nAdmin Fee\nto the\nDept. of\nEducation\n\n0.25%","Total MFP\nState Cost\nAllocation\n+/- Mid-Year\nAdjustments\n- Admin Fee","Prior Years\nMFP Audit\nAdjustments\n\n(Includes\nFY2019-20\nand\nFY2020-21)","Total MFP State\nCost Allocation\n+/- Mid-Year Adjs\n- Admin Fee\n+/- Audit Adjs\n+ Monthly Level 4","Year To\nDate\nState\nPayments","Balance\nDue","State Cost\nAllocation\nMonthly\nPayment\n","Total MFP State\nCost Allocation\n+/- Mid-Year Adjs\n- Admin Fee\n+/- Audit Adjs\n+ Total Level 4"]
[null,null,null,"Per Pupil","Unweighted\nState Cost\nAllocation\nWithout\nContinuation\nof Prior Year\nPay Raises","Per Pupil","Continuation\nof Prior Year\nPay Raises\nState Cost\nAllocation","Student Count\n\n(Per SIS\n2-1-21)","Per Pupil","State Cost\nAllocation","Student Count\n\n(Per SIS\n10-1-20)","Per Pupil","State Cost\nAllocation","Student Count\n\n(Per SER\n2-1-21)","Per Pupil","State Cost\nAllocation","Student Count\n\n(Per SER\n2-1-21)","Per Pupil","State Cost\nAllocation",null,"October\n2021\nMid-Year\nAdjustment\nfor Students","February\n2022\nMid-Year\nAdjustment\nfor Students","Total\nMid-Year\nAdjustment\nfor Students"]
[null,null,1,{"$f":"C4+1","v":2},3,{"$f":"E4+1","v":4},{"$f":"F4+1","v":5},{"$f":"G4+1","v":6},7,8,9,10,11,12,13,14,15,16,17,18,19,20,21,22,23,24,25,{"$f":"AA4+1","v":26},{"$f":"AB4+1","v":27},{"$f":"AC4+1","v":28},{"$f":"AD4+1","v":29},{"$f":"AE4+1","v":30}]
[null,null,"(T8, C35)","T9, C13","C1 x C2","Historical Data","C1 x C4","Link to ED Tab in Student Count File","T9, C7","C6 x C7","Link to CTE Tab in Student Count File","T9, C8","C9 x C10","Link to SWD Tab in Student Count File","T9, C9","C12 x C13","Link to GT Tab in Student Count File","T9, C10","C15 x C16","C3 + C5 + C8 + C11 + C14 + C17","Link to October Tab in Mid-Year File","Link to February Tab in Mid-Year File","C19 + C20","C18 + C21","C22 x -.25%","C22 + C23","Link to Audit File","C24 + C25;\n(T4, C2; C14; C26; C38)","Prior Month File: (T5A2A, C27 + C29)","C26 - C27","C28 ÷ Months Remaining","C26;\n(T4, C2; C7; C9;\nC10; C14; C26; C38)"]
[null,null,"Link in File","Link in File","Formula","Values","Formula","Link to \"Counts in Budget Letter\"","Link in File","Formula","Link to \"Counts in Budget Letter\"","Link in File","Formula","Link to \"Counts in Budget Letter\"","Link in File","Formula","Link to \"Counts in Budget Letter\"","Link in File","Formula","Formula","Link to Mid-Year File","Link to Mid-Year File","Formula","Formula","Formula","Formula","Link to Audit File","T4, C2; T4, C14","Link to Prior Month","Formula","Formula","T4, C7; T4, C9; T4, C10"]
[1,"Acadia",{"$f":"#REF!+#REF!+#REF!+#REF!+#REF!+#REF!+#REF!","v":{"$error":"#REF!"}},{"$f":"'9_Per Pupil Summary'!O6","v":7841.7907142840832},{"$f":"#REF!+#REF!+#REF!+#REF!+#REF!+#REF!+#REF!","v":{"$error":"#REF!"}},null,{"$f":"#REF!+#REF!+#REF!+#REF!+#REF!+#REF!+#REF!","v":{"$error":"#REF!"}},{"$f":"#REF!+#REF!+#REF!+#REF!+#REF!+#REF!+#REF!","v":{"$error":"#REF!"}},{"$f":"'9_Per Pupil Summary'!I6","v":674.60313599514188},{"$f":"#REF!+#REF!+#REF!+#REF!+#REF!+#REF!+#REF!","v":{"$error":"#REF!"}},{"$f":"#REF!+#REF!+#REF!+#REF!+#REF!+#REF!+#REF!","v":{"$error":"#REF!"}},{"$f":"'9_Per Pupil Summary'!J6","v":183.98267345322051},{"$f":"#REF!+#REF!+#REF!+#REF!+#REF!+#REF!+#REF!","v":{"$error":"#REF!"}},{"$f":"#REF!+#REF!+#REF!+#REF!+#REF!+#REF!+#REF!","v":{"$error":"#REF!"}},{"$f":"'9_Per Pupil Summary'!K6","v":4599.5668363305131},{"$f":"#REF!+#REF!+#REF!+#REF!+#REF!+#REF!+#REF!","v":{"$error":"#REF!"}},{"$f":"#REF!+#REF!+#REF!+#REF!+#REF!+#REF!+#REF!","v":{"$error":"#REF!"}},{"$f":"'9_Per Pupil Summary'!L6","v":1839.8267345322051},{"$f":"#REF!+#REF!+#REF!+#REF!+#REF!+#REF!+#REF!","v":{"$error":"#REF!"}},{"$f":"#REF!+#REF!+#REF!+#REF!+#REF!+#REF!+#REF!","v":{"$error":"#REF!"}},{"$f":"#REF!+#REF!+#REF!+#REF!+#REF!+#REF!+#REF!","v":{"$error":"#REF!"}},{"$f":"#REF!+#REF!+#REF!+#REF!+#REF!+#REF!+#REF!","v":{"$error":"#REF!"}},{"$f":"#REF!+#REF!+#REF!+#REF!+#REF!+#REF!+#REF!","v":{"$error":"#REF!"}},{"$f":"#REF!+#REF!+#REF!+#REF!+#REF!+#REF!+#REF!","v":{"$error":"#REF!"}},{"$f":"#REF!+#REF!+#REF!+#REF!+#REF!+#REF!+#REF!","v":{"$error":"#REF!"}},{"$f":"#REF!+#REF!+#REF!+#REF!+#REF!+#REF!+#REF!","v":{"$error":"#REF!"}},{"$f":"#REF!+#REF!+#REF!+#REF!+#REF!+#REF!+#REF!","v":{"$error":"#REF!"}},{"$f":"#REF!+#REF!+#REF!+#REF!+#REF!+#REF!+#REF!","v":{"$error":"#REF!"}},{"$f":"#REF!+#REF!+#REF!+#REF!+#REF!+#REF!+#REF!","v":{"$error":"#REF!"}},{"$f":"#REF!+#REF!+#REF!+#REF!+#REF!+#REF!+#REF!","v":{"$error":"#REF!"}},{"$f":"#REF!+#REF!+#REF!+#REF!+#REF!+#REF!+#REF!","v":{"$error":"#REF!"}},{"$f":"#REF!+#REF!+#REF!+#REF!+#REF!+#REF!+#REF!","v":{"$error":"#REF!"}}]
[2,"Allen",{"$f":"#REF!+#REF!+#REF!+#REF!+#REF!+#REF!+#REF!","v":{"$error":"#REF!"}},{"$f":"'9_Per Pupil Summary'!O7","v":9287.6699809118181},{"$f":"#REF!+#REF!+#REF!+#REF!+#REF!+#REF!+#REF!","v":{"$error":"#REF!"}},null,{"$f":"#REF!+#REF!+#REF!+#REF!+#REF!+#REF!+#REF!","v":{"$error":"#REF!"}},{"$f":"#REF!+#REF!+#REF!+#REF!+#REF!+#REF!+#REF!","v":{"$error":"#REF!"}},{"$f":"'9_Per Pupil Summary'!I7","v":740.57656090127114},{"$f":"#REF!+#REF!+#REF!+#REF!+#REF!+#REF!+#REF!","v":{"$error":"#REF!"}},{"$f":"#REF!+#REF!+#REF!+#REF!+#REF!+#REF!+#REF!","v":{"$error":"#REF!"}},{"$f":"'9_Per Pupil Summary'!J7","v":201.97542570034668},{"$f":"#REF!+#REF!+#REF!+#REF!+#REF!+#REF!+#REF!","v":{"$error":"#REF!"}},{"$f":"#REF!+#REF!+#REF!+#REF!+#REF!+#REF!+#REF!","v":{"$error":"#REF!"}},{"$f":"'9_Per Pupil Summary'!K7","v":5049.3856425086669},{"$f":"#REF!+#REF!+#REF!+#REF!+#REF!+#REF!+#REF!","v":{"$error":"#REF!"}},{"$f":"#REF!+#REF!+#REF!+#REF!+#REF!+#REF!+#REF!","v":{"$error":"#REF!"}},{"$f":"'9_Per Pupil Summary'!L7","v":2019.754257003467},{"$f":"#REF!+#REF!+#REF!+#REF!+#REF!+#REF!+#REF!","v":{"$error":"#REF!"}},{"$f":"#REF!+#REF!+#REF!+#REF!+#REF!+#REF!+#REF!","v":{"$error":"#REF!"}},{"$f":"#REF!+#REF!+#REF!+#REF!+#REF!+#REF!+#REF!","v":{"$error":"#REF!"}},{"$f":"#REF!+#REF!+#REF!+#REF!+#REF!+#REF!+#REF!","v":{"$error":"#REF!"}},{"$f":"#REF!+#REF!+#REF!+#REF!+#REF!+#REF!+#REF!","v":{"$error":"#REF!"}},{"$f":"#REF!+#REF!+#REF!+#REF!+#REF!+#REF!+#REF!","v":{"$error":"#REF!"}},{"$f":"#REF!+#REF!+#REF!+#REF!+#REF!+#REF!+#REF!","v":{"$error":"#REF!"}},{"$f":"#REF!+#REF!+#REF!+#REF!+#REF!+#REF!+#REF!","v":{"$error":"#REF!"}},{"$f":"#REF!+#REF!+#REF!+#REF!+#REF!+#REF!+#REF!","v":{"$error":"#REF!"}},{"$f":"#REF!+#REF!+#REF!+#REF!+#REF!+#REF!+#REF!","v":{"$error":"#REF!"}},{"$f":"#REF!+#REF!+#REF!+#REF!+#REF!+#REF!+#REF!","v":{"$error":"#REF!"}},{"$f":"#REF!+#REF!+#REF!+#REF!+#REF!+#REF!+#REF!","v":{"$error":"#REF!"}},{"$f":"#REF!+#REF!+#REF!+#REF!+#REF!+#REF!+#REF!","v":{"$error":"#REF!"}},{"$f":"#REF!+#REF!+#REF!+#REF!+#REF!+#REF!+#REF!","v":{"$error":"#REF!"}}]
[3,"Ascension",{"$f":"#REF!+#REF!+#REF!+#REF!+#REF!+#REF!+#REF!","v":{"$error":"#REF!"}},{"$f":"'9_Per Pupil Summary'!O8","v":10263.941040457432},{"$f":"#REF!+#REF!+#REF!+#REF!+#REF!+#REF!+#REF!","v":{"$error":"#REF!"}},null,{"$f":"#REF!+#REF!+#REF!+#REF!+#REF!+#REF!+#REF!","v":{"$error":"#REF!"}},{"$f":"#REF!+#REF!+#REF!+#REF!+#REF!+#REF!+#REF!","v":{"$error":"#REF!"}},{"$f":"'9_Per Pupil Summary'!I8","v":556.27619879455631},{"$f":"#REF!+#REF!+#REF!+#REF!+#REF!+#REF!+#REF!","v":{"$error":"#REF!"}},{"$f":"#REF!+#REF!+#REF!+#REF!+#REF!+#REF!+#REF!","v":{"$error":"#REF!"}},{"$f":"'9_Per Pupil Summary'!J8","v":151.71169058033354},{"$f":"#REF!+#REF!+#REF!+#REF!+#REF!+#REF!+#REF!","v":{"$error":"#REF!"}},{"$f":"#REF!+#REF!+#REF!+#REF!+#REF!+#REF!+#REF!","v":{"$error":"#REF!"}},{"$f":"'9_Per Pupil Summary'!K8","v":3792.7922645083386},{"$f":"#REF!+#REF!+#REF!+#REF!+#REF!+#REF!+#REF!","v":{"$error":"#REF!"}},{"$f":"#REF!+#REF!+#REF!+#REF!+#REF!+#REF!+#REF!","v":{"$error":"#REF!"}},{"$f":"'9_Per Pupil Summary'!L8","v":1517.1169058033354},{"$f":"#REF!+#REF!+#REF!+#REF!+#REF!+#REF!+#REF!","v":{"$error":"#REF!"}},{"$f":"#REF!+#REF!+#REF!+#REF!+#REF!+#REF!+#REF!","v":{"$error":"#REF!"}},{"$f":"#REF!+#REF!+#REF!+#REF!+#REF!+#REF!+#REF!","v":{"$error":"#REF!"}},{"$f":"#REF!+#REF!+#REF!+#REF!+#REF!+#REF!+#REF!","v":{"$error":"#REF!"}},{"$f":"#REF!+#REF!+#REF!+#REF!+#REF!+#REF!+#REF!","v":{"$error":"#REF!"}},{"$f":"#REF!+#REF!+#REF!+#REF!+#REF!+#REF!+#REF!","v":{"$error":"#REF!"}},{"$f":"#REF!+#REF!+#REF!+#REF!+#REF!+#REF!+#REF!","v":{"$error":"#REF!"}},{"$f":"#REF!+#REF!+#REF!+#REF!+#REF!+#REF!+#REF!","v":{"$error":"#REF!"}},{"$f":"#REF!+#REF!+#REF!+#REF!+#REF!+#REF!+#REF!","v":{"$error":"#REF!"}},{"$f":"#REF!+#REF!+#REF!+#REF!+#REF!+#REF!+#REF!","v":{"$error":"#REF!"}},{"$f":"#REF!+#REF!+#REF!+#REF!+#REF!+#REF!+#REF!","v":{"$error":"#REF!"}},{"$f":"#REF!+#REF!+#REF!+#REF!+#REF!+#REF!+#REF!","v":{"$error":"#REF!"}},{"$f":"#REF!+#REF!+#REF!+#REF!+#REF!+#REF!+#REF!","v":{"$error":"#REF!"}},{"$f":"#REF!+#REF!+#REF!+#REF!+#REF!+#REF!+#REF!","v":{"$error":"#REF!"}}]
[4,"Assumption",{"$f":"#REF!+#REF!+#REF!+#REF!+#REF!+#REF!+#REF!","v":{"$error":"#REF!"}},{"$f":"'9_Per Pupil Summary'!O9","v":11014.724260130202},{"$f":"#REF!+#REF!+#REF!+#REF!+#REF!+#REF!+#REF!","v":{"$error":"#REF!"}},null,{"$f":"#REF!+#REF!+#REF!+#REF!+#REF!+#REF!+#REF!","v":{"$error":"#REF!"}},{"$f":"#REF!+#REF!+#REF!+#REF!+#REF!+#REF!+#REF!","v":{"$error":"#REF!"}},{"$f":"'9_Per Pupil Summary'!I9","v":666.66851990284442},{"$f":"#REF!+#REF!+#REF!+#REF!+#REF!+#REF!+#REF!","v":{"$error":"#REF!"}},{"$f":"#REF!+#REF!+#REF!+#REF!+#REF!+#REF!+#REF!","v":{"$error":"#REF!"}},{"$f":"'9_Per Pupil Summary'!J9","v":181.8186872462303},{"$f":"#REF!+#REF!+#REF!+#REF!+#REF!+#REF!+#REF!","v":{"$error":"#REF!"}},{"$f":"#REF!+#REF!+#REF!+#REF!+#REF!+#REF!+#REF!","v":{"$error":"#REF!"}},{"$f":"'9_Per Pupil Summary'!K9","v":4545.4671811557573},{"$f":"#REF!+#REF!+#REF!+#REF!+#REF!+#REF!+#REF!","v":{"$error":"#REF!"}},{"$f":"#REF!+#REF!+#REF!+#REF!+#REF!+#REF!+#REF!","v":{"$error":"#REF!"}},{"$f":"'9_Per Pupil Summary'!L9","v":1818.186872462303},{"$f":"#REF!+#REF!+#REF!+#REF!+#REF!+#REF!+#REF!","v":{"$error":"#REF!"}},{"$f":"#REF!+#REF!+#REF!+#REF!+#REF!+#REF!+#REF!","v":{"$error":"#REF!"}},{"$f":"#REF!+#REF!+#REF!+#REF!+#REF!+#REF!+#REF!","v":{"$error":"#REF!"}},{"$f":"#REF!+#REF!+#REF!+#REF!+#REF!+#REF!+#REF!","v":{"$error":"#REF!"}},{"$f":"#REF!+#REF!+#REF!+#REF!+#REF!+#REF!+#REF!","v":{"$error":"#REF!"}},{"$f":"#REF!+#REF!+#REF!+#REF!+#REF!+#REF!+#REF!","v":{"$error":"#REF!"}},{"$f":"#REF!+#REF!+#REF!+#REF!+#REF!+#REF!+#REF!","v":{"$error":"#REF!"}},{"$f":"#REF!+#REF!+#REF!+#REF!+#REF!+#REF!+#REF!","v":{"$error":"#REF!"}},{"$f":"#REF!+#REF!+#REF!+#REF!+#REF!+#REF!+#REF!","v":{"$error":"#REF!"}},{"$f":"#REF!+#REF!+#REF!+#REF!+#REF!+#REF!+#REF!","v":{"$error":"#REF!"}},{"$f":"#REF!+#REF!+#REF!+#REF!+#REF!+#REF!+#REF!","v":{"$error":"#REF!"}},{"$f":"#REF!+#REF!+#REF!+#REF!+#REF!+#REF!+#REF!","v":{"$error":"#REF!"}},{"$f":"#REF!+#REF!+#REF!+#REF!+#REF!+#REF!+#REF!","v":{"$error":"#REF!"}},{"$f":"#REF!+#REF!+#REF!+#REF!+#REF!+#REF!+#REF!","v":{"$error":"#REF!"}}]
[5,"Avoyelles",{"$f":"#REF!+#REF!+#REF!+#REF!+#REF!+#REF!+#REF!","v":{"$error":"#REF!"}},{"$f":"'9_Per Pupil Summary'!O10","v":7903.7632241955171},{"$f":"#REF!+#REF!+#REF!+#REF!+#REF!+#REF!+#REF!","v":{"$error":"#REF!"}},null,{"$f":"#REF!+#REF!+#REF!+#REF!+#REF!+#REF!+#REF!","v":{"$error":"#REF!"}},{"$f":"#REF!+#REF!+#REF!+#REF!+#REF!+#REF!+#REF!","v":{"$error":"#REF!"}},{"$f":"'9_Per Pupil Summary'!I10","v":705.61709907084344},{"$f":"#REF!+#REF!+#REF!+#REF!+#REF!+#REF!+#REF!","v":{"$error":"#REF!"}},{"$f":"#REF!+#REF!+#REF!+#REF!+#REF!+#REF!+#REF!","v":{"$error":"#REF!"}},{"$f":"'9_Per Pupil Summary'!J10","v":192.44102701932096},{"$f":"#REF!+#REF!+#REF!+#REF!+#REF!+#REF!+#REF!","v":{"$error":"#REF!"}},{"$f":"#REF!+#REF!+#REF!+#REF!+#REF!+#REF!+#REF!","v":{"$error":"#REF!"}},{"$f":"'9_Per Pupil Summary'!K10","v":4811.0256754830243},{"$f":"#REF!+#REF!+#REF!+#REF!+#REF!+#REF!+#REF!","v":{"$error":"#REF!"}},{"$f":"#REF!+#REF!+#REF!+#REF!+#REF!+#REF!+#REF!","v":{"$error":"#REF!"}},{"$f":"'9_Per Pupil Summary'!L10","v":1924.4102701932097},{"$f":"#REF!+#REF!+#REF!+#REF!+#REF!+#REF!+#REF!","v":{"$error":"#REF!"}},{"$f":"#REF!+#REF!+#REF!+#REF!+#REF!+#REF!+#REF!","v":{"$error":"#REF!"}},{"$f":"#REF!+#REF!+#REF!+#REF!+#REF!+#REF!+#REF!","v":{"$error":"#REF!"}},{"$f":"#REF!+#REF!+#REF!+#REF!+#REF!+#REF!+#REF!","v":{"$error":"#REF!"}},{"$f":"#REF!+#REF!+#REF!+#REF!+#REF!+#REF!+#REF!","v":{"$error":"#REF!"}},{"$f":"#REF!+#REF!+#REF!+#REF!+#REF!+#REF!+#REF!","v":{"$error":"#REF!"}},{"$f":"#REF!+#REF!+#REF!+#REF!+#REF!+#REF!+#REF!","v":{"$error":"#REF!"}},{"$f":"#REF!+#REF!+#REF!+#REF!+#REF!+#REF!+#REF!","v":{"$error":"#REF!"}},{"$f":"#REF!+#REF!+#REF!+#REF!+#REF!+#REF!+#REF!","v":{"$error":"#REF!"}},{"$f":"#REF!+#REF!+#REF!+#REF!+#REF!+#REF!+#REF!","v":{"$error":"#REF!"}},{"$f":"#REF!+#REF!+#REF!+#REF!+#REF!+#REF!+#REF!","v":{"$error":"#REF!"}},{"$f":"#REF!+#REF!+#REF!+#REF!+#REF!+#REF!+#REF!","v":{"$error":"#REF!"}},{"$f":"#REF!+#REF!+#REF!+#REF!+#REF!+#REF!+#REF!","v":{"$error":"#REF!"}},{"$f":"#REF!+#REF!+#REF!+#REF!+#REF!+#REF!+#REF!","v":{"$error":"#REF!"}}]
[6,"Beauregard",{"$f":"#REF!+#REF!+#REF!+#REF!+#REF!+#REF!+#REF!","v":{"$error":"#REF!"}},{"$f":"'9_Per Pupil Summary'!O11","v":9728.5390190195158},{"$f":"#REF!+#REF!+#REF!+#REF!+#REF!+#REF!+#REF!","v":{"$error":"#REF!"}},null,{"$f":"#REF!+#REF!+#REF!+#REF!+#REF!+#REF!+#REF!","v":{"$error":"#REF!"}},{"$f":"#REF!+#REF!+#REF!+#REF!+#REF!+#REF!+#REF!","v":{"$error":"#REF!"}},{"$f":"'9_Per Pupil Summary'!I11","v":641.32774649739008},{"$f":"#REF!+#REF!+#REF!+#REF!+#REF!+#REF!+#REF!","v":{"$error":"#REF!"}},{"$f":"#REF!+#REF!+#REF!+#REF!+#REF!+#REF!+#REF!","v":{"$error":"#REF!"}},{"$f":"'9_Per Pupil Summary'!J11","v":174.90756722656093},{"$f":"#REF!+#REF!+#REF!+#REF!+#REF!+#REF!+#REF!","v":{"$error":"#REF!"}},{"$f":"#REF!+#REF!+#REF!+#REF!+#REF!+#REF!+#REF!","v":{"$error":"#REF!"}},{"$f":"'9_Per Pupil Summary'!K11","v":4372.6891806640233},{"$f":"#REF!+#REF!+#REF!+#REF!+#REF!+#REF!+#REF!","v":{"$error":"#REF!"}},{"$f":"#REF!+#REF!+#REF!+#REF!+#REF!+#REF!+#REF!","v":{"$error":"#REF!"}},{"$f":"'9_Per Pupil Summary'!L11","v":1749.0756722656097},{"$f":"#REF!+#REF!+#REF!+#REF!+#REF!+#REF!+#REF!","v":{"$error":"#REF!"}},{"$f":"#REF!+#REF!+#REF!+#REF!+#REF!+#REF!+#REF!","v":{"$error":"#REF!"}},{"$f":"#REF!+#REF!+#REF!+#REF!+#REF!+#REF!+#REF!","v":{"$error":"#REF!"}},{"$f":"#REF!+#REF!+#REF!+#REF!+#REF!+#REF!+#REF!","v":{"$error":"#REF!"}},{"$f":"#REF!+#REF!+#REF!+#REF!+#REF!+#REF!+#REF!","v":{"$error":"#REF!"}},{"$f":"#REF!+#REF!+#REF!+#REF!+#REF!+#REF!+#REF!","v":{"$error":"#REF!"}},{"$f":"#REF!+#REF!+#REF!+#REF!+#REF!+#REF!+#REF!","v":{"$error":"#REF!"}},{"$f":"#REF!+#REF!+#REF!+#REF!+#REF!+#REF!+#REF!","v":{"$error":"#REF!"}},{"$f":"#REF!+#REF!+#REF!+#REF!+#REF!+#REF!+#REF!","v":{"$error":"#REF!"}},{"$f":"#REF!+#REF!+#REF!+#REF!+#REF!+#REF!+#REF!","v":{"$error":"#REF!"}},{"$f":"#REF!+#REF!+#REF!+#REF!+#REF!+#REF!+#REF!","v":{"$error":"#REF!"}},{"$f":"#REF!+#REF!+#REF!+#REF!+#REF!+#REF!+#REF!","v":{"$error":"#REF!"}},{"$f":"#REF!+#REF!+#REF!+#REF!+#REF!+#REF!+#REF!","v":{"$error":"#REF!"}},{"$f":"#REF!+#REF!+#REF!+#REF!+#REF!+#REF!+#REF!","v":{"$error":"#REF!"}}]
[7,"Bienville",{"$f":"#REF!+#REF!+#REF!+#REF!+#REF!+#REF!+#REF!","v":{"$error":"#REF!"}},{"$f":"'9_Per Pupil Summary'!O12","v":15061.012868025147},{"$f":"#REF!+#REF!+#REF!+#REF!+#REF!+#REF!+#REF!","v":{"$error":"#REF!"}},null,{"$f":"#REF!+#REF!+#REF!+#REF!+#REF!+#REF!+#REF!","v":{"$error":"#REF!"}},{"$f":"#REF!+#REF!+#REF!+#REF!+#REF!+#REF!+#REF!","v":{"$error":"#REF!"}},{"$f":"'9_Per Pupil Summary'!I12","v":413.51205486279667},{"$f":"#REF!+#REF!+#REF!+#REF!+#REF!+#REF!+#REF!","v":{"$error":"#REF!"}},{"$f":"#REF!+#REF!+#REF!+#REF!+#REF!+#REF!+#REF!","v":{"$error":"#REF!"}},{"$f":"'9_Per Pupil Summary'!J12","v":112.7760149625809},{"$f":"#REF!+#REF!+#REF!+#REF!+#REF!+#REF!+#REF!","v":{"$error":"#REF!"}},{"$f":"#REF!+#REF!+#REF!+#REF!+#REF!+#REF!+#REF!","v":{"$error":"#REF!"}},{"$f":"'9_Per Pupil Summary'!K12","v":2819.4003740645226},{"$f":"#REF!+#REF!+#REF!+#REF!+#REF!+#REF!+#REF!","v":{"$error":"#REF!"}},{"$f":"#REF!+#REF!+#REF!+#REF!+#REF!+#REF!+#REF!","v":{"$error":"#REF!"}},{"$f":"'9_Per Pupil Summary'!L12","v":1127.7601496258089},{"$f":"#REF!+#REF!+#REF!+#REF!+#REF!+#REF!+#REF!","v":{"$error":"#REF!"}},{"$f":"#REF!+#REF!+#REF!+#REF!+#REF!+#REF!+#REF!","v":{"$error":"#REF!"}},{"$f":"#REF!+#REF!+#REF!+#REF!+#REF!+#REF!+#REF!","v":{"$error":"#REF!"}},{"$f":"#REF!+#REF!+#REF!+#REF!+#REF!+#REF!+#REF!","v":{"$error":"#REF!"}},{"$f":"#REF!+#REF!+#REF!+#REF!+#REF!+#REF!+#REF!","v":{"$error":"#REF!"}},{"$f":"#REF!+#REF!+#REF!+#REF!+#REF!+#REF!+#REF!","v":{"$error":"#REF!"}},{"$f":"#REF!+#REF!+#REF!+#REF!+#REF!+#REF!+#REF!","v":{"$error":"#REF!"}},{"$f":"#REF!+#REF!+#REF!+#REF!+#REF!+#REF!+#REF!","v":{"$error":"#REF!"}},{"$f":"#REF!+#REF!+#REF!+#REF!+#REF!+#REF!+#REF!","v":{"$error":"#REF!"}},{"$f":"#REF!+#REF!+#REF!+#REF!+#REF!+#REF!+#REF!","v":{"$error":"#REF!"}},{"$f":"#REF!+#REF!+#REF!+#REF!+#REF!+#REF!+#REF!","v":{"$error":"#REF!"}},{"$f":"#REF!+#REF!+#REF!+#REF!+#REF!+#REF!+#REF!","v":{"$error":"#REF!"}},{"$f":"#REF!+#REF!+#REF!+#REF!+#REF!+#REF!+#REF!","v":{"$error":"#REF!"}},{"$f":"#REF!+#REF!+#REF!+#REF!+#REF!+#REF!+#REF!","v":{"$error":"#REF!"}}]
[8,"Bossier",{"$f":"#REF!+#REF!+#REF!+#REF!+#REF!+#REF!+#REF!","v":{"$error":"#REF!"}},{"$f":"'9_Per Pupil Summary'!O13","v":10715.149764245192},{"$f":"#REF!+#REF!+#REF!+#REF!+#REF!+#REF!+#REF!","v":{"$error":"#REF!"}},null,{"$f":"#REF!+#REF!+#REF!+#REF!+#REF!+#REF!+#REF!","v":{"$error":"#REF!"}},{"$f":"#REF!+#REF!+#REF!+#REF!+#REF!+#REF!+#REF!","v":{"$error":"#REF!"}},{"$f":"'9_Per Pupil Summary'!I13","v":637.94212576552115},{"$f":"#REF!+#REF!+#REF!+#REF!+#REF!+#REF!+#REF!","v":{"$error":"#REF!"}},{"$f":"#REF!+#REF!+#REF!+#REF!+#REF!+#REF!+#REF!","v":{"$error":"#REF!"}},{"$f":"'9_Per Pupil Summary'!J13","v":173.98421611786941},{"$f":"#REF!+#REF!+#REF!+#REF!+#REF!+#REF!+#REF!","v":{"$error":"#REF!"}},{"$f":"#REF!+#REF!+#REF!+#REF!+#REF!+#REF!+#REF!","v":{"$error":"#REF!"}},{"$f":"'9_Per Pupil Summary'!K13","v":4349.605402946735},{"$f":"#REF!+#REF!+#REF!+#REF!+#REF!+#REF!+#REF!","v":{"$error":"#REF!"}},{"$f":"#REF!+#REF!+#REF!+#REF!+#REF!+#REF!+#REF!","v":{"$error":"#REF!"}},{"$f":"'9_Per Pupil Summary'!L13","v":1739.8421611786939},{"$f":"#REF!+#REF!+#REF!+#REF!+#REF!+#REF!+#REF!","v":{"$error":"#REF!"}},{"$f":"#REF!+#REF!+#REF!+#REF!+#REF!+#REF!+#REF!","v":{"$error":"#REF!"}},{"$f":"#REF!+#REF!+#REF!+#REF!+#REF!+#REF!+#REF!","v":{"$error":"#REF!"}},{"$f":"#REF!+#REF!+#REF!+#REF!+#REF!+#REF!+#REF!","v":{"$error":"#REF!"}},{"$f":"#REF!+#REF!+#REF!+#REF!+#REF!+#REF!+#REF!","v":{"$error":"#REF!"}},{"$f":"#REF!+#REF!+#REF!+#REF!+#REF!+#REF!+#REF!","v":{"$error":"#REF!"}},{"$f":"#REF!+#REF!+#REF!+#REF!+#REF!+#REF!+#REF!","v":{"$error":"#REF!"}},{"$f":"#REF!+#REF!+#REF!+#REF!+#REF!+#REF!+#REF!","v":{"$error":"#REF!"}},{"$f":"#REF!+#REF!+#REF!+#REF!+#REF!+#REF!+#REF!","v":{"$error":"#REF!"}},{"$f":"#REF!+#REF!+#REF!+#REF!+#REF!+#REF!+#REF!","v":{"$error":"#REF!"}},{"$f":"#REF!+#REF!+#REF!+#REF!+#REF!+#REF!+#REF!","v":{"$error":"#REF!"}},{"$f":"#REF!+#REF!+#REF!+#REF!+#REF!+#REF!+#REF!","v":{"$error":"#REF!"}},{"$f":"#REF!+#REF!+#REF!+#REF!+#REF!+#REF!+#REF!","v":{"$error":"#REF!"}},{"$f":"#REF!+#REF!+#REF!+#REF!+#REF!+#REF!+#REF!","v":{"$error":"#REF!"}}]
[9,"Caddo",{"$f":"#REF!+#REF!+#REF!+#REF!+#REF!+#REF!+#REF!","v":{"$error":"#REF!"}},{"$f":"'9_Per Pupil Summary'!O14","v":11393.635265031633},{"$f":"#REF!+#REF!+#REF!+#REF!+#REF!+#REF!+#REF!","v":{"$error":"#REF!"}},null,{"$f":"#REF!+#REF!+#REF!+#REF!+#REF!+#REF!+#REF!","v":{"$error":"#REF!"}},{"$f":"#REF!+#REF!+#REF!+#REF!+#REF!+#REF!+#REF!","v":{"$error":"#REF!"}},{"$f":"'9_Per Pupil Summary'!I14","v":574.46892980088433},{"$f":"#REF!+#REF!+#REF!+#REF!+#REF!+#REF!+#REF!","v":{"$error":"#REF!"}},{"$f":"#REF!+#REF!+#REF!+#REF!+#REF!+#REF!+#REF!","v":{"$error":"#REF!"}},{"$f":"'9_Per Pupil Summary'!J14","v":156.67334449115023},{"$f":"#REF!+#REF!+#REF!+#REF!+#REF!+#REF!+#REF!","v":{"$error":"#REF!"}},{"$f":"#REF!+#REF!+#REF!+#REF!+#REF!+#REF!+#REF!","v":{"$error":"#REF!"}},{"$f":"'9_Per Pupil Summary'!K14","v":3916.8336122787559},{"$f":"#REF!+#REF!+#REF!+#REF!+#REF!+#REF!+#REF!","v":{"$error":"#REF!"}},{"$f":"#REF!+#REF!+#REF!+#REF!+#REF!+#REF!+#REF!","v":{"$error":"#REF!"}},{"$f":"'9_Per Pupil Summary'!L14","v":1566.7334449115021},{"$f":"#REF!+#REF!+#REF!+#REF!+#REF!+#REF!+#REF!","v":{"$error":"#REF!"}},{"$f":"#REF!+#REF!+#REF!+#REF!+#REF!+#REF!+#REF!","v":{"$error":"#REF!"}},{"$f":"#REF!+#REF!+#REF!+#REF!+#REF!+#REF!+#REF!","v":{"$error":"#REF!"}},{"$f":"#REF!+#REF!+#REF!+#REF!+#REF!+#REF!+#REF!","v":{"$error":"#REF!"}},{"$f":"#REF!+#REF!+#REF!+#REF!+#REF!+#REF!+#REF!","v":{"$error":"#REF!"}},{"$f":"#REF!+#REF!+#REF!+#REF!+#REF!+#REF!+#REF!","v":{"$error":"#REF!"}},{"$f":"#REF!+#REF!+#REF!+#REF!+#REF!+#REF!+#REF!","v":{"$error":"#REF!"}},{"$f":"#REF!+#REF!+#REF!+#REF!+#REF!+#REF!+#REF!","v":{"$error":"#REF!"}},{"$f":"#REF!+#REF!+#REF!+#REF!+#REF!+#REF!+#REF!","v":{"$error":"#REF!"}},{"$f":"#REF!+#REF!+#REF!+#REF!+#REF!+#REF!+#REF!","v":{"$error":"#REF!"}},{"$f":"#REF!+#REF!+#REF!+#REF!+#REF!+#REF!+#REF!","v":{"$error":"#REF!"}},{"$f":"#REF!+#REF!+#REF!+#REF!+#REF!+#REF!+#REF!","v":{"$error":"#REF!"}},{"$f":"#REF!+#REF!+#REF!+#REF!+#REF!+#REF!+#REF!","v":{"$error":"#REF!"}},{"$f":"#REF!+#REF!+#REF!+#REF!+#REF!+#REF!+#REF!","v":{"$error":"#REF!"}}]
[10,"Calcasieu",{"$f":"#REF!+#REF!+#REF!+#REF!+#REF!+#REF!+#REF!","v":{"$error":"#REF!"}},{"$f":"'9_Per Pupil Summary'!O15","v":11292.870454013071},{"$f":"#REF!+#REF!+#REF!+#REF!+#REF!+#REF!+#REF!","v":{"$error":"#REF!"}},null,{"$f":"#REF!+#REF!+#REF!+#REF!+#REF!+#REF!+#REF!","v":{"$error":"#REF!"}},{"$f":"#REF!+#REF!+#REF!+#REF!+#REF!+#REF!+#REF!","v":{"$error":"#REF!"}},{"$f":"'9_Per Pupil Summary'!I15","v":499.72067690672515},{"$f":"#REF!+#REF!+#REF!+#REF!+#REF!+#REF!+#REF!","v":{"$error":"#REF!"}},{"$f":"#REF!+#REF!+#REF!+#REF!+#REF!+#REF!+#REF!","v":{"$error":"#REF!"}},{"$f":"'9_Per Pupil Summary'!J15","v":136.28745733819778},{"$f":"#REF!+#REF!+#REF!+#REF!+#REF!+#REF!+#REF!","v":{"$error":"#REF!"}},{"$f":"#REF!+#REF!+#REF!+#REF!+#REF!+#REF!+#REF!","v":{"$error":"#REF!"}},{"$f":"'9_Per Pupil Summary'!K15","v":3407.1864334549437},{"$f":"#REF!+#REF!+#REF!+#REF!+#REF!+#REF!+#REF!","v":{"$error":"#REF!"}},{"$f":"#REF!+#REF!+#REF!+#REF!+#REF!+#REF!+#REF!","v":{"$error":"#REF!"}},{"$f":"'9_Per Pupil Summary'!L15","v":1362.8745733819776},{"$f":"#REF!+#REF!+#REF!+#REF!+#REF!+#REF!+#REF!","v":{"$error":"#REF!"}},{"$f":"#REF!+#REF!+#REF!+#REF!+#REF!+#REF!+#REF!","v":{"$error":"#REF!"}},{"$f":"#REF!+#REF!+#REF!+#REF!+#REF!+#REF!+#REF!","v":{"$error":"#REF!"}},{"$f":"#REF!+#REF!+#REF!+#REF!+#REF!+#REF!+#REF!","v":{"$error":"#REF!"}},{"$f":"#REF!+#REF!+#REF!+#REF!+#REF!+#REF!+#REF!","v":{"$error":"#REF!"}},{"$f":"#REF!+#REF!+#REF!+#REF!+#REF!+#REF!+#REF!","v":{"$error":"#REF!"}},{"$f":"#REF!+#REF!+#REF!+#REF!+#REF!+#REF!+#REF!","v":{"$error":"#REF!"}},{"$f":"#REF!+#REF!+#REF!+#REF!+#REF!+#REF!+#REF!","v":{"$error":"#REF!"}},{"$f":"#REF!+#REF!+#REF!+#REF!+#REF!+#REF!+#REF!","v":{"$error":"#REF!"}},{"$f":"#REF!+#REF!+#REF!+#REF!+#REF!+#REF!+#REF!","v":{"$error":"#REF!"}},{"$f":"#REF!+#REF!+#REF!+#REF!+#REF!+#REF!+#REF!","v":{"$error":"#REF!"}},{"$f":"#REF!+#REF!+#REF!+#REF!+#REF!+#REF!+#REF!","v":{"$error":"#REF!"}},{"$f":"#REF!+#REF!+#REF!+#REF!+#REF!+#REF!+#REF!","v":{"$error":"#REF!"}},{"$f":"#REF!+#REF!+#REF!+#REF!+#REF!+#REF!+#REF!","v":{"$error":"#REF!"}}]
[11,"Caldwell",{"$f":"#REF!+#REF!+#REF!+#REF!+#REF!+#REF!+#REF!","v":{"$error":"#REF!"}},{"$f":"'9_Per Pupil Summary'!O16","v":9855.6997676470146},{"$f":"#REF!+#REF!+#REF!+#REF!+#REF!+#REF!+#REF!","v":{"$error":"#REF!"}},null,{"$f":"#REF!+#REF!+#REF!+#REF!+#REF!+#REF!+#REF!","v":{"$error":"#REF!"}},{"$f":"#REF!+#REF!+#REF!+#REF!+#REF!+#REF!+#REF!","v":{"$error":"#REF!"}},{"$f":"'9_Per Pupil Summary'!I16","v":731.12315772054706},{"$f":"#REF!+#REF!+#REF!+#REF!+#REF!+#REF!+#REF!","v":{"$error":"#REF!"}},{"$f":"#REF!+#REF!+#REF!+#REF!+#REF!+#REF!+#REF!","v":{"$error":"#REF!"}},{"$f":"'9_Per Pupil Summary'!J16","v":199.3972248328765},{"$f":"#REF!+#REF!+#REF!+#REF!+#REF!+#REF!+#REF!","v":{"$error":"#REF!"}},{"$f":"#REF!+#REF!+#REF!+#REF!+#REF!+#REF!+#REF!","v":{"$error":"#REF!"}},{"$f":"'9_Per Pupil Summary'!K16","v":4984.9306208219123},{"$f":"#REF!+#REF!+#REF!+#REF!+#REF!+#REF!+#REF!","v":{"$error":"#REF!"}},{"$f":"#REF!+#REF!+#REF!+#REF!+#REF!+#REF!+#REF!","v":{"$error":"#REF!"}},{"$f":"'9_Per Pupil Summary'!L16","v":1993.9722483287651},{"$f":"#REF!+#REF!+#REF!+#REF!+#REF!+#REF!+#REF!","v":{"$error":"#REF!"}},{"$f":"#REF!+#REF!+#REF!+#REF!+#REF!+#REF!+#REF!","v":{"$error":"#REF!"}},{"$f":"#REF!+#REF!+#REF!+#REF!+#REF!+#REF!+#REF!","v":{"$error":"#REF!"}},{"$f":"#REF!+#REF!+#REF!+#REF!+#REF!+#REF!+#REF!","v":{"$error":"#REF!"}},{"$f":"#REF!+#REF!+#REF!+#REF!+#REF!+#REF!+#REF!","v":{"$error":"#REF!"}},{"$f":"#REF!+#REF!+#REF!+#REF!+#REF!+#REF!+#REF!","v":{"$error":"#REF!"}},{"$f":"#REF!+#REF!+#REF!+#REF!+#REF!+#REF!+#REF!","v":{"$error":"#REF!"}},{"$f":"#REF!+#REF!+#REF!+#REF!+#REF!+#REF!+#REF!","v":{"$error":"#REF!"}},{"$f":"#REF!+#REF!+#REF!+#REF!+#REF!+#REF!+#REF!","v":{"$error":"#REF!"}},{"$f":"#REF!+#REF!+#REF!+#REF!+#REF!+#REF!+#REF!","v":{"$error":"#REF!"}},{"$f":"#REF!+#REF!+#REF!+#REF!+#REF!+#REF!+#REF!","v":{"$error":"#REF!"}},{"$f":"#REF!+#REF!+#REF!+#REF!+#REF!+#REF!+#REF!","v":{"$error":"#REF!"}},{"$f":"#REF!+#REF!+#REF!+#REF!+#REF!+#REF!+#REF!","v":{"$error":"#REF!"}},{"$f":"#REF!+#REF!+#REF!+#REF!+#REF!+#REF!+#REF!","v":{"$error":"#REF!"}}]
[12,"Cameron",{"$f":"#REF!+#REF!+#REF!+#REF!+#REF!+#REF!+#REF!","v":{"$error":"#REF!"}},{"$f":"'9_Per Pupil Summary'!O17","v":14479.163178903003},{"$f":"#REF!+#REF!+#REF!+#REF!+#REF!+#REF!+#REF!","v":{"$error":"#REF!"}},null,{"$f":"#REF!+#REF!+#REF!+#REF!+#REF!+#REF!+#REF!","v":{"$error":"#REF!"}},{"$f":"#REF!+#REF!+#REF!+#REF!+#REF!+#REF!+#REF!","v":{"$error":"#REF!"}},{"$f":"'9_Per Pupil Summary'!I17","v":220.8250342423818},{"$f":"#REF!+#REF!+#REF!+#REF!+#REF!+#REF!+#REF!","v":{"$error":"#REF!"}},{"$f":"#REF!+#REF!+#REF!+#REF!+#REF!+#REF!+#REF!","v":{"$error":"#REF!"}},{"$f":"'9_Per Pupil Summary'!J17","v":60.225009338831406},{"$f":"#REF!+#REF!+#REF!+#REF!+#REF!+#REF!+#REF!","v":{"$error":"#REF!"}},{"$f":"#REF!+#REF!+#REF!+#REF!+#REF!+#REF!+#REF!","v":{"$error":"#REF!"}},{"$f":"'9_Per Pupil Summary'!K17","v":1505.6252334707854},{"$f":"#REF!+#REF!+#REF!+#REF!+#REF!+#REF!+#REF!","v":{"$error":"#REF!"}},{"$f":"#REF!+#REF!+#REF!+#REF!+#REF!+#REF!+#REF!","v":{"$error":"#REF!"}},{"$f":"'9_Per Pupil Summary'!L17","v":602.25009338831399},{"$f":"#REF!+#REF!+#REF!+#REF!+#REF!+#REF!+#REF!","v":{"$error":"#REF!"}},{"$f":"#REF!+#REF!+#REF!+#REF!+#REF!+#REF!+#REF!","v":{"$error":"#REF!"}},{"$f":"#REF!+#REF!+#REF!+#REF!+#REF!+#REF!+#REF!","v":{"$error":"#REF!"}},{"$f":"#REF!+#REF!+#REF!+#REF!+#REF!+#REF!+#REF!","v":{"$error":"#REF!"}},{"$f":"#REF!+#REF!+#REF!+#REF!+#REF!+#REF!+#REF!","v":{"$error":"#REF!"}},{"$f":"#REF!+#REF!+#REF!+#REF!+#REF!+#REF!+#REF!","v":{"$error":"#REF!"}},{"$f":"#REF!+#REF!+#REF!+#REF!+#REF!+#REF!+#REF!","v":{"$error":"#REF!"}},{"$f":"#REF!+#REF!+#REF!+#REF!+#REF!+#REF!+#REF!","v":{"$error":"#REF!"}},{"$f":"#REF!+#REF!+#REF!+#REF!+#REF!+#REF!+#REF!","v":{"$error":"#REF!"}},{"$f":"#REF!+#REF!+#REF!+#REF!+#REF!+#REF!+#REF!","v":{"$error":"#REF!"}},{"$f":"#REF!+#REF!+#REF!+#REF!+#REF!+#REF!+#REF!","v":{"$error":"#REF!"}},{"$f":"#REF!+#REF!+#REF!+#REF!+#REF!+#REF!+#REF!","v":{"$error":"#REF!"}},{"$f":"#REF!+#REF!+#REF!+#REF!+#REF!+#REF!+#REF!","v":{"$error":"#REF!"}},{"$f":"#REF!+#REF!+#REF!+#REF!+#REF!+#REF!+#REF!","v":{"$error":"#REF!"}}]
[13,"Catahoula",{"$f":"#REF!+#REF!+#REF!+#REF!+#REF!+#REF!+#REF!","v":{"$error":"#REF!"}},{"$f":"'9_Per Pupil Summary'!O18","v":8601.4920907671949},{"$f":"#REF!+#REF!+#REF!+#REF!+#REF!+#REF!+#REF!","v":{"$error":"#REF!"}},null,{"$f":"#REF!+#REF!+#REF!+#REF!+#REF!+#REF!+#REF!","v":{"$error":"#REF!"}},{"$f":"#REF!+#REF!+#REF!+#REF!+#REF!+#REF!+#REF!","v":{"$error":"#REF!"}},{"$f":"'9_Per Pupil Summary'!I18","v":697.19749073801358},{"$f":"#REF!+#REF!+#REF!+#REF!+#REF!+#REF!+#REF!","v":{"$error":"#REF!"}},{"$f":"#REF!+#REF!+#REF!+#REF!+#REF!+#REF!+#REF!","v":{"$error":"#REF!"}},{"$f":"'9_Per Pupil Summary'!J18","v":190.14477020127646},{"$f":"#REF!+#REF!+#REF!+#REF!+#REF!+#REF!+#REF!","v":{"$error":"#REF!"}},{"$f":"#REF!+#REF!+#REF!+#REF!+#REF!+#REF!+#REF!","v":{"$error":"#REF!"}},{"$f":"'9_Per Pupil Summary'!K18","v":4753.619255031912},{"$f":"#REF!+#REF!+#REF!+#REF!+#REF!+#REF!+#REF!","v":{"$error":"#REF!"}},{"$f":"#REF!+#REF!+#REF!+#REF!+#REF!+#REF!+#REF!","v":{"$error":"#REF!"}},{"$f":"'9_Per Pupil Summary'!L18","v":1901.4477020127645},{"$f":"#REF!+#REF!+#REF!+#REF!+#REF!+#REF!+#REF!","v":{"$error":"#REF!"}},{"$f":"#REF!+#REF!+#REF!+#REF!+#REF!+#REF!+#REF!","v":{"$error":"#REF!"}},{"$f":"#REF!+#REF!+#REF!+#REF!+#REF!+#REF!+#REF!","v":{"$error":"#REF!"}},{"$f":"#REF!+#REF!+#REF!+#REF!+#REF!+#REF!+#REF!","v":{"$error":"#REF!"}},{"$f":"#REF!+#REF!+#REF!+#REF!+#REF!+#REF!+#REF!","v":{"$error":"#REF!"}},{"$f":"#REF!+#REF!+#REF!+#REF!+#REF!+#REF!+#REF!","v":{"$error":"#REF!"}},{"$f":"#REF!+#REF!+#REF!+#REF!+#REF!+#REF!+#REF!","v":{"$error":"#REF!"}},{"$f":"#REF!+#REF!+#REF!+#REF!+#REF!+#REF!+#REF!","v":{"$error":"#REF!"}},{"$f":"#REF!+#REF!+#REF!+#REF!+#REF!+#REF!+#REF!","v":{"$error":"#REF!"}},{"$f":"#REF!+#REF!+#REF!+#REF!+#REF!+#REF!+#REF!","v":{"$error":"#REF!"}},{"$f":"#REF!+#REF!+#REF!+#REF!+#REF!+#REF!+#REF!","v":{"$error":"#REF!"}},{"$f":"#REF!+#REF!+#REF!+#REF!+#REF!+#REF!+#REF!","v":{"$error":"#REF!"}},{"$f":"#REF!+#REF!+#REF!+#REF!+#REF!+#REF!+#REF!","v":{"$error":"#REF!"}},{"$f":"#REF!+#REF!+#REF!+#REF!+#REF!+#REF!+#REF!","v":{"$error":"#REF!"}}]
[14,"Claiborne",{"$f":"#REF!+#REF!+#REF!+#REF!+#REF!+#REF!+#REF!","v":{"$error":"#REF!"}},{"$f":"'9_Per Pupil Summary'!O19","v":9208.9018385111831},{"$f":"#REF!+#REF!+#REF!+#REF!+#REF!+#REF!+#REF!","v":{"$error":"#REF!"}},null,{"$f":"#REF!+#REF!+#REF!+#REF!+#REF!+#REF!+#REF!","v":{"$error":"#REF!"}},{"$f":"#REF!+#REF!+#REF!+#REF!+#REF!+#REF!+#REF!","v":{"$error":"#REF!"}},{"$f":"'9_Per Pupil Summary'!I19","v":690.68763239092846},{"$f":"#REF!+#REF!+#REF!+#REF!+#REF!+#REF!+#REF!","v":{"$error":"#REF!"}},{"$f":"#REF!+#REF!+#REF!+#REF!+#REF!+#REF!+#REF!","v":{"$error":"#REF!"}},{"$f":"'9_Per Pupil Summary'!J19","v":188.36935428843506},{"$f":"#REF!+#REF!+#REF!+#REF!+#REF!+#REF!+#REF!","v":{"$error":"#REF!"}},{"$f":"#REF!+#REF!+#REF!+#REF!+#REF!+#REF!+#REF!","v":{"$error":"#REF!"}},{"$f":"'9_Per Pupil Summary'!K19","v":4709.2338572108756},{"$f":"#REF!+#REF!+#REF!+#REF!+#REF!+#REF!+#REF!","v":{"$error":"#REF!"}},{"$f":"#REF!+#REF!+#REF!+#REF!+#REF!+#REF!+#REF!","v":{"$error":"#REF!"}},{"$f":"'9_Per Pupil Summary'!L19","v":1883.6935428843508},{"$f":"#REF!+#REF!+#REF!+#REF!+#REF!+#REF!+#REF!","v":{"$error":"#REF!"}},{"$f":"#REF!+#REF!+#REF!+#REF!+#REF!+#REF!+#REF!","v":{"$error":"#REF!"}},{"$f":"#REF!+#REF!+#REF!+#REF!+#REF!+#REF!+#REF!","v":{"$error":"#REF!"}},{"$f":"#REF!+#REF!+#REF!+#REF!+#REF!+#REF!+#REF!","v":{"$error":"#REF!"}},{"$f":"#REF!+#REF!+#REF!+#REF!+#REF!+#REF!+#REF!","v":{"$error":"#REF!"}},{"$f":"#REF!+#REF!+#REF!+#REF!+#REF!+#REF!+#REF!","v":{"$error":"#REF!"}},{"$f":"#REF!+#REF!+#REF!+#REF!+#REF!+#REF!+#REF!","v":{"$error":"#REF!"}},{"$f":"#REF!+#REF!+#REF!+#REF!+#REF!+#REF!+#REF!","v":{"$error":"#REF!"}},{"$f":"#REF!+#REF!+#REF!+#REF!+#REF!+#REF!+#REF!","v":{"$error":"#REF!"}},{"$f":"#REF!+#REF!+#REF!+#REF!+#REF!+#REF!+#REF!","v":{"$error":"#REF!"}},{"$f":"#REF!+#REF!+#REF!+#REF!+#REF!+#REF!+#REF!","v":{"$error":"#REF!"}},{"$f":"#REF!+#REF!+#REF!+#REF!+#REF!+#REF!+#REF!","v":{"$error":"#REF!"}},{"$f":"#REF!+#REF!+#REF!+#REF!+#REF!+#REF!+#REF!","v":{"$error":"#REF!"}},{"$f":"#REF!+#REF!+#REF!+#REF!+#REF!+#REF!+#REF!","v":{"$error":"#REF!"}}]
[15,"Concordia",{"$f":"#REF!+#REF!+#REF!+#REF!+#REF!+#REF!+#REF!","v":{"$error":"#REF!"}},{"$f":"'9_Per Pupil Summary'!O20","v":8754.7599770167672},{"$f":"#REF!+#REF!+#REF!+#REF!+#REF!+#REF!+#REF!","v":{"$error":"#REF!"}},null,{"$f":"#REF!+#REF!+#REF!+#REF!+#REF!+#REF!+#REF!","v":{"$error":"#REF!"}},{"$f":"#REF!+#REF!+#REF!+#REF!+#REF!+#REF!+#REF!","v":{"$error":"#REF!"}},{"$f":"'9_Per Pupil Summary'!I20","v":723.08719494368893},{"$f":"#REF!+#REF!+#REF!+#REF!+#REF!+#REF!+#REF!","v":{"$error":"#REF!"}},{"$f":"#REF!+#REF!+#REF!+#REF!+#REF!+#REF!+#REF!","v":{"$error":"#REF!"}},{"$f":"'9_Per Pupil Summary'!J20","v":197.20559862100606},{"$f":"#REF!+#REF!+#REF!+#REF!+#REF!+#REF!+#REF!","v":{"$error":"#REF!"}},{"$f":"#REF!+#REF!+#REF!+#REF!+#REF!+#REF!+#REF!","v":{"$error":"#REF!"}},{"$f":"'9_Per Pupil Summary'!K20","v":4930.1399655251516},{"$f":"#REF!+#REF!+#REF!+#REF!+#REF!+#REF!+#REF!","v":{"$error":"#REF!"}},{"$f":"#REF!+#REF!+#REF!+#REF!+#REF!+#REF!+#REF!","v":{"$error":"#REF!"}},{"$f":"'9_Per Pupil Summary'!L20","v":1972.0559862100604},{"$f":"#REF!+#REF!+#REF!+#REF!+#REF!+#REF!+#REF!","v":{"$error":"#REF!"}},{"$f":"#REF!+#REF!+#REF!+#REF!+#REF!+#REF!+#REF!","v":{"$error":"#REF!"}},{"$f":"#REF!+#REF!+#REF!+#REF!+#REF!+#REF!+#REF!","v":{"$error":"#REF!"}},{"$f":"#REF!+#REF!+#REF!+#REF!+#REF!+#REF!+#REF!","v":{"$error":"#REF!"}},{"$f":"#REF!+#REF!+#REF!+#REF!+#REF!+#REF!+#REF!","v":{"$error":"#REF!"}},{"$f":"#REF!+#REF!+#REF!+#REF!+#REF!+#REF!+#REF!","v":{"$error":"#REF!"}},{"$f":"#REF!+#REF!+#REF!+#REF!+#REF!+#REF!+#REF!","v":{"$error":"#REF!"}},{"$f":"#REF!+#REF!+#REF!+#REF!+#REF!+#REF!+#REF!","v":{"$error":"#REF!"}},{"$f":"#REF!+#REF!+#REF!+#REF!+#REF!+#REF!+#REF!","v":{"$error":"#REF!"}},{"$f":"#REF!+#REF!+#REF!+#REF!+#REF!+#REF!+#REF!","v":{"$error":"#REF!"}},{"$f":"#REF!+#REF!+#REF!+#REF!+#REF!+#REF!+#REF!","v":{"$error":"#REF!"}},{"$f":"#REF!+#REF!+#REF!+#REF!+#REF!+#REF!+#REF!","v":{"$error":"#REF!"}},{"$f":"#REF!+#REF!+#REF!+#REF!+#REF!+#REF!+#REF!","v":{"$error":"#REF!"}},{"$f":"#REF!+#REF!+#REF!+#REF!+#REF!+#REF!+#REF!","v":{"$error":"#REF!"}}]
[16,"DeSoto",{"$f":"#REF!+#REF!+#REF!+#REF!+#REF!+#REF!+#REF!","v":{"$error":"#REF!"}},{"$f":"'9_Per Pupil Summary'!O21","v":20040.268259275777},{"$f":"#REF!+#REF!+#REF!+#REF!+#REF!+#REF!+#REF!","v":{"$error":"#REF!"}},null,{"$f":"#REF!+#REF!+#REF!+#REF!+#REF!+#REF!+#REF!","v":{"$error":"#REF!"}},{"$f":"#REF!+#REF!+#REF!+#REF!+#REF!+#REF!+#REF!","v":{"$error":"#REF!"}},{"$f":"'9_Per Pupil Summary'!I21","v":334.58818282736581},{"$f":"#REF!+#REF!+#REF!+#REF!+#REF!+#REF!+#REF!","v":{"$error":"#REF!"}},{"$f":"#REF!+#REF!+#REF!+#REF!+#REF!+#REF!+#REF!","v":{"$error":"#REF!"}},{"$f":"'9_Per Pupil Summary'!J21","v":91.251322589281585},{"$f":"#REF!+#REF!+#REF!+#REF!+#REF!+#REF!+#REF!","v":{"$error":"#REF!"}},{"$f":"#REF!+#REF!+#REF!+#REF!+#REF!+#REF!+#REF!","v":{"$error":"#REF!"}},{"$f":"'9_Per Pupil Summary'!K21","v":2281.2830647320397},{"$f":"#REF!+#REF!+#REF!+#REF!+#REF!+#REF!+#REF!","v":{"$error":"#REF!"}},{"$f":"#REF!+#REF!+#REF!+#REF!+#REF!+#REF!+#REF!","v":{"$error":"#REF!"}},{"$f":"'9_Per Pupil Summary'!L21","v":912.51322589281585},{"$f":"#REF!+#REF!+#REF!+#REF!+#REF!+#REF!+#REF!","v":{"$error":"#REF!"}},{"$f":"#REF!+#REF!+#REF!+#REF!+#REF!+#REF!+#REF!","v":{"$error":"#REF!"}},{"$f":"#REF!+#REF!+#REF!+#REF!+#REF!+#REF!+#REF!","v":{"$error":"#REF!"}},{"$f":"#REF!+#REF!+#REF!+#REF!+#REF!+#REF!+#REF!","v":{"$error":"#REF!"}},{"$f":"#REF!+#REF!+#REF!+#REF!+#REF!+#REF!+#REF!","v":{"$error":"#REF!"}},{"$f":"#REF!+#REF!+#REF!+#REF!+#REF!+#REF!+#REF!","v":{"$error":"#REF!"}},{"$f":"#REF!+#REF!+#REF!+#REF!+#REF!+#REF!+#REF!","v":{"$error":"#REF!"}},{"$f":"#REF!+#REF!+#REF!+#REF!+#REF!+#REF!+#REF!","v":{"$error":"#REF!"}},{"$f":"#REF!+#REF!+#REF!+#REF!+#REF!+#REF!+#REF!","v":{"$error":"#REF!"}},{"$f":"#REF!+#REF!+#REF!+#REF!+#REF!+#REF!+#REF!","v":{"$error":"#REF!"}},{"$f":"#REF!+#REF!+#REF!+#REF!+#REF!+#REF!+#REF!","v":{"$error":"#REF!"}},{"$f":"#REF!+#REF!+#REF!+#REF!+#REF!+#REF!+#REF!","v":{"$error":"#REF!"}},{"$f":"#REF!+#REF!+#REF!+#REF!+#REF!+#REF!+#REF!","v":{"$error":"#REF!"}},{"$f":"#REF!+#REF!+#REF!+#REF!+#REF!+#REF!+#REF!","v":{"$error":"#REF!"}}]
[17,"East Baton Rouge",{"$f":"#REF!+#REF!+#REF!+#REF!+#REF!+#REF!+#REF!","v":{"$error":"#REF!"}},{"$f":"'9_Per Pupil Summary'!O22","v":12799.841328514944},{"$f":"#REF!+#REF!+#REF!+#REF!+#REF!+#REF!+#REF!","v":{"$error":"#REF!"}},null,{"$f":"#REF!+#REF!+#REF!+#REF!+#REF!+#REF!+#REF!","v":{"$error":"#REF!"}},{"$f":"#REF!+#REF!+#REF!+#REF!+#REF!+#REF!+#REF!","v":{"$error":"#REF!"}},{"$f":"'9_Per Pupil Summary'!I22","v":454.44570614766269},{"$f":"#REF!+#REF!+#REF!+#REF!+#REF!+#REF!+#REF!","v":{"$error":"#REF!"}},{"$f":"#REF!+#REF!+#REF!+#REF!+#REF!+#REF!+#REF!","v":{"$error":"#REF!"}},{"$f":"'9_Per Pupil Summary'!J22","v":123.93973804027164},{"$f":"#REF!+#REF!+#REF!+#REF!+#REF!+#REF!+#REF!","v":{"$error":"#REF!"}},{"$f":"#REF!+#REF!+#REF!+#REF!+#REF!+#REF!+#REF!","v":{"$error":"#REF!"}},{"$f":"'9_Per Pupil Summary'!K22","v":3098.4934510067915},{"$f":"#REF!+#REF!+#REF!+#REF!+#REF!+#REF!+#REF!","v":{"$error":"#REF!"}},{"$f":"#REF!+#REF!+#REF!+#REF!+#REF!+#REF!+#REF!","v":{"$error":"#REF!"}},{"$f":"'9_Per Pupil Summary'!L22","v":1239.3973804027164},{"$f":"#REF!+#REF!+#REF!+#REF!+#REF!+#REF!+#REF!","v":{"$error":"#REF!"}},{"$f":"#REF!+#REF!+#REF!+#REF!+#REF!+#REF!+#REF!","v":{"$error":"#REF!"}},{"$f":"#REF!+#REF!+#REF!+#REF!+#REF!+#REF!+#REF!","v":{"$error":"#REF!"}},{"$f":"#REF!+#REF!+#REF!+#REF!+#REF!+#REF!+#REF!","v":{"$error":"#REF!"}},{"$f":"#REF!+#REF!+#REF!+#REF!+#REF!+#REF!+#REF!","v":{"$error":"#REF!"}},{"$f":"#REF!+#REF!+#REF!+#REF!+#REF!+#REF!+#REF!","v":{"$error":"#REF!"}},{"$f":"#REF!+#REF!+#REF!+#REF!+#REF!+#REF!+#REF!","v":{"$error":"#REF!"}},{"$f":"#REF!+#REF!+#REF!+#REF!+#REF!+#REF!+#REF!","v":{"$error":"#REF!"}},{"$f":"#REF!+#REF!+#REF!+#REF!+#REF!+#REF!+#REF!","v":{"$error":"#REF!"}},{"$f":"#REF!+#REF!+#REF!+#REF!+#REF!+#REF!+#REF!","v":{"$error":"#REF!"}},{"$f":"#REF!+#REF!+#REF!+#REF!+#REF!+#REF!+#REF!","v":{"$error":"#REF!"}},{"$f":"#REF!+#REF!+#REF!+#REF!+#REF!+#REF!+#REF!","v":{"$error":"#REF!"}},{"$f":"#REF!+#REF!+#REF!+#REF!+#REF!+#REF!+#REF!","v":{"$error":"#REF!"}},{"$f":"#REF!+#REF!+#REF!+#REF!+#REF!+#REF!+#REF!","v":{"$error":"#REF!"}}]
[18,"East Carroll",{"$f":"#REF!+#REF!+#REF!+#REF!+#REF!+#REF!+#REF!","v":{"$error":"#REF!"}},{"$f":"'9_Per Pupil Summary'!O23","v":9358.1750926761997},{"$f":"#REF!+#REF!+#REF!+#REF!+#REF!+#REF!+#REF!","v":{"$error":"#REF!"}},null,{"$f":"#REF!+#REF!+#REF!+#REF!+#REF!+#REF!+#REF!","v":{"$error":"#REF!"}},{"$f":"#REF!+#REF!+#REF!+#REF!+#REF!+#REF!+#REF!","v":{"$error":"#REF!"}},{"$f":"'9_Per Pupil Summary'!I23","v":672.48763119587761},{"$f":"#REF!+#REF!+#REF!+#REF!+#REF!+#REF!+#REF!","v":{"$error":"#REF!"}},{"$f":"#REF!+#REF!+#REF!+#REF!+#REF!+#REF!+#REF!","v":{"$error":"#REF!"}},{"$f":"'9_Per Pupil Summary'!J23","v":183.40571759887573},{"$f":"#REF!+#REF!+#REF!+#REF!+#REF!+#REF!+#REF!","v":{"$error":"#REF!"}},{"$f":"#REF!+#REF!+#REF!+#REF!+#REF!+#REF!+#REF!","v":{"$error":"#REF!"}},{"$f":"'9_Per Pupil Summary'!K23","v":4585.1429399718927},{"$f":"#REF!+#REF!+#REF!+#REF!+#REF!+#REF!+#REF!","v":{"$error":"#REF!"}},{"$f":"#REF!+#REF!+#REF!+#REF!+#REF!+#REF!+#REF!","v":{"$error":"#REF!"}},{"$f":"'9_Per Pupil Summary'!L23","v":0},{"$f":"#REF!+#REF!+#REF!+#REF!+#REF!+#REF!+#REF!","v":{"$error":"#REF!"}},{"$f":"#REF!+#REF!+#REF!+#REF!+#REF!+#REF!+#REF!","v":{"$error":"#REF!"}},{"$f":"#REF!+#REF!+#REF!+#REF!+#REF!+#REF!+#REF!","v":{"$error":"#REF!"}},{"$f":"#REF!+#REF!+#REF!+#REF!+#REF!+#REF!+#REF!","v":{"$error":"#REF!"}},{"$f":"#REF!+#REF!+#REF!+#REF!+#REF!+#REF!+#REF!","v":{"$error":"#REF!"}},{"$f":"#REF!+#REF!+#REF!+#REF!+#REF!+#REF!+#REF!","v":{"$error":"#REF!"}},{"$f":"#REF!+#REF!+#REF!+#REF!+#REF!+#REF!+#REF!","v":{"$error":"#REF!"}},{"$f":"#REF!+#REF!+#REF!+#REF!+#REF!+#REF!+#REF!","v":{"$error":"#REF!"}},{"$f":"#REF!+#REF!+#REF!+#REF!+#REF!+#REF!+#REF!","v":{"$error":"#REF!"}},{"$f":"#REF!+#REF!+#REF!+#REF!+#REF!+#REF!+#REF!","v":{"$error":"#REF!"}},{"$f":"#REF!+#REF!+#REF!+#REF!+#REF!+#REF!+#REF!","v":{"$error":"#REF!"}},{"$f":"#REF!+#REF!+#REF!+#REF!+#REF!+#REF!+#REF!","v":{"$error":"#REF!"}},{"$f":"#REF!+#REF!+#REF!+#REF!+#REF!+#REF!+#REF!","v":{"$error":"#REF!"}},{"$f":"#REF!+#REF!+#REF!+#REF!+#REF!+#REF!+#REF!","v":{"$error":"#REF!"}}]
[19,"East Feliciana",{"$f":"#REF!+#REF!+#REF!+#REF!+#REF!+#REF!+#REF!","v":{"$error":"#REF!"}},{"$f":"'9_Per Pupil Summary'!O24","v":10694.421585914641},{"$f":"#REF!+#REF!+#REF!+#REF!+#REF!+#REF!+#REF!","v":{"$error":"#REF!"}},null,{"$f":"#REF!+#REF!+#REF!+#REF!+#REF!+#REF!+#REF!","v":{"$error":"#REF!"}},{"$f":"#REF!+#REF!+#REF!+#REF!+#REF!+#REF!+#REF!","v":{"$error":"#REF!"}},{"$f":"'9_Per Pupil Summary'!I24","v":507.76188515426247},{"$f":"#REF!+#REF!+#REF!+#REF!+#REF!+#REF!+#REF!","v":{"$error":"#REF!"}},{"$f":"#REF!+#REF!+#REF!+#REF!+#REF!+#REF!+#REF!","v":{"$error":"#REF!"}},{"$f":"'9_Per Pupil Summary'!J24","v":138.48051413298066},{"$f":"#REF!+#REF!+#REF!+#REF!+#REF!+#REF!+#REF!","v":{"$error":"#REF!"}},{"$f":"#REF!+#REF!+#REF!+#REF!+#REF!+#REF!+#REF!","v":{"$error":"#REF!"}},{"$f":"'9_Per Pupil Summary'!K24","v":3462.0128533245161},{"$f":"#REF!+#REF!+#REF!+#REF!+#REF!+#REF!+#REF!","v":{"$error":"#REF!"}},{"$f":"#REF!+#REF!+#REF!+#REF!+#REF!+#REF!+#REF!","v":{"$error":"#REF!"}},{"$f":"'9_Per Pupil Summary'!L24","v":1384.8051413298065},{"$f":"#REF!+#REF!+#REF!+#REF!+#REF!+#REF!+#REF!","v":{"$error":"#REF!"}},{"$f":"#REF!+#REF!+#REF!+#REF!+#REF!+#REF!+#REF!","v":{"$error":"#REF!"}},{"$f":"#REF!+#REF!+#REF!+#REF!+#REF!+#REF!+#REF!","v":{"$error":"#REF!"}},{"$f":"#REF!+#REF!+#REF!+#REF!+#REF!+#REF!+#REF!","v":{"$error":"#REF!"}},{"$f":"#REF!+#REF!+#REF!+#REF!+#REF!+#REF!+#REF!","v":{"$error":"#REF!"}},{"$f":"#REF!+#REF!+#REF!+#REF!+#REF!+#REF!+#REF!","v":{"$error":"#REF!"}},{"$f":"#REF!+#REF!+#REF!+#REF!+#REF!+#REF!+#REF!","v":{"$error":"#REF!"}},{"$f":"#REF!+#REF!+#REF!+#REF!+#REF!+#REF!+#REF!","v":{"$error":"#REF!"}},{"$f":"#REF!+#REF!+#REF!+#REF!+#REF!+#REF!+#REF!","v":{"$error":"#REF!"}},{"$f":"#REF!+#REF!+#REF!+#REF!+#REF!+#REF!+#REF!","v":{"$error":"#REF!"}},{"$f":"#REF!+#REF!+#REF!+#REF!+#REF!+#REF!+#REF!","v":{"$error":"#REF!"}},{"$f":"#REF!+#REF!+#REF!+#REF!+#REF!+#REF!+#REF!","v":{"$error":"#REF!"}},{"$f":"#REF!+#REF!+#REF!+#REF!+#REF!+#REF!+#REF!","v":{"$error":"#REF!"}},{"$f":"#REF!+#REF!+#REF!+#REF!+#REF!+#REF!+#REF!","v":{"$error":"#REF!"}}]
[20,"Evangeline",{"$f":"#REF!+#REF!+#REF!+#REF!+#REF!+#REF!+#REF!","v":{"$error":"#REF!"}},{"$f":"'9_Per Pupil Summary'!O25","v":8345.1087684214508},{"$f":"#REF!+#REF!+#REF!+#REF!+#REF!+#REF!+#REF!","v":{"$error":"#REF!"}},null,{"$f":"#REF!+#REF!+#REF!+#REF!+#REF!+#REF!+#REF!","v":{"$error":"#REF!"}},{"$f":"#REF!+#REF!+#REF!+#REF!+#REF!+#REF!+#REF!","v":{"$error":"#REF!"}},{"$f":"'9_Per Pupil Summary'!I25","v":721.18392905271912},{"$f":"#REF!+#REF!+#REF!+#REF!+#REF!+#REF!+#REF!","v":{"$error":"#REF!"}},{"$f":"#REF!+#REF!+#REF!+#REF!+#REF!+#REF!+#REF!","v":{"$error":"#REF!"}},{"$f":"'9_Per Pupil Summary'!J25","v":196.68652610528702},{"$f":"#REF!+#REF!+#REF!+#REF!+#REF!+#REF!+#REF!","v":{"$error":"#REF!"}},{"$f":"#REF!+#REF!+#REF!+#REF!+#REF!+#REF!+#REF!","v":{"$error":"#REF!"}},{"$f":"'9_Per Pupil Summary'!K25","v":4917.1631526321762},{"$f":"#REF!+#REF!+#REF!+#REF!+#REF!+#REF!+#REF!","v":{"$error":"#REF!"}},{"$f":"#REF!+#REF!+#REF!+#REF!+#REF!+#REF!+#REF!","v":{"$error":"#REF!"}},{"$f":"'9_Per Pupil Summary'!L25","v":1966.8652610528702},{"$f":"#REF!+#REF!+#REF!+#REF!+#REF!+#REF!+#REF!","v":{"$error":"#REF!"}},{"$f":"#REF!+#REF!+#REF!+#REF!+#REF!+#REF!+#REF!","v":{"$error":"#REF!"}},{"$f":"#REF!+#REF!+#REF!+#REF!+#REF!+#REF!+#REF!","v":{"$error":"#REF!"}},{"$f":"#REF!+#REF!+#REF!+#REF!+#REF!+#REF!+#REF!","v":{"$error":"#REF!"}},{"$f":"#REF!+#REF!+#REF!+#REF!+#REF!+#REF!+#REF!","v":{"$error":"#REF!"}},{"$f":"#REF!+#REF!+#REF!+#REF!+#REF!+#REF!+#REF!","v":{"$error":"#REF!"}},{"$f":"#REF!+#REF!+#REF!+#REF!+#REF!+#REF!+#REF!","v":{"$error":"#REF!"}},{"$f":"#REF!+#REF!+#REF!+#REF!+#REF!+#REF!+#REF!","v":{"$error":"#REF!"}},{"$f":"#REF!+#REF!+#REF!+#REF!+#REF!+#REF!+#REF!","v":{"$error":"#REF!"}},{"$f":"#REF!+#REF!+#REF!+#REF!+#REF!+#REF!+#REF!","v":{"$error":"#REF!"}},{"$f":"#REF!+#REF!+#REF!+#REF!+#REF!+#REF!+#REF!","v":{"$error":"#REF!"}},{"$f":"#REF!+#REF!+#REF!+#REF!+#REF!+#REF!+#REF!","v":{"$error":"#REF!"}},{"$f":"#REF!+#REF!+#REF!+#REF!+#REF!+#REF!+#REF!","v":{"$error":"#REF!"}},{"$f":"#REF!+#REF!+#REF!+#REF!+#REF!+#REF!+#REF!","v":{"$error":"#REF!"}}]
[21,"Franklin",{"$f":"#REF!+#REF!+#REF!+#REF!+#REF!+#REF!+#REF!","v":{"$error":"#REF!"}},{"$f":"'9_Per Pupil Summary'!O26","v":8722.4959117612125},{"$f":"#REF!+#REF!+#REF!+#REF!+#REF!+#REF!+#REF!","v":{"$error":"#REF!"}},null,{"$f":"#REF!+#REF!+#REF!+#REF!+#REF!+#REF!+#REF!","v":{"$error":"#REF!"}},{"$f":"#REF!+#REF!+#REF!+#REF!+#REF!+#REF!+#REF!","v":{"$error":"#REF!"}},{"$f":"'9_Per Pupil Summary'!I26","v":705.9983026935829},{"$f":"#REF!+#REF!+#REF!+#REF!+#REF!+#REF!+#REF!","v":{"$error":"#REF!"}},{"$f":"#REF!+#REF!+#REF!+#REF!+#REF!+#REF!+#REF!","v":{"$error":"#REF!"}},{"$f":"'9_Per Pupil Summary'!J26","v":192.54499164370444},{"$f":"#REF!+#REF!+#REF!+#REF!+#REF!+#REF!+#REF!","v":{"$error":"#REF!"}},{"$f":"#REF!+#REF!+#REF!+#REF!+#REF!+#REF!+#REF!","v":{"$error":"#REF!"}},{"$f":"'9_Per Pupil Summary'!K26","v":4813.6247910926104},{"$f":"#REF!+#REF!+#REF!+#REF!+#REF!+#REF!+#REF!","v":{"$error":"#REF!"}},{"$f":"#REF!+#REF!+#REF!+#REF!+#REF!+#REF!+#REF!","v":{"$error":"#REF!"}},{"$f":"'9_Per Pupil Summary'!L26","v":1925.4499164370441},{"$f":"#REF!+#REF!+#REF!+#REF!+#REF!+#REF!+#REF!","v":{"$error":"#REF!"}},{"$f":"#REF!+#REF!+#REF!+#REF!+#REF!+#REF!+#REF!","v":{"$error":"#REF!"}},{"$f":"#REF!+#REF!+#REF!+#REF!+#REF!+#REF!+#REF!","v":{"$error":"#REF!"}},{"$f":"#REF!+#REF!+#REF!+#REF!+#REF!+#REF!+#REF!","v":{"$error":"#REF!"}},{"$f":"#REF!+#REF!+#REF!+#REF!+#REF!+#REF!+#REF!","v":{"$error":"#REF!"}},{"$f":"#REF!+#REF!+#REF!+#REF!+#REF!+#REF!+#REF!","v":{"$error":"#REF!"}},{"$f":"#REF!+#REF!+#REF!+#REF!+#REF!+#REF!+#REF!","v":{"$error":"#REF!"}},{"$f":"#REF!+#REF!+#REF!+#REF!+#REF!+#REF!+#REF!","v":{"$error":"#REF!"}},{"$f":"#REF!+#REF!+#REF!+#REF!+#REF!+#REF!+#REF!","v":{"$error":"#REF!"}},{"$f":"#REF!+#REF!+#REF!+#REF!+#REF!+#REF!+#REF!","v":{"$error":"#REF!"}},{"$f":"#REF!+#REF!+#REF!+#REF!+#REF!+#REF!+#REF!","v":{"$error":"#REF!"}},{"$f":"#REF!+#REF!+#REF!+#REF!+#REF!+#REF!+#REF!","v":{"$error":"#REF!"}},{"$f":"#REF!+#REF!+#REF!+#REF!+#REF!+#REF!+#REF!","v":{"$error":"#REF!"}},{"$f":"#REF!+#REF!+#REF!+#REF!+#REF!+#REF!+#REF!","v":{"$error":"#REF!"}}]
[22,"Grant",{"$f":"#REF!+#REF!+#REF!+#REF!+#REF!+#REF!+#REF!","v":{"$error":"#REF!"}},{"$f":"'9_Per Pupil Summary'!O27","v":8373.3376354096054},{"$f":"#REF!+#REF!+#REF!+#REF!+#REF!+#REF!+#REF!","v":{"$error":"#REF!"}},null,{"$f":"#REF!+#REF!+#REF!+#REF!+#REF!+#REF!+#REF!","v":{"$error":"#REF!"}},{"$f":"#REF!+#REF!+#REF!+#REF!+#REF!+#REF!+#REF!","v":{"$error":"#REF!"}},{"$f":"'9_Per Pupil Summary'!I27","v":768.66343524601734},{"$f":"#REF!+#REF!+#REF!+#REF!+#REF!+#REF!+#REF!","v":{"$error":"#REF!"}},{"$f":"#REF!+#REF!+#REF!+#REF!+#REF!+#REF!+#REF!","v":{"$error":"#REF!"}},{"$f":"'9_Per Pupil Summary'!J27","v":209.63548233982291},{"$f":"#REF!+#REF!+#REF!+#REF!+#REF!+#REF!+#REF!","v":{"$error":"#REF!"}},{"$f":"#REF!+#REF!+#REF!+#REF!+#REF!+#REF!+#REF!","v":{"$error":"#REF!"}},{"$f":"'9_Per Pupil Summary'!K27","v":5240.8870584955739},{"$f":"#REF!+#REF!+#REF!+#REF!+#REF!+#REF!+#REF!","v":{"$error":"#REF!"}},{"$f":"#REF!+#REF!+#REF!+#REF!+#REF!+#REF!+#REF!","v":{"$error":"#REF!"}},{"$f":"'9_Per Pupil Summary'!L27","v":2096.3548233982292},{"$f":"#REF!+#REF!+#REF!+#REF!+#REF!+#REF!+#REF!","v":{"$error":"#REF!"}},{"$f":"#REF!+#REF!+#REF!+#REF!+#REF!+#REF!+#REF!","v":{"$error":"#REF!"}},{"$f":"#REF!+#REF!+#REF!+#REF!+#REF!+#REF!+#REF!","v":{"$error":"#REF!"}},{"$f":"#REF!+#REF!+#REF!+#REF!+#REF!+#REF!+#REF!","v":{"$error":"#REF!"}},{"$f":"#REF!+#REF!+#REF!+#REF!+#REF!+#REF!+#REF!","v":{"$error":"#REF!"}},{"$f":"#REF!+#REF!+#REF!+#REF!+#REF!+#REF!+#REF!","v":{"$error":"#REF!"}},{"$f":"#REF!+#REF!+#REF!+#REF!+#REF!+#REF!+#REF!","v":{"$error":"#REF!"}},{"$f":"#REF!+#REF!+#REF!+#REF!+#REF!+#REF!+#REF!","v":{"$error":"#REF!"}},{"$f":"#REF!+#REF!+#REF!+#REF!+#REF!+#REF!+#REF!","v":{"$error":"#REF!"}},{"$f":"#REF!+#REF!+#REF!+#REF!+#REF!+#REF!+#REF!","v":{"$error":"#REF!"}},{"$f":"#REF!+#REF!+#REF!+#REF!+#REF!+#REF!+#REF!","v":{"$error":"#REF!"}},{"$f":"#REF!+#REF!+#REF!+#REF!+#REF!+#REF!+#REF!","v":{"$error":"#REF!"}},{"$f":"#REF!+#REF!+#REF!+#REF!+#REF!+#REF!+#REF!","v":{"$error":"#REF!"}},{"$f":"#REF!+#REF!+#REF!+#REF!+#REF!+#REF!+#REF!","v":{"$error":"#REF!"}}]
[23,"Iberia",{"$f":"#REF!+#REF!+#REF!+#REF!+#REF!+#REF!+#REF!","v":{"$error":"#REF!"}},{"$f":"'9_Per Pupil Summary'!O28","v":9261.5293140644862},{"$f":"#REF!+#REF!+#REF!+#REF!+#REF!+#REF!+#REF!","v":{"$error":"#REF!"}},null,{"$f":"#REF!+#REF!+#REF!+#REF!+#REF!+#REF!+#REF!","v":{"$error":"#REF!"}},{"$f":"#REF!+#REF!+#REF!+#REF!+#REF!+#REF!+#REF!","v":{"$error":"#REF!"}},{"$f":"'9_Per Pupil Summary'!I28","v":659.58562894240856},{"$f":"#REF!+#REF!+#REF!+#REF!+#REF!+#REF!+#REF!","v":{"$error":"#REF!"}},{"$f":"#REF!+#REF!+#REF!+#REF!+#REF!+#REF!+#REF!","v":{"$error":"#REF!"}},{"$f":"'9_Per Pupil Summary'!J28","v":179.886989711566},{"$f":"#REF!+#REF!+#REF!+#REF!+#REF!+#REF!+#REF!","v":{"$error":"#REF!"}},{"$f":"#REF!+#REF!+#REF!+#REF!+#REF!+#REF!+#REF!","v":{"$error":"#REF!"}},{"$f":"'9_Per Pupil Summary'!K28","v":4497.1747427891496},{"$f":"#REF!+#REF!+#REF!+#REF!+#REF!+#REF!+#REF!","v":{"$error":"#REF!"}},{"$f":"#REF!+#REF!+#REF!+#REF!+#REF!+#REF!+#REF!","v":{"$error":"#REF!"}},{"$f":"'9_Per Pupil Summary'!L28","v":1798.86989711566},{"$f":"#REF!+#REF!+#REF!+#REF!+#REF!+#REF!+#REF!","v":{"$error":"#REF!"}},{"$f":"#REF!+#REF!+#REF!+#REF!+#REF!+#REF!+#REF!","v":{"$error":"#REF!"}},{"$f":"#REF!+#REF!+#REF!+#REF!+#REF!+#REF!+#REF!","v":{"$error":"#REF!"}},{"$f":"#REF!+#REF!+#REF!+#REF!+#REF!+#REF!+#REF!","v":{"$error":"#REF!"}},{"$f":"#REF!+#REF!+#REF!+#REF!+#REF!+#REF!+#REF!","v":{"$error":"#REF!"}},{"$f":"#REF!+#REF!+#REF!+#REF!+#REF!+#REF!+#REF!","v":{"$error":"#REF!"}},{"$f":"#REF!+#REF!+#REF!+#REF!+#REF!+#REF!+#REF!","v":{"$error":"#REF!"}},{"$f":"#REF!+#REF!+#REF!+#REF!+#REF!+#REF!+#REF!","v":{"$error":"#REF!"}},{"$f":"#REF!+#REF!+#REF!+#REF!+#REF!+#REF!+#REF!","v":{"$error":"#REF!"}},{"$f":"#REF!+#REF!+#REF!+#REF!+#REF!+#REF!+#REF!","v":{"$error":"#REF!"}},{"$f":"#REF!+#REF!+#REF!+#REF!+#REF!+#REF!+#REF!","v":{"$error":"#REF!"}},{"$f":"#REF!+#REF!+#REF!+#REF!+#REF!+#REF!+#REF!","v":{"$error":"#REF!"}},{"$f":"#REF!+#REF!+#REF!+#REF!+#REF!+#REF!+#REF!","v":{"$error":"#REF!"}},{"$f":"#REF!+#REF!+#REF!+#REF!+#REF!+#REF!+#REF!","v":{"$error":"#REF!"}}]
[24,"Iberville",{"$f":"#REF!+#REF!+#REF!+#REF!+#REF!+#REF!+#REF!","v":{"$error":"#REF!"}},{"$f":"'9_Per Pupil Summary'!O29","v":26219.823212733889},{"$f":"#REF!+#REF!+#REF!+#REF!+#REF!+#REF!+#REF!","v":{"$error":"#REF!"}},null,{"$f":"#REF!+#REF!+#REF!+#REF!+#REF!+#REF!+#REF!","v":{"$error":"#REF!"}},{"$f":"#REF!+#REF!+#REF!+#REF!+#REF!+#REF!+#REF!","v":{"$error":"#REF!"}},{"$f":"'9_Per Pupil Summary'!I29","v":220.82498754930828},{"$f":"#REF!+#REF!+#REF!+#REF!+#REF!+#REF!+#REF!","v":{"$error":"#REF!"}},{"$f":"#REF!+#REF!+#REF!+#REF!+#REF!+#REF!+#REF!","v":{"$error":"#REF!"}},{"$f":"'9_Per Pupil Summary'!J29","v":60.224996604356811},{"$f":"#REF!+#REF!+#REF!+#REF!+#REF!+#REF!+#REF!","v":{"$error":"#REF!"}},{"$f":"#REF!+#REF!+#REF!+#REF!+#REF!+#REF!+#REF!","v":{"$error":"#REF!"}},{"$f":"'9_Per Pupil Summary'!K29","v":1505.6249151089203},{"$f":"#REF!+#REF!+#REF!+#REF!+#REF!+#REF!+#REF!","v":{"$error":"#REF!"}},{"$f":"#REF!+#REF!+#REF!+#REF!+#REF!+#REF!+#REF!","v":{"$error":"#REF!"}},{"$f":"'9_Per Pupil Summary'!L29","v":602.24996604356807},{"$f":"#REF!+#REF!+#REF!+#REF!+#REF!+#REF!+#REF!","v":{"$error":"#REF!"}},{"$f":"#REF!+#REF!+#REF!+#REF!+#REF!+#REF!+#REF!","v":{"$error":"#REF!"}},{"$f":"#REF!+#REF!+#REF!+#REF!+#REF!+#REF!+#REF!","v":{"$error":"#REF!"}},{"$f":"#REF!+#REF!+#REF!+#REF!+#REF!+#REF!+#REF!","v":{"$error":"#REF!"}},{"$f":"#REF!+#REF!+#REF!+#REF!+#REF!+#REF!+#REF!","v":{"$error":"#REF!"}},{"$f":"#REF!+#REF!+#REF!+#REF!+#REF!+#REF!+#REF!","v":{"$error":"#REF!"}},{"$f":"#REF!+#REF!+#REF!+#REF!+#REF!+#REF!+#REF!","v":{"$error":"#REF!"}},{"$f":"#REF!+#REF!+#REF!+#REF!+#REF!+#REF!+#REF!","v":{"$error":"#REF!"}},{"$f":"#REF!+#REF!+#REF!+#REF!+#REF!+#REF!+#REF!","v":{"$error":"#REF!"}},{"$f":"#REF!+#REF!+#REF!+#REF!+#REF!+#REF!+#REF!","v":{"$error":"#REF!"}},{"$f":"#REF!+#REF!+#REF!+#REF!+#REF!+#REF!+#REF!","v":{"$error":"#REF!"}},{"$f":"#REF!+#REF!+#REF!+#REF!+#REF!+#REF!+#REF!","v":{"$error":"#REF!"}},{"$f":"#REF!+#REF!+#REF!+#REF!+#REF!+#REF!+#REF!","v":{"$error":"#REF!"}},{"$f":"#REF!+#REF!+#REF!+#REF!+#REF!+#REF!+#REF!","v":{"$error":"#REF!"}}]
[25,"Jackson",{"$f":"#REF!+#REF!+#REF!+#REF!+#REF!+#REF!+#REF!","v":{"$error":"#REF!"}},{"$f":"'9_Per Pupil Summary'!O30","v":9689.9479346874214},{"$f":"#REF!+#REF!+#REF!+#REF!+#REF!+#REF!+#REF!","v":{"$error":"#REF!"}},null,{"$f":"#REF!+#REF!+#REF!+#REF!+#REF!+#REF!+#REF!","v":{"$error":"#REF!"}},{"$f":"#REF!+#REF!+#REF!+#REF!+#REF!+#REF!+#REF!","v":{"$error":"#REF!"}},{"$f":"'9_Per Pupil Summary'!I30","v":629.09769986008814},{"$f":"#REF!+#REF!+#REF!+#REF!+#REF!+#REF!+#REF!","v":{"$error":"#REF!"}},{"$f":"#REF!+#REF!+#REF!+#REF!+#REF!+#REF!+#REF!","v":{"$error":"#REF!"}},{"$f":"'9_Per Pupil Summary'!J30","v":171.57209996184224},{"$f":"#REF!+#REF!+#REF!+#REF!+#REF!+#REF!+#REF!","v":{"$error":"#REF!"}},{"$f":"#REF!+#REF!+#REF!+#REF!+#REF!+#REF!+#REF!","v":{"$error":"#REF!"}},{"$f":"'9_Per Pupil Summary'!K30","v":4289.3024990460563},{"$f":"#REF!+#REF!+#REF!+#REF!+#REF!+#REF!+#REF!","v":{"$error":"#REF!"}},{"$f":"#REF!+#REF!+#REF!+#REF!+#REF!+#REF!+#REF!","v":{"$error":"#REF!"}},{"$f":"'9_Per Pupil Summary'!L30","v":1715.7209996184222},{"$f":"#REF!+#REF!+#REF!+#REF!+#REF!+#REF!+#REF!","v":{"$error":"#REF!"}},{"$f":"#REF!+#REF!+#REF!+#REF!+#REF!+#REF!+#REF!","v":{"$error":"#REF!"}},{"$f":"#REF!+#REF!+#REF!+#REF!+#REF!+#REF!+#REF!","v":{"$error":"#REF!"}},{"$f":"#REF!+#REF!+#REF!+#REF!+#REF!+#REF!+#REF!","v":{"$error":"#REF!"}},{"$f":"#REF!+#REF!+#REF!+#REF!+#REF!+#REF!+#REF!","v":{"$error":"#REF!"}},{"$f":"#REF!+#REF!+#REF!+#REF!+#REF!+#REF!+#REF!","v":{"$error":"#REF!"}},{"$f":"#REF!+#REF!+#REF!+#REF!+#REF!+#REF!+#REF!","v":{"$error":"#REF!"}},{"$f":"#REF!+#REF!+#REF!+#REF!+#REF!+#REF!+#REF!","v":{"$error":"#REF!"}},{"$f":"#REF!+#REF!+#REF!+#REF!+#REF!+#REF!+#REF!","v":{"$error":"#REF!"}},{"$f":"#REF!+#REF!+#REF!+#REF!+#REF!+#REF!+#REF!","v":{"$error":"#REF!"}},{"$f":"#REF!+#REF!+#REF!+#REF!+#REF!+#REF!+#REF!","v":{"$error":"#REF!"}},{"$f":"#REF!+#REF!+#REF!+#REF!+#REF!+#REF!+#REF!","v":{"$error":"#REF!"}},{"$f":"#REF!+#REF!+#REF!+#REF!+#REF!+#REF!+#REF!","v":{"$error":"#REF!"}},{"$f":"#REF!+#REF!+#REF!+#REF!+#REF!+#REF!+#REF!","v":{"$error":"#REF!"}}]
[26,"Jefferson",{"$f":"#REF!+#REF!+#REF!+#REF!+#REF!+#REF!+#REF!","v":{"$error":"#REF!"}},{"$f":"'9_Per Pupil Summary'!O31","v":10656.014799472499},{"$f":"#REF!+#REF!+#REF!+#REF!+#REF!+#REF!+#REF!","v":{"$error":"#REF!"}},null,{"$f":"#REF!+#REF!+#REF!+#REF!+#REF!+#REF!+#REF!","v":{"$error":"#REF!"}},{"$f":"#REF!+#REF!+#REF!+#REF!+#REF!+#REF!+#REF!","v":{"$error":"#REF!"}},{"$f":"'9_Per Pupil Summary'!I31","v":492.8937921862219},{"$f":"#REF!+#REF!+#REF!+#REF!+#REF!+#REF!+#REF!","v":{"$error":"#REF!"}},{"$f":"#REF!+#REF!+#REF!+#REF!+#REF!+#REF!+#REF!","v":{"$error":"#REF!"}},{"$f":"'9_Per Pupil Summary'!J31","v":134.42557968715144},{"$f":"#REF!+#REF!+#REF!+#REF!+#REF!+#REF!+#REF!","v":{"$error":"#REF!"}},{"$f":"#REF!+#REF!+#REF!+#REF!+#REF!+#REF!+#REF!","v":{"$error":"#REF!"}},{"$f":"'9_Per Pupil Summary'!K31","v":3360.639492178786},{"$f":"#REF!+#REF!+#REF!+#REF!+#REF!+#REF!+#REF!","v":{"$error":"#REF!"}},{"$f":"#REF!+#REF!+#REF!+#REF!+#REF!+#REF!+#REF!","v":{"$error":"#REF!"}},{"$f":"'9_Per Pupil Summary'!L31","v":1344.2557968715146},{"$f":"#REF!+#REF!+#REF!+#REF!+#REF!+#REF!+#REF!","v":{"$error":"#REF!"}},{"$f":"#REF!+#REF!+#REF!+#REF!+#REF!+#REF!+#REF!","v":{"$error":"#REF!"}},{"$f":"#REF!+#REF!+#REF!+#REF!+#REF!+#REF!+#REF!","v":{"$error":"#REF!"}},{"$f":"#REF!+#REF!+#REF!+#REF!+#REF!+#REF!+#REF!","v":{"$error":"#REF!"}},{"$f":"#REF!+#REF!+#REF!+#REF!+#REF!+#REF!+#REF!","v":{"$error":"#REF!"}},{"$f":"#REF!+#REF!+#REF!+#REF!+#REF!+#REF!+#REF!","v":{"$error":"#REF!"}},{"$f":"#REF!+#REF!+#REF!+#REF!+#REF!+#REF!+#REF!","v":{"$error":"#REF!"}},{"$f":"#REF!+#REF!+#REF!+#REF!+#REF!+#REF!+#REF!","v":{"$error":"#REF!"}},{"$f":"#REF!+#REF!+#REF!+#REF!+#REF!+#REF!+#REF!","v":{"$error":"#REF!"}},{"$f":"#REF!+#REF!+#REF!+#REF!+#REF!+#REF!+#REF!","v":{"$error":"#REF!"}},{"$f":"#REF!+#REF!+#REF!+#REF!+#REF!+#REF!+#REF!","v":{"$error":"#REF!"}},{"$f":"#REF!+#REF!+#REF!+#REF!+#REF!+#REF!+#REF!","v":{"$error":"#REF!"}},{"$f":"#REF!+#REF!+#REF!+#REF!+#REF!+#REF!+#REF!","v":{"$error":"#REF!"}},{"$f":"#REF!+#REF!+#REF!+#REF!+#REF!+#REF!+#REF!","v":{"$error":"#REF!"}}]
[27,"Jefferson Davis",{"$f":"#REF!+#REF!+#REF!+#REF!+#REF!+#REF!+#REF!","v":{"$error":"#REF!"}},{"$f":"'9_Per Pupil Summary'!O32","v":9414.2927434755948},{"$f":"#REF!+#REF!+#REF!+#REF!+#REF!+#REF!+#REF!","v":{"$error":"#REF!"}},null,{"$f":"#REF!+#REF!+#REF!+#REF!+#REF!+#REF!+#REF!","v":{"$error":"#REF!"}},{"$f":"#REF!+#REF!+#REF!+#REF!+#REF!+#REF!+#REF!","v":{"$error":"#REF!"}},{"$f":"'9_Per Pupil Summary'!I32","v":686.15355821987032},{"$f":"#REF!+#REF!+#REF!+#REF!+#REF!+#REF!+#REF!","v":{"$error":"#REF!"}},{"$f":"#REF!+#REF!+#REF!+#REF!+#REF!+#REF!+#REF!","v":{"$error":"#REF!"}},{"$f":"'9_Per Pupil Summary'!J32","v":187.13278860541917},{"$f":"#REF!+#REF!+#REF!+#REF!+#REF!+#REF!+#REF!","v":{"$error":"#REF!"}},{"$f":"#REF!+#REF!+#REF!+#REF!+#REF!+#REF!+#REF!","v":{"$error":"#REF!"}},{"$f":"'9_Per Pupil Summary'!K32","v":4678.3197151354798},{"$f":"#REF!+#REF!+#REF!+#REF!+#REF!+#REF!+#REF!","v":{"$error":"#REF!"}},{"$f":"#REF!+#REF!+#REF!+#REF!+#REF!+#REF!+#REF!","v":{"$error":"#REF!"}},{"$f":"'9_Per Pupil Summary'!L32","v":1871.3278860541916},{"$f":"#REF!+#REF!+#REF!+#REF!+#REF!+#REF!+#REF!","v":{"$error":"#REF!"}},{"$f":"#REF!+#REF!+#REF!+#REF!+#REF!+#REF!+#REF!","v":{"$error":"#REF!"}},{"$f":"#REF!+#REF!+#REF!+#REF!+#REF!+#REF!+#REF!","v":{"$error":"#REF!"}},{"$f":"#REF!+#REF!+#REF!+#REF!+#REF!+#REF!+#REF!","v":{"$error":"#REF!"}},{"$f":"#REF!+#REF!+#REF!+#REF!+#REF!+#REF!+#REF!","v":{"$error":"#REF!"}},{"$f":"#REF!+#REF!+#REF!+#REF!+#REF!+#REF!+#REF!","v":{"$error":"#REF!"}},{"$f":"#REF!+#REF!+#REF!+#REF!+#REF!+#REF!+#REF!","v":{"$error":"#REF!"}},{"$f":"#REF!+#REF!+#REF!+#REF!+#REF!+#REF!+#REF!","v":{"$error":"#REF!"}},{"$f":"#REF!+#REF!+#REF!+#REF!+#REF!+#REF!+#REF!","v":{"$error":"#REF!"}},{"$f":"#REF!+#REF!+#REF!+#REF!+#REF!+#REF!+#REF!","v":{"$error":"#REF!"}},{"$f":"#REF!+#REF!+#REF!+#REF!+#REF!+#REF!+#REF!","v":{"$error":"#REF!"}},{"$f":"#REF!+#REF!+#REF!+#REF!+#REF!+#REF!+#REF!","v":{"$error":"#REF!"}},{"$f":"#REF!+#REF!+#REF!+#REF!+#REF!+#REF!+#REF!","v":{"$error":"#REF!"}},{"$f":"#REF!+#REF!+#REF!+#REF!+#REF!+#REF!+#REF!","v":{"$error":"#REF!"}}]
[28,"Lafayette",{"$f":"#REF!+#REF!+#REF!+#REF!+#REF!+#REF!+#REF!","v":{"$error":"#REF!"}},{"$f":"'9_Per Pupil Summary'!O33","v":9785.7115730037731},{"$f":"#REF!+#REF!+#REF!+#REF!+#REF!+#REF!+#REF!","v":{"$error":"#REF!"}},null,{"$f":"#REF!+#REF!+#REF!+#REF!+#REF!+#REF!+#REF!","v":{"$error":"#REF!"}},{"$f":"#REF!+#REF!+#REF!+#REF!+#REF!+#REF!+#REF!","v":{"$error":"#REF!"}},{"$f":"'9_Per Pupil Summary'!I33","v":527.5032248511975},{"$f":"#REF!+#REF!+#REF!+#REF!+#REF!+#REF!+#REF!","v":{"$error":"#REF!"}},{"$f":"#REF!+#REF!+#REF!+#REF!+#REF!+#REF!+#REF!","v":{"$error":"#REF!"}},{"$f":"'9_Per Pupil Summary'!J33","v":143.86451586850836},{"$f":"#REF!+#REF!+#REF!+#REF!+#REF!+#REF!+#REF!","v":{"$error":"#REF!"}},{"$f":"#REF!+#REF!+#REF!+#REF!+#REF!+#REF!+#REF!","v":{"$error":"#REF!"}},{"$f":"'9_Per Pupil Summary'!K33","v":3596.6128967127097},{"$f":"#REF!+#REF!+#REF!+#REF!+#REF!+#REF!+#REF!","v":{"$error":"#REF!"}},{"$f":"#REF!+#REF!+#REF!+#REF!+#REF!+#REF!+#REF!","v":{"$error":"#REF!"}},{"$f":"'9_Per Pupil Summary'!L33","v":1438.645158685084},{"$f":"#REF!+#REF!+#REF!+#REF!+#REF!+#REF!+#REF!","v":{"$error":"#REF!"}},{"$f":"#REF!+#REF!+#REF!+#REF!+#REF!+#REF!+#REF!","v":{"$error":"#REF!"}},{"$f":"#REF!+#REF!+#REF!+#REF!+#REF!+#REF!+#REF!","v":{"$error":"#REF!"}},{"$f":"#REF!+#REF!+#REF!+#REF!+#REF!+#REF!+#REF!","v":{"$error":"#REF!"}},{"$f":"#REF!+#REF!+#REF!+#REF!+#REF!+#REF!+#REF!","v":{"$error":"#REF!"}},{"$f":"#REF!+#REF!+#REF!+#REF!+#REF!+#REF!+#REF!","v":{"$error":"#REF!"}},{"$f":"#REF!+#REF!+#REF!+#REF!+#REF!+#REF!+#REF!","v":{"$error":"#REF!"}},{"$f":"#REF!+#REF!+#REF!+#REF!+#REF!+#REF!+#REF!","v":{"$error":"#REF!"}},{"$f":"#REF!+#REF!+#REF!+#REF!+#REF!+#REF!+#REF!","v":{"$error":"#REF!"}},{"$f":"#REF!+#REF!+#REF!+#REF!+#REF!+#REF!+#REF!","v":{"$error":"#REF!"}},{"$f":"#REF!+#REF!+#REF!+#REF!+#REF!+#REF!+#REF!","v":{"$error":"#REF!"}},{"$f":"#REF!+#REF!+#REF!+#REF!+#REF!+#REF!+#REF!","v":{"$error":"#REF!"}},{"$f":"#REF!+#REF!+#REF!+#REF!+#REF!+#REF!+#REF!","v":{"$error":"#REF!"}},{"$f":"#REF!+#REF!+#REF!+#REF!+#REF!+#REF!+#REF!","v":{"$error":"#REF!"}}]
[29,"Lafourche",{"$f":"#REF!+#REF!+#REF!+#REF!+#REF!+#REF!+#REF!","v":{"$error":"#REF!"}},{"$f":"'9_Per Pupil Summary'!O34","v":9921.7155666844155},{"$f":"#REF!+#REF!+#REF!+#REF!+#REF!+#REF!+#REF!","v":{"$error":"#REF!"}},null,{"$f":"#REF!+#REF!+#REF!+#REF!+#REF!+#REF!+#REF!","v":{"$error":"#REF!"}},{"$f":"#REF!+#REF!+#REF!+#REF!+#REF!+#REF!+#REF!","v":{"$error":"#REF!"}},{"$f":"'9_Per Pupil Summary'!I34","v":614.74660081986588},{"$f":"#REF!+#REF!+#REF!+#REF!+#REF!+#REF!+#REF!","v":{"$error":"#REF!"}},{"$f":"#REF!+#REF!+#REF!+#REF!+#REF!+#REF!+#REF!","v":{"$error":"#REF!"}},{"$f":"'9_Per Pupil Summary'!J34","v":167.65816385996342},{"$f":"#REF!+#REF!+#REF!+#REF!+#REF!+#REF!+#REF!","v":{"$error":"#REF!"}},{"$f":"#REF!+#REF!+#REF!+#REF!+#REF!+#REF!+#REF!","v":{"$error":"#REF!"}},{"$f":"'9_Per Pupil Summary'!K34","v":4191.4540964990856},{"$f":"#REF!+#REF!+#REF!+#REF!+#REF!+#REF!+#REF!","v":{"$error":"#REF!"}},{"$f":"#REF!+#REF!+#REF!+#REF!+#REF!+#REF!+#REF!","v":{"$error":"#REF!"}},{"$f":"'9_Per Pupil Summary'!L34","v":1676.5816385996341},{"$f":"#REF!+#REF!+#REF!+#REF!+#REF!+#REF!+#REF!","v":{"$error":"#REF!"}},{"$f":"#REF!+#REF!+#REF!+#REF!+#REF!+#REF!+#REF!","v":{"$error":"#REF!"}},{"$f":"#REF!+#REF!+#REF!+#REF!+#REF!+#REF!+#REF!","v":{"$error":"#REF!"}},{"$f":"#REF!+#REF!+#REF!+#REF!+#REF!+#REF!+#REF!","v":{"$error":"#REF!"}},{"$f":"#REF!+#REF!+#REF!+#REF!+#REF!+#REF!+#REF!","v":{"$error":"#REF!"}},{"$f":"#REF!+#REF!+#REF!+#REF!+#REF!+#REF!+#REF!","v":{"$error":"#REF!"}},{"$f":"#REF!+#REF!+#REF!+#REF!+#REF!+#REF!+#REF!","v":{"$error":"#REF!"}},{"$f":"#REF!+#REF!+#REF!+#REF!+#REF!+#REF!+#REF!","v":{"$error":"#REF!"}},{"$f":"#REF!+#REF!+#REF!+#REF!+#REF!+#REF!+#REF!","v":{"$error":"#REF!"}},{"$f":"#REF!+#REF!+#REF!+#REF!+#REF!+#REF!+#REF!","v":{"$error":"#REF!"}},{"$f":"#REF!+#REF!+#REF!+#REF!+#REF!+#REF!+#REF!","v":{"$error":"#REF!"}},{"$f":"#REF!+#REF!+#REF!+#REF!+#REF!+#REF!+#REF!","v":{"$error":"#REF!"}},{"$f":"#REF!+#REF!+#REF!+#REF!+#REF!+#REF!+#REF!","v":{"$error":"#REF!"}},{"$f":"#REF!+#REF!+#REF!+#REF!+#REF!+#REF!+#REF!","v":{"$error":"#REF!"}}]
[30,"LaSalle",{"$f":"#REF!+#REF!+#REF!+#REF!+#REF!+#REF!+#REF!","v":{"$error":"#REF!"}},{"$f":"'9_Per Pupil Summary'!O35","v":10492.920008281708},{"$f":"#REF!+#REF!+#REF!+#REF!+#REF!+#REF!+#REF!","v":{"$error":"#REF!"}},null,{"$f":"#REF!+#REF!+#REF!+#REF!+#REF!+#REF!+#REF!","v":{"$error":"#REF!"}},{"$f":"#REF!+#REF!+#REF!+#REF!+#REF!+#REF!+#REF!","v":{"$error":"#REF!"}},{"$f":"'9_Per Pupil Summary'!I35","v":701.47158036346752},{"$f":"#REF!+#REF!+#REF!+#REF!+#REF!+#REF!+#REF!","v":{"$error":"#REF!"}},{"$f":"#REF!+#REF!+#REF!+#REF!+#REF!+#REF!+#REF!","v":{"$error":"#REF!"}},{"$f":"'9_Per Pupil Summary'!J35","v":191.31043100821839},{"$f":"#REF!+#REF!+#REF!+#REF!+#REF!+#REF!+#REF!","v":{"$error":"#REF!"}},{"$f":"#REF!+#REF!+#REF!+#REF!+#REF!+#REF!+#REF!","v":{"$error":"#REF!"}},{"$f":"'9_Per Pupil Summary'!K35","v":4782.76077520546},{"$f":"#REF!+#REF!+#REF!+#REF!+#REF!+#REF!+#REF!","v":{"$error":"#REF!"}},{"$f":"#REF!+#REF!+#REF!+#REF!+#REF!+#REF!+#REF!","v":{"$error":"#REF!"}},{"$f":"'9_Per Pupil Summary'!L35","v":1913.1043100821837},{"$f":"#REF!+#REF!+#REF!+#REF!+#REF!+#REF!+#REF!","v":{"$error":"#REF!"}},{"$f":"#REF!+#REF!+#REF!+#REF!+#REF!+#REF!+#REF!","v":{"$error":"#REF!"}},{"$f":"#REF!+#REF!+#REF!+#REF!+#REF!+#REF!+#REF!","v":{"$error":"#REF!"}},{"$f":"#REF!+#REF!+#REF!+#REF!+#REF!+#REF!+#REF!","v":{"$error":"#REF!"}},{"$f":"#REF!+#REF!+#REF!+#REF!+#REF!+#REF!+#REF!","v":{"$error":"#REF!"}},{"$f":"#REF!+#REF!+#REF!+#REF!+#REF!+#REF!+#REF!","v":{"$error":"#REF!"}},{"$f":"#REF!+#REF!+#REF!+#REF!+#REF!+#REF!+#REF!","v":{"$error":"#REF!"}},{"$f":"#REF!+#REF!+#REF!+#REF!+#REF!+#REF!+#REF!","v":{"$error":"#REF!"}},{"$f":"#REF!+#REF!+#REF!+#REF!+#REF!+#REF!+#REF!","v":{"$error":"#REF!"}},{"$f":"#REF!+#REF!+#REF!+#REF!+#REF!+#REF!+#REF!","v":{"$error":"#REF!"}},{"$f":"#REF!+#REF!+#REF!+#REF!+#REF!+#REF!+#REF!","v":{"$error":"#REF!"}},{"$f":"#REF!+#REF!+#REF!+#REF!+#REF!+#REF!+#REF!","v":{"$error":"#REF!"}},{"$f":"#REF!+#REF!+#REF!+#REF!+#REF!+#REF!+#REF!","v":{"$error":"#REF!"}},{"$f":"#REF!+#REF!+#REF!+#REF!+#REF!+#REF!+#REF!","v":{"$error":"#REF!"}}]
[31,"Lincoln",{"$f":"#REF!+#REF!+#REF!+#REF!+#REF!+#REF!+#REF!","v":{"$error":"#REF!"}},{"$f":"'9_Per Pupil Summary'!O36","v":12356.911213185826},{"$f":"#REF!+#REF!+#REF!+#REF!+#REF!+#REF!+#REF!","v":{"$error":"#REF!"}},null,{"$f":"#REF!+#REF!+#REF!+#REF!+#REF!+#REF!+#REF!","v":{"$error":"#REF!"}},{"$f":"#REF!+#REF!+#REF!+#REF!+#REF!+#REF!+#REF!","v":{"$error":"#REF!"}},{"$f":"'9_Per Pupil Summary'!I36","v":587.72964511551254},{"$f":"#REF!+#REF!+#REF!+#REF!+#REF!+#REF!+#REF!","v":{"$error":"#REF!"}},{"$f":"#REF!+#REF!+#REF!+#REF!+#REF!+#REF!+#REF!","v":{"$error":"#REF!"}},{"$f":"'9_Per Pupil Summary'!J36","v":160.28990321332159},{"$f":"#REF!+#REF!+#REF!+#REF!+#REF!+#REF!+#REF!","v":{"$error":"#REF!"}},{"$f":"#REF!+#REF!+#REF!+#REF!+#REF!+#REF!+#REF!","v":{"$error":"#REF!"}},{"$f":"'9_Per Pupil Summary'!K36","v":4007.2475803330399},{"$f":"#REF!+#REF!+#REF!+#REF!+#REF!+#REF!+#REF!","v":{"$error":"#REF!"}},{"$f":"#REF!+#REF!+#REF!+#REF!+#REF!+#REF!+#REF!","v":{"$error":"#REF!"}},{"$f":"'9_Per Pupil Summary'!L36","v":1602.899032133216},{"$f":"#REF!+#REF!+#REF!+#REF!+#REF!+#REF!+#REF!","v":{"$error":"#REF!"}},{"$f":"#REF!+#REF!+#REF!+#REF!+#REF!+#REF!+#REF!","v":{"$error":"#REF!"}},{"$f":"#REF!+#REF!+#REF!+#REF!+#REF!+#REF!+#REF!","v":{"$error":"#REF!"}},{"$f":"#REF!+#REF!+#REF!+#REF!+#REF!+#REF!+#REF!","v":{"$error":"#REF!"}},{"$f":"#REF!+#REF!+#REF!+#REF!+#REF!+#REF!+#REF!","v":{"$error":"#REF!"}},{"$f":"#REF!+#REF!+#REF!+#REF!+#REF!+#REF!+#REF!","v":{"$error":"#REF!"}},{"$f":"#REF!+#REF!+#REF!+#REF!+#REF!+#REF!+#REF!","v":{"$error":"#REF!"}},{"$f":"#REF!+#REF!+#REF!+#REF!+#REF!+#REF!+#REF!","v":{"$error":"#REF!"}},{"$f":"#REF!+#REF!+#REF!+#REF!+#REF!+#REF!+#REF!","v":{"$error":"#REF!"}},{"$f":"#REF!+#REF!+#REF!+#REF!+#REF!+#REF!+#REF!","v":{"$error":"#REF!"}},{"$f":"#REF!+#REF!+#REF!+#REF!+#REF!+#REF!+#REF!","v":{"$error":"#REF!"}},{"$f":"#REF!+#REF!+#REF!+#REF!+#REF!+#REF!+#REF!","v":{"$error":"#REF!"}},{"$f":"#REF!+#REF!+#REF!+#REF!+#REF!+#REF!+#REF!","v":{"$error":"#REF!"}},{"$f":"#REF!+#REF!+#REF!+#REF!+#REF!+#REF!+#REF!","v":{"$error":"#REF!"}}]
[32,"Livingston",{"$f":"#REF!+#REF!+#REF!+#REF!+#REF!+#REF!+#REF!","v":{"$error":"#REF!"}},{"$f":"'9_Per Pupil Summary'!O37","v":8536.8301202576313},{"$f":"#REF!+#REF!+#REF!+#REF!+#REF!+#REF!+#REF!","v":{"$error":"#REF!"}},null,{"$f":"#REF!+#REF!+#REF!+#REF!+#REF!+#REF!+#REF!","v":{"$error":"#REF!"}},{"$f":"#REF!+#REF!+#REF!+#REF!+#REF!+#REF!+#REF!","v":{"$error":"#REF!"}},{"$f":"'9_Per Pupil Summary'!I37","v":733.35179671690196},{"$f":"#REF!+#REF!+#REF!+#REF!+#REF!+#REF!+#REF!","v":{"$error":"#REF!"}},{"$f":"#REF!+#REF!+#REF!+#REF!+#REF!+#REF!+#REF!","v":{"$error":"#REF!"}},{"$f":"'9_Per Pupil Summary'!J37","v":200.00503546824595},{"$f":"#REF!+#REF!+#REF!+#REF!+#REF!+#REF!+#REF!","v":{"$error":"#REF!"}},{"$f":"#REF!+#REF!+#REF!+#REF!+#REF!+#REF!+#REF!","v":{"$error":"#REF!"}},{"$f":"'9_Per Pupil Summary'!K37","v":5000.1258867061497},{"$f":"#REF!+#REF!+#REF!+#REF!+#REF!+#REF!+#REF!","v":{"$error":"#REF!"}},{"$f":"#REF!+#REF!+#REF!+#REF!+#REF!+#REF!+#REF!","v":{"$error":"#REF!"}},{"$f":"'9_Per Pupil Summary'!L37","v":2000.0503546824596},{"$f":"#REF!+#REF!+#REF!+#REF!+#REF!+#REF!+#REF!","v":{"$error":"#REF!"}},{"$f":"#REF!+#REF!+#REF!+#REF!+#REF!+#REF!+#REF!","v":{"$error":"#REF!"}},{"$f":"#REF!+#REF!+#REF!+#REF!+#REF!+#REF!+#REF!","v":{"$error":"#REF!"}},{"$f":"#REF!+#REF!+#REF!+#REF!+#REF!+#REF!+#REF!","v":{"$error":"#REF!"}},{"$f":"#REF!+#REF!+#REF!+#REF!+#REF!+#REF!+#REF!","v":{"$error":"#REF!"}},{"$f":"#REF!+#REF!+#REF!+#REF!+#REF!+#REF!+#REF!","v":{"$error":"#REF!"}},{"$f":"#REF!+#REF!+#REF!+#REF!+#REF!+#REF!+#REF!","v":{"$error":"#REF!"}},{"$f":"#REF!+#REF!+#REF!+#REF!+#REF!+#REF!+#REF!","v":{"$error":"#REF!"}},{"$f":"#REF!+#REF!+#REF!+#REF!+#REF!+#REF!+#REF!","v":{"$error":"#REF!"}},{"$f":"#REF!+#REF!+#REF!+#REF!+#REF!+#REF!+#REF!","v":{"$error":"#REF!"}},{"$f":"#REF!+#REF!+#REF!+#REF!+#REF!+#REF!+#REF!","v":{"$error":"#REF!"}},{"$f":"#REF!+#REF!+#REF!+#REF!+#REF!+#REF!+#REF!","v":{"$error":"#REF!"}},{"$f":"#REF!+#REF!+#REF!+#REF!+#REF!+#REF!+#REF!","v":{"$error":"#REF!"}},{"$f":"#REF!+#REF!+#REF!+#REF!+#REF!+#REF!+#REF!","v":{"$error":"#REF!"}}]
[33,"Madison",{"$f":"#REF!+#REF!+#REF!+#REF!+#REF!+#REF!+#REF!","v":{"$error":"#REF!"}},{"$f":"'9_Per Pupil Summary'!O38","v":9336.3345940554791},{"$f":"#REF!+#REF!+#REF!+#REF!+#REF!+#REF!+#REF!","v":{"$error":"#REF!"}},null,{"$f":"#REF!+#REF!+#REF!+#REF!+#REF!+#REF!+#REF!","v":{"$error":"#REF!"}},{"$f":"#REF!+#REF!+#REF!+#REF!+#REF!+#REF!+#REF!","v":{"$error":"#REF!"}},{"$f":"'9_Per Pupil Summary'!I38","v":648.98287419466055},{"$f":"#REF!+#REF!+#REF!+#REF!+#REF!+#REF!+#REF!","v":{"$error":"#REF!"}},{"$f":"#REF!+#REF!+#REF!+#REF!+#REF!+#REF!+#REF!","v":{"$error":"#REF!"}},{"$f":"'9_Per Pupil Summary'!J38","v":176.9953293258165},{"$f":"#REF!+#REF!+#REF!+#REF!+#REF!+#REF!+#REF!","v":{"$error":"#REF!"}},{"$f":"#REF!+#REF!+#REF!+#REF!+#REF!+#REF!+#REF!","v":{"$error":"#REF!"}},{"$f":"'9_Per Pupil Summary'!K38","v":4424.8832331454132},{"$f":"#REF!+#REF!+#REF!+#REF!+#REF!+#REF!+#REF!","v":{"$error":"#REF!"}},{"$f":"#REF!+#REF!+#REF!+#REF!+#REF!+#REF!+#REF!","v":{"$error":"#REF!"}},{"$f":"'9_Per Pupil Summary'!L38","v":1769.9532932581649},{"$f":"#REF!+#REF!+#REF!+#REF!+#REF!+#REF!+#REF!","v":{"$error":"#REF!"}},{"$f":"#REF!+#REF!+#REF!+#REF!+#REF!+#REF!+#REF!","v":{"$error":"#REF!"}},{"$f":"#REF!+#REF!+#REF!+#REF!+#REF!+#REF!+#REF!","v":{"$error":"#REF!"}},{"$f":"#REF!+#REF!+#REF!+#REF!+#REF!+#REF!+#REF!","v":{"$error":"#REF!"}},{"$f":"#REF!+#REF!+#REF!+#REF!+#REF!+#REF!+#REF!","v":{"$error":"#REF!"}},{"$f":"#REF!+#REF!+#REF!+#REF!+#REF!+#REF!+#REF!","v":{"$error":"#REF!"}},{"$f":"#REF!+#REF!+#REF!+#REF!+#REF!+#REF!+#REF!","v":{"$error":"#REF!"}},{"$f":"#REF!+#REF!+#REF!+#REF!+#REF!+#REF!+#REF!","v":{"$error":"#REF!"}},{"$f":"#REF!+#REF!+#REF!+#REF!+#REF!+#REF!+#REF!","v":{"$error":"#REF!"}},{"$f":"#REF!+#REF!+#REF!+#REF!+#REF!+#REF!+#REF!","v":{"$error":"#REF!"}},{"$f":"#REF!+#REF!+#REF!+#REF!+#REF!+#REF!+#REF!","v":{"$error":"#REF!"}},{"$f":"#REF!+#REF!+#REF!+#REF!+#REF!+#REF!+#REF!","v":{"$error":"#REF!"}},{"$f":"#REF!+#REF!+#REF!+#REF!+#REF!+#REF!+#REF!","v":{"$error":"#REF!"}},{"$f":"#REF!+#REF!+#REF!+#REF!+#REF!+#REF!+#REF!","v":{"$error":"#REF!"}}]
[34,"Morehouse",{"$f":"#REF!+#REF!+#REF!+#REF!+#REF!+#REF!+#REF!","v":{"$error":"#REF!"}},{"$f":"'9_Per Pupil Summary'!O39","v":9655.5559122508748},{"$f":"#REF!+#REF!+#REF!+#REF!+#REF!+#REF!+#REF!","v":{"$error":"#REF!"}},null,{"$f":"#REF!+#REF!+#REF!+#REF!+#REF!+#REF!+#REF!","v":{"$error":"#REF!"}},{"$f":"#REF!+#REF!+#REF!+#REF!+#REF!+#REF!+#REF!","v":{"$error":"#REF!"}},{"$f":"'9_Per Pupil Summary'!I39","v":685.33149602494973},{"$f":"#REF!+#REF!+#REF!+#REF!+#REF!+#REF!+#REF!","v":{"$error":"#REF!"}},{"$f":"#REF!+#REF!+#REF!+#REF!+#REF!+#REF!+#REF!","v":{"$error":"#REF!"}},{"$f":"'9_Per Pupil Summary'!J39","v":186.90858982498628},{"$f":"#REF!+#REF!+#REF!+#REF!+#REF!+#REF!+#REF!","v":{"$error":"#REF!"}},{"$f":"#REF!+#REF!+#REF!+#REF!+#REF!+#REF!+#REF!","v":{"$error":"#REF!"}},{"$f":"'9_Per Pupil Summary'!K39","v":4672.7147456246576},{"$f":"#REF!+#REF!+#REF!+#REF!+#REF!+#REF!+#REF!","v":{"$error":"#REF!"}},{"$f":"#REF!+#REF!+#REF!+#REF!+#REF!+#REF!+#REF!","v":{"$error":"#REF!"}},{"$f":"'9_Per Pupil Summary'!L39","v":1869.085898249863},{"$f":"#REF!+#REF!+#REF!+#REF!+#REF!+#REF!+#REF!","v":{"$error":"#REF!"}},{"$f":"#REF!+#REF!+#REF!+#REF!+#REF!+#REF!+#REF!","v":{"$error":"#REF!"}},{"$f":"#REF!+#REF!+#REF!+#REF!+#REF!+#REF!+#REF!","v":{"$error":"#REF!"}},{"$f":"#REF!+#REF!+#REF!+#REF!+#REF!+#REF!+#REF!","v":{"$error":"#REF!"}},{"$f":"#REF!+#REF!+#REF!+#REF!+#REF!+#REF!+#REF!","v":{"$error":"#REF!"}},{"$f":"#REF!+#REF!+#REF!+#REF!+#REF!+#REF!+#REF!","v":{"$error":"#REF!"}},{"$f":"#REF!+#REF!+#REF!+#REF!+#REF!+#REF!+#REF!","v":{"$error":"#REF!"}},{"$f":"#REF!+#REF!+#REF!+#REF!+#REF!+#REF!+#REF!","v":{"$error":"#REF!"}},{"$f":"#REF!+#REF!+#REF!+#REF!+#REF!+#REF!+#REF!","v":{"$error":"#REF!"}},{"$f":"#REF!+#REF!+#REF!+#REF!+#REF!+#REF!+#REF!","v":{"$error":"#REF!"}},{"$f":"#REF!+#REF!+#REF!+#REF!+#REF!+#REF!+#REF!","v":{"$error":"#REF!"}},{"$f":"#REF!+#REF!+#REF!+#REF!+#REF!+#REF!+#REF!","v":{"$error":"#REF!"}},{"$f":"#REF!+#REF!+#REF!+#REF!+#REF!+#REF!+#REF!","v":{"$error":"#REF!"}},{"$f":"#REF!+#REF!+#REF!+#REF!+#REF!+#REF!+#REF!","v":{"$error":"#REF!"}}]
[35,"Natchitoches",{"$f":"#REF!+#REF!+#REF!+#REF!+#REF!+#REF!+#REF!","v":{"$error":"#REF!"}},{"$f":"'9_Per Pupil Summary'!O40","v":10834.7771236234},{"$f":"#REF!+#REF!+#REF!+#REF!+#REF!+#REF!+#REF!","v":{"$error":"#REF!"}},null,{"$f":"#REF!+#REF!+#REF!+#REF!+#REF!+#REF!+#REF!","v":{"$error":"#REF!"}},{"$f":"#REF!+#REF!+#REF!+#REF!+#REF!+#REF!+#REF!","v":{"$error":"#REF!"}},{"$f":"'9_Per Pupil Summary'!I40","v":568.12015244407428},{"$f":"#REF!+#REF!+#REF!+#REF!+#REF!+#REF!+#REF!","v":{"$error":"#REF!"}},{"$f":"#REF!+#REF!+#REF!+#REF!+#REF!+#REF!+#REF!","v":{"$error":"#REF!"}},{"$f":"'9_Per Pupil Summary'!J40","v":154.94185975747482},{"$f":"#REF!+#REF!+#REF!+#REF!+#REF!+#REF!+#REF!","v":{"$error":"#REF!"}},{"$f":"#REF!+#REF!+#REF!+#REF!+#REF!+#REF!+#REF!","v":{"$error":"#REF!"}},{"$f":"'9_Per Pupil Summary'!K40","v":3873.5464939368703},{"$f":"#REF!+#REF!+#REF!+#REF!+#REF!+#REF!+#REF!","v":{"$error":"#REF!"}},{"$f":"#REF!+#REF!+#REF!+#REF!+#REF!+#REF!+#REF!","v":{"$error":"#REF!"}},{"$f":"'9_Per Pupil Summary'!L40","v":1549.418597574748},{"$f":"#REF!+#REF!+#REF!+#REF!+#REF!+#REF!+#REF!","v":{"$error":"#REF!"}},{"$f":"#REF!+#REF!+#REF!+#REF!+#REF!+#REF!+#REF!","v":{"$error":"#REF!"}},{"$f":"#REF!+#REF!+#REF!+#REF!+#REF!+#REF!+#REF!","v":{"$error":"#REF!"}},{"$f":"#REF!+#REF!+#REF!+#REF!+#REF!+#REF!+#REF!","v":{"$error":"#REF!"}},{"$f":"#REF!+#REF!+#REF!+#REF!+#REF!+#REF!+#REF!","v":{"$error":"#REF!"}},{"$f":"#REF!+#REF!+#REF!+#REF!+#REF!+#REF!+#REF!","v":{"$error":"#REF!"}},{"$f":"#REF!+#REF!+#REF!+#REF!+#REF!+#REF!+#REF!","v":{"$error":"#REF!"}},{"$f":"#REF!+#REF!+#REF!+#REF!+#REF!+#REF!+#REF!","v":{"$error":"#REF!"}},{"$f":"#REF!+#REF!+#REF!+#REF!+#REF!+#REF!+#REF!","v":{"$error":"#REF!"}},{"$f":"#REF!+#REF!+#REF!+#REF!+#REF!+#REF!+#REF!","v":{"$error":"#REF!"}},{"$f":"#REF!+#REF!+#REF!+#REF!+#REF!+#REF!+#REF!","v":{"$error":"#REF!"}},{"$f":"#REF!+#REF!+#REF!+#REF!+#REF!+#REF!+#REF!","v":{"$error":"#REF!"}},{"$f":"#REF!+#REF!+#REF!+#REF!+#REF!+#REF!+#REF!","v":{"$error":"#REF!"}},{"$f":"#REF!+#REF!+#REF!+#REF!+#REF!+#REF!+#REF!","v":{"$error":"#REF!"}}]
[36,"Orleans (Total)*",{"$f":"#REF!+#REF!+#REF!+#REF!+#REF!+#REF!+#REF!","v":{"$error":"#REF!"}},{"$f":"'9_Per Pupil Summary'!O41","v":11033.630077031417},{"$f":"#REF!+#REF!+#REF!+#REF!+#REF!+#REF!+#REF!","v":{"$error":"#REF!"}},null,{"$f":"#REF!+#REF!+#REF!+#REF!+#REF!+#REF!+#REF!","v":{"$error":"#REF!"}},{"$f":"#REF!+#REF!+#REF!+#REF!+#REF!+#REF!+#REF!","v":{"$error":"#REF!"}},{"$f":"'9_Per Pupil Summary'!I41","v":464.68778957388326},{"$f":"#REF!+#REF!+#REF!+#REF!+#REF!+#REF!+#REF!","v":{"$error":"#REF!"}},{"$f":"#REF!+#REF!+#REF!+#REF!+#REF!+#REF!+#REF!","v":{"$error":"#REF!"}},{"$f":"'9_Per Pupil Summary'!J41","v":126.73303352014996},{"$f":"#REF!+#REF!+#REF!+#REF!+#REF!+#REF!+#REF!","v":{"$error":"#REF!"}},{"$f":"#REF!+#REF!+#REF!+#REF!+#REF!+#REF!+#REF!","v":{"$error":"#REF!"}},{"$f":"'9_Per Pupil Summary'!K41","v":3168.3258380037491},{"$f":"#REF!+#REF!+#REF!+#REF!+#REF!+#REF!+#REF!","v":{"$error":"#REF!"}},{"$f":"#REF!+#REF!+#REF!+#REF!+#REF!+#REF!+#REF!","v":{"$error":"#REF!"}},{"$f":"'9_Per Pupil Summary'!L41","v":1267.3303352014998},{"$f":"#REF!+#REF!+#REF!+#REF!+#REF!+#REF!+#REF!","v":{"$error":"#REF!"}},{"$f":"#REF!+#REF!+#REF!+#REF!+#REF!+#REF!+#REF!","v":{"$error":"#REF!"}},{"$f":"#REF!+#REF!+#REF!+#REF!+#REF!+#REF!+#REF!","v":{"$error":"#REF!"}},{"$f":"#REF!+#REF!+#REF!+#REF!+#REF!+#REF!+#REF!","v":{"$error":"#REF!"}},{"$f":"#REF!+#REF!+#REF!+#REF!+#REF!+#REF!+#REF!","v":{"$error":"#REF!"}},{"$f":"#REF!+#REF!+#REF!+#REF!+#REF!+#REF!+#REF!","v":{"$error":"#REF!"}},{"$f":"#REF!+#REF!+#REF!+#REF!+#REF!+#REF!+#REF!","v":{"$error":"#REF!"}},{"$f":"#REF!+#REF!+#REF!+#REF!+#REF!+#REF!+#REF!","v":{"$error":"#REF!"}},{"$f":"#REF!+#REF!+#REF!+#REF!+#REF!+#REF!+#REF!","v":{"$error":"#REF!"}},{"$f":"#REF!+#REF!+#REF!+#REF!+#REF!+#REF!+#REF!","v":{"$error":"#REF!"}},{"$f":"#REF!+#REF!+#REF!+#REF!+#REF!+#REF!+#REF!","v":{"$error":"#REF!"}},{"$f":"#REF!+#REF!+#REF!+#REF!+#REF!+#REF!+#REF!","v":{"$error":"#REF!"}},{"$f":"#REF!+#REF!+#REF!+#REF!+#REF!+#REF!+#REF!","v":{"$error":"#REF!"}},{"$f":"#REF!+#REF!+#REF!+#REF!+#REF!+#REF!+#REF!","v":{"$error":"#REF!"}}]
[37,"Ouachita",{"$f":"#REF!+#REF!+#REF!+#REF!+#REF!+#REF!+#REF!","v":{"$error":"#REF!"}},{"$f":"'9_Per Pupil Summary'!O42","v":10223.399261058163},{"$f":"#REF!+#REF!+#REF!+#REF!+#REF!+#REF!+#REF!","v":{"$error":"#REF!"}},null,{"$f":"#REF!+#REF!+#REF!+#REF!+#REF!+#REF!+#REF!","v":{"$error":"#REF!"}},{"$f":"#REF!+#REF!+#REF!+#REF!+#REF!+#REF!+#REF!","v":{"$error":"#REF!"}},{"$f":"'9_Per Pupil Summary'!I42","v":684.19701627120878},{"$f":"#REF!+#REF!+#REF!+#REF!+#REF!+#REF!+#REF!","v":{"$error":"#REF!"}},{"$f":"#REF!+#REF!+#REF!+#REF!+#REF!+#REF!+#REF!","v":{"$error":"#REF!"}},{"$f":"'9_Per Pupil Summary'!J42","v":186.59918625578419},{"$f":"#REF!+#REF!+#REF!+#REF!+#REF!+#REF!+#REF!","v":{"$error":"#REF!"}},{"$f":"#REF!+#REF!+#REF!+#REF!+#REF!+#REF!+#REF!","v":{"$error":"#REF!"}},{"$f":"'9_Per Pupil Summary'!K42","v":4664.9796563946056},{"$f":"#REF!+#REF!+#REF!+#REF!+#REF!+#REF!+#REF!","v":{"$error":"#REF!"}},{"$f":"#REF!+#REF!+#REF!+#REF!+#REF!+#REF!+#REF!","v":{"$error":"#REF!"}},{"$f":"'9_Per Pupil Summary'!L42","v":1865.9918625578425},{"$f":"#REF!+#REF!+#REF!+#REF!+#REF!+#REF!+#REF!","v":{"$error":"#REF!"}},{"$f":"#REF!+#REF!+#REF!+#REF!+#REF!+#REF!+#REF!","v":{"$error":"#REF!"}},{"$f":"#REF!+#REF!+#REF!+#REF!+#REF!+#REF!+#REF!","v":{"$error":"#REF!"}},{"$f":"#REF!+#REF!+#REF!+#REF!+#REF!+#REF!+#REF!","v":{"$error":"#REF!"}},{"$f":"#REF!+#REF!+#REF!+#REF!+#REF!+#REF!+#REF!","v":{"$error":"#REF!"}},{"$f":"#REF!+#REF!+#REF!+#REF!+#REF!+#REF!+#REF!","v":{"$error":"#REF!"}},{"$f":"#REF!+#REF!+#REF!+#REF!+#REF!+#REF!+#REF!","v":{"$error":"#REF!"}},{"$f":"#REF!+#REF!+#REF!+#REF!+#REF!+#REF!+#REF!","v":{"$error":"#REF!"}},{"$f":"#REF!+#REF!+#REF!+#REF!+#REF!+#REF!+#REF!","v":{"$error":"#REF!"}},{"$f":"#REF!+#REF!+#REF!+#REF!+#REF!+#REF!+#REF!","v":{"$error":"#REF!"}},{"$f":"#REF!+#REF!+#REF!+#REF!+#REF!+#REF!+#REF!","v":{"$error":"#REF!"}},{"$f":"#REF!+#REF!+#REF!+#REF!+#REF!+#REF!+#REF!","v":{"$error":"#REF!"}},{"$f":"#REF!+#REF!+#REF!+#REF!+#REF!+#REF!+#REF!","v":{"$error":"#REF!"}},{"$f":"#REF!+#REF!+#REF!+#REF!+#REF!+#REF!+#REF!","v":{"$error":"#REF!"}}]
[38,"Plaquemines",{"$f":"#REF!+#REF!+#REF!+#REF!+#REF!+#REF!+#REF!","v":{"$error":"#REF!"}},{"$f":"'9_Per Pupil Summary'!O43","v":29917.303958819524},{"$f":"#REF!+#REF!+#REF!+#REF!+#REF!+#REF!+#REF!","v":{"$error":"#REF!"}},null,{"$f":"#REF!+#REF!+#REF!+#REF!+#REF!+#REF!+#REF!","v":{"$error":"#REF!"}},{"$f":"#REF!+#REF!+#REF!+#REF!+#REF!+#REF!+#REF!","v":{"$error":"#REF!"}},{"$f":"'9_Per Pupil Summary'!I43","v":223.39000940183402},{"$f":"#REF!+#REF!+#REF!+#REF!+#REF!+#REF!+#REF!","v":{"$error":"#REF!"}},{"$f":"#REF!+#REF!+#REF!+#REF!+#REF!+#REF!+#REF!","v":{"$error":"#REF!"}},{"$f":"'9_Per Pupil Summary'!J43","v":60.924548018682003},{"$f":"#REF!+#REF!+#REF!+#REF!+#REF!+#REF!+#REF!","v":{"$error":"#REF!"}},{"$f":"#REF!+#REF!+#REF!+#REF!+#REF!+#REF!+#REF!","v":{"$error":"#REF!"}},{"$f":"'9_Per Pupil Summary'!K43","v":1523.1137004670502},{"$f":"#REF!+#REF!+#REF!+#REF!+#REF!+#REF!+#REF!","v":{"$error":"#REF!"}},{"$f":"#REF!+#REF!+#REF!+#REF!+#REF!+#REF!+#REF!","v":{"$error":"#REF!"}},{"$f":"'9_Per Pupil Summary'!L43","v":609.24548018682003},{"$f":"#REF!+#REF!+#REF!+#REF!+#REF!+#REF!+#REF!","v":{"$error":"#REF!"}},{"$f":"#REF!+#REF!+#REF!+#REF!+#REF!+#REF!+#REF!","v":{"$error":"#REF!"}},{"$f":"#REF!+#REF!+#REF!+#REF!+#REF!+#REF!+#REF!","v":{"$error":"#REF!"}},{"$f":"#REF!+#REF!+#REF!+#REF!+#REF!+#REF!+#REF!","v":{"$error":"#REF!"}},{"$f":"#REF!+#REF!+#REF!+#REF!+#REF!+#REF!+#REF!","v":{"$error":"#REF!"}},{"$f":"#REF!+#REF!+#REF!+#REF!+#REF!+#REF!+#REF!","v":{"$error":"#REF!"}},{"$f":"#REF!+#REF!+#REF!+#REF!+#REF!+#REF!+#REF!","v":{"$error":"#REF!"}},{"$f":"#REF!+#REF!+#REF!+#REF!+#REF!+#REF!+#REF!","v":{"$error":"#REF!"}},{"$f":"#REF!+#REF!+#REF!+#REF!+#REF!+#REF!+#REF!","v":{"$error":"#REF!"}},{"$f":"#REF!+#REF!+#REF!+#REF!+#REF!+#REF!+#REF!","v":{"$error":"#REF!"}},{"$f":"#REF!+#REF!+#REF!+#REF!+#REF!+#REF!+#REF!","v":{"$error":"#REF!"}},{"$f":"#REF!+#REF!+#REF!+#REF!+#REF!+#REF!+#REF!","v":{"$error":"#REF!"}},{"$f":"#REF!+#REF!+#REF!+#REF!+#REF!+#REF!+#REF!","v":{"$error":"#REF!"}},{"$f":"#REF!+#REF!+#REF!+#REF!+#REF!+#REF!+#REF!","v":{"$error":"#REF!"}}]
[39,"Pointe Coupee",{"$f":"#REF!+#REF!+#REF!+#REF!+#REF!+#REF!+#REF!","v":{"$error":"#REF!"}},{"$f":"'9_Per Pupil Summary'!O44","v":10378.237819951824},{"$f":"#REF!+#REF!+#REF!+#REF!+#REF!+#REF!+#REF!","v":{"$error":"#REF!"}},null,{"$f":"#REF!+#REF!+#REF!+#REF!+#REF!+#REF!+#REF!","v":{"$error":"#REF!"}},{"$f":"#REF!+#REF!+#REF!+#REF!+#REF!+#REF!+#REF!","v":{"$error":"#REF!"}},{"$f":"'9_Per Pupil Summary'!I44","v":401.17941942533452},{"$f":"#REF!+#REF!+#REF!+#REF!+#REF!+#REF!+#REF!","v":{"$error":"#REF!"}},{"$f":"#REF!+#REF!+#REF!+#REF!+#REF!+#REF!+#REF!","v":{"$error":"#REF!"}},{"$f":"'9_Per Pupil Summary'!J44","v":109.41256893418216},{"$f":"#REF!+#REF!+#REF!+#REF!+#REF!+#REF!+#REF!","v":{"$error":"#REF!"}},{"$f":"#REF!+#REF!+#REF!+#REF!+#REF!+#REF!+#REF!","v":{"$error":"#REF!"}},{"$f":"'9_Per Pupil Summary'!K44","v":2735.3142233545541},{"$f":"#REF!+#REF!+#REF!+#REF!+#REF!+#REF!+#REF!","v":{"$error":"#REF!"}},{"$f":"#REF!+#REF!+#REF!+#REF!+#REF!+#REF!+#REF!","v":{"$error":"#REF!"}},{"$f":"'9_Per Pupil Summary'!L44","v":1094.1256893418215},{"$f":"#REF!+#REF!+#REF!+#REF!+#REF!+#REF!+#REF!","v":{"$error":"#REF!"}},{"$f":"#REF!+#REF!+#REF!+#REF!+#REF!+#REF!+#REF!","v":{"$error":"#REF!"}},{"$f":"#REF!+#REF!+#REF!+#REF!+#REF!+#REF!+#REF!","v":{"$error":"#REF!"}},{"$f":"#REF!+#REF!+#REF!+#REF!+#REF!+#REF!+#REF!","v":{"$error":"#REF!"}},{"$f":"#REF!+#REF!+#REF!+#REF!+#REF!+#REF!+#REF!","v":{"$error":"#REF!"}},{"$f":"#REF!+#REF!+#REF!+#REF!+#REF!+#REF!+#REF!","v":{"$error":"#REF!"}},{"$f":"#REF!+#REF!+#REF!+#REF!+#REF!+#REF!+#REF!","v":{"$error":"#REF!"}},{"$f":"#REF!+#REF!+#REF!+#REF!+#REF!+#REF!+#REF!","v":{"$error":"#REF!"}},{"$f":"#REF!+#REF!+#REF!+#REF!+#REF!+#REF!+#REF!","v":{"$error":"#REF!"}},{"$f":"#REF!+#REF!+#REF!+#REF!+#REF!+#REF!+#REF!","v":{"$error":"#REF!"}},{"$f":"#REF!+#REF!+#REF!+#REF!+#REF!+#REF!+#REF!","v":{"$error":"#REF!"}},{"$f":"#REF!+#REF!+#REF!+#REF!+#REF!+#REF!+#REF!","v":{"$error":"#REF!"}},{"$f":"#REF!+#REF!+#REF!+#REF!+#REF!+#REF!+#REF!","v":{"$error":"#REF!"}},{"$f":"#REF!+#REF!+#REF!+#REF!+#REF!+#REF!+#REF!","v":{"$error":"#REF!"}}]
[40,"Rapides",{"$f":"#REF!+#REF!+#REF!+#REF!+#REF!+#REF!+#REF!","v":{"$error":"#REF!"}},{"$f":"'9_Per Pupil Summary'!O45","v":10117.228713428409},{"$f":"#REF!+#REF!+#REF!+#REF!+#REF!+#REF!+#REF!","v":{"$error":"#REF!"}},null,{"$f":"#REF!+#REF!+#REF!+#REF!+#REF!+#REF!+#REF!","v":{"$error":"#REF!"}},{"$f":"#REF!+#REF!+#REF!+#REF!+#REF!+#REF!+#REF!","v":{"$error":"#REF!"}},{"$f":"'9_Per Pupil Summary'!I45","v":648.95948892877198},{"$f":"#REF!+#REF!+#REF!+#REF!+#REF!+#REF!+#REF!","v":{"$error":"#REF!"}},{"$f":"#REF!+#REF!+#REF!+#REF!+#REF!+#REF!+#REF!","v":{"$error":"#REF!"}},{"$f":"'9_Per Pupil Summary'!J45","v":176.98895152602876},{"$f":"#REF!+#REF!+#REF!+#REF!+#REF!+#REF!+#REF!","v":{"$error":"#REF!"}},{"$f":"#REF!+#REF!+#REF!+#REF!+#REF!+#REF!+#REF!","v":{"$error":"#REF!"}},{"$f":"'9_Per Pupil Summary'!K45","v":4424.7237881507181},{"$f":"#REF!+#REF!+#REF!+#REF!+#REF!+#REF!+#REF!","v":{"$error":"#REF!"}},{"$f":"#REF!+#REF!+#REF!+#REF!+#REF!+#REF!+#REF!","v":{"$error":"#REF!"}},{"$f":"'9_Per Pupil Summary'!L45","v":1769.8895152602872},{"$f":"#REF!+#REF!+#REF!+#REF!+#REF!+#REF!+#REF!","v":{"$error":"#REF!"}},{"$f":"#REF!+#REF!+#REF!+#REF!+#REF!+#REF!+#REF!","v":{"$error":"#REF!"}},{"$f":"#REF!+#REF!+#REF!+#REF!+#REF!+#REF!+#REF!","v":{"$error":"#REF!"}},{"$f":"#REF!+#REF!+#REF!+#REF!+#REF!+#REF!+#REF!","v":{"$error":"#REF!"}},{"$f":"#REF!+#REF!+#REF!+#REF!+#REF!+#REF!+#REF!","v":{"$error":"#REF!"}},{"$f":"#REF!+#REF!+#REF!+#REF!+#REF!+#REF!+#REF!","v":{"$error":"#REF!"}},{"$f":"#REF!+#REF!+#REF!+#REF!+#REF!+#REF!+#REF!","v":{"$error":"#REF!"}},{"$f":"#REF!+#REF!+#REF!+#REF!+#REF!+#REF!+#REF!","v":{"$error":"#REF!"}},{"$f":"#REF!+#REF!+#REF!+#REF!+#REF!+#REF!+#REF!","v":{"$error":"#REF!"}},{"$f":"#REF!+#REF!+#REF!+#REF!+#REF!+#REF!+#REF!","v":{"$error":"#REF!"}},{"$f":"#REF!+#REF!+#REF!+#REF!+#REF!+#REF!+#REF!","v":{"$error":"#REF!"}},{"$f":"#REF!+#REF!+#REF!+#REF!+#REF!+#REF!+#REF!","v":{"$error":"#REF!"}},{"$f":"#REF!+#REF!+#REF!+#REF!+#REF!+#REF!+#REF!","v":{"$error":"#REF!"}},{"$f":"#REF!+#REF!+#REF!+#REF!+#REF!+#REF!+#REF!","v":{"$error":"#REF!"}}]
[41,"Red River",{"$f":"#REF!+#REF!+#REF!+#REF!+#REF!+#REF!+#REF!","v":{"$error":"#REF!"}},{"$f":"'9_Per Pupil Summary'!O46","v":20717.16285204596},{"$f":"#REF!+#REF!+#REF!+#REF!+#REF!+#REF!+#REF!","v":{"$error":"#REF!"}},null,{"$f":"#REF!+#REF!+#REF!+#REF!+#REF!+#REF!+#REF!","v":{"$error":"#REF!"}},{"$f":"#REF!+#REF!+#REF!+#REF!+#REF!+#REF!+#REF!","v":{"$error":"#REF!"}},{"$f":"'9_Per Pupil Summary'!I46","v":220.82501570572424},{"$f":"#REF!+#REF!+#REF!+#REF!+#REF!+#REF!+#REF!","v":{"$error":"#REF!"}},{"$f":"#REF!+#REF!+#REF!+#REF!+#REF!+#REF!+#REF!","v":{"$error":"#REF!"}},{"$f":"'9_Per Pupil Summary'!J46","v":60.225004283379327},{"$f":"#REF!+#REF!+#REF!+#REF!+#REF!+#REF!+#REF!","v":{"$error":"#REF!"}},{"$f":"#REF!+#REF!+#REF!+#REF!+#REF!+#REF!+#REF!","v":{"$error":"#REF!"}},{"$f":"'9_Per Pupil Summary'!K46","v":1505.6251070844833},{"$f":"#REF!+#REF!+#REF!+#REF!+#REF!+#REF!+#REF!","v":{"$error":"#REF!"}},{"$f":"#REF!+#REF!+#REF!+#REF!+#REF!+#REF!+#REF!","v":{"$error":"#REF!"}},{"$f":"'9_Per Pupil Summary'!L46","v":602.25004283379337},{"$f":"#REF!+#REF!+#REF!+#REF!+#REF!+#REF!+#REF!","v":{"$error":"#REF!"}},{"$f":"#REF!+#REF!+#REF!+#REF!+#REF!+#REF!+#REF!","v":{"$error":"#REF!"}},{"$f":"#REF!+#REF!+#REF!+#REF!+#REF!+#REF!+#REF!","v":{"$error":"#REF!"}},{"$f":"#REF!+#REF!+#REF!+#REF!+#REF!+#REF!+#REF!","v":{"$error":"#REF!"}},{"$f":"#REF!+#REF!+#REF!+#REF!+#REF!+#REF!+#REF!","v":{"$error":"#REF!"}},{"$f":"#REF!+#REF!+#REF!+#REF!+#REF!+#REF!+#REF!","v":{"$error":"#REF!"}},{"$f":"#REF!+#REF!+#REF!+#REF!+#REF!+#REF!+#REF!","v":{"$error":"#REF!"}},{"$f":"#REF!+#REF!+#REF!+#REF!+#REF!+#REF!+#REF!","v":{"$error":"#REF!"}},{"$f":"#REF!+#REF!+#REF!+#REF!+#REF!+#REF!+#REF!","v":{"$error":"#REF!"}},{"$f":"#REF!+#REF!+#REF!+#REF!+#REF!+#REF!+#REF!","v":{"$error":"#REF!"}},{"$f":"#REF!+#REF!+#REF!+#REF!+#REF!+#REF!+#REF!","v":{"$error":"#REF!"}},{"$f":"#REF!+#REF!+#REF!+#REF!+#REF!+#REF!+#REF!","v":{"$error":"#REF!"}},{"$f":"#REF!+#REF!+#REF!+#REF!+#REF!+#REF!+#REF!","v":{"$error":"#REF!"}},{"$f":"#REF!+#REF!+#REF!+#REF!+#REF!+#REF!+#REF!","v":{"$error":"#REF!"}}]
[42,"Richland",{"$f":"#REF!+#REF!+#REF!+#REF!+#REF!+#REF!+#REF!","v":{"$error":"#REF!"}},{"$f":"'9_Per Pupil Summary'!O47","v":10213.811994695257},{"$f":"#REF!+#REF!+#REF!+#REF!+#REF!+#REF!+#REF!","v":{"$error":"#REF!"}},null,{"$f":"#REF!+#REF!+#REF!+#REF!+#REF!+#REF!+#REF!","v":{"$error":"#REF!"}},{"$f":"#REF!+#REF!+#REF!+#REF!+#REF!+#REF!+#REF!","v":{"$error":"#REF!"}},{"$f":"'9_Per Pupil Summary'!I47","v":618.06779959386654},{"$f":"#REF!+#REF!+#REF!+#REF!+#REF!+#REF!+#REF!","v":{"$error":"#REF!"}},{"$f":"#REF!+#REF!+#REF!+#REF!+#REF!+#REF!+#REF!","v":{"$error":"#REF!"}},{"$f":"'9_Per Pupil Summary'!J47","v":168.5639453437818},{"$f":"#REF!+#REF!+#REF!+#REF!+#REF!+#REF!+#REF!","v":{"$error":"#REF!"}},{"$f":"#REF!+#REF!+#REF!+#REF!+#REF!+#REF!+#REF!","v":{"$error":"#REF!"}},{"$f":"'9_Per Pupil Summary'!K47","v":4214.0986335945445},{"$f":"#REF!+#REF!+#REF!+#REF!+#REF!+#REF!+#REF!","v":{"$error":"#REF!"}},{"$f":"#REF!+#REF!+#REF!+#REF!+#REF!+#REF!+#REF!","v":{"$error":"#REF!"}},{"$f":"'9_Per Pupil Summary'!L47","v":1685.6394534378178},{"$f":"#REF!+#REF!+#REF!+#REF!+#REF!+#REF!+#REF!","v":{"$error":"#REF!"}},{"$f":"#REF!+#REF!+#REF!+#REF!+#REF!+#REF!+#REF!","v":{"$error":"#REF!"}},{"$f":"#REF!+#REF!+#REF!+#REF!+#REF!+#REF!+#REF!","v":{"$error":"#REF!"}},{"$f":"#REF!+#REF!+#REF!+#REF!+#REF!+#REF!+#REF!","v":{"$error":"#REF!"}},{"$f":"#REF!+#REF!+#REF!+#REF!+#REF!+#REF!+#REF!","v":{"$error":"#REF!"}},{"$f":"#REF!+#REF!+#REF!+#REF!+#REF!+#REF!+#REF!","v":{"$error":"#REF!"}},{"$f":"#REF!+#REF!+#REF!+#REF!+#REF!+#REF!+#REF!","v":{"$error":"#REF!"}},{"$f":"#REF!+#REF!+#REF!+#REF!+#REF!+#REF!+#REF!","v":{"$error":"#REF!"}},{"$f":"#REF!+#REF!+#REF!+#REF!+#REF!+#REF!+#REF!","v":{"$error":"#REF!"}},{"$f":"#REF!+#REF!+#REF!+#REF!+#REF!+#REF!+#REF!","v":{"$error":"#REF!"}},{"$f":"#REF!+#REF!+#REF!+#REF!+#REF!+#REF!+#REF!","v":{"$error":"#REF!"}},{"$f":"#REF!+#REF!+#REF!+#REF!+#REF!+#REF!+#REF!","v":{"$error":"#REF!"}},{"$f":"#REF!+#REF!+#REF!+#REF!+#REF!+#REF!+#REF!","v":{"$error":"#REF!"}},{"$f":"#REF!+#REF!+#REF!+#REF!+#REF!+#REF!+#REF!","v":{"$error":"#REF!"}}]
[43,"Sabine",{"$f":"#REF!+#REF!+#REF!+#REF!+#REF!+#REF!+#REF!","v":{"$error":"#REF!"}},{"$f":"'9_Per Pupil Summary'!O48","v":10300.318951002379},{"$f":"#REF!+#REF!+#REF!+#REF!+#REF!+#REF!+#REF!","v":{"$error":"#REF!"}},null,{"$f":"#REF!+#REF!+#REF!+#REF!+#REF!+#REF!+#REF!","v":{"$error":"#REF!"}},{"$f":"#REF!+#REF!+#REF!+#REF!+#REF!+#REF!+#REF!","v":{"$error":"#REF!"}},{"$f":"'9_Per Pupil Summary'!I48","v":596.83936385139577},{"$f":"#REF!+#REF!+#REF!+#REF!+#REF!+#REF!+#REF!","v":{"$error":"#REF!"}},{"$f":"#REF!+#REF!+#REF!+#REF!+#REF!+#REF!+#REF!","v":{"$error":"#REF!"}},{"$f":"'9_Per Pupil Summary'!J48","v":162.77437195947158},{"$f":"#REF!+#REF!+#REF!+#REF!+#REF!+#REF!+#REF!","v":{"$error":"#REF!"}},{"$f":"#REF!+#REF!+#REF!+#REF!+#REF!+#REF!+#REF!","v":{"$error":"#REF!"}},{"$f":"'9_Per Pupil Summary'!K48","v":4069.3592989867902},{"$f":"#REF!+#REF!+#REF!+#REF!+#REF!+#REF!+#REF!","v":{"$error":"#REF!"}},{"$f":"#REF!+#REF!+#REF!+#REF!+#REF!+#REF!+#REF!","v":{"$error":"#REF!"}},{"$f":"'9_Per Pupil Summary'!L48","v":1627.7437195947159},{"$f":"#REF!+#REF!+#REF!+#REF!+#REF!+#REF!+#REF!","v":{"$error":"#REF!"}},{"$f":"#REF!+#REF!+#REF!+#REF!+#REF!+#REF!+#REF!","v":{"$error":"#REF!"}},{"$f":"#REF!+#REF!+#REF!+#REF!+#REF!+#REF!+#REF!","v":{"$error":"#REF!"}},{"$f":"#REF!+#REF!+#REF!+#REF!+#REF!+#REF!+#REF!","v":{"$error":"#REF!"}},{"$f":"#REF!+#REF!+#REF!+#REF!+#REF!+#REF!+#REF!","v":{"$error":"#REF!"}},{"$f":"#REF!+#REF!+#REF!+#REF!+#REF!+#REF!+#REF!","v":{"$error":"#REF!"}},{"$f":"#REF!+#REF!+#REF!+#REF!+#REF!+#REF!+#REF!","v":{"$error":"#REF!"}},{"$f":"#REF!+#REF!+#REF!+#REF!+#REF!+#REF!+#REF!","v":{"$error":"#REF!"}},{"$f":"#REF!+#REF!+#REF!+#REF!+#REF!+#REF!+#REF!","v":{"$error":"#REF!"}},{"$f":"#REF!+#REF!+#REF!+#REF!+#REF!+#REF!+#REF!","v":{"$error":"#REF!"}},{"$f":"#REF!+#REF!+#REF!+#REF!+#REF!+#REF!+#REF!","v":{"$error":"#REF!"}},{"$f":"#REF!+#REF!+#REF!+#REF!+#REF!+#REF!+#REF!","v":{"$error":"#REF!"}},{"$f":"#REF!+#REF!+#REF!+#REF!+#REF!+#REF!+#REF!","v":{"$error":"#REF!"}},{"$f":"#REF!+#REF!+#REF!+#REF!+#REF!+#REF!+#REF!","v":{"$error":"#REF!"}}]
[44,"St. Bernard",{"$f":"#REF!+#REF!+#REF!+#REF!+#REF!+#REF!+#REF!","v":{"$error":"#REF!"}},{"$f":"'9_Per Pupil Summary'!O49","v":9438.2883606331907},{"$f":"#REF!+#REF!+#REF!+#REF!+#REF!+#REF!+#REF!","v":{"$error":"#REF!"}},null,{"$f":"#REF!+#REF!+#REF!+#REF!+#REF!+#REF!+#REF!","v":{"$error":"#REF!"}},{"$f":"#REF!+#REF!+#REF!+#REF!+#REF!+#REF!+#REF!","v":{"$error":"#REF!"}},{"$f":"'9_Per Pupil Summary'!I49","v":632.4726109369351},{"$f":"#REF!+#REF!+#REF!+#REF!+#REF!+#REF!+#REF!","v":{"$error":"#REF!"}},{"$f":"#REF!+#REF!+#REF!+#REF!+#REF!+#REF!+#REF!","v":{"$error":"#REF!"}},{"$f":"'9_Per Pupil Summary'!J49","v":172.49253025552775},{"$f":"#REF!+#REF!+#REF!+#REF!+#REF!+#REF!+#REF!","v":{"$error":"#REF!"}},{"$f":"#REF!+#REF!+#REF!+#REF!+#REF!+#REF!+#REF!","v":{"$error":"#REF!"}},{"$f":"'9_Per Pupil Summary'!K49","v":4312.3132563881936},{"$f":"#REF!+#REF!+#REF!+#REF!+#REF!+#REF!+#REF!","v":{"$error":"#REF!"}},{"$f":"#REF!+#REF!+#REF!+#REF!+#REF!+#REF!+#REF!","v":{"$error":"#REF!"}},{"$f":"'9_Per Pupil Summary'!L49","v":1724.9253025552773},{"$f":"#REF!+#REF!+#REF!+#REF!+#REF!+#REF!+#REF!","v":{"$error":"#REF!"}},{"$f":"#REF!+#REF!+#REF!+#REF!+#REF!+#REF!+#REF!","v":{"$error":"#REF!"}},{"$f":"#REF!+#REF!+#REF!+#REF!+#REF!+#REF!+#REF!","v":{"$error":"#REF!"}},{"$f":"#REF!+#REF!+#REF!+#REF!+#REF!+#REF!+#REF!","v":{"$error":"#REF!"}},{"$f":"#REF!+#REF!+#REF!+#REF!+#REF!+#REF!+#REF!","v":{"$error":"#REF!"}},{"$f":"#REF!+#REF!+#REF!+#REF!+#REF!+#REF!+#REF!","v":{"$error":"#REF!"}},{"$f":"#REF!+#REF!+#REF!+#REF!+#REF!+#REF!+#REF!","v":{"$error":"#REF!"}},{"$f":"#REF!+#REF!+#REF!+#REF!+#REF!+#REF!+#REF!","v":{"$error":"#REF!"}},{"$f":"#REF!+#REF!+#REF!+#REF!+#REF!+#REF!+#REF!","v":{"$error":"#REF!"}},{"$f":"#REF!+#REF!+#REF!+#REF!+#REF!+#REF!+#REF!","v":{"$error":"#REF!"}},{"$f":"#REF!+#REF!+#REF!+#REF!+#REF!+#REF!+#REF!","v":{"$error":"#REF!"}},{"$f":"#REF!+#REF!+#REF!+#REF!+#REF!+#REF!+#REF!","v":{"$error":"#REF!"}},{"$f":"#REF!+#REF!+#REF!+#REF!+#REF!+#REF!+#REF!","v":{"$error":"#REF!"}},{"$f":"#REF!+#REF!+#REF!+#REF!+#REF!+#REF!+#REF!","v":{"$error":"#REF!"}}]
[45,"St. Charles",{"$f":"#REF!+#REF!+#REF!+#REF!+#REF!+#REF!+#REF!","v":{"$error":"#REF!"}},{"$f":"'9_Per Pupil Summary'!O50","v":24091.95522018916},{"$f":"#REF!+#REF!+#REF!+#REF!+#REF!+#REF!+#REF!","v":{"$error":"#REF!"}},null,{"$f":"#REF!+#REF!+#REF!+#REF!+#REF!+#REF!+#REF!","v":{"$error":"#REF!"}},{"$f":"#REF!+#REF!+#REF!+#REF!+#REF!+#REF!+#REF!","v":{"$error":"#REF!"}},{"$f":"'9_Per Pupil Summary'!I50","v":286.16805288231251},{"$f":"#REF!+#REF!+#REF!+#REF!+#REF!+#REF!+#REF!","v":{"$error":"#REF!"}},{"$f":"#REF!+#REF!+#REF!+#REF!+#REF!+#REF!+#REF!","v":{"$error":"#REF!"}},{"$f":"'9_Per Pupil Summary'!J50","v":78.045832604267048},{"$f":"#REF!+#REF!+#REF!+#REF!+#REF!+#REF!+#REF!","v":{"$error":"#REF!"}},{"$f":"#REF!+#REF!+#REF!+#REF!+#REF!+#REF!+#REF!","v":{"$error":"#REF!"}},{"$f":"'9_Per Pupil Summary'!K50","v":1951.1458151066759},{"$f":"#REF!+#REF!+#REF!+#REF!+#REF!+#REF!+#REF!","v":{"$error":"#REF!"}},{"$f":"#REF!+#REF!+#REF!+#REF!+#REF!+#REF!+#REF!","v":{"$error":"#REF!"}},{"$f":"'9_Per Pupil Summary'!L50","v":780.45832604267048},{"$f":"#REF!+#REF!+#REF!+#REF!+#REF!+#REF!+#REF!","v":{"$error":"#REF!"}},{"$f":"#REF!+#REF!+#REF!+#REF!+#REF!+#REF!+#REF!","v":{"$error":"#REF!"}},{"$f":"#REF!+#REF!+#REF!+#REF!+#REF!+#REF!+#REF!","v":{"$error":"#REF!"}},{"$f":"#REF!+#REF!+#REF!+#REF!+#REF!+#REF!+#REF!","v":{"$error":"#REF!"}},{"$f":"#REF!+#REF!+#REF!+#REF!+#REF!+#REF!+#REF!","v":{"$error":"#REF!"}},{"$f":"#REF!+#REF!+#REF!+#REF!+#REF!+#REF!+#REF!","v":{"$error":"#REF!"}},{"$f":"#REF!+#REF!+#REF!+#REF!+#REF!+#REF!+#REF!","v":{"$error":"#REF!"}},{"$f":"#REF!+#REF!+#REF!+#REF!+#REF!+#REF!+#REF!","v":{"$error":"#REF!"}},{"$f":"#REF!+#REF!+#REF!+#REF!+#REF!+#REF!+#REF!","v":{"$error":"#REF!"}},{"$f":"#REF!+#REF!+#REF!+#REF!+#REF!+#REF!+#REF!","v":{"$error":"#REF!"}},{"$f":"#REF!+#REF!+#REF!+#REF!+#REF!+#REF!+#REF!","v":{"$error":"#REF!"}},{"$f":"#REF!+#REF!+#REF!+#REF!+#REF!+#REF!+#REF!","v":{"$error":"#REF!"}},{"$f":"#REF!+#REF!+#REF!+#REF!+#REF!+#REF!+#REF!","v":{"$error":"#REF!"}},{"$f":"#REF!+#REF!+#REF!+#REF!+#REF!+#REF!+#REF!","v":{"$error":"#REF!"}}]
[46,"St. Helena",{"$f":"#REF!+#REF!+#REF!+#REF!+#REF!+#REF!+#REF!","v":{"$error":"#REF!"}},{"$f":"'9_Per Pupil Summary'!O51","v":9526.7558465582078},{"$f":"#REF!+#REF!+#REF!+#REF!+#REF!+#REF!+#REF!","v":{"$error":"#REF!"}},null,{"$f":"#REF!+#REF!+#REF!+#REF!+#REF!+#REF!+#REF!","v":{"$error":"#REF!"}},{"$f":"#REF!+#REF!+#REF!+#REF!+#REF!+#REF!+#REF!","v":{"$error":"#REF!"}},{"$f":"'9_Per Pupil Summary'!I51","v":722.99547228931715},{"$f":"#REF!+#REF!+#REF!+#REF!+#REF!+#REF!+#REF!","v":{"$error":"#REF!"}},{"$f":"#REF!+#REF!+#REF!+#REF!+#REF!+#REF!+#REF!","v":{"$error":"#REF!"}},{"$f":"'9_Per Pupil Summary'!J51","v":197.18058335163198},{"$f":"#REF!+#REF!+#REF!+#REF!+#REF!+#REF!+#REF!","v":{"$error":"#REF!"}},{"$f":"#REF!+#REF!+#REF!+#REF!+#REF!+#REF!+#REF!","v":{"$error":"#REF!"}},{"$f":"'9_Per Pupil Summary'!K51","v":4929.5145837907994},{"$f":"#REF!+#REF!+#REF!+#REF!+#REF!+#REF!+#REF!","v":{"$error":"#REF!"}},{"$f":"#REF!+#REF!+#REF!+#REF!+#REF!+#REF!+#REF!","v":{"$error":"#REF!"}},{"$f":"'9_Per Pupil Summary'!L51","v":1971.80583351632},{"$f":"#REF!+#REF!+#REF!+#REF!+#REF!+#REF!+#REF!","v":{"$error":"#REF!"}},{"$f":"#REF!+#REF!+#REF!+#REF!+#REF!+#REF!+#REF!","v":{"$error":"#REF!"}},{"$f":"#REF!+#REF!+#REF!+#REF!+#REF!+#REF!+#REF!","v":{"$error":"#REF!"}},{"$f":"#REF!+#REF!+#REF!+#REF!+#REF!+#REF!+#REF!","v":{"$error":"#REF!"}},{"$f":"#REF!+#REF!+#REF!+#REF!+#REF!+#REF!+#REF!","v":{"$error":"#REF!"}},{"$f":"#REF!+#REF!+#REF!+#REF!+#REF!+#REF!+#REF!","v":{"$error":"#REF!"}},{"$f":"#REF!+#REF!+#REF!+#REF!+#REF!+#REF!+#REF!","v":{"$error":"#REF!"}},{"$f":"#REF!+#REF!+#REF!+#REF!+#REF!+#REF!+#REF!","v":{"$error":"#REF!"}},{"$f":"#REF!+#REF!+#REF!+#REF!+#REF!+#REF!+#REF!","v":{"$error":"#REF!"}},{"$f":"#REF!+#REF!+#REF!+#REF!+#REF!+#REF!+#REF!","v":{"$error":"#REF!"}},{"$f":"#REF!+#REF!+#REF!+#REF!+#REF!+#REF!+#REF!","v":{"$error":"#REF!"}},{"$f":"#REF!+#REF!+#REF!+#REF!+#REF!+#REF!+#REF!","v":{"$error":"#REF!"}},{"$f":"#REF!+#REF!+#REF!+#REF!+#REF!+#REF!+#REF!","v":{"$error":"#REF!"}},{"$f":"#REF!+#REF!+#REF!+#REF!+#REF!+#REF!+#REF!","v":{"$error":"#REF!"}}]
[47,"St. James",{"$f":"#REF!+#REF!+#REF!+#REF!+#REF!+#REF!+#REF!","v":{"$error":"#REF!"}},{"$f":"'9_Per Pupil Summary'!O52","v":18600.314728404337},{"$f":"#REF!+#REF!+#REF!+#REF!+#REF!+#REF!+#REF!","v":{"$error":"#REF!"}},null,{"$f":"#REF!+#REF!+#REF!+#REF!+#REF!+#REF!+#REF!","v":{"$error":"#REF!"}},{"$f":"#REF!+#REF!+#REF!+#REF!+#REF!+#REF!+#REF!","v":{"$error":"#REF!"}},{"$f":"'9_Per Pupil Summary'!I52","v":350.39419702128839},{"$f":"#REF!+#REF!+#REF!+#REF!+#REF!+#REF!+#REF!","v":{"$error":"#REF!"}},{"$f":"#REF!+#REF!+#REF!+#REF!+#REF!+#REF!+#REF!","v":{"$error":"#REF!"}},{"$f":"'9_Per Pupil Summary'!J52","v":95.562053733078642},{"$f":"#REF!+#REF!+#REF!+#REF!+#REF!+#REF!+#REF!","v":{"$error":"#REF!"}},{"$f":"#REF!+#REF!+#REF!+#REF!+#REF!+#REF!+#REF!","v":{"$error":"#REF!"}},{"$f":"'9_Per Pupil Summary'!K52","v":2389.0513433269662},{"$f":"#REF!+#REF!+#REF!+#REF!+#REF!+#REF!+#REF!","v":{"$error":"#REF!"}},{"$f":"#REF!+#REF!+#REF!+#REF!+#REF!+#REF!+#REF!","v":{"$error":"#REF!"}},{"$f":"'9_Per Pupil Summary'!L52","v":955.62053733078653},{"$f":"#REF!+#REF!+#REF!+#REF!+#REF!+#REF!+#REF!","v":{"$error":"#REF!"}},{"$f":"#REF!+#REF!+#REF!+#REF!+#REF!+#REF!+#REF!","v":{"$error":"#REF!"}},{"$f":"#REF!+#REF!+#REF!+#REF!+#REF!+#REF!+#REF!","v":{"$error":"#REF!"}},{"$f":"#REF!+#REF!+#REF!+#REF!+#REF!+#REF!+#REF!","v":{"$error":"#REF!"}},{"$f":"#REF!+#REF!+#REF!+#REF!+#REF!+#REF!+#REF!","v":{"$error":"#REF!"}},{"$f":"#REF!+#REF!+#REF!+#REF!+#REF!+#REF!+#REF!","v":{"$error":"#REF!"}},{"$f":"#REF!+#REF!+#REF!+#REF!+#REF!+#REF!+#REF!","v":{"$error":"#REF!"}},{"$f":"#REF!+#REF!+#REF!+#REF!+#REF!+#REF!+#REF!","v":{"$error":"#REF!"}},{"$f":"#REF!+#REF!+#REF!+#REF!+#REF!+#REF!+#REF!","v":{"$error":"#REF!"}},{"$f":"#REF!+#REF!+#REF!+#REF!+#REF!+#REF!+#REF!","v":{"$error":"#REF!"}},{"$f":"#REF!+#REF!+#REF!+#REF!+#REF!+#REF!+#REF!","v":{"$error":"#REF!"}},{"$f":"#REF!+#REF!+#REF!+#REF!+#REF!+#REF!+#REF!","v":{"$error":"#REF!"}},{"$f":"#REF!+#REF!+#REF!+#REF!+#REF!+#REF!+#REF!","v":{"$error":"#REF!"}},{"$f":"#REF!+#REF!+#REF!+#REF!+#REF!+#REF!+#REF!","v":{"$error":"#REF!"}}]
[48,"St. John the Baptist",{"$f":"#REF!+#REF!+#REF!+#REF!+#REF!+#REF!+#REF!","v":{"$error":"#REF!"}},{"$f":"'9_Per Pupil Summary'!O53","v":13486.39178817697},{"$f":"#REF!+#REF!+#REF!+#REF!+#REF!+#REF!+#REF!","v":{"$error":"#REF!"}},null,{"$f":"#REF!+#REF!+#REF!+#REF!+#REF!+#REF!+#REF!","v":{"$error":"#REF!"}},{"$f":"#REF!+#REF!+#REF!+#REF!+#REF!+#REF!+#REF!","v":{"$error":"#REF!"}},{"$f":"'9_Per Pupil Summary'!I53","v":439.11536690303603},{"$f":"#REF!+#REF!+#REF!+#REF!+#REF!+#REF!+#REF!","v":{"$error":"#REF!"}},{"$f":"#REF!+#REF!+#REF!+#REF!+#REF!+#REF!+#REF!","v":{"$error":"#REF!"}},{"$f":"'9_Per Pupil Summary'!J53","v":119.75873642810075},{"$f":"#REF!+#REF!+#REF!+#REF!+#REF!+#REF!+#REF!","v":{"$error":"#REF!"}},{"$f":"#REF!+#REF!+#REF!+#REF!+#REF!+#REF!+#REF!","v":{"$error":"#REF!"}},{"$f":"'9_Per Pupil Summary'!K53","v":2993.9684107025187},{"$f":"#REF!+#REF!+#REF!+#REF!+#REF!+#REF!+#REF!","v":{"$error":"#REF!"}},{"$f":"#REF!+#REF!+#REF!+#REF!+#REF!+#REF!+#REF!","v":{"$error":"#REF!"}},{"$f":"'9_Per Pupil Summary'!L53","v":1197.5873642810075},{"$f":"#REF!+#REF!+#REF!+#REF!+#REF!+#REF!+#REF!","v":{"$error":"#REF!"}},{"$f":"#REF!+#REF!+#REF!+#REF!+#REF!+#REF!+#REF!","v":{"$error":"#REF!"}},{"$f":"#REF!+#REF!+#REF!+#REF!+#REF!+#REF!+#REF!","v":{"$error":"#REF!"}},{"$f":"#REF!+#REF!+#REF!+#REF!+#REF!+#REF!+#REF!","v":{"$error":"#REF!"}},{"$f":"#REF!+#REF!+#REF!+#REF!+#REF!+#REF!+#REF!","v":{"$error":"#REF!"}},{"$f":"#REF!+#REF!+#REF!+#REF!+#REF!+#REF!+#REF!","v":{"$error":"#REF!"}},{"$f":"#REF!+#REF!+#REF!+#REF!+#REF!+#REF!+#REF!","v":{"$error":"#REF!"}},{"$f":"#REF!+#REF!+#REF!+#REF!+#REF!+#REF!+#REF!","v":{"$error":"#REF!"}},{"$f":"#REF!+#REF!+#REF!+#REF!+#REF!+#REF!+#REF!","v":{"$error":"#REF!"}},{"$f":"#REF!+#REF!+#REF!+#REF!+#REF!+#REF!+#REF!","v":{"$error":"#REF!"}},{"$f":"#REF!+#REF!+#REF!+#REF!+#REF!+#REF!+#REF!","v":{"$error":"#REF!"}},{"$f":"#REF!+#REF!+#REF!+#REF!+#REF!+#REF!+#REF!","v":{"$error":"#REF!"}},{"$f":"#REF!+#REF!+#REF!+#REF!+#REF!+#REF!+#REF!","v":{"$error":"#REF!"}},{"$f":"#REF!+#REF!+#REF!+#REF!+#REF!+#REF!+#REF!","v":{"$error":"#REF!"}}]
[49,"St. Landry",{"$f":"#REF!+#REF!+#REF!+#REF!+#REF!+#REF!+#REF!","v":{"$error":"#REF!"}},{"$f":"'9_Per Pupil Summary'!O54","v":8086.1672816757409},{"$f":"#REF!+#REF!+#REF!+#REF!+#REF!+#REF!+#REF!","v":{"$error":"#REF!"}},null,{"$f":"#REF!+#REF!+#REF!+#REF!+#REF!+#REF!+#REF!","v":{"$error":"#REF!"}},{"$f":"#REF!+#REF!+#REF!+#REF!+#REF!+#REF!+#REF!","v":{"$error":"#REF!"}},{"$f":"'9_Per Pupil Summary'!I54","v":656.42597896791415},{"$f":"#REF!+#REF!+#REF!+#REF!+#REF!+#REF!+#REF!","v":{"$error":"#REF!"}},{"$f":"#REF!+#REF!+#REF!+#REF!+#REF!+#REF!+#REF!","v":{"$error":"#REF!"}},{"$f":"'9_Per Pupil Summary'!J54","v":179.02526699124931},{"$f":"#REF!+#REF!+#REF!+#REF!+#REF!+#REF!+#REF!","v":{"$error":"#REF!"}},{"$f":"#REF!+#REF!+#REF!+#REF!+#REF!+#REF!+#REF!","v":{"$error":"#REF!"}},{"$f":"'9_Per Pupil Summary'!K54","v":4475.6316747812325},{"$f":"#REF!+#REF!+#REF!+#REF!+#REF!+#REF!+#REF!","v":{"$error":"#REF!"}},{"$f":"#REF!+#REF!+#REF!+#REF!+#REF!+#REF!+#REF!","v":{"$error":"#REF!"}},{"$f":"'9_Per Pupil Summary'!L54","v":1790.252669912493},{"$f":"#REF!+#REF!+#REF!+#REF!+#REF!+#REF!+#REF!","v":{"$error":"#REF!"}},{"$f":"#REF!+#REF!+#REF!+#REF!+#REF!+#REF!+#REF!","v":{"$error":"#REF!"}},{"$f":"#REF!+#REF!+#REF!+#REF!+#REF!+#REF!+#REF!","v":{"$error":"#REF!"}},{"$f":"#REF!+#REF!+#REF!+#REF!+#REF!+#REF!+#REF!","v":{"$error":"#REF!"}},{"$f":"#REF!+#REF!+#REF!+#REF!+#REF!+#REF!+#REF!","v":{"$error":"#REF!"}},{"$f":"#REF!+#REF!+#REF!+#REF!+#REF!+#REF!+#REF!","v":{"$error":"#REF!"}},{"$f":"#REF!+#REF!+#REF!+#REF!+#REF!+#REF!+#REF!","v":{"$error":"#REF!"}},{"$f":"#REF!+#REF!+#REF!+#REF!+#REF!+#REF!+#REF!","v":{"$error":"#REF!"}},{"$f":"#REF!+#REF!+#REF!+#REF!+#REF!+#REF!+#REF!","v":{"$error":"#REF!"}},{"$f":"#REF!+#REF!+#REF!+#REF!+#REF!+#REF!+#REF!","v":{"$error":"#REF!"}},{"$f":"#REF!+#REF!+#REF!+#REF!+#REF!+#REF!+#REF!","v":{"$error":"#REF!"}},{"$f":"#REF!+#REF!+#REF!+#REF!+#REF!+#REF!+#REF!","v":{"$error":"#REF!"}},{"$f":"#REF!+#REF!+#REF!+#REF!+#REF!+#REF!+#REF!","v":{"$error":"#REF!"}},{"$f":"#REF!+#REF!+#REF!+#REF!+#REF!+#REF!+#REF!","v":{"$error":"#REF!"}}]
[50,"St. Martin",{"$f":"#REF!+#REF!+#REF!+#REF!+#REF!+#REF!+#REF!","v":{"$error":"#REF!"}},{"$f":"'9_Per Pupil Summary'!O55","v":9262.7395999877372},{"$f":"#REF!+#REF!+#REF!+#REF!+#REF!+#REF!+#REF!","v":{"$error":"#REF!"}},null,{"$f":"#REF!+#REF!+#REF!+#REF!+#REF!+#REF!+#REF!","v":{"$error":"#REF!"}},{"$f":"#REF!+#REF!+#REF!+#REF!+#REF!+#REF!+#REF!","v":{"$error":"#REF!"}},{"$f":"'9_Per Pupil Summary'!I55","v":637.19189564128419},{"$f":"#REF!+#REF!+#REF!+#REF!+#REF!+#REF!+#REF!","v":{"$error":"#REF!"}},{"$f":"#REF!+#REF!+#REF!+#REF!+#REF!+#REF!+#REF!","v":{"$error":"#REF!"}},{"$f":"'9_Per Pupil Summary'!J55","v":173.77960790216841},{"$f":"#REF!+#REF!+#REF!+#REF!+#REF!+#REF!+#REF!","v":{"$error":"#REF!"}},{"$f":"#REF!+#REF!+#REF!+#REF!+#REF!+#REF!+#REF!","v":{"$error":"#REF!"}},{"$f":"'9_Per Pupil Summary'!K55","v":4344.4901975542107},{"$f":"#REF!+#REF!+#REF!+#REF!+#REF!+#REF!+#REF!","v":{"$error":"#REF!"}},{"$f":"#REF!+#REF!+#REF!+#REF!+#REF!+#REF!+#REF!","v":{"$error":"#REF!"}},{"$f":"'9_Per Pupil Summary'!L55","v":1737.7960790216841},{"$f":"#REF!+#REF!+#REF!+#REF!+#REF!+#REF!+#REF!","v":{"$error":"#REF!"}},{"$f":"#REF!+#REF!+#REF!+#REF!+#REF!+#REF!+#REF!","v":{"$error":"#REF!"}},{"$f":"#REF!+#REF!+#REF!+#REF!+#REF!+#REF!+#REF!","v":{"$error":"#REF!"}},{"$f":"#REF!+#REF!+#REF!+#REF!+#REF!+#REF!+#REF!","v":{"$error":"#REF!"}},{"$f":"#REF!+#REF!+#REF!+#REF!+#REF!+#REF!+#REF!","v":{"$error":"#REF!"}},{"$f":"#REF!+#REF!+#REF!+#REF!+#REF!+#REF!+#REF!","v":{"$error":"#REF!"}},{"$f":"#REF!+#REF!+#REF!+#REF!+#REF!+#REF!+#REF!","v":{"$error":"#REF!"}},{"$f":"#REF!+#REF!+#REF!+#REF!+#REF!+#REF!+#REF!","v":{"$error":"#REF!"}},{"$f":"#REF!+#REF!+#REF!+#REF!+#REF!+#REF!+#REF!","v":{"$error":"#REF!"}},{"$f":"#REF!+#REF!+#REF!+#REF!+#REF!+#REF!+#REF!","v":{"$error":"#REF!"}},{"$f":"#REF!+#REF!+#REF!+#REF!+#REF!+#REF!+#REF!","v":{"$error":"#REF!"}},{"$f":"#REF!+#REF!+#REF!+#REF!+#REF!+#REF!+#REF!","v":{"$error":"#REF!"}},{"$f":"#REF!+#REF!+#REF!+#REF!+#REF!+#REF!+#REF!","v":{"$error":"#REF!"}},{"$f":"#REF!+#REF!+#REF!+#REF!+#REF!+#REF!+#REF!","v":{"$error":"#REF!"}}]
[51,"St. Mary",{"$f":"#REF!+#REF!+#REF!+#REF!+#REF!+#REF!+#REF!","v":{"$error":"#REF!"}},{"$f":"'9_Per Pupil Summary'!O56","v":10429.134515315371},{"$f":"#REF!+#REF!+#REF!+#REF!+#REF!+#REF!+#REF!","v":{"$error":"#REF!"}},null,{"$f":"#REF!+#REF!+#REF!+#REF!+#REF!+#REF!+#REF!","v":{"$error":"#REF!"}},{"$f":"#REF!+#REF!+#REF!+#REF!+#REF!+#REF!+#REF!","v":{"$error":"#REF!"}},{"$f":"'9_Per Pupil Summary'!I56","v":618.57875252854092},{"$f":"#REF!+#REF!+#REF!+#REF!+#REF!+#REF!+#REF!","v":{"$error":"#REF!"}},{"$f":"#REF!+#REF!+#REF!+#REF!+#REF!+#REF!+#REF!","v":{"$error":"#REF!"}},{"$f":"'9_Per Pupil Summary'!J56","v":168.70329614414752},{"$f":"#REF!+#REF!+#REF!+#REF!+#REF!+#REF!+#REF!","v":{"$error":"#REF!"}},{"$f":"#REF!+#REF!+#REF!+#REF!+#REF!+#REF!+#REF!","v":{"$error":"#REF!"}},{"$f":"'9_Per Pupil Summary'!K56","v":4217.5824036036875},{"$f":"#REF!+#REF!+#REF!+#REF!+#REF!+#REF!+#REF!","v":{"$error":"#REF!"}},{"$f":"#REF!+#REF!+#REF!+#REF!+#REF!+#REF!+#REF!","v":{"$error":"#REF!"}},{"$f":"'9_Per Pupil Summary'!L56","v":1687.0329614414752},{"$f":"#REF!+#REF!+#REF!+#REF!+#REF!+#REF!+#REF!","v":{"$error":"#REF!"}},{"$f":"#REF!+#REF!+#REF!+#REF!+#REF!+#REF!+#REF!","v":{"$error":"#REF!"}},{"$f":"#REF!+#REF!+#REF!+#REF!+#REF!+#REF!+#REF!","v":{"$error":"#REF!"}},{"$f":"#REF!+#REF!+#REF!+#REF!+#REF!+#REF!+#REF!","v":{"$error":"#REF!"}},{"$f":"#REF!+#REF!+#REF!+#REF!+#REF!+#REF!+#REF!","v":{"$error":"#REF!"}},{"$f":"#REF!+#REF!+#REF!+#REF!+#REF!+#REF!+#REF!","v":{"$error":"#REF!"}},{"$f":"#REF!+#REF!+#REF!+#REF!+#REF!+#REF!+#REF!","v":{"$error":"#REF!"}},{"$f":"#REF!+#REF!+#REF!+#REF!+#REF!+#REF!+#REF!","v":{"$error":"#REF!"}},{"$f":"#REF!+#REF!+#REF!+#REF!+#REF!+#REF!+#REF!","v":{"$error":"#REF!"}},{"$f":"#REF!+#REF!+#REF!+#REF!+#REF!+#REF!+#REF!","v":{"$error":"#REF!"}},{"$f":"#REF!+#REF!+#REF!+#REF!+#REF!+#REF!+#REF!","v":{"$error":"#REF!"}},{"$f":"#REF!+#REF!+#REF!+#REF!+#REF!+#REF!+#REF!","v":{"$error":"#REF!"}},{"$f":"#REF!+#REF!+#REF!+#REF!+#REF!+#REF!+#REF!","v":{"$error":"#REF!"}},{"$f":"#REF!+#REF!+#REF!+#REF!+#REF!+#REF!+#REF!","v":{"$error":"#REF!"}}]
[52,"St. Tammany",{"$f":"#REF!+#REF!+#REF!+#REF!+#REF!+#REF!+#REF!","v":{"$error":"#REF!"}},{"$f":"'9_Per Pupil Summary'!O57","v":12136.655833371715},{"$f":"#REF!+#REF!+#REF!+#REF!+#REF!+#REF!+#REF!","v":{"$error":"#REF!"}},null,{"$f":"#REF!+#REF!+#REF!+#REF!+#REF!+#REF!+#REF!","v":{"$error":"#REF!"}},{"$f":"#REF!+#REF!+#REF!+#REF!+#REF!+#REF!+#REF!","v":{"$error":"#REF!"}},{"$f":"'9_Per Pupil Summary'!I57","v":585.03345987051193},{"$f":"#REF!+#REF!+#REF!+#REF!+#REF!+#REF!+#REF!","v":{"$error":"#REF!"}},{"$f":"#REF!+#REF!+#REF!+#REF!+#REF!+#REF!+#REF!","v":{"$error":"#REF!"}},{"$f":"'9_Per Pupil Summary'!J57","v":159.5545799646851},{"$f":"#REF!+#REF!+#REF!+#REF!+#REF!+#REF!+#REF!","v":{"$error":"#REF!"}},{"$f":"#REF!+#REF!+#REF!+#REF!+#REF!+#REF!+#REF!","v":{"$error":"#REF!"}},{"$f":"'9_Per Pupil Summary'!K57","v":3988.8644991171277},{"$f":"#REF!+#REF!+#REF!+#REF!+#REF!+#REF!+#REF!","v":{"$error":"#REF!"}},{"$f":"#REF!+#REF!+#REF!+#REF!+#REF!+#REF!+#REF!","v":{"$error":"#REF!"}},{"$f":"'9_Per Pupil Summary'!L57","v":1595.545799646851},{"$f":"#REF!+#REF!+#REF!+#REF!+#REF!+#REF!+#REF!","v":{"$error":"#REF!"}},{"$f":"#REF!+#REF!+#REF!+#REF!+#REF!+#REF!+#REF!","v":{"$error":"#REF!"}},{"$f":"#REF!+#REF!+#REF!+#REF!+#REF!+#REF!+#REF!","v":{"$error":"#REF!"}},{"$f":"#REF!+#REF!+#REF!+#REF!+#REF!+#REF!+#REF!","v":{"$error":"#REF!"}},{"$f":"#REF!+#REF!+#REF!+#REF!+#REF!+#REF!+#REF!","v":{"$error":"#REF!"}},{"$f":"#REF!+#REF!+#REF!+#REF!+#REF!+#REF!+#REF!","v":{"$error":"#REF!"}},{"$f":"#REF!+#REF!+#REF!+#REF!+#REF!+#REF!+#REF!","v":{"$error":"#REF!"}},{"$f":"#REF!+#REF!+#REF!+#REF!+#REF!+#REF!+#REF!","v":{"$error":"#REF!"}},{"$f":"#REF!+#REF!+#REF!+#REF!+#REF!+#REF!+#REF!","v":{"$error":"#REF!"}},{"$f":"#REF!+#REF!+#REF!+#REF!+#REF!+#REF!+#REF!","v":{"$error":"#REF!"}},{"$f":"#REF!+#REF!+#REF!+#REF!+#REF!+#REF!+#REF!","v":{"$error":"#REF!"}},{"$f":"#REF!+#REF!+#REF!+#REF!+#REF!+#REF!+#REF!","v":{"$error":"#REF!"}},{"$f":"#REF!+#REF!+#REF!+#REF!+#REF!+#REF!+#REF!","v":{"$error":"#REF!"}},{"$f":"#REF!+#REF!+#REF!+#REF!+#REF!+#REF!+#REF!","v":{"$error":"#REF!"}}]
[53,"Tangipahoa",{"$f":"#REF!+#REF!+#REF!+#REF!+#REF!+#REF!+#REF!","v":{"$error":"#REF!"}},{"$f":"'9_Per Pupil Summary'!O58","v":9040.2864281427883},{"$f":"#REF!+#REF!+#REF!+#REF!+#REF!+#REF!+#REF!","v":{"$error":"#REF!"}},null,{"$f":"#REF!+#REF!+#REF!+#REF!+#REF!+#REF!+#REF!","v":{"$error":"#REF!"}},{"$f":"#REF!+#REF!+#REF!+#REF!+#REF!+#REF!+#REF!","v":{"$error":"#REF!"}},{"$f":"'9_Per Pupil Summary'!I58","v":674.27218946000426},{"$f":"#REF!+#REF!+#REF!+#REF!+#REF!+#REF!+#REF!","v":{"$error":"#REF!"}},{"$f":"#REF!+#REF!+#REF!+#REF!+#REF!+#REF!+#REF!","v":{"$error":"#REF!"}},{"$f":"'9_Per Pupil Summary'!J58","v":183.89241530727389},{"$f":"#REF!+#REF!+#REF!+#REF!+#REF!+#REF!+#REF!","v":{"$error":"#REF!"}},{"$f":"#REF!+#REF!+#REF!+#REF!+#REF!+#REF!+#REF!","v":{"$error":"#REF!"}},{"$f":"'9_Per Pupil Summary'!K58","v":4597.3103826818478},{"$f":"#REF!+#REF!+#REF!+#REF!+#REF!+#REF!+#REF!","v":{"$error":"#REF!"}},{"$f":"#REF!+#REF!+#REF!+#REF!+#REF!+#REF!+#REF!","v":{"$error":"#REF!"}},{"$f":"'9_Per Pupil Summary'!L58","v":1838.9241530727388},{"$f":"#REF!+#REF!+#REF!+#REF!+#REF!+#REF!+#REF!","v":{"$error":"#REF!"}},{"$f":"#REF!+#REF!+#REF!+#REF!+#REF!+#REF!+#REF!","v":{"$error":"#REF!"}},{"$f":"#REF!+#REF!+#REF!+#REF!+#REF!+#REF!+#REF!","v":{"$error":"#REF!"}},{"$f":"#REF!+#REF!+#REF!+#REF!+#REF!+#REF!+#REF!","v":{"$error":"#REF!"}},{"$f":"#REF!+#REF!+#REF!+#REF!+#REF!+#REF!+#REF!","v":{"$error":"#REF!"}},{"$f":"#REF!+#REF!+#REF!+#REF!+#REF!+#REF!+#REF!","v":{"$error":"#REF!"}},{"$f":"#REF!+#REF!+#REF!+#REF!+#REF!+#REF!+#REF!","v":{"$error":"#REF!"}},{"$f":"#REF!+#REF!+#REF!+#REF!+#REF!+#REF!+#REF!","v":{"$error":"#REF!"}},{"$f":"#REF!+#REF!+#REF!+#REF!+#REF!+#REF!+#REF!","v":{"$error":"#REF!"}},{"$f":"#REF!+#REF!+#REF!+#REF!+#REF!+#REF!+#REF!","v":{"$error":"#REF!"}},{"$f":"#REF!+#REF!+#REF!+#REF!+#REF!+#REF!+#REF!","v":{"$error":"#REF!"}},{"$f":"#REF!+#REF!+#REF!+#REF!+#REF!+#REF!+#REF!","v":{"$error":"#REF!"}},{"$f":"#REF!+#REF!+#REF!+#REF!+#REF!+#REF!+#REF!","v":{"$error":"#REF!"}},{"$f":"#REF!+#REF!+#REF!+#REF!+#REF!+#REF!+#REF!","v":{"$error":"#REF!"}}]
[54,"Tensas",{"$f":"#REF!+#REF!+#REF!+#REF!+#REF!+#REF!+#REF!","v":{"$error":"#REF!"}},{"$f":"'9_Per Pupil Summary'!O59","v":11361.196627698759},{"$f":"#REF!+#REF!+#REF!+#REF!+#REF!+#REF!+#REF!","v":{"$error":"#REF!"}},null,{"$f":"#REF!+#REF!+#REF!+#REF!+#REF!+#REF!+#REF!","v":{"$error":"#REF!"}},{"$f":"#REF!+#REF!+#REF!+#REF!+#REF!+#REF!+#REF!","v":{"$error":"#REF!"}},{"$f":"'9_Per Pupil Summary'!I59","v":508.15215950217743},{"$f":"#REF!+#REF!+#REF!+#REF!+#REF!+#REF!+#REF!","v":{"$error":"#REF!"}},{"$f":"#REF!+#REF!+#REF!+#REF!+#REF!+#REF!+#REF!","v":{"$error":"#REF!"}},{"$f":"'9_Per Pupil Summary'!J59","v":138.58695259150289},{"$f":"#REF!+#REF!+#REF!+#REF!+#REF!+#REF!+#REF!","v":{"$error":"#REF!"}},{"$f":"#REF!+#REF!+#REF!+#REF!+#REF!+#REF!+#REF!","v":{"$error":"#REF!"}},{"$f":"'9_Per Pupil Summary'!K59","v":3464.6738147875735},{"$f":"#REF!+#REF!+#REF!+#REF!+#REF!+#REF!+#REF!","v":{"$error":"#REF!"}},{"$f":"#REF!+#REF!+#REF!+#REF!+#REF!+#REF!+#REF!","v":{"$error":"#REF!"}},{"$f":"'9_Per Pupil Summary'!L59","v":1385.8695259150293},{"$f":"#REF!+#REF!+#REF!+#REF!+#REF!+#REF!+#REF!","v":{"$error":"#REF!"}},{"$f":"#REF!+#REF!+#REF!+#REF!+#REF!+#REF!+#REF!","v":{"$error":"#REF!"}},{"$f":"#REF!+#REF!+#REF!+#REF!+#REF!+#REF!+#REF!","v":{"$error":"#REF!"}},{"$f":"#REF!+#REF!+#REF!+#REF!+#REF!+#REF!+#REF!","v":{"$error":"#REF!"}},{"$f":"#REF!+#REF!+#REF!+#REF!+#REF!+#REF!+#REF!","v":{"$error":"#REF!"}},{"$f":"#REF!+#REF!+#REF!+#REF!+#REF!+#REF!+#REF!","v":{"$error":"#REF!"}},{"$f":"#REF!+#REF!+#REF!+#REF!+#REF!+#REF!+#REF!","v":{"$error":"#REF!"}},{"$f":"#REF!+#REF!+#REF!+#REF!+#REF!+#REF!+#REF!","v":{"$error":"#REF!"}},{"$f":"#REF!+#REF!+#REF!+#REF!+#REF!+#REF!+#REF!","v":{"$error":"#REF!"}},{"$f":"#REF!+#REF!+#REF!+#REF!+#REF!+#REF!+#REF!","v":{"$error":"#REF!"}},{"$f":"#REF!+#REF!+#REF!+#REF!+#REF!+#REF!+#REF!","v":{"$error":"#REF!"}},{"$f":"#REF!+#REF!+#REF!+#REF!+#REF!+#REF!+#REF!","v":{"$error":"#REF!"}},{"$f":"#REF!+#REF!+#REF!+#REF!+#REF!+#REF!+#REF!","v":{"$error":"#REF!"}},{"$f":"#REF!+#REF!+#REF!+#REF!+#REF!+#REF!+#REF!","v":{"$error":"#REF!"}}]
[55,"Terrebonne",{"$f":"#REF!+#REF!+#REF!+#REF!+#REF!+#REF!+#REF!","v":{"$error":"#REF!"}},{"$f":"'9_Per Pupil Summary'!O60","v":9279.1592053876429},{"$f":"#REF!+#REF!+#REF!+#REF!+#REF!+#REF!+#REF!","v":{"$error":"#REF!"}},null,{"$f":"#REF!+#REF!+#REF!+#REF!+#REF!+#REF!+#REF!","v":{"$error":"#REF!"}},{"$f":"#REF!+#REF!+#REF!+#REF!+#REF!+#REF!+#REF!","v":{"$error":"#REF!"}},{"$f":"'9_Per Pupil Summary'!I60","v":574.58420227004592},{"$f":"#REF!+#REF!+#REF!+#REF!+#REF!+#REF!+#REF!","v":{"$error":"#REF!"}},{"$f":"#REF!+#REF!+#REF!+#REF!+#REF!+#REF!+#REF!","v":{"$error":"#REF!"}},{"$f":"'9_Per Pupil Summary'!J60","v":156.70478243728525},{"$f":"#REF!+#REF!+#REF!+#REF!+#REF!+#REF!+#REF!","v":{"$error":"#REF!"}},{"$f":"#REF!+#REF!+#REF!+#REF!+#REF!+#REF!+#REF!","v":{"$error":"#REF!"}},{"$f":"'9_Per Pupil Summary'!K60","v":3917.6195609321308},{"$f":"#REF!+#REF!+#REF!+#REF!+#REF!+#REF!+#REF!","v":{"$error":"#REF!"}},{"$f":"#REF!+#REF!+#REF!+#REF!+#REF!+#REF!+#REF!","v":{"$error":"#REF!"}},{"$f":"'9_Per Pupil Summary'!L60","v":1567.0478243728523},{"$f":"#REF!+#REF!+#REF!+#REF!+#REF!+#REF!+#REF!","v":{"$error":"#REF!"}},{"$f":"#REF!+#REF!+#REF!+#REF!+#REF!+#REF!+#REF!","v":{"$error":"#REF!"}},{"$f":"#REF!+#REF!+#REF!+#REF!+#REF!+#REF!+#REF!","v":{"$error":"#REF!"}},{"$f":"#REF!+#REF!+#REF!+#REF!+#REF!+#REF!+#REF!","v":{"$error":"#REF!"}},{"$f":"#REF!+#REF!+#REF!+#REF!+#REF!+#REF!+#REF!","v":{"$error":"#REF!"}},{"$f":"#REF!+#REF!+#REF!+#REF!+#REF!+#REF!+#REF!","v":{"$error":"#REF!"}},{"$f":"#REF!+#REF!+#REF!+#REF!+#REF!+#REF!+#REF!","v":{"$error":"#REF!"}},{"$f":"#REF!+#REF!+#REF!+#REF!+#REF!+#REF!+#REF!","v":{"$error":"#REF!"}},{"$f":"#REF!+#REF!+#REF!+#REF!+#REF!+#REF!+#REF!","v":{"$error":"#REF!"}},{"$f":"#REF!+#REF!+#REF!+#REF!+#REF!+#REF!+#REF!","v":{"$error":"#REF!"}},{"$f":"#REF!+#REF!+#REF!+#REF!+#REF!+#REF!+#REF!","v":{"$error":"#REF!"}},{"$f":"#REF!+#REF!+#REF!+#REF!+#REF!+#REF!+#REF!","v":{"$error":"#REF!"}},{"$f":"#REF!+#REF!+#REF!+#REF!+#REF!+#REF!+#REF!","v":{"$error":"#REF!"}},{"$f":"#REF!+#REF!+#REF!+#REF!+#REF!+#REF!+#REF!","v":{"$error":"#REF!"}}]
[56,"Union",{"$f":"#REF!+#REF!+#REF!+#REF!+#REF!+#REF!+#REF!","v":{"$error":"#REF!"}},{"$f":"'9_Per Pupil Summary'!O61","v":10284.490979224091},{"$f":"#REF!+#REF!+#REF!+#REF!+#REF!+#REF!+#REF!","v":{"$error":"#REF!"}},null,{"$f":"#REF!+#REF!+#REF!+#REF!+#REF!+#REF!+#REF!","v":{"$error":"#REF!"}},{"$f":"#REF!+#REF!+#REF!+#REF!+#REF!+#REF!+#REF!","v":{"$error":"#REF!"}},{"$f":"'9_Per Pupil Summary'!I61","v":684.43715973676922},{"$f":"#REF!+#REF!+#REF!+#REF!+#REF!+#REF!+#REF!","v":{"$error":"#REF!"}},{"$f":"#REF!+#REF!+#REF!+#REF!+#REF!+#REF!+#REF!","v":{"$error":"#REF!"}},{"$f":"'9_Per Pupil Summary'!J61","v":186.66467992820978},{"$f":"#REF!+#REF!+#REF!+#REF!+#REF!+#REF!+#REF!","v":{"$error":"#REF!"}},{"$f":"#REF!+#REF!+#REF!+#REF!+#REF!+#REF!+#REF!","v":{"$error":"#REF!"}},{"$f":"'9_Per Pupil Summary'!K61","v":4666.6169982052452},{"$f":"#REF!+#REF!+#REF!+#REF!+#REF!+#REF!+#REF!","v":{"$error":"#REF!"}},{"$f":"#REF!+#REF!+#REF!+#REF!+#REF!+#REF!+#REF!","v":{"$error":"#REF!"}},{"$f":"'9_Per Pupil Summary'!L61","v":1866.6467992820978},{"$f":"#REF!+#REF!+#REF!+#REF!+#REF!+#REF!+#REF!","v":{"$error":"#REF!"}},{"$f":"#REF!+#REF!+#REF!+#REF!+#REF!+#REF!+#REF!","v":{"$error":"#REF!"}},{"$f":"#REF!+#REF!+#REF!+#REF!+#REF!+#REF!+#REF!","v":{"$error":"#REF!"}},{"$f":"#REF!+#REF!+#REF!+#REF!+#REF!+#REF!+#REF!","v":{"$error":"#REF!"}},{"$f":"#REF!+#REF!+#REF!+#REF!+#REF!+#REF!+#REF!","v":{"$error":"#REF!"}},{"$f":"#REF!+#REF!+#REF!+#REF!+#REF!+#REF!+#REF!","v":{"$error":"#REF!"}},{"$f":"#REF!+#REF!+#REF!+#REF!+#REF!+#REF!+#REF!","v":{"$error":"#REF!"}},{"$f":"#REF!+#REF!+#REF!+#REF!+#REF!+#REF!+#REF!","v":{"$error":"#REF!"}},{"$f":"#REF!+#REF!+#REF!+#REF!+#REF!+#REF!+#REF!","v":{"$error":"#REF!"}},{"$f":"#REF!+#REF!+#REF!+#REF!+#REF!+#REF!+#REF!","v":{"$error":"#REF!"}},{"$f":"#REF!+#REF!+#REF!+#REF!+#REF!+#REF!+#REF!","v":{"$error":"#REF!"}},{"$f":"#REF!+#REF!+#REF!+#REF!+#REF!+#REF!+#REF!","v":{"$error":"#REF!"}},{"$f":"#REF!+#REF!+#REF!+#REF!+#REF!+#REF!+#REF!","v":{"$error":"#REF!"}},{"$f":"#REF!+#REF!+#REF!+#REF!+#REF!+#REF!+#REF!","v":{"$error":"#REF!"}}]
[57,"Vermilion",{"$f":"#REF!+#REF!+#REF!+#REF!+#REF!+#REF!+#REF!","v":{"$error":"#REF!"}},{"$f":"'9_Per Pupil Summary'!O62","v":7901.3526815425075},{"$f":"#REF!+#REF!+#REF!+#REF!+#REF!+#REF!+#REF!","v":{"$error":"#REF!"}},null,{"$f":"#REF!+#REF!+#REF!+#REF!+#REF!+#REF!+#REF!","v":{"$error":"#REF!"}},{"$f":"#REF!+#REF!+#REF!+#REF!+#REF!+#REF!+#REF!","v":{"$error":"#REF!"}},{"$f":"'9_Per Pupil Summary'!I62","v":698.92676646147152},{"$f":"#REF!+#REF!+#REF!+#REF!+#REF!+#REF!+#REF!","v":{"$error":"#REF!"}},{"$f":"#REF!+#REF!+#REF!+#REF!+#REF!+#REF!+#REF!","v":{"$error":"#REF!"}},{"$f":"'9_Per Pupil Summary'!J62","v":190.61639085312859},{"$f":"#REF!+#REF!+#REF!+#REF!+#REF!+#REF!+#REF!","v":{"$error":"#REF!"}},{"$f":"#REF!+#REF!+#REF!+#REF!+#REF!+#REF!+#REF!","v":{"$error":"#REF!"}},{"$f":"'9_Per Pupil Summary'!K62","v":4765.4097713282154},{"$f":"#REF!+#REF!+#REF!+#REF!+#REF!+#REF!+#REF!","v":{"$error":"#REF!"}},{"$f":"#REF!+#REF!+#REF!+#REF!+#REF!+#REF!+#REF!","v":{"$error":"#REF!"}},{"$f":"'9_Per Pupil Summary'!L62","v":1906.1639085312863},{"$f":"#REF!+#REF!+#REF!+#REF!+#REF!+#REF!+#REF!","v":{"$error":"#REF!"}},{"$f":"#REF!+#REF!+#REF!+#REF!+#REF!+#REF!+#REF!","v":{"$error":"#REF!"}},{"$f":"#REF!+#REF!+#REF!+#REF!+#REF!+#REF!+#REF!","v":{"$error":"#REF!"}},{"$f":"#REF!+#REF!+#REF!+#REF!+#REF!+#REF!+#REF!","v":{"$error":"#REF!"}},{"$f":"#REF!+#REF!+#REF!+#REF!+#REF!+#REF!+#REF!","v":{"$error":"#REF!"}},{"$f":"#REF!+#REF!+#REF!+#REF!+#REF!+#REF!+#REF!","v":{"$error":"#REF!"}},{"$f":"#REF!+#REF!+#REF!+#REF!+#REF!+#REF!+#REF!","v":{"$error":"#REF!"}},{"$f":"#REF!+#REF!+#REF!+#REF!+#REF!+#REF!+#REF!","v":{"$error":"#REF!"}},{"$f":"#REF!+#REF!+#REF!+#REF!+#REF!+#REF!+#REF!","v":{"$error":"#REF!"}},{"$f":"#REF!+#REF!+#REF!+#REF!+#REF!+#REF!+#REF!","v":{"$error":"#REF!"}},{"$f":"#REF!+#REF!+#REF!+#REF!+#REF!+#REF!+#REF!","v":{"$error":"#REF!"}},{"$f":"#REF!+#REF!+#REF!+#REF!+#REF!+#REF!+#REF!","v":{"$error":"#REF!"}},{"$f":"#REF!+#REF!+#REF!+#REF!+#REF!+#REF!+#REF!","v":{"$error":"#REF!"}},{"$f":"#REF!+#REF!+#REF!+#REF!+#REF!+#REF!+#REF!","v":{"$error":"#REF!"}}]
[58,"Vernon",{"$f":"#REF!+#REF!+#REF!+#REF!+#REF!+#REF!+#REF!","v":{"$error":"#REF!"}},{"$f":"'9_Per Pupil Summary'!O63","v":8117.6945075730027},{"$f":"#REF!+#REF!+#REF!+#REF!+#REF!+#REF!+#REF!","v":{"$error":"#REF!"}},null,{"$f":"#REF!+#REF!+#REF!+#REF!+#REF!+#REF!+#REF!","v":{"$error":"#REF!"}},{"$f":"#REF!+#REF!+#REF!+#REF!+#REF!+#REF!+#REF!","v":{"$error":"#REF!"}},{"$f":"'9_Per Pupil Summary'!I63","v":732.66196359035098},{"$f":"#REF!+#REF!+#REF!+#REF!+#REF!+#REF!+#REF!","v":{"$error":"#REF!"}},{"$f":"#REF!+#REF!+#REF!+#REF!+#REF!+#REF!+#REF!","v":{"$error":"#REF!"}},{"$f":"'9_Per Pupil Summary'!J63","v":199.81689916100478},{"$f":"#REF!+#REF!+#REF!+#REF!+#REF!+#REF!+#REF!","v":{"$error":"#REF!"}},{"$f":"#REF!+#REF!+#REF!+#REF!+#REF!+#REF!+#REF!","v":{"$error":"#REF!"}},{"$f":"'9_Per Pupil Summary'!K63","v":4995.4224790251192},{"$f":"#REF!+#REF!+#REF!+#REF!+#REF!+#REF!+#REF!","v":{"$error":"#REF!"}},{"$f":"#REF!+#REF!+#REF!+#REF!+#REF!+#REF!+#REF!","v":{"$error":"#REF!"}},{"$f":"'9_Per Pupil Summary'!L63","v":1998.1689916100477},{"$f":"#REF!+#REF!+#REF!+#REF!+#REF!+#REF!+#REF!","v":{"$error":"#REF!"}},{"$f":"#REF!+#REF!+#REF!+#REF!+#REF!+#REF!+#REF!","v":{"$error":"#REF!"}},{"$f":"#REF!+#REF!+#REF!+#REF!+#REF!+#REF!+#REF!","v":{"$error":"#REF!"}},{"$f":"#REF!+#REF!+#REF!+#REF!+#REF!+#REF!+#REF!","v":{"$error":"#REF!"}},{"$f":"#REF!+#REF!+#REF!+#REF!+#REF!+#REF!+#REF!","v":{"$error":"#REF!"}},{"$f":"#REF!+#REF!+#REF!+#REF!+#REF!+#REF!+#REF!","v":{"$error":"#REF!"}},{"$f":"#REF!+#REF!+#REF!+#REF!+#REF!+#REF!+#REF!","v":{"$error":"#REF!"}},{"$f":"#REF!+#REF!+#REF!+#REF!+#REF!+#REF!+#REF!","v":{"$error":"#REF!"}},{"$f":"#REF!+#REF!+#REF!+#REF!+#REF!+#REF!+#REF!","v":{"$error":"#REF!"}},{"$f":"#REF!+#REF!+#REF!+#REF!+#REF!+#REF!+#REF!","v":{"$error":"#REF!"}},{"$f":"#REF!+#REF!+#REF!+#REF!+#REF!+#REF!+#REF!","v":{"$error":"#REF!"}},{"$f":"#REF!+#REF!+#REF!+#REF!+#REF!+#REF!+#REF!","v":{"$error":"#REF!"}},{"$f":"#REF!+#REF!+#REF!+#REF!+#REF!+#REF!+#REF!","v":{"$error":"#REF!"}},{"$f":"#REF!+#REF!+#REF!+#REF!+#REF!+#REF!+#REF!","v":{"$error":"#REF!"}}]
[59,"Washington",{"$f":"#REF!+#REF!+#REF!+#REF!+#REF!+#REF!+#REF!","v":{"$error":"#REF!"}},{"$f":"'9_Per Pupil Summary'!O64","v":7113.6201585379422},{"$f":"#REF!+#REF!+#REF!+#REF!+#REF!+#REF!+#REF!","v":{"$error":"#REF!"}},null,{"$f":"#REF!+#REF!+#REF!+#REF!+#REF!+#REF!+#REF!","v":{"$error":"#REF!"}},{"$f":"#REF!+#REF!+#REF!+#REF!+#REF!+#REF!+#REF!","v":{"$error":"#REF!"}},{"$f":"'9_Per Pupil Summary'!I64","v":773.56560192022027},{"$f":"#REF!+#REF!+#REF!+#REF!+#REF!+#REF!+#REF!","v":{"$error":"#REF!"}},{"$f":"#REF!+#REF!+#REF!+#REF!+#REF!+#REF!+#REF!","v":{"$error":"#REF!"}},{"$f":"'9_Per Pupil Summary'!J64","v":210.97243688733278},{"$f":"#REF!+#REF!+#REF!+#REF!+#REF!+#REF!+#REF!","v":{"$error":"#REF!"}},{"$f":"#REF!+#REF!+#REF!+#REF!+#REF!+#REF!+#REF!","v":{"$error":"#REF!"}},{"$f":"'9_Per Pupil Summary'!K64","v":5274.3109221833201},{"$f":"#REF!+#REF!+#REF!+#REF!+#REF!+#REF!+#REF!","v":{"$error":"#REF!"}},{"$f":"#REF!+#REF!+#REF!+#REF!+#REF!+#REF!+#REF!","v":{"$error":"#REF!"}},{"$f":"'9_Per Pupil Summary'!L64","v":2109.7243688733279},{"$f":"#REF!+#REF!+#REF!+#REF!+#REF!+#REF!+#REF!","v":{"$error":"#REF!"}},{"$f":"#REF!+#REF!+#REF!+#REF!+#REF!+#REF!+#REF!","v":{"$error":"#REF!"}},{"$f":"#REF!+#REF!+#REF!+#REF!+#REF!+#REF!+#REF!","v":{"$error":"#REF!"}},{"$f":"#REF!+#REF!+#REF!+#REF!+#REF!+#REF!+#REF!","v":{"$error":"#REF!"}},{"$f":"#REF!+#REF!+#REF!+#REF!+#REF!+#REF!+#REF!","v":{"$error":"#REF!"}},{"$f":"#REF!+#REF!+#REF!+#REF!+#REF!+#REF!+#REF!","v":{"$error":"#REF!"}},{"$f":"#REF!+#REF!+#REF!+#REF!+#REF!+#REF!+#REF!","v":{"$error":"#REF!"}},{"$f":"#REF!+#REF!+#REF!+#REF!+#REF!+#REF!+#REF!","v":{"$error":"#REF!"}},{"$f":"#REF!+#REF!+#REF!+#REF!+#REF!+#REF!+#REF!","v":{"$error":"#REF!"}},{"$f":"#REF!+#REF!+#REF!+#REF!+#REF!+#REF!+#REF!","v":{"$error":"#REF!"}},{"$f":"#REF!+#REF!+#REF!+#REF!+#REF!+#REF!+#REF!","v":{"$error":"#REF!"}},{"$f":"#REF!+#REF!+#REF!+#REF!+#REF!+#REF!+#REF!","v":{"$error":"#REF!"}},{"$f":"#REF!+#REF!+#REF!+#REF!+#REF!+#REF!+#REF!","v":{"$error":"#REF!"}},{"$f":"#REF!+#REF!+#REF!+#REF!+#REF!+#REF!+#REF!","v":{"$error":"#REF!"}}]
[60,"Webster",{"$f":"#REF!+#REF!+#REF!+#REF!+#REF!+#REF!+#REF!","v":{"$error":"#REF!"}},{"$f":"'9_Per Pupil Summary'!O65","v":9405.3650668130176},{"$f":"#REF!+#REF!+#REF!+#REF!+#REF!+#REF!+#REF!","v":{"$error":"#REF!"}},null,{"$f":"#REF!+#REF!+#REF!+#REF!+#REF!+#REF!+#REF!","v":{"$error":"#REF!"}},{"$f":"#REF!+#REF!+#REF!+#REF!+#REF!+#REF!+#REF!","v":{"$error":"#REF!"}},{"$f":"'9_Per Pupil Summary'!I65","v":649.20950903084747},{"$f":"#REF!+#REF!+#REF!+#REF!+#REF!+#REF!+#REF!","v":{"$error":"#REF!"}},{"$f":"#REF!+#REF!+#REF!+#REF!+#REF!+#REF!+#REF!","v":{"$error":"#REF!"}},{"$f":"'9_Per Pupil Summary'!J65","v":177.05713882659475},{"$f":"#REF!+#REF!+#REF!+#REF!+#REF!+#REF!+#REF!","v":{"$error":"#REF!"}},{"$f":"#REF!+#REF!+#REF!+#REF!+#REF!+#REF!+#REF!","v":{"$error":"#REF!"}},{"$f":"'9_Per Pupil Summary'!K65","v":4426.4284706648687},{"$f":"#REF!+#REF!+#REF!+#REF!+#REF!+#REF!+#REF!","v":{"$error":"#REF!"}},{"$f":"#REF!+#REF!+#REF!+#REF!+#REF!+#REF!+#REF!","v":{"$error":"#REF!"}},{"$f":"'9_Per Pupil Summary'!L65","v":1770.5713882659475},{"$f":"#REF!+#REF!+#REF!+#REF!+#REF!+#REF!+#REF!","v":{"$error":"#REF!"}},{"$f":"#REF!+#REF!+#REF!+#REF!+#REF!+#REF!+#REF!","v":{"$error":"#REF!"}},{"$f":"#REF!+#REF!+#REF!+#REF!+#REF!+#REF!+#REF!","v":{"$error":"#REF!"}},{"$f":"#REF!+#REF!+#REF!+#REF!+#REF!+#REF!+#REF!","v":{"$error":"#REF!"}},{"$f":"#REF!+#REF!+#REF!+#REF!+#REF!+#REF!+#REF!","v":{"$error":"#REF!"}},{"$f":"#REF!+#REF!+#REF!+#REF!+#REF!+#REF!+#REF!","v":{"$error":"#REF!"}},{"$f":"#REF!+#REF!+#REF!+#REF!+#REF!+#REF!+#REF!","v":{"$error":"#REF!"}},{"$f":"#REF!+#REF!+#REF!+#REF!+#REF!+#REF!+#REF!","v":{"$error":"#REF!"}},{"$f":"#REF!+#REF!+#REF!+#REF!+#REF!+#REF!+#REF!","v":{"$error":"#REF!"}},{"$f":"#REF!+#REF!+#REF!+#REF!+#REF!+#REF!+#REF!","v":{"$error":"#REF!"}},{"$f":"#REF!+#REF!+#REF!+#REF!+#REF!+#REF!+#REF!","v":{"$error":"#REF!"}},{"$f":"#REF!+#REF!+#REF!+#REF!+#REF!+#REF!+#REF!","v":{"$error":"#REF!"}},{"$f":"#REF!+#REF!+#REF!+#REF!+#REF!+#REF!+#REF!","v":{"$error":"#REF!"}},{"$f":"#REF!+#REF!+#REF!+#REF!+#REF!+#REF!+#REF!","v":{"$error":"#REF!"}}]
[61,"West Baton Rouge",{"$f":"#REF!+#REF!+#REF!+#REF!+#REF!+#REF!+#REF!","v":{"$error":"#REF!"}},{"$f":"'9_Per Pupil Summary'!O66","v":16790.135955251986},{"$f":"#REF!+#REF!+#REF!+#REF!+#REF!+#REF!+#REF!","v":{"$error":"#REF!"}},null,{"$f":"#REF!+#REF!+#REF!+#REF!+#REF!+#REF!+#REF!","v":{"$error":"#REF!"}},{"$f":"#REF!+#REF!+#REF!+#REF!+#REF!+#REF!+#REF!","v":{"$error":"#REF!"}},{"$f":"'9_Per Pupil Summary'!I66","v":391.31906061099016},{"$f":"#REF!+#REF!+#REF!+#REF!+#REF!+#REF!+#REF!","v":{"$error":"#REF!"}},{"$f":"#REF!+#REF!+#REF!+#REF!+#REF!+#REF!+#REF!","v":{"$error":"#REF!"}},{"$f":"'9_Per Pupil Summary'!J66","v":106.72338016663367},{"$f":"#REF!+#REF!+#REF!+#REF!+#REF!+#REF!+#REF!","v":{"$error":"#REF!"}},{"$f":"#REF!+#REF!+#REF!+#REF!+#REF!+#REF!+#REF!","v":{"$error":"#REF!"}},{"$f":"'9_Per Pupil Summary'!K66","v":2668.0845041658422},{"$f":"#REF!+#REF!+#REF!+#REF!+#REF!+#REF!+#REF!","v":{"$error":"#REF!"}},{"$f":"#REF!+#REF!+#REF!+#REF!+#REF!+#REF!+#REF!","v":{"$error":"#REF!"}},{"$f":"'9_Per Pupil Summary'!L66","v":1067.2338016663368},{"$f":"#REF!+#REF!+#REF!+#REF!+#REF!+#REF!+#REF!","v":{"$error":"#REF!"}},{"$f":"#REF!+#REF!+#REF!+#REF!+#REF!+#REF!+#REF!","v":{"$error":"#REF!"}},{"$f":"#REF!+#REF!+#REF!+#REF!+#REF!+#REF!+#REF!","v":{"$error":"#REF!"}},{"$f":"#REF!+#REF!+#REF!+#REF!+#REF!+#REF!+#REF!","v":{"$error":"#REF!"}},{"$f":"#REF!+#REF!+#REF!+#REF!+#REF!+#REF!+#REF!","v":{"$error":"#REF!"}},{"$f":"#REF!+#REF!+#REF!+#REF!+#REF!+#REF!+#REF!","v":{"$error":"#REF!"}},{"$f":"#REF!+#REF!+#REF!+#REF!+#REF!+#REF!+#REF!","v":{"$error":"#REF!"}},{"$f":"#REF!+#REF!+#REF!+#REF!+#REF!+#REF!+#REF!","v":{"$error":"#REF!"}},{"$f":"#REF!+#REF!+#REF!+#REF!+#REF!+#REF!+#REF!","v":{"$error":"#REF!"}},{"$f":"#REF!+#REF!+#REF!+#REF!+#REF!+#REF!+#REF!","v":{"$error":"#REF!"}},{"$f":"#REF!+#REF!+#REF!+#REF!+#REF!+#REF!+#REF!","v":{"$error":"#REF!"}},{"$f":"#REF!+#REF!+#REF!+#REF!+#REF!+#REF!+#REF!","v":{"$error":"#REF!"}},{"$f":"#REF!+#REF!+#REF!+#REF!+#REF!+#REF!+#REF!","v":{"$error":"#REF!"}},{"$f":"#REF!+#REF!+#REF!+#REF!+#REF!+#REF!+#REF!","v":{"$error":"#REF!"}}]
[62,"West Carroll",{"$f":"#REF!+#REF!+#REF!+#REF!+#REF!+#REF!+#REF!","v":{"$error":"#REF!"}},{"$f":"'9_Per Pupil Summary'!O67","v":8520.4154005172022},{"$f":"#REF!+#REF!+#REF!+#REF!+#REF!+#REF!+#REF!","v":{"$error":"#REF!"}},null,{"$f":"#REF!+#REF!+#REF!+#REF!+#REF!+#REF!+#REF!","v":{"$error":"#REF!"}},{"$f":"#REF!+#REF!+#REF!+#REF!+#REF!+#REF!+#REF!","v":{"$error":"#REF!"}},{"$f":"'9_Per Pupil Summary'!I67","v":708.40048991019171},{"$f":"#REF!+#REF!+#REF!+#REF!+#REF!+#REF!+#REF!","v":{"$error":"#REF!"}},{"$f":"#REF!+#REF!+#REF!+#REF!+#REF!+#REF!+#REF!","v":{"$error":"#REF!"}},{"$f":"'9_Per Pupil Summary'!J67","v":193.20013361187046},{"$f":"#REF!+#REF!+#REF!+#REF!+#REF!+#REF!+#REF!","v":{"$error":"#REF!"}},{"$f":"#REF!+#REF!+#REF!+#REF!+#REF!+#REF!+#REF!","v":{"$error":"#REF!"}},{"$f":"'9_Per Pupil Summary'!K67","v":4830.0033402967611},{"$f":"#REF!+#REF!+#REF!+#REF!+#REF!+#REF!+#REF!","v":{"$error":"#REF!"}},{"$f":"#REF!+#REF!+#REF!+#REF!+#REF!+#REF!+#REF!","v":{"$error":"#REF!"}},{"$f":"'9_Per Pupil Summary'!L67","v":0},{"$f":"#REF!+#REF!+#REF!+#REF!+#REF!+#REF!+#REF!","v":{"$error":"#REF!"}},{"$f":"#REF!+#REF!+#REF!+#REF!+#REF!+#REF!+#REF!","v":{"$error":"#REF!"}},{"$f":"#REF!+#REF!+#REF!+#REF!+#REF!+#REF!+#REF!","v":{"$error":"#REF!"}},{"$f":"#REF!+#REF!+#REF!+#REF!+#REF!+#REF!+#REF!","v":{"$error":"#REF!"}},{"$f":"#REF!+#REF!+#REF!+#REF!+#REF!+#REF!+#REF!","v":{"$error":"#REF!"}},{"$f":"#REF!+#REF!+#REF!+#REF!+#REF!+#REF!+#REF!","v":{"$error":"#REF!"}},{"$f":"#REF!+#REF!+#REF!+#REF!+#REF!+#REF!+#REF!","v":{"$error":"#REF!"}},{"$f":"#REF!+#REF!+#REF!+#REF!+#REF!+#REF!+#REF!","v":{"$error":"#REF!"}},{"$f":"#REF!+#REF!+#REF!+#REF!+#REF!+#REF!+#REF!","v":{"$error":"#REF!"}},{"$f":"#REF!+#REF!+#REF!+#REF!+#REF!+#REF!+#REF!","v":{"$error":"#REF!"}},{"$f":"#REF!+#REF!+#REF!+#REF!+#REF!+#REF!+#REF!","v":{"$error":"#REF!"}},{"$f":"#REF!+#REF!+#REF!+#REF!+#REF!+#REF!+#REF!","v":{"$error":"#REF!"}},{"$f":"#REF!+#REF!+#REF!+#REF!+#REF!+#REF!+#REF!","v":{"$error":"#REF!"}},{"$f":"#REF!+#REF!+#REF!+#REF!+#REF!+#REF!+#REF!","v":{"$error":"#REF!"}}]
[63,"West Feliciana",{"$f":"#REF!+#REF!+#REF!+#REF!+#REF!+#REF!+#REF!","v":{"$error":"#REF!"}},{"$f":"'9_Per Pupil Summary'!O68","v":15427.185546920651},{"$f":"#REF!+#REF!+#REF!+#REF!+#REF!+#REF!+#REF!","v":{"$error":"#REF!"}},null,{"$f":"#REF!+#REF!+#REF!+#REF!+#REF!+#REF!+#REF!","v":{"$error":"#REF!"}},{"$f":"#REF!+#REF!+#REF!+#REF!+#REF!+#REF!+#REF!","v":{"$error":"#REF!"}},{"$f":"'9_Per Pupil Summary'!I68","v":427.89845616620397},{"$f":"#REF!+#REF!+#REF!+#REF!+#REF!+#REF!+#REF!","v":{"$error":"#REF!"}},{"$f":"#REF!+#REF!+#REF!+#REF!+#REF!+#REF!+#REF!","v":{"$error":"#REF!"}},{"$f":"'9_Per Pupil Summary'!J68","v":116.69957895441928},{"$f":"#REF!+#REF!+#REF!+#REF!+#REF!+#REF!+#REF!","v":{"$error":"#REF!"}},{"$f":"#REF!+#REF!+#REF!+#REF!+#REF!+#REF!+#REF!","v":{"$error":"#REF!"}},{"$f":"'9_Per Pupil Summary'!K68","v":2917.4894738604812},{"$f":"#REF!+#REF!+#REF!+#REF!+#REF!+#REF!+#REF!","v":{"$error":"#REF!"}},{"$f":"#REF!+#REF!+#REF!+#REF!+#REF!+#REF!+#REF!","v":{"$error":"#REF!"}},{"$f":"'9_Per Pupil Summary'!L68","v":1166.9957895441926},{"$f":"#REF!+#REF!+#REF!+#REF!+#REF!+#REF!+#REF!","v":{"$error":"#REF!"}},{"$f":"#REF!+#REF!+#REF!+#REF!+#REF!+#REF!+#REF!","v":{"$error":"#REF!"}},{"$f":"#REF!+#REF!+#REF!+#REF!+#REF!+#REF!+#REF!","v":{"$error":"#REF!"}},{"$f":"#REF!+#REF!+#REF!+#REF!+#REF!+#REF!+#REF!","v":{"$error":"#REF!"}},{"$f":"#REF!+#REF!+#REF!+#REF!+#REF!+#REF!+#REF!","v":{"$error":"#REF!"}},{"$f":"#REF!+#REF!+#REF!+#REF!+#REF!+#REF!+#REF!","v":{"$error":"#REF!"}},{"$f":"#REF!+#REF!+#REF!+#REF!+#REF!+#REF!+#REF!","v":{"$error":"#REF!"}},{"$f":"#REF!+#REF!+#REF!+#REF!+#REF!+#REF!+#REF!","v":{"$error":"#REF!"}},{"$f":"#REF!+#REF!+#REF!+#REF!+#REF!+#REF!+#REF!","v":{"$error":"#REF!"}},{"$f":"#REF!+#REF!+#REF!+#REF!+#REF!+#REF!+#REF!","v":{"$error":"#REF!"}},{"$f":"#REF!+#REF!+#REF!+#REF!+#REF!+#REF!+#REF!","v":{"$error":"#REF!"}},{"$f":"#REF!+#REF!+#REF!+#REF!+#REF!+#REF!+#REF!","v":{"$error":"#REF!"}},{"$f":"#REF!+#REF!+#REF!+#REF!+#REF!+#REF!+#REF!","v":{"$error":"#REF!"}},{"$f":"#REF!+#REF!+#REF!+#REF!+#REF!+#REF!+#REF!","v":{"$error":"#REF!"}}]
[64,"Winn",{"$f":"#REF!+#REF!+#REF!+#REF!+#REF!+#REF!+#REF!","v":{"$error":"#REF!"}},{"$f":"'9_Per Pupil Summary'!O69","v":8985.7489685233486},{"$f":"#REF!+#REF!+#REF!+#REF!+#REF!+#REF!+#REF!","v":{"$error":"#REF!"}},null,{"$f":"#REF!+#REF!+#REF!+#REF!+#REF!+#REF!+#REF!","v":{"$error":"#REF!"}},{"$f":"#REF!+#REF!+#REF!+#REF!+#REF!+#REF!+#REF!","v":{"$error":"#REF!"}},{"$f":"'9_Per Pupil Summary'!I69","v":674.81397538727515},{"$f":"#REF!+#REF!+#REF!+#REF!+#REF!+#REF!+#REF!","v":{"$error":"#REF!"}},{"$f":"#REF!+#REF!+#REF!+#REF!+#REF!+#REF!+#REF!","v":{"$error":"#REF!"}},{"$f":"'9_Per Pupil Summary'!J69","v":184.04017510562053},{"$f":"#REF!+#REF!+#REF!+#REF!+#REF!+#REF!+#REF!","v":{"$error":"#REF!"}},{"$f":"#REF!+#REF!+#REF!+#REF!+#REF!+#REF!+#REF!","v":{"$error":"#REF!"}},{"$f":"'9_Per Pupil Summary'!K69","v":4601.0043776405137},{"$f":"#REF!+#REF!+#REF!+#REF!+#REF!+#REF!+#REF!","v":{"$error":"#REF!"}},{"$f":"#REF!+#REF!+#REF!+#REF!+#REF!+#REF!+#REF!","v":{"$error":"#REF!"}},{"$f":"'9_Per Pupil Summary'!L69","v":1840.4017510562051},{"$f":"#REF!+#REF!+#REF!+#REF!+#REF!+#REF!+#REF!","v":{"$error":"#REF!"}},{"$f":"#REF!+#REF!+#REF!+#REF!+#REF!+#REF!+#REF!","v":{"$error":"#REF!"}},{"$f":"#REF!+#REF!+#REF!+#REF!+#REF!+#REF!+#REF!","v":{"$error":"#REF!"}},{"$f":"#REF!+#REF!+#REF!+#REF!+#REF!+#REF!+#REF!","v":{"$error":"#REF!"}},{"$f":"#REF!+#REF!+#REF!+#REF!+#REF!+#REF!+#REF!","v":{"$error":"#REF!"}},{"$f":"#REF!+#REF!+#REF!+#REF!+#REF!+#REF!+#REF!","v":{"$error":"#REF!"}},{"$f":"#REF!+#REF!+#REF!+#REF!+#REF!+#REF!+#REF!","v":{"$error":"#REF!"}},{"$f":"#REF!+#REF!+#REF!+#REF!+#REF!+#REF!+#REF!","v":{"$error":"#REF!"}},{"$f":"#REF!+#REF!+#REF!+#REF!+#REF!+#REF!+#REF!","v":{"$error":"#REF!"}},{"$f":"#REF!+#REF!+#REF!+#REF!+#REF!+#REF!+#REF!","v":{"$error":"#REF!"}},{"$f":"#REF!+#REF!+#REF!+#REF!+#REF!+#REF!+#REF!","v":{"$error":"#REF!"}},{"$f":"#REF!+#REF!+#REF!+#REF!+#REF!+#REF!+#REF!","v":{"$error":"#REF!"}},{"$f":"#REF!+#REF!+#REF!+#REF!+#REF!+#REF!+#REF!","v":{"$error":"#REF!"}},{"$f":"#REF!+#REF!+#REF!+#REF!+#REF!+#REF!+#REF!","v":{"$error":"#REF!"}}]
[65,"City of Monroe",{"$f":"#REF!+#REF!+#REF!+#REF!+#REF!+#REF!+#REF!","v":{"$error":"#REF!"}},{"$f":"'9_Per Pupil Summary'!O70","v":10109.139995135058},{"$f":"#REF!+#REF!+#REF!+#REF!+#REF!+#REF!+#REF!","v":{"$error":"#REF!"}},null,{"$f":"#REF!+#REF!+#REF!+#REF!+#REF!+#REF!+#REF!","v":{"$error":"#REF!"}},{"$f":"#REF!+#REF!+#REF!+#REF!+#REF!+#REF!+#REF!","v":{"$error":"#REF!"}},{"$f":"'9_Per Pupil Summary'!I70","v":611.75996075753403},{"$f":"#REF!+#REF!+#REF!+#REF!+#REF!+#REF!+#REF!","v":{"$error":"#REF!"}},{"$f":"#REF!+#REF!+#REF!+#REF!+#REF!+#REF!+#REF!","v":{"$error":"#REF!"}},{"$f":"'9_Per Pupil Summary'!J70","v":166.84362566114567},{"$f":"#REF!+#REF!+#REF!+#REF!+#REF!+#REF!+#REF!","v":{"$error":"#REF!"}},{"$f":"#REF!+#REF!+#REF!+#REF!+#REF!+#REF!+#REF!","v":{"$error":"#REF!"}},{"$f":"'9_Per Pupil Summary'!K70","v":4171.0906415286408},{"$f":"#REF!+#REF!+#REF!+#REF!+#REF!+#REF!+#REF!","v":{"$error":"#REF!"}},{"$f":"#REF!+#REF!+#REF!+#REF!+#REF!+#REF!+#REF!","v":{"$error":"#REF!"}},{"$f":"'9_Per Pupil Summary'!L70","v":1668.4362566114569},{"$f":"#REF!+#REF!+#REF!+#REF!+#REF!+#REF!+#REF!","v":{"$error":"#REF!"}},{"$f":"#REF!+#REF!+#REF!+#REF!+#REF!+#REF!+#REF!","v":{"$error":"#REF!"}},{"$f":"#REF!+#REF!+#REF!+#REF!+#REF!+#REF!+#REF!","v":{"$error":"#REF!"}},{"$f":"#REF!+#REF!+#REF!+#REF!+#REF!+#REF!+#REF!","v":{"$error":"#REF!"}},{"$f":"#REF!+#REF!+#REF!+#REF!+#REF!+#REF!+#REF!","v":{"$error":"#REF!"}},{"$f":"#REF!+#REF!+#REF!+#REF!+#REF!+#REF!+#REF!","v":{"$error":"#REF!"}},{"$f":"#REF!+#REF!+#REF!+#REF!+#REF!+#REF!+#REF!","v":{"$error":"#REF!"}},{"$f":"#REF!+#REF!+#REF!+#REF!+#REF!+#REF!+#REF!","v":{"$error":"#REF!"}},{"$f":"#REF!+#REF!+#REF!+#REF!+#REF!+#REF!+#REF!","v":{"$error":"#REF!"}},{"$f":"#REF!+#REF!+#REF!+#REF!+#REF!+#REF!+#REF!","v":{"$error":"#REF!"}},{"$f":"#REF!+#REF!+#REF!+#REF!+#REF!+#REF!+#REF!","v":{"$error":"#REF!"}},{"$f":"#REF!+#REF!+#REF!+#REF!+#REF!+#REF!+#REF!","v":{"$error":"#REF!"}},{"$f":"#REF!+#REF!+#REF!+#REF!+#REF!+#REF!+#REF!","v":{"$error":"#REF!"}},{"$f":"#REF!+#REF!+#REF!+#REF!+#REF!+#REF!+#REF!","v":{"$error":"#REF!"}}]
[66,"City of Bogalusa",{"$f":"#REF!+#REF!+#REF!+#REF!+#REF!+#REF!+#REF!","v":{"$error":"#REF!"}},{"$f":"'9_Per Pupil Summary'!O71","v":9888.4338235916912},{"$f":"#REF!+#REF!+#REF!+#REF!+#REF!+#REF!+#REF!","v":{"$error":"#REF!"}},null,{"$f":"#REF!+#REF!+#REF!+#REF!+#REF!+#REF!+#REF!","v":{"$error":"#REF!"}},{"$f":"#REF!+#REF!+#REF!+#REF!+#REF!+#REF!+#REF!","v":{"$error":"#REF!"}},{"$f":"'9_Per Pupil Summary'!I71","v":633.60456399718976},{"$f":"#REF!+#REF!+#REF!+#REF!+#REF!+#REF!+#REF!","v":{"$error":"#REF!"}},{"$f":"#REF!+#REF!+#REF!+#REF!+#REF!+#REF!+#REF!","v":{"$error":"#REF!"}},{"$f":"'9_Per Pupil Summary'!J71","v":172.80124472650624},{"$f":"#REF!+#REF!+#REF!+#REF!+#REF!+#REF!+#REF!","v":{"$error":"#REF!"}},{"$f":"#REF!+#REF!+#REF!+#REF!+#REF!+#REF!+#REF!","v":{"$error":"#REF!"}},{"$f":"'9_Per Pupil Summary'!K71","v":4320.0311181626566},{"$f":"#REF!+#REF!+#REF!+#REF!+#REF!+#REF!+#REF!","v":{"$error":"#REF!"}},{"$f":"#REF!+#REF!+#REF!+#REF!+#REF!+#REF!+#REF!","v":{"$error":"#REF!"}},{"$f":"'9_Per Pupil Summary'!L71","v":1728.0124472650625},{"$f":"#REF!+#REF!+#REF!+#REF!+#REF!+#REF!+#REF!","v":{"$error":"#REF!"}},{"$f":"#REF!+#REF!+#REF!+#REF!+#REF!+#REF!+#REF!","v":{"$error":"#REF!"}},{"$f":"#REF!+#REF!+#REF!+#REF!+#REF!+#REF!+#REF!","v":{"$error":"#REF!"}},{"$f":"#REF!+#REF!+#REF!+#REF!+#REF!+#REF!+#REF!","v":{"$error":"#REF!"}},{"$f":"#REF!+#REF!+#REF!+#REF!+#REF!+#REF!+#REF!","v":{"$error":"#REF!"}},{"$f":"#REF!+#REF!+#REF!+#REF!+#REF!+#REF!+#REF!","v":{"$error":"#REF!"}},{"$f":"#REF!+#REF!+#REF!+#REF!+#REF!+#REF!+#REF!","v":{"$error":"#REF!"}},{"$f":"#REF!+#REF!+#REF!+#REF!+#REF!+#REF!+#REF!","v":{"$error":"#REF!"}},{"$f":"#REF!+#REF!+#REF!+#REF!+#REF!+#REF!+#REF!","v":{"$error":"#REF!"}},{"$f":"#REF!+#REF!+#REF!+#REF!+#REF!+#REF!+#REF!","v":{"$error":"#REF!"}},{"$f":"#REF!+#REF!+#REF!+#REF!+#REF!+#REF!+#REF!","v":{"$error":"#REF!"}},{"$f":"#REF!+#REF!+#REF!+#REF!+#REF!+#REF!+#REF!","v":{"$error":"#REF!"}},{"$f":"#REF!+#REF!+#REF!+#REF!+#REF!+#REF!+#REF!","v":{"$error":"#REF!"}},{"$f":"#REF!+#REF!+#REF!+#REF!+#REF!+#REF!+#REF!","v":{"$error":"#REF!"}}]
[67,"Zachary Community",{"$f":"#REF!+#REF!+#REF!+#REF!+#REF!+#REF!+#REF!","v":{"$error":"#REF!"}},{"$f":"'9_Per Pupil Summary'!O72","v":10533.784497462006},{"$f":"#REF!+#REF!+#REF!+#REF!+#REF!+#REF!+#REF!","v":{"$error":"#REF!"}},null,{"$f":"#REF!+#REF!+#REF!+#REF!+#REF!+#REF!+#REF!","v":{"$error":"#REF!"}},{"$f":"#REF!+#REF!+#REF!+#REF!+#REF!+#REF!+#REF!","v":{"$error":"#REF!"}},{"$f":"'9_Per Pupil Summary'!I72","v":684.94177804211301},{"$f":"#REF!+#REF!+#REF!+#REF!+#REF!+#REF!+#REF!","v":{"$error":"#REF!"}},{"$f":"#REF!+#REF!+#REF!+#REF!+#REF!+#REF!+#REF!","v":{"$error":"#REF!"}},{"$f":"'9_Per Pupil Summary'!J72","v":186.80230310239443},{"$f":"#REF!+#REF!+#REF!+#REF!+#REF!+#REF!+#REF!","v":{"$error":"#REF!"}},{"$f":"#REF!+#REF!+#REF!+#REF!+#REF!+#REF!+#REF!","v":{"$error":"#REF!"}},{"$f":"'9_Per Pupil Summary'!K72","v":4670.0575775598609},{"$f":"#REF!+#REF!+#REF!+#REF!+#REF!+#REF!+#REF!","v":{"$error":"#REF!"}},{"$f":"#REF!+#REF!+#REF!+#REF!+#REF!+#REF!+#REF!","v":{"$error":"#REF!"}},{"$f":"'9_Per Pupil Summary'!L72","v":1868.0230310239444},{"$f":"#REF!+#REF!+#REF!+#REF!+#REF!+#REF!+#REF!","v":{"$error":"#REF!"}},{"$f":"#REF!+#REF!+#REF!+#REF!+#REF!+#REF!+#REF!","v":{"$error":"#REF!"}},{"$f":"#REF!+#REF!+#REF!+#REF!+#REF!+#REF!+#REF!","v":{"$error":"#REF!"}},{"$f":"#REF!+#REF!+#REF!+#REF!+#REF!+#REF!+#REF!","v":{"$error":"#REF!"}},{"$f":"#REF!+#REF!+#REF!+#REF!+#REF!+#REF!+#REF!","v":{"$error":"#REF!"}},{"$f":"#REF!+#REF!+#REF!+#REF!+#REF!+#REF!+#REF!","v":{"$error":"#REF!"}},{"$f":"#REF!+#REF!+#REF!+#REF!+#REF!+#REF!+#REF!","v":{"$error":"#REF!"}},{"$f":"#REF!+#REF!+#REF!+#REF!+#REF!+#REF!+#REF!","v":{"$error":"#REF!"}},{"$f":"#REF!+#REF!+#REF!+#REF!+#REF!+#REF!+#REF!","v":{"$error":"#REF!"}},{"$f":"#REF!+#REF!+#REF!+#REF!+#REF!+#REF!+#REF!","v":{"$error":"#REF!"}},{"$f":"#REF!+#REF!+#REF!+#REF!+#REF!+#REF!+#REF!","v":{"$error":"#REF!"}},{"$f":"#REF!+#REF!+#REF!+#REF!+#REF!+#REF!+#REF!","v":{"$error":"#REF!"}},{"$f":"#REF!+#REF!+#REF!+#REF!+#REF!+#REF!+#REF!","v":{"$error":"#REF!"}},{"$f":"#REF!+#REF!+#REF!+#REF!+#REF!+#REF!+#REF!","v":{"$error":"#REF!"}}]
[68,"City of Baker",{"$f":"#REF!+#REF!+#REF!+#REF!+#REF!+#REF!+#REF!","v":{"$error":"#REF!"}},{"$f":"'9_Per Pupil Summary'!O73","v":9352.0057163293459},{"$f":"#REF!+#REF!+#REF!+#REF!+#REF!+#REF!+#REF!","v":{"$error":"#REF!"}},null,{"$f":"#REF!+#REF!+#REF!+#REF!+#REF!+#REF!+#REF!","v":{"$error":"#REF!"}},{"$f":"#REF!+#REF!+#REF!+#REF!+#REF!+#REF!+#REF!","v":{"$error":"#REF!"}},{"$f":"'9_Per Pupil Summary'!I73","v":682.57049334375131},{"$f":"#REF!+#REF!+#REF!+#REF!+#REF!+#REF!+#REF!","v":{"$error":"#REF!"}},{"$f":"#REF!+#REF!+#REF!+#REF!+#REF!+#REF!+#REF!","v":{"$error":"#REF!"}},{"$f":"'9_Per Pupil Summary'!J73","v":186.15558909375036},{"$f":"#REF!+#REF!+#REF!+#REF!+#REF!+#REF!+#REF!","v":{"$error":"#REF!"}},{"$f":"#REF!+#REF!+#REF!+#REF!+#REF!+#REF!+#REF!","v":{"$error":"#REF!"}},{"$f":"'9_Per Pupil Summary'!K73","v":4653.8897273437588},{"$f":"#REF!+#REF!+#REF!+#REF!+#REF!+#REF!+#REF!","v":{"$error":"#REF!"}},{"$f":"#REF!+#REF!+#REF!+#REF!+#REF!+#REF!+#REF!","v":{"$error":"#REF!"}},{"$f":"'9_Per Pupil Summary'!L73","v":1861.5558909375031},{"$f":"#REF!+#REF!+#REF!+#REF!+#REF!+#REF!+#REF!","v":{"$error":"#REF!"}},{"$f":"#REF!+#REF!+#REF!+#REF!+#REF!+#REF!+#REF!","v":{"$error":"#REF!"}},{"$f":"#REF!+#REF!+#REF!+#REF!+#REF!+#REF!+#REF!","v":{"$error":"#REF!"}},{"$f":"#REF!+#REF!+#REF!+#REF!+#REF!+#REF!+#REF!","v":{"$error":"#REF!"}},{"$f":"#REF!+#REF!+#REF!+#REF!+#REF!+#REF!+#REF!","v":{"$error":"#REF!"}},{"$f":"#REF!+#REF!+#REF!+#REF!+#REF!+#REF!+#REF!","v":{"$error":"#REF!"}},{"$f":"#REF!+#REF!+#REF!+#REF!+#REF!+#REF!+#REF!","v":{"$error":"#REF!"}},{"$f":"#REF!+#REF!+#REF!+#REF!+#REF!+#REF!+#REF!","v":{"$error":"#REF!"}},{"$f":"#REF!+#REF!+#REF!+#REF!+#REF!+#REF!+#REF!","v":{"$error":"#REF!"}},{"$f":"#REF!+#REF!+#REF!+#REF!+#REF!+#REF!+#REF!","v":{"$error":"#REF!"}},{"$f":"#REF!+#REF!+#REF!+#REF!+#REF!+#REF!+#REF!","v":{"$error":"#REF!"}},{"$f":"#REF!+#REF!+#REF!+#REF!+#REF!+#REF!+#REF!","v":{"$error":"#REF!"}},{"$f":"#REF!+#REF!+#REF!+#REF!+#REF!+#REF!+#REF!","v":{"$error":"#REF!"}},{"$f":"#REF!+#REF!+#REF!+#REF!+#REF!+#REF!+#REF!","v":{"$error":"#REF!"}}]
[69,"Central Community",{"$f":"#REF!+#REF!+#REF!+#REF!+#REF!+#REF!+#REF!","v":{"$error":"#REF!"}},{"$f":"'9_Per Pupil Summary'!O74","v":10396.016898486972},{"$f":"#REF!+#REF!+#REF!+#REF!+#REF!+#REF!+#REF!","v":{"$error":"#REF!"}},null,{"$f":"#REF!+#REF!+#REF!+#REF!+#REF!+#REF!+#REF!","v":{"$error":"#REF!"}},{"$f":"#REF!+#REF!+#REF!+#REF!+#REF!+#REF!+#REF!","v":{"$error":"#REF!"}},{"$f":"'9_Per Pupil Summary'!I74","v":710.73288468795829},{"$f":"#REF!+#REF!+#REF!+#REF!+#REF!+#REF!+#REF!","v":{"$error":"#REF!"}},{"$f":"#REF!+#REF!+#REF!+#REF!+#REF!+#REF!+#REF!","v":{"$error":"#REF!"}},{"$f":"'9_Per Pupil Summary'!J74","v":193.83624127853409},{"$f":"#REF!+#REF!+#REF!+#REF!+#REF!+#REF!+#REF!","v":{"$error":"#REF!"}},{"$f":"#REF!+#REF!+#REF!+#REF!+#REF!+#REF!+#REF!","v":{"$error":"#REF!"}},{"$f":"'9_Per Pupil Summary'!K74","v":4845.9060319633527},{"$f":"#REF!+#REF!+#REF!+#REF!+#REF!+#REF!+#REF!","v":{"$error":"#REF!"}},{"$f":"#REF!+#REF!+#REF!+#REF!+#REF!+#REF!+#REF!","v":{"$error":"#REF!"}},{"$f":"'9_Per Pupil Summary'!L74","v":1938.3624127853411},{"$f":"#REF!+#REF!+#REF!+#REF!+#REF!+#REF!+#REF!","v":{"$error":"#REF!"}},{"$f":"#REF!+#REF!+#REF!+#REF!+#REF!+#REF!+#REF!","v":{"$error":"#REF!"}},{"$f":"#REF!+#REF!+#REF!+#REF!+#REF!+#REF!+#REF!","v":{"$error":"#REF!"}},{"$f":"#REF!+#REF!+#REF!+#REF!+#REF!+#REF!+#REF!","v":{"$error":"#REF!"}},{"$f":"#REF!+#REF!+#REF!+#REF!+#REF!+#REF!+#REF!","v":{"$error":"#REF!"}},{"$f":"#REF!+#REF!+#REF!+#REF!+#REF!+#REF!+#REF!","v":{"$error":"#REF!"}},{"$f":"#REF!+#REF!+#REF!+#REF!+#REF!+#REF!+#REF!","v":{"$error":"#REF!"}},{"$f":"#REF!+#REF!+#REF!+#REF!+#REF!+#REF!+#REF!","v":{"$error":"#REF!"}},{"$f":"#REF!+#REF!+#REF!+#REF!+#REF!+#REF!+#REF!","v":{"$error":"#REF!"}},{"$f":"#REF!+#REF!+#REF!+#REF!+#REF!+#REF!+#REF!","v":{"$error":"#REF!"}},{"$f":"#REF!+#REF!+#REF!+#REF!+#REF!+#REF!+#REF!","v":{"$error":"#REF!"}},{"$f":"#REF!+#REF!+#REF!+#REF!+#REF!+#REF!+#REF!","v":{"$error":"#REF!"}},{"$f":"#REF!+#REF!+#REF!+#REF!+#REF!+#REF!+#REF!","v":{"$error":"#REF!"}},{"$f":"#REF!+#REF!+#REF!+#REF!+#REF!+#REF!+#REF!","v":{"$error":"#REF!"}}]
["State Subtotal",null,{"$f":"SUM(C7:C75)","v":{"$error":"#REF!"}},null,{"$f":"SUM(E7:E75)","v":{"$error":"#REF!"}},null,{"$f":"SUM(G7:G75)","v":{"$error":"#REF!"}},{"$f":"SUM(H7:H75)","v":{"$error":"#REF!"}},null,{"$f":"SUM(J7:J75)","v":{"$error":"#REF!"}},{"$f":"SUM(K7:K75)","v":{"$error":"#REF!"}},null,{"$f":"SUM(M7:M75)","v":{"$error":"#REF!"}},{"$f":"SUM(N7:N75)","v":{"$error":"#REF!"}},null,{"$f":"SUM(P7:P75)","v":{"$error":"#REF!"}},{"$f":"SUM(Q7:Q75)","v":{"$error":"#REF!"}},null,{"$f":"SUM(S7:S75)","v":{"$error":"#REF!"}},{"$f":"SUM(T7:T75)","v":{"$error":"#REF!"}},{"$error":"#REF!"},{"$error":"#REF!"},{"$error":"#REF!"},{"$error":"#REF!"},{"$error":"#REF!"},{"$error":"#REF!"},{"$error":"#REF!"},{"$error":"#REF!"},{"$error":"#REF!"},{"$error":"#REF!"},{"$error":"#REF!"},{"$error":"#REF!"}]
["Level 4 Allocations"]
["International Assoc/Escadrille Salaries",null,null,null,null,null,null,null,null,null,null,null,null,null,null,null,null,null,null,null,null,null,null,null,null,null,null,{"$f":"#REF!+#REF!+#REF!+#REF!+#REF!+#REF!+#REF!","v":{"$error":"#REF!"}},{"$f":"#REF!+#REF!+#REF!+#REF!+#REF!+#REF!+#REF!","v":{"$error":"#REF!"}},{"$f":"#REF!+#REF!+#REF!+#REF!+#REF!+#REF!+#REF!","v":{"$error":"#REF!"}},{"$f":"#REF!+#REF!+#REF!+#REF!+#REF!+#REF!+#REF!","v":{"$error":"#REF!"}},{"$f":"#REF!+#REF!+#REF!+#REF!+#REF!+#REF!+#REF!","v":{"$error":"#REF!"}}]
["International Assoc/Escadrille Stipends",null,null,null,null,null,null,null,null,null,null,null,null,null,null,null,null,null,null,null,null,null,null,null,null,null,null,{"$f":"#REF!+#REF!+#REF!+#REF!+#REF!+#REF!+#REF!","v":{"$error":"#REF!"}},{"$f":"#REF!+#REF!+#REF!+#REF!+#REF!+#REF!+#REF!","v":{"$error":"#REF!"}},{"$f":"#REF!+#REF!+#REF!+#REF!+#REF!+#REF!+#REF!","v":{"$error":"#REF!"}},{"$f":"#REF!+#REF!+#REF!+#REF!+#REF!+#REF!+#REF!","v":{"$error":"#REF!"}},{"$f":"#REF!+#REF!+#REF!+#REF!+#REF!+#REF!+#REF!","v":{"$error":"#REF!"}}]
["Career Development Fund",null,null,null,null,null,null,null,null,null,null,null,null,null,null,null,null,null,null,null,null,null,null,null,null,null,null,{"$f":"#REF!+#REF!+#REF!+#REF!+#REF!+#REF!+#REF!","v":{"$error":"#REF!"}},{"$f":"#REF!+#REF!+#REF!+#REF!+#REF!+#REF!+#REF!","v":{"$error":"#REF!"}},{"$f":"#REF!+#REF!+#REF!+#REF!+#REF!+#REF!+#REF!","v":{"$error":"#REF!"}},{"$f":"#REF!+#REF!+#REF!+#REF!+#REF!+#REF!+#REF!","v":{"$error":"#REF!"}},{"$f":"#REF!+#REF!+#REF!+#REF!+#REF!+#REF!+#REF!","v":{"$error":"#REF!"}}]
["High Cost Services Allocation",null,null,null,null,null,null,null,null,null,null,null,null,null,null,null,null,null,null,null,null,null,null,null,null,null,null,{"$f":"#REF!+#REF!+#REF!+#REF!+#REF!+#REF!+#REF!","v":{"$error":"#REF!"}},{"$f":"#REF!+#REF!+#REF!+#REF!+#REF!+#REF!+#REF!","v":{"$error":"#REF!"}},{"$f":"#REF!+#REF!+#REF!+#REF!+#REF!+#REF!+#REF!","v":{"$error":"#REF!"}},{"$f":"#REF!+#REF!+#REF!+#REF!+#REF!+#REF!+#REF!","v":{"$error":"#REF!"}},{"$f":"#REF!+#REF!+#REF!+#REF!+#REF!+#REF!+#REF!","v":{"$error":"#REF!"}}]
["Supplemental Course Allocation",null,null,null,null,null,null,null,null,null,null,null,null,null,null,null,null,null,null,null,null,null,null,null,null,null,null,{"$f":"#REF!+#REF!+#REF!+#REF!+#REF!+#REF!+#REF!","v":{"$error":"#REF!"}},{"$f":"#REF!+#REF!+#REF!+#REF!+#REF!+#REF!+#REF!","v":{"$error":"#REF!"}},{"$f":"#REF!+#REF!+#REF!+#REF!+#REF!+#REF!+#REF!","v":{"$error":"#REF!"}},{"$f":"#REF!+#REF!+#REF!+#REF!+#REF!+#REF!+#REF!","v":{"$error":"#REF!"}},{"$f":"#REF!+#REF!+#REF!+#REF!+#REF!+#REF!+#REF!","v":{"$error":"#REF!"}}]
["FY2019-20 Pay Raise",null,null,null,null,null,null,null,null,null,null,null,null,null,null,null,null,null,null,null,null,null,null,null,null,null,null,{"$f":"#REF!+#REF!+#REF!+#REF!+#REF!+#REF!+#REF!","v":{"$error":"#REF!"}},{"$f":"#REF!+#REF!+#REF!+#REF!+#REF!+#REF!+#REF!","v":{"$error":"#REF!"}},{"$f":"#REF!+#REF!+#REF!+#REF!+#REF!+#REF!+#REF!","v":{"$error":"#REF!"}},{"$f":"#REF!+#REF!+#REF!+#REF!+#REF!+#REF!+#REF!","v":{"$error":"#REF!"}},{"$f":"#REF!+#REF!+#REF!+#REF!+#REF!+#REF!+#REF!","v":{"$error":"#REF!"}}]
["FY2021-22 Pay Raise",null,null,null,null,null,null,null,null,null,null,null,null,null,null,null,null,null,null,null,null,null,null,null,null,null,null,{"$f":"#REF!+#REF!+#REF!+#REF!+#REF!+#REF!+#REF!","v":{"$error":"#REF!"}},{"$f":"#REF!+#REF!+#REF!+#REF!+#REF!+#REF!+#REF!","v":{"$error":"#REF!"}},{"$f":"#REF!+#REF!+#REF!+#REF!+#REF!+#REF!+#REF!","v":{"$error":"#REF!"}},{"$f":"#REF!+#REF!+#REF!+#REF!+#REF!+#REF!+#REF!","v":{"$error":"#REF!"}},{"$f":"#REF!+#REF!+#REF!+#REF!+#REF!+#REF!+#REF!","v":{"$error":"#REF!"}}]
["State Grand Total With Level 4",null,{"$f":"SUM(C76:C84)","v":{"$error":"#REF!"}},null,{"$f":"SUM(E76:E84)","v":{"$error":"#REF!"}},null,{"$f":"SUM(G76:G84)","v":{"$error":"#REF!"}},{"$f":"SUM(H76:H84)","v":{"$error":"#REF!"}},null,{"$f":"SUM(J76:J84)","v":{"$error":"#REF!"}},{"$f":"SUM(K76:K84)","v":{"$error":"#REF!"}},null,{"$f":"SUM(M76:M84)","v":{"$error":"#REF!"}},{"$f":"SUM(N76:N84)","v":{"$error":"#REF!"}},null,{"$f":"SUM(P76:P84)","v":{"$error":"#REF!"}},{"$f":"SUM(Q76:Q84)","v":{"$error":"#REF!"}},null,{"$f":"SUM(S76:S84)","v":{"$error":"#REF!"}},{"$error":"#REF!"},{"$error":"#REF!"},{"$error":"#REF!"},{"$error":"#REF!"},{"$error":"#REF!"},{"$error":"#REF!"},{"$error":"#REF!"},{"$error":"#REF!"},{"$error":"#REF!"},{"$error":"#REF!"},{"$error":"#REF!"},{"$error":"#REF!"},{"$error":"#REF!"}]
[]
[null,"Orleans (In a District Building)*",{"$f":"#REF!+#REF!+#REF!+#REF!+#REF!+#REF!+#REF!","v":{"$error":"#REF!"}},{"$f":"'9_Per Pupil Summary'!F41+'9_Per Pupil Summary'!M41","v":10188.630077031417},{"$f":"#REF!+#REF!+#REF!+#REF!+#REF!+#REF!+#REF!","v":{"$error":"#REF!"}}]
[null,"Orleans (Not In a District Building)*",{"$f":"#REF!+#REF!+#REF!+#REF!+#REF!+#REF!+#REF!","v":{"$error":"#REF!"}},{"$f":"D42","v":11033.630077031417},{"$f":"#REF!+#REF!+#REF!+#REF!+#REF!+#REF!+#REF!","v":{"$error":"#REF!"}}]
[null,"Total"]
["N/A","N/A",{"$f":"'5A2_Legacy Type 2'!C14","v":3934},{"$f":"'5A2_Legacy Type 2'!D14","v":0},{"$f":"'5A2_Legacy Type 2'!E14","v":46949007.736850299},{"$f":"'5A2_Legacy Type 2'!F14","v":0},{"$f":"'5A2_Legacy Type 2'!G14","v":2568271.1100000003},{"$f":"'5A2_Legacy Type 2'!H14","v":2513},{"$f":"'5A2_Legacy Type 2'!I14","v":0},{"$f":"'5A2_Legacy Type 2'!J14","v":1422876.979887753},{"$f":"'5A2_Legacy Type 2'!K14","v":788},{"$f":"'5A2_Legacy Type 2'!L14","v":0},{"$f":"'5A2_Legacy Type 2'!M14","v":129693.85471792694},{"$f":"'5A2_Legacy Type 2'!N14","v":428},{"$f":"'5A2_Legacy Type 2'!O14","v":0},{"$f":"'5A2_Legacy Type 2'!P14","v":1525108.8966504291},{"$f":"'5A2_Legacy Type 2'!Q14","v":111},{"$f":"'5A2_Legacy Type 2'!R14","v":0},{"$f":"'5A2_Legacy Type 2'!S14","v":151745.47835854071},{"$f":"'5A2_Legacy Type 2'!T14","v":52746703},{"$f":"'5A2_Legacy Type 2'!U14","v":0},{"$f":"'5A2_Legacy Type 2'!V14","v":0},{"$f":"'5A2_Legacy Type 2'!W14","v":0},{"$f":"'5A2_Legacy Type 2'!X14","v":52746703},{"$f":"'5A2_Legacy Type 2'!Y14","v":-131867},{"$f":"'5A2_Legacy Type 2'!Z14","v":52614836},{"$f":"'5A2_Legacy Type 2'!AA14","v":0},{"$f":"'5A2_Legacy Type 2'!AC14","v":52614836},{"$f":"'5A2_Legacy Type 2'!AD14","v":0},{"$f":"'5A2_Legacy Type 2'!AE14","v":52614836},{"$f":"'5A2_Legacy Type 2'!AF14","v":4384571},{"$f":"'5A2_Legacy Type 2'!AH14","v":52614836}]
[null,null,{"$f":"C85-C90","v":{"$error":"#REF!"}},0,{"$error":"#REF!"},0,{"$error":"#REF!"},{"$error":"#REF!"},0,{"$error":"#REF!"},{"$error":"#REF!"},0,{"$error":"#REF!"},{"$error":"#REF!"},0,{"$error":"#REF!"},{"$error":"#REF!"},0,{"$error":"#REF!"},{"$error":"#REF!"},{"$error":"#REF!"},{"$error":"#REF!"},{"$error":"#REF!"},{"$error":"#REF!"},{"$error":"#REF!"},{"$error":"#REF!"},{"$error":"#REF!"},{"$error":"#REF!"},{"$error":"#REF!"},{"$error":"#REF!"},{"$error":"#REF!"},{"$f":"AF85-AF90","v":{"$error":"#REF!"}}]

{"sheet":"New Type 2 Res Summary","index":1,"n_rows":91,"n_cols":51,"rows_kept":91,"cut":false,"hidden":true,"merged":[[89,0,89,1],[90,0,90,1],[1,49,2,49],[1,50,2,50],[0,48,0,50],[1,48,2,48],[0,46,2,46],[1,44,2,44],[1,45,2,45],[1,40,2,40],[1,41,2,41],[1,43,2,43],[1,23,2,23],[1,24,2,24],[1,25,2,25],[1,31,2,31],[1,22,2,22],[0,47,2,47],[1,2,2,2],[1,3,1,4],[1,5,1,7],[1,8,1,10],[1,11,1,13],[1,14,1,16],[1,17,2,17],[1,19,1,21],[0,2,0,10],[0,11,0,21],[0,22,0,30],[0,31,0,37],[0,38,0,45],[1,42,2,42],[1,32,2,32],[1,33,1,37],[1,38,2,38],[1,39,2,39],[1,26,2,26],[1,27,2,27],[1,28,2,28],[1,29,2,29],[1,30,2,30],[84,0,84,1],[1,18,2,18],[77,0,77,1],[78,0,78,1],[79,0,79,1],[80,0,80,1],[81,0,81,1],[76,0,76,1],[0,0,2,1],[75,0,75,1],[82,0,82,1],[83,0,83,1]]}
["Table 5C1\nNew Type 2\nCharter Schools",null,"MFP State Cost Allocation",null,null,null,null,null,null,null,null,"MFP State Cost Allocation",null,null,null,null,null,null,null,null,null,null,"MFP State Cost Allocation",null,null,null,null,null,null,null,null,"Local Revenue Representation",null,null,null,null,null,null,"Local Revenue Representation",null,null,null,null,null,null,null,"Total \nState Cost Allocation\nand \nLocal\nRevenue\nRepresentation\nPayment\n","State Cost Allocation\nand \nLocal\nRevenue\nRepresentation\nMonthly\nPayment\n","Internal Only"]
[null,null,"Feb. 1, 2021\nMFP Funded\nMembership\n\n(Per SIS)","Unweighted",null,"Economically Disadvantaged (ED)",null,null,"Career & Technical Units (CTE)",null,null,"Students with Disabilities (SWD)",null,null,"Gifted & Talented (GT)",null,null,"Total MFP\nState Cost\nAllocation\n\n(Levels 1,\n2, & 3)","Return to\nState\n\n(10%)","Mid-Year Adjustment for Students",null,null,"Total MFP\nState Cost\nAllocation\n+/- Mid-Year\nAdjustments","State\nAdmin Fee\nto the\nDept. of\nEducation\n\n0.25%","Total MFP\nState Cost\nAllocation\n+/- Mid-Year\nAdjustments\n- Admin Fee","Prior Years\nMFP Audit\nAdjustments\n\n(Includes\nFY2019-20\nand\nFY2020-21)","Total MFP State\nCost Allocation\n+/- Mid-Year Adjs\n- Admin Fee\n+/- Audit Adjs\n+ Monthly Level 4","Year To\nDate State\nPayments","Balance\nDue","State\nCost\nAllocation\nMonthly\nPayment\n","Total MFP State\nCost Allocation\n+/- Mid-Year Adjs\n- Admin Fee\n+/- Audit Adjs\n+ Total Level 4","Initial\nFY2021-22\nLocal Revenue\nRepresentation\nPer Pupil\n\n(per charter law)","Local Revenue\nRepresentation","Mid-Year Adjustment for Students",null,null,null,null,"Total\nLocal Revenue\nRepresentation\n+/- Mid-Year\nAdjustments","Admin\nFee to the\nDept. of\nEducation\n\n0.25%","Total\nLocal Revenue\nRepresentation\n+/- Mid-Year\nAdjustments\n- Admin Fee","Prior Years\nMFP Audit\nAdjustments\n\n(Includes\nFY2019-20\nand\nFY2020-21)","Total\nLocal Revenue\nRepresentation\n+/- Mid-Year\nAdjustments\n- Admin Fee\n+/- Audit Adj.","Year To\nDate\nPayments","Balance\nDue","Local Revenue\nRepresentation\nMonthly\nPayment\n",null,null,"Local\nAdmin Fee\nto the \nDept. of\nEducation\n\nCurrent","Local\nAdmin Fee\nto the \nDept. of\nEducation\n\nYTD Pmt","Balance Due"]
[null,null,null,"Unweighted\nPer Pupil\nWith\nContinuation\nof Prior Year\nPay Raises","State Cost\nAllocation","Student Count\n\n(Per SIS\n2-1-21)","Per Pupil","State Cost\nAllocation","Student Count\n\n(Per SIS\n10-1-20)","Per Pupil","State Cost\nAllocation","Student Count\n\n(Per SER\n2-1-21)","Per\nPupil","State Cost\nAllocation","Student Count\n\n(Per SER\n2-1-21)","Per\nPupil","State Cost\nAllocation",null,null,"October\n2021\nMid-Year\nAdjustment\nfor Students","February\n2022\nMid-Year\nAdjustment\nfor Students","Total\nMid-Year\nAdjustment\nfor Students",null,null,null,null,null,null,null,null,null,null,null,"Change in\nFunded\nStudent\nCount Per\nOct. 2021\nMid-Year Adj.","October\n2021\nMid-Year\nAdjustment","Change in\nFunded\nStudent\nCount Per\nFeb. 2022\nMid-Year\nAdjustment","February\n2022\nMid-Year\nAdjustment\n\n(Half the\nPer Pupil)","Total\nMid-Year\nAdjustment\nfor Students"]
[null,null,1,{"$f":"C4+1","v":2},3,{"$f":"E4+1","v":4},5,6,7,8,9,10,11,12,13,14,15,16,"(16a)",{"$f":"R4+1","v":17},18,19,20,21,22,23,{"$f":"Z4+1","v":24},{"$f":"AA4+1","v":25},26,27,28,29,30,31,32,33,34,35,36,37,38,39,40,41,42,43,44,45,{"$f":"AV4+1","v":46},{"$f":"AW4+1","v":47},{"$f":"AX4+1","v":48}]
[null,null,"T8","T9, C6","C1 x C2","Link to ED Tab in Student Count File","T9, C7","C4 x C5","Link to CTE Tab in Student Count File","T9, C8","C7 x C8","Link to SWD Tab in Student Count File","T9, C9","C10 x C11","Link to GT Tab in Student Count File","T9, C10","C13 x C14","C3 + C6 + C9\n+ C12 + C15",null,"Link to October Tab in Mid-Year File","Link to February Tab in Mid-Year File","C17 + C18","C16 + C19","C20 x -.25%","C20 + C21","Link to Audit File","C22 + C23\nT4, C2; T4, C14","Prior Month File: C25 + C27","C24 - C25","C26 ÷ Months Remaining","C24\nT4, C7; T4, C9; T4, C10","T9, C12","C1 x C29","Link to October Tab in Mid-Year File","C29 x C31","Link to February Tab in Mid-Year File","C29 x C33 x .5","C32 + C34","C30 + C35","C36 x -.25%","C36 + C37","Link to Audit File","C38 + C39","Prior Month File:\nC41 + C43","C40 - C41","C42 ÷ Remaining Months","C24 + C40","C27 + C43","C37","YTD Payment\nFrom App Ctrl","C46 - C47"]
[null,null,"Link in File","Link in File","Formula","Link to \"Counts in Budget Letter\"","Link in File","Formula","Link to \"Counts in Budget Letter\"","Link in File","Formula","Link to \"Counts in Budget Letter\"","Link in File","Formula","Link to \"Counts in Budget Letter\"","Link in File","Formula","Formula",null,"Link to Mid-Year File","Link to Mid-Year File","Formula","Formula","Formula","Formula","Link to Audit File","T4, C2; T4, C14","Link to Prior Month,","Formula","Formula","T4, C7; T4, C9; T4, C10","Link in File","Formula","Link to Mid-Year File","Formula","Link to Mid-Year File","Formula","Formula","Formula","Formula","Formula","Link to Audit File","Formula","Link to Prior Month,","Formula","Formula","Formula","Formula","Value","Formula","Formula"]
[1,"Acadia",{"$f":"#REF!+#REF!+#REF!+#REF!+#REF!+#REF!+#REF!+#REF!+#REF!+#REF!+#REF!+#REF!+#REF!+#REF!+#REF!+#REF!+#REF!+#REF!+#REF!+#REF!+#REF!+#REF!+#REF!+#REF!+#REF!+#REF!+#REF!+#REF!+#REF!+#REF!+#REF!+#REF!+#REF!","v":{"$error":"#REF!"}},{"$f":"'9_Per Pupil Summary'!H6","v":5146.2707142840827},{"$f":"#REF!+#REF!+#REF!+#REF!+#REF!+#REF!+#REF!+#REF!+#REF!+#REF!+#REF!+#REF!+#REF!+#REF!+#REF!+#REF!+#REF!+#REF!+#REF!+#REF!+#REF!+#REF!+#REF!+#REF!+#REF!+#REF!+#REF!+#REF!+#REF!+#REF!+#REF!+#REF!+#REF!","v":{"$error":"#REF!"}},{"$f":"#REF!+#REF!+#REF!+#REF!+#REF!+#REF!+#REF!+#REF!+#REF!+#REF!+#REF!+#REF!+#REF!+#REF!+#REF!+#REF!+#REF!+#REF!+#REF!+#REF!+#REF!+#REF!+#REF!+#REF!+#REF!+#REF!+#REF!+#REF!+#REF!+#REF!+#REF!+#REF!+#REF!","v":{"$error":"#REF!"}},{"$f":"'9_Per Pupil Summary'!I6","v":674.60313599514188},{"$f":"#REF!+#REF!+#REF!+#REF!+#REF!+#REF!+#REF!+#REF!+#REF!+#REF!+#REF!+#REF!+#REF!+#REF!+#REF!+#REF!+#REF!+#REF!+#REF!+#REF!+#REF!+#REF!+#REF!+#REF!+#REF!+#REF!+#REF!+#REF!+#REF!+#REF!+#REF!+#REF!+#REF!","v":{"$error":"#REF!"}},{"$f":"#REF!+#REF!+#REF!+#REF!+#REF!+#REF!+#REF!+#REF!+#REF!+#REF!+#REF!+#REF!+#REF!+#REF!+#REF!+#REF!+#REF!+#REF!+#REF!+#REF!+#REF!+#REF!+#REF!+#REF!+#REF!+#REF!+#REF!+#REF!+#REF!+#REF!+#REF!+#REF!+#REF!","v":{"$error":"#REF!"}},{"$f":"'9_Per Pupil Summary'!J6","v":183.98267345322051},{"$f":"#REF!+#REF!+#REF!+#REF!+#REF!+#REF!+#REF!+#REF!+#REF!+#REF!+#REF!+#REF!+#REF!+#REF!+#REF!+#REF!+#REF!+#REF!+#REF!+#REF!+#REF!+#REF!+#REF!+#REF!+#REF!+#REF!+#REF!+#REF!+#REF!+#REF!+#REF!+#REF!+#REF!","v":{"$error":"#REF!"}},{"$f":"#REF!+#REF!+#REF!+#REF!+#REF!+#REF!+#REF!+#REF!+#REF!+#REF!+#REF!+#REF!+#REF!+#REF!+#REF!+#REF!+#REF!+#REF!+#REF!+#REF!+#REF!+#REF!+#REF!+#REF!+#REF!+#REF!+#REF!+#REF!+#REF!+#REF!+#REF!+#REF!+#REF!","v":{"$error":"#REF!"}},{"$f":"'9_Per Pupil Summary'!K6","v":4599.5668363305131},{"$f":"#REF!+#REF!+#REF!+#REF!+#REF!+#REF!+#REF!+#REF!+#REF!+#REF!+#REF!+#REF!+#REF!+#REF!+#REF!+#REF!+#REF!+#REF!+#REF!+#REF!+#REF!+#REF!+#REF!+#REF!+#REF!+#REF!+#REF!+#REF!+#REF!+#REF!+#REF!+#REF!+#REF!","v":{"$error":"#REF!"}},{"$f":"#REF!+#REF!+#REF!+#REF!+#REF!+#REF!+#REF!+#REF!+#REF!+#REF!+#REF!+#REF!+#REF!+#REF!+#REF!+#REF!+#REF!+#REF!+#REF!+#REF!+#REF!+#REF!+#REF!+#REF!+#REF!+#REF!+#REF!+#REF!+#REF!+#REF!+#REF!+#REF!+#REF!","v":{"$error":"#REF!"}},{"$f":"'9_Per Pupil Summary'!L6","v":1839.8267345322051},{"$f":"#REF!+#REF!+#REF!+#REF!+#REF!+#REF!+#REF!+#REF!+#REF!+#REF!+#REF!+#REF!+#REF!+#REF!+#REF!+#REF!+#REF!+#REF!+#REF!+#REF!+#REF!+#REF!+#REF!+#REF!+#REF!+#REF!+#REF!+#REF!+#REF!+#REF!+#REF!+#REF!+#REF!","v":{"$error":"#REF!"}},{"$f":"#REF!+#REF!+#REF!+#REF!+#REF!+#REF!+#REF!+#REF!+#REF!+#REF!+#REF!+#REF!+#REF!+#REF!+#REF!+#REF!+#REF!+#REF!+#REF!+#REF!+#REF!+#REF!+#REF!+#REF!+#REF!+#REF!+#REF!+#REF!+#REF!+#REF!+#REF!+#REF!+#REF!","v":{"$error":"#REF!"}},{"$f":"#REF!+#REF!","v":{"$error":"#REF!"}},{"$f":"#REF!+#REF!+#REF!+#REF!+#REF!+#REF!+#REF!+#REF!+#REF!+#REF!+#REF!+#REF!+#REF!+#REF!+#REF!+#REF!+#REF!+#REF!+#REF!+#REF!+#REF!+#REF!+#REF!+#REF!+#REF!+#REF!+#REF!+#REF!+#REF!+#REF!+#REF!+#REF!+#REF!","v":{"$error":"#REF!"}},{"$f":"#REF!+#REF!+#REF!+#REF!+#REF!+#REF!+#REF!+#REF!+#REF!+#REF!+#REF!+#REF!+#REF!+#REF!+#REF!+#REF!+#REF!+#REF!+#REF!+#REF!+#REF!+#REF!+#REF!+#REF!+#REF!+#REF!+#REF!+#REF!+#REF!+#REF!+#REF!+#REF!+#REF!","v":{"$error":"#REF!"}},{"$f":"#REF!+#REF!+#REF!+#REF!+#REF!+#REF!+#REF!+#REF!+#REF!+#REF!+#REF!+#REF!+#REF!+#REF!+#REF!+#REF!+#REF!+#REF!+#REF!+#REF!+#REF!+#REF!+#REF!+#REF!+#REF!+#REF!+#REF!+#REF!+#REF!+#REF!+#REF!+#REF!+#REF!","v":{"$error":"#REF!"}},{"$f":"#REF!+#REF!+#REF!+#REF!+#REF!+#REF!+#REF!+#REF!+#REF!+#REF!+#REF!+#REF!+#REF!+#REF!+#REF!+#REF!+#REF!+#REF!+#REF!+#REF!+#REF!+#REF!+#REF!+#REF!+#REF!+#REF!+#REF!+#REF!+#REF!+#REF!+#REF!+#REF!+#REF!","v":{"$error":"#REF!"}},{"$f":"#REF!+#REF!+#REF!+#REF!+#REF!+#REF!+#REF!+#REF!+#REF!+#REF!+#REF!+#REF!+#REF!+#REF!+#REF!+#REF!+#REF!+#REF!+#REF!+#REF!+#REF!+#REF!+#REF!+#REF!+#REF!+#REF!+#REF!+#REF!+#REF!+#REF!+#REF!+#REF!+#REF!","v":{"$error":"#REF!"}},{"$f":"#REF!+#REF!+#REF!+#REF!+#REF!+#REF!+#REF!+#REF!+#REF!+#REF!+#REF!+#REF!+#REF!+#REF!+#REF!+#REF!+#REF!+#REF!+#REF!+#REF!+#REF!+#REF!+#REF!+#REF!+#REF!+#REF!+#REF!+#REF!+#REF!+#REF!+#REF!+#REF!+#REF!","v":{"$error":"#REF!"}},{"$f":"#REF!+#REF!+#REF!+#REF!+#REF!+#REF!+#REF!+#REF!+#REF!+#REF!+#REF!+#REF!+#REF!+#REF!+#REF!+#REF!+#REF!+#REF!+#REF!+#REF!+#REF!+#REF!+#REF!+#REF!+#REF!+#REF!+#REF!+#REF!+#REF!+#REF!+#REF!+#REF!+#REF!","v":{"$error":"#REF!"}},{"$f":"#REF!+#REF!+#REF!+#REF!+#REF!+#REF!+#REF!+#REF!+#REF!+#REF!+#REF!+#REF!+#REF!+#REF!+#REF!+#REF!+#REF!+#REF!+#REF!+#REF!+#REF!+#REF!+#REF!+#REF!+#REF!+#REF!+#REF!+#REF!+#REF!+#REF!+#REF!+#REF!+#REF!","v":{"$error":"#REF!"}},{"$f":"#REF!+#REF!+#REF!+#REF!+#REF!+#REF!+#REF!+#REF!+#REF!+#REF!+#REF!+#REF!+#REF!+#REF!+#REF!+#REF!+#REF!+#REF!+#REF!+#REF!+#REF!+#REF!+#REF!+#REF!+#REF!+#REF!+#REF!+#REF!+#REF!+#REF!+#REF!+#REF!+#REF!","v":{"$error":"#REF!"}},{"$f":"#REF!+#REF!+#REF!+#REF!+#REF!+#REF!+#REF!+#REF!+#REF!+#REF!+#REF!+#REF!+#REF!+#REF!+#REF!+#REF!+#REF!+#REF!+#REF!+#REF!+#REF!+#REF!+#REF!+#REF!+#REF!+#REF!+#REF!+#REF!+#REF!+#REF!+#REF!+#REF!+#REF!","v":{"$error":"#REF!"}},{"$f":"#REF!+#REF!+#REF!+#REF!+#REF!+#REF!+#REF!+#REF!+#REF!+#REF!+#REF!+#REF!+#REF!+#REF!+#REF!+#REF!+#REF!+#REF!+#REF!+#REF!+#REF!+#REF!+#REF!+#REF!+#REF!+#REF!+#REF!+#REF!+#REF!+#REF!+#REF!+#REF!+#REF!","v":{"$error":"#REF!"}},{"$f":"#REF!+#REF!+#REF!+#REF!+#REF!+#REF!+#REF!+#REF!+#REF!+#REF!+#REF!+#REF!+#REF!+#REF!+#REF!+#REF!+#REF!+#REF!+#REF!+#REF!+#REF!+#REF!+#REF!+#REF!+#REF!+#REF!+#REF!+#REF!+#REF!+#REF!+#REF!+#REF!+#REF!","v":{"$error":"#REF!"}},{"$f":"'9_Per Pupil Summary'!N6","v":3473},{"$f":"#REF!+#REF!+#REF!+#REF!+#REF!+#REF!+#REF!+#REF!+#REF!+#REF!+#REF!+#REF!+#REF!+#REF!+#REF!+#REF!+#REF!+#REF!+#REF!+#REF!+#REF!+#REF!+#REF!+#REF!+#REF!+#REF!+#REF!+#REF!+#REF!+#REF!+#REF!+#REF!+#REF!","v":{"$error":"#REF!"}},{"$f":"#REF!+#REF!+#REF!+#REF!+#REF!+#REF!+#REF!+#REF!+#REF!+#REF!+#REF!+#REF!+#REF!+#REF!+#REF!+#REF!+#REF!+#REF!+#REF!+#REF!+#REF!+#REF!+#REF!+#REF!+#REF!+#REF!+#REF!+#REF!+#REF!+#REF!+#REF!+#REF!+#REF!","v":{"$error":"#REF!"}},{"$f":"#REF!+#REF!+#REF!+#REF!+#REF!+#REF!+#REF!+#REF!+#REF!+#REF!+#REF!+#REF!+#REF!+#REF!+#REF!+#REF!+#REF!+#REF!+#REF!+#REF!+#REF!+#REF!+#REF!+#REF!+#REF!+#REF!+#REF!+#REF!+#REF!+#REF!+#REF!+#REF!+#REF!","v":{"$error":"#REF!"}},{"$f":"#REF!+#REF!+#REF!+#REF!+#REF!+#REF!+#REF!+#REF!+#REF!+#REF!+#REF!+#REF!+#REF!+#REF!+#REF!+#REF!+#REF!+#REF!+#REF!+#REF!+#REF!+#REF!+#REF!+#REF!+#REF!+#REF!+#REF!+#REF!+#REF!+#REF!+#REF!+#REF!+#REF!","v":{"$error":"#REF!"}},{"$f":"#REF!+#REF!+#REF!+#REF!+#REF!+#REF!+#REF!+#REF!+#REF!+#REF!+#REF!+#REF!+#REF!+#REF!+#REF!+#REF!+#REF!+#REF!+#REF!+#REF!+#REF!+#REF!+#REF!+#REF!+#REF!+#REF!+#REF!+#REF!+#REF!+#REF!+#REF!+#REF!+#REF!","v":{"$error":"#REF!"}},{"$f":"#REF!+#REF!+#REF!+#REF!+#REF!+#REF!+#REF!+#REF!+#REF!+#REF!+#REF!+#REF!+#REF!+#REF!+#REF!+#REF!+#REF!+#REF!+#REF!+#REF!+#REF!+#REF!+#REF!+#REF!+#REF!+#REF!+#REF!+#REF!+#REF!+#REF!+#REF!+#REF!+#REF!","v":{"$error":"#REF!"}},{"$f":"#REF!+#REF!+#REF!+#REF!+#REF!+#REF!+#REF!+#REF!+#REF!+#REF!+#REF!+#REF!+#REF!+#REF!+#REF!+#REF!+#REF!+#REF!+#REF!+#REF!+#REF!+#REF!+#REF!+#REF!+#REF!+#REF!+#REF!+#REF!+#REF!+#REF!+#REF!+#REF!+#REF!","v":{"$error":"#REF!"}},{"$f":"#REF!+#REF!+#REF!+#REF!+#REF!+#REF!+#REF!+#REF!+#REF!+#REF!+#REF!+#REF!+#REF!+#REF!+#REF!+#REF!+#REF!+#REF!+#REF!+#REF!+#REF!+#REF!+#REF!+#REF!+#REF!+#REF!+#REF!+#REF!+#REF!+#REF!+#REF!+#REF!+#REF!","v":{"$error":"#REF!"}},{"$f":"#REF!+#REF!+#REF!+#REF!+#REF!+#REF!+#REF!+#REF!+#REF!+#REF!+#REF!+#REF!+#REF!+#REF!+#REF!+#REF!+#REF!+#REF!+#REF!+#REF!+#REF!+#REF!+#REF!+#REF!+#REF!+#REF!+#REF!+#REF!+#REF!+#REF!+#REF!+#REF!+#REF!","v":{"$error":"#REF!"}},{"$f":"#REF!+#REF!+#REF!+#REF!+#REF!+#REF!+#REF!+#REF!+#REF!+#REF!+#REF!+#REF!+#REF!+#REF!+#REF!+#REF!+#REF!+#REF!+#REF!+#REF!+#REF!+#REF!+#REF!+#REF!+#REF!+#REF!+#REF!+#REF!+#REF!+#REF!+#REF!+#REF!+#REF!","v":{"$error":"#REF!"}},{"$f":"#REF!+#REF!+#REF!+#REF!+#REF!+#REF!+#REF!+#REF!+#REF!+#REF!+#REF!+#REF!+#REF!+#REF!+#REF!+#REF!+#REF!+#REF!+#REF!+#REF!+#REF!+#REF!+#REF!+#REF!+#REF!+#REF!+#REF!+#REF!+#REF!+#REF!+#REF!+#REF!+#REF!","v":{"$error":"#REF!"}},{"$f":"#REF!+#REF!+#REF!+#REF!+#REF!+#REF!+#REF!+#REF!+#REF!+#REF!+#REF!+#REF!+#REF!+#REF!+#REF!+#REF!+#REF!+#REF!+#REF!+#REF!+#REF!+#REF!+#REF!+#REF!+#REF!+#REF!+#REF!+#REF!+#REF!+#REF!+#REF!+#REF!+#REF!","v":{"$error":"#REF!"}},{"$f":"#REF!+#REF!+#REF!+#REF!+#REF!+#REF!+#REF!+#REF!+#REF!+#REF!+#REF!+#REF!+#REF!+#REF!+#REF!+#REF!+#REF!+#REF!+#REF!+#REF!+#REF!+#REF!+#REF!+#REF!+#REF!+#REF!+#REF!+#REF!+#REF!+#REF!+#REF!+#REF!+#REF!","v":{"$error":"#REF!"}},{"$f":"#REF!+#REF!+#REF!+#REF!+#REF!+#REF!+#REF!+#REF!+#REF!+#REF!+#REF!+#REF!+#REF!+#REF!+#REF!+#REF!+#REF!+#REF!+#REF!+#REF!+#REF!+#REF!+#REF!+#REF!+#REF!+#REF!+#REF!+#REF!+#REF!+#REF!+#REF!+#REF!+#REF!","v":{"$error":"#REF!"}},{"$f":"AA7+AQ7","v":{"$error":"#REF!"}},{"$f":"AD7+AT7","v":{"$error":"#REF!"}},{"$f":"#REF!+#REF!+#REF!+#REF!+#REF!+#REF!+#REF!+#REF!+#REF!+#REF!+#REF!+#REF!+#REF!+#REF!+#REF!+#REF!+#REF!+#REF!+#REF!+#REF!+#REF!+#REF!+#REF!+#REF!+#REF!+#REF!+#REF!+#REF!+#REF!+#REF!+#REF!+#REF!+#REF!","v":{"$error":"#REF!"}},null,{"$f":"AW7-AX7","v":{"$error":"#REF!"}}]
[2,"Allen",{"$f":"#REF!+#REF!+#REF!+#REF!+#REF!+#REF!+#REF!+#REF!+#REF!+#REF!+#REF!+#REF!+#REF!+#REF!+#REF!+#REF!+#REF!+#REF!+#REF!+#REF!+#REF!+#REF!+#REF!+#REF!+#REF!+#REF!+#REF!+#REF!+#REF!+#REF!+#REF!+#REF!+#REF!","v":{"$error":"#REF!"}},{"$f":"'9_Per Pupil Summary'!H7","v":5858.9899809118178},{"$f":"#REF!+#REF!+#REF!+#REF!+#REF!+#REF!+#REF!+#REF!+#REF!+#REF!+#REF!+#REF!+#REF!+#REF!+#REF!+#REF!+#REF!+#REF!+#REF!+#REF!+#REF!+#REF!+#REF!+#REF!+#REF!+#REF!+#REF!+#REF!+#REF!+#REF!+#REF!+#REF!+#REF!","v":{"$error":"#REF!"}},{"$f":"#REF!+#REF!+#REF!+#REF!+#REF!+#REF!+#REF!+#REF!+#REF!+#REF!+#REF!+#REF!+#REF!+#REF!+#REF!+#REF!+#REF!+#REF!+#REF!+#REF!+#REF!+#REF!+#REF!+#REF!+#REF!+#REF!+#REF!+#REF!+#REF!+#REF!+#REF!+#REF!+#REF!","v":{"$error":"#REF!"}},{"$f":"'9_Per Pupil Summary'!I7","v":740.57656090127114},{"$f":"#REF!+#REF!+#REF!+#REF!+#REF!+#REF!+#REF!+#REF!+#REF!+#REF!+#REF!+#REF!+#REF!+#REF!+#REF!+#REF!+#REF!+#REF!+#REF!+#REF!+#REF!+#REF!+#REF!+#REF!+#REF!+#REF!+#REF!+#REF!+#REF!+#REF!+#REF!+#REF!+#REF!","v":{"$error":"#REF!"}},{"$f":"#REF!+#REF!+#REF!+#REF!+#REF!+#REF!+#REF!+#REF!+#REF!+#REF!+#REF!+#REF!+#REF!+#REF!+#REF!+#REF!+#REF!+#REF!+#REF!+#REF!+#REF!+#REF!+#REF!+#REF!+#REF!+#REF!+#REF!+#REF!+#REF!+#REF!+#REF!+#REF!+#REF!","v":{"$error":"#REF!"}},{"$f":"'9_Per Pupil Summary'!J7","v":201.97542570034668},{"$f":"#REF!+#REF!+#REF!+#REF!+#REF!+#REF!+#REF!+#REF!+#REF!+#REF!+#REF!+#REF!+#REF!+#REF!+#REF!+#REF!+#REF!+#REF!+#REF!+#REF!+#REF!+#REF!+#REF!+#REF!+#REF!+#REF!+#REF!+#REF!+#REF!+#REF!+#REF!+#REF!+#REF!","v":{"$error":"#REF!"}},{"$f":"#REF!+#REF!+#REF!+#REF!+#REF!+#REF!+#REF!+#REF!+#REF!+#REF!+#REF!+#REF!+#REF!+#REF!+#REF!+#REF!+#REF!+#REF!+#REF!+#REF!+#REF!+#REF!+#REF!+#REF!+#REF!+#REF!+#REF!+#REF!+#REF!+#REF!+#REF!+#REF!+#REF!","v":{"$error":"#REF!"}},{"$f":"'9_Per Pupil Summary'!K7","v":5049.3856425086669},{"$f":"#REF!+#REF!+#REF!+#REF!+#REF!+#REF!+#REF!+#REF!+#REF!+#REF!+#REF!+#REF!+#REF!+#REF!+#REF!+#REF!+#REF!+#REF!+#REF!+#REF!+#REF!+#REF!+#REF!+#REF!+#REF!+#REF!+#REF!+#REF!+#REF!+#REF!+#REF!+#REF!+#REF!","v":{"$error":"#REF!"}},{"$f":"#REF!+#REF!+#REF!+#REF!+#REF!+#REF!+#REF!+#REF!+#REF!+#REF!+#REF!+#REF!+#REF!+#REF!+#REF!+#REF!+#REF!+#REF!+#REF!+#REF!+#REF!+#REF!+#REF!+#REF!+#REF!+#REF!+#REF!+#REF!+#REF!+#REF!+#REF!+#REF!+#REF!","v":{"$error":"#REF!"}},{"$f":"'9_Per Pupil Summary'!L7","v":2019.754257003467},{"$f":"#REF!+#REF!+#REF!+#REF!+#REF!+#REF!+#REF!+#REF!+#REF!+#REF!+#REF!+#REF!+#REF!+#REF!+#REF!+#REF!+#REF!+#REF!+#REF!+#REF!+#REF!+#REF!+#REF!+#REF!+#REF!+#REF!+#REF!+#REF!+#REF!+#REF!+#REF!+#REF!+#REF!","v":{"$error":"#REF!"}},{"$f":"#REF!+#REF!+#REF!+#REF!+#REF!+#REF!+#REF!+#REF!+#REF!+#REF!+#REF!+#REF!+#REF!+#REF!+#REF!+#REF!+#REF!+#REF!+#REF!+#REF!+#REF!+#REF!+#REF!+#REF!+#REF!+#REF!+#REF!+#REF!+#REF!+#REF!+#REF!+#REF!+#REF!","v":{"$error":"#REF!"}},{"$f":"#REF!+#REF!","v":{"$error":"#REF!"}},{"$f":"#REF!+#REF!+#REF!+#REF!+#REF!+#REF!+#REF!+#REF!+#REF!+#REF!+#REF!+#REF!+#REF!+#REF!+#REF!+#REF!+#REF!+#REF!+#REF!+#REF!+#REF!+#REF!+#REF!+#REF!+#REF!+#REF!+#REF!+#REF!+#REF!+#REF!+#REF!+#REF!+#REF!","v":{"$error":"#REF!"}},{"$f":"#REF!+#REF!+#REF!+#REF!+#REF!+#REF!+#REF!+#REF!+#REF!+#REF!+#REF!+#REF!+#REF!+#REF!+#REF!+#REF!+#REF!+#REF!+#REF!+#REF!+#REF!+#REF!+#REF!+#REF!+#REF!+#REF!+#REF!+#REF!+#REF!+#REF!+#REF!+#REF!+#REF!","v":{"$error":"#REF!"}},{"$f":"#REF!+#REF!+#REF!+#REF!+#REF!+#REF!+#REF!+#REF!+#REF!+#REF!+#REF!+#REF!+#REF!+#REF!+#REF!+#REF!+#REF!+#REF!+#REF!+#REF!+#REF!+#REF!+#REF!+#REF!+#REF!+#REF!+#REF!+#REF!+#REF!+#REF!+#REF!+#REF!+#REF!","v":{"$error":"#REF!"}},{"$f":"#REF!+#REF!+#REF!+#REF!+#REF!+#REF!+#REF!+#REF!+#REF!+#REF!+#REF!+#REF!+#REF!+#REF!+#REF!+#REF!+#REF!+#REF!+#REF!+#REF!+#REF!+#REF!+#REF!+#REF!+#REF!+#REF!+#REF!+#REF!+#REF!+#REF!+#REF!+#REF!+#REF!","v":{"$error":"#REF!"}},{"$f":"#REF!+#REF!+#REF!+#REF!+#REF!+#REF!+#REF!+#REF!+#REF!+#REF!+#REF!+#REF!+#REF!+#REF!+#REF!+#REF!+#REF!+#REF!+#REF!+#REF!+#REF!+#REF!+#REF!+#REF!+#REF!+#REF!+#REF!+#REF!+#REF!+#REF!+#REF!+#REF!+#REF!","v":{"$error":"#REF!"}},{"$f":"#REF!+#REF!+#REF!+#REF!+#REF!+#REF!+#REF!+#REF!+#REF!+#REF!+#REF!+#REF!+#REF!+#REF!+#REF!+#REF!+#REF!+#REF!+#REF!+#REF!+#REF!+#REF!+#REF!+#REF!+#REF!+#REF!+#REF!+#REF!+#REF!+#REF!+#REF!+#REF!+#REF!","v":{"$error":"#REF!"}},{"$f":"#REF!+#REF!+#REF!+#REF!+#REF!+#REF!+#REF!+#REF!+#REF!+#REF!+#REF!+#REF!+#REF!+#REF!+#REF!+#REF!+#REF!+#REF!+#REF!+#REF!+#REF!+#REF!+#REF!+#REF!+#REF!+#REF!+#REF!+#REF!+#REF!+#REF!+#REF!+#REF!+#REF!","v":{"$error":"#REF!"}},{"$f":"#REF!+#REF!+#REF!+#REF!+#REF!+#REF!+#REF!+#REF!+#REF!+#REF!+#REF!+#REF!+#REF!+#REF!+#REF!+#REF!+#REF!+#REF!+#REF!+#REF!+#REF!+#REF!+#REF!+#REF!+#REF!+#REF!+#REF!+#REF!+#REF!+#REF!+#REF!+#REF!+#REF!","v":{"$error":"#REF!"}},{"$f":"#REF!+#REF!+#REF!+#REF!+#REF!+#REF!+#REF!+#REF!+#REF!+#REF!+#REF!+#REF!+#REF!+#REF!+#REF!+#REF!+#REF!+#REF!+#REF!+#REF!+#REF!+#REF!+#REF!+#REF!+#REF!+#REF!+#REF!+#REF!+#REF!+#REF!+#REF!+#REF!+#REF!","v":{"$error":"#REF!"}},{"$f":"#REF!+#REF!+#REF!+#REF!+#REF!+#REF!+#REF!+#REF!+#REF!+#REF!+#REF!+#REF!+#REF!+#REF!+#REF!+#REF!+#REF!+#REF!+#REF!+#REF!+#REF!+#REF!+#REF!+#REF!+#REF!+#REF!+#REF!+#REF!+#REF!+#REF!+#REF!+#REF!+#REF!","v":{"$error":"#REF!"}},{"$f":"#REF!+#REF!+#REF!+#REF!+#REF!+#REF!+#REF!+#REF!+#REF!+#REF!+#REF!+#REF!+#REF!+#REF!+#REF!+#REF!+#REF!+#REF!+#REF!+#REF!+#REF!+#REF!+#REF!+#REF!+#REF!+#REF!+#REF!+#REF!+#REF!+#REF!+#REF!+#REF!+#REF!","v":{"$error":"#REF!"}},{"$f":"#REF!+#REF!+#REF!+#REF!+#REF!+#REF!+#REF!+#REF!+#REF!+#REF!+#REF!+#REF!+#REF!+#REF!+#REF!+#REF!+#REF!+#REF!+#REF!+#REF!+#REF!+#REF!+#REF!+#REF!+#REF!+#REF!+#REF!+#REF!+#REF!+#REF!+#REF!+#REF!+#REF!","v":{"$error":"#REF!"}},{"$f":"'9_Per Pupil Summary'!N7","v":4271},{"$f":"#REF!+#REF!+#REF!+#REF!+#REF!+#REF!+#REF!+#REF!+#REF!+#REF!+#REF!+#REF!+#REF!+#REF!+#REF!+#REF!+#REF!+#REF!+#REF!+#REF!+#REF!+#REF!+#REF!+#REF!+#REF!+#REF!+#REF!+#REF!+#REF!+#REF!+#REF!+#REF!+#REF!","v":{"$error":"#REF!"}},{"$f":"#REF!+#REF!+#REF!+#REF!+#REF!+#REF!+#REF!+#REF!+#REF!+#REF!+#REF!+#REF!+#REF!+#REF!+#REF!+#REF!+#REF!+#REF!+#REF!+#REF!+#REF!+#REF!+#REF!+#REF!+#REF!+#REF!+#REF!+#REF!+#REF!+#REF!+#REF!+#REF!+#REF!","v":{"$error":"#REF!"}},{"$f":"#REF!+#REF!+#REF!+#REF!+#REF!+#REF!+#REF!+#REF!+#REF!+#REF!+#REF!+#REF!+#REF!+#REF!+#REF!+#REF!+#REF!+#REF!+#REF!+#REF!+#REF!+#REF!+#REF!+#REF!+#REF!+#REF!+#REF!+#REF!+#REF!+#REF!+#REF!+#REF!+#REF!","v":{"$error":"#REF!"}},{"$f":"#REF!+#REF!+#REF!+#REF!+#REF!+#REF!+#REF!+#REF!+#REF!+#REF!+#REF!+#REF!+#REF!+#REF!+#REF!+#REF!+#REF!+#REF!+#REF!+#REF!+#REF!+#REF!+#REF!+#REF!+#REF!+#REF!+#REF!+#REF!+#REF!+#REF!+#REF!+#REF!+#REF!","v":{"$error":"#REF!"}},{"$f":"#REF!+#REF!+#REF!+#REF!+#REF!+#REF!+#REF!+#REF!+#REF!+#REF!+#REF!+#REF!+#REF!+#REF!+#REF!+#REF!+#REF!+#REF!+#REF!+#REF!+#REF!+#REF!+#REF!+#REF!+#REF!+#REF!+#REF!+#REF!+#REF!+#REF!+#REF!+#REF!+#REF!","v":{"$error":"#REF!"}},{"$f":"#REF!+#REF!+#REF!+#REF!+#REF!+#REF!+#REF!+#REF!+#REF!+#REF!+#REF!+#REF!+#REF!+#REF!+#REF!+#REF!+#REF!+#REF!+#REF!+#REF!+#REF!+#REF!+#REF!+#REF!+#REF!+#REF!+#REF!+#REF!+#REF!+#REF!+#REF!+#REF!+#REF!","v":{"$error":"#REF!"}},{"$f":"#REF!+#REF!+#REF!+#REF!+#REF!+#REF!+#REF!+#REF!+#REF!+#REF!+#REF!+#REF!+#REF!+#REF!+#REF!+#REF!+#REF!+#REF!+#REF!+#REF!+#REF!+#REF!+#REF!+#REF!+#REF!+#REF!+#REF!+#REF!+#REF!+#REF!+#REF!+#REF!+#REF!","v":{"$error":"#REF!"}},{"$f":"#REF!+#REF!+#REF!+#REF!+#REF!+#REF!+#REF!+#REF!+#REF!+#REF!+#REF!+#REF!+#REF!+#REF!+#REF!+#REF!+#REF!+#REF!+#REF!+#REF!+#REF!+#REF!+#REF!+#REF!+#REF!+#REF!+#REF!+#REF!+#REF!+#REF!+#REF!+#REF!+#REF!","v":{"$error":"#REF!"}},{"$f":"#REF!+#REF!+#REF!+#REF!+#REF!+#REF!+#REF!+#REF!+#REF!+#REF!+#REF!+#REF!+#REF!+#REF!+#REF!+#REF!+#REF!+#REF!+#REF!+#REF!+#REF!+#REF!+#REF!+#REF!+#REF!+#REF!+#REF!+#REF!+#REF!+#REF!+#REF!+#REF!+#REF!","v":{"$error":"#REF!"}},{"$f":"#REF!+#REF!+#REF!+#REF!+#REF!+#REF!+#REF!+#REF!+#REF!+#REF!+#REF!+#REF!+#REF!+#REF!+#REF!+#REF!+#REF!+#REF!+#REF!+#REF!+#REF!+#REF!+#REF!+#REF!+#REF!+#REF!+#REF!+#REF!+#REF!+#REF!+#REF!+#REF!+#REF!","v":{"$error":"#REF!"}},{"$f":"#REF!+#REF!+#REF!+#REF!+#REF!+#REF!+#REF!+#REF!+#REF!+#REF!+#REF!+#REF!+#REF!+#REF!+#REF!+#REF!+#REF!+#REF!+#REF!+#REF!+#REF!+#REF!+#REF!+#REF!+#REF!+#REF!+#REF!+#REF!+#REF!+#REF!+#REF!+#REF!+#REF!","v":{"$error":"#REF!"}},{"$f":"#REF!+#REF!+#REF!+#REF!+#REF!+#REF!+#REF!+#REF!+#REF!+#REF!+#REF!+#REF!+#REF!+#REF!+#REF!+#REF!+#REF!+#REF!+#REF!+#REF!+#REF!+#REF!+#REF!+#REF!+#REF!+#REF!+#REF!+#REF!+#REF!+#REF!+#REF!+#REF!+#REF!","v":{"$error":"#REF!"}},{"$f":"#REF!+#REF!+#REF!+#REF!+#REF!+#REF!+#REF!+#REF!+#REF!+#REF!+#REF!+#REF!+#REF!+#REF!+#REF!+#REF!+#REF!+#REF!+#REF!+#REF!+#REF!+#REF!+#REF!+#REF!+#REF!+#REF!+#REF!+#REF!+#REF!+#REF!+#REF!+#REF!+#REF!","v":{"$error":"#REF!"}},{"$f":"#REF!+#REF!+#REF!+#REF!+#REF!+#REF!+#REF!+#REF!+#REF!+#REF!+#REF!+#REF!+#REF!+#REF!+#REF!+#REF!+#REF!+#REF!+#REF!+#REF!+#REF!+#REF!+#REF!+#REF!+#REF!+#REF!+#REF!+#REF!+#REF!+#REF!+#REF!+#REF!+#REF!","v":{"$error":"#REF!"}},{"$f":"AA8+AQ8","v":{"$error":"#REF!"}},{"$f":"AD8+AT8","v":{"$error":"#REF!"}},{"$f":"#REF!+#REF!+#REF!+#REF!+#REF!+#REF!+#REF!+#REF!+#REF!+#REF!+#REF!+#REF!+#REF!+#REF!+#REF!+#REF!+#REF!+#REF!+#REF!+#REF!+#REF!+#REF!+#REF!+#REF!+#REF!+#REF!+#REF!+#REF!+#REF!+#REF!+#REF!+#REF!+#REF!","v":{"$error":"#REF!"}},null,{"$f":"AW8-AX8","v":{"$error":"#REF!"}}]
[3,"Ascension",{"$f":"#REF!+#REF!+#REF!+#REF!+#REF!+#REF!+#REF!+#REF!+#REF!+#REF!+#REF!+#REF!+#REF!+#REF!+#REF!+#REF!+#REF!+#REF!+#REF!+#REF!+#REF!+#REF!+#REF!+#REF!+#REF!+#REF!+#REF!+#REF!+#REF!+#REF!+#REF!+#REF!+#REF!","v":{"$error":"#REF!"}},{"$f":"'9_Per Pupil Summary'!H8","v":3967.7810404574316},{"$f":"#REF!+#REF!+#REF!+#REF!+#REF!+#REF!+#REF!+#REF!+#REF!+#REF!+#REF!+#REF!+#REF!+#REF!+#REF!+#REF!+#REF!+#REF!+#REF!+#REF!+#REF!+#REF!+#REF!+#REF!+#REF!+#REF!+#REF!+#REF!+#REF!+#REF!+#REF!+#REF!+#REF!","v":{"$error":"#REF!"}},{"$f":"#REF!+#REF!+#REF!+#REF!+#REF!+#REF!+#REF!+#REF!+#REF!+#REF!+#REF!+#REF!+#REF!+#REF!+#REF!+#REF!+#REF!+#REF!+#REF!+#REF!+#REF!+#REF!+#REF!+#REF!+#REF!+#REF!+#REF!+#REF!+#REF!+#REF!+#REF!+#REF!+#REF!","v":{"$error":"#REF!"}},{"$f":"'9_Per Pupil Summary'!I8","v":556.27619879455631},{"$f":"#REF!+#REF!+#REF!+#REF!+#REF!+#REF!+#REF!+#REF!+#REF!+#REF!+#REF!+#REF!+#REF!+#REF!+#REF!+#REF!+#REF!+#REF!+#REF!+#REF!+#REF!+#REF!+#REF!+#REF!+#REF!+#REF!+#REF!+#REF!+#REF!+#REF!+#REF!+#REF!+#REF!","v":{"$error":"#REF!"}},{"$f":"#REF!+#REF!+#REF!+#REF!+#REF!+#REF!+#REF!+#REF!+#REF!+#REF!+#REF!+#REF!+#REF!+#REF!+#REF!+#REF!+#REF!+#REF!+#REF!+#REF!+#REF!+#REF!+#REF!+#REF!+#REF!+#REF!+#REF!+#REF!+#REF!+#REF!+#REF!+#REF!+#REF!","v":{"$error":"#REF!"}},{"$f":"'9_Per Pupil Summary'!J8","v":151.71169058033354},{"$f":"#REF!+#REF!+#REF!+#REF!+#REF!+#REF!+#REF!+#REF!+#REF!+#REF!+#REF!+#REF!+#REF!+#REF!+#REF!+#REF!+#REF!+#REF!+#REF!+#REF!+#REF!+#REF!+#REF!+#REF!+#REF!+#REF!+#REF!+#REF!+#REF!+#REF!+#REF!+#REF!+#REF!","v":{"$error":"#REF!"}},{"$f":"#REF!+#REF!+#REF!+#REF!+#REF!+#REF!+#REF!+#REF!+#REF!+#REF!+#REF!+#REF!+#REF!+#REF!+#REF!+#REF!+#REF!+#REF!+#REF!+#REF!+#REF!+#REF!+#REF!+#REF!+#REF!+#REF!+#REF!+#REF!+#REF!+#REF!+#REF!+#REF!+#REF!","v":{"$error":"#REF!"}},{"$f":"'9_Per Pupil Summary'!K8","v":3792.7922645083386},{"$f":"#REF!+#REF!+#REF!+#REF!+#REF!+#REF!+#REF!+#REF!+#REF!+#REF!+#REF!+#REF!+#REF!+#REF!+#REF!+#REF!+#REF!+#REF!+#REF!+#REF!+#REF!+#REF!+#REF!+#REF!+#REF!+#REF!+#REF!+#REF!+#REF!+#REF!+#REF!+#REF!+#REF!","v":{"$error":"#REF!"}},{"$f":"#REF!+#REF!+#REF!+#REF!+#REF!+#REF!+#REF!+#REF!+#REF!+#REF!+#REF!+#REF!+#REF!+#REF!+#REF!+#REF!+#REF!+#REF!+#REF!+#REF!+#REF!+#REF!+#REF!+#REF!+#REF!+#REF!+#REF!+#REF!+#REF!+#REF!+#REF!+#REF!+#REF!","v":{"$error":"#REF!"}},{"$f":"'9_Per Pupil Summary'!L8","v":1517.1169058033354},{"$f":"#REF!+#REF!+#REF!+#REF!+#REF!+#REF!+#REF!+#REF!+#REF!+#REF!+#REF!+#REF!+#REF!+#REF!+#REF!+#REF!+#REF!+#REF!+#REF!+#REF!+#REF!+#REF!+#REF!+#REF!+#REF!+#REF!+#REF!+#REF!+#REF!+#REF!+#REF!+#REF!+#REF!","v":{"$error":"#REF!"}},{"$f":"#REF!+#REF!+#REF!+#REF!+#REF!+#REF!+#REF!+#REF!+#REF!+#REF!+#REF!+#REF!+#REF!+#REF!+#REF!+#REF!+#REF!+#REF!+#REF!+#REF!+#REF!+#REF!+#REF!+#REF!+#REF!+#REF!+#REF!+#REF!+#REF!+#REF!+#REF!+#REF!+#REF!","v":{"$error":"#REF!"}},{"$f":"#REF!+#REF!","v":{"$error":"#REF!"}},{"$f":"#REF!+#REF!+#REF!+#REF!+#REF!+#REF!+#REF!+#REF!+#REF!+#REF!+#REF!+#REF!+#REF!+#REF!+#REF!+#REF!+#REF!+#REF!+#REF!+#REF!+#REF!+#REF!+#REF!+#REF!+#REF!+#REF!+#REF!+#REF!+#REF!+#REF!+#REF!+#REF!+#REF!","v":{"$error":"#REF!"}},{"$f":"#REF!+#REF!+#REF!+#REF!+#REF!+#REF!+#REF!+#REF!+#REF!+#REF!+#REF!+#REF!+#REF!+#REF!+#REF!+#REF!+#REF!+#REF!+#REF!+#REF!+#REF!+#REF!+#REF!+#REF!+#REF!+#REF!+#REF!+#REF!+#REF!+#REF!+#REF!+#REF!+#REF!","v":{"$error":"#REF!"}},{"$f":"#REF!+#REF!+#REF!+#REF!+#REF!+#REF!+#REF!+#REF!+#REF!+#REF!+#REF!+#REF!+#REF!+#REF!+#REF!+#REF!+#REF!+#REF!+#REF!+#REF!+#REF!+#REF!+#REF!+#REF!+#REF!+#REF!+#REF!+#REF!+#REF!+#REF!+#REF!+#REF!+#REF!","v":{"$error":"#REF!"}},{"$f":"#REF!+#REF!+#REF!+#REF!+#REF!+#REF!+#REF!+#REF!+#REF!+#REF!+#REF!+#REF!+#REF!+#REF!+#REF!+#REF!+#REF!+#REF!+#REF!+#REF!+#REF!+#REF!+#REF!+#REF!+#REF!+#REF!+#REF!+#REF!+#REF!+#REF!+#REF!+#REF!+#REF!","v":{"$error":"#REF!"}},{"$f":"#REF!+#REF!+#REF!+#REF!+#REF!+#REF!+#REF!+#REF!+#REF!+#REF!+#REF!+#REF!+#REF!+#REF!+#REF!+#REF!+#REF!+#REF!+#REF!+#REF!+#REF!+#REF!+#REF!+#REF!+#REF!+#REF!+#REF!+#REF!+#REF!+#REF!+#REF!+#REF!+#REF!","v":{"$error":"#REF!"}},{"$f":"#REF!+#REF!+#REF!+#REF!+#REF!+#REF!+#REF!+#REF!+#REF!+#REF!+#REF!+#REF!+#REF!+#REF!+#REF!+#REF!+#REF!+#REF!+#REF!+#REF!+#REF!+#REF!+#REF!+#REF!+#REF!+#REF!+#REF!+#REF!+#REF!+#REF!+#REF!+#REF!+#REF!","v":{"$error":"#REF!"}},{"$f":"#REF!+#REF!+#REF!+#REF!+#REF!+#REF!+#REF!+#REF!+#REF!+#REF!+#REF!+#REF!+#REF!+#REF!+#REF!+#REF!+#REF!+#REF!+#REF!+#REF!+#REF!+#REF!+#REF!+#REF!+#REF!+#REF!+#REF!+#REF!+#REF!+#REF!+#REF!+#REF!+#REF!","v":{"$error":"#REF!"}},{"$f":"#REF!+#REF!+#REF!+#REF!+#REF!+#REF!+#REF!+#REF!+#REF!+#REF!+#REF!+#REF!+#REF!+#REF!+#REF!+#REF!+#REF!+#REF!+#REF!+#REF!+#REF!+#REF!+#REF!+#REF!+#REF!+#REF!+#REF!+#REF!+#REF!+#REF!+#REF!+#REF!+#REF!","v":{"$error":"#REF!"}},{"$f":"#REF!+#REF!+#REF!+#REF!+#REF!+#REF!+#REF!+#REF!+#REF!+#REF!+#REF!+#REF!+#REF!+#REF!+#REF!+#REF!+#REF!+#REF!+#REF!+#REF!+#REF!+#REF!+#REF!+#REF!+#REF!+#REF!+#REF!+#REF!+#REF!+#REF!+#REF!+#REF!+#REF!","v":{"$error":"#REF!"}},{"$f":"#REF!+#REF!+#REF!+#REF!+#REF!+#REF!+#REF!+#REF!+#REF!+#REF!+#REF!+#REF!+#REF!+#REF!+#REF!+#REF!+#REF!+#REF!+#REF!+#REF!+#REF!+#REF!+#REF!+#REF!+#REF!+#REF!+#REF!+#REF!+#REF!+#REF!+#REF!+#REF!+#REF!","v":{"$error":"#REF!"}},{"$f":"#REF!+#REF!+#REF!+#REF!+#REF!+#REF!+#REF!+#REF!+#REF!+#REF!+#REF!+#REF!+#REF!+#REF!+#REF!+#REF!+#REF!+#REF!+#REF!+#REF!+#REF!+#REF!+#REF!+#REF!+#REF!+#REF!+#REF!+#REF!+#REF!+#REF!+#REF!+#REF!+#REF!","v":{"$error":"#REF!"}},{"$f":"#REF!+#REF!+#REF!+#REF!+#REF!+#REF!+#REF!+#REF!+#REF!+#REF!+#REF!+#REF!+#REF!+#REF!+#REF!+#REF!+#REF!+#REF!+#REF!+#REF!+#REF!+#REF!+#REF!+#REF!+#REF!+#REF!+#REF!+#REF!+#REF!+#REF!+#REF!+#REF!+#REF!","v":{"$error":"#REF!"}},{"$f":"'9_Per Pupil Summary'!N8","v":6893},{"$f":"#REF!+#REF!+#REF!+#REF!+#REF!+#REF!+#REF!+#REF!+#REF!+#REF!+#REF!+#REF!+#REF!+#REF!+#REF!+#REF!+#REF!+#REF!+#REF!+#REF!+#REF!+#REF!+#REF!+#REF!+#REF!+#REF!+#REF!+#REF!+#REF!+#REF!+#REF!+#REF!+#REF!","v":{"$error":"#REF!"}},{"$f":"#REF!+#REF!+#REF!+#REF!+#REF!+#REF!+#REF!+#REF!+#REF!+#REF!+#REF!+#REF!+#REF!+#REF!+#REF!+#REF!+#REF!+#REF!+#REF!+#REF!+#REF!+#REF!+#REF!+#REF!+#REF!+#REF!+#REF!+#REF!+#REF!+#REF!+#REF!+#REF!+#REF!","v":{"$error":"#REF!"}},{"$f":"#REF!+#REF!+#REF!+#REF!+#REF!+#REF!+#REF!+#REF!+#REF!+#REF!+#REF!+#REF!+#REF!+#REF!+#REF!+#REF!+#REF!+#REF!+#REF!+#REF!+#REF!+#REF!+#REF!+#REF!+#REF!+#REF!+#REF!+#REF!+#REF!+#REF!+#REF!+#REF!+#REF!","v":{"$error":"#REF!"}},{"$f":"#REF!+#REF!+#REF!+#REF!+#REF!+#REF!+#REF!+#REF!+#REF!+#REF!+#REF!+#REF!+#REF!+#REF!+#REF!+#REF!+#REF!+#REF!+#REF!+#REF!+#REF!+#REF!+#REF!+#REF!+#REF!+#REF!+#REF!+#REF!+#REF!+#REF!+#REF!+#REF!+#REF!","v":{"$error":"#REF!"}},{"$f":"#REF!+#REF!+#REF!+#REF!+#REF!+#REF!+#REF!+#REF!+#REF!+#REF!+#REF!+#REF!+#REF!+#REF!+#REF!+#REF!+#REF!+#REF!+#REF!+#REF!+#REF!+#REF!+#REF!+#REF!+#REF!+#REF!+#REF!+#REF!+#REF!+#REF!+#REF!+#REF!+#REF!","v":{"$error":"#REF!"}},{"$f":"#REF!+#REF!+#REF!+#REF!+#REF!+#REF!+#REF!+#REF!+#REF!+#REF!+#REF!+#REF!+#REF!+#REF!+#REF!+#REF!+#REF!+#REF!+#REF!+#REF!+#REF!+#REF!+#REF!+#REF!+#REF!+#REF!+#REF!+#REF!+#REF!+#REF!+#REF!+#REF!+#REF!","v":{"$error":"#REF!"}},{"$f":"#REF!+#REF!+#REF!+#REF!+#REF!+#REF!+#REF!+#REF!+#REF!+#REF!+#REF!+#REF!+#REF!+#REF!+#REF!+#REF!+#REF!+#REF!+#REF!+#REF!+#REF!+#REF!+#REF!+#REF!+#REF!+#REF!+#REF!+#REF!+#REF!+#REF!+#REF!+#REF!+#REF!","v":{"$error":"#REF!"}},{"$f":"#REF!+#REF!+#REF!+#REF!+#REF!+#REF!+#REF!+#REF!+#REF!+#REF!+#REF!+#REF!+#REF!+#REF!+#REF!+#REF!+#REF!+#REF!+#REF!+#REF!+#REF!+#REF!+#REF!+#REF!+#REF!+#REF!+#REF!+#REF!+#REF!+#REF!+#REF!+#REF!+#REF!","v":{"$error":"#REF!"}},{"$f":"#REF!+#REF!+#REF!+#REF!+#REF!+#REF!+#REF!+#REF!+#REF!+#REF!+#REF!+#REF!+#REF!+#REF!+#REF!+#REF!+#REF!+#REF!+#REF!+#REF!+#REF!+#REF!+#REF!+#REF!+#REF!+#REF!+#REF!+#REF!+#REF!+#REF!+#REF!+#REF!+#REF!","v":{"$error":"#REF!"}},{"$f":"#REF!+#REF!+#REF!+#REF!+#REF!+#REF!+#REF!+#REF!+#REF!+#REF!+#REF!+#REF!+#REF!+#REF!+#REF!+#REF!+#REF!+#REF!+#REF!+#REF!+#REF!+#REF!+#REF!+#REF!+#REF!+#REF!+#REF!+#REF!+#REF!+#REF!+#REF!+#REF!+#REF!","v":{"$error":"#REF!"}},{"$f":"#REF!+#REF!+#REF!+#REF!+#REF!+#REF!+#REF!+#REF!+#REF!+#REF!+#REF!+#REF!+#REF!+#REF!+#REF!+#REF!+#REF!+#REF!+#REF!+#REF!+#REF!+#REF!+#REF!+#REF!+#REF!+#REF!+#REF!+#REF!+#REF!+#REF!+#REF!+#REF!+#REF!","v":{"$error":"#REF!"}},{"$f":"#REF!+#REF!+#REF!+#REF!+#REF!+#REF!+#REF!+#REF!+#REF!+#REF!+#REF!+#REF!+#REF!+#REF!+#REF!+#REF!+#REF!+#REF!+#REF!+#REF!+#REF!+#REF!+#REF!+#REF!+#REF!+#REF!+#REF!+#REF!+#REF!+#REF!+#REF!+#REF!+#REF!","v":{"$error":"#REF!"}},{"$f":"#REF!+#REF!+#REF!+#REF!+#REF!+#REF!+#REF!+#REF!+#REF!+#REF!+#REF!+#REF!+#REF!+#REF!+#REF!+#REF!+#REF!+#REF!+#REF!+#REF!+#REF!+#REF!+#REF!+#REF!+#REF!+#REF!+#REF!+#REF!+#REF!+#REF!+#REF!+#REF!+#REF!","v":{"$error":"#REF!"}},{"$f":"#REF!+#REF!+#REF!+#REF!+#REF!+#REF!+#REF!+#REF!+#REF!+#REF!+#REF!+#REF!+#REF!+#REF!+#REF!+#REF!+#REF!+#REF!+#REF!+#REF!+#REF!+#REF!+#REF!+#REF!+#REF!+#REF!+#REF!+#REF!+#REF!+#REF!+#REF!+#REF!+#REF!","v":{"$error":"#REF!"}},{"$error":"#REF!"},{"$error":"#REF!"},{"$f":"#REF!+#REF!+#REF!+#REF!+#REF!+#REF!+#REF!+#REF!+#REF!+#REF!+#REF!+#REF!+#REF!+#REF!+#REF!+#REF!+#REF!+#REF!+#REF!+#REF!+#REF!+#REF!+#REF!+#REF!+#REF!+#REF!+#REF!+#REF!+#REF!+#REF!+#REF!+#REF!+#REF!","v":{"$error":"#REF!"}},null,{"$error":"#REF!"}]
[4,"Assumption",{"$f":"#REF!+#REF!+#REF!+#REF!+#REF!+#REF!+#REF!+#REF!+#REF!+#REF!+#REF!+#REF!+#REF!+#REF!+#REF!+#REF!+#REF!+#REF!+#REF!+#REF!+#REF!+#REF!+#REF!+#REF!+#REF!+#REF!+#REF!+#REF!+#REF!+#REF!+#REF!+#REF!+#REF!","v":{"$error":"#REF!"}},{"$f":"'9_Per Pupil Summary'!H9","v":5027.4842601302034},{"$f":"#REF!+#REF!+#REF!+#REF!+#REF!+#REF!+#REF!+#REF!+#REF!+#REF!+#REF!+#REF!+#REF!+#REF!+#REF!+#REF!+#REF!+#REF!+#REF!+#REF!+#REF!+#REF!+#REF!+#REF!+#REF!+#REF!+#REF!+#REF!+#REF!+#REF!+#REF!+#REF!+#REF!","v":{"$error":"#REF!"}},{"$f":"#REF!+#REF!+#REF!+#REF!+#REF!+#REF!+#REF!+#REF!+#REF!+#REF!+#REF!+#REF!+#REF!+#REF!+#REF!+#REF!+#REF!+#REF!+#REF!+#REF!+#REF!+#REF!+#REF!+#REF!+#REF!+#REF!+#REF!+#REF!+#REF!+#REF!+#REF!+#REF!+#REF!","v":{"$error":"#REF!"}},{"$f":"'9_Per Pupil Summary'!I9","v":666.66851990284442},{"$f":"#REF!+#REF!+#REF!+#REF!+#REF!+#REF!+#REF!+#REF!+#REF!+#REF!+#REF!+#REF!+#REF!+#REF!+#REF!+#REF!+#REF!+#REF!+#REF!+#REF!+#REF!+#REF!+#REF!+#REF!+#REF!+#REF!+#REF!+#REF!+#REF!+#REF!+#REF!+#REF!+#REF!","v":{"$error":"#REF!"}},{"$f":"#REF!+#REF!+#REF!+#REF!+#REF!+#REF!+#REF!+#REF!+#REF!+#REF!+#REF!+#REF!+#REF!+#REF!+#REF!+#REF!+#REF!+#REF!+#REF!+#REF!+#REF!+#REF!+#REF!+#REF!+#REF!+#REF!+#REF!+#REF!+#REF!+#REF!+#REF!+#REF!+#REF!","v":{"$error":"#REF!"}},{"$f":"'9_Per Pupil Summary'!J9","v":181.8186872462303},{"$f":"#REF!+#REF!+#REF!+#REF!+#REF!+#REF!+#REF!+#REF!+#REF!+#REF!+#REF!+#REF!+#REF!+#REF!+#REF!+#REF!+#REF!+#REF!+#REF!+#REF!+#REF!+#REF!+#REF!+#REF!+#REF!+#REF!+#REF!+#REF!+#REF!+#REF!+#REF!+#REF!+#REF!","v":{"$error":"#REF!"}},{"$f":"#REF!+#REF!+#REF!+#REF!+#REF!+#REF!+#REF!+#REF!+#REF!+#REF!+#REF!+#REF!+#REF!+#REF!+#REF!+#REF!+#REF!+#REF!+#REF!+#REF!+#REF!+#REF!+#REF!+#REF!+#REF!+#REF!+#REF!+#REF!+#REF!+#REF!+#REF!+#REF!+#REF!","v":{"$error":"#REF!"}},{"$f":"'9_Per Pupil Summary'!K9","v":4545.4671811557573},{"$f":"#REF!+#REF!+#REF!+#REF!+#REF!+#REF!+#REF!+#REF!+#REF!+#REF!+#REF!+#REF!+#REF!+#REF!+#REF!+#REF!+#REF!+#REF!+#REF!+#REF!+#REF!+#REF!+#REF!+#REF!+#REF!+#REF!+#REF!+#REF!+#REF!+#REF!+#REF!+#REF!+#REF!","v":{"$error":"#REF!"}},{"$f":"#REF!+#REF!+#REF!+#REF!+#REF!+#REF!+#REF!+#REF!+#REF!+#REF!+#REF!+#REF!+#REF!+#REF!+#REF!+#REF!+#REF!+#REF!+#REF!+#REF!+#REF!+#REF!+#REF!+#REF!+#REF!+#REF!+#REF!+#REF!+#REF!+#REF!+#REF!+#REF!+#REF!","v":{"$error":"#REF!"}},{"$f":"'9_Per Pupil Summary'!L9","v":1818.186872462303},{"$f":"#REF!+#REF!+#REF!+#REF!+#REF!+#REF!+#REF!+#REF!+#REF!+#REF!+#REF!+#REF!+#REF!+#REF!+#REF!+#REF!+#REF!+#REF!+#REF!+#REF!+#REF!+#REF!+#REF!+#REF!+#REF!+#REF!+#REF!+#REF!+#REF!+#REF!+#REF!+#REF!+#REF!","v":{"$error":"#REF!"}},{"$f":"#REF!+#REF!+#REF!+#REF!+#REF!+#REF!+#REF!+#REF!+#REF!+#REF!+#REF!+#REF!+#REF!+#REF!+#REF!+#REF!+#REF!+#REF!+#REF!+#REF!+#REF!+#REF!+#REF!+#REF!+#REF!+#REF!+#REF!+#REF!+#REF!+#REF!+#REF!+#REF!+#REF!","v":{"$error":"#REF!"}},{"$f":"#REF!+#REF!","v":{"$error":"#REF!"}},{"$f":"#REF!+#REF!+#REF!+#REF!+#REF!+#REF!+#REF!+#REF!+#REF!+#REF!+#REF!+#REF!+#REF!+#REF!+#REF!+#REF!+#REF!+#REF!+#REF!+#REF!+#REF!+#REF!+#REF!+#REF!+#REF!+#REF!+#REF!+#REF!+#REF!+#REF!+#REF!+#REF!+#REF!","v":{"$error":"#REF!"}},{"$f":"#REF!+#REF!+#REF!+#REF!+#REF!+#REF!+#REF!+#REF!+#REF!+#REF!+#REF!+#REF!+#REF!+#REF!+#REF!+#REF!+#REF!+#REF!+#REF!+#REF!+#REF!+#REF!+#REF!+#REF!+#REF!+#REF!+#REF!+#REF!+#REF!+#REF!+#REF!+#REF!+#REF!","v":{"$error":"#REF!"}},{"$f":"#REF!+#REF!+#REF!+#REF!+#REF!+#REF!+#REF!+#REF!+#REF!+#REF!+#REF!+#REF!+#REF!+#REF!+#REF!+#REF!+#REF!+#REF!+#REF!+#REF!+#REF!+#REF!+#REF!+#REF!+#REF!+#REF!+#REF!+#REF!+#REF!+#REF!+#REF!+#REF!+#REF!","v":{"$error":"#REF!"}},{"$f":"#REF!+#REF!+#REF!+#REF!+#REF!+#REF!+#REF!+#REF!+#REF!+#REF!+#REF!+#REF!+#REF!+#REF!+#REF!+#REF!+#REF!+#REF!+#REF!+#REF!+#REF!+#REF!+#REF!+#REF!+#REF!+#REF!+#REF!+#REF!+#REF!+#REF!+#REF!+#REF!+#REF!","v":{"$error":"#REF!"}},{"$f":"#REF!+#REF!+#REF!+#REF!+#REF!+#REF!+#REF!+#REF!+#REF!+#REF!+#REF!+#REF!+#REF!+#REF!+#REF!+#REF!+#REF!+#REF!+#REF!+#REF!+#REF!+#REF!+#REF!+#REF!+#REF!+#REF!+#REF!+#REF!+#REF!+#REF!+#REF!+#REF!+#REF!","v":{"$error":"#REF!"}},{"$f":"#REF!+#REF!+#REF!+#REF!+#REF!+#REF!+#REF!+#REF!+#REF!+#REF!+#REF!+#REF!+#REF!+#REF!+#REF!+#REF!+#REF!+#REF!+#REF!+#REF!+#REF!+#REF!+#REF!+#REF!+#REF!+#REF!+#REF!+#REF!+#REF!+#REF!+#REF!+#REF!+#REF!","v":{"$error":"#REF!"}},{"$f":"#REF!+#REF!+#REF!+#REF!+#REF!+#REF!+#REF!+#REF!+#REF!+#REF!+#REF!+#REF!+#REF!+#REF!+#REF!+#REF!+#REF!+#REF!+#REF!+#REF!+#REF!+#REF!+#REF!+#REF!+#REF!+#REF!+#REF!+#REF!+#REF!+#REF!+#REF!+#REF!+#REF!","v":{"$error":"#REF!"}},{"$f":"#REF!+#REF!+#REF!+#REF!+#REF!+#REF!+#REF!+#REF!+#REF!+#REF!+#REF!+#REF!+#REF!+#REF!+#REF!+#REF!+#REF!+#REF!+#REF!+#REF!+#REF!+#REF!+#REF!+#REF!+#REF!+#REF!+#REF!+#REF!+#REF!+#REF!+#REF!+#REF!+#REF!","v":{"$error":"#REF!"}},{"$f":"#REF!+#REF!+#REF!+#REF!+#REF!+#REF!+#REF!+#REF!+#REF!+#REF!+#REF!+#REF!+#REF!+#REF!+#REF!+#REF!+#REF!+#REF!+#REF!+#REF!+#REF!+#REF!+#REF!+#REF!+#REF!+#REF!+#REF!+#REF!+#REF!+#REF!+#REF!+#REF!+#REF!","v":{"$error":"#REF!"}},{"$f":"#REF!+#REF!+#REF!+#REF!+#REF!+#REF!+#REF!+#REF!+#REF!+#REF!+#REF!+#REF!+#REF!+#REF!+#REF!+#REF!+#REF!+#REF!+#REF!+#REF!+#REF!+#REF!+#REF!+#REF!+#REF!+#REF!+#REF!+#REF!+#REF!+#REF!+#REF!+#REF!+#REF!","v":{"$error":"#REF!"}},{"$f":"#REF!+#REF!+#REF!+#REF!+#REF!+#REF!+#REF!+#REF!+#REF!+#REF!+#REF!+#REF!+#REF!+#REF!+#REF!+#REF!+#REF!+#REF!+#REF!+#REF!+#REF!+#REF!+#REF!+#REF!+#REF!+#REF!+#REF!+#REF!+#REF!+#REF!+#REF!+#REF!+#REF!","v":{"$error":"#REF!"}},{"$f":"#REF!+#REF!+#REF!+#REF!+#REF!+#REF!+#REF!+#REF!+#REF!+#REF!+#REF!+#REF!+#REF!+#REF!+#REF!+#REF!+#REF!+#REF!+#REF!+#REF!+#REF!+#REF!+#REF!+#REF!+#REF!+#REF!+#REF!+#REF!+#REF!+#REF!+#REF!+#REF!+#REF!","v":{"$error":"#REF!"}},{"$f":"'9_Per Pupil Summary'!N9","v":6573},{"$f":"#REF!+#REF!+#REF!+#REF!+#REF!+#REF!+#REF!+#REF!+#REF!+#REF!+#REF!+#REF!+#REF!+#REF!+#REF!+#REF!+#REF!+#REF!+#REF!+#REF!+#REF!+#REF!+#REF!+#REF!+#REF!+#REF!+#REF!+#REF!+#REF!+#REF!+#REF!+#REF!+#REF!","v":{"$error":"#REF!"}},{"$f":"#REF!+#REF!+#REF!+#REF!+#REF!+#REF!+#REF!+#REF!+#REF!+#REF!+#REF!+#REF!+#REF!+#REF!+#REF!+#REF!+#REF!+#REF!+#REF!+#REF!+#REF!+#REF!+#REF!+#REF!+#REF!+#REF!+#REF!+#REF!+#REF!+#REF!+#REF!+#REF!+#REF!","v":{"$error":"#REF!"}},{"$f":"#REF!+#REF!+#REF!+#REF!+#REF!+#REF!+#REF!+#REF!+#REF!+#REF!+#REF!+#REF!+#REF!+#REF!+#REF!+#REF!+#REF!+#REF!+#REF!+#REF!+#REF!+#REF!+#REF!+#REF!+#REF!+#REF!+#REF!+#REF!+#REF!+#REF!+#REF!+#REF!+#REF!","v":{"$error":"#REF!"}},{"$f":"#REF!+#REF!+#REF!+#REF!+#REF!+#REF!+#REF!+#REF!+#REF!+#REF!+#REF!+#REF!+#REF!+#REF!+#REF!+#REF!+#REF!+#REF!+#REF!+#REF!+#REF!+#REF!+#REF!+#REF!+#REF!+#REF!+#REF!+#REF!+#REF!+#REF!+#REF!+#REF!+#REF!","v":{"$error":"#REF!"}},{"$f":"#REF!+#REF!+#REF!+#REF!+#REF!+#REF!+#REF!+#REF!+#REF!+#REF!+#REF!+#REF!+#REF!+#REF!+#REF!+#REF!+#REF!+#REF!+#REF!+#REF!+#REF!+#REF!+#REF!+#REF!+#REF!+#REF!+#REF!+#REF!+#REF!+#REF!+#REF!+#REF!+#REF!","v":{"$error":"#REF!"}},{"$f":"#REF!+#REF!+#REF!+#REF!+#REF!+#REF!+#REF!+#REF!+#REF!+#REF!+#REF!+#REF!+#REF!+#REF!+#REF!+#REF!+#REF!+#REF!+#REF!+#REF!+#REF!+#REF!+#REF!+#REF!+#REF!+#REF!+#REF!+#REF!+#REF!+#REF!+#REF!+#REF!+#REF!","v":{"$error":"#REF!"}},{"$f":"#REF!+#REF!+#REF!+#REF!+#REF!+#REF!+#REF!+#REF!+#REF!+#REF!+#REF!+#REF!+#REF!+#REF!+#REF!+#REF!+#REF!+#REF!+#REF!+#REF!+#REF!+#REF!+#REF!+#REF!+#REF!+#REF!+#REF!+#REF!+#REF!+#REF!+#REF!+#REF!+#REF!","v":{"$error":"#REF!"}},{"$f":"#REF!+#REF!+#REF!+#REF!+#REF!+#REF!+#REF!+#REF!+#REF!+#REF!+#REF!+#REF!+#REF!+#REF!+#REF!+#REF!+#REF!+#REF!+#REF!+#REF!+#REF!+#REF!+#REF!+#REF!+#REF!+#REF!+#REF!+#REF!+#REF!+#REF!+#REF!+#REF!+#REF!","v":{"$error":"#REF!"}},{"$f":"#REF!+#REF!+#REF!+#REF!+#REF!+#REF!+#REF!+#REF!+#REF!+#REF!+#REF!+#REF!+#REF!+#REF!+#REF!+#REF!+#REF!+#REF!+#REF!+#REF!+#REF!+#REF!+#REF!+#REF!+#REF!+#REF!+#REF!+#REF!+#REF!+#REF!+#REF!+#REF!+#REF!","v":{"$error":"#REF!"}},{"$f":"#REF!+#REF!+#REF!+#REF!+#REF!+#REF!+#REF!+#REF!+#REF!+#REF!+#REF!+#REF!+#REF!+#REF!+#REF!+#REF!+#REF!+#REF!+#REF!+#REF!+#REF!+#REF!+#REF!+#REF!+#REF!+#REF!+#REF!+#REF!+#REF!+#REF!+#REF!+#REF!+#REF!","v":{"$error":"#REF!"}},{"$f":"#REF!+#REF!+#REF!+#REF!+#REF!+#REF!+#REF!+#REF!+#REF!+#REF!+#REF!+#REF!+#REF!+#REF!+#REF!+#REF!+#REF!+#REF!+#REF!+#REF!+#REF!+#REF!+#REF!+#REF!+#REF!+#REF!+#REF!+#REF!+#REF!+#REF!+#REF!+#REF!+#REF!","v":{"$error":"#REF!"}},{"$f":"#REF!+#REF!+#REF!+#REF!+#REF!+#REF!+#REF!+#REF!+#REF!+#REF!+#REF!+#REF!+#REF!+#REF!+#REF!+#REF!+#REF!+#REF!+#REF!+#REF!+#REF!+#REF!+#REF!+#REF!+#REF!+#REF!+#REF!+#REF!+#REF!+#REF!+#REF!+#REF!+#REF!","v":{"$error":"#REF!"}},{"$f":"#REF!+#REF!+#REF!+#REF!+#REF!+#REF!+#REF!+#REF!+#REF!+#REF!+#REF!+#REF!+#REF!+#REF!+#REF!+#REF!+#REF!+#REF!+#REF!+#REF!+#REF!+#REF!+#REF!+#REF!+#REF!+#REF!+#REF!+#REF!+#REF!+#REF!+#REF!+#REF!+#REF!","v":{"$error":"#REF!"}},{"$f":"#REF!+#REF!+#REF!+#REF!+#REF!+#REF!+#REF!+#REF!+#REF!+#REF!+#REF!+#REF!+#REF!+#REF!+#REF!+#REF!+#REF!+#REF!+#REF!+#REF!+#REF!+#REF!+#REF!+#REF!+#REF!+#REF!+#REF!+#REF!+#REF!+#REF!+#REF!+#REF!+#REF!","v":{"$error":"#REF!"}},{"$error":"#REF!"},{"$error":"#REF!"},{"$f":"#REF!+#REF!+#REF!+#REF!+#REF!+#REF!+#REF!+#REF!+#REF!+#REF!+#REF!+#REF!+#REF!+#REF!+#REF!+#REF!+#REF!+#REF!+#REF!+#REF!+#REF!+#REF!+#REF!+#REF!+#REF!+#REF!+#REF!+#REF!+#REF!+#REF!+#REF!+#REF!+#REF!","v":{"$error":"#REF!"}},null,{"$error":"#REF!"}]
[5,"Avoyelles",{"$f":"#REF!+#REF!+#REF!+#REF!+#REF!+#REF!+#REF!+#REF!+#REF!+#REF!+#REF!+#REF!+#REF!+#REF!+#REF!+#REF!+#REF!+#REF!+#REF!+#REF!+#REF!+#REF!+#REF!+#REF!+#REF!+#REF!+#REF!+#REF!+#REF!+#REF!+#REF!+#REF!+#REF!","v":{"$error":"#REF!"}},{"$f":"'9_Per Pupil Summary'!H10","v":5210.6732241955169},{"$f":"#REF!+#REF!+#REF!+#REF!+#REF!+#REF!+#REF!+#REF!+#REF!+#REF!+#REF!+#REF!+#REF!+#REF!+#REF!+#REF!+#REF!+#REF!+#REF!+#REF!+#REF!+#REF!+#REF!+#REF!+#REF!+#REF!+#REF!+#REF!+#REF!+#REF!+#REF!+#REF!+#REF!","v":{"$error":"#REF!"}},{"$f":"#REF!+#REF!+#REF!+#REF!+#REF!+#REF!+#REF!+#REF!+#REF!+#REF!+#REF!+#REF!+#REF!+#REF!+#REF!+#REF!+#REF!+#REF!+#REF!+#REF!+#REF!+#REF!+#REF!+#REF!+#REF!+#REF!+#REF!+#REF!+#REF!+#REF!+#REF!+#REF!+#REF!","v":{"$error":"#REF!"}},{"$f":"'9_Per Pupil Summary'!I10","v":705.61709907084344},{"$f":"#REF!+#REF!+#REF!+#REF!+#REF!+#REF!+#REF!+#REF!+#REF!+#REF!+#REF!+#REF!+#REF!+#REF!+#REF!+#REF!+#REF!+#REF!+#REF!+#REF!+#REF!+#REF!+#REF!+#REF!+#REF!+#REF!+#REF!+#REF!+#REF!+#REF!+#REF!+#REF!+#REF!","v":{"$error":"#REF!"}},{"$f":"#REF!+#REF!+#REF!+#REF!+#REF!+#REF!+#REF!+#REF!+#REF!+#REF!+#REF!+#REF!+#REF!+#REF!+#REF!+#REF!+#REF!+#REF!+#REF!+#REF!+#REF!+#REF!+#REF!+#REF!+#REF!+#REF!+#REF!+#REF!+#REF!+#REF!+#REF!+#REF!+#REF!","v":{"$error":"#REF!"}},{"$f":"'9_Per Pupil Summary'!J10","v":192.44102701932096},{"$f":"#REF!+#REF!+#REF!+#REF!+#REF!+#REF!+#REF!+#REF!+#REF!+#REF!+#REF!+#REF!+#REF!+#REF!+#REF!+#REF!+#REF!+#REF!+#REF!+#REF!+#REF!+#REF!+#REF!+#REF!+#REF!+#REF!+#REF!+#REF!+#REF!+#REF!+#REF!+#REF!+#REF!","v":{"$error":"#REF!"}},{"$f":"#REF!+#REF!+#REF!+#REF!+#REF!+#REF!+#REF!+#REF!+#REF!+#REF!+#REF!+#REF!+#REF!+#REF!+#REF!+#REF!+#REF!+#REF!+#REF!+#REF!+#REF!+#REF!+#REF!+#REF!+#REF!+#REF!+#REF!+#REF!+#REF!+#REF!+#REF!+#REF!+#REF!","v":{"$error":"#REF!"}},{"$f":"'9_Per Pupil Summary'!K10","v":4811.0256754830243},{"$f":"#REF!+#REF!+#REF!+#REF!+#REF!+#REF!+#REF!+#REF!+#REF!+#REF!+#REF!+#REF!+#REF!+#REF!+#REF!+#REF!+#REF!+#REF!+#REF!+#REF!+#REF!+#REF!+#REF!+#REF!+#REF!+#REF!+#REF!+#REF!+#REF!+#REF!+#REF!+#REF!+#REF!","v":{"$error":"#REF!"}},{"$f":"#REF!+#REF!+#REF!+#REF!+#REF!+#REF!+#REF!+#REF!+#REF!+#REF!+#REF!+#REF!+#REF!+#REF!+#REF!+#REF!+#REF!+#REF!+#REF!+#REF!+#REF!+#REF!+#REF!+#REF!+#REF!+#REF!+#REF!+#REF!+#REF!+#REF!+#REF!+#REF!+#REF!","v":{"$error":"#REF!"}},{"$f":"'9_Per Pupil Summary'!L10","v":1924.4102701932097},{"$f":"#REF!+#REF!+#REF!+#REF!+#REF!+#REF!+#REF!+#REF!+#REF!+#REF!+#REF!+#REF!+#REF!+#REF!+#REF!+#REF!+#REF!+#REF!+#REF!+#REF!+#REF!+#REF!+#REF!+#REF!+#REF!+#REF!+#REF!+#REF!+#REF!+#REF!+#REF!+#REF!+#REF!","v":{"$error":"#REF!"}},{"$f":"#REF!+#REF!+#REF!+#REF!+#REF!+#REF!+#REF!+#REF!+#REF!+#REF!+#REF!+#REF!+#REF!+#REF!+#REF!+#REF!+#REF!+#REF!+#REF!+#REF!+#REF!+#REF!+#REF!+#REF!+#REF!+#REF!+#REF!+#REF!+#REF!+#REF!+#REF!+#REF!+#REF!","v":{"$error":"#REF!"}},{"$f":"#REF!+#REF!","v":{"$error":"#REF!"}},{"$f":"#REF!+#REF!+#REF!+#REF!+#REF!+#REF!+#REF!+#REF!+#REF!+#REF!+#REF!+#REF!+#REF!+#REF!+#REF!+#REF!+#REF!+#REF!+#REF!+#REF!+#REF!+#REF!+#REF!+#REF!+#REF!+#REF!+#REF!+#REF!+#REF!+#REF!+#REF!+#REF!+#REF!","v":{"$error":"#REF!"}},{"$f":"#REF!+#REF!+#REF!+#REF!+#REF!+#REF!+#REF!+#REF!+#REF!+#REF!+#REF!+#REF!+#REF!+#REF!+#REF!+#REF!+#REF!+#REF!+#REF!+#REF!+#REF!+#REF!+#REF!+#REF!+#REF!+#REF!+#REF!+#REF!+#REF!+#REF!+#REF!+#REF!+#REF!","v":{"$error":"#REF!"}},{"$f":"#REF!+#REF!+#REF!+#REF!+#REF!+#REF!+#REF!+#REF!+#REF!+#REF!+#REF!+#REF!+#REF!+#REF!+#REF!+#REF!+#REF!+#REF!+#REF!+#REF!+#REF!+#REF!+#REF!+#REF!+#REF!+#REF!+#REF!+#REF!+#REF!+#REF!+#REF!+#REF!+#REF!","v":{"$error":"#REF!"}},{"$f":"#REF!+#REF!+#REF!+#REF!+#REF!+#REF!+#REF!+#REF!+#REF!+#REF!+#REF!+#REF!+#REF!+#REF!+#REF!+#REF!+#REF!+#REF!+#REF!+#REF!+#REF!+#REF!+#REF!+#REF!+#REF!+#REF!+#REF!+#REF!+#REF!+#REF!+#REF!+#REF!+#REF!","v":{"$error":"#REF!"}},{"$f":"#REF!+#REF!+#REF!+#REF!+#REF!+#REF!+#REF!+#REF!+#REF!+#REF!+#REF!+#REF!+#REF!+#REF!+#REF!+#REF!+#REF!+#REF!+#REF!+#REF!+#REF!+#REF!+#REF!+#REF!+#REF!+#REF!+#REF!+#REF!+#REF!+#REF!+#REF!+#REF!+#REF!","v":{"$error":"#REF!"}},{"$f":"#REF!+#REF!+#REF!+#REF!+#REF!+#REF!+#REF!+#REF!+#REF!+#REF!+#REF!+#REF!+#REF!+#REF!+#REF!+#REF!+#REF!+#REF!+#REF!+#REF!+#REF!+#REF!+#REF!+#REF!+#REF!+#REF!+#REF!+#REF!+#REF!+#REF!+#REF!+#REF!+#REF!","v":{"$error":"#REF!"}},{"$f":"#REF!+#REF!+#REF!+#REF!+#REF!+#REF!+#REF!+#REF!+#REF!+#REF!+#REF!+#REF!+#REF!+#REF!+#REF!+#REF!+#REF!+#REF!+#REF!+#REF!+#REF!+#REF!+#REF!+#REF!+#REF!+#REF!+#REF!+#REF!+#REF!+#REF!+#REF!+#REF!+#REF!","v":{"$error":"#REF!"}},{"$f":"#REF!+#REF!+#REF!+#REF!+#REF!+#REF!+#REF!+#REF!+#REF!+#REF!+#REF!+#REF!+#REF!+#REF!+#REF!+#REF!+#REF!+#REF!+#REF!+#REF!+#REF!+#REF!+#REF!+#REF!+#REF!+#REF!+#REF!+#REF!+#REF!+#REF!+#REF!+#REF!+#REF!","v":{"$error":"#REF!"}},{"$f":"#REF!+#REF!+#REF!+#REF!+#REF!+#REF!+#REF!+#REF!+#REF!+#REF!+#REF!+#REF!+#REF!+#REF!+#REF!+#REF!+#REF!+#REF!+#REF!+#REF!+#REF!+#REF!+#REF!+#REF!+#REF!+#REF!+#REF!+#REF!+#REF!+#REF!+#REF!+#REF!+#REF!","v":{"$error":"#REF!"}},{"$f":"#REF!+#REF!+#REF!+#REF!+#REF!+#REF!+#REF!+#REF!+#REF!+#REF!+#REF!+#REF!+#REF!+#REF!+#REF!+#REF!+#REF!+#REF!+#REF!+#REF!+#REF!+#REF!+#REF!+#REF!+#REF!+#REF!+#REF!+#REF!+#REF!+#REF!+#REF!+#REF!+#REF!","v":{"$error":"#REF!"}},{"$f":"#REF!+#REF!+#REF!+#REF!+#REF!+#REF!+#REF!+#REF!+#REF!+#REF!+#REF!+#REF!+#REF!+#REF!+#REF!+#REF!+#REF!+#REF!+#REF!+#REF!+#REF!+#REF!+#REF!+#REF!+#REF!+#REF!+#REF!+#REF!+#REF!+#REF!+#REF!+#REF!+#REF!","v":{"$error":"#REF!"}},{"$f":"#REF!+#REF!+#REF!+#REF!+#REF!+#REF!+#REF!+#REF!+#REF!+#REF!+#REF!+#REF!+#REF!+#REF!+#REF!+#REF!+#REF!+#REF!+#REF!+#REF!+#REF!+#REF!+#REF!+#REF!+#REF!+#REF!+#REF!+#REF!+#REF!+#REF!+#REF!+#REF!+#REF!","v":{"$error":"#REF!"}},{"$f":"'9_Per Pupil Summary'!N10","v":3249},{"$f":"#REF!+#REF!+#REF!+#REF!+#REF!+#REF!+#REF!+#REF!+#REF!+#REF!+#REF!+#REF!+#REF!+#REF!+#REF!+#REF!+#REF!+#REF!+#REF!+#REF!+#REF!+#REF!+#REF!+#REF!+#REF!+#REF!+#REF!+#REF!+#REF!+#REF!+#REF!+#REF!+#REF!","v":{"$error":"#REF!"}},{"$f":"#REF!+#REF!+#REF!+#REF!+#REF!+#REF!+#REF!+#REF!+#REF!+#REF!+#REF!+#REF!+#REF!+#REF!+#REF!+#REF!+#REF!+#REF!+#REF!+#REF!+#REF!+#REF!+#REF!+#REF!+#REF!+#REF!+#REF!+#REF!+#REF!+#REF!+#REF!+#REF!+#REF!","v":{"$error":"#REF!"}},{"$f":"#REF!+#REF!+#REF!+#REF!+#REF!+#REF!+#REF!+#REF!+#REF!+#REF!+#REF!+#REF!+#REF!+#REF!+#REF!+#REF!+#REF!+#REF!+#REF!+#REF!+#REF!+#REF!+#REF!+#REF!+#REF!+#REF!+#REF!+#REF!+#REF!+#REF!+#REF!+#REF!+#REF!","v":{"$error":"#REF!"}},{"$f":"#REF!+#REF!+#REF!+#REF!+#REF!+#REF!+#REF!+#REF!+#REF!+#REF!+#REF!+#REF!+#REF!+#REF!+#REF!+#REF!+#REF!+#REF!+#REF!+#REF!+#REF!+#REF!+#REF!+#REF!+#REF!+#REF!+#REF!+#REF!+#REF!+#REF!+#REF!+#REF!+#REF!","v":{"$error":"#REF!"}},{"$f":"#REF!+#REF!+#REF!+#REF!+#REF!+#REF!+#REF!+#REF!+#REF!+#REF!+#REF!+#REF!+#REF!+#REF!+#REF!+#REF!+#REF!+#REF!+#REF!+#REF!+#REF!+#REF!+#REF!+#REF!+#REF!+#REF!+#REF!+#REF!+#REF!+#REF!+#REF!+#REF!+#REF!","v":{"$error":"#REF!"}},{"$f":"#REF!+#REF!+#REF!+#REF!+#REF!+#REF!+#REF!+#REF!+#REF!+#REF!+#REF!+#REF!+#REF!+#REF!+#REF!+#REF!+#REF!+#REF!+#REF!+#REF!+#REF!+#REF!+#REF!+#REF!+#REF!+#REF!+#REF!+#REF!+#REF!+#REF!+#REF!+#REF!+#REF!","v":{"$error":"#REF!"}},{"$f":"#REF!+#REF!+#REF!+#REF!+#REF!+#REF!+#REF!+#REF!+#REF!+#REF!+#REF!+#REF!+#REF!+#REF!+#REF!+#REF!+#REF!+#REF!+#REF!+#REF!+#REF!+#REF!+#REF!+#REF!+#REF!+#REF!+#REF!+#REF!+#REF!+#REF!+#REF!+#REF!+#REF!","v":{"$error":"#REF!"}},{"$f":"#REF!+#REF!+#REF!+#REF!+#REF!+#REF!+#REF!+#REF!+#REF!+#REF!+#REF!+#REF!+#REF!+#REF!+#REF!+#REF!+#REF!+#REF!+#REF!+#REF!+#REF!+#REF!+#REF!+#REF!+#REF!+#REF!+#REF!+#REF!+#REF!+#REF!+#REF!+#REF!+#REF!","v":{"$error":"#REF!"}},{"$f":"#REF!+#REF!+#REF!+#REF!+#REF!+#REF!+#REF!+#REF!+#REF!+#REF!+#REF!+#REF!+#REF!+#REF!+#REF!+#REF!+#REF!+#REF!+#REF!+#REF!+#REF!+#REF!+#REF!+#REF!+#REF!+#REF!+#REF!+#REF!+#REF!+#REF!+#REF!+#REF!+#REF!","v":{"$error":"#REF!"}},{"$f":"#REF!+#REF!+#REF!+#REF!+#REF!+#REF!+#REF!+#REF!+#REF!+#REF!+#REF!+#REF!+#REF!+#REF!+#REF!+#REF!+#REF!+#REF!+#REF!+#REF!+#REF!+#REF!+#REF!+#REF!+#REF!+#REF!+#REF!+#REF!+#REF!+#REF!+#REF!+#REF!+#REF!","v":{"$error":"#REF!"}},{"$f":"#REF!+#REF!+#REF!+#REF!+#REF!+#REF!+#REF!+#REF!+#REF!+#REF!+#REF!+#REF!+#REF!+#REF!+#REF!+#REF!+#REF!+#REF!+#REF!+#REF!+#REF!+#REF!+#REF!+#REF!+#REF!+#REF!+#REF!+#REF!+#REF!+#REF!+#REF!+#REF!+#REF!","v":{"$error":"#REF!"}},{"$f":"#REF!+#REF!+#REF!+#REF!+#REF!+#REF!+#REF!+#REF!+#REF!+#REF!+#REF!+#REF!+#REF!+#REF!+#REF!+#REF!+#REF!+#REF!+#REF!+#REF!+#REF!+#REF!+#REF!+#REF!+#REF!+#REF!+#REF!+#REF!+#REF!+#REF!+#REF!+#REF!+#REF!","v":{"$error":"#REF!"}},{"$f":"#REF!+#REF!+#REF!+#REF!+#REF!+#REF!+#REF!+#REF!+#REF!+#REF!+#REF!+#REF!+#REF!+#REF!+#REF!+#REF!+#REF!+#REF!+#REF!+#REF!+#REF!+#REF!+#REF!+#REF!+#REF!+#REF!+#REF!+#REF!+#REF!+#REF!+#REF!+#REF!+#REF!","v":{"$error":"#REF!"}},{"$f":"#REF!+#REF!+#REF!+#REF!+#REF!+#REF!+#REF!+#REF!+#REF!+#REF!+#REF!+#REF!+#REF!+#REF!+#REF!+#REF!+#REF!+#REF!+#REF!+#REF!+#REF!+#REF!+#REF!+#REF!+#REF!+#REF!+#REF!+#REF!+#REF!+#REF!+#REF!+#REF!+#REF!","v":{"$error":"#REF!"}},{"$error":"#REF!"},{"$error":"#REF!"},{"$f":"#REF!+#REF!+#REF!+#REF!+#REF!+#REF!+#REF!+#REF!+#REF!+#REF!+#REF!+#REF!+#REF!+#REF!+#REF!+#REF!+#REF!+#REF!+#REF!+#REF!+#REF!+#REF!+#REF!+#REF!+#REF!+#REF!+#REF!+#REF!+#REF!+#REF!+#REF!+#REF!+#REF!","v":{"$error":"#REF!"}},null,{"$error":"#REF!"}]
[6,"Beauregard",{"$f":"#REF!+#REF!+#REF!+#REF!+#REF!+#REF!+#REF!+#REF!+#REF!+#REF!+#REF!+#REF!+#REF!+#REF!+#REF!+#REF!+#REF!+#REF!+#REF!+#REF!+#REF!+#REF!+#REF!+#REF!+#REF!+#REF!+#REF!+#REF!+#REF!+#REF!+#REF!+#REF!+#REF!","v":{"$error":"#REF!"}},{"$f":"'9_Per Pupil Summary'!H11","v":4687.0190190195153},{"$f":"#REF!+#REF!+#REF!+#REF!+#REF!+#REF!+#REF!+#REF!+#REF!+#REF!+#REF!+#REF!+#REF!+#REF!+#REF!+#REF!+#REF!+#REF!+#REF!+#REF!+#REF!+#REF!+#REF!+#REF!+#REF!+#REF!+#REF!+#REF!+#REF!+#REF!+#REF!+#REF!+#REF!","v":{"$error":"#REF!"}},{"$f":"#REF!+#REF!+#REF!+#REF!+#REF!+#REF!+#REF!+#REF!+#REF!+#REF!+#REF!+#REF!+#REF!+#REF!+#REF!+#REF!+#REF!+#REF!+#REF!+#REF!+#REF!+#REF!+#REF!+#REF!+#REF!+#REF!+#REF!+#REF!+#REF!+#REF!+#REF!+#REF!+#REF!","v":{"$error":"#REF!"}},{"$f":"'9_Per Pupil Summary'!I11","v":641.32774649739008},{"$f":"#REF!+#REF!+#REF!+#REF!+#REF!+#REF!+#REF!+#REF!+#REF!+#REF!+#REF!+#REF!+#REF!+#REF!+#REF!+#REF!+#REF!+#REF!+#REF!+#REF!+#REF!+#REF!+#REF!+#REF!+#REF!+#REF!+#REF!+#REF!+#REF!+#REF!+#REF!+#REF!+#REF!","v":{"$error":"#REF!"}},{"$f":"#REF!+#REF!+#REF!+#REF!+#REF!+#REF!+#REF!+#REF!+#REF!+#REF!+#REF!+#REF!+#REF!+#REF!+#REF!+#REF!+#REF!+#REF!+#REF!+#REF!+#REF!+#REF!+#REF!+#REF!+#REF!+#REF!+#REF!+#REF!+#REF!+#REF!+#REF!+#REF!+#REF!","v":{"$error":"#REF!"}},{"$f":"'9_Per Pupil Summary'!J11","v":174.90756722656093},{"$f":"#REF!+#REF!+#REF!+#REF!+#REF!+#REF!+#REF!+#REF!+#REF!+#REF!+#REF!+#REF!+#REF!+#REF!+#REF!+#REF!+#REF!+#REF!+#REF!+#REF!+#REF!+#REF!+#REF!+#REF!+#REF!+#REF!+#REF!+#REF!+#REF!+#REF!+#REF!+#REF!+#REF!","v":{"$error":"#REF!"}},{"$f":"#REF!+#REF!+#REF!+#REF!+#REF!+#REF!+#REF!+#REF!+#REF!+#REF!+#REF!+#REF!+#REF!+#REF!+#REF!+#REF!+#REF!+#REF!+#REF!+#REF!+#REF!+#REF!+#REF!+#REF!+#REF!+#REF!+#REF!+#REF!+#REF!+#REF!+#REF!+#REF!+#REF!","v":{"$error":"#REF!"}},{"$f":"'9_Per Pupil Summary'!K11","v":4372.6891806640233},{"$f":"#REF!+#REF!+#REF!+#REF!+#REF!+#REF!+#REF!+#REF!+#REF!+#REF!+#REF!+#REF!+#REF!+#REF!+#REF!+#REF!+#REF!+#REF!+#REF!+#REF!+#REF!+#REF!+#REF!+#REF!+#REF!+#REF!+#REF!+#REF!+#REF!+#REF!+#REF!+#REF!+#REF!","v":{"$error":"#REF!"}},{"$f":"#REF!+#REF!+#REF!+#REF!+#REF!+#REF!+#REF!+#REF!+#REF!+#REF!+#REF!+#REF!+#REF!+#REF!+#REF!+#REF!+#REF!+#REF!+#REF!+#REF!+#REF!+#REF!+#REF!+#REF!+#REF!+#REF!+#REF!+#REF!+#REF!+#REF!+#REF!+#REF!+#REF!","v":{"$error":"#REF!"}},{"$f":"'9_Per Pupil Summary'!L11","v":1749.0756722656097},{"$f":"#REF!+#REF!+#REF!+#REF!+#REF!+#REF!+#REF!+#REF!+#REF!+#REF!+#REF!+#REF!+#REF!+#REF!+#REF!+#REF!+#REF!+#REF!+#REF!+#REF!+#REF!+#REF!+#REF!+#REF!+#REF!+#REF!+#REF!+#REF!+#REF!+#REF!+#REF!+#REF!+#REF!","v":{"$error":"#REF!"}},{"$f":"#REF!+#REF!+#REF!+#REF!+#REF!+#REF!+#REF!+#REF!+#REF!+#REF!+#REF!+#REF!+#REF!+#REF!+#REF!+#REF!+#REF!+#REF!+#REF!+#REF!+#REF!+#REF!+#REF!+#REF!+#REF!+#REF!+#REF!+#REF!+#REF!+#REF!+#REF!+#REF!+#REF!","v":{"$error":"#REF!"}},{"$f":"#REF!+#REF!","v":{"$error":"#REF!"}},{"$f":"#REF!+#REF!+#REF!+#REF!+#REF!+#REF!+#REF!+#REF!+#REF!+#REF!+#REF!+#REF!+#REF!+#REF!+#REF!+#REF!+#REF!+#REF!+#REF!+#REF!+#REF!+#REF!+#REF!+#REF!+#REF!+#REF!+#REF!+#REF!+#REF!+#REF!+#REF!+#REF!+#REF!","v":{"$error":"#REF!"}},{"$f":"#REF!+#REF!+#REF!+#REF!+#REF!+#REF!+#REF!+#REF!+#REF!+#REF!+#REF!+#REF!+#REF!+#REF!+#REF!+#REF!+#REF!+#REF!+#REF!+#REF!+#REF!+#REF!+#REF!+#REF!+#REF!+#REF!+#REF!+#REF!+#REF!+#REF!+#REF!+#REF!+#REF!","v":{"$error":"#REF!"}},{"$f":"#REF!+#REF!+#REF!+#REF!+#REF!+#REF!+#REF!+#REF!+#REF!+#REF!+#REF!+#REF!+#REF!+#REF!+#REF!+#REF!+#REF!+#REF!+#REF!+#REF!+#REF!+#REF!+#REF!+#REF!+#REF!+#REF!+#REF!+#REF!+#REF!+#REF!+#REF!+#REF!+#REF!","v":{"$error":"#REF!"}},{"$f":"#REF!+#REF!+#REF!+#REF!+#REF!+#REF!+#REF!+#REF!+#REF!+#REF!+#REF!+#REF!+#REF!+#REF!+#REF!+#REF!+#REF!+#REF!+#REF!+#REF!+#REF!+#REF!+#REF!+#REF!+#REF!+#REF!+#REF!+#REF!+#REF!+#REF!+#REF!+#REF!+#REF!","v":{"$error":"#REF!"}},{"$f":"#REF!+#REF!+#REF!+#REF!+#REF!+#REF!+#REF!+#REF!+#REF!+#REF!+#REF!+#REF!+#REF!+#REF!+#REF!+#REF!+#REF!+#REF!+#REF!+#REF!+#REF!+#REF!+#REF!+#REF!+#REF!+#REF!+#REF!+#REF!+#REF!+#REF!+#REF!+#REF!+#REF!","v":{"$error":"#REF!"}},{"$f":"#REF!+#REF!+#REF!+#REF!+#REF!+#REF!+#REF!+#REF!+#REF!+#REF!+#REF!+#REF!+#REF!+#REF!+#REF!+#REF!+#REF!+#REF!+#REF!+#REF!+#REF!+#REF!+#REF!+#REF!+#REF!+#REF!+#REF!+#REF!+#REF!+#REF!+#REF!+#REF!+#REF!","v":{"$error":"#REF!"}},{"$f":"#REF!+#REF!+#REF!+#REF!+#REF!+#REF!+#REF!+#REF!+#REF!+#REF!+#REF!+#REF!+#REF!+#REF!+#REF!+#REF!+#REF!+#REF!+#REF!+#REF!+#REF!+#REF!+#REF!+#REF!+#REF!+#REF!+#REF!+#REF!+#REF!+#REF!+#REF!+#REF!+#REF!","v":{"$error":"#REF!"}},{"$f":"#REF!+#REF!+#REF!+#REF!+#REF!+#REF!+#REF!+#REF!+#REF!+#REF!+#REF!+#REF!+#REF!+#REF!+#REF!+#REF!+#REF!+#REF!+#REF!+#REF!+#REF!+#REF!+#REF!+#REF!+#REF!+#REF!+#REF!+#REF!+#REF!+#REF!+#REF!+#REF!+#REF!","v":{"$error":"#REF!"}},{"$f":"#REF!+#REF!+#REF!+#REF!+#REF!+#REF!+#REF!+#REF!+#REF!+#REF!+#REF!+#REF!+#REF!+#REF!+#REF!+#REF!+#REF!+#REF!+#REF!+#REF!+#REF!+#REF!+#REF!+#REF!+#REF!+#REF!+#REF!+#REF!+#REF!+#REF!+#REF!+#REF!+#REF!","v":{"$error":"#REF!"}},{"$f":"#REF!+#REF!+#REF!+#REF!+#REF!+#REF!+#REF!+#REF!+#REF!+#REF!+#REF!+#REF!+#REF!+#REF!+#REF!+#REF!+#REF!+#REF!+#REF!+#REF!+#REF!+#REF!+#REF!+#REF!+#REF!+#REF!+#REF!+#REF!+#REF!+#REF!+#REF!+#REF!+#REF!","v":{"$error":"#REF!"}},{"$f":"#REF!+#REF!+#REF!+#REF!+#REF!+#REF!+#REF!+#REF!+#REF!+#REF!+#REF!+#REF!+#REF!+#REF!+#REF!+#REF!+#REF!+#REF!+#REF!+#REF!+#REF!+#REF!+#REF!+#REF!+#REF!+#REF!+#REF!+#REF!+#REF!+#REF!+#REF!+#REF!+#REF!","v":{"$error":"#REF!"}},{"$f":"#REF!+#REF!+#REF!+#REF!+#REF!+#REF!+#REF!+#REF!+#REF!+#REF!+#REF!+#REF!+#REF!+#REF!+#REF!+#REF!+#REF!+#REF!+#REF!+#REF!+#REF!+#REF!+#REF!+#REF!+#REF!+#REF!+#REF!+#REF!+#REF!+#REF!+#REF!+#REF!+#REF!","v":{"$error":"#REF!"}},{"$f":"'9_Per Pupil Summary'!N11","v":5587},{"$f":"#REF!+#REF!+#REF!+#REF!+#REF!+#REF!+#REF!+#REF!+#REF!+#REF!+#REF!+#REF!+#REF!+#REF!+#REF!+#REF!+#REF!+#REF!+#REF!+#REF!+#REF!+#REF!+#REF!+#REF!+#REF!+#REF!+#REF!+#REF!+#REF!+#REF!+#REF!+#REF!+#REF!","v":{"$error":"#REF!"}},{"$f":"#REF!+#REF!+#REF!+#REF!+#REF!+#REF!+#REF!+#REF!+#REF!+#REF!+#REF!+#REF!+#REF!+#REF!+#REF!+#REF!+#REF!+#REF!+#REF!+#REF!+#REF!+#REF!+#REF!+#REF!+#REF!+#REF!+#REF!+#REF!+#REF!+#REF!+#REF!+#REF!+#REF!","v":{"$error":"#REF!"}},{"$f":"#REF!+#REF!+#REF!+#REF!+#REF!+#REF!+#REF!+#REF!+#REF!+#REF!+#REF!+#REF!+#REF!+#REF!+#REF!+#REF!+#REF!+#REF!+#REF!+#REF!+#REF!+#REF!+#REF!+#REF!+#REF!+#REF!+#REF!+#REF!+#REF!+#REF!+#REF!+#REF!+#REF!","v":{"$error":"#REF!"}},{"$f":"#REF!+#REF!+#REF!+#REF!+#REF!+#REF!+#REF!+#REF!+#REF!+#REF!+#REF!+#REF!+#REF!+#REF!+#REF!+#REF!+#REF!+#REF!+#REF!+#REF!+#REF!+#REF!+#REF!+#REF!+#REF!+#REF!+#REF!+#REF!+#REF!+#REF!+#REF!+#REF!+#REF!","v":{"$error":"#REF!"}},{"$f":"#REF!+#REF!+#REF!+#REF!+#REF!+#REF!+#REF!+#REF!+#REF!+#REF!+#REF!+#REF!+#REF!+#REF!+#REF!+#REF!+#REF!+#REF!+#REF!+#REF!+#REF!+#REF!+#REF!+#REF!+#REF!+#REF!+#REF!+#REF!+#REF!+#REF!+#REF!+#REF!+#REF!","v":{"$error":"#REF!"}},{"$f":"#REF!+#REF!+#REF!+#REF!+#REF!+#REF!+#REF!+#REF!+#REF!+#REF!+#REF!+#REF!+#REF!+#REF!+#REF!+#REF!+#REF!+#REF!+#REF!+#REF!+#REF!+#REF!+#REF!+#REF!+#REF!+#REF!+#REF!+#REF!+#REF!+#REF!+#REF!+#REF!+#REF!","v":{"$error":"#REF!"}},{"$f":"#REF!+#REF!+#REF!+#REF!+#REF!+#REF!+#REF!+#REF!+#REF!+#REF!+#REF!+#REF!+#REF!+#REF!+#REF!+#REF!+#REF!+#REF!+#REF!+#REF!+#REF!+#REF!+#REF!+#REF!+#REF!+#REF!+#REF!+#REF!+#REF!+#REF!+#REF!+#REF!+#REF!","v":{"$error":"#REF!"}},{"$f":"#REF!+#REF!+#REF!+#REF!+#REF!+#REF!+#REF!+#REF!+#REF!+#REF!+#REF!+#REF!+#REF!+#REF!+#REF!+#REF!+#REF!+#REF!+#REF!+#REF!+#REF!+#REF!+#REF!+#REF!+#REF!+#REF!+#REF!+#REF!+#REF!+#REF!+#REF!+#REF!+#REF!","v":{"$error":"#REF!"}},{"$f":"#REF!+#REF!+#REF!+#REF!+#REF!+#REF!+#REF!+#REF!+#REF!+#REF!+#REF!+#REF!+#REF!+#REF!+#REF!+#REF!+#REF!+#REF!+#REF!+#REF!+#REF!+#REF!+#REF!+#REF!+#REF!+#REF!+#REF!+#REF!+#REF!+#REF!+#REF!+#REF!+#REF!","v":{"$error":"#REF!"}},{"$f":"#REF!+#REF!+#REF!+#REF!+#REF!+#REF!+#REF!+#REF!+#REF!+#REF!+#REF!+#REF!+#REF!+#REF!+#REF!+#REF!+#REF!+#REF!+#REF!+#REF!+#REF!+#REF!+#REF!+#REF!+#REF!+#REF!+#REF!+#REF!+#REF!+#REF!+#REF!+#REF!+#REF!","v":{"$error":"#REF!"}},{"$f":"#REF!+#REF!+#REF!+#REF!+#REF!+#REF!+#REF!+#REF!+#REF!+#REF!+#REF!+#REF!+#REF!+#REF!+#REF!+#REF!+#REF!+#REF!+#REF!+#REF!+#REF!+#REF!+#REF!+#REF!+#REF!+#REF!+#REF!+#REF!+#REF!+#REF!+#REF!+#REF!+#REF!","v":{"$error":"#REF!"}},{"$f":"#REF!+#REF!+#REF!+#REF!+#REF!+#REF!+#REF!+#REF!+#REF!+#REF!+#REF!+#REF!+#REF!+#REF!+#REF!+#REF!+#REF!+#REF!+#REF!+#REF!+#REF!+#REF!+#REF!+#REF!+#REF!+#REF!+#REF!+#REF!+#REF!+#REF!+#REF!+#REF!+#REF!","v":{"$error":"#REF!"}},{"$f":"#REF!+#REF!+#REF!+#REF!+#REF!+#REF!+#REF!+#REF!+#REF!+#REF!+#REF!+#REF!+#REF!+#REF!+#REF!+#REF!+#REF!+#REF!+#REF!+#REF!+#REF!+#REF!+#REF!+#REF!+#REF!+#REF!+#REF!+#REF!+#REF!+#REF!+#REF!+#REF!+#REF!","v":{"$error":"#REF!"}},{"$f":"#REF!+#REF!+#REF!+#REF!+#REF!+#REF!+#REF!+#REF!+#REF!+#REF!+#REF!+#REF!+#REF!+#REF!+#REF!+#REF!+#REF!+#REF!+#REF!+#REF!+#REF!+#REF!+#REF!+#REF!+#REF!+#REF!+#REF!+#REF!+#REF!+#REF!+#REF!+#REF!+#REF!","v":{"$error":"#REF!"}},{"$error":"#REF!"},{"$error":"#REF!"},{"$f":"#REF!+#REF!+#REF!+#REF!+#REF!+#REF!+#REF!+#REF!+#REF!+#REF!+#REF!+#REF!+#REF!+#REF!+#REF!+#REF!+#REF!+#REF!+#REF!+#REF!+#REF!+#REF!+#REF!+#REF!+#REF!+#REF!+#REF!+#REF!+#REF!+#REF!+#REF!+#REF!+#REF!","v":{"$error":"#REF!"}},null,{"$error":"#REF!"}]
[7,"Bienville",{"$f":"#REF!+#REF!+#REF!+#REF!+#REF!+#REF!+#REF!+#REF!+#REF!+#REF!+#REF!+#REF!+#REF!+#REF!+#REF!+#REF!+#REF!+#REF!+#REF!+#REF!+#REF!+#REF!+#REF!+#REF!+#REF!+#REF!+#REF!+#REF!+#REF!+#REF!+#REF!+#REF!+#REF!","v":{"$error":"#REF!"}},{"$f":"'9_Per Pupil Summary'!H12","v":3000.9328680251483},{"$f":"#REF!+#REF!+#REF!+#REF!+#REF!+#REF!+#REF!+#REF!+#REF!+#REF!+#REF!+#REF!+#REF!+#REF!+#REF!+#REF!+#REF!+#REF!+#REF!+#REF!+#REF!+#REF!+#REF!+#REF!+#REF!+#REF!+#REF!+#REF!+#REF!+#REF!+#REF!+#REF!+#REF!","v":{"$error":"#REF!"}},{"$f":"#REF!+#REF!+#REF!+#REF!+#REF!+#REF!+#REF!+#REF!+#REF!+#REF!+#REF!+#REF!+#REF!+#REF!+#REF!+#REF!+#REF!+#REF!+#REF!+#REF!+#REF!+#REF!+#REF!+#REF!+#REF!+#REF!+#REF!+#REF!+#REF!+#REF!+#REF!+#REF!+#REF!","v":{"$error":"#REF!"}},{"$f":"'9_Per Pupil Summary'!I12","v":413.51205486279667},{"$f":"#REF!+#REF!+#REF!+#REF!+#REF!+#REF!+#REF!+#REF!+#REF!+#REF!+#REF!+#REF!+#REF!+#REF!+#REF!+#REF!+#REF!+#REF!+#REF!+#REF!+#REF!+#REF!+#REF!+#REF!+#REF!+#REF!+#REF!+#REF!+#REF!+#REF!+#REF!+#REF!+#REF!","v":{"$error":"#REF!"}},{"$f":"#REF!+#REF!+#REF!+#REF!+#REF!+#REF!+#REF!+#REF!+#REF!+#REF!+#REF!+#REF!+#REF!+#REF!+#REF!+#REF!+#REF!+#REF!+#REF!+#REF!+#REF!+#REF!+#REF!+#REF!+#REF!+#REF!+#REF!+#REF!+#REF!+#REF!+#REF!+#REF!+#REF!","v":{"$error":"#REF!"}},{"$f":"'9_Per Pupil Summary'!J12","v":112.7760149625809},{"$f":"#REF!+#REF!+#REF!+#REF!+#REF!+#REF!+#REF!+#REF!+#REF!+#REF!+#REF!+#REF!+#REF!+#REF!+#REF!+#REF!+#REF!+#REF!+#REF!+#REF!+#REF!+#REF!+#REF!+#REF!+#REF!+#REF!+#REF!+#REF!+#REF!+#REF!+#REF!+#REF!+#REF!","v":{"$error":"#REF!"}},{"$f":"#REF!+#REF!+#REF!+#REF!+#REF!+#REF!+#REF!+#REF!+#REF!+#REF!+#REF!+#REF!+#REF!+#REF!+#REF!+#REF!+#REF!+#REF!+#REF!+#REF!+#REF!+#REF!+#REF!+#REF!+#REF!+#REF!+#REF!+#REF!+#REF!+#REF!+#REF!+#REF!+#REF!","v":{"$error":"#REF!"}},{"$f":"'9_Per Pupil Summary'!K12","v":2819.4003740645226},{"$f":"#REF!+#REF!+#REF!+#REF!+#REF!+#REF!+#REF!+#REF!+#REF!+#REF!+#REF!+#REF!+#REF!+#REF!+#REF!+#REF!+#REF!+#REF!+#REF!+#REF!+#REF!+#REF!+#REF!+#REF!+#REF!+#REF!+#REF!+#REF!+#REF!+#REF!+#REF!+#REF!+#REF!","v":{"$error":"#REF!"}},{"$f":"#REF!+#REF!+#REF!+#REF!+#REF!+#REF!+#REF!+#REF!+#REF!+#REF!+#REF!+#REF!+#REF!+#REF!+#REF!+#REF!+#REF!+#REF!+#REF!+#REF!+#REF!+#REF!+#REF!+#REF!+#REF!+#REF!+#REF!+#REF!+#REF!+#REF!+#REF!+#REF!+#REF!","v":{"$error":"#REF!"}},{"$f":"'9_Per Pupil Summary'!L12","v":1127.7601496258089},{"$f":"#REF!+#REF!+#REF!+#REF!+#REF!+#REF!+#REF!+#REF!+#REF!+#REF!+#REF!+#REF!+#REF!+#REF!+#REF!+#REF!+#REF!+#REF!+#REF!+#REF!+#REF!+#REF!+#REF!+#REF!+#REF!+#REF!+#REF!+#REF!+#REF!+#REF!+#REF!+#REF!+#REF!","v":{"$error":"#REF!"}},{"$f":"#REF!+#REF!+#REF!+#REF!+#REF!+#REF!+#REF!+#REF!+#REF!+#REF!+#REF!+#REF!+#REF!+#REF!+#REF!+#REF!+#REF!+#REF!+#REF!+#REF!+#REF!+#REF!+#REF!+#REF!+#REF!+#REF!+#REF!+#REF!+#REF!+#REF!+#REF!+#REF!+#REF!","v":{"$error":"#REF!"}},{"$f":"#REF!+#REF!","v":{"$error":"#REF!"}},{"$f":"#REF!+#REF!+#REF!+#REF!+#REF!+#REF!+#REF!+#REF!+#REF!+#REF!+#REF!+#REF!+#REF!+#REF!+#REF!+#REF!+#REF!+#REF!+#REF!+#REF!+#REF!+#REF!+#REF!+#REF!+#REF!+#REF!+#REF!+#REF!+#REF!+#REF!+#REF!+#REF!+#REF!","v":{"$error":"#REF!"}},{"$f":"#REF!+#REF!+#REF!+#REF!+#REF!+#REF!+#REF!+#REF!+#REF!+#REF!+#REF!+#REF!+#REF!+#REF!+#REF!+#REF!+#REF!+#REF!+#REF!+#REF!+#REF!+#REF!+#REF!+#REF!+#REF!+#REF!+#REF!+#REF!+#REF!+#REF!+#REF!+#REF!+#REF!","v":{"$error":"#REF!"}},{"$f":"#REF!+#REF!+#REF!+#REF!+#REF!+#REF!+#REF!+#REF!+#REF!+#REF!+#REF!+#REF!+#REF!+#REF!+#REF!+#REF!+#REF!+#REF!+#REF!+#REF!+#REF!+#REF!+#REF!+#REF!+#REF!+#REF!+#REF!+#REF!+#REF!+#REF!+#REF!+#REF!+#REF!","v":{"$error":"#REF!"}},{"$f":"#REF!+#REF!+#REF!+#REF!+#REF!+#REF!+#REF!+#REF!+#REF!+#REF!+#REF!+#REF!+#REF!+#REF!+#REF!+#REF!+#REF!+#REF!+#REF!+#REF!+#REF!+#REF!+#REF!+#REF!+#REF!+#REF!+#REF!+#REF!+#REF!+#REF!+#REF!+#REF!+#REF!","v":{"$error":"#REF!"}},{"$f":"#REF!+#REF!+#REF!+#REF!+#REF!+#REF!+#REF!+#REF!+#REF!+#REF!+#REF!+#REF!+#REF!+#REF!+#REF!+#REF!+#REF!+#REF!+#REF!+#REF!+#REF!+#REF!+#REF!+#REF!+#REF!+#REF!+#REF!+#REF!+#REF!+#REF!+#REF!+#REF!+#REF!","v":{"$error":"#REF!"}},{"$f":"#REF!+#REF!+#REF!+#REF!+#REF!+#REF!+#REF!+#REF!+#REF!+#REF!+#REF!+#REF!+#REF!+#REF!+#REF!+#REF!+#REF!+#REF!+#REF!+#REF!+#REF!+#REF!+#REF!+#REF!+#REF!+#REF!+#REF!+#REF!+#REF!+#REF!+#REF!+#REF!+#REF!","v":{"$error":"#REF!"}},{"$f":"#REF!+#REF!+#REF!+#REF!+#REF!+#REF!+#REF!+#REF!+#REF!+#REF!+#REF!+#REF!+#REF!+#REF!+#REF!+#REF!+#REF!+#REF!+#REF!+#REF!+#REF!+#REF!+#REF!+#REF!+#REF!+#REF!+#REF!+#REF!+#REF!+#REF!+#REF!+#REF!+#REF!","v":{"$error":"#REF!"}},{"$f":"#REF!+#REF!+#REF!+#REF!+#REF!+#REF!+#REF!+#REF!+#REF!+#REF!+#REF!+#REF!+#REF!+#REF!+#REF!+#REF!+#REF!+#REF!+#REF!+#REF!+#REF!+#REF!+#REF!+#REF!+#REF!+#REF!+#REF!+#REF!+#REF!+#REF!+#REF!+#REF!+#REF!","v":{"$error":"#REF!"}},{"$f":"#REF!+#REF!+#REF!+#REF!+#REF!+#REF!+#REF!+#REF!+#REF!+#REF!+#REF!+#REF!+#REF!+#REF!+#REF!+#REF!+#REF!+#REF!+#REF!+#REF!+#REF!+#REF!+#REF!+#REF!+#REF!+#REF!+#REF!+#REF!+#REF!+#REF!+#REF!+#REF!+#REF!","v":{"$error":"#REF!"}},{"$f":"#REF!+#REF!+#REF!+#REF!+#REF!+#REF!+#REF!+#REF!+#REF!+#REF!+#REF!+#REF!+#REF!+#REF!+#REF!+#REF!+#REF!+#REF!+#REF!+#REF!+#REF!+#REF!+#REF!+#REF!+#REF!+#REF!+#REF!+#REF!+#REF!+#REF!+#REF!+#REF!+#REF!","v":{"$error":"#REF!"}},{"$f":"#REF!+#REF!+#REF!+#REF!+#REF!+#REF!+#REF!+#REF!+#REF!+#REF!+#REF!+#REF!+#REF!+#REF!+#REF!+#REF!+#REF!+#REF!+#REF!+#REF!+#REF!+#REF!+#REF!+#REF!+#REF!+#REF!+#REF!+#REF!+#REF!+#REF!+#REF!+#REF!+#REF!","v":{"$error":"#REF!"}},{"$f":"#REF!+#REF!+#REF!+#REF!+#REF!+#REF!+#REF!+#REF!+#REF!+#REF!+#REF!+#REF!+#REF!+#REF!+#REF!+#REF!+#REF!+#REF!+#REF!+#REF!+#REF!+#REF!+#REF!+#REF!+#REF!+#REF!+#REF!+#REF!+#REF!+#REF!+#REF!+#REF!+#REF!","v":{"$error":"#REF!"}},{"$f":"'9_Per Pupil Summary'!N12","v":12817},{"$f":"#REF!+#REF!+#REF!+#REF!+#REF!+#REF!+#REF!+#REF!+#REF!+#REF!+#REF!+#REF!+#REF!+#REF!+#REF!+#REF!+#REF!+#REF!+#REF!+#REF!+#REF!+#REF!+#REF!+#REF!+#REF!+#REF!+#REF!+#REF!+#REF!+#REF!+#REF!+#REF!+#REF!","v":{"$error":"#REF!"}},{"$f":"#REF!+#REF!+#REF!+#REF!+#REF!+#REF!+#REF!+#REF!+#REF!+#REF!+#REF!+#REF!+#REF!+#REF!+#REF!+#REF!+#REF!+#REF!+#REF!+#REF!+#REF!+#REF!+#REF!+#REF!+#REF!+#REF!+#REF!+#REF!+#REF!+#REF!+#REF!+#REF!+#REF!","v":{"$error":"#REF!"}},{"$f":"#REF!+#REF!+#REF!+#REF!+#REF!+#REF!+#REF!+#REF!+#REF!+#REF!+#REF!+#REF!+#REF!+#REF!+#REF!+#REF!+#REF!+#REF!+#REF!+#REF!+#REF!+#REF!+#REF!+#REF!+#REF!+#REF!+#REF!+#REF!+#REF!+#REF!+#REF!+#REF!+#REF!","v":{"$error":"#REF!"}},{"$f":"#REF!+#REF!+#REF!+#REF!+#REF!+#REF!+#REF!+#REF!+#REF!+#REF!+#REF!+#REF!+#REF!+#REF!+#REF!+#REF!+#REF!+#REF!+#REF!+#REF!+#REF!+#REF!+#REF!+#REF!+#REF!+#REF!+#REF!+#REF!+#REF!+#REF!+#REF!+#REF!+#REF!","v":{"$error":"#REF!"}},{"$f":"#REF!+#REF!+#REF!+#REF!+#REF!+#REF!+#REF!+#REF!+#REF!+#REF!+#REF!+#REF!+#REF!+#REF!+#REF!+#REF!+#REF!+#REF!+#REF!+#REF!+#REF!+#REF!+#REF!+#REF!+#REF!+#REF!+#REF!+#REF!+#REF!+#REF!+#REF!+#REF!+#REF!","v":{"$error":"#REF!"}},{"$f":"#REF!+#REF!+#REF!+#REF!+#REF!+#REF!+#REF!+#REF!+#REF!+#REF!+#REF!+#REF!+#REF!+#REF!+#REF!+#REF!+#REF!+#REF!+#REF!+#REF!+#REF!+#REF!+#REF!+#REF!+#REF!+#REF!+#REF!+#REF!+#REF!+#REF!+#REF!+#REF!+#REF!","v":{"$error":"#REF!"}},{"$f":"#REF!+#REF!+#REF!+#REF!+#REF!+#REF!+#REF!+#REF!+#REF!+#REF!+#REF!+#REF!+#REF!+#REF!+#REF!+#REF!+#REF!+#REF!+#REF!+#REF!+#REF!+#REF!+#REF!+#REF!+#REF!+#REF!+#REF!+#REF!+#REF!+#REF!+#REF!+#REF!+#REF!","v":{"$error":"#REF!"}},{"$f":"#REF!+#REF!+#REF!+#REF!+#REF!+#REF!+#REF!+#REF!+#REF!+#REF!+#REF!+#REF!+#REF!+#REF!+#REF!+#REF!+#REF!+#REF!+#REF!+#REF!+#REF!+#REF!+#REF!+#REF!+#REF!+#REF!+#REF!+#REF!+#REF!+#REF!+#REF!+#REF!+#REF!","v":{"$error":"#REF!"}},{"$f":"#REF!+#REF!+#REF!+#REF!+#REF!+#REF!+#REF!+#REF!+#REF!+#REF!+#REF!+#REF!+#REF!+#REF!+#REF!+#REF!+#REF!+#REF!+#REF!+#REF!+#REF!+#REF!+#REF!+#REF!+#REF!+#REF!+#REF!+#REF!+#REF!+#REF!+#REF!+#REF!+#REF!","v":{"$error":"#REF!"}},{"$f":"#REF!+#REF!+#REF!+#REF!+#REF!+#REF!+#REF!+#REF!+#REF!+#REF!+#REF!+#REF!+#REF!+#REF!+#REF!+#REF!+#REF!+#REF!+#REF!+#REF!+#REF!+#REF!+#REF!+#REF!+#REF!+#REF!+#REF!+#REF!+#REF!+#REF!+#REF!+#REF!+#REF!","v":{"$error":"#REF!"}},{"$f":"#REF!+#REF!+#REF!+#REF!+#REF!+#REF!+#REF!+#REF!+#REF!+#REF!+#REF!+#REF!+#REF!+#REF!+#REF!+#REF!+#REF!+#REF!+#REF!+#REF!+#REF!+#REF!+#REF!+#REF!+#REF!+#REF!+#REF!+#REF!+#REF!+#REF!+#REF!+#REF!+#REF!","v":{"$error":"#REF!"}},{"$f":"#REF!+#REF!+#REF!+#REF!+#REF!+#REF!+#REF!+#REF!+#REF!+#REF!+#REF!+#REF!+#REF!+#REF!+#REF!+#REF!+#REF!+#REF!+#REF!+#REF!+#REF!+#REF!+#REF!+#REF!+#REF!+#REF!+#REF!+#REF!+#REF!+#REF!+#REF!+#REF!+#REF!","v":{"$error":"#REF!"}},{"$f":"#REF!+#REF!+#REF!+#REF!+#REF!+#REF!+#REF!+#REF!+#REF!+#REF!+#REF!+#REF!+#REF!+#REF!+#REF!+#REF!+#REF!+#REF!+#REF!+#REF!+#REF!+#REF!+#REF!+#REF!+#REF!+#REF!+#REF!+#REF!+#REF!+#REF!+#REF!+#REF!+#REF!","v":{"$error":"#REF!"}},{"$f":"#REF!+#REF!+#REF!+#REF!+#REF!+#REF!+#REF!+#REF!+#REF!+#REF!+#REF!+#REF!+#REF!+#REF!+#REF!+#REF!+#REF!+#REF!+#REF!+#REF!+#REF!+#REF!+#REF!+#REF!+#REF!+#REF!+#REF!+#REF!+#REF!+#REF!+#REF!+#REF!+#REF!","v":{"$error":"#REF!"}},{"$error":"#REF!"},{"$error":"#REF!"},{"$f":"#REF!+#REF!+#REF!+#REF!+#REF!+#REF!+#REF!+#REF!+#REF!+#REF!+#REF!+#REF!+#REF!+#REF!+#REF!+#REF!+#REF!+#REF!+#REF!+#REF!+#REF!+#REF!+#REF!+#REF!+#REF!+#REF!+#REF!+#REF!+#REF!+#REF!+#REF!+#REF!+#REF!","v":{"$error":"#REF!"}},null,{"$error":"#REF!"}]
[8,"Bossier",{"$f":"#REF!+#REF!+#REF!+#REF!+#REF!+#REF!+#REF!+#REF!+#REF!+#REF!+#REF!+#REF!+#REF!+#REF!+#REF!+#REF!+#REF!+#REF!+#REF!+#REF!+#REF!+#REF!+#REF!+#REF!+#REF!+#REF!+#REF!+#REF!+#REF!+#REF!+#REF!+#REF!+#REF!","v":{"$error":"#REF!"}},{"$f":"'9_Per Pupil Summary'!H13","v":4813.9097642451916},{"$f":"#REF!+#REF!+#REF!+#REF!+#REF!+#REF!+#REF!+#REF!+#REF!+#REF!+#REF!+#REF!+#REF!+#REF!+#REF!+#REF!+#REF!+#REF!+#REF!+#REF!+#REF!+#REF!+#REF!+#REF!+#REF!+#REF!+#REF!+#REF!+#REF!+#REF!+#REF!+#REF!+#REF!","v":{"$error":"#REF!"}},{"$f":"#REF!+#REF!+#REF!+#REF!+#REF!+#REF!+#REF!+#REF!+#REF!+#REF!+#REF!+#REF!+#REF!+#REF!+#REF!+#REF!+#REF!+#REF!+#REF!+#REF!+#REF!+#REF!+#REF!+#REF!+#REF!+#REF!+#REF!+#REF!+#REF!+#REF!+#REF!+#REF!+#REF!","v":{"$error":"#REF!"}},{"$f":"'9_Per Pupil Summary'!I13","v":637.94212576552115},{"$f":"#REF!+#REF!+#REF!+#REF!+#REF!+#REF!+#REF!+#REF!+#REF!+#REF!+#REF!+#REF!+#REF!+#REF!+#REF!+#REF!+#REF!+#REF!+#REF!+#REF!+#REF!+#REF!+#REF!+#REF!+#REF!+#REF!+#REF!+#REF!+#REF!+#REF!+#REF!+#REF!+#REF!","v":{"$error":"#REF!"}},{"$f":"#REF!+#REF!+#REF!+#REF!+#REF!+#REF!+#REF!+#REF!+#REF!+#REF!+#REF!+#REF!+#REF!+#REF!+#REF!+#REF!+#REF!+#REF!+#REF!+#REF!+#REF!+#REF!+#REF!+#REF!+#REF!+#REF!+#REF!+#REF!+#REF!+#REF!+#REF!+#REF!+#REF!","v":{"$error":"#REF!"}},{"$f":"'9_Per Pupil Summary'!J13","v":173.98421611786941},{"$f":"#REF!+#REF!+#REF!+#REF!+#REF!+#REF!+#REF!+#REF!+#REF!+#REF!+#REF!+#REF!+#REF!+#REF!+#REF!+#REF!+#REF!+#REF!+#REF!+#REF!+#REF!+#REF!+#REF!+#REF!+#REF!+#REF!+#REF!+#REF!+#REF!+#REF!+#REF!+#REF!+#REF!","v":{"$error":"#REF!"}},{"$f":"#REF!+#REF!+#REF!+#REF!+#REF!+#REF!+#REF!+#REF!+#REF!+#REF!+#REF!+#REF!+#REF!+#REF!+#REF!+#REF!+#REF!+#REF!+#REF!+#REF!+#REF!+#REF!+#REF!+#REF!+#REF!+#REF!+#REF!+#REF!+#REF!+#REF!+#REF!+#REF!+#REF!","v":{"$error":"#REF!"}},{"$f":"'9_Per Pupil Summary'!K13","v":4349.605402946735},{"$f":"#REF!+#REF!+#REF!+#REF!+#REF!+#REF!+#REF!+#REF!+#REF!+#REF!+#REF!+#REF!+#REF!+#REF!+#REF!+#REF!+#REF!+#REF!+#REF!+#REF!+#REF!+#REF!+#REF!+#REF!+#REF!+#REF!+#REF!+#REF!+#REF!+#REF!+#REF!+#REF!+#REF!","v":{"$error":"#REF!"}},{"$f":"#REF!+#REF!+#REF!+#REF!+#REF!+#REF!+#REF!+#REF!+#REF!+#REF!+#REF!+#REF!+#REF!+#REF!+#REF!+#REF!+#REF!+#REF!+#REF!+#REF!+#REF!+#REF!+#REF!+#REF!+#REF!+#REF!+#REF!+#REF!+#REF!+#REF!+#REF!+#REF!+#REF!","v":{"$error":"#REF!"}},{"$f":"'9_Per Pupil Summary'!L13","v":1739.8421611786939},{"$f":"#REF!+#REF!+#REF!+#REF!+#REF!+#REF!+#REF!+#REF!+#REF!+#REF!+#REF!+#REF!+#REF!+#REF!+#REF!+#REF!+#REF!+#REF!+#REF!+#REF!+#REF!+#REF!+#REF!+#REF!+#REF!+#REF!+#REF!+#REF!+#REF!+#REF!+#REF!+#REF!+#REF!","v":{"$error":"#REF!"}},{"$f":"#REF!+#REF!+#REF!+#REF!+#REF!+#REF!+#REF!+#REF!+#REF!+#REF!+#REF!+#REF!+#REF!+#REF!+#REF!+#REF!+#REF!+#REF!+#REF!+#REF!+#REF!+#REF!+#REF!+#REF!+#REF!+#REF!+#REF!+#REF!+#REF!+#REF!+#REF!+#REF!+#REF!","v":{"$error":"#REF!"}},{"$f":"#REF!+#REF!","v":{"$error":"#REF!"}},{"$f":"#REF!+#REF!+#REF!+#REF!+#REF!+#REF!+#REF!+#REF!+#REF!+#REF!+#REF!+#REF!+#REF!+#REF!+#REF!+#REF!+#REF!+#REF!+#REF!+#REF!+#REF!+#REF!+#REF!+#REF!+#REF!+#REF!+#REF!+#REF!+#REF!+#REF!+#REF!+#REF!+#REF!","v":{"$error":"#REF!"}},{"$f":"#REF!+#REF!+#REF!+#REF!+#REF!+#REF!+#REF!+#REF!+#REF!+#REF!+#REF!+#REF!+#REF!+#REF!+#REF!+#REF!+#REF!+#REF!+#REF!+#REF!+#REF!+#REF!+#REF!+#REF!+#REF!+#REF!+#REF!+#REF!+#REF!+#REF!+#REF!+#REF!+#REF!","v":{"$error":"#REF!"}},{"$f":"#REF!+#REF!+#REF!+#REF!+#REF!+#REF!+#REF!+#REF!+#REF!+#REF!+#REF!+#REF!+#REF!+#REF!+#REF!+#REF!+#REF!+#REF!+#REF!+#REF!+#REF!+#REF!+#REF!+#REF!+#REF!+#REF!+#REF!+#REF!+#REF!+#REF!+#REF!+#REF!+#REF!","v":{"$error":"#REF!"}},{"$f":"#REF!+#REF!+#REF!+#REF!+#REF!+#REF!+#REF!+#REF!+#REF!+#REF!+#REF!+#REF!+#REF!+#REF!+#REF!+#REF!+#REF!+#REF!+#REF!+#REF!+#REF!+#REF!+#REF!+#REF!+#REF!+#REF!+#REF!+#REF!+#REF!+#REF!+#REF!+#REF!+#REF!","v":{"$error":"#REF!"}},{"$f":"#REF!+#REF!+#REF!+#REF!+#REF!+#REF!+#REF!+#REF!+#REF!+#REF!+#REF!+#REF!+#REF!+#REF!+#REF!+#REF!+#REF!+#REF!+#REF!+#REF!+#REF!+#REF!+#REF!+#REF!+#REF!+#REF!+#REF!+#REF!+#REF!+#REF!+#REF!+#REF!+#REF!","v":{"$error":"#REF!"}},{"$f":"#REF!+#REF!+#REF!+#REF!+#REF!+#REF!+#REF!+#REF!+#REF!+#REF!+#REF!+#REF!+#REF!+#REF!+#REF!+#REF!+#REF!+#REF!+#REF!+#REF!+#REF!+#REF!+#REF!+#REF!+#REF!+#REF!+#REF!+#REF!+#REF!+#REF!+#REF!+#REF!+#REF!","v":{"$error":"#REF!"}},{"$f":"#REF!+#REF!+#REF!+#REF!+#REF!+#REF!+#REF!+#REF!+#REF!+#REF!+#REF!+#REF!+#REF!+#REF!+#REF!+#REF!+#REF!+#REF!+#REF!+#REF!+#REF!+#REF!+#REF!+#REF!+#REF!+#REF!+#REF!+#REF!+#REF!+#REF!+#REF!+#REF!+#REF!","v":{"$error":"#REF!"}},{"$f":"#REF!+#REF!+#REF!+#REF!+#REF!+#REF!+#REF!+#REF!+#REF!+#REF!+#REF!+#REF!+#REF!+#REF!+#REF!+#REF!+#REF!+#REF!+#REF!+#REF!+#REF!+#REF!+#REF!+#REF!+#REF!+#REF!+#REF!+#REF!+#REF!+#REF!+#REF!+#REF!+#REF!","v":{"$error":"#REF!"}},{"$f":"#REF!+#REF!+#REF!+#REF!+#REF!+#REF!+#REF!+#REF!+#REF!+#REF!+#REF!+#REF!+#REF!+#REF!+#REF!+#REF!+#REF!+#REF!+#REF!+#REF!+#REF!+#REF!+#REF!+#REF!+#REF!+#REF!+#REF!+#REF!+#REF!+#REF!+#REF!+#REF!+#REF!","v":{"$error":"#REF!"}},{"$f":"#REF!+#REF!+#REF!+#REF!+#REF!+#REF!+#REF!+#REF!+#REF!+#REF!+#REF!+#REF!+#REF!+#REF!+#REF!+#REF!+#REF!+#REF!+#REF!+#REF!+#REF!+#REF!+#REF!+#REF!+#REF!+#REF!+#REF!+#REF!+#REF!+#REF!+#REF!+#REF!+#REF!","v":{"$error":"#REF!"}},{"$f":"#REF!+#REF!+#REF!+#REF!+#REF!+#REF!+#REF!+#REF!+#REF!+#REF!+#REF!+#REF!+#REF!+#REF!+#REF!+#REF!+#REF!+#REF!+#REF!+#REF!+#REF!+#REF!+#REF!+#REF!+#REF!+#REF!+#REF!+#REF!+#REF!+#REF!+#REF!+#REF!+#REF!","v":{"$error":"#REF!"}},{"$f":"#REF!+#REF!+#REF!+#REF!+#REF!+#REF!+#REF!+#REF!+#REF!+#REF!+#REF!+#REF!+#REF!+#REF!+#REF!+#REF!+#REF!+#REF!+#REF!+#REF!+#REF!+#REF!+#REF!+#REF!+#REF!+#REF!+#REF!+#REF!+#REF!+#REF!+#REF!+#REF!+#REF!","v":{"$error":"#REF!"}},{"$f":"'9_Per Pupil Summary'!N13","v":6627},{"$f":"#REF!+#REF!+#REF!+#REF!+#REF!+#REF!+#REF!+#REF!+#REF!+#REF!+#REF!+#REF!+#REF!+#REF!+#REF!+#REF!+#REF!+#REF!+#REF!+#REF!+#REF!+#REF!+#REF!+#REF!+#REF!+#REF!+#REF!+#REF!+#REF!+#REF!+#REF!+#REF!+#REF!","v":{"$error":"#REF!"}},{"$f":"#REF!+#REF!+#REF!+#REF!+#REF!+#REF!+#REF!+#REF!+#REF!+#REF!+#REF!+#REF!+#REF!+#REF!+#REF!+#REF!+#REF!+#REF!+#REF!+#REF!+#REF!+#REF!+#REF!+#REF!+#REF!+#REF!+#REF!+#REF!+#REF!+#REF!+#REF!+#REF!+#REF!","v":{"$error":"#REF!"}},{"$f":"#REF!+#REF!+#REF!+#REF!+#REF!+#REF!+#REF!+#REF!+#REF!+#REF!+#REF!+#REF!+#REF!+#REF!+#REF!+#REF!+#REF!+#REF!+#REF!+#REF!+#REF!+#REF!+#REF!+#REF!+#REF!+#REF!+#REF!+#REF!+#REF!+#REF!+#REF!+#REF!+#REF!","v":{"$error":"#REF!"}},{"$f":"#REF!+#REF!+#REF!+#REF!+#REF!+#REF!+#REF!+#REF!+#REF!+#REF!+#REF!+#REF!+#REF!+#REF!+#REF!+#REF!+#REF!+#REF!+#REF!+#REF!+#REF!+#REF!+#REF!+#REF!+#REF!+#REF!+#REF!+#REF!+#REF!+#REF!+#REF!+#REF!+#REF!","v":{"$error":"#REF!"}},{"$f":"#REF!+#REF!+#REF!+#REF!+#REF!+#REF!+#REF!+#REF!+#REF!+#REF!+#REF!+#REF!+#REF!+#REF!+#REF!+#REF!+#REF!+#REF!+#REF!+#REF!+#REF!+#REF!+#REF!+#REF!+#REF!+#REF!+#REF!+#REF!+#REF!+#REF!+#REF!+#REF!+#REF!","v":{"$error":"#REF!"}},{"$f":"#REF!+#REF!+#REF!+#REF!+#REF!+#REF!+#REF!+#REF!+#REF!+#REF!+#REF!+#REF!+#REF!+#REF!+#REF!+#REF!+#REF!+#REF!+#REF!+#REF!+#REF!+#REF!+#REF!+#REF!+#REF!+#REF!+#REF!+#REF!+#REF!+#REF!+#REF!+#REF!+#REF!","v":{"$error":"#REF!"}},{"$f":"#REF!+#REF!+#REF!+#REF!+#REF!+#REF!+#REF!+#REF!+#REF!+#REF!+#REF!+#REF!+#REF!+#REF!+#REF!+#REF!+#REF!+#REF!+#REF!+#REF!+#REF!+#REF!+#REF!+#REF!+#REF!+#REF!+#REF!+#REF!+#REF!+#REF!+#REF!+#REF!+#REF!","v":{"$error":"#REF!"}},{"$f":"#REF!+#REF!+#REF!+#REF!+#REF!+#REF!+#REF!+#REF!+#REF!+#REF!+#REF!+#REF!+#REF!+#REF!+#REF!+#REF!+#REF!+#REF!+#REF!+#REF!+#REF!+#REF!+#REF!+#REF!+#REF!+#REF!+#REF!+#REF!+#REF!+#REF!+#REF!+#REF!+#REF!","v":{"$error":"#REF!"}},{"$f":"#REF!+#REF!+#REF!+#REF!+#REF!+#REF!+#REF!+#REF!+#REF!+#REF!+#REF!+#REF!+#REF!+#REF!+#REF!+#REF!+#REF!+#REF!+#REF!+#REF!+#REF!+#REF!+#REF!+#REF!+#REF!+#REF!+#REF!+#REF!+#REF!+#REF!+#REF!+#REF!+#REF!","v":{"$error":"#REF!"}},{"$f":"#REF!+#REF!+#REF!+#REF!+#REF!+#REF!+#REF!+#REF!+#REF!+#REF!+#REF!+#REF!+#REF!+#REF!+#REF!+#REF!+#REF!+#REF!+#REF!+#REF!+#REF!+#REF!+#REF!+#REF!+#REF!+#REF!+#REF!+#REF!+#REF!+#REF!+#REF!+#REF!+#REF!","v":{"$error":"#REF!"}},{"$f":"#REF!+#REF!+#REF!+#REF!+#REF!+#REF!+#REF!+#REF!+#REF!+#REF!+#REF!+#REF!+#REF!+#REF!+#REF!+#REF!+#REF!+#REF!+#REF!+#REF!+#REF!+#REF!+#REF!+#REF!+#REF!+#REF!+#REF!+#REF!+#REF!+#REF!+#REF!+#REF!+#REF!","v":{"$error":"#REF!"}},{"$f":"#REF!+#REF!+#REF!+#REF!+#REF!+#REF!+#REF!+#REF!+#REF!+#REF!+#REF!+#REF!+#REF!+#REF!+#REF!+#REF!+#REF!+#REF!+#REF!+#REF!+#REF!+#REF!+#REF!+#REF!+#REF!+#REF!+#REF!+#REF!+#REF!+#REF!+#REF!+#REF!+#REF!","v":{"$error":"#REF!"}},{"$f":"#REF!+#REF!+#REF!+#REF!+#REF!+#REF!+#REF!+#REF!+#REF!+#REF!+#REF!+#REF!+#REF!+#REF!+#REF!+#REF!+#REF!+#REF!+#REF!+#REF!+#REF!+#REF!+#REF!+#REF!+#REF!+#REF!+#REF!+#REF!+#REF!+#REF!+#REF!+#REF!+#REF!","v":{"$error":"#REF!"}},{"$f":"#REF!+#REF!+#REF!+#REF!+#REF!+#REF!+#REF!+#REF!+#REF!+#REF!+#REF!+#REF!+#REF!+#REF!+#REF!+#REF!+#REF!+#REF!+#REF!+#REF!+#REF!+#REF!+#REF!+#REF!+#REF!+#REF!+#REF!+#REF!+#REF!+#REF!+#REF!+#REF!+#REF!","v":{"$error":"#REF!"}},{"$error":"#REF!"},{"$error":"#REF!"},{"$f":"#REF!+#REF!+#REF!+#REF!+#REF!+#REF!+#REF!+#REF!+#REF!+#REF!+#REF!+#REF!+#REF!+#REF!+#REF!+#REF!+#REF!+#REF!+#REF!+#REF!+#REF!+#REF!+#REF!+#REF!+#REF!+#REF!+#REF!+#REF!+#REF!+#REF!+#REF!+#REF!+#REF!","v":{"$error":"#REF!"}},null,{"$error":"#REF!"}]
[9,"Caddo",{"$f":"#REF!+#REF!+#REF!+#REF!+#REF!+#REF!+#REF!+#REF!+#REF!+#REF!+#REF!+#REF!+#REF!+#REF!+#REF!+#REF!+#REF!+#REF!+#REF!+#REF!+#REF!+#REF!+#REF!+#REF!+#REF!+#REF!+#REF!+#REF!+#REF!+#REF!+#REF!+#REF!+#REF!","v":{"$error":"#REF!"}},{"$f":"'9_Per Pupil Summary'!H14","v":4302.3952650316323},{"$f":"#REF!+#REF!+#REF!+#REF!+#REF!+#REF!+#REF!+#REF!+#REF!+#REF!+#REF!+#REF!+#REF!+#REF!+#REF!+#REF!+#REF!+#REF!+#REF!+#REF!+#REF!+#REF!+#REF!+#REF!+#REF!+#REF!+#REF!+#REF!+#REF!+#REF!+#REF!+#REF!+#REF!","v":{"$error":"#REF!"}},{"$f":"#REF!+#REF!+#REF!+#REF!+#REF!+#REF!+#REF!+#REF!+#REF!+#REF!+#REF!+#REF!+#REF!+#REF!+#REF!+#REF!+#REF!+#REF!+#REF!+#REF!+#REF!+#REF!+#REF!+#REF!+#REF!+#REF!+#REF!+#REF!+#REF!+#REF!+#REF!+#REF!+#REF!","v":{"$error":"#REF!"}},{"$f":"'9_Per Pupil Summary'!I14","v":574.46892980088433},{"$f":"#REF!+#REF!+#REF!+#REF!+#REF!+#REF!+#REF!+#REF!+#REF!+#REF!+#REF!+#REF!+#REF!+#REF!+#REF!+#REF!+#REF!+#REF!+#REF!+#REF!+#REF!+#REF!+#REF!+#REF!+#REF!+#REF!+#REF!+#REF!+#REF!+#REF!+#REF!+#REF!+#REF!","v":{"$error":"#REF!"}},{"$f":"#REF!+#REF!+#REF!+#REF!+#REF!+#REF!+#REF!+#REF!+#REF!+#REF!+#REF!+#REF!+#REF!+#REF!+#REF!+#REF!+#REF!+#REF!+#REF!+#REF!+#REF!+#REF!+#REF!+#REF!+#REF!+#REF!+#REF!+#REF!+#REF!+#REF!+#REF!+#REF!+#REF!","v":{"$error":"#REF!"}},{"$f":"'9_Per Pupil Summary'!J14","v":156.67334449115023},{"$f":"#REF!+#REF!+#REF!+#REF!+#REF!+#REF!+#REF!+#REF!+#REF!+#REF!+#REF!+#REF!+#REF!+#REF!+#REF!+#REF!+#REF!+#REF!+#REF!+#REF!+#REF!+#REF!+#REF!+#REF!+#REF!+#REF!+#REF!+#REF!+#REF!+#REF!+#REF!+#REF!+#REF!","v":{"$error":"#REF!"}},{"$f":"#REF!+#REF!+#REF!+#REF!+#REF!+#REF!+#REF!+#REF!+#REF!+#REF!+#REF!+#REF!+#REF!+#REF!+#REF!+#REF!+#REF!+#REF!+#REF!+#REF!+#REF!+#REF!+#REF!+#REF!+#REF!+#REF!+#REF!+#REF!+#REF!+#REF!+#REF!+#REF!+#REF!","v":{"$error":"#REF!"}},{"$f":"'9_Per Pupil Summary'!K14","v":3916.8336122787559},{"$f":"#REF!+#REF!+#REF!+#REF!+#REF!+#REF!+#REF!+#REF!+#REF!+#REF!+#REF!+#REF!+#REF!+#REF!+#REF!+#REF!+#REF!+#REF!+#REF!+#REF!+#REF!+#REF!+#REF!+#REF!+#REF!+#REF!+#REF!+#REF!+#REF!+#REF!+#REF!+#REF!+#REF!","v":{"$error":"#REF!"}},{"$f":"#REF!+#REF!+#REF!+#REF!+#REF!+#REF!+#REF!+#REF!+#REF!+#REF!+#REF!+#REF!+#REF!+#REF!+#REF!+#REF!+#REF!+#REF!+#REF!+#REF!+#REF!+#REF!+#REF!+#REF!+#REF!+#REF!+#REF!+#REF!+#REF!+#REF!+#REF!+#REF!+#REF!","v":{"$error":"#REF!"}},{"$f":"'9_Per Pupil Summary'!L14","v":1566.7334449115021},{"$f":"#REF!+#REF!+#REF!+#REF!+#REF!+#REF!+#REF!+#REF!+#REF!+#REF!+#REF!+#REF!+#REF!+#REF!+#REF!+#REF!+#REF!+#REF!+#REF!+#REF!+#REF!+#REF!+#REF!+#REF!+#REF!+#REF!+#REF!+#REF!+#REF!+#REF!+#REF!+#REF!+#REF!","v":{"$error":"#REF!"}},{"$f":"#REF!+#REF!+#REF!+#REF!+#REF!+#REF!+#REF!+#REF!+#REF!+#REF!+#REF!+#REF!+#REF!+#REF!+#REF!+#REF!+#REF!+#REF!+#REF!+#REF!+#REF!+#REF!+#REF!+#REF!+#REF!+#REF!+#REF!+#REF!+#REF!+#REF!+#REF!+#REF!+#REF!","v":{"$error":"#REF!"}},{"$f":"#REF!+#REF!","v":{"$error":"#REF!"}},{"$f":"#REF!+#REF!+#REF!+#REF!+#REF!+#REF!+#REF!+#REF!+#REF!+#REF!+#REF!+#REF!+#REF!+#REF!+#REF!+#REF!+#REF!+#REF!+#REF!+#REF!+#REF!+#REF!+#REF!+#REF!+#REF!+#REF!+#REF!+#REF!+#REF!+#REF!+#REF!+#REF!+#REF!","v":{"$error":"#REF!"}},{"$f":"#REF!+#REF!+#REF!+#REF!+#REF!+#REF!+#REF!+#REF!+#REF!+#REF!+#REF!+#REF!+#REF!+#REF!+#REF!+#REF!+#REF!+#REF!+#REF!+#REF!+#REF!+#REF!+#REF!+#REF!+#REF!+#REF!+#REF!+#REF!+#REF!+#REF!+#REF!+#REF!+#REF!","v":{"$error":"#REF!"}},{"$f":"#REF!+#REF!+#REF!+#REF!+#REF!+#REF!+#REF!+#REF!+#REF!+#REF!+#REF!+#REF!+#REF!+#REF!+#REF!+#REF!+#REF!+#REF!+#REF!+#REF!+#REF!+#REF!+#REF!+#REF!+#REF!+#REF!+#REF!+#REF!+#REF!+#REF!+#REF!+#REF!+#REF!","v":{"$error":"#REF!"}},{"$f":"#REF!+#REF!+#REF!+#REF!+#REF!+#REF!+#REF!+#REF!+#REF!+#REF!+#REF!+#REF!+#REF!+#REF!+#REF!+#REF!+#REF!+#REF!+#REF!+#REF!+#REF!+#REF!+#REF!+#REF!+#REF!+#REF!+#REF!+#REF!+#REF!+#REF!+#REF!+#REF!+#REF!","v":{"$error":"#REF!"}},{"$f":"#REF!+#REF!+#REF!+#REF!+#REF!+#REF!+#REF!+#REF!+#REF!+#REF!+#REF!+#REF!+#REF!+#REF!+#REF!+#REF!+#REF!+#REF!+#REF!+#REF!+#REF!+#REF!+#REF!+#REF!+#REF!+#REF!+#REF!+#REF!+#REF!+#REF!+#REF!+#REF!+#REF!","v":{"$error":"#REF!"}},{"$f":"#REF!+#REF!+#REF!+#REF!+#REF!+#REF!+#REF!+#REF!+#REF!+#REF!+#REF!+#REF!+#REF!+#REF!+#REF!+#REF!+#REF!+#REF!+#REF!+#REF!+#REF!+#REF!+#REF!+#REF!+#REF!+#REF!+#REF!+#REF!+#REF!+#REF!+#REF!+#REF!+#REF!","v":{"$error":"#REF!"}},{"$f":"#REF!+#REF!+#REF!+#REF!+#REF!+#REF!+#REF!+#REF!+#REF!+#REF!+#REF!+#REF!+#REF!+#REF!+#REF!+#REF!+#REF!+#REF!+#REF!+#REF!+#REF!+#REF!+#REF!+#REF!+#REF!+#REF!+#REF!+#REF!+#REF!+#REF!+#REF!+#REF!+#REF!","v":{"$error":"#REF!"}},{"$f":"#REF!+#REF!+#REF!+#REF!+#REF!+#REF!+#REF!+#REF!+#REF!+#REF!+#REF!+#REF!+#REF!+#REF!+#REF!+#REF!+#REF!+#REF!+#REF!+#REF!+#REF!+#REF!+#REF!+#REF!+#REF!+#REF!+#REF!+#REF!+#REF!+#REF!+#REF!+#REF!+#REF!","v":{"$error":"#REF!"}},{"$f":"#REF!+#REF!+#REF!+#REF!+#REF!+#REF!+#REF!+#REF!+#REF!+#REF!+#REF!+#REF!+#REF!+#REF!+#REF!+#REF!+#REF!+#REF!+#REF!+#REF!+#REF!+#REF!+#REF!+#REF!+#REF!+#REF!+#REF!+#REF!+#REF!+#REF!+#REF!+#REF!+#REF!","v":{"$error":"#REF!"}},{"$f":"#REF!+#REF!+#REF!+#REF!+#REF!+#REF!+#REF!+#REF!+#REF!+#REF!+#REF!+#REF!+#REF!+#REF!+#REF!+#REF!+#REF!+#REF!+#REF!+#REF!+#REF!+#REF!+#REF!+#REF!+#REF!+#REF!+#REF!+#REF!+#REF!+#REF!+#REF!+#REF!+#REF!","v":{"$error":"#REF!"}},{"$f":"#REF!+#REF!+#REF!+#REF!+#REF!+#REF!+#REF!+#REF!+#REF!+#REF!+#REF!+#REF!+#REF!+#REF!+#REF!+#REF!+#REF!+#REF!+#REF!+#REF!+#REF!+#REF!+#REF!+#REF!+#REF!+#REF!+#REF!+#REF!+#REF!+#REF!+#REF!+#REF!+#REF!","v":{"$error":"#REF!"}},{"$f":"#REF!+#REF!+#REF!+#REF!+#REF!+#REF!+#REF!+#REF!+#REF!+#REF!+#REF!+#REF!+#REF!+#REF!+#REF!+#REF!+#REF!+#REF!+#REF!+#REF!+#REF!+#REF!+#REF!+#REF!+#REF!+#REF!+#REF!+#REF!+#REF!+#REF!+#REF!+#REF!+#REF!","v":{"$error":"#REF!"}},{"$f":"'9_Per Pupil Summary'!N14","v":7836},{"$f":"#REF!+#REF!+#REF!+#REF!+#REF!+#REF!+#REF!+#REF!+#REF!+#REF!+#REF!+#REF!+#REF!+#REF!+#REF!+#REF!+#REF!+#REF!+#REF!+#REF!+#REF!+#REF!+#REF!+#REF!+#REF!+#REF!+#REF!+#REF!+#REF!+#REF!+#REF!+#REF!+#REF!","v":{"$error":"#REF!"}},{"$f":"#REF!+#REF!+#REF!+#REF!+#REF!+#REF!+#REF!+#REF!+#REF!+#REF!+#REF!+#REF!+#REF!+#REF!+#REF!+#REF!+#REF!+#REF!+#REF!+#REF!+#REF!+#REF!+#REF!+#REF!+#REF!+#REF!+#REF!+#REF!+#REF!+#REF!+#REF!+#REF!+#REF!","v":{"$error":"#REF!"}},{"$f":"#REF!+#REF!+#REF!+#REF!+#REF!+#REF!+#REF!+#REF!+#REF!+#REF!+#REF!+#REF!+#REF!+#REF!+#REF!+#REF!+#REF!+#REF!+#REF!+#REF!+#REF!+#REF!+#REF!+#REF!+#REF!+#REF!+#REF!+#REF!+#REF!+#REF!+#REF!+#REF!+#REF!","v":{"$error":"#REF!"}},{"$f":"#REF!+#REF!+#REF!+#REF!+#REF!+#REF!+#REF!+#REF!+#REF!+#REF!+#REF!+#REF!+#REF!+#REF!+#REF!+#REF!+#REF!+#REF!+#REF!+#REF!+#REF!+#REF!+#REF!+#REF!+#REF!+#REF!+#REF!+#REF!+#REF!+#REF!+#REF!+#REF!+#REF!","v":{"$error":"#REF!"}},{"$f":"#REF!+#REF!+#REF!+#REF!+#REF!+#REF!+#REF!+#REF!+#REF!+#REF!+#REF!+#REF!+#REF!+#REF!+#REF!+#REF!+#REF!+#REF!+#REF!+#REF!+#REF!+#REF!+#REF!+#REF!+#REF!+#REF!+#REF!+#REF!+#REF!+#REF!+#REF!+#REF!+#REF!","v":{"$error":"#REF!"}},{"$f":"#REF!+#REF!+#REF!+#REF!+#REF!+#REF!+#REF!+#REF!+#REF!+#REF!+#REF!+#REF!+#REF!+#REF!+#REF!+#REF!+#REF!+#REF!+#REF!+#REF!+#REF!+#REF!+#REF!+#REF!+#REF!+#REF!+#REF!+#REF!+#REF!+#REF!+#REF!+#REF!+#REF!","v":{"$error":"#REF!"}},{"$f":"#REF!+#REF!+#REF!+#REF!+#REF!+#REF!+#REF!+#REF!+#REF!+#REF!+#REF!+#REF!+#REF!+#REF!+#REF!+#REF!+#REF!+#REF!+#REF!+#REF!+#REF!+#REF!+#REF!+#REF!+#REF!+#REF!+#REF!+#REF!+#REF!+#REF!+#REF!+#REF!+#REF!","v":{"$error":"#REF!"}},{"$f":"#REF!+#REF!+#REF!+#REF!+#REF!+#REF!+#REF!+#REF!+#REF!+#REF!+#REF!+#REF!+#REF!+#REF!+#REF!+#REF!+#REF!+#REF!+#REF!+#REF!+#REF!+#REF!+#REF!+#REF!+#REF!+#REF!+#REF!+#REF!+#REF!+#REF!+#REF!+#REF!+#REF!","v":{"$error":"#REF!"}},{"$f":"#REF!+#REF!+#REF!+#REF!+#REF!+#REF!+#REF!+#REF!+#REF!+#REF!+#REF!+#REF!+#REF!+#REF!+#REF!+#REF!+#REF!+#REF!+#REF!+#REF!+#REF!+#REF!+#REF!+#REF!+#REF!+#REF!+#REF!+#REF!+#REF!+#REF!+#REF!+#REF!+#REF!","v":{"$error":"#REF!"}},{"$f":"#REF!+#REF!+#REF!+#REF!+#REF!+#REF!+#REF!+#REF!+#REF!+#REF!+#REF!+#REF!+#REF!+#REF!+#REF!+#REF!+#REF!+#REF!+#REF!+#REF!+#REF!+#REF!+#REF!+#REF!+#REF!+#REF!+#REF!+#REF!+#REF!+#REF!+#REF!+#REF!+#REF!","v":{"$error":"#REF!"}},{"$f":"#REF!+#REF!+#REF!+#REF!+#REF!+#REF!+#REF!+#REF!+#REF!+#REF!+#REF!+#REF!+#REF!+#REF!+#REF!+#REF!+#REF!+#REF!+#REF!+#REF!+#REF!+#REF!+#REF!+#REF!+#REF!+#REF!+#REF!+#REF!+#REF!+#REF!+#REF!+#REF!+#REF!","v":{"$error":"#REF!"}},{"$f":"#REF!+#REF!+#REF!+#REF!+#REF!+#REF!+#REF!+#REF!+#REF!+#REF!+#REF!+#REF!+#REF!+#REF!+#REF!+#REF!+#REF!+#REF!+#REF!+#REF!+#REF!+#REF!+#REF!+#REF!+#REF!+#REF!+#REF!+#REF!+#REF!+#REF!+#REF!+#REF!+#REF!","v":{"$error":"#REF!"}},{"$f":"#REF!+#REF!+#REF!+#REF!+#REF!+#REF!+#REF!+#REF!+#REF!+#REF!+#REF!+#REF!+#REF!+#REF!+#REF!+#REF!+#REF!+#REF!+#REF!+#REF!+#REF!+#REF!+#REF!+#REF!+#REF!+#REF!+#REF!+#REF!+#REF!+#REF!+#REF!+#REF!+#REF!","v":{"$error":"#REF!"}},{"$f":"#REF!+#REF!+#REF!+#REF!+#REF!+#REF!+#REF!+#REF!+#REF!+#REF!+#REF!+#REF!+#REF!+#REF!+#REF!+#REF!+#REF!+#REF!+#REF!+#REF!+#REF!+#REF!+#REF!+#REF!+#REF!+#REF!+#REF!+#REF!+#REF!+#REF!+#REF!+#REF!+#REF!","v":{"$error":"#REF!"}},{"$error":"#REF!"},{"$error":"#REF!"},{"$f":"#REF!+#REF!+#REF!+#REF!+#REF!+#REF!+#REF!+#REF!+#REF!+#REF!+#REF!+#REF!+#REF!+#REF!+#REF!+#REF!+#REF!+#REF!+#REF!+#REF!+#REF!+#REF!+#REF!+#REF!+#REF!+#REF!+#REF!+#REF!+#REF!+#REF!+#REF!+#REF!+#REF!","v":{"$error":"#REF!"}},null,{"$error":"#REF!"}]
[10,"Calcasieu",{"$f":"#REF!+#REF!+#REF!+#REF!+#REF!+#REF!+#REF!+#REF!+#REF!+#REF!+#REF!+#REF!+#REF!+#REF!+#REF!+#REF!+#REF!+#REF!+#REF!+#REF!+#REF!+#REF!+#REF!+#REF!+#REF!+#REF!+#REF!+#REF!+#REF!+#REF!+#REF!+#REF!+#REF!","v":{"$error":"#REF!"}},{"$f":"'9_Per Pupil Summary'!H15","v":3557.9104540130706},{"$f":"#REF!+#REF!+#REF!+#REF!+#REF!+#REF!+#REF!+#REF!+#REF!+#REF!+#REF!+#REF!+#REF!+#REF!+#REF!+#REF!+#REF!+#REF!+#REF!+#REF!+#REF!+#REF!+#REF!+#REF!+#REF!+#REF!+#REF!+#REF!+#REF!+#REF!+#REF!+#REF!+#REF!","v":{"$error":"#REF!"}},{"$f":"#REF!+#REF!+#REF!+#REF!+#REF!+#REF!+#REF!+#REF!+#REF!+#REF!+#REF!+#REF!+#REF!+#REF!+#REF!+#REF!+#REF!+#REF!+#REF!+#REF!+#REF!+#REF!+#REF!+#REF!+#REF!+#REF!+#REF!+#REF!+#REF!+#REF!+#REF!+#REF!+#REF!","v":{"$error":"#REF!"}},{"$f":"'9_Per Pupil Summary'!I15","v":499.72067690672515},{"$f":"#REF!+#REF!+#REF!+#REF!+#REF!+#REF!+#REF!+#REF!+#REF!+#REF!+#REF!+#REF!+#REF!+#REF!+#REF!+#REF!+#REF!+#REF!+#REF!+#REF!+#REF!+#REF!+#REF!+#REF!+#REF!+#REF!+#REF!+#REF!+#REF!+#REF!+#REF!+#REF!+#REF!","v":{"$error":"#REF!"}},{"$f":"#REF!+#REF!+#REF!+#REF!+#REF!+#REF!+#REF!+#REF!+#REF!+#REF!+#REF!+#REF!+#REF!+#REF!+#REF!+#REF!+#REF!+#REF!+#REF!+#REF!+#REF!+#REF!+#REF!+#REF!+#REF!+#REF!+#REF!+#REF!+#REF!+#REF!+#REF!+#REF!+#REF!","v":{"$error":"#REF!"}},{"$f":"'9_Per Pupil Summary'!J15","v":136.28745733819778},{"$f":"#REF!+#REF!+#REF!+#REF!+#REF!+#REF!+#REF!+#REF!+#REF!+#REF!+#REF!+#REF!+#REF!+#REF!+#REF!+#REF!+#REF!+#REF!+#REF!+#REF!+#REF!+#REF!+#REF!+#REF!+#REF!+#REF!+#REF!+#REF!+#REF!+#REF!+#REF!+#REF!+#REF!","v":{"$error":"#REF!"}},{"$f":"#REF!+#REF!+#REF!+#REF!+#REF!+#REF!+#REF!+#REF!+#REF!+#REF!+#REF!+#REF!+#REF!+#REF!+#REF!+#REF!+#REF!+#REF!+#REF!+#REF!+#REF!+#REF!+#REF!+#REF!+#REF!+#REF!+#REF!+#REF!+#REF!+#REF!+#REF!+#REF!+#REF!","v":{"$error":"#REF!"}},{"$f":"'9_Per Pupil Summary'!K15","v":3407.1864334549437},{"$f":"#REF!+#REF!+#REF!+#REF!+#REF!+#REF!+#REF!+#REF!+#REF!+#REF!+#REF!+#REF!+#REF!+#REF!+#REF!+#REF!+#REF!+#REF!+#REF!+#REF!+#REF!+#REF!+#REF!+#REF!+#REF!+#REF!+#REF!+#REF!+#REF!+#REF!+#REF!+#REF!+#REF!","v":{"$error":"#REF!"}},{"$f":"#REF!+#REF!+#REF!+#REF!+#REF!+#REF!+#REF!+#REF!+#REF!+#REF!+#REF!+#REF!+#REF!+#REF!+#REF!+#REF!+#REF!+#REF!+#REF!+#REF!+#REF!+#REF!+#REF!+#REF!+#REF!+#REF!+#REF!+#REF!+#REF!+#REF!+#REF!+#REF!+#REF!","v":{"$error":"#REF!"}},{"$f":"'9_Per Pupil Summary'!L15","v":1362.8745733819776},{"$f":"#REF!+#REF!+#REF!+#REF!+#REF!+#REF!+#REF!+#REF!+#REF!+#REF!+#REF!+#REF!+#REF!+#REF!+#REF!+#REF!+#REF!+#REF!+#REF!+#REF!+#REF!+#REF!+#REF!+#REF!+#REF!+#REF!+#REF!+#REF!+#REF!+#REF!+#REF!+#REF!+#REF!","v":{"$error":"#REF!"}},{"$f":"#REF!+#REF!+#REF!+#REF!+#REF!+#REF!+#REF!+#REF!+#REF!+#REF!+#REF!+#REF!+#REF!+#REF!+#REF!+#REF!+#REF!+#REF!+#REF!+#REF!+#REF!+#REF!+#REF!+#REF!+#REF!+#REF!+#REF!+#REF!+#REF!+#REF!+#REF!+#REF!+#REF!","v":{"$error":"#REF!"}},{"$f":"#REF!+#REF!","v":{"$error":"#REF!"}},{"$f":"#REF!+#REF!+#REF!+#REF!+#REF!+#REF!+#REF!+#REF!+#REF!+#REF!+#REF!+#REF!+#REF!+#REF!+#REF!+#REF!+#REF!+#REF!+#REF!+#REF!+#REF!+#REF!+#REF!+#REF!+#REF!+#REF!+#REF!+#REF!+#REF!+#REF!+#REF!+#REF!+#REF!","v":{"$error":"#REF!"}},{"$f":"#REF!+#REF!+#REF!+#REF!+#REF!+#REF!+#REF!+#REF!+#REF!+#REF!+#REF!+#REF!+#REF!+#REF!+#REF!+#REF!+#REF!+#REF!+#REF!+#REF!+#REF!+#REF!+#REF!+#REF!+#REF!+#REF!+#REF!+#REF!+#REF!+#REF!+#REF!+#REF!+#REF!","v":{"$error":"#REF!"}},{"$f":"#REF!+#REF!+#REF!+#REF!+#REF!+#REF!+#REF!+#REF!+#REF!+#REF!+#REF!+#REF!+#REF!+#REF!+#REF!+#REF!+#REF!+#REF!+#REF!+#REF!+#REF!+#REF!+#REF!+#REF!+#REF!+#REF!+#REF!+#REF!+#REF!+#REF!+#REF!+#REF!+#REF!","v":{"$error":"#REF!"}},{"$f":"#REF!+#REF!+#REF!+#REF!+#REF!+#REF!+#REF!+#REF!+#REF!+#REF!+#REF!+#REF!+#REF!+#REF!+#REF!+#REF!+#REF!+#REF!+#REF!+#REF!+#REF!+#REF!+#REF!+#REF!+#REF!+#REF!+#REF!+#REF!+#REF!+#REF!+#REF!+#REF!+#REF!","v":{"$error":"#REF!"}},{"$f":"#REF!+#REF!+#REF!+#REF!+#REF!+#REF!+#REF!+#REF!+#REF!+#REF!+#REF!+#REF!+#REF!+#REF!+#REF!+#REF!+#REF!+#REF!+#REF!+#REF!+#REF!+#REF!+#REF!+#REF!+#REF!+#REF!+#REF!+#REF!+#REF!+#REF!+#REF!+#REF!+#REF!","v":{"$error":"#REF!"}},{"$f":"#REF!+#REF!+#REF!+#REF!+#REF!+#REF!+#REF!+#REF!+#REF!+#REF!+#REF!+#REF!+#REF!+#REF!+#REF!+#REF!+#REF!+#REF!+#REF!+#REF!+#REF!+#REF!+#REF!+#REF!+#REF!+#REF!+#REF!+#REF!+#REF!+#REF!+#REF!+#REF!+#REF!","v":{"$error":"#REF!"}},{"$f":"#REF!+#REF!+#REF!+#REF!+#REF!+#REF!+#REF!+#REF!+#REF!+#REF!+#REF!+#REF!+#REF!+#REF!+#REF!+#REF!+#REF!+#REF!+#REF!+#REF!+#REF!+#REF!+#REF!+#REF!+#REF!+#REF!+#REF!+#REF!+#REF!+#REF!+#REF!+#REF!+#REF!","v":{"$error":"#REF!"}},{"$f":"#REF!+#REF!+#REF!+#REF!+#REF!+#REF!+#REF!+#REF!+#REF!+#REF!+#REF!+#REF!+#REF!+#REF!+#REF!+#REF!+#REF!+#REF!+#REF!+#REF!+#REF!+#REF!+#REF!+#REF!+#REF!+#REF!+#REF!+#REF!+#REF!+#REF!+#REF!+#REF!+#REF!","v":{"$error":"#REF!"}},{"$f":"#REF!+#REF!+#REF!+#REF!+#REF!+#REF!+#REF!+#REF!+#REF!+#REF!+#REF!+#REF!+#REF!+#REF!+#REF!+#REF!+#REF!+#REF!+#REF!+#REF!+#REF!+#REF!+#REF!+#REF!+#REF!+#REF!+#REF!+#REF!+#REF!+#REF!+#REF!+#REF!+#REF!","v":{"$error":"#REF!"}},{"$f":"#REF!+#REF!+#REF!+#REF!+#REF!+#REF!+#REF!+#REF!+#REF!+#REF!+#REF!+#REF!+#REF!+#REF!+#REF!+#REF!+#REF!+#REF!+#REF!+#REF!+#REF!+#REF!+#REF!+#REF!+#REF!+#REF!+#REF!+#REF!+#REF!+#REF!+#REF!+#REF!+#REF!","v":{"$error":"#REF!"}},{"$f":"#REF!+#REF!+#REF!+#REF!+#REF!+#REF!+#REF!+#REF!+#REF!+#REF!+#REF!+#REF!+#REF!+#REF!+#REF!+#REF!+#REF!+#REF!+#REF!+#REF!+#REF!+#REF!+#REF!+#REF!+#REF!+#REF!+#REF!+#REF!+#REF!+#REF!+#REF!+#REF!+#REF!","v":{"$error":"#REF!"}},{"$f":"#REF!+#REF!+#REF!+#REF!+#REF!+#REF!+#REF!+#REF!+#REF!+#REF!+#REF!+#REF!+#REF!+#REF!+#REF!+#REF!+#REF!+#REF!+#REF!+#REF!+#REF!+#REF!+#REF!+#REF!+#REF!+#REF!+#REF!+#REF!+#REF!+#REF!+#REF!+#REF!+#REF!","v":{"$error":"#REF!"}},{"$f":"'9_Per Pupil Summary'!N15","v":8343},{"$f":"#REF!+#REF!+#REF!+#REF!+#REF!+#REF!+#REF!+#REF!+#REF!+#REF!+#REF!+#REF!+#REF!+#REF!+#REF!+#REF!+#REF!+#REF!+#REF!+#REF!+#REF!+#REF!+#REF!+#REF!+#REF!+#REF!+#REF!+#REF!+#REF!+#REF!+#REF!+#REF!+#REF!","v":{"$error":"#REF!"}},{"$f":"#REF!+#REF!+#REF!+#REF!+#REF!+#REF!+#REF!+#REF!+#REF!+#REF!+#REF!+#REF!+#REF!+#REF!+#REF!+#REF!+#REF!+#REF!+#REF!+#REF!+#REF!+#REF!+#REF!+#REF!+#REF!+#REF!+#REF!+#REF!+#REF!+#REF!+#REF!+#REF!+#REF!","v":{"$error":"#REF!"}},{"$f":"#REF!+#REF!+#REF!+#REF!+#REF!+#REF!+#REF!+#REF!+#REF!+#REF!+#REF!+#REF!+#REF!+#REF!+#REF!+#REF!+#REF!+#REF!+#REF!+#REF!+#REF!+#REF!+#REF!+#REF!+#REF!+#REF!+#REF!+#REF!+#REF!+#REF!+#REF!+#REF!+#REF!","v":{"$error":"#REF!"}},{"$f":"#REF!+#REF!+#REF!+#REF!+#REF!+#REF!+#REF!+#REF!+#REF!+#REF!+#REF!+#REF!+#REF!+#REF!+#REF!+#REF!+#REF!+#REF!+#REF!+#REF!+#REF!+#REF!+#REF!+#REF!+#REF!+#REF!+#REF!+#REF!+#REF!+#REF!+#REF!+#REF!+#REF!","v":{"$error":"#REF!"}},{"$f":"#REF!+#REF!+#REF!+#REF!+#REF!+#REF!+#REF!+#REF!+#REF!+#REF!+#REF!+#REF!+#REF!+#REF!+#REF!+#REF!+#REF!+#REF!+#REF!+#REF!+#REF!+#REF!+#REF!+#REF!+#REF!+#REF!+#REF!+#REF!+#REF!+#REF!+#REF!+#REF!+#REF!","v":{"$error":"#REF!"}},{"$f":"#REF!+#REF!+#REF!+#REF!+#REF!+#REF!+#REF!+#REF!+#REF!+#REF!+#REF!+#REF!+#REF!+#REF!+#REF!+#REF!+#REF!+#REF!+#REF!+#REF!+#REF!+#REF!+#REF!+#REF!+#REF!+#REF!+#REF!+#REF!+#REF!+#REF!+#REF!+#REF!+#REF!","v":{"$error":"#REF!"}},{"$f":"#REF!+#REF!+#REF!+#REF!+#REF!+#REF!+#REF!+#REF!+#REF!+#REF!+#REF!+#REF!+#REF!+#REF!+#REF!+#REF!+#REF!+#REF!+#REF!+#REF!+#REF!+#REF!+#REF!+#REF!+#REF!+#REF!+#REF!+#REF!+#REF!+#REF!+#REF!+#REF!+#REF!","v":{"$error":"#REF!"}},{"$f":"#REF!+#REF!+#REF!+#REF!+#REF!+#REF!+#REF!+#REF!+#REF!+#REF!+#REF!+#REF!+#REF!+#REF!+#REF!+#REF!+#REF!+#REF!+#REF!+#REF!+#REF!+#REF!+#REF!+#REF!+#REF!+#REF!+#REF!+#REF!+#REF!+#REF!+#REF!+#REF!+#REF!","v":{"$error":"#REF!"}},{"$f":"#REF!+#REF!+#REF!+#REF!+#REF!+#REF!+#REF!+#REF!+#REF!+#REF!+#REF!+#REF!+#REF!+#REF!+#REF!+#REF!+#REF!+#REF!+#REF!+#REF!+#REF!+#REF!+#REF!+#REF!+#REF!+#REF!+#REF!+#REF!+#REF!+#REF!+#REF!+#REF!+#REF!","v":{"$error":"#REF!"}},{"$f":"#REF!+#REF!+#REF!+#REF!+#REF!+#REF!+#REF!+#REF!+#REF!+#REF!+#REF!+#REF!+#REF!+#REF!+#REF!+#REF!+#REF!+#REF!+#REF!+#REF!+#REF!+#REF!+#REF!+#REF!+#REF!+#REF!+#REF!+#REF!+#REF!+#REF!+#REF!+#REF!+#REF!","v":{"$error":"#REF!"}},{"$f":"#REF!+#REF!+#REF!+#REF!+#REF!+#REF!+#REF!+#REF!+#REF!+#REF!+#REF!+#REF!+#REF!+#REF!+#REF!+#REF!+#REF!+#REF!+#REF!+#REF!+#REF!+#REF!+#REF!+#REF!+#REF!+#REF!+#REF!+#REF!+#REF!+#REF!+#REF!+#REF!+#REF!","v":{"$error":"#REF!"}},{"$f":"#REF!+#REF!+#REF!+#REF!+#REF!+#REF!+#REF!+#REF!+#REF!+#REF!+#REF!+#REF!+#REF!+#REF!+#REF!+#REF!+#REF!+#REF!+#REF!+#REF!+#REF!+#REF!+#REF!+#REF!+#REF!+#REF!+#REF!+#REF!+#REF!+#REF!+#REF!+#REF!+#REF!","v":{"$error":"#REF!"}},{"$f":"#REF!+#REF!+#REF!+#REF!+#REF!+#REF!+#REF!+#REF!+#REF!+#REF!+#REF!+#REF!+#REF!+#REF!+#REF!+#REF!+#REF!+#REF!+#REF!+#REF!+#REF!+#REF!+#REF!+#REF!+#REF!+#REF!+#REF!+#REF!+#REF!+#REF!+#REF!+#REF!+#REF!","v":{"$error":"#REF!"}},{"$f":"#REF!+#REF!+#REF!+#REF!+#REF!+#REF!+#REF!+#REF!+#REF!+#REF!+#REF!+#REF!+#REF!+#REF!+#REF!+#REF!+#REF!+#REF!+#REF!+#REF!+#REF!+#REF!+#REF!+#REF!+#REF!+#REF!+#REF!+#REF!+#REF!+#REF!+#REF!+#REF!+#REF!","v":{"$error":"#REF!"}},{"$error":"#REF!"},{"$error":"#REF!"},{"$f":"#REF!+#REF!+#REF!+#REF!+#REF!+#REF!+#REF!+#REF!+#REF!+#REF!+#REF!+#REF!+#REF!+#REF!+#REF!+#REF!+#REF!+#REF!+#REF!+#REF!+#REF!+#REF!+#REF!+#REF!+#REF!+#REF!+#REF!+#REF!+#REF!+#REF!+#REF!+#REF!+#REF!","v":{"$error":"#REF!"}},null,{"$error":"#REF!"}]
[11,"Caldwell",{"$f":"#REF!+#REF!+#REF!+#REF!+#REF!+#REF!+#REF!+#REF!+#REF!+#REF!+#REF!+#REF!+#REF!+#REF!+#REF!+#REF!+#REF!+#REF!+#REF!+#REF!+#REF!+#REF!+#REF!+#REF!+#REF!+#REF!+#REF!+#REF!+#REF!+#REF!+#REF!+#REF!+#REF!","v":{"$error":"#REF!"}},{"$f":"'9_Per Pupil Summary'!H16","v":5848.2497676470148},{"$f":"#REF!+#REF!+#REF!+#REF!+#REF!+#REF!+#REF!+#REF!+#REF!+#REF!+#REF!+#REF!+#REF!+#REF!+#REF!+#REF!+#REF!+#REF!+#REF!+#REF!+#REF!+#REF!+#REF!+#REF!+#REF!+#REF!+#REF!+#REF!+#REF!+#REF!+#REF!+#REF!+#REF!","v":{"$error":"#REF!"}},{"$f":"#REF!+#REF!+#REF!+#REF!+#REF!+#REF!+#REF!+#REF!+#REF!+#REF!+#REF!+#REF!+#REF!+#REF!+#REF!+#REF!+#REF!+#REF!+#REF!+#REF!+#REF!+#REF!+#REF!+#REF!+#REF!+#REF!+#REF!+#REF!+#REF!+#REF!+#REF!+#REF!+#REF!","v":{"$error":"#REF!"}},{"$f":"'9_Per Pupil Summary'!I16","v":731.12315772054706},{"$f":"#REF!+#REF!+#REF!+#REF!+#REF!+#REF!+#REF!+#REF!+#REF!+#REF!+#REF!+#REF!+#REF!+#REF!+#REF!+#REF!+#REF!+#REF!+#REF!+#REF!+#REF!+#REF!+#REF!+#REF!+#REF!+#REF!+#REF!+#REF!+#REF!+#REF!+#REF!+#REF!+#REF!","v":{"$error":"#REF!"}},{"$f":"#REF!+#REF!+#REF!+#REF!+#REF!+#REF!+#REF!+#REF!+#REF!+#REF!+#REF!+#REF!+#REF!+#REF!+#REF!+#REF!+#REF!+#REF!+#REF!+#REF!+#REF!+#REF!+#REF!+#REF!+#REF!+#REF!+#REF!+#REF!+#REF!+#REF!+#REF!+#REF!+#REF!","v":{"$error":"#REF!"}},{"$f":"'9_Per Pupil Summary'!J16","v":199.3972248328765},{"$f":"#REF!+#REF!+#REF!+#REF!+#REF!+#REF!+#REF!+#REF!+#REF!+#REF!+#REF!+#REF!+#REF!+#REF!+#REF!+#REF!+#REF!+#REF!+#REF!+#REF!+#REF!+#REF!+#REF!+#REF!+#REF!+#REF!+#REF!+#REF!+#REF!+#REF!+#REF!+#REF!+#REF!","v":{"$error":"#REF!"}},{"$f":"#REF!+#REF!+#REF!+#REF!+#REF!+#REF!+#REF!+#REF!+#REF!+#REF!+#REF!+#REF!+#REF!+#REF!+#REF!+#REF!+#REF!+#REF!+#REF!+#REF!+#REF!+#REF!+#REF!+#REF!+#REF!+#REF!+#REF!+#REF!+#REF!+#REF!+#REF!+#REF!+#REF!","v":{"$error":"#REF!"}},{"$f":"'9_Per Pupil Summary'!K16","v":4984.9306208219123},{"$f":"#REF!+#REF!+#REF!+#REF!+#REF!+#REF!+#REF!+#REF!+#REF!+#REF!+#REF!+#REF!+#REF!+#REF!+#REF!+#REF!+#REF!+#REF!+#REF!+#REF!+#REF!+#REF!+#REF!+#REF!+#REF!+#REF!+#REF!+#REF!+#REF!+#REF!+#REF!+#REF!+#REF!","v":{"$error":"#REF!"}},{"$f":"#REF!+#REF!+#REF!+#REF!+#REF!+#REF!+#REF!+#REF!+#REF!+#REF!+#REF!+#REF!+#REF!+#REF!+#REF!+#REF!+#REF!+#REF!+#REF!+#REF!+#REF!+#REF!+#REF!+#REF!+#REF!+#REF!+#REF!+#REF!+#REF!+#REF!+#REF!+#REF!+#REF!","v":{"$error":"#REF!"}},{"$f":"'9_Per Pupil Summary'!L16","v":1993.9722483287651},{"$f":"#REF!+#REF!+#REF!+#REF!+#REF!+#REF!+#REF!+#REF!+#REF!+#REF!+#REF!+#REF!+#REF!+#REF!+#REF!+#REF!+#REF!+#REF!+#REF!+#REF!+#REF!+#REF!+#REF!+#REF!+#REF!+#REF!+#REF!+#REF!+#REF!+#REF!+#REF!+#REF!+#REF!","v":{"$error":"#REF!"}},{"$f":"#REF!+#REF!+#REF!+#REF!+#REF!+#REF!+#REF!+#REF!+#REF!+#REF!+#REF!+#REF!+#REF!+#REF!+#REF!+#REF!+#REF!+#REF!+#REF!+#REF!+#REF!+#REF!+#REF!+#REF!+#REF!+#REF!+#REF!+#REF!+#REF!+#REF!+#REF!+#REF!+#REF!","v":{"$error":"#REF!"}},{"$f":"#REF!+#REF!","v":{"$error":"#REF!"}},{"$f":"#REF!+#REF!+#REF!+#REF!+#REF!+#REF!+#REF!+#REF!+#REF!+#REF!+#REF!+#REF!+#REF!+#REF!+#REF!+#REF!+#REF!+#REF!+#REF!+#REF!+#REF!+#REF!+#REF!+#REF!+#REF!+#REF!+#REF!+#REF!+#REF!+#REF!+#REF!+#REF!+#REF!","v":{"$error":"#REF!"}},{"$f":"#REF!+#REF!+#REF!+#REF!+#REF!+#REF!+#REF!+#REF!+#REF!+#REF!+#REF!+#REF!+#REF!+#REF!+#REF!+#REF!+#REF!+#REF!+#REF!+#REF!+#REF!+#REF!+#REF!+#REF!+#REF!+#REF!+#REF!+#REF!+#REF!+#REF!+#REF!+#REF!+#REF!","v":{"$error":"#REF!"}},{"$f":"#REF!+#REF!+#REF!+#REF!+#REF!+#REF!+#REF!+#REF!+#REF!+#REF!+#REF!+#REF!+#REF!+#REF!+#REF!+#REF!+#REF!+#REF!+#REF!+#REF!+#REF!+#REF!+#REF!+#REF!+#REF!+#REF!+#REF!+#REF!+#REF!+#REF!+#REF!+#REF!+#REF!","v":{"$error":"#REF!"}},{"$f":"#REF!+#REF!+#REF!+#REF!+#REF!+#REF!+#REF!+#REF!+#REF!+#REF!+#REF!+#REF!+#REF!+#REF!+#REF!+#REF!+#REF!+#REF!+#REF!+#REF!+#REF!+#REF!+#REF!+#REF!+#REF!+#REF!+#REF!+#REF!+#REF!+#REF!+#REF!+#REF!+#REF!","v":{"$error":"#REF!"}},{"$f":"#REF!+#REF!+#REF!+#REF!+#REF!+#REF!+#REF!+#REF!+#REF!+#REF!+#REF!+#REF!+#REF!+#REF!+#REF!+#REF!+#REF!+#REF!+#REF!+#REF!+#REF!+#REF!+#REF!+#REF!+#REF!+#REF!+#REF!+#REF!+#REF!+#REF!+#REF!+#REF!+#REF!","v":{"$error":"#REF!"}},{"$f":"#REF!+#REF!+#REF!+#REF!+#REF!+#REF!+#REF!+#REF!+#REF!+#REF!+#REF!+#REF!+#REF!+#REF!+#REF!+#REF!+#REF!+#REF!+#REF!+#REF!+#REF!+#REF!+#REF!+#REF!+#REF!+#REF!+#REF!+#REF!+#REF!+#REF!+#REF!+#REF!+#REF!","v":{"$error":"#REF!"}},{"$f":"#REF!+#REF!+#REF!+#REF!+#REF!+#REF!+#REF!+#REF!+#REF!+#REF!+#REF!+#REF!+#REF!+#REF!+#REF!+#REF!+#REF!+#REF!+#REF!+#REF!+#REF!+#REF!+#REF!+#REF!+#REF!+#REF!+#REF!+#REF!+#REF!+#REF!+#REF!+#REF!+#REF!","v":{"$error":"#REF!"}},{"$f":"#REF!+#REF!+#REF!+#REF!+#REF!+#REF!+#REF!+#REF!+#REF!+#REF!+#REF!+#REF!+#REF!+#REF!+#REF!+#REF!+#REF!+#REF!+#REF!+#REF!+#REF!+#REF!+#REF!+#REF!+#REF!+#REF!+#REF!+#REF!+#REF!+#REF!+#REF!+#REF!+#REF!","v":{"$error":"#REF!"}},{"$f":"#REF!+#REF!+#REF!+#REF!+#REF!+#REF!+#REF!+#REF!+#REF!+#REF!+#REF!+#REF!+#REF!+#REF!+#REF!+#REF!+#REF!+#REF!+#REF!+#REF!+#REF!+#REF!+#REF!+#REF!+#REF!+#REF!+#REF!+#REF!+#REF!+#REF!+#REF!+#REF!+#REF!","v":{"$error":"#REF!"}},{"$f":"#REF!+#REF!+#REF!+#REF!+#REF!+#REF!+#REF!+#REF!+#REF!+#REF!+#REF!+#REF!+#REF!+#REF!+#REF!+#REF!+#REF!+#REF!+#REF!+#REF!+#REF!+#REF!+#REF!+#REF!+#REF!+#REF!+#REF!+#REF!+#REF!+#REF!+#REF!+#REF!+#REF!","v":{"$error":"#REF!"}},{"$f":"#REF!+#REF!+#REF!+#REF!+#REF!+#REF!+#REF!+#REF!+#REF!+#REF!+#REF!+#REF!+#REF!+#REF!+#REF!+#REF!+#REF!+#REF!+#REF!+#REF!+#REF!+#REF!+#REF!+#REF!+#REF!+#REF!+#REF!+#REF!+#REF!+#REF!+#REF!+#REF!+#REF!","v":{"$error":"#REF!"}},{"$f":"#REF!+#REF!+#REF!+#REF!+#REF!+#REF!+#REF!+#REF!+#REF!+#REF!+#REF!+#REF!+#REF!+#REF!+#REF!+#REF!+#REF!+#REF!+#REF!+#REF!+#REF!+#REF!+#REF!+#REF!+#REF!+#REF!+#REF!+#REF!+#REF!+#REF!+#REF!+#REF!+#REF!","v":{"$error":"#REF!"}},{"$f":"'9_Per Pupil Summary'!N16","v":4714},{"$f":"#REF!+#REF!+#REF!+#REF!+#REF!+#REF!+#REF!+#REF!+#REF!+#REF!+#REF!+#REF!+#REF!+#REF!+#REF!+#REF!+#REF!+#REF!+#REF!+#REF!+#REF!+#REF!+#REF!+#REF!+#REF!+#REF!+#REF!+#REF!+#REF!+#REF!+#REF!+#REF!+#REF!","v":{"$error":"#REF!"}},{"$f":"#REF!+#REF!+#REF!+#REF!+#REF!+#REF!+#REF!+#REF!+#REF!+#REF!+#REF!+#REF!+#REF!+#REF!+#REF!+#REF!+#REF!+#REF!+#REF!+#REF!+#REF!+#REF!+#REF!+#REF!+#REF!+#REF!+#REF!+#REF!+#REF!+#REF!+#REF!+#REF!+#REF!","v":{"$error":"#REF!"}},{"$f":"#REF!+#REF!+#REF!+#REF!+#REF!+#REF!+#REF!+#REF!+#REF!+#REF!+#REF!+#REF!+#REF!+#REF!+#REF!+#REF!+#REF!+#REF!+#REF!+#REF!+#REF!+#REF!+#REF!+#REF!+#REF!+#REF!+#REF!+#REF!+#REF!+#REF!+#REF!+#REF!+#REF!","v":{"$error":"#REF!"}},{"$f":"#REF!+#REF!+#REF!+#REF!+#REF!+#REF!+#REF!+#REF!+#REF!+#REF!+#REF!+#REF!+#REF!+#REF!+#REF!+#REF!+#REF!+#REF!+#REF!+#REF!+#REF!+#REF!+#REF!+#REF!+#REF!+#REF!+#REF!+#REF!+#REF!+#REF!+#REF!+#REF!+#REF!","v":{"$error":"#REF!"}},{"$f":"#REF!+#REF!+#REF!+#REF!+#REF!+#REF!+#REF!+#REF!+#REF!+#REF!+#REF!+#REF!+#REF!+#REF!+#REF!+#REF!+#REF!+#REF!+#REF!+#REF!+#REF!+#REF!+#REF!+#REF!+#REF!+#REF!+#REF!+#REF!+#REF!+#REF!+#REF!+#REF!+#REF!","v":{"$error":"#REF!"}},{"$f":"#REF!+#REF!+#REF!+#REF!+#REF!+#REF!+#REF!+#REF!+#REF!+#REF!+#REF!+#REF!+#REF!+#REF!+#REF!+#REF!+#REF!+#REF!+#REF!+#REF!+#REF!+#REF!+#REF!+#REF!+#REF!+#REF!+#REF!+#REF!+#REF!+#REF!+#REF!+#REF!+#REF!","v":{"$error":"#REF!"}},{"$f":"#REF!+#REF!+#REF!+#REF!+#REF!+#REF!+#REF!+#REF!+#REF!+#REF!+#REF!+#REF!+#REF!+#REF!+#REF!+#REF!+#REF!+#REF!+#REF!+#REF!+#REF!+#REF!+#REF!+#REF!+#REF!+#REF!+#REF!+#REF!+#REF!+#REF!+#REF!+#REF!+#REF!","v":{"$error":"#REF!"}},{"$f":"#REF!+#REF!+#REF!+#REF!+#REF!+#REF!+#REF!+#REF!+#REF!+#REF!+#REF!+#REF!+#REF!+#REF!+#REF!+#REF!+#REF!+#REF!+#REF!+#REF!+#REF!+#REF!+#REF!+#REF!+#REF!+#REF!+#REF!+#REF!+#REF!+#REF!+#REF!+#REF!+#REF!","v":{"$error":"#REF!"}},{"$f":"#REF!+#REF!+#REF!+#REF!+#REF!+#REF!+#REF!+#REF!+#REF!+#REF!+#REF!+#REF!+#REF!+#REF!+#REF!+#REF!+#REF!+#REF!+#REF!+#REF!+#REF!+#REF!+#REF!+#REF!+#REF!+#REF!+#REF!+#REF!+#REF!+#REF!+#REF!+#REF!+#REF!","v":{"$error":"#REF!"}},{"$f":"#REF!+#REF!+#REF!+#REF!+#REF!+#REF!+#REF!+#REF!+#REF!+#REF!+#REF!+#REF!+#REF!+#REF!+#REF!+#REF!+#REF!+#REF!+#REF!+#REF!+#REF!+#REF!+#REF!+#REF!+#REF!+#REF!+#REF!+#REF!+#REF!+#REF!+#REF!+#REF!+#REF!","v":{"$error":"#REF!"}},{"$f":"#REF!+#REF!+#REF!+#REF!+#REF!+#REF!+#REF!+#REF!+#REF!+#REF!+#REF!+#REF!+#REF!+#REF!+#REF!+#REF!+#REF!+#REF!+#REF!+#REF!+#REF!+#REF!+#REF!+#REF!+#REF!+#REF!+#REF!+#REF!+#REF!+#REF!+#REF!+#REF!+#REF!","v":{"$error":"#REF!"}},{"$f":"#REF!+#REF!+#REF!+#REF!+#REF!+#REF!+#REF!+#REF!+#REF!+#REF!+#REF!+#REF!+#REF!+#REF!+#REF!+#REF!+#REF!+#REF!+#REF!+#REF!+#REF!+#REF!+#REF!+#REF!+#REF!+#REF!+#REF!+#REF!+#REF!+#REF!+#REF!+#REF!+#REF!","v":{"$error":"#REF!"}},{"$f":"#REF!+#REF!+#REF!+#REF!+#REF!+#REF!+#REF!+#REF!+#REF!+#REF!+#REF!+#REF!+#REF!+#REF!+#REF!+#REF!+#REF!+#REF!+#REF!+#REF!+#REF!+#REF!+#REF!+#REF!+#REF!+#REF!+#REF!+#REF!+#REF!+#REF!+#REF!+#REF!+#REF!","v":{"$error":"#REF!"}},{"$f":"#REF!+#REF!+#REF!+#REF!+#REF!+#REF!+#REF!+#REF!+#REF!+#REF!+#REF!+#REF!+#REF!+#REF!+#REF!+#REF!+#REF!+#REF!+#REF!+#REF!+#REF!+#REF!+#REF!+#REF!+#REF!+#REF!+#REF!+#REF!+#REF!+#REF!+#REF!+#REF!+#REF!","v":{"$error":"#REF!"}},{"$error":"#REF!"},{"$error":"#REF!"},{"$f":"#REF!+#REF!+#REF!+#REF!+#REF!+#REF!+#REF!+#REF!+#REF!+#REF!+#REF!+#REF!+#REF!+#REF!+#REF!+#REF!+#REF!+#REF!+#REF!+#REF!+#REF!+#REF!+#REF!+#REF!+#REF!+#REF!+#REF!+#REF!+#REF!+#REF!+#REF!+#REF!+#REF!","v":{"$error":"#REF!"}},null,{"$error":"#REF!"}]
[12,"Cameron",{"$f":"#REF!+#REF!+#REF!+#REF!+#REF!+#REF!+#REF!+#REF!+#REF!+#REF!+#REF!+#REF!+#REF!+#REF!+#REF!+#REF!+#REF!+#REF!+#REF!+#REF!+#REF!+#REF!+#REF!+#REF!+#REF!+#REF!+#REF!+#REF!+#REF!+#REF!+#REF!+#REF!+#REF!","v":{"$error":"#REF!"}},{"$f":"'9_Per Pupil Summary'!H17","v":2240.4731789030038},{"$f":"#REF!+#REF!+#REF!+#REF!+#REF!+#REF!+#REF!+#REF!+#REF!+#REF!+#REF!+#REF!+#REF!+#REF!+#REF!+#REF!+#REF!+#REF!+#REF!+#REF!+#REF!+#REF!+#REF!+#REF!+#REF!+#REF!+#REF!+#REF!+#REF!+#REF!+#REF!+#REF!+#REF!","v":{"$error":"#REF!"}},{"$f":"#REF!+#REF!+#REF!+#REF!+#REF!+#REF!+#REF!+#REF!+#REF!+#REF!+#REF!+#REF!+#REF!+#REF!+#REF!+#REF!+#REF!+#REF!+#REF!+#REF!+#REF!+#REF!+#REF!+#REF!+#REF!+#REF!+#REF!+#REF!+#REF!+#REF!+#REF!+#REF!+#REF!","v":{"$error":"#REF!"}},{"$f":"'9_Per Pupil Summary'!I17","v":220.8250342423818},{"$f":"#REF!+#REF!+#REF!+#REF!+#REF!+#REF!+#REF!+#REF!+#REF!+#REF!+#REF!+#REF!+#REF!+#REF!+#REF!+#REF!+#REF!+#REF!+#REF!+#REF!+#REF!+#REF!+#REF!+#REF!+#REF!+#REF!+#REF!+#REF!+#REF!+#REF!+#REF!+#REF!+#REF!","v":{"$error":"#REF!"}},{"$f":"#REF!+#REF!+#REF!+#REF!+#REF!+#REF!+#REF!+#REF!+#REF!+#REF!+#REF!+#REF!+#REF!+#REF!+#REF!+#REF!+#REF!+#REF!+#REF!+#REF!+#REF!+#REF!+#REF!+#REF!+#REF!+#REF!+#REF!+#REF!+#REF!+#REF!+#REF!+#REF!+#REF!","v":{"$error":"#REF!"}},{"$f":"'9_Per Pupil Summary'!J17","v":60.225009338831406},{"$f":"#REF!+#REF!+#REF!+#REF!+#REF!+#REF!+#REF!+#REF!+#REF!+#REF!+#REF!+#REF!+#REF!+#REF!+#REF!+#REF!+#REF!+#REF!+#REF!+#REF!+#REF!+#REF!+#REF!+#REF!+#REF!+#REF!+#REF!+#REF!+#REF!+#REF!+#REF!+#REF!+#REF!","v":{"$error":"#REF!"}},{"$f":"#REF!+#REF!+#REF!+#REF!+#REF!+#REF!+#REF!+#REF!+#REF!+#REF!+#REF!+#REF!+#REF!+#REF!+#REF!+#REF!+#REF!+#REF!+#REF!+#REF!+#REF!+#REF!+#REF!+#REF!+#REF!+#REF!+#REF!+#REF!+#REF!+#REF!+#REF!+#REF!+#REF!","v":{"$error":"#REF!"}},{"$f":"'9_Per Pupil Summary'!K17","v":1505.6252334707854},{"$f":"#REF!+#REF!+#REF!+#REF!+#REF!+#REF!+#REF!+#REF!+#REF!+#REF!+#REF!+#REF!+#REF!+#REF!+#REF!+#REF!+#REF!+#REF!+#REF!+#REF!+#REF!+#REF!+#REF!+#REF!+#REF!+#REF!+#REF!+#REF!+#REF!+#REF!+#REF!+#REF!+#REF!","v":{"$error":"#REF!"}},{"$f":"#REF!+#REF!+#REF!+#REF!+#REF!+#REF!+#REF!+#REF!+#REF!+#REF!+#REF!+#REF!+#REF!+#REF!+#REF!+#REF!+#REF!+#REF!+#REF!+#REF!+#REF!+#REF!+#REF!+#REF!+#REF!+#REF!+#REF!+#REF!+#REF!+#REF!+#REF!+#REF!+#REF!","v":{"$error":"#REF!"}},{"$f":"'9_Per Pupil Summary'!L17","v":602.25009338831399},{"$f":"#REF!+#REF!+#REF!+#REF!+#REF!+#REF!+#REF!+#REF!+#REF!+#REF!+#REF!+#REF!+#REF!+#REF!+#REF!+#REF!+#REF!+#REF!+#REF!+#REF!+#REF!+#REF!+#REF!+#REF!+#REF!+#REF!+#REF!+#REF!+#REF!+#REF!+#REF!+#REF!+#REF!","v":{"$error":"#REF!"}},{"$f":"#REF!+#REF!+#REF!+#REF!+#REF!+#REF!+#REF!+#REF!+#REF!+#REF!+#REF!+#REF!+#REF!+#REF!+#REF!+#REF!+#REF!+#REF!+#REF!+#REF!+#REF!+#REF!+#REF!+#REF!+#REF!+#REF!+#REF!+#REF!+#REF!+#REF!+#REF!+#REF!+#REF!","v":{"$error":"#REF!"}},{"$f":"#REF!+#REF!","v":{"$error":"#REF!"}},{"$f":"#REF!+#REF!+#REF!+#REF!+#REF!+#REF!+#REF!+#REF!+#REF!+#REF!+#REF!+#REF!+#REF!+#REF!+#REF!+#REF!+#REF!+#REF!+#REF!+#REF!+#REF!+#REF!+#REF!+#REF!+#REF!+#REF!+#REF!+#REF!+#REF!+#REF!+#REF!+#REF!+#REF!","v":{"$error":"#REF!"}},{"$f":"#REF!+#REF!+#REF!+#REF!+#REF!+#REF!+#REF!+#REF!+#REF!+#REF!+#REF!+#REF!+#REF!+#REF!+#REF!+#REF!+#REF!+#REF!+#REF!+#REF!+#REF!+#REF!+#REF!+#REF!+#REF!+#REF!+#REF!+#REF!+#REF!+#REF!+#REF!+#REF!+#REF!","v":{"$error":"#REF!"}},{"$f":"#REF!+#REF!+#REF!+#REF!+#REF!+#REF!+#REF!+#REF!+#REF!+#REF!+#REF!+#REF!+#REF!+#REF!+#REF!+#REF!+#REF!+#REF!+#REF!+#REF!+#REF!+#REF!+#REF!+#REF!+#REF!+#REF!+#REF!+#REF!+#REF!+#REF!+#REF!+#REF!+#REF!","v":{"$error":"#REF!"}},{"$f":"#REF!+#REF!+#REF!+#REF!+#REF!+#REF!+#REF!+#REF!+#REF!+#REF!+#REF!+#REF!+#REF!+#REF!+#REF!+#REF!+#REF!+#REF!+#REF!+#REF!+#REF!+#REF!+#REF!+#REF!+#REF!+#REF!+#REF!+#REF!+#REF!+#REF!+#REF!+#REF!+#REF!","v":{"$error":"#REF!"}},{"$f":"#REF!+#REF!+#REF!+#REF!+#REF!+#REF!+#REF!+#REF!+#REF!+#REF!+#REF!+#REF!+#REF!+#REF!+#REF!+#REF!+#REF!+#REF!+#REF!+#REF!+#REF!+#REF!+#REF!+#REF!+#REF!+#REF!+#REF!+#REF!+#REF!+#REF!+#REF!+#REF!+#REF!","v":{"$error":"#REF!"}},{"$f":"#REF!+#REF!+#REF!+#REF!+#REF!+#REF!+#REF!+#REF!+#REF!+#REF!+#REF!+#REF!+#REF!+#REF!+#REF!+#REF!+#REF!+#REF!+#REF!+#REF!+#REF!+#REF!+#REF!+#REF!+#REF!+#REF!+#REF!+#REF!+#REF!+#REF!+#REF!+#REF!+#REF!","v":{"$error":"#REF!"}},{"$f":"#REF!+#REF!+#REF!+#REF!+#REF!+#REF!+#REF!+#REF!+#REF!+#REF!+#REF!+#REF!+#REF!+#REF!+#REF!+#REF!+#REF!+#REF!+#REF!+#REF!+#REF!+#REF!+#REF!+#REF!+#REF!+#REF!+#REF!+#REF!+#REF!+#REF!+#REF!+#REF!+#REF!","v":{"$error":"#REF!"}},{"$f":"#REF!+#REF!+#REF!+#REF!+#REF!+#REF!+#REF!+#REF!+#REF!+#REF!+#REF!+#REF!+#REF!+#REF!+#REF!+#REF!+#REF!+#REF!+#REF!+#REF!+#REF!+#REF!+#REF!+#REF!+#REF!+#REF!+#REF!+#REF!+#REF!+#REF!+#REF!+#REF!+#REF!","v":{"$error":"#REF!"}},{"$f":"#REF!+#REF!+#REF!+#REF!+#REF!+#REF!+#REF!+#REF!+#REF!+#REF!+#REF!+#REF!+#REF!+#REF!+#REF!+#REF!+#REF!+#REF!+#REF!+#REF!+#REF!+#REF!+#REF!+#REF!+#REF!+#REF!+#REF!+#REF!+#REF!+#REF!+#REF!+#REF!+#REF!","v":{"$error":"#REF!"}},{"$f":"#REF!+#REF!+#REF!+#REF!+#REF!+#REF!+#REF!+#REF!+#REF!+#REF!+#REF!+#REF!+#REF!+#REF!+#REF!+#REF!+#REF!+#REF!+#REF!+#REF!+#REF!+#REF!+#REF!+#REF!+#REF!+#REF!+#REF!+#REF!+#REF!+#REF!+#REF!+#REF!+#REF!","v":{"$error":"#REF!"}},{"$f":"#REF!+#REF!+#REF!+#REF!+#REF!+#REF!+#REF!+#REF!+#REF!+#REF!+#REF!+#REF!+#REF!+#REF!+#REF!+#REF!+#REF!+#REF!+#REF!+#REF!+#REF!+#REF!+#REF!+#REF!+#REF!+#REF!+#REF!+#REF!+#REF!+#REF!+#REF!+#REF!+#REF!","v":{"$error":"#REF!"}},{"$f":"#REF!+#REF!+#REF!+#REF!+#REF!+#REF!+#REF!+#REF!+#REF!+#REF!+#REF!+#REF!+#REF!+#REF!+#REF!+#REF!+#REF!+#REF!+#REF!+#REF!+#REF!+#REF!+#REF!+#REF!+#REF!+#REF!+#REF!+#REF!+#REF!+#REF!+#REF!+#REF!+#REF!","v":{"$error":"#REF!"}},{"$f":"'9_Per Pupil Summary'!N17","v":13302},{"$f":"#REF!+#REF!+#REF!+#REF!+#REF!+#REF!+#REF!+#REF!+#REF!+#REF!+#REF!+#REF!+#REF!+#REF!+#REF!+#REF!+#REF!+#REF!+#REF!+#REF!+#REF!+#REF!+#REF!+#REF!+#REF!+#REF!+#REF!+#REF!+#REF!+#REF!+#REF!+#REF!+#REF!","v":{"$error":"#REF!"}},{"$f":"#REF!+#REF!+#REF!+#REF!+#REF!+#REF!+#REF!+#REF!+#REF!+#REF!+#REF!+#REF!+#REF!+#REF!+#REF!+#REF!+#REF!+#REF!+#REF!+#REF!+#REF!+#REF!+#REF!+#REF!+#REF!+#REF!+#REF!+#REF!+#REF!+#REF!+#REF!+#REF!+#REF!","v":{"$error":"#REF!"}},{"$f":"#REF!+#REF!+#REF!+#REF!+#REF!+#REF!+#REF!+#REF!+#REF!+#REF!+#REF!+#REF!+#REF!+#REF!+#REF!+#REF!+#REF!+#REF!+#REF!+#REF!+#REF!+#REF!+#REF!+#REF!+#REF!+#REF!+#REF!+#REF!+#REF!+#REF!+#REF!+#REF!+#REF!","v":{"$error":"#REF!"}},{"$f":"#REF!+#REF!+#REF!+#REF!+#REF!+#REF!+#REF!+#REF!+#REF!+#REF!+#REF!+#REF!+#REF!+#REF!+#REF!+#REF!+#REF!+#REF!+#REF!+#REF!+#REF!+#REF!+#REF!+#REF!+#REF!+#REF!+#REF!+#REF!+#REF!+#REF!+#REF!+#REF!+#REF!","v":{"$error":"#REF!"}},{"$f":"#REF!+#REF!+#REF!+#REF!+#REF!+#REF!+#REF!+#REF!+#REF!+#REF!+#REF!+#REF!+#REF!+#REF!+#REF!+#REF!+#REF!+#REF!+#REF!+#REF!+#REF!+#REF!+#REF!+#REF!+#REF!+#REF!+#REF!+#REF!+#REF!+#REF!+#REF!+#REF!+#REF!","v":{"$error":"#REF!"}},{"$f":"#REF!+#REF!+#REF!+#REF!+#REF!+#REF!+#REF!+#REF!+#REF!+#REF!+#REF!+#REF!+#REF!+#REF!+#REF!+#REF!+#REF!+#REF!+#REF!+#REF!+#REF!+#REF!+#REF!+#REF!+#REF!+#REF!+#REF!+#REF!+#REF!+#REF!+#REF!+#REF!+#REF!","v":{"$error":"#REF!"}},{"$f":"#REF!+#REF!+#REF!+#REF!+#REF!+#REF!+#REF!+#REF!+#REF!+#REF!+#REF!+#REF!+#REF!+#REF!+#REF!+#REF!+#REF!+#REF!+#REF!+#REF!+#REF!+#REF!+#REF!+#REF!+#REF!+#REF!+#REF!+#REF!+#REF!+#REF!+#REF!+#REF!+#REF!","v":{"$error":"#REF!"}},{"$f":"#REF!+#REF!+#REF!+#REF!+#REF!+#REF!+#REF!+#REF!+#REF!+#REF!+#REF!+#REF!+#REF!+#REF!+#REF!+#REF!+#REF!+#REF!+#REF!+#REF!+#REF!+#REF!+#REF!+#REF!+#REF!+#REF!+#REF!+#REF!+#REF!+#REF!+#REF!+#REF!+#REF!","v":{"$error":"#REF!"}},{"$f":"#REF!+#REF!+#REF!+#REF!+#REF!+#REF!+#REF!+#REF!+#REF!+#REF!+#REF!+#REF!+#REF!+#REF!+#REF!+#REF!+#REF!+#REF!+#REF!+#REF!+#REF!+#REF!+#REF!+#REF!+#REF!+#REF!+#REF!+#REF!+#REF!+#REF!+#REF!+#REF!+#REF!","v":{"$error":"#REF!"}},{"$f":"#REF!+#REF!+#REF!+#REF!+#REF!+#REF!+#REF!+#REF!+#REF!+#REF!+#REF!+#REF!+#REF!+#REF!+#REF!+#REF!+#REF!+#REF!+#REF!+#REF!+#REF!+#REF!+#REF!+#REF!+#REF!+#REF!+#REF!+#REF!+#REF!+#REF!+#REF!+#REF!+#REF!","v":{"$error":"#REF!"}},{"$f":"#REF!+#REF!+#REF!+#REF!+#REF!+#REF!+#REF!+#REF!+#REF!+#REF!+#REF!+#REF!+#REF!+#REF!+#REF!+#REF!+#REF!+#REF!+#REF!+#REF!+#REF!+#REF!+#REF!+#REF!+#REF!+#REF!+#REF!+#REF!+#REF!+#REF!+#REF!+#REF!+#REF!","v":{"$error":"#REF!"}},{"$f":"#REF!+#REF!+#REF!+#REF!+#REF!+#REF!+#REF!+#REF!+#REF!+#REF!+#REF!+#REF!+#REF!+#REF!+#REF!+#REF!+#REF!+#REF!+#REF!+#REF!+#REF!+#REF!+#REF!+#REF!+#REF!+#REF!+#REF!+#REF!+#REF!+#REF!+#REF!+#REF!+#REF!","v":{"$error":"#REF!"}},{"$f":"#REF!+#REF!+#REF!+#REF!+#REF!+#REF!+#REF!+#REF!+#REF!+#REF!+#REF!+#REF!+#REF!+#REF!+#REF!+#REF!+#REF!+#REF!+#REF!+#REF!+#REF!+#REF!+#REF!+#REF!+#REF!+#REF!+#REF!+#REF!+#REF!+#REF!+#REF!+#REF!+#REF!","v":{"$error":"#REF!"}},{"$f":"#REF!+#REF!+#REF!+#REF!+#REF!+#REF!+#REF!+#REF!+#REF!+#REF!+#REF!+#REF!+#REF!+#REF!+#REF!+#REF!+#REF!+#REF!+#REF!+#REF!+#REF!+#REF!+#REF!+#REF!+#REF!+#REF!+#REF!+#REF!+#REF!+#REF!+#REF!+#REF!+#REF!","v":{"$error":"#REF!"}},{"$error":"#REF!"},{"$error":"#REF!"},{"$f":"#REF!+#REF!+#REF!+#REF!+#REF!+#REF!+#REF!+#REF!+#REF!+#REF!+#REF!+#REF!+#REF!+#REF!+#REF!+#REF!+#REF!+#REF!+#REF!+#REF!+#REF!+#REF!+#REF!+#REF!+#REF!+#REF!+#REF!+#REF!+#REF!+#REF!+#REF!+#REF!+#REF!","v":{"$error":"#REF!"}},null,{"$error":"#REF!"}]
[13,"Catahoula",{"$f":"#REF!+#REF!+#REF!+#REF!+#REF!+#REF!+#REF!+#REF!+#REF!+#REF!+#REF!+#REF!+#REF!+#REF!+#REF!+#REF!+#REF!+#REF!+#REF!+#REF!+#REF!+#REF!+#REF!+#REF!+#REF!+#REF!+#REF!+#REF!+#REF!+#REF!+#REF!+#REF!+#REF!","v":{"$error":"#REF!"}},{"$f":"'9_Per Pupil Summary'!H18","v":5476.9220907671961},{"$f":"#REF!+#REF!+#REF!+#REF!+#REF!+#REF!+#REF!+#REF!+#REF!+#REF!+#REF!+#REF!+#REF!+#REF!+#REF!+#REF!+#REF!+#REF!+#REF!+#REF!+#REF!+#REF!+#REF!+#REF!+#REF!+#REF!+#REF!+#REF!+#REF!+#REF!+#REF!+#REF!+#REF!","v":{"$error":"#REF!"}},{"$f":"#REF!+#REF!+#REF!+#REF!+#REF!+#REF!+#REF!+#REF!+#REF!+#REF!+#REF!+#REF!+#REF!+#REF!+#REF!+#REF!+#REF!+#REF!+#REF!+#REF!+#REF!+#REF!+#REF!+#REF!+#REF!+#REF!+#REF!+#REF!+#REF!+#REF!+#REF!+#REF!+#REF!","v":{"$error":"#REF!"}},{"$f":"'9_Per Pupil Summary'!I18","v":697.19749073801358},{"$f":"#REF!+#REF!+#REF!+#REF!+#REF!+#REF!+#REF!+#REF!+#REF!+#REF!+#REF!+#REF!+#REF!+#REF!+#REF!+#REF!+#REF!+#REF!+#REF!+#REF!+#REF!+#REF!+#REF!+#REF!+#REF!+#REF!+#REF!+#REF!+#REF!+#REF!+#REF!+#REF!+#REF!","v":{"$error":"#REF!"}},{"$f":"#REF!+#REF!+#REF!+#REF!+#REF!+#REF!+#REF!+#REF!+#REF!+#REF!+#REF!+#REF!+#REF!+#REF!+#REF!+#REF!+#REF!+#REF!+#REF!+#REF!+#REF!+#REF!+#REF!+#REF!+#REF!+#REF!+#REF!+#REF!+#REF!+#REF!+#REF!+#REF!+#REF!","v":{"$error":"#REF!"}},{"$f":"'9_Per Pupil Summary'!J18","v":190.14477020127646},{"$f":"#REF!+#REF!+#REF!+#REF!+#REF!+#REF!+#REF!+#REF!+#REF!+#REF!+#REF!+#REF!+#REF!+#REF!+#REF!+#REF!+#REF!+#REF!+#REF!+#REF!+#REF!+#REF!+#REF!+#REF!+#REF!+#REF!+#REF!+#REF!+#REF!+#REF!+#REF!+#REF!+#REF!","v":{"$error":"#REF!"}},{"$f":"#REF!+#REF!+#REF!+#REF!+#REF!+#REF!+#REF!+#REF!+#REF!+#REF!+#REF!+#REF!+#REF!+#REF!+#REF!+#REF!+#REF!+#REF!+#REF!+#REF!+#REF!+#REF!+#REF!+#REF!+#REF!+#REF!+#REF!+#REF!+#REF!+#REF!+#REF!+#REF!+#REF!","v":{"$error":"#REF!"}},{"$f":"'9_Per Pupil Summary'!K18","v":4753.619255031912},{"$f":"#REF!+#REF!+#REF!+#REF!+#REF!+#REF!+#REF!+#REF!+#REF!+#REF!+#REF!+#REF!+#REF!+#REF!+#REF!+#REF!+#REF!+#REF!+#REF!+#REF!+#REF!+#REF!+#REF!+#REF!+#REF!+#REF!+#REF!+#REF!+#REF!+#REF!+#REF!+#REF!+#REF!","v":{"$error":"#REF!"}},{"$f":"#REF!+#REF!+#REF!+#REF!+#REF!+#REF!+#REF!+#REF!+#REF!+#REF!+#REF!+#REF!+#REF!+#REF!+#REF!+#REF!+#REF!+#REF!+#REF!+#REF!+#REF!+#REF!+#REF!+#REF!+#REF!+#REF!+#REF!+#REF!+#REF!+#REF!+#REF!+#REF!+#REF!","v":{"$error":"#REF!"}},{"$f":"'9_Per Pupil Summary'!L18","v":1901.4477020127645},{"$f":"#REF!+#REF!+#REF!+#REF!+#REF!+#REF!+#REF!+#REF!+#REF!+#REF!+#REF!+#REF!+#REF!+#REF!+#REF!+#REF!+#REF!+#REF!+#REF!+#REF!+#REF!+#REF!+#REF!+#REF!+#REF!+#REF!+#REF!+#REF!+#REF!+#REF!+#REF!+#REF!+#REF!","v":{"$error":"#REF!"}},{"$f":"#REF!+#REF!+#REF!+#REF!+#REF!+#REF!+#REF!+#REF!+#REF!+#REF!+#REF!+#REF!+#REF!+#REF!+#REF!+#REF!+#REF!+#REF!+#REF!+#REF!+#REF!+#REF!+#REF!+#REF!+#REF!+#REF!+#REF!+#REF!+#REF!+#REF!+#REF!+#REF!+#REF!","v":{"$error":"#REF!"}},{"$f":"#REF!+#REF!","v":{"$error":"#REF!"}},{"$f":"#REF!+#REF!+#REF!+#REF!+#REF!+#REF!+#REF!+#REF!+#REF!+#REF!+#REF!+#REF!+#REF!+#REF!+#REF!+#REF!+#REF!+#REF!+#REF!+#REF!+#REF!+#REF!+#REF!+#REF!+#REF!+#REF!+#REF!+#REF!+#REF!+#REF!+#REF!+#REF!+#REF!","v":{"$error":"#REF!"}},{"$f":"#REF!+#REF!+#REF!+#REF!+#REF!+#REF!+#REF!+#REF!+#REF!+#REF!+#REF!+#REF!+#REF!+#REF!+#REF!+#REF!+#REF!+#REF!+#REF!+#REF!+#REF!+#REF!+#REF!+#REF!+#REF!+#REF!+#REF!+#REF!+#REF!+#REF!+#REF!+#REF!+#REF!","v":{"$error":"#REF!"}},{"$f":"#REF!+#REF!+#REF!+#REF!+#REF!+#REF!+#REF!+#REF!+#REF!+#REF!+#REF!+#REF!+#REF!+#REF!+#REF!+#REF!+#REF!+#REF!+#REF!+#REF!+#REF!+#REF!+#REF!+#REF!+#REF!+#REF!+#REF!+#REF!+#REF!+#REF!+#REF!+#REF!+#REF!","v":{"$error":"#REF!"}},{"$f":"#REF!+#REF!+#REF!+#REF!+#REF!+#REF!+#REF!+#REF!+#REF!+#REF!+#REF!+#REF!+#REF!+#REF!+#REF!+#REF!+#REF!+#REF!+#REF!+#REF!+#REF!+#REF!+#REF!+#REF!+#REF!+#REF!+#REF!+#REF!+#REF!+#REF!+#REF!+#REF!+#REF!","v":{"$error":"#REF!"}},{"$f":"#REF!+#REF!+#REF!+#REF!+#REF!+#REF!+#REF!+#REF!+#REF!+#REF!+#REF!+#REF!+#REF!+#REF!+#REF!+#REF!+#REF!+#REF!+#REF!+#REF!+#REF!+#REF!+#REF!+#REF!+#REF!+#REF!+#REF!+#REF!+#REF!+#REF!+#REF!+#REF!+#REF!","v":{"$error":"#REF!"}},{"$f":"#REF!+#REF!+#REF!+#REF!+#REF!+#REF!+#REF!+#REF!+#REF!+#REF!+#REF!+#REF!+#REF!+#REF!+#REF!+#REF!+#REF!+#REF!+#REF!+#REF!+#REF!+#REF!+#REF!+#REF!+#REF!+#REF!+#REF!+#REF!+#REF!+#REF!+#REF!+#REF!+#REF!","v":{"$error":"#REF!"}},{"$f":"#REF!+#REF!+#REF!+#REF!+#REF!+#REF!+#REF!+#REF!+#REF!+#REF!+#REF!+#REF!+#REF!+#REF!+#REF!+#REF!+#REF!+#REF!+#REF!+#REF!+#REF!+#REF!+#REF!+#REF!+#REF!+#REF!+#REF!+#REF!+#REF!+#REF!+#REF!+#REF!+#REF!","v":{"$error":"#REF!"}},{"$f":"#REF!+#REF!+#REF!+#REF!+#REF!+#REF!+#REF!+#REF!+#REF!+#REF!+#REF!+#REF!+#REF!+#REF!+#REF!+#REF!+#REF!+#REF!+#REF!+#REF!+#REF!+#REF!+#REF!+#REF!+#REF!+#REF!+#REF!+#REF!+#REF!+#REF!+#REF!+#REF!+#REF!","v":{"$error":"#REF!"}},{"$f":"#REF!+#REF!+#REF!+#REF!+#REF!+#REF!+#REF!+#REF!+#REF!+#REF!+#REF!+#REF!+#REF!+#REF!+#REF!+#REF!+#REF!+#REF!+#REF!+#REF!+#REF!+#REF!+#REF!+#REF!+#REF!+#REF!+#REF!+#REF!+#REF!+#REF!+#REF!+#REF!+#REF!","v":{"$error":"#REF!"}},{"$f":"#REF!+#REF!+#REF!+#REF!+#REF!+#REF!+#REF!+#REF!+#REF!+#REF!+#REF!+#REF!+#REF!+#REF!+#REF!+#REF!+#REF!+#REF!+#REF!+#REF!+#REF!+#REF!+#REF!+#REF!+#REF!+#REF!+#REF!+#REF!+#REF!+#REF!+#REF!+#REF!+#REF!","v":{"$error":"#REF!"}},{"$f":"#REF!+#REF!+#REF!+#REF!+#REF!+#REF!+#REF!+#REF!+#REF!+#REF!+#REF!+#REF!+#REF!+#REF!+#REF!+#REF!+#REF!+#REF!+#REF!+#REF!+#REF!+#REF!+#REF!+#REF!+#REF!+#REF!+#REF!+#REF!+#REF!+#REF!+#REF!+#REF!+#REF!","v":{"$error":"#REF!"}},{"$f":"#REF!+#REF!+#REF!+#REF!+#REF!+#REF!+#REF!+#REF!+#REF!+#REF!+#REF!+#REF!+#REF!+#REF!+#REF!+#REF!+#REF!+#REF!+#REF!+#REF!+#REF!+#REF!+#REF!+#REF!+#REF!+#REF!+#REF!+#REF!+#REF!+#REF!+#REF!+#REF!+#REF!","v":{"$error":"#REF!"}},{"$f":"'9_Per Pupil Summary'!N18","v":3874},{"$f":"#REF!+#REF!+#REF!+#REF!+#REF!+#REF!+#REF!+#REF!+#REF!+#REF!+#REF!+#REF!+#REF!+#REF!+#REF!+#REF!+#REF!+#REF!+#REF!+#REF!+#REF!+#REF!+#REF!+#REF!+#REF!+#REF!+#REF!+#REF!+#REF!+#REF!+#REF!+#REF!+#REF!","v":{"$error":"#REF!"}},{"$f":"#REF!+#REF!+#REF!+#REF!+#REF!+#REF!+#REF!+#REF!+#REF!+#REF!+#REF!+#REF!+#REF!+#REF!+#REF!+#REF!+#REF!+#REF!+#REF!+#REF!+#REF!+#REF!+#REF!+#REF!+#REF!+#REF!+#REF!+#REF!+#REF!+#REF!+#REF!+#REF!+#REF!","v":{"$error":"#REF!"}},{"$f":"#REF!+#REF!+#REF!+#REF!+#REF!+#REF!+#REF!+#REF!+#REF!+#REF!+#REF!+#REF!+#REF!+#REF!+#REF!+#REF!+#REF!+#REF!+#REF!+#REF!+#REF!+#REF!+#REF!+#REF!+#REF!+#REF!+#REF!+#REF!+#REF!+#REF!+#REF!+#REF!+#REF!","v":{"$error":"#REF!"}},{"$f":"#REF!+#REF!+#REF!+#REF!+#REF!+#REF!+#REF!+#REF!+#REF!+#REF!+#REF!+#REF!+#REF!+#REF!+#REF!+#REF!+#REF!+#REF!+#REF!+#REF!+#REF!+#REF!+#REF!+#REF!+#REF!+#REF!+#REF!+#REF!+#REF!+#REF!+#REF!+#REF!+#REF!","v":{"$error":"#REF!"}},{"$f":"#REF!+#REF!+#REF!+#REF!+#REF!+#REF!+#REF!+#REF!+#REF!+#REF!+#REF!+#REF!+#REF!+#REF!+#REF!+#REF!+#REF!+#REF!+#REF!+#REF!+#REF!+#REF!+#REF!+#REF!+#REF!+#REF!+#REF!+#REF!+#REF!+#REF!+#REF!+#REF!+#REF!","v":{"$error":"#REF!"}},{"$f":"#REF!+#REF!+#REF!+#REF!+#REF!+#REF!+#REF!+#REF!+#REF!+#REF!+#REF!+#REF!+#REF!+#REF!+#REF!+#REF!+#REF!+#REF!+#REF!+#REF!+#REF!+#REF!+#REF!+#REF!+#REF!+#REF!+#REF!+#REF!+#REF!+#REF!+#REF!+#REF!+#REF!","v":{"$error":"#REF!"}},{"$f":"#REF!+#REF!+#REF!+#REF!+#REF!+#REF!+#REF!+#REF!+#REF!+#REF!+#REF!+#REF!+#REF!+#REF!+#REF!+#REF!+#REF!+#REF!+#REF!+#REF!+#REF!+#REF!+#REF!+#REF!+#REF!+#REF!+#REF!+#REF!+#REF!+#REF!+#REF!+#REF!+#REF!","v":{"$error":"#REF!"}},{"$f":"#REF!+#REF!+#REF!+#REF!+#REF!+#REF!+#REF!+#REF!+#REF!+#REF!+#REF!+#REF!+#REF!+#REF!+#REF!+#REF!+#REF!+#REF!+#REF!+#REF!+#REF!+#REF!+#REF!+#REF!+#REF!+#REF!+#REF!+#REF!+#REF!+#REF!+#REF!+#REF!+#REF!","v":{"$error":"#REF!"}},{"$f":"#REF!+#REF!+#REF!+#REF!+#REF!+#REF!+#REF!+#REF!+#REF!+#REF!+#REF!+#REF!+#REF!+#REF!+#REF!+#REF!+#REF!+#REF!+#REF!+#REF!+#REF!+#REF!+#REF!+#REF!+#REF!+#REF!+#REF!+#REF!+#REF!+#REF!+#REF!+#REF!+#REF!","v":{"$error":"#REF!"}},{"$f":"#REF!+#REF!+#REF!+#REF!+#REF!+#REF!+#REF!+#REF!+#REF!+#REF!+#REF!+#REF!+#REF!+#REF!+#REF!+#REF!+#REF!+#REF!+#REF!+#REF!+#REF!+#REF!+#REF!+#REF!+#REF!+#REF!+#REF!+#REF!+#REF!+#REF!+#REF!+#REF!+#REF!","v":{"$error":"#REF!"}},{"$f":"#REF!+#REF!+#REF!+#REF!+#REF!+#REF!+#REF!+#REF!+#REF!+#REF!+#REF!+#REF!+#REF!+#REF!+#REF!+#REF!+#REF!+#REF!+#REF!+#REF!+#REF!+#REF!+#REF!+#REF!+#REF!+#REF!+#REF!+#REF!+#REF!+#REF!+#REF!+#REF!+#REF!","v":{"$error":"#REF!"}},{"$f":"#REF!+#REF!+#REF!+#REF!+#REF!+#REF!+#REF!+#REF!+#REF!+#REF!+#REF!+#REF!+#REF!+#REF!+#REF!+#REF!+#REF!+#REF!+#REF!+#REF!+#REF!+#REF!+#REF!+#REF!+#REF!+#REF!+#REF!+#REF!+#REF!+#REF!+#REF!+#REF!+#REF!","v":{"$error":"#REF!"}},{"$f":"#REF!+#REF!+#REF!+#REF!+#REF!+#REF!+#REF!+#REF!+#REF!+#REF!+#REF!+#REF!+#REF!+#REF!+#REF!+#REF!+#REF!+#REF!+#REF!+#REF!+#REF!+#REF!+#REF!+#REF!+#REF!+#REF!+#REF!+#REF!+#REF!+#REF!+#REF!+#REF!+#REF!","v":{"$error":"#REF!"}},{"$f":"#REF!+#REF!+#REF!+#REF!+#REF!+#REF!+#REF!+#REF!+#REF!+#REF!+#REF!+#REF!+#REF!+#REF!+#REF!+#REF!+#REF!+#REF!+#REF!+#REF!+#REF!+#REF!+#REF!+#REF!+#REF!+#REF!+#REF!+#REF!+#REF!+#REF!+#REF!+#REF!+#REF!","v":{"$error":"#REF!"}},{"$error":"#REF!"},{"$error":"#REF!"},{"$f":"#REF!+#REF!+#REF!+#REF!+#REF!+#REF!+#REF!+#REF!+#REF!+#REF!+#REF!+#REF!+#REF!+#REF!+#REF!+#REF!+#REF!+#REF!+#REF!+#REF!+#REF!+#REF!+#REF!+#REF!+#REF!+#REF!+#REF!+#REF!+#REF!+#REF!+#REF!+#REF!+#REF!","v":{"$error":"#REF!"}},null,{"$error":"#REF!"}]
[14,"Claiborne",{"$f":"#REF!+#REF!+#REF!+#REF!+#REF!+#REF!+#REF!+#REF!+#REF!+#REF!+#REF!+#REF!+#REF!+#REF!+#REF!+#REF!+#REF!+#REF!+#REF!+#REF!+#REF!+#REF!+#REF!+#REF!+#REF!+#REF!+#REF!+#REF!+#REF!+#REF!+#REF!+#REF!+#REF!","v":{"$error":"#REF!"}},{"$f":"'9_Per Pupil Summary'!H19","v":5605.8818385111827},{"$f":"#REF!+#REF!+#REF!+#REF!+#REF!+#REF!+#REF!+#REF!+#REF!+#REF!+#REF!+#REF!+#REF!+#REF!+#REF!+#REF!+#REF!+#REF!+#REF!+#REF!+#REF!+#REF!+#REF!+#REF!+#REF!+#REF!+#REF!+#REF!+#REF!+#REF!+#REF!+#REF!+#REF!","v":{"$error":"#REF!"}},{"$f":"#REF!+#REF!+#REF!+#REF!+#REF!+#REF!+#REF!+#REF!+#REF!+#REF!+#REF!+#REF!+#REF!+#REF!+#REF!+#REF!+#REF!+#REF!+#REF!+#REF!+#REF!+#REF!+#REF!+#REF!+#REF!+#REF!+#REF!+#REF!+#REF!+#REF!+#REF!+#REF!+#REF!","v":{"$error":"#REF!"}},{"$f":"'9_Per Pupil Summary'!I19","v":690.68763239092846},{"$f":"#REF!+#REF!+#REF!+#REF!+#REF!+#REF!+#REF!+#REF!+#REF!+#REF!+#REF!+#REF!+#REF!+#REF!+#REF!+#REF!+#REF!+#REF!+#REF!+#REF!+#REF!+#REF!+#REF!+#REF!+#REF!+#REF!+#REF!+#REF!+#REF!+#REF!+#REF!+#REF!+#REF!","v":{"$error":"#REF!"}},{"$f":"#REF!+#REF!+#REF!+#REF!+#REF!+#REF!+#REF!+#REF!+#REF!+#REF!+#REF!+#REF!+#REF!+#REF!+#REF!+#REF!+#REF!+#REF!+#REF!+#REF!+#REF!+#REF!+#REF!+#REF!+#REF!+#REF!+#REF!+#REF!+#REF!+#REF!+#REF!+#REF!+#REF!","v":{"$error":"#REF!"}},{"$f":"'9_Per Pupil Summary'!J19","v":188.36935428843506},{"$f":"#REF!+#REF!+#REF!+#REF!+#REF!+#REF!+#REF!+#REF!+#REF!+#REF!+#REF!+#REF!+#REF!+#REF!+#REF!+#REF!+#REF!+#REF!+#REF!+#REF!+#REF!+#REF!+#REF!+#REF!+#REF!+#REF!+#REF!+#REF!+#REF!+#REF!+#REF!+#REF!+#REF!","v":{"$error":"#REF!"}},{"$f":"#REF!+#REF!+#REF!+#REF!+#REF!+#REF!+#REF!+#REF!+#REF!+#REF!+#REF!+#REF!+#REF!+#REF!+#REF!+#REF!+#REF!+#REF!+#REF!+#REF!+#REF!+#REF!+#REF!+#REF!+#REF!+#REF!+#REF!+#REF!+#REF!+#REF!+#REF!+#REF!+#REF!","v":{"$error":"#REF!"}},{"$f":"'9_Per Pupil Summary'!K19","v":4709.2338572108756},{"$f":"#REF!+#REF!+#REF!+#REF!+#REF!+#REF!+#REF!+#REF!+#REF!+#REF!+#REF!+#REF!+#REF!+#REF!+#REF!+#REF!+#REF!+#REF!+#REF!+#REF!+#REF!+#REF!+#REF!+#REF!+#REF!+#REF!+#REF!+#REF!+#REF!+#REF!+#REF!+#REF!+#REF!","v":{"$error":"#REF!"}},{"$f":"#REF!+#REF!+#REF!+#REF!+#REF!+#REF!+#REF!+#REF!+#REF!+#REF!+#REF!+#REF!+#REF!+#REF!+#REF!+#REF!+#REF!+#REF!+#REF!+#REF!+#REF!+#REF!+#REF!+#REF!+#REF!+#REF!+#REF!+#REF!+#REF!+#REF!+#REF!+#REF!+#REF!","v":{"$error":"#REF!"}},{"$f":"'9_Per Pupil Summary'!L19","v":1883.6935428843508},{"$f":"#REF!+#REF!+#REF!+#REF!+#REF!+#REF!+#REF!+#REF!+#REF!+#REF!+#REF!+#REF!+#REF!+#REF!+#REF!+#REF!+#REF!+#REF!+#REF!+#REF!+#REF!+#REF!+#REF!+#REF!+#REF!+#REF!+#REF!+#REF!+#REF!+#REF!+#REF!+#REF!+#REF!","v":{"$error":"#REF!"}},{"$f":"#REF!+#REF!+#REF!+#REF!+#REF!+#REF!+#REF!+#REF!+#REF!+#REF!+#REF!+#REF!+#REF!+#REF!+#REF!+#REF!+#REF!+#REF!+#REF!+#REF!+#REF!+#REF!+#REF!+#REF!+#REF!+#REF!+#REF!+#REF!+#REF!+#REF!+#REF!+#REF!+#REF!","v":{"$error":"#REF!"}},{"$f":"#REF!+#REF!","v":{"$error":"#REF!"}},{"$f":"#REF!+#REF!+#REF!+#REF!+#REF!+#REF!+#REF!+#REF!+#REF!+#REF!+#REF!+#REF!+#REF!+#REF!+#REF!+#REF!+#REF!+#REF!+#REF!+#REF!+#REF!+#REF!+#REF!+#REF!+#REF!+#REF!+#REF!+#REF!+#REF!+#REF!+#REF!+#REF!+#REF!","v":{"$error":"#REF!"}},{"$f":"#REF!+#REF!+#REF!+#REF!+#REF!+#REF!+#REF!+#REF!+#REF!+#REF!+#REF!+#REF!+#REF!+#REF!+#REF!+#REF!+#REF!+#REF!+#REF!+#REF!+#REF!+#REF!+#REF!+#REF!+#REF!+#REF!+#REF!+#REF!+#REF!+#REF!+#REF!+#REF!+#REF!","v":{"$error":"#REF!"}},{"$f":"#REF!+#REF!+#REF!+#REF!+#REF!+#REF!+#REF!+#REF!+#REF!+#REF!+#REF!+#REF!+#REF!+#REF!+#REF!+#REF!+#REF!+#REF!+#REF!+#REF!+#REF!+#REF!+#REF!+#REF!+#REF!+#REF!+#REF!+#REF!+#REF!+#REF!+#REF!+#REF!+#REF!","v":{"$error":"#REF!"}},{"$f":"#REF!+#REF!+#REF!+#REF!+#REF!+#REF!+#REF!+#REF!+#REF!+#REF!+#REF!+#REF!+#REF!+#REF!+#REF!+#REF!+#REF!+#REF!+#REF!+#REF!+#REF!+#REF!+#REF!+#REF!+#REF!+#REF!+#REF!+#REF!+#REF!+#REF!+#REF!+#REF!+#REF!","v":{"$error":"#REF!"}},{"$f":"#REF!+#REF!+#REF!+#REF!+#REF!+#REF!+#REF!+#REF!+#REF!+#REF!+#REF!+#REF!+#REF!+#REF!+#REF!+#REF!+#REF!+#REF!+#REF!+#REF!+#REF!+#REF!+#REF!+#REF!+#REF!+#REF!+#REF!+#REF!+#REF!+#REF!+#REF!+#REF!+#REF!","v":{"$error":"#REF!"}},{"$f":"#REF!+#REF!+#REF!+#REF!+#REF!+#REF!+#REF!+#REF!+#REF!+#REF!+#REF!+#REF!+#REF!+#REF!+#REF!+#REF!+#REF!+#REF!+#REF!+#REF!+#REF!+#REF!+#REF!+#REF!+#REF!+#REF!+#REF!+#REF!+#REF!+#REF!+#REF!+#REF!+#REF!","v":{"$error":"#REF!"}},{"$f":"#REF!+#REF!+#REF!+#REF!+#REF!+#REF!+#REF!+#REF!+#REF!+#REF!+#REF!+#REF!+#REF!+#REF!+#REF!+#REF!+#REF!+#REF!+#REF!+#REF!+#REF!+#REF!+#REF!+#REF!+#REF!+#REF!+#REF!+#REF!+#REF!+#REF!+#REF!+#REF!+#REF!","v":{"$error":"#REF!"}},{"$f":"#REF!+#REF!+#REF!+#REF!+#REF!+#REF!+#REF!+#REF!+#REF!+#REF!+#REF!+#REF!+#REF!+#REF!+#REF!+#REF!+#REF!+#REF!+#REF!+#REF!+#REF!+#REF!+#REF!+#REF!+#REF!+#REF!+#REF!+#REF!+#REF!+#REF!+#REF!+#REF!+#REF!","v":{"$error":"#REF!"}},{"$f":"#REF!+#REF!+#REF!+#REF!+#REF!+#REF!+#REF!+#REF!+#REF!+#REF!+#REF!+#REF!+#REF!+#REF!+#REF!+#REF!+#REF!+#REF!+#REF!+#REF!+#REF!+#REF!+#REF!+#REF!+#REF!+#REF!+#REF!+#REF!+#REF!+#REF!+#REF!+#REF!+#REF!","v":{"$error":"#REF!"}},{"$f":"#REF!+#REF!+#REF!+#REF!+#REF!+#REF!+#REF!+#REF!+#REF!+#REF!+#REF!+#REF!+#REF!+#REF!+#REF!+#REF!+#REF!+#REF!+#REF!+#REF!+#REF!+#REF!+#REF!+#REF!+#REF!+#REF!+#REF!+#REF!+#REF!+#REF!+#REF!+#REF!+#REF!","v":{"$error":"#REF!"}},{"$f":"#REF!+#REF!+#REF!+#REF!+#REF!+#REF!+#REF!+#REF!+#REF!+#REF!+#REF!+#REF!+#REF!+#REF!+#REF!+#REF!+#REF!+#REF!+#REF!+#REF!+#REF!+#REF!+#REF!+#REF!+#REF!+#REF!+#REF!+#REF!+#REF!+#REF!+#REF!+#REF!+#REF!","v":{"$error":"#REF!"}},{"$f":"#REF!+#REF!+#REF!+#REF!+#REF!+#REF!+#REF!+#REF!+#REF!+#REF!+#REF!+#REF!+#REF!+#REF!+#REF!+#REF!+#REF!+#REF!+#REF!+#REF!+#REF!+#REF!+#REF!+#REF!+#REF!+#REF!+#REF!+#REF!+#REF!+#REF!+#REF!+#REF!+#REF!","v":{"$error":"#REF!"}},{"$f":"'9_Per Pupil Summary'!N19","v":4413},{"$f":"#REF!+#REF!+#REF!+#REF!+#REF!+#REF!+#REF!+#REF!+#REF!+#REF!+#REF!+#REF!+#REF!+#REF!+#REF!+#REF!+#REF!+#REF!+#REF!+#REF!+#REF!+#REF!+#REF!+#REF!+#REF!+#REF!+#REF!+#REF!+#REF!+#REF!+#REF!+#REF!+#REF!","v":{"$error":"#REF!"}},{"$f":"#REF!+#REF!+#REF!+#REF!+#REF!+#REF!+#REF!+#REF!+#REF!+#REF!+#REF!+#REF!+#REF!+#REF!+#REF!+#REF!+#REF!+#REF!+#REF!+#REF!+#REF!+#REF!+#REF!+#REF!+#REF!+#REF!+#REF!+#REF!+#REF!+#REF!+#REF!+#REF!+#REF!","v":{"$error":"#REF!"}},{"$f":"#REF!+#REF!+#REF!+#REF!+#REF!+#REF!+#REF!+#REF!+#REF!+#REF!+#REF!+#REF!+#REF!+#REF!+#REF!+#REF!+#REF!+#REF!+#REF!+#REF!+#REF!+#REF!+#REF!+#REF!+#REF!+#REF!+#REF!+#REF!+#REF!+#REF!+#REF!+#REF!+#REF!","v":{"$error":"#REF!"}},{"$f":"#REF!+#REF!+#REF!+#REF!+#REF!+#REF!+#REF!+#REF!+#REF!+#REF!+#REF!+#REF!+#REF!+#REF!+#REF!+#REF!+#REF!+#REF!+#REF!+#REF!+#REF!+#REF!+#REF!+#REF!+#REF!+#REF!+#REF!+#REF!+#REF!+#REF!+#REF!+#REF!+#REF!","v":{"$error":"#REF!"}},{"$f":"#REF!+#REF!+#REF!+#REF!+#REF!+#REF!+#REF!+#REF!+#REF!+#REF!+#REF!+#REF!+#REF!+#REF!+#REF!+#REF!+#REF!+#REF!+#REF!+#REF!+#REF!+#REF!+#REF!+#REF!+#REF!+#REF!+#REF!+#REF!+#REF!+#REF!+#REF!+#REF!+#REF!","v":{"$error":"#REF!"}},{"$f":"#REF!+#REF!+#REF!+#REF!+#REF!+#REF!+#REF!+#REF!+#REF!+#REF!+#REF!+#REF!+#REF!+#REF!+#REF!+#REF!+#REF!+#REF!+#REF!+#REF!+#REF!+#REF!+#REF!+#REF!+#REF!+#REF!+#REF!+#REF!+#REF!+#REF!+#REF!+#REF!+#REF!","v":{"$error":"#REF!"}},{"$f":"#REF!+#REF!+#REF!+#REF!+#REF!+#REF!+#REF!+#REF!+#REF!+#REF!+#REF!+#REF!+#REF!+#REF!+#REF!+#REF!+#REF!+#REF!+#REF!+#REF!+#REF!+#REF!+#REF!+#REF!+#REF!+#REF!+#REF!+#REF!+#REF!+#REF!+#REF!+#REF!+#REF!","v":{"$error":"#REF!"}},{"$f":"#REF!+#REF!+#REF!+#REF!+#REF!+#REF!+#REF!+#REF!+#REF!+#REF!+#REF!+#REF!+#REF!+#REF!+#REF!+#REF!+#REF!+#REF!+#REF!+#REF!+#REF!+#REF!+#REF!+#REF!+#REF!+#REF!+#REF!+#REF!+#REF!+#REF!+#REF!+#REF!+#REF!","v":{"$error":"#REF!"}},{"$f":"#REF!+#REF!+#REF!+#REF!+#REF!+#REF!+#REF!+#REF!+#REF!+#REF!+#REF!+#REF!+#REF!+#REF!+#REF!+#REF!+#REF!+#REF!+#REF!+#REF!+#REF!+#REF!+#REF!+#REF!+#REF!+#REF!+#REF!+#REF!+#REF!+#REF!+#REF!+#REF!+#REF!","v":{"$error":"#REF!"}},{"$f":"#REF!+#REF!+#REF!+#REF!+#REF!+#REF!+#REF!+#REF!+#REF!+#REF!+#REF!+#REF!+#REF!+#REF!+#REF!+#REF!+#REF!+#REF!+#REF!+#REF!+#REF!+#REF!+#REF!+#REF!+#REF!+#REF!+#REF!+#REF!+#REF!+#REF!+#REF!+#REF!+#REF!","v":{"$error":"#REF!"}},{"$f":"#REF!+#REF!+#REF!+#REF!+#REF!+#REF!+#REF!+#REF!+#REF!+#REF!+#REF!+#REF!+#REF!+#REF!+#REF!+#REF!+#REF!+#REF!+#REF!+#REF!+#REF!+#REF!+#REF!+#REF!+#REF!+#REF!+#REF!+#REF!+#REF!+#REF!+#REF!+#REF!+#REF!","v":{"$error":"#REF!"}},{"$f":"#REF!+#REF!+#REF!+#REF!+#REF!+#REF!+#REF!+#REF!+#REF!+#REF!+#REF!+#REF!+#REF!+#REF!+#REF!+#REF!+#REF!+#REF!+#REF!+#REF!+#REF!+#REF!+#REF!+#REF!+#REF!+#REF!+#REF!+#REF!+#REF!+#REF!+#REF!+#REF!+#REF!","v":{"$error":"#REF!"}},{"$f":"#REF!+#REF!+#REF!+#REF!+#REF!+#REF!+#REF!+#REF!+#REF!+#REF!+#REF!+#REF!+#REF!+#REF!+#REF!+#REF!+#REF!+#REF!+#REF!+#REF!+#REF!+#REF!+#REF!+#REF!+#REF!+#REF!+#REF!+#REF!+#REF!+#REF!+#REF!+#REF!+#REF!","v":{"$error":"#REF!"}},{"$f":"#REF!+#REF!+#REF!+#REF!+#REF!+#REF!+#REF!+#REF!+#REF!+#REF!+#REF!+#REF!+#REF!+#REF!+#REF!+#REF!+#REF!+#REF!+#REF!+#REF!+#REF!+#REF!+#REF!+#REF!+#REF!+#REF!+#REF!+#REF!+#REF!+#REF!+#REF!+#REF!+#REF!","v":{"$error":"#REF!"}},{"$error":"#REF!"},{"$error":"#REF!"},{"$f":"#REF!+#REF!+#REF!+#REF!+#REF!+#REF!+#REF!+#REF!+#REF!+#REF!+#REF!+#REF!+#REF!+#REF!+#REF!+#REF!+#REF!+#REF!+#REF!+#REF!+#REF!+#REF!+#REF!+#REF!+#REF!+#REF!+#REF!+#REF!+#REF!+#REF!+#REF!+#REF!+#REF!","v":{"$error":"#REF!"}},null,{"$error":"#REF!"}]
[15,"Concordia",{"$f":"#REF!+#REF!+#REF!+#REF!+#REF!+#REF!+#REF!+#REF!+#REF!+#REF!+#REF!+#REF!+#REF!+#REF!+#REF!+#REF!+#REF!+#REF!+#REF!+#REF!+#REF!+#REF!+#REF!+#REF!+#REF!+#REF!+#REF!+#REF!+#REF!+#REF!+#REF!+#REF!+#REF!","v":{"$error":"#REF!"}},{"$f":"'9_Per Pupil Summary'!H20","v":5404.5599770167673},{"$f":"#REF!+#REF!+#REF!+#REF!+#REF!+#REF!+#REF!+#REF!+#REF!+#REF!+#REF!+#REF!+#REF!+#REF!+#REF!+#REF!+#REF!+#REF!+#REF!+#REF!+#REF!+#REF!+#REF!+#REF!+#REF!+#REF!+#REF!+#REF!+#REF!+#REF!+#REF!+#REF!+#REF!","v":{"$error":"#REF!"}},{"$f":"#REF!+#REF!+#REF!+#REF!+#REF!+#REF!+#REF!+#REF!+#REF!+#REF!+#REF!+#REF!+#REF!+#REF!+#REF!+#REF!+#REF!+#REF!+#REF!+#REF!+#REF!+#REF!+#REF!+#REF!+#REF!+#REF!+#REF!+#REF!+#REF!+#REF!+#REF!+#REF!+#REF!","v":{"$error":"#REF!"}},{"$f":"'9_Per Pupil Summary'!I20","v":723.08719494368893},{"$f":"#REF!+#REF!+#REF!+#REF!+#REF!+#REF!+#REF!+#REF!+#REF!+#REF!+#REF!+#REF!+#REF!+#REF!+#REF!+#REF!+#REF!+#REF!+#REF!+#REF!+#REF!+#REF!+#REF!+#REF!+#REF!+#REF!+#REF!+#REF!+#REF!+#REF!+#REF!+#REF!+#REF!","v":{"$error":"#REF!"}},{"$f":"#REF!+#REF!+#REF!+#REF!+#REF!+#REF!+#REF!+#REF!+#REF!+#REF!+#REF!+#REF!+#REF!+#REF!+#REF!+#REF!+#REF!+#REF!+#REF!+#REF!+#REF!+#REF!+#REF!+#REF!+#REF!+#REF!+#REF!+#REF!+#REF!+#REF!+#REF!+#REF!+#REF!","v":{"$error":"#REF!"}},{"$f":"'9_Per Pupil Summary'!J20","v":197.20559862100606},{"$f":"#REF!+#REF!+#REF!+#REF!+#REF!+#REF!+#REF!+#REF!+#REF!+#REF!+#REF!+#REF!+#REF!+#REF!+#REF!+#REF!+#REF!+#REF!+#REF!+#REF!+#REF!+#REF!+#REF!+#REF!+#REF!+#REF!+#REF!+#REF!+#REF!+#REF!+#REF!+#REF!+#REF!","v":{"$error":"#REF!"}},{"$f":"#REF!+#REF!+#REF!+#REF!+#REF!+#REF!+#REF!+#REF!+#REF!+#REF!+#REF!+#REF!+#REF!+#REF!+#REF!+#REF!+#REF!+#REF!+#REF!+#REF!+#REF!+#REF!+#REF!+#REF!+#REF!+#REF!+#REF!+#REF!+#REF!+#REF!+#REF!+#REF!+#REF!","v":{"$error":"#REF!"}},{"$f":"'9_Per Pupil Summary'!K20","v":4930.1399655251516},{"$f":"#REF!+#REF!+#REF!+#REF!+#REF!+#REF!+#REF!+#REF!+#REF!+#REF!+#REF!+#REF!+#REF!+#REF!+#REF!+#REF!+#REF!+#REF!+#REF!+#REF!+#REF!+#REF!+#REF!+#REF!+#REF!+#REF!+#REF!+#REF!+#REF!+#REF!+#REF!+#REF!+#REF!","v":{"$error":"#REF!"}},{"$f":"#REF!+#REF!+#REF!+#REF!+#REF!+#REF!+#REF!+#REF!+#REF!+#REF!+#REF!+#REF!+#REF!+#REF!+#REF!+#REF!+#REF!+#REF!+#REF!+#REF!+#REF!+#REF!+#REF!+#REF!+#REF!+#REF!+#REF!+#REF!+#REF!+#REF!+#REF!+#REF!+#REF!","v":{"$error":"#REF!"}},{"$f":"'9_Per Pupil Summary'!L20","v":1972.0559862100604},{"$f":"#REF!+#REF!+#REF!+#REF!+#REF!+#REF!+#REF!+#REF!+#REF!+#REF!+#REF!+#REF!+#REF!+#REF!+#REF!+#REF!+#REF!+#REF!+#REF!+#REF!+#REF!+#REF!+#REF!+#REF!+#REF!+#REF!+#REF!+#REF!+#REF!+#REF!+#REF!+#REF!+#REF!","v":{"$error":"#REF!"}},{"$f":"#REF!+#REF!+#REF!+#REF!+#REF!+#REF!+#REF!+#REF!+#REF!+#REF!+#REF!+#REF!+#REF!+#REF!+#REF!+#REF!+#REF!+#REF!+#REF!+#REF!+#REF!+#REF!+#REF!+#REF!+#REF!+#REF!+#REF!+#REF!+#REF!+#REF!+#REF!+#REF!+#REF!","v":{"$error":"#REF!"}},{"$f":"#REF!+#REF!","v":{"$error":"#REF!"}},{"$f":"#REF!+#REF!+#REF!+#REF!+#REF!+#REF!+#REF!+#REF!+#REF!+#REF!+#REF!+#REF!+#REF!+#REF!+#REF!+#REF!+#REF!+#REF!+#REF!+#REF!+#REF!+#REF!+#REF!+#REF!+#REF!+#REF!+#REF!+#REF!+#REF!+#REF!+#REF!+#REF!+#REF!","v":{"$error":"#REF!"}},{"$f":"#REF!+#REF!+#REF!+#REF!+#REF!+#REF!+#REF!+#REF!+#REF!+#REF!+#REF!+#REF!+#REF!+#REF!+#REF!+#REF!+#REF!+#REF!+#REF!+#REF!+#REF!+#REF!+#REF!+#REF!+#REF!+#REF!+#REF!+#REF!+#REF!+#REF!+#REF!+#REF!+#REF!","v":{"$error":"#REF!"}},{"$f":"#REF!+#REF!+#REF!+#REF!+#REF!+#REF!+#REF!+#REF!+#REF!+#REF!+#REF!+#REF!+#REF!+#REF!+#REF!+#REF!+#REF!+#REF!+#REF!+#REF!+#REF!+#REF!+#REF!+#REF!+#REF!+#REF!+#REF!+#REF!+#REF!+#REF!+#REF!+#REF!+#REF!","v":{"$error":"#REF!"}},{"$f":"#REF!+#REF!+#REF!+#REF!+#REF!+#REF!+#REF!+#REF!+#REF!+#REF!+#REF!+#REF!+#REF!+#REF!+#REF!+#REF!+#REF!+#REF!+#REF!+#REF!+#REF!+#REF!+#REF!+#REF!+#REF!+#REF!+#REF!+#REF!+#REF!+#REF!+#REF!+#REF!+#REF!","v":{"$error":"#REF!"}},{"$f":"#REF!+#REF!+#REF!+#REF!+#REF!+#REF!+#REF!+#REF!+#REF!+#REF!+#REF!+#REF!+#REF!+#REF!+#REF!+#REF!+#REF!+#REF!+#REF!+#REF!+#REF!+#REF!+#REF!+#REF!+#REF!+#REF!+#REF!+#REF!+#REF!+#REF!+#REF!+#REF!+#REF!","v":{"$error":"#REF!"}},{"$f":"#REF!+#REF!+#REF!+#REF!+#REF!+#REF!+#REF!+#REF!+#REF!+#REF!+#REF!+#REF!+#REF!+#REF!+#REF!+#REF!+#REF!+#REF!+#REF!+#REF!+#REF!+#REF!+#REF!+#REF!+#REF!+#REF!+#REF!+#REF!+#REF!+#REF!+#REF!+#REF!+#REF!","v":{"$error":"#REF!"}},{"$f":"#REF!+#REF!+#REF!+#REF!+#REF!+#REF!+#REF!+#REF!+#REF!+#REF!+#REF!+#REF!+#REF!+#REF!+#REF!+#REF!+#REF!+#REF!+#REF!+#REF!+#REF!+#REF!+#REF!+#REF!+#REF!+#REF!+#REF!+#REF!+#REF!+#REF!+#REF!+#REF!+#REF!","v":{"$error":"#REF!"}},{"$f":"#REF!+#REF!+#REF!+#REF!+#REF!+#REF!+#REF!+#REF!+#REF!+#REF!+#REF!+#REF!+#REF!+#REF!+#REF!+#REF!+#REF!+#REF!+#REF!+#REF!+#REF!+#REF!+#REF!+#REF!+#REF!+#REF!+#REF!+#REF!+#REF!+#REF!+#REF!+#REF!+#REF!","v":{"$error":"#REF!"}},{"$f":"#REF!+#REF!+#REF!+#REF!+#REF!+#REF!+#REF!+#REF!+#REF!+#REF!+#REF!+#REF!+#REF!+#REF!+#REF!+#REF!+#REF!+#REF!+#REF!+#REF!+#REF!+#REF!+#REF!+#REF!+#REF!+#REF!+#REF!+#REF!+#REF!+#REF!+#REF!+#REF!+#REF!","v":{"$error":"#REF!"}},{"$f":"#REF!+#REF!+#REF!+#REF!+#REF!+#REF!+#REF!+#REF!+#REF!+#REF!+#REF!+#REF!+#REF!+#REF!+#REF!+#REF!+#REF!+#REF!+#REF!+#REF!+#REF!+#REF!+#REF!+#REF!+#REF!+#REF!+#REF!+#REF!+#REF!+#REF!+#REF!+#REF!+#REF!","v":{"$error":"#REF!"}},{"$f":"#REF!+#REF!+#REF!+#REF!+#REF!+#REF!+#REF!+#REF!+#REF!+#REF!+#REF!+#REF!+#REF!+#REF!+#REF!+#REF!+#REF!+#REF!+#REF!+#REF!+#REF!+#REF!+#REF!+#REF!+#REF!+#REF!+#REF!+#REF!+#REF!+#REF!+#REF!+#REF!+#REF!","v":{"$error":"#REF!"}},{"$f":"#REF!+#REF!+#REF!+#REF!+#REF!+#REF!+#REF!+#REF!+#REF!+#REF!+#REF!+#REF!+#REF!+#REF!+#REF!+#REF!+#REF!+#REF!+#REF!+#REF!+#REF!+#REF!+#REF!+#REF!+#REF!+#REF!+#REF!+#REF!+#REF!+#REF!+#REF!+#REF!+#REF!","v":{"$error":"#REF!"}},{"$f":"'9_Per Pupil Summary'!N20","v":3904},{"$f":"#REF!+#REF!+#REF!+#REF!+#REF!+#REF!+#REF!+#REF!+#REF!+#REF!+#REF!+#REF!+#REF!+#REF!+#REF!+#REF!+#REF!+#REF!+#REF!+#REF!+#REF!+#REF!+#REF!+#REF!+#REF!+#REF!+#REF!+#REF!+#REF!+#REF!+#REF!+#REF!+#REF!","v":{"$error":"#REF!"}},{"$f":"#REF!+#REF!+#REF!+#REF!+#REF!+#REF!+#REF!+#REF!+#REF!+#REF!+#REF!+#REF!+#REF!+#REF!+#REF!+#REF!+#REF!+#REF!+#REF!+#REF!+#REF!+#REF!+#REF!+#REF!+#REF!+#REF!+#REF!+#REF!+#REF!+#REF!+#REF!+#REF!+#REF!","v":{"$error":"#REF!"}},{"$f":"#REF!+#REF!+#REF!+#REF!+#REF!+#REF!+#REF!+#REF!+#REF!+#REF!+#REF!+#REF!+#REF!+#REF!+#REF!+#REF!+#REF!+#REF!+#REF!+#REF!+#REF!+#REF!+#REF!+#REF!+#REF!+#REF!+#REF!+#REF!+#REF!+#REF!+#REF!+#REF!+#REF!","v":{"$error":"#REF!"}},{"$f":"#REF!+#REF!+#REF!+#REF!+#REF!+#REF!+#REF!+#REF!+#REF!+#REF!+#REF!+#REF!+#REF!+#REF!+#REF!+#REF!+#REF!+#REF!+#REF!+#REF!+#REF!+#REF!+#REF!+#REF!+#REF!+#REF!+#REF!+#REF!+#REF!+#REF!+#REF!+#REF!+#REF!","v":{"$error":"#REF!"}},{"$f":"#REF!+#REF!+#REF!+#REF!+#REF!+#REF!+#REF!+#REF!+#REF!+#REF!+#REF!+#REF!+#REF!+#REF!+#REF!+#REF!+#REF!+#REF!+#REF!+#REF!+#REF!+#REF!+#REF!+#REF!+#REF!+#REF!+#REF!+#REF!+#REF!+#REF!+#REF!+#REF!+#REF!","v":{"$error":"#REF!"}},{"$f":"#REF!+#REF!+#REF!+#REF!+#REF!+#REF!+#REF!+#REF!+#REF!+#REF!+#REF!+#REF!+#REF!+#REF!+#REF!+#REF!+#REF!+#REF!+#REF!+#REF!+#REF!+#REF!+#REF!+#REF!+#REF!+#REF!+#REF!+#REF!+#REF!+#REF!+#REF!+#REF!+#REF!","v":{"$error":"#REF!"}},{"$f":"#REF!+#REF!+#REF!+#REF!+#REF!+#REF!+#REF!+#REF!+#REF!+#REF!+#REF!+#REF!+#REF!+#REF!+#REF!+#REF!+#REF!+#REF!+#REF!+#REF!+#REF!+#REF!+#REF!+#REF!+#REF!+#REF!+#REF!+#REF!+#REF!+#REF!+#REF!+#REF!+#REF!","v":{"$error":"#REF!"}},{"$f":"#REF!+#REF!+#REF!+#REF!+#REF!+#REF!+#REF!+#REF!+#REF!+#REF!+#REF!+#REF!+#REF!+#REF!+#REF!+#REF!+#REF!+#REF!+#REF!+#REF!+#REF!+#REF!+#REF!+#REF!+#REF!+#REF!+#REF!+#REF!+#REF!+#REF!+#REF!+#REF!+#REF!","v":{"$error":"#REF!"}},{"$f":"#REF!+#REF!+#REF!+#REF!+#REF!+#REF!+#REF!+#REF!+#REF!+#REF!+#REF!+#REF!+#REF!+#REF!+#REF!+#REF!+#REF!+#REF!+#REF!+#REF!+#REF!+#REF!+#REF!+#REF!+#REF!+#REF!+#REF!+#REF!+#REF!+#REF!+#REF!+#REF!+#REF!","v":{"$error":"#REF!"}},{"$f":"#REF!+#REF!+#REF!+#REF!+#REF!+#REF!+#REF!+#REF!+#REF!+#REF!+#REF!+#REF!+#REF!+#REF!+#REF!+#REF!+#REF!+#REF!+#REF!+#REF!+#REF!+#REF!+#REF!+#REF!+#REF!+#REF!+#REF!+#REF!+#REF!+#REF!+#REF!+#REF!+#REF!","v":{"$error":"#REF!"}},{"$f":"#REF!+#REF!+#REF!+#REF!+#REF!+#REF!+#REF!+#REF!+#REF!+#REF!+#REF!+#REF!+#REF!+#REF!+#REF!+#REF!+#REF!+#REF!+#REF!+#REF!+#REF!+#REF!+#REF!+#REF!+#REF!+#REF!+#REF!+#REF!+#REF!+#REF!+#REF!+#REF!+#REF!","v":{"$error":"#REF!"}},{"$f":"#REF!+#REF!+#REF!+#REF!+#REF!+#REF!+#REF!+#REF!+#REF!+#REF!+#REF!+#REF!+#REF!+#REF!+#REF!+#REF!+#REF!+#REF!+#REF!+#REF!+#REF!+#REF!+#REF!+#REF!+#REF!+#REF!+#REF!+#REF!+#REF!+#REF!+#REF!+#REF!+#REF!","v":{"$error":"#REF!"}},{"$f":"#REF!+#REF!+#REF!+#REF!+#REF!+#REF!+#REF!+#REF!+#REF!+#REF!+#REF!+#REF!+#REF!+#REF!+#REF!+#REF!+#REF!+#REF!+#REF!+#REF!+#REF!+#REF!+#REF!+#REF!+#REF!+#REF!+#REF!+#REF!+#REF!+#REF!+#REF!+#REF!+#REF!","v":{"$error":"#REF!"}},{"$f":"#REF!+#REF!+#REF!+#REF!+#REF!+#REF!+#REF!+#REF!+#REF!+#REF!+#REF!+#REF!+#REF!+#REF!+#REF!+#REF!+#REF!+#REF!+#REF!+#REF!+#REF!+#REF!+#REF!+#REF!+#REF!+#REF!+#REF!+#REF!+#REF!+#REF!+#REF!+#REF!+#REF!","v":{"$error":"#REF!"}},{"$error":"#REF!"},{"$error":"#REF!"},{"$f":"#REF!+#REF!+#REF!+#REF!+#REF!+#REF!+#REF!+#REF!+#REF!+#REF!+#REF!+#REF!+#REF!+#REF!+#REF!+#REF!+#REF!+#REF!+#REF!+#REF!+#REF!+#REF!+#REF!+#REF!+#REF!+#REF!+#REF!+#REF!+#REF!+#REF!+#REF!+#REF!+#REF!","v":{"$error":"#REF!"}},null,{"$error":"#REF!"}]
[16,"DeSoto",{"$f":"#REF!+#REF!+#REF!+#REF!+#REF!+#REF!+#REF!+#REF!+#REF!+#REF!+#REF!+#REF!+#REF!+#REF!+#REF!+#REF!+#REF!+#REF!+#REF!+#REF!+#REF!+#REF!+#REF!+#REF!+#REF!+#REF!+#REF!+#REF!+#REF!+#REF!+#REF!+#REF!+#REF!","v":{"$error":"#REF!"}},{"$f":"'9_Per Pupil Summary'!H21","v":2380.9982592757769},{"$f":"#REF!+#REF!+#REF!+#REF!+#REF!+#REF!+#REF!+#REF!+#REF!+#REF!+#REF!+#REF!+#REF!+#REF!+#REF!+#REF!+#REF!+#REF!+#REF!+#REF!+#REF!+#REF!+#REF!+#REF!+#REF!+#REF!+#REF!+#REF!+#REF!+#REF!+#REF!+#REF!+#REF!","v":{"$error":"#REF!"}},{"$f":"#REF!+#REF!+#REF!+#REF!+#REF!+#REF!+#REF!+#REF!+#REF!+#REF!+#REF!+#REF!+#REF!+#REF!+#REF!+#REF!+#REF!+#REF!+#REF!+#REF!+#REF!+#REF!+#REF!+#REF!+#REF!+#REF!+#REF!+#REF!+#REF!+#REF!+#REF!+#REF!+#REF!","v":{"$error":"#REF!"}},{"$f":"'9_Per Pupil Summary'!I21","v":334.58818282736581},{"$f":"#REF!+#REF!+#REF!+#REF!+#REF!+#REF!+#REF!+#REF!+#REF!+#REF!+#REF!+#REF!+#REF!+#REF!+#REF!+#REF!+#REF!+#REF!+#REF!+#REF!+#REF!+#REF!+#REF!+#REF!+#REF!+#REF!+#REF!+#REF!+#REF!+#REF!+#REF!+#REF!+#REF!","v":{"$error":"#REF!"}},{"$f":"#REF!+#REF!+#REF!+#REF!+#REF!+#REF!+#REF!+#REF!+#REF!+#REF!+#REF!+#REF!+#REF!+#REF!+#REF!+#REF!+#REF!+#REF!+#REF!+#REF!+#REF!+#REF!+#REF!+#REF!+#REF!+#REF!+#REF!+#REF!+#REF!+#REF!+#REF!+#REF!+#REF!","v":{"$error":"#REF!"}},{"$f":"'9_Per Pupil Summary'!J21","v":91.251322589281585},{"$f":"#REF!+#REF!+#REF!+#REF!+#REF!+#REF!+#REF!+#REF!+#REF!+#REF!+#REF!+#REF!+#REF!+#REF!+#REF!+#REF!+#REF!+#REF!+#REF!+#REF!+#REF!+#REF!+#REF!+#REF!+#REF!+#REF!+#REF!+#REF!+#REF!+#REF!+#REF!+#REF!+#REF!","v":{"$error":"#REF!"}},{"$f":"#REF!+#REF!+#REF!+#REF!+#REF!+#REF!+#REF!+#REF!+#REF!+#REF!+#REF!+#REF!+#REF!+#REF!+#REF!+#REF!+#REF!+#REF!+#REF!+#REF!+#REF!+#REF!+#REF!+#REF!+#REF!+#REF!+#REF!+#REF!+#REF!+#REF!+#REF!+#REF!+#REF!","v":{"$error":"#REF!"}},{"$f":"'9_Per Pupil Summary'!K21","v":2281.2830647320397},{"$f":"#REF!+#REF!+#REF!+#REF!+#REF!+#REF!+#REF!+#REF!+#REF!+#REF!+#REF!+#REF!+#REF!+#REF!+#REF!+#REF!+#REF!+#REF!+#REF!+#REF!+#REF!+#REF!+#REF!+#REF!+#REF!+#REF!+#REF!+#REF!+#REF!+#REF!+#REF!+#REF!+#REF!","v":{"$error":"#REF!"}},{"$f":"#REF!+#REF!+#REF!+#REF!+#REF!+#REF!+#REF!+#REF!+#REF!+#REF!+#REF!+#REF!+#REF!+#REF!+#REF!+#REF!+#REF!+#REF!+#REF!+#REF!+#REF!+#REF!+#REF!+#REF!+#REF!+#REF!+#REF!+#REF!+#REF!+#REF!+#REF!+#REF!+#REF!","v":{"$error":"#REF!"}},{"$f":"'9_Per Pupil Summary'!L21","v":912.51322589281585},{"$f":"#REF!+#REF!+#REF!+#REF!+#REF!+#REF!+#REF!+#REF!+#REF!+#REF!+#REF!+#REF!+#REF!+#REF!+#REF!+#REF!+#REF!+#REF!+#REF!+#REF!+#REF!+#REF!+#REF!+#REF!+#REF!+#REF!+#REF!+#REF!+#REF!+#REF!+#REF!+#REF!+#REF!","v":{"$error":"#REF!"}},{"$f":"#REF!+#REF!+#REF!+#REF!+#REF!+#REF!+#REF!+#REF!+#REF!+#REF!+#REF!+#REF!+#REF!+#REF!+#REF!+#REF!+#REF!+#REF!+#REF!+#REF!+#REF!+#REF!+#REF!+#REF!+#REF!+#REF!+#REF!+#REF!+#REF!+#REF!+#REF!+#REF!+#REF!","v":{"$error":"#REF!"}},{"$f":"#REF!+#REF!","v":{"$error":"#REF!"}},{"$f":"#REF!+#REF!+#REF!+#REF!+#REF!+#REF!+#REF!+#REF!+#REF!+#REF!+#REF!+#REF!+#REF!+#REF!+#REF!+#REF!+#REF!+#REF!+#REF!+#REF!+#REF!+#REF!+#REF!+#REF!+#REF!+#REF!+#REF!+#REF!+#REF!+#REF!+#REF!+#REF!+#REF!","v":{"$error":"#REF!"}},{"$f":"#REF!+#REF!+#REF!+#REF!+#REF!+#REF!+#REF!+#REF!+#REF!+#REF!+#REF!+#REF!+#REF!+#REF!+#REF!+#REF!+#REF!+#REF!+#REF!+#REF!+#REF!+#REF!+#REF!+#REF!+#REF!+#REF!+#REF!+#REF!+#REF!+#REF!+#REF!+#REF!+#REF!","v":{"$error":"#REF!"}},{"$f":"#REF!+#REF!+#REF!+#REF!+#REF!+#REF!+#REF!+#REF!+#REF!+#REF!+#REF!+#REF!+#REF!+#REF!+#REF!+#REF!+#REF!+#REF!+#REF!+#REF!+#REF!+#REF!+#REF!+#REF!+#REF!+#REF!+#REF!+#REF!+#REF!+#REF!+#REF!+#REF!+#REF!","v":{"$error":"#REF!"}},{"$f":"#REF!+#REF!+#REF!+#REF!+#REF!+#REF!+#REF!+#REF!+#REF!+#REF!+#REF!+#REF!+#REF!+#REF!+#REF!+#REF!+#REF!+#REF!+#REF!+#REF!+#REF!+#REF!+#REF!+#REF!+#REF!+#REF!+#REF!+#REF!+#REF!+#REF!+#REF!+#REF!+#REF!","v":{"$error":"#REF!"}},{"$f":"#REF!+#REF!+#REF!+#REF!+#REF!+#REF!+#REF!+#REF!+#REF!+#REF!+#REF!+#REF!+#REF!+#REF!+#REF!+#REF!+#REF!+#REF!+#REF!+#REF!+#REF!+#REF!+#REF!+#REF!+#REF!+#REF!+#REF!+#REF!+#REF!+#REF!+#REF!+#REF!+#REF!","v":{"$error":"#REF!"}},{"$f":"#REF!+#REF!+#REF!+#REF!+#REF!+#REF!+#REF!+#REF!+#REF!+#REF!+#REF!+#REF!+#REF!+#REF!+#REF!+#REF!+#REF!+#REF!+#REF!+#REF!+#REF!+#REF!+#REF!+#REF!+#REF!+#REF!+#REF!+#REF!+#REF!+#REF!+#REF!+#REF!+#REF!","v":{"$error":"#REF!"}},{"$f":"#REF!+#REF!+#REF!+#REF!+#REF!+#REF!+#REF!+#REF!+#REF!+#REF!+#REF!+#REF!+#REF!+#REF!+#REF!+#REF!+#REF!+#REF!+#REF!+#REF!+#REF!+#REF!+#REF!+#REF!+#REF!+#REF!+#REF!+#REF!+#REF!+#REF!+#REF!+#REF!+#REF!","v":{"$error":"#REF!"}},{"$f":"#REF!+#REF!+#REF!+#REF!+#REF!+#REF!+#REF!+#REF!+#REF!+#REF!+#REF!+#REF!+#REF!+#REF!+#REF!+#REF!+#REF!+#REF!+#REF!+#REF!+#REF!+#REF!+#REF!+#REF!+#REF!+#REF!+#REF!+#REF!+#REF!+#REF!+#REF!+#REF!+#REF!","v":{"$error":"#REF!"}},{"$f":"#REF!+#REF!+#REF!+#REF!+#REF!+#REF!+#REF!+#REF!+#REF!+#REF!+#REF!+#REF!+#REF!+#REF!+#REF!+#REF!+#REF!+#REF!+#REF!+#REF!+#REF!+#REF!+#REF!+#REF!+#REF!+#REF!+#REF!+#REF!+#REF!+#REF!+#REF!+#REF!+#REF!","v":{"$error":"#REF!"}},{"$f":"#REF!+#REF!+#REF!+#REF!+#REF!+#REF!+#REF!+#REF!+#REF!+#REF!+#REF!+#REF!+#REF!+#REF!+#REF!+#REF!+#REF!+#REF!+#REF!+#REF!+#REF!+#REF!+#REF!+#REF!+#REF!+#REF!+#REF!+#REF!+#REF!+#REF!+#REF!+#REF!+#REF!","v":{"$error":"#REF!"}},{"$f":"#REF!+#REF!+#REF!+#REF!+#REF!+#REF!+#REF!+#REF!+#REF!+#REF!+#REF!+#REF!+#REF!+#REF!+#REF!+#REF!+#REF!+#REF!+#REF!+#REF!+#REF!+#REF!+#REF!+#REF!+#REF!+#REF!+#REF!+#REF!+#REF!+#REF!+#REF!+#REF!+#REF!","v":{"$error":"#REF!"}},{"$f":"#REF!+#REF!+#REF!+#REF!+#REF!+#REF!+#REF!+#REF!+#REF!+#REF!+#REF!+#REF!+#REF!+#REF!+#REF!+#REF!+#REF!+#REF!+#REF!+#REF!+#REF!+#REF!+#REF!+#REF!+#REF!+#REF!+#REF!+#REF!+#REF!+#REF!+#REF!+#REF!+#REF!","v":{"$error":"#REF!"}},{"$f":"'9_Per Pupil Summary'!N21","v":18346},{"$f":"#REF!+#REF!+#REF!+#REF!+#REF!+#REF!+#REF!+#REF!+#REF!+#REF!+#REF!+#REF!+#REF!+#REF!+#REF!+#REF!+#REF!+#REF!+#REF!+#REF!+#REF!+#REF!+#REF!+#REF!+#REF!+#REF!+#REF!+#REF!+#REF!+#REF!+#REF!+#REF!+#REF!","v":{"$error":"#REF!"}},{"$f":"#REF!+#REF!+#REF!+#REF!+#REF!+#REF!+#REF!+#REF!+#REF!+#REF!+#REF!+#REF!+#REF!+#REF!+#REF!+#REF!+#REF!+#REF!+#REF!+#REF!+#REF!+#REF!+#REF!+#REF!+#REF!+#REF!+#REF!+#REF!+#REF!+#REF!+#REF!+#REF!+#REF!","v":{"$error":"#REF!"}},{"$f":"#REF!+#REF!+#REF!+#REF!+#REF!+#REF!+#REF!+#REF!+#REF!+#REF!+#REF!+#REF!+#REF!+#REF!+#REF!+#REF!+#REF!+#REF!+#REF!+#REF!+#REF!+#REF!+#REF!+#REF!+#REF!+#REF!+#REF!+#REF!+#REF!+#REF!+#REF!+#REF!+#REF!","v":{"$error":"#REF!"}},{"$f":"#REF!+#REF!+#REF!+#REF!+#REF!+#REF!+#REF!+#REF!+#REF!+#REF!+#REF!+#REF!+#REF!+#REF!+#REF!+#REF!+#REF!+#REF!+#REF!+#REF!+#REF!+#REF!+#REF!+#REF!+#REF!+#REF!+#REF!+#REF!+#REF!+#REF!+#REF!+#REF!+#REF!","v":{"$error":"#REF!"}},{"$f":"#REF!+#REF!+#REF!+#REF!+#REF!+#REF!+#REF!+#REF!+#REF!+#REF!+#REF!+#REF!+#REF!+#REF!+#REF!+#REF!+#REF!+#REF!+#REF!+#REF!+#REF!+#REF!+#REF!+#REF!+#REF!+#REF!+#REF!+#REF!+#REF!+#REF!+#REF!+#REF!+#REF!","v":{"$error":"#REF!"}},{"$f":"#REF!+#REF!+#REF!+#REF!+#REF!+#REF!+#REF!+#REF!+#REF!+#REF!+#REF!+#REF!+#REF!+#REF!+#REF!+#REF!+#REF!+#REF!+#REF!+#REF!+#REF!+#REF!+#REF!+#REF!+#REF!+#REF!+#REF!+#REF!+#REF!+#REF!+#REF!+#REF!+#REF!","v":{"$error":"#REF!"}},{"$f":"#REF!+#REF!+#REF!+#REF!+#REF!+#REF!+#REF!+#REF!+#REF!+#REF!+#REF!+#REF!+#REF!+#REF!+#REF!+#REF!+#REF!+#REF!+#REF!+#REF!+#REF!+#REF!+#REF!+#REF!+#REF!+#REF!+#REF!+#REF!+#REF!+#REF!+#REF!+#REF!+#REF!","v":{"$error":"#REF!"}},{"$f":"#REF!+#REF!+#REF!+#REF!+#REF!+#REF!+#REF!+#REF!+#REF!+#REF!+#REF!+#REF!+#REF!+#REF!+#REF!+#REF!+#REF!+#REF!+#REF!+#REF!+#REF!+#REF!+#REF!+#REF!+#REF!+#REF!+#REF!+#REF!+#REF!+#REF!+#REF!+#REF!+#REF!","v":{"$error":"#REF!"}},{"$f":"#REF!+#REF!+#REF!+#REF!+#REF!+#REF!+#REF!+#REF!+#REF!+#REF!+#REF!+#REF!+#REF!+#REF!+#REF!+#REF!+#REF!+#REF!+#REF!+#REF!+#REF!+#REF!+#REF!+#REF!+#REF!+#REF!+#REF!+#REF!+#REF!+#REF!+#REF!+#REF!+#REF!","v":{"$error":"#REF!"}},{"$f":"#REF!+#REF!+#REF!+#REF!+#REF!+#REF!+#REF!+#REF!+#REF!+#REF!+#REF!+#REF!+#REF!+#REF!+#REF!+#REF!+#REF!+#REF!+#REF!+#REF!+#REF!+#REF!+#REF!+#REF!+#REF!+#REF!+#REF!+#REF!+#REF!+#REF!+#REF!+#REF!+#REF!","v":{"$error":"#REF!"}},{"$f":"#REF!+#REF!+#REF!+#REF!+#REF!+#REF!+#REF!+#REF!+#REF!+#REF!+#REF!+#REF!+#REF!+#REF!+#REF!+#REF!+#REF!+#REF!+#REF!+#REF!+#REF!+#REF!+#REF!+#REF!+#REF!+#REF!+#REF!+#REF!+#REF!+#REF!+#REF!+#REF!+#REF!","v":{"$error":"#REF!"}},{"$f":"#REF!+#REF!+#REF!+#REF!+#REF!+#REF!+#REF!+#REF!+#REF!+#REF!+#REF!+#REF!+#REF!+#REF!+#REF!+#REF!+#REF!+#REF!+#REF!+#REF!+#REF!+#REF!+#REF!+#REF!+#REF!+#REF!+#REF!+#REF!+#REF!+#REF!+#REF!+#REF!+#REF!","v":{"$error":"#REF!"}},{"$f":"#REF!+#REF!+#REF!+#REF!+#REF!+#REF!+#REF!+#REF!+#REF!+#REF!+#REF!+#REF!+#REF!+#REF!+#REF!+#REF!+#REF!+#REF!+#REF!+#REF!+#REF!+#REF!+#REF!+#REF!+#REF!+#REF!+#REF!+#REF!+#REF!+#REF!+#REF!+#REF!+#REF!","v":{"$error":"#REF!"}},{"$f":"#REF!+#REF!+#REF!+#REF!+#REF!+#REF!+#REF!+#REF!+#REF!+#REF!+#REF!+#REF!+#REF!+#REF!+#REF!+#REF!+#REF!+#REF!+#REF!+#REF!+#REF!+#REF!+#REF!+#REF!+#REF!+#REF!+#REF!+#REF!+#REF!+#REF!+#REF!+#REF!+#REF!","v":{"$error":"#REF!"}},{"$error":"#REF!"},{"$error":"#REF!"},{"$f":"#REF!+#REF!+#REF!+#REF!+#REF!+#REF!+#REF!+#REF!+#REF!+#REF!+#REF!+#REF!+#REF!+#REF!+#REF!+#REF!+#REF!+#REF!+#REF!+#REF!+#REF!+#REF!+#REF!+#REF!+#REF!+#REF!+#REF!+#REF!+#REF!+#REF!+#REF!+#REF!+#REF!","v":{"$error":"#REF!"}},null,{"$error":"#REF!"}]
[17,"East Baton Rouge",{"$f":"#REF!+#REF!+#REF!+#REF!+#REF!+#REF!+#REF!+#REF!+#REF!+#REF!+#REF!+#REF!+#REF!+#REF!+#REF!+#REF!+#REF!+#REF!+#REF!+#REF!+#REF!+#REF!+#REF!+#REF!+#REF!+#REF!+#REF!+#REF!+#REF!+#REF!+#REF!+#REF!+#REF!","v":{"$error":"#REF!"}},{"$f":"'9_Per Pupil Summary'!H22","v":3591.3213285149432},{"$f":"#REF!+#REF!+#REF!+#REF!+#REF!+#REF!+#REF!+#REF!+#REF!+#REF!+#REF!+#REF!+#REF!+#REF!+#REF!+#REF!+#REF!+#REF!+#REF!+#REF!+#REF!+#REF!+#REF!+#REF!+#REF!+#REF!+#REF!+#REF!+#REF!+#REF!+#REF!+#REF!+#REF!","v":{"$error":"#REF!"}},{"$f":"#REF!+#REF!+#REF!+#REF!+#REF!+#REF!+#REF!+#REF!+#REF!+#REF!+#REF!+#REF!+#REF!+#REF!+#REF!+#REF!+#REF!+#REF!+#REF!+#REF!+#REF!+#REF!+#REF!+#REF!+#REF!+#REF!+#REF!+#REF!+#REF!+#REF!+#REF!+#REF!+#REF!","v":{"$error":"#REF!"}},{"$f":"'9_Per Pupil Summary'!I22","v":454.44570614766269},{"$f":"#REF!+#REF!+#REF!+#REF!+#REF!+#REF!+#REF!+#REF!+#REF!+#REF!+#REF!+#REF!+#REF!+#REF!+#REF!+#REF!+#REF!+#REF!+#REF!+#REF!+#REF!+#REF!+#REF!+#REF!+#REF!+#REF!+#REF!+#REF!+#REF!+#REF!+#REF!+#REF!+#REF!","v":{"$error":"#REF!"}},{"$f":"#REF!+#REF!+#REF!+#REF!+#REF!+#REF!+#REF!+#REF!+#REF!+#REF!+#REF!+#REF!+#REF!+#REF!+#REF!+#REF!+#REF!+#REF!+#REF!+#REF!+#REF!+#REF!+#REF!+#REF!+#REF!+#REF!+#REF!+#REF!+#REF!+#REF!+#REF!+#REF!+#REF!","v":{"$error":"#REF!"}},{"$f":"'9_Per Pupil Summary'!J22","v":123.93973804027164},{"$f":"#REF!+#REF!+#REF!+#REF!+#REF!+#REF!+#REF!+#REF!+#REF!+#REF!+#REF!+#REF!+#REF!+#REF!+#REF!+#REF!+#REF!+#REF!+#REF!+#REF!+#REF!+#REF!+#REF!+#REF!+#REF!+#REF!+#REF!+#REF!+#REF!+#REF!+#REF!+#REF!+#REF!","v":{"$error":"#REF!"}},{"$f":"#REF!+#REF!+#REF!+#REF!+#REF!+#REF!+#REF!+#REF!+#REF!+#REF!+#REF!+#REF!+#REF!+#REF!+#REF!+#REF!+#REF!+#REF!+#REF!+#REF!+#REF!+#REF!+#REF!+#REF!+#REF!+#REF!+#REF!+#REF!+#REF!+#REF!+#REF!+#REF!+#REF!","v":{"$error":"#REF!"}},{"$f":"'9_Per Pupil Summary'!K22","v":3098.4934510067915},{"$f":"#REF!+#REF!+#REF!+#REF!+#REF!+#REF!+#REF!+#REF!+#REF!+#REF!+#REF!+#REF!+#REF!+#REF!+#REF!+#REF!+#REF!+#REF!+#REF!+#REF!+#REF!+#REF!+#REF!+#REF!+#REF!+#REF!+#REF!+#REF!+#REF!+#REF!+#REF!+#REF!+#REF!","v":{"$error":"#REF!"}},{"$f":"#REF!+#REF!+#REF!+#REF!+#REF!+#REF!+#REF!+#REF!+#REF!+#REF!+#REF!+#REF!+#REF!+#REF!+#REF!+#REF!+#REF!+#REF!+#REF!+#REF!+#REF!+#REF!+#REF!+#REF!+#REF!+#REF!+#REF!+#REF!+#REF!+#REF!+#REF!+#REF!+#REF!","v":{"$error":"#REF!"}},{"$f":"'9_Per Pupil Summary'!L22","v":1239.3973804027164},{"$f":"#REF!+#REF!+#REF!+#REF!+#REF!+#REF!+#REF!+#REF!+#REF!+#REF!+#REF!+#REF!+#REF!+#REF!+#REF!+#REF!+#REF!+#REF!+#REF!+#REF!+#REF!+#REF!+#REF!+#REF!+#REF!+#REF!+#REF!+#REF!+#REF!+#REF!+#REF!+#REF!+#REF!","v":{"$error":"#REF!"}},{"$f":"#REF!+#REF!+#REF!+#REF!+#REF!+#REF!+#REF!+#REF!+#REF!+#REF!+#REF!+#REF!+#REF!+#REF!+#REF!+#REF!+#REF!+#REF!+#REF!+#REF!+#REF!+#REF!+#REF!+#REF!+#REF!+#REF!+#REF!+#REF!+#REF!+#REF!+#REF!+#REF!+#REF!","v":{"$error":"#REF!"}},{"$f":"#REF!+#REF!","v":{"$error":"#REF!"}},{"$f":"#REF!+#REF!+#REF!+#REF!+#REF!+#REF!+#REF!+#REF!+#REF!+#REF!+#REF!+#REF!+#REF!+#REF!+#REF!+#REF!+#REF!+#REF!+#REF!+#REF!+#REF!+#REF!+#REF!+#REF!+#REF!+#REF!+#REF!+#REF!+#REF!+#REF!+#REF!+#REF!+#REF!","v":{"$error":"#REF!"}},{"$f":"#REF!+#REF!+#REF!+#REF!+#REF!+#REF!+#REF!+#REF!+#REF!+#REF!+#REF!+#REF!+#REF!+#REF!+#REF!+#REF!+#REF!+#REF!+#REF!+#REF!+#REF!+#REF!+#REF!+#REF!+#REF!+#REF!+#REF!+#REF!+#REF!+#REF!+#REF!+#REF!+#REF!","v":{"$error":"#REF!"}},{"$f":"#REF!+#REF!+#REF!+#REF!+#REF!+#REF!+#REF!+#REF!+#REF!+#REF!+#REF!+#REF!+#REF!+#REF!+#REF!+#REF!+#REF!+#REF!+#REF!+#REF!+#REF!+#REF!+#REF!+#REF!+#REF!+#REF!+#REF!+#REF!+#REF!+#REF!+#REF!+#REF!+#REF!","v":{"$error":"#REF!"}},{"$f":"#REF!+#REF!+#REF!+#REF!+#REF!+#REF!+#REF!+#REF!+#REF!+#REF!+#REF!+#REF!+#REF!+#REF!+#REF!+#REF!+#REF!+#REF!+#REF!+#REF!+#REF!+#REF!+#REF!+#REF!+#REF!+#REF!+#REF!+#REF!+#REF!+#REF!+#REF!+#REF!+#REF!","v":{"$error":"#REF!"}},{"$f":"#REF!+#REF!+#REF!+#REF!+#REF!+#REF!+#REF!+#REF!+#REF!+#REF!+#REF!+#REF!+#REF!+#REF!+#REF!+#REF!+#REF!+#REF!+#REF!+#REF!+#REF!+#REF!+#REF!+#REF!+#REF!+#REF!+#REF!+#REF!+#REF!+#REF!+#REF!+#REF!+#REF!","v":{"$error":"#REF!"}},{"$f":"#REF!+#REF!+#REF!+#REF!+#REF!+#REF!+#REF!+#REF!+#REF!+#REF!+#REF!+#REF!+#REF!+#REF!+#REF!+#REF!+#REF!+#REF!+#REF!+#REF!+#REF!+#REF!+#REF!+#REF!+#REF!+#REF!+#REF!+#REF!+#REF!+#REF!+#REF!+#REF!+#REF!","v":{"$error":"#REF!"}},{"$f":"#REF!+#REF!+#REF!+#REF!+#REF!+#REF!+#REF!+#REF!+#REF!+#REF!+#REF!+#REF!+#REF!+#REF!+#REF!+#REF!+#REF!+#REF!+#REF!+#REF!+#REF!+#REF!+#REF!+#REF!+#REF!+#REF!+#REF!+#REF!+#REF!+#REF!+#REF!+#REF!+#REF!","v":{"$error":"#REF!"}},{"$f":"#REF!+#REF!+#REF!+#REF!+#REF!+#REF!+#REF!+#REF!+#REF!+#REF!+#REF!+#REF!+#REF!+#REF!+#REF!+#REF!+#REF!+#REF!+#REF!+#REF!+#REF!+#REF!+#REF!+#REF!+#REF!+#REF!+#REF!+#REF!+#REF!+#REF!+#REF!+#REF!+#REF!","v":{"$error":"#REF!"}},{"$f":"#REF!+#REF!+#REF!+#REF!+#REF!+#REF!+#REF!+#REF!+#REF!+#REF!+#REF!+#REF!+#REF!+#REF!+#REF!+#REF!+#REF!+#REF!+#REF!+#REF!+#REF!+#REF!+#REF!+#REF!+#REF!+#REF!+#REF!+#REF!+#REF!+#REF!+#REF!+#REF!+#REF!","v":{"$error":"#REF!"}},{"$f":"#REF!+#REF!+#REF!+#REF!+#REF!+#REF!+#REF!+#REF!+#REF!+#REF!+#REF!+#REF!+#REF!+#REF!+#REF!+#REF!+#REF!+#REF!+#REF!+#REF!+#REF!+#REF!+#REF!+#REF!+#REF!+#REF!+#REF!+#REF!+#REF!+#REF!+#REF!+#REF!+#REF!","v":{"$error":"#REF!"}},{"$f":"#REF!+#REF!+#REF!+#REF!+#REF!+#REF!+#REF!+#REF!+#REF!+#REF!+#REF!+#REF!+#REF!+#REF!+#REF!+#REF!+#REF!+#REF!+#REF!+#REF!+#REF!+#REF!+#REF!+#REF!+#REF!+#REF!+#REF!+#REF!+#REF!+#REF!+#REF!+#REF!+#REF!","v":{"$error":"#REF!"}},{"$f":"#REF!+#REF!+#REF!+#REF!+#REF!+#REF!+#REF!+#REF!+#REF!+#REF!+#REF!+#REF!+#REF!+#REF!+#REF!+#REF!+#REF!+#REF!+#REF!+#REF!+#REF!+#REF!+#REF!+#REF!+#REF!+#REF!+#REF!+#REF!+#REF!+#REF!+#REF!+#REF!+#REF!","v":{"$error":"#REF!"}},{"$f":"'9_Per Pupil Summary'!N22","v":10010},{"$f":"#REF!+#REF!+#REF!+#REF!+#REF!+#REF!+#REF!+#REF!+#REF!+#REF!+#REF!+#REF!+#REF!+#REF!+#REF!+#REF!+#REF!+#REF!+#REF!+#REF!+#REF!+#REF!+#REF!+#REF!+#REF!+#REF!+#REF!+#REF!+#REF!+#REF!+#REF!+#REF!+#REF!","v":{"$error":"#REF!"}},{"$f":"#REF!+#REF!+#REF!+#REF!+#REF!+#REF!+#REF!+#REF!+#REF!+#REF!+#REF!+#REF!+#REF!+#REF!+#REF!+#REF!+#REF!+#REF!+#REF!+#REF!+#REF!+#REF!+#REF!+#REF!+#REF!+#REF!+#REF!+#REF!+#REF!+#REF!+#REF!+#REF!+#REF!","v":{"$error":"#REF!"}},{"$f":"#REF!+#REF!+#REF!+#REF!+#REF!+#REF!+#REF!+#REF!+#REF!+#REF!+#REF!+#REF!+#REF!+#REF!+#REF!+#REF!+#REF!+#REF!+#REF!+#REF!+#REF!+#REF!+#REF!+#REF!+#REF!+#REF!+#REF!+#REF!+#REF!+#REF!+#REF!+#REF!+#REF!","v":{"$error":"#REF!"}},{"$f":"#REF!+#REF!+#REF!+#REF!+#REF!+#REF!+#REF!+#REF!+#REF!+#REF!+#REF!+#REF!+#REF!+#REF!+#REF!+#REF!+#REF!+#REF!+#REF!+#REF!+#REF!+#REF!+#REF!+#REF!+#REF!+#REF!+#REF!+#REF!+#REF!+#REF!+#REF!+#REF!+#REF!","v":{"$error":"#REF!"}},{"$f":"#REF!+#REF!+#REF!+#REF!+#REF!+#REF!+#REF!+#REF!+#REF!+#REF!+#REF!+#REF!+#REF!+#REF!+#REF!+#REF!+#REF!+#REF!+#REF!+#REF!+#REF!+#REF!+#REF!+#REF!+#REF!+#REF!+#REF!+#REF!+#REF!+#REF!+#REF!+#REF!+#REF!","v":{"$error":"#REF!"}},{"$f":"#REF!+#REF!+#REF!+#REF!+#REF!+#REF!+#REF!+#REF!+#REF!+#REF!+#REF!+#REF!+#REF!+#REF!+#REF!+#REF!+#REF!+#REF!+#REF!+#REF!+#REF!+#REF!+#REF!+#REF!+#REF!+#REF!+#REF!+#REF!+#REF!+#REF!+#REF!+#REF!+#REF!","v":{"$error":"#REF!"}},{"$f":"#REF!+#REF!+#REF!+#REF!+#REF!+#REF!+#REF!+#REF!+#REF!+#REF!+#REF!+#REF!+#REF!+#REF!+#REF!+#REF!+#REF!+#REF!+#REF!+#REF!+#REF!+#REF!+#REF!+#REF!+#REF!+#REF!+#REF!+#REF!+#REF!+#REF!+#REF!+#REF!+#REF!","v":{"$error":"#REF!"}},{"$f":"#REF!+#REF!+#REF!+#REF!+#REF!+#REF!+#REF!+#REF!+#REF!+#REF!+#REF!+#REF!+#REF!+#REF!+#REF!+#REF!+#REF!+#REF!+#REF!+#REF!+#REF!+#REF!+#REF!+#REF!+#REF!+#REF!+#REF!+#REF!+#REF!+#REF!+#REF!+#REF!+#REF!","v":{"$error":"#REF!"}},{"$f":"#REF!+#REF!+#REF!+#REF!+#REF!+#REF!+#REF!+#REF!+#REF!+#REF!+#REF!+#REF!+#REF!+#REF!+#REF!+#REF!+#REF!+#REF!+#REF!+#REF!+#REF!+#REF!+#REF!+#REF!+#REF!+#REF!+#REF!+#REF!+#REF!+#REF!+#REF!+#REF!+#REF!","v":{"$error":"#REF!"}},{"$f":"#REF!+#REF!+#REF!+#REF!+#REF!+#REF!+#REF!+#REF!+#REF!+#REF!+#REF!+#REF!+#REF!+#REF!+#REF!+#REF!+#REF!+#REF!+#REF!+#REF!+#REF!+#REF!+#REF!+#REF!+#REF!+#REF!+#REF!+#REF!+#REF!+#REF!+#REF!+#REF!+#REF!","v":{"$error":"#REF!"}},{"$f":"#REF!+#REF!+#REF!+#REF!+#REF!+#REF!+#REF!+#REF!+#REF!+#REF!+#REF!+#REF!+#REF!+#REF!+#REF!+#REF!+#REF!+#REF!+#REF!+#REF!+#REF!+#REF!+#REF!+#REF!+#REF!+#REF!+#REF!+#REF!+#REF!+#REF!+#REF!+#REF!+#REF!","v":{"$error":"#REF!"}},{"$f":"#REF!+#REF!+#REF!+#REF!+#REF!+#REF!+#REF!+#REF!+#REF!+#REF!+#REF!+#REF!+#REF!+#REF!+#REF!+#REF!+#REF!+#REF!+#REF!+#REF!+#REF!+#REF!+#REF!+#REF!+#REF!+#REF!+#REF!+#REF!+#REF!+#REF!+#REF!+#REF!+#REF!","v":{"$error":"#REF!"}},{"$f":"#REF!+#REF!+#REF!+#REF!+#REF!+#REF!+#REF!+#REF!+#REF!+#REF!+#REF!+#REF!+#REF!+#REF!+#REF!+#REF!+#REF!+#REF!+#REF!+#REF!+#REF!+#REF!+#REF!+#REF!+#REF!+#REF!+#REF!+#REF!+#REF!+#REF!+#REF!+#REF!+#REF!","v":{"$error":"#REF!"}},{"$f":"#REF!+#REF!+#REF!+#REF!+#REF!+#REF!+#REF!+#REF!+#REF!+#REF!+#REF!+#REF!+#REF!+#REF!+#REF!+#REF!+#REF!+#REF!+#REF!+#REF!+#REF!+#REF!+#REF!+#REF!+#REF!+#REF!+#REF!+#REF!+#REF!+#REF!+#REF!+#REF!+#REF!","v":{"$error":"#REF!"}},{"$error":"#REF!"},{"$error":"#REF!"},{"$f":"#REF!+#REF!+#REF!+#REF!+#REF!+#REF!+#REF!+#REF!+#REF!+#REF!+#REF!+#REF!+#REF!+#REF!+#REF!+#REF!+#REF!+#REF!+#REF!+#REF!+#REF!+#REF!+#REF!+#REF!+#REF!+#REF!+#REF!+#REF!+#REF!+#REF!+#REF!+#REF!+#REF!","v":{"$error":"#REF!"}},null,{"$error":"#REF!"}]
[18,"East Carroll",{"$f":"#REF!+#REF!+#REF!+#REF!+#REF!+#REF!+#REF!+#REF!+#REF!+#REF!+#REF!+#REF!+#REF!+#REF!+#REF!+#REF!+#REF!+#REF!+#REF!+#REF!+#REF!+#REF!+#REF!+#REF!+#REF!+#REF!+#REF!+#REF!+#REF!+#REF!+#REF!+#REF!+#REF!","v":{"$error":"#REF!"}},{"$f":"'9_Per Pupil Summary'!H23","v":5386.1250926761986},{"$f":"#REF!+#REF!+#REF!+#REF!+#REF!+#REF!+#REF!+#REF!+#REF!+#REF!+#REF!+#REF!+#REF!+#REF!+#REF!+#REF!+#REF!+#REF!+#REF!+#REF!+#REF!+#REF!+#REF!+#REF!+#REF!+#REF!+#REF!+#REF!+#REF!+#REF!+#REF!+#REF!+#REF!","v":{"$error":"#REF!"}},{"$f":"#REF!+#REF!+#REF!+#REF!+#REF!+#REF!+#REF!+#REF!+#REF!+#REF!+#REF!+#REF!+#REF!+#REF!+#REF!+#REF!+#REF!+#REF!+#REF!+#REF!+#REF!+#REF!+#REF!+#REF!+#REF!+#REF!+#REF!+#REF!+#REF!+#REF!+#REF!+#REF!+#REF!","v":{"$error":"#REF!"}},{"$f":"'9_Per Pupil Summary'!I23","v":672.48763119587761},{"$f":"#REF!+#REF!+#REF!+#REF!+#REF!+#REF!+#REF!+#REF!+#REF!+#REF!+#REF!+#REF!+#REF!+#REF!+#REF!+#REF!+#REF!+#REF!+#REF!+#REF!+#REF!+#REF!+#REF!+#REF!+#REF!+#REF!+#REF!+#REF!+#REF!+#REF!+#REF!+#REF!+#REF!","v":{"$error":"#REF!"}},{"$f":"#REF!+#REF!+#REF!+#REF!+#REF!+#REF!+#REF!+#REF!+#REF!+#REF!+#REF!+#REF!+#REF!+#REF!+#REF!+#REF!+#REF!+#REF!+#REF!+#REF!+#REF!+#REF!+#REF!+#REF!+#REF!+#REF!+#REF!+#REF!+#REF!+#REF!+#REF!+#REF!+#REF!","v":{"$error":"#REF!"}},{"$f":"'9_Per Pupil Summary'!J23","v":183.40571759887573},{"$f":"#REF!+#REF!+#REF!+#REF!+#REF!+#REF!+#REF!+#REF!+#REF!+#REF!+#REF!+#REF!+#REF!+#REF!+#REF!+#REF!+#REF!+#REF!+#REF!+#REF!+#REF!+#REF!+#REF!+#REF!+#REF!+#REF!+#REF!+#REF!+#REF!+#REF!+#REF!+#REF!+#REF!","v":{"$error":"#REF!"}},{"$f":"#REF!+#REF!+#REF!+#REF!+#REF!+#REF!+#REF!+#REF!+#REF!+#REF!+#REF!+#REF!+#REF!+#REF!+#REF!+#REF!+#REF!+#REF!+#REF!+#REF!+#REF!+#REF!+#REF!+#REF!+#REF!+#REF!+#REF!+#REF!+#REF!+#REF!+#REF!+#REF!+#REF!","v":{"$error":"#REF!"}},{"$f":"'9_Per Pupil Summary'!K23","v":4585.1429399718927},{"$f":"#REF!+#REF!+#REF!+#REF!+#REF!+#REF!+#REF!+#REF!+#REF!+#REF!+#REF!+#REF!+#REF!+#REF!+#REF!+#REF!+#REF!+#REF!+#REF!+#REF!+#REF!+#REF!+#REF!+#REF!+#REF!+#REF!+#REF!+#REF!+#REF!+#REF!+#REF!+#REF!+#REF!","v":{"$error":"#REF!"}},{"$f":"#REF!+#REF!+#REF!+#REF!+#REF!+#REF!+#REF!+#REF!+#REF!+#REF!+#REF!+#REF!+#REF!+#REF!+#REF!+#REF!+#REF!+#REF!+#REF!+#REF!+#REF!+#REF!+#REF!+#REF!+#REF!+#REF!+#REF!+#REF!+#REF!+#REF!+#REF!+#REF!+#REF!","v":{"$error":"#REF!"}},{"$f":"'9_Per Pupil Summary'!L23","v":0},{"$f":"#REF!+#REF!+#REF!+#REF!+#REF!+#REF!+#REF!+#REF!+#REF!+#REF!+#REF!+#REF!+#REF!+#REF!+#REF!+#REF!+#REF!+#REF!+#REF!+#REF!+#REF!+#REF!+#REF!+#REF!+#REF!+#REF!+#REF!+#REF!+#REF!+#REF!+#REF!+#REF!+#REF!","v":{"$error":"#REF!"}},{"$f":"#REF!+#REF!+#REF!+#REF!+#REF!+#REF!+#REF!+#REF!+#REF!+#REF!+#REF!+#REF!+#REF!+#REF!+#REF!+#REF!+#REF!+#REF!+#REF!+#REF!+#REF!+#REF!+#REF!+#REF!+#REF!+#REF!+#REF!+#REF!+#REF!+#REF!+#REF!+#REF!+#REF!","v":{"$error":"#REF!"}},{"$f":"#REF!+#REF!","v":{"$error":"#REF!"}},{"$f":"#REF!+#REF!+#REF!+#REF!+#REF!+#REF!+#REF!+#REF!+#REF!+#REF!+#REF!+#REF!+#REF!+#REF!+#REF!+#REF!+#REF!+#REF!+#REF!+#REF!+#REF!+#REF!+#REF!+#REF!+#REF!+#REF!+#REF!+#REF!+#REF!+#REF!+#REF!+#REF!+#REF!","v":{"$error":"#REF!"}},{"$f":"#REF!+#REF!+#REF!+#REF!+#REF!+#REF!+#REF!+#REF!+#REF!+#REF!+#REF!+#REF!+#REF!+#REF!+#REF!+#REF!+#REF!+#REF!+#REF!+#REF!+#REF!+#REF!+#REF!+#REF!+#REF!+#REF!+#REF!+#REF!+#REF!+#REF!+#REF!+#REF!+#REF!","v":{"$error":"#REF!"}},{"$f":"#REF!+#REF!+#REF!+#REF!+#REF!+#REF!+#REF!+#REF!+#REF!+#REF!+#REF!+#REF!+#REF!+#REF!+#REF!+#REF!+#REF!+#REF!+#REF!+#REF!+#REF!+#REF!+#REF!+#REF!+#REF!+#REF!+#REF!+#REF!+#REF!+#REF!+#REF!+#REF!+#REF!","v":{"$error":"#REF!"}},{"$f":"#REF!+#REF!+#REF!+#REF!+#REF!+#REF!+#REF!+#REF!+#REF!+#REF!+#REF!+#REF!+#REF!+#REF!+#REF!+#REF!+#REF!+#REF!+#REF!+#REF!+#REF!+#REF!+#REF!+#REF!+#REF!+#REF!+#REF!+#REF!+#REF!+#REF!+#REF!+#REF!+#REF!","v":{"$error":"#REF!"}},{"$f":"#REF!+#REF!+#REF!+#REF!+#REF!+#REF!+#REF!+#REF!+#REF!+#REF!+#REF!+#REF!+#REF!+#REF!+#REF!+#REF!+#REF!+#REF!+#REF!+#REF!+#REF!+#REF!+#REF!+#REF!+#REF!+#REF!+#REF!+#REF!+#REF!+#REF!+#REF!+#REF!+#REF!","v":{"$error":"#REF!"}},{"$f":"#REF!+#REF!+#REF!+#REF!+#REF!+#REF!+#REF!+#REF!+#REF!+#REF!+#REF!+#REF!+#REF!+#REF!+#REF!+#REF!+#REF!+#REF!+#REF!+#REF!+#REF!+#REF!+#REF!+#REF!+#REF!+#REF!+#REF!+#REF!+#REF!+#REF!+#REF!+#REF!+#REF!","v":{"$error":"#REF!"}},{"$f":"#REF!+#REF!+#REF!+#REF!+#REF!+#REF!+#REF!+#REF!+#REF!+#REF!+#REF!+#REF!+#REF!+#REF!+#REF!+#REF!+#REF!+#REF!+#REF!+#REF!+#REF!+#REF!+#REF!+#REF!+#REF!+#REF!+#REF!+#REF!+#REF!+#REF!+#REF!+#REF!+#REF!","v":{"$error":"#REF!"}},{"$f":"#REF!+#REF!+#REF!+#REF!+#REF!+#REF!+#REF!+#REF!+#REF!+#REF!+#REF!+#REF!+#REF!+#REF!+#REF!+#REF!+#REF!+#REF!+#REF!+#REF!+#REF!+#REF!+#REF!+#REF!+#REF!+#REF!+#REF!+#REF!+#REF!+#REF!+#REF!+#REF!+#REF!","v":{"$error":"#REF!"}},{"$f":"#REF!+#REF!+#REF!+#REF!+#REF!+#REF!+#REF!+#REF!+#REF!+#REF!+#REF!+#REF!+#REF!+#REF!+#REF!+#REF!+#REF!+#REF!+#REF!+#REF!+#REF!+#REF!+#REF!+#REF!+#REF!+#REF!+#REF!+#REF!+#REF!+#REF!+#REF!+#REF!+#REF!","v":{"$error":"#REF!"}},{"$f":"#REF!+#REF!+#REF!+#REF!+#REF!+#REF!+#REF!+#REF!+#REF!+#REF!+#REF!+#REF!+#REF!+#REF!+#REF!+#REF!+#REF!+#REF!+#REF!+#REF!+#REF!+#REF!+#REF!+#REF!+#REF!+#REF!+#REF!+#REF!+#REF!+#REF!+#REF!+#REF!+#REF!","v":{"$error":"#REF!"}},{"$f":"#REF!+#REF!+#REF!+#REF!+#REF!+#REF!+#REF!+#REF!+#REF!+#REF!+#REF!+#REF!+#REF!+#REF!+#REF!+#REF!+#REF!+#REF!+#REF!+#REF!+#REF!+#REF!+#REF!+#REF!+#REF!+#REF!+#REF!+#REF!+#REF!+#REF!+#REF!+#REF!+#REF!","v":{"$error":"#REF!"}},{"$f":"#REF!+#REF!+#REF!+#REF!+#REF!+#REF!+#REF!+#REF!+#REF!+#REF!+#REF!+#REF!+#REF!+#REF!+#REF!+#REF!+#REF!+#REF!+#REF!+#REF!+#REF!+#REF!+#REF!+#REF!+#REF!+#REF!+#REF!+#REF!+#REF!+#REF!+#REF!+#REF!+#REF!","v":{"$error":"#REF!"}},{"$f":"'9_Per Pupil Summary'!N23","v":4818},{"$f":"#REF!+#REF!+#REF!+#REF!+#REF!+#REF!+#REF!+#REF!+#REF!+#REF!+#REF!+#REF!+#REF!+#REF!+#REF!+#REF!+#REF!+#REF!+#REF!+#REF!+#REF!+#REF!+#REF!+#REF!+#REF!+#REF!+#REF!+#REF!+#REF!+#REF!+#REF!+#REF!+#REF!","v":{"$error":"#REF!"}},{"$f":"#REF!+#REF!+#REF!+#REF!+#REF!+#REF!+#REF!+#REF!+#REF!+#REF!+#REF!+#REF!+#REF!+#REF!+#REF!+#REF!+#REF!+#REF!+#REF!+#REF!+#REF!+#REF!+#REF!+#REF!+#REF!+#REF!+#REF!+#REF!+#REF!+#REF!+#REF!+#REF!+#REF!","v":{"$error":"#REF!"}},{"$f":"#REF!+#REF!+#REF!+#REF!+#REF!+#REF!+#REF!+#REF!+#REF!+#REF!+#REF!+#REF!+#REF!+#REF!+#REF!+#REF!+#REF!+#REF!+#REF!+#REF!+#REF!+#REF!+#REF!+#REF!+#REF!+#REF!+#REF!+#REF!+#REF!+#REF!+#REF!+#REF!+#REF!","v":{"$error":"#REF!"}},{"$f":"#REF!+#REF!+#REF!+#REF!+#REF!+#REF!+#REF!+#REF!+#REF!+#REF!+#REF!+#REF!+#REF!+#REF!+#REF!+#REF!+#REF!+#REF!+#REF!+#REF!+#REF!+#REF!+#REF!+#REF!+#REF!+#REF!+#REF!+#REF!+#REF!+#REF!+#REF!+#REF!+#REF!","v":{"$error":"#REF!"}},{"$f":"#REF!+#REF!+#REF!+#REF!+#REF!+#REF!+#REF!+#REF!+#REF!+#REF!+#REF!+#REF!+#REF!+#REF!+#REF!+#REF!+#REF!+#REF!+#REF!+#REF!+#REF!+#REF!+#REF!+#REF!+#REF!+#REF!+#REF!+#REF!+#REF!+#REF!+#REF!+#REF!+#REF!","v":{"$error":"#REF!"}},{"$f":"#REF!+#REF!+#REF!+#REF!+#REF!+#REF!+#REF!+#REF!+#REF!+#REF!+#REF!+#REF!+#REF!+#REF!+#REF!+#REF!+#REF!+#REF!+#REF!+#REF!+#REF!+#REF!+#REF!+#REF!+#REF!+#REF!+#REF!+#REF!+#REF!+#REF!+#REF!+#REF!+#REF!","v":{"$error":"#REF!"}},{"$f":"#REF!+#REF!+#REF!+#REF!+#REF!+#REF!+#REF!+#REF!+#REF!+#REF!+#REF!+#REF!+#REF!+#REF!+#REF!+#REF!+#REF!+#REF!+#REF!+#REF!+#REF!+#REF!+#REF!+#REF!+#REF!+#REF!+#REF!+#REF!+#REF!+#REF!+#REF!+#REF!+#REF!","v":{"$error":"#REF!"}},{"$f":"#REF!+#REF!+#REF!+#REF!+#REF!+#REF!+#REF!+#REF!+#REF!+#REF!+#REF!+#REF!+#REF!+#REF!+#REF!+#REF!+#REF!+#REF!+#REF!+#REF!+#REF!+#REF!+#REF!+#REF!+#REF!+#REF!+#REF!+#REF!+#REF!+#REF!+#REF!+#REF!+#REF!","v":{"$error":"#REF!"}},{"$f":"#REF!+#REF!+#REF!+#REF!+#REF!+#REF!+#REF!+#REF!+#REF!+#REF!+#REF!+#REF!+#REF!+#REF!+#REF!+#REF!+#REF!+#REF!+#REF!+#REF!+#REF!+#REF!+#REF!+#REF!+#REF!+#REF!+#REF!+#REF!+#REF!+#REF!+#REF!+#REF!+#REF!","v":{"$error":"#REF!"}},{"$f":"#REF!+#REF!+#REF!+#REF!+#REF!+#REF!+#REF!+#REF!+#REF!+#REF!+#REF!+#REF!+#REF!+#REF!+#REF!+#REF!+#REF!+#REF!+#REF!+#REF!+#REF!+#REF!+#REF!+#REF!+#REF!+#REF!+#REF!+#REF!+#REF!+#REF!+#REF!+#REF!+#REF!","v":{"$error":"#REF!"}},{"$f":"#REF!+#REF!+#REF!+#REF!+#REF!+#REF!+#REF!+#REF!+#REF!+#REF!+#REF!+#REF!+#REF!+#REF!+#REF!+#REF!+#REF!+#REF!+#REF!+#REF!+#REF!+#REF!+#REF!+#REF!+#REF!+#REF!+#REF!+#REF!+#REF!+#REF!+#REF!+#REF!+#REF!","v":{"$error":"#REF!"}},{"$f":"#REF!+#REF!+#REF!+#REF!+#REF!+#REF!+#REF!+#REF!+#REF!+#REF!+#REF!+#REF!+#REF!+#REF!+#REF!+#REF!+#REF!+#REF!+#REF!+#REF!+#REF!+#REF!+#REF!+#REF!+#REF!+#REF!+#REF!+#REF!+#REF!+#REF!+#REF!+#REF!+#REF!","v":{"$error":"#REF!"}},{"$f":"#REF!+#REF!+#REF!+#REF!+#REF!+#REF!+#REF!+#REF!+#REF!+#REF!+#REF!+#REF!+#REF!+#REF!+#REF!+#REF!+#REF!+#REF!+#REF!+#REF!+#REF!+#REF!+#REF!+#REF!+#REF!+#REF!+#REF!+#REF!+#REF!+#REF!+#REF!+#REF!+#REF!","v":{"$error":"#REF!"}},{"$f":"#REF!+#REF!+#REF!+#REF!+#REF!+#REF!+#REF!+#REF!+#REF!+#REF!+#REF!+#REF!+#REF!+#REF!+#REF!+#REF!+#REF!+#REF!+#REF!+#REF!+#REF!+#REF!+#REF!+#REF!+#REF!+#REF!+#REF!+#REF!+#REF!+#REF!+#REF!+#REF!+#REF!","v":{"$error":"#REF!"}},{"$error":"#REF!"},{"$error":"#REF!"},{"$f":"#REF!+#REF!+#REF!+#REF!+#REF!+#REF!+#REF!+#REF!+#REF!+#REF!+#REF!+#REF!+#REF!+#REF!+#REF!+#REF!+#REF!+#REF!+#REF!+#REF!+#REF!+#REF!+#REF!+#REF!+#REF!+#REF!+#REF!+#REF!+#REF!+#REF!+#REF!+#REF!+#REF!","v":{"$error":"#REF!"}},null,{"$error":"#REF!"}]
[19,"East Feliciana",{"$f":"#REF!+#REF!+#REF!+#REF!+#REF!+#REF!+#REF!+#REF!+#REF!+#REF!+#REF!+#REF!+#REF!+#REF!+#REF!+#REF!+#REF!+#REF!+#REF!+#REF!+#REF!+#REF!+#REF!+#REF!+#REF!+#REF!+#REF!+#REF!+#REF!+#REF!+#REF!+#REF!+#REF!","v":{"$error":"#REF!"}},{"$f":"'9_Per Pupil Summary'!H24","v":3975.851585914641},{"$f":"#REF!+#REF!+#REF!+#REF!+#REF!+#REF!+#REF!+#REF!+#REF!+#REF!+#REF!+#REF!+#REF!+#REF!+#REF!+#REF!+#REF!+#REF!+#REF!+#REF!+#REF!+#REF!+#REF!+#REF!+#REF!+#REF!+#REF!+#REF!+#REF!+#REF!+#REF!+#REF!+#REF!","v":{"$error":"#REF!"}},{"$f":"#REF!+#REF!+#REF!+#REF!+#REF!+#REF!+#REF!+#REF!+#REF!+#REF!+#REF!+#REF!+#REF!+#REF!+#REF!+#REF!+#REF!+#REF!+#REF!+#REF!+#REF!+#REF!+#REF!+#REF!+#REF!+#REF!+#REF!+#REF!+#REF!+#REF!+#REF!+#REF!+#REF!","v":{"$error":"#REF!"}},{"$f":"'9_Per Pupil Summary'!I24","v":507.76188515426247},{"$f":"#REF!+#REF!+#REF!+#REF!+#REF!+#REF!+#REF!+#REF!+#REF!+#REF!+#REF!+#REF!+#REF!+#REF!+#REF!+#REF!+#REF!+#REF!+#REF!+#REF!+#REF!+#REF!+#REF!+#REF!+#REF!+#REF!+#REF!+#REF!+#REF!+#REF!+#REF!+#REF!+#REF!","v":{"$error":"#REF!"}},{"$f":"#REF!+#REF!+#REF!+#REF!+#REF!+#REF!+#REF!+#REF!+#REF!+#REF!+#REF!+#REF!+#REF!+#REF!+#REF!+#REF!+#REF!+#REF!+#REF!+#REF!+#REF!+#REF!+#REF!+#REF!+#REF!+#REF!+#REF!+#REF!+#REF!+#REF!+#REF!+#REF!+#REF!","v":{"$error":"#REF!"}},{"$f":"'9_Per Pupil Summary'!J24","v":138.48051413298066},{"$f":"#REF!+#REF!+#REF!+#REF!+#REF!+#REF!+#REF!+#REF!+#REF!+#REF!+#REF!+#REF!+#REF!+#REF!+#REF!+#REF!+#REF!+#REF!+#REF!+#REF!+#REF!+#REF!+#REF!+#REF!+#REF!+#REF!+#REF!+#REF!+#REF!+#REF!+#REF!+#REF!+#REF!","v":{"$error":"#REF!"}},{"$f":"#REF!+#REF!+#REF!+#REF!+#REF!+#REF!+#REF!+#REF!+#REF!+#REF!+#REF!+#REF!+#REF!+#REF!+#REF!+#REF!+#REF!+#REF!+#REF!+#REF!+#REF!+#REF!+#REF!+#REF!+#REF!+#REF!+#REF!+#REF!+#REF!+#REF!+#REF!+#REF!+#REF!","v":{"$error":"#REF!"}},{"$f":"'9_Per Pupil Summary'!K24","v":3462.0128533245161},{"$f":"#REF!+#REF!+#REF!+#REF!+#REF!+#REF!+#REF!+#REF!+#REF!+#REF!+#REF!+#REF!+#REF!+#REF!+#REF!+#REF!+#REF!+#REF!+#REF!+#REF!+#REF!+#REF!+#REF!+#REF!+#REF!+#REF!+#REF!+#REF!+#REF!+#REF!+#REF!+#REF!+#REF!","v":{"$error":"#REF!"}},{"$f":"#REF!+#REF!+#REF!+#REF!+#REF!+#REF!+#REF!+#REF!+#REF!+#REF!+#REF!+#REF!+#REF!+#REF!+#REF!+#REF!+#REF!+#REF!+#REF!+#REF!+#REF!+#REF!+#REF!+#REF!+#REF!+#REF!+#REF!+#REF!+#REF!+#REF!+#REF!+#REF!+#REF!","v":{"$error":"#REF!"}},{"$f":"'9_Per Pupil Summary'!L24","v":1384.8051413298065},{"$f":"#REF!+#REF!+#REF!+#REF!+#REF!+#REF!+#REF!+#REF!+#REF!+#REF!+#REF!+#REF!+#REF!+#REF!+#REF!+#REF!+#REF!+#REF!+#REF!+#REF!+#REF!+#REF!+#REF!+#REF!+#REF!+#REF!+#REF!+#REF!+#REF!+#REF!+#REF!+#REF!+#REF!","v":{"$error":"#REF!"}},{"$f":"#REF!+#REF!+#REF!+#REF!+#REF!+#REF!+#REF!+#REF!+#REF!+#REF!+#REF!+#REF!+#REF!+#REF!+#REF!+#REF!+#REF!+#REF!+#REF!+#REF!+#REF!+#REF!+#REF!+#REF!+#REF!+#REF!+#REF!+#REF!+#REF!+#REF!+#REF!+#REF!+#REF!","v":{"$error":"#REF!"}},{"$f":"#REF!+#REF!","v":{"$error":"#REF!"}},{"$f":"#REF!+#REF!+#REF!+#REF!+#REF!+#REF!+#REF!+#REF!+#REF!+#REF!+#REF!+#REF!+#REF!+#REF!+#REF!+#REF!+#REF!+#REF!+#REF!+#REF!+#REF!+#REF!+#REF!+#REF!+#REF!+#REF!+#REF!+#REF!+#REF!+#REF!+#REF!+#REF!+#REF!","v":{"$error":"#REF!"}},{"$f":"#REF!+#REF!+#REF!+#REF!+#REF!+#REF!+#REF!+#REF!+#REF!+#REF!+#REF!+#REF!+#REF!+#REF!+#REF!+#REF!+#REF!+#REF!+#REF!+#REF!+#REF!+#REF!+#REF!+#REF!+#REF!+#REF!+#REF!+#REF!+#REF!+#REF!+#REF!+#REF!+#REF!","v":{"$error":"#REF!"}},{"$f":"#REF!+#REF!+#REF!+#REF!+#REF!+#REF!+#REF!+#REF!+#REF!+#REF!+#REF!+#REF!+#REF!+#REF!+#REF!+#REF!+#REF!+#REF!+#REF!+#REF!+#REF!+#REF!+#REF!+#REF!+#REF!+#REF!+#REF!+#REF!+#REF!+#REF!+#REF!+#REF!+#REF!","v":{"$error":"#REF!"}},{"$f":"#REF!+#REF!+#REF!+#REF!+#REF!+#REF!+#REF!+#REF!+#REF!+#REF!+#REF!+#REF!+#REF!+#REF!+#REF!+#REF!+#REF!+#REF!+#REF!+#REF!+#REF!+#REF!+#REF!+#REF!+#REF!+#REF!+#REF!+#REF!+#REF!+#REF!+#REF!+#REF!+#REF!","v":{"$error":"#REF!"}},{"$f":"#REF!+#REF!+#REF!+#REF!+#REF!+#REF!+#REF!+#REF!+#REF!+#REF!+#REF!+#REF!+#REF!+#REF!+#REF!+#REF!+#REF!+#REF!+#REF!+#REF!+#REF!+#REF!+#REF!+#REF!+#REF!+#REF!+#REF!+#REF!+#REF!+#REF!+#REF!+#REF!+#REF!","v":{"$error":"#REF!"}},{"$f":"#REF!+#REF!+#REF!+#REF!+#REF!+#REF!+#REF!+#REF!+#REF!+#REF!+#REF!+#REF!+#REF!+#REF!+#REF!+#REF!+#REF!+#REF!+#REF!+#REF!+#REF!+#REF!+#REF!+#REF!+#REF!+#REF!+#REF!+#REF!+#REF!+#REF!+#REF!+#REF!+#REF!","v":{"$error":"#REF!"}},{"$f":"#REF!+#REF!+#REF!+#REF!+#REF!+#REF!+#REF!+#REF!+#REF!+#REF!+#REF!+#REF!+#REF!+#REF!+#REF!+#REF!+#REF!+#REF!+#REF!+#REF!+#REF!+#REF!+#REF!+#REF!+#REF!+#REF!+#REF!+#REF!+#REF!+#REF!+#REF!+#REF!+#REF!","v":{"$error":"#REF!"}},{"$f":"#REF!+#REF!+#REF!+#REF!+#REF!+#REF!+#REF!+#REF!+#REF!+#REF!+#REF!+#REF!+#REF!+#REF!+#REF!+#REF!+#REF!+#REF!+#REF!+#REF!+#REF!+#REF!+#REF!+#REF!+#REF!+#REF!+#REF!+#REF!+#REF!+#REF!+#REF!+#REF!+#REF!","v":{"$error":"#REF!"}},{"$f":"#REF!+#REF!+#REF!+#REF!+#REF!+#REF!+#REF!+#REF!+#REF!+#REF!+#REF!+#REF!+#REF!+#REF!+#REF!+#REF!+#REF!+#REF!+#REF!+#REF!+#REF!+#REF!+#REF!+#REF!+#REF!+#REF!+#REF!+#REF!+#REF!+#REF!+#REF!+#REF!+#REF!","v":{"$error":"#REF!"}},{"$f":"#REF!+#REF!+#REF!+#REF!+#REF!+#REF!+#REF!+#REF!+#REF!+#REF!+#REF!+#REF!+#REF!+#REF!+#REF!+#REF!+#REF!+#REF!+#REF!+#REF!+#REF!+#REF!+#REF!+#REF!+#REF!+#REF!+#REF!+#REF!+#REF!+#REF!+#REF!+#REF!+#REF!","v":{"$error":"#REF!"}},{"$f":"#REF!+#REF!+#REF!+#REF!+#REF!+#REF!+#REF!+#REF!+#REF!+#REF!+#REF!+#REF!+#REF!+#REF!+#REF!+#REF!+#REF!+#REF!+#REF!+#REF!+#REF!+#REF!+#REF!+#REF!+#REF!+#REF!+#REF!+#REF!+#REF!+#REF!+#REF!+#REF!+#REF!","v":{"$error":"#REF!"}},{"$f":"#REF!+#REF!+#REF!+#REF!+#REF!+#REF!+#REF!+#REF!+#REF!+#REF!+#REF!+#REF!+#REF!+#REF!+#REF!+#REF!+#REF!+#REF!+#REF!+#REF!+#REF!+#REF!+#REF!+#REF!+#REF!+#REF!+#REF!+#REF!+#REF!+#REF!+#REF!+#REF!+#REF!","v":{"$error":"#REF!"}},{"$f":"'9_Per Pupil Summary'!N24","v":7624},{"$f":"#REF!+#REF!+#REF!+#REF!+#REF!+#REF!+#REF!+#REF!+#REF!+#REF!+#REF!+#REF!+#REF!+#REF!+#REF!+#REF!+#REF!+#REF!+#REF!+#REF!+#REF!+#REF!+#REF!+#REF!+#REF!+#REF!+#REF!+#REF!+#REF!+#REF!+#REF!+#REF!+#REF!","v":{"$error":"#REF!"}},{"$f":"#REF!+#REF!+#REF!+#REF!+#REF!+#REF!+#REF!+#REF!+#REF!+#REF!+#REF!+#REF!+#REF!+#REF!+#REF!+#REF!+#REF!+#REF!+#REF!+#REF!+#REF!+#REF!+#REF!+#REF!+#REF!+#REF!+#REF!+#REF!+#REF!+#REF!+#REF!+#REF!+#REF!","v":{"$error":"#REF!"}},{"$f":"#REF!+#REF!+#REF!+#REF!+#REF!+#REF!+#REF!+#REF!+#REF!+#REF!+#REF!+#REF!+#REF!+#REF!+#REF!+#REF!+#REF!+#REF!+#REF!+#REF!+#REF!+#REF!+#REF!+#REF!+#REF!+#REF!+#REF!+#REF!+#REF!+#REF!+#REF!+#REF!+#REF!","v":{"$error":"#REF!"}},{"$f":"#REF!+#REF!+#REF!+#REF!+#REF!+#REF!+#REF!+#REF!+#REF!+#REF!+#REF!+#REF!+#REF!+#REF!+#REF!+#REF!+#REF!+#REF!+#REF!+#REF!+#REF!+#REF!+#REF!+#REF!+#REF!+#REF!+#REF!+#REF!+#REF!+#REF!+#REF!+#REF!+#REF!","v":{"$error":"#REF!"}},{"$f":"#REF!+#REF!+#REF!+#REF!+#REF!+#REF!+#REF!+#REF!+#REF!+#REF!+#REF!+#REF!+#REF!+#REF!+#REF!+#REF!+#REF!+#REF!+#REF!+#REF!+#REF!+#REF!+#REF!+#REF!+#REF!+#REF!+#REF!+#REF!+#REF!+#REF!+#REF!+#REF!+#REF!","v":{"$error":"#REF!"}},{"$f":"#REF!+#REF!+#REF!+#REF!+#REF!+#REF!+#REF!+#REF!+#REF!+#REF!+#REF!+#REF!+#REF!+#REF!+#REF!+#REF!+#REF!+#REF!+#REF!+#REF!+#REF!+#REF!+#REF!+#REF!+#REF!+#REF!+#REF!+#REF!+#REF!+#REF!+#REF!+#REF!+#REF!","v":{"$error":"#REF!"}},{"$f":"#REF!+#REF!+#REF!+#REF!+#REF!+#REF!+#REF!+#REF!+#REF!+#REF!+#REF!+#REF!+#REF!+#REF!+#REF!+#REF!+#REF!+#REF!+#REF!+#REF!+#REF!+#REF!+#REF!+#REF!+#REF!+#REF!+#REF!+#REF!+#REF!+#REF!+#REF!+#REF!+#REF!","v":{"$error":"#REF!"}},{"$f":"#REF!+#REF!+#REF!+#REF!+#REF!+#REF!+#REF!+#REF!+#REF!+#REF!+#REF!+#REF!+#REF!+#REF!+#REF!+#REF!+#REF!+#REF!+#REF!+#REF!+#REF!+#REF!+#REF!+#REF!+#REF!+#REF!+#REF!+#REF!+#REF!+#REF!+#REF!+#REF!+#REF!","v":{"$error":"#REF!"}},{"$f":"#REF!+#REF!+#REF!+#REF!+#REF!+#REF!+#REF!+#REF!+#REF!+#REF!+#REF!+#REF!+#REF!+#REF!+#REF!+#REF!+#REF!+#REF!+#REF!+#REF!+#REF!+#REF!+#REF!+#REF!+#REF!+#REF!+#REF!+#REF!+#REF!+#REF!+#REF!+#REF!+#REF!","v":{"$error":"#REF!"}},{"$f":"#REF!+#REF!+#REF!+#REF!+#REF!+#REF!+#REF!+#REF!+#REF!+#REF!+#REF!+#REF!+#REF!+#REF!+#REF!+#REF!+#REF!+#REF!+#REF!+#REF!+#REF!+#REF!+#REF!+#REF!+#REF!+#REF!+#REF!+#REF!+#REF!+#REF!+#REF!+#REF!+#REF!","v":{"$error":"#REF!"}},{"$f":"#REF!+#REF!+#REF!+#REF!+#REF!+#REF!+#REF!+#REF!+#REF!+#REF!+#REF!+#REF!+#REF!+#REF!+#REF!+#REF!+#REF!+#REF!+#REF!+#REF!+#REF!+#REF!+#REF!+#REF!+#REF!+#REF!+#REF!+#REF!+#REF!+#REF!+#REF!+#REF!+#REF!","v":{"$error":"#REF!"}},{"$f":"#REF!+#REF!+#REF!+#REF!+#REF!+#REF!+#REF!+#REF!+#REF!+#REF!+#REF!+#REF!+#REF!+#REF!+#REF!+#REF!+#REF!+#REF!+#REF!+#REF!+#REF!+#REF!+#REF!+#REF!+#REF!+#REF!+#REF!+#REF!+#REF!+#REF!+#REF!+#REF!+#REF!","v":{"$error":"#REF!"}},{"$f":"#REF!+#REF!+#REF!+#REF!+#REF!+#REF!+#REF!+#REF!+#REF!+#REF!+#REF!+#REF!+#REF!+#REF!+#REF!+#REF!+#REF!+#REF!+#REF!+#REF!+#REF!+#REF!+#REF!+#REF!+#REF!+#REF!+#REF!+#REF!+#REF!+#REF!+#REF!+#REF!+#REF!","v":{"$error":"#REF!"}},{"$f":"#REF!+#REF!+#REF!+#REF!+#REF!+#REF!+#REF!+#REF!+#REF!+#REF!+#REF!+#REF!+#REF!+#REF!+#REF!+#REF!+#REF!+#REF!+#REF!+#REF!+#REF!+#REF!+#REF!+#REF!+#REF!+#REF!+#REF!+#REF!+#REF!+#REF!+#REF!+#REF!+#REF!","v":{"$error":"#REF!"}},{"$error":"#REF!"},{"$error":"#REF!"},{"$f":"#REF!+#REF!+#REF!+#REF!+#REF!+#REF!+#REF!+#REF!+#REF!+#REF!+#REF!+#REF!+#REF!+#REF!+#REF!+#REF!+#REF!+#REF!+#REF!+#REF!+#REF!+#REF!+#REF!+#REF!+#REF!+#REF!+#REF!+#REF!+#REF!+#REF!+#REF!+#REF!+#REF!","v":{"$error":"#REF!"}},null,{"$error":"#REF!"}]
[20,"Evangeline",{"$f":"#REF!+#REF!+#REF!+#REF!+#REF!+#REF!+#REF!+#REF!+#REF!+#REF!+#REF!+#REF!+#REF!+#REF!+#REF!+#REF!+#REF!+#REF!+#REF!+#REF!+#REF!+#REF!+#REF!+#REF!+#REF!+#REF!+#REF!+#REF!+#REF!+#REF!+#REF!+#REF!+#REF!","v":{"$error":"#REF!"}},{"$f":"'9_Per Pupil Summary'!H25","v":5416.2787684214509},{"$f":"#REF!+#REF!+#REF!+#REF!+#REF!+#REF!+#REF!+#REF!+#REF!+#REF!+#REF!+#REF!+#REF!+#REF!+#REF!+#REF!+#REF!+#REF!+#REF!+#REF!+#REF!+#REF!+#REF!+#REF!+#REF!+#REF!+#REF!+#REF!+#REF!+#REF!+#REF!+#REF!+#REF!","v":{"$error":"#REF!"}},{"$f":"#REF!+#REF!+#REF!+#REF!+#REF!+#REF!+#REF!+#REF!+#REF!+#REF!+#REF!+#REF!+#REF!+#REF!+#REF!+#REF!+#REF!+#REF!+#REF!+#REF!+#REF!+#REF!+#REF!+#REF!+#REF!+#REF!+#REF!+#REF!+#REF!+#REF!+#REF!+#REF!+#REF!","v":{"$error":"#REF!"}},{"$f":"'9_Per Pupil Summary'!I25","v":721.18392905271912},{"$f":"#REF!+#REF!+#REF!+#REF!+#REF!+#REF!+#REF!+#REF!+#REF!+#REF!+#REF!+#REF!+#REF!+#REF!+#REF!+#REF!+#REF!+#REF!+#REF!+#REF!+#REF!+#REF!+#REF!+#REF!+#REF!+#REF!+#REF!+#REF!+#REF!+#REF!+#REF!+#REF!+#REF!","v":{"$error":"#REF!"}},{"$f":"#REF!+#REF!+#REF!+#REF!+#REF!+#REF!+#REF!+#REF!+#REF!+#REF!+#REF!+#REF!+#REF!+#REF!+#REF!+#REF!+#REF!+#REF!+#REF!+#REF!+#REF!+#REF!+#REF!+#REF!+#REF!+#REF!+#REF!+#REF!+#REF!+#REF!+#REF!+#REF!+#REF!","v":{"$error":"#REF!"}},{"$f":"'9_Per Pupil Summary'!J25","v":196.68652610528702},{"$f":"#REF!+#REF!+#REF!+#REF!+#REF!+#REF!+#REF!+#REF!+#REF!+#REF!+#REF!+#REF!+#REF!+#REF!+#REF!+#REF!+#REF!+#REF!+#REF!+#REF!+#REF!+#REF!+#REF!+#REF!+#REF!+#REF!+#REF!+#REF!+#REF!+#REF!+#REF!+#REF!+#REF!","v":{"$error":"#REF!"}},{"$f":"#REF!+#REF!+#REF!+#REF!+#REF!+#REF!+#REF!+#REF!+#REF!+#REF!+#REF!+#REF!+#REF!+#REF!+#REF!+#REF!+#REF!+#REF!+#REF!+#REF!+#REF!+#REF!+#REF!+#REF!+#REF!+#REF!+#REF!+#REF!+#REF!+#REF!+#REF!+#REF!+#REF!","v":{"$error":"#REF!"}},{"$f":"'9_Per Pupil Summary'!K25","v":4917.1631526321762},{"$f":"#REF!+#REF!+#REF!+#REF!+#REF!+#REF!+#REF!+#REF!+#REF!+#REF!+#REF!+#REF!+#REF!+#REF!+#REF!+#REF!+#REF!+#REF!+#REF!+#REF!+#REF!+#REF!+#REF!+#REF!+#REF!+#REF!+#REF!+#REF!+#REF!+#REF!+#REF!+#REF!+#REF!","v":{"$error":"#REF!"}},{"$f":"#REF!+#REF!+#REF!+#REF!+#REF!+#REF!+#REF!+#REF!+#REF!+#REF!+#REF!+#REF!+#REF!+#REF!+#REF!+#REF!+#REF!+#REF!+#REF!+#REF!+#REF!+#REF!+#REF!+#REF!+#REF!+#REF!+#REF!+#REF!+#REF!+#REF!+#REF!+#REF!+#REF!","v":{"$error":"#REF!"}},{"$f":"'9_Per Pupil Summary'!L25","v":1966.8652610528702},{"$f":"#REF!+#REF!+#REF!+#REF!+#REF!+#REF!+#REF!+#REF!+#REF!+#REF!+#REF!+#REF!+#REF!+#REF!+#REF!+#REF!+#REF!+#REF!+#REF!+#REF!+#REF!+#REF!+#REF!+#REF!+#REF!+#REF!+#REF!+#REF!+#REF!+#REF!+#REF!+#REF!+#REF!","v":{"$error":"#REF!"}},{"$f":"#REF!+#REF!+#REF!+#REF!+#REF!+#REF!+#REF!+#REF!+#REF!+#REF!+#REF!+#REF!+#REF!+#REF!+#REF!+#REF!+#REF!+#REF!+#REF!+#REF!+#REF!+#REF!+#REF!+#REF!+#REF!+#REF!+#REF!+#REF!+#REF!+#REF!+#REF!+#REF!+#REF!","v":{"$error":"#REF!"}},{"$f":"#REF!+#REF!","v":{"$error":"#REF!"}},{"$f":"#REF!+#REF!+#REF!+#REF!+#REF!+#REF!+#REF!+#REF!+#REF!+#REF!+#REF!+#REF!+#REF!+#REF!+#REF!+#REF!+#REF!+#REF!+#REF!+#REF!+#REF!+#REF!+#REF!+#REF!+#REF!+#REF!+#REF!+#REF!+#REF!+#REF!+#REF!+#REF!+#REF!","v":{"$error":"#REF!"}},{"$f":"#REF!+#REF!+#REF!+#REF!+#REF!+#REF!+#REF!+#REF!+#REF!+#REF!+#REF!+#REF!+#REF!+#REF!+#REF!+#REF!+#REF!+#REF!+#REF!+#REF!+#REF!+#REF!+#REF!+#REF!+#REF!+#REF!+#REF!+#REF!+#REF!+#REF!+#REF!+#REF!+#REF!","v":{"$error":"#REF!"}},{"$f":"#REF!+#REF!+#REF!+#REF!+#REF!+#REF!+#REF!+#REF!+#REF!+#REF!+#REF!+#REF!+#REF!+#REF!+#REF!+#REF!+#REF!+#REF!+#REF!+#REF!+#REF!+#REF!+#REF!+#REF!+#REF!+#REF!+#REF!+#REF!+#REF!+#REF!+#REF!+#REF!+#REF!","v":{"$error":"#REF!"}},{"$f":"#REF!+#REF!+#REF!+#REF!+#REF!+#REF!+#REF!+#REF!+#REF!+#REF!+#REF!+#REF!+#REF!+#REF!+#REF!+#REF!+#REF!+#REF!+#REF!+#REF!+#REF!+#REF!+#REF!+#REF!+#REF!+#REF!+#REF!+#REF!+#REF!+#REF!+#REF!+#REF!+#REF!","v":{"$error":"#REF!"}},{"$f":"#REF!+#REF!+#REF!+#REF!+#REF!+#REF!+#REF!+#REF!+#REF!+#REF!+#REF!+#REF!+#REF!+#REF!+#REF!+#REF!+#REF!+#REF!+#REF!+#REF!+#REF!+#REF!+#REF!+#REF!+#REF!+#REF!+#REF!+#REF!+#REF!+#REF!+#REF!+#REF!+#REF!","v":{"$error":"#REF!"}},{"$f":"#REF!+#REF!+#REF!+#REF!+#REF!+#REF!+#REF!+#REF!+#REF!+#REF!+#REF!+#REF!+#REF!+#REF!+#REF!+#REF!+#REF!+#REF!+#REF!+#REF!+#REF!+#REF!+#REF!+#REF!+#REF!+#REF!+#REF!+#REF!+#REF!+#REF!+#REF!+#REF!+#REF!","v":{"$error":"#REF!"}},{"$f":"#REF!+#REF!+#REF!+#REF!+#REF!+#REF!+#REF!+#REF!+#REF!+#REF!+#REF!+#REF!+#REF!+#REF!+#REF!+#REF!+#REF!+#REF!+#REF!+#REF!+#REF!+#REF!+#REF!+#REF!+#REF!+#REF!+#REF!+#REF!+#REF!+#REF!+#REF!+#REF!+#REF!","v":{"$error":"#REF!"}},{"$f":"#REF!+#REF!+#REF!+#REF!+#REF!+#REF!+#REF!+#REF!+#REF!+#REF!+#REF!+#REF!+#REF!+#REF!+#REF!+#REF!+#REF!+#REF!+#REF!+#REF!+#REF!+#REF!+#REF!+#REF!+#REF!+#REF!+#REF!+#REF!+#REF!+#REF!+#REF!+#REF!+#REF!","v":{"$error":"#REF!"}},{"$f":"#REF!+#REF!+#REF!+#REF!+#REF!+#REF!+#REF!+#REF!+#REF!+#REF!+#REF!+#REF!+#REF!+#REF!+#REF!+#REF!+#REF!+#REF!+#REF!+#REF!+#REF!+#REF!+#REF!+#REF!+#REF!+#REF!+#REF!+#REF!+#REF!+#REF!+#REF!+#REF!+#REF!","v":{"$error":"#REF!"}},{"$f":"#REF!+#REF!+#REF!+#REF!+#REF!+#REF!+#REF!+#REF!+#REF!+#REF!+#REF!+#REF!+#REF!+#REF!+#REF!+#REF!+#REF!+#REF!+#REF!+#REF!+#REF!+#REF!+#REF!+#REF!+#REF!+#REF!+#REF!+#REF!+#REF!+#REF!+#REF!+#REF!+#REF!","v":{"$error":"#REF!"}},{"$f":"#REF!+#REF!+#REF!+#REF!+#REF!+#REF!+#REF!+#REF!+#REF!+#REF!+#REF!+#REF!+#REF!+#REF!+#REF!+#REF!+#REF!+#REF!+#REF!+#REF!+#REF!+#REF!+#REF!+#REF!+#REF!+#REF!+#REF!+#REF!+#REF!+#REF!+#REF!+#REF!+#REF!","v":{"$error":"#REF!"}},{"$f":"#REF!+#REF!+#REF!+#REF!+#REF!+#REF!+#REF!+#REF!+#REF!+#REF!+#REF!+#REF!+#REF!+#REF!+#REF!+#REF!+#REF!+#REF!+#REF!+#REF!+#REF!+#REF!+#REF!+#REF!+#REF!+#REF!+#REF!+#REF!+#REF!+#REF!+#REF!+#REF!+#REF!","v":{"$error":"#REF!"}},{"$f":"'9_Per Pupil Summary'!N25","v":3515},{"$f":"#REF!+#REF!+#REF!+#REF!+#REF!+#REF!+#REF!+#REF!+#REF!+#REF!+#REF!+#REF!+#REF!+#REF!+#REF!+#REF!+#REF!+#REF!+#REF!+#REF!+#REF!+#REF!+#REF!+#REF!+#REF!+#REF!+#REF!+#REF!+#REF!+#REF!+#REF!+#REF!+#REF!","v":{"$error":"#REF!"}},{"$f":"#REF!+#REF!+#REF!+#REF!+#REF!+#REF!+#REF!+#REF!+#REF!+#REF!+#REF!+#REF!+#REF!+#REF!+#REF!+#REF!+#REF!+#REF!+#REF!+#REF!+#REF!+#REF!+#REF!+#REF!+#REF!+#REF!+#REF!+#REF!+#REF!+#REF!+#REF!+#REF!+#REF!","v":{"$error":"#REF!"}},{"$f":"#REF!+#REF!+#REF!+#REF!+#REF!+#REF!+#REF!+#REF!+#REF!+#REF!+#REF!+#REF!+#REF!+#REF!+#REF!+#REF!+#REF!+#REF!+#REF!+#REF!+#REF!+#REF!+#REF!+#REF!+#REF!+#REF!+#REF!+#REF!+#REF!+#REF!+#REF!+#REF!+#REF!","v":{"$error":"#REF!"}},{"$f":"#REF!+#REF!+#REF!+#REF!+#REF!+#REF!+#REF!+#REF!+#REF!+#REF!+#REF!+#REF!+#REF!+#REF!+#REF!+#REF!+#REF!+#REF!+#REF!+#REF!+#REF!+#REF!+#REF!+#REF!+#REF!+#REF!+#REF!+#REF!+#REF!+#REF!+#REF!+#REF!+#REF!","v":{"$error":"#REF!"}},{"$f":"#REF!+#REF!+#REF!+#REF!+#REF!+#REF!+#REF!+#REF!+#REF!+#REF!+#REF!+#REF!+#REF!+#REF!+#REF!+#REF!+#REF!+#REF!+#REF!+#REF!+#REF!+#REF!+#REF!+#REF!+#REF!+#REF!+#REF!+#REF!+#REF!+#REF!+#REF!+#REF!+#REF!","v":{"$error":"#REF!"}},{"$f":"#REF!+#REF!+#REF!+#REF!+#REF!+#REF!+#REF!+#REF!+#REF!+#REF!+#REF!+#REF!+#REF!+#REF!+#REF!+#REF!+#REF!+#REF!+#REF!+#REF!+#REF!+#REF!+#REF!+#REF!+#REF!+#REF!+#REF!+#REF!+#REF!+#REF!+#REF!+#REF!+#REF!","v":{"$error":"#REF!"}},{"$f":"#REF!+#REF!+#REF!+#REF!+#REF!+#REF!+#REF!+#REF!+#REF!+#REF!+#REF!+#REF!+#REF!+#REF!+#REF!+#REF!+#REF!+#REF!+#REF!+#REF!+#REF!+#REF!+#REF!+#REF!+#REF!+#REF!+#REF!+#REF!+#REF!+#REF!+#REF!+#REF!+#REF!","v":{"$error":"#REF!"}},{"$f":"#REF!+#REF!+#REF!+#REF!+#REF!+#REF!+#REF!+#REF!+#REF!+#REF!+#REF!+#REF!+#REF!+#REF!+#REF!+#REF!+#REF!+#REF!+#REF!+#REF!+#REF!+#REF!+#REF!+#REF!+#REF!+#REF!+#REF!+#REF!+#REF!+#REF!+#REF!+#REF!+#REF!","v":{"$error":"#REF!"}},{"$f":"#REF!+#REF!+#REF!+#REF!+#REF!+#REF!+#REF!+#REF!+#REF!+#REF!+#REF!+#REF!+#REF!+#REF!+#REF!+#REF!+#REF!+#REF!+#REF!+#REF!+#REF!+#REF!+#REF!+#REF!+#REF!+#REF!+#REF!+#REF!+#REF!+#REF!+#REF!+#REF!+#REF!","v":{"$error":"#REF!"}},{"$f":"#REF!+#REF!+#REF!+#REF!+#REF!+#REF!+#REF!+#REF!+#REF!+#REF!+#REF!+#REF!+#REF!+#REF!+#REF!+#REF!+#REF!+#REF!+#REF!+#REF!+#REF!+#REF!+#REF!+#REF!+#REF!+#REF!+#REF!+#REF!+#REF!+#REF!+#REF!+#REF!+#REF!","v":{"$error":"#REF!"}},{"$f":"#REF!+#REF!+#REF!+#REF!+#REF!+#REF!+#REF!+#REF!+#REF!+#REF!+#REF!+#REF!+#REF!+#REF!+#REF!+#REF!+#REF!+#REF!+#REF!+#REF!+#REF!+#REF!+#REF!+#REF!+#REF!+#REF!+#REF!+#REF!+#REF!+#REF!+#REF!+#REF!+#REF!","v":{"$error":"#REF!"}},{"$f":"#REF!+#REF!+#REF!+#REF!+#REF!+#REF!+#REF!+#REF!+#REF!+#REF!+#REF!+#REF!+#REF!+#REF!+#REF!+#REF!+#REF!+#REF!+#REF!+#REF!+#REF!+#REF!+#REF!+#REF!+#REF!+#REF!+#REF!+#REF!+#REF!+#REF!+#REF!+#REF!+#REF!","v":{"$error":"#REF!"}},{"$f":"#REF!+#REF!+#REF!+#REF!+#REF!+#REF!+#REF!+#REF!+#REF!+#REF!+#REF!+#REF!+#REF!+#REF!+#REF!+#REF!+#REF!+#REF!+#REF!+#REF!+#REF!+#REF!+#REF!+#REF!+#REF!+#REF!+#REF!+#REF!+#REF!+#REF!+#REF!+#REF!+#REF!","v":{"$error":"#REF!"}},{"$f":"#REF!+#REF!+#REF!+#REF!+#REF!+#REF!+#REF!+#REF!+#REF!+#REF!+#REF!+#REF!+#REF!+#REF!+#REF!+#REF!+#REF!+#REF!+#REF!+#REF!+#REF!+#REF!+#REF!+#REF!+#REF!+#REF!+#REF!+#REF!+#REF!+#REF!+#REF!+#REF!+#REF!","v":{"$error":"#REF!"}},{"$error":"#REF!"},{"$error":"#REF!"},{"$f":"#REF!+#REF!+#REF!+#REF!+#REF!+#REF!+#REF!+#REF!+#REF!+#REF!+#REF!+#REF!+#REF!+#REF!+#REF!+#REF!+#REF!+#REF!+#REF!+#REF!+#REF!+#REF!+#REF!+#REF!+#REF!+#REF!+#REF!+#REF!+#REF!+#REF!+#REF!+#REF!+#REF!","v":{"$error":"#REF!"}},null,{"$error":"#REF!"}]
[21,"Franklin",{"$f":"#REF!+#REF!+#REF!+#REF!+#REF!+#REF!+#REF!+#REF!+#REF!+#REF!+#REF!+#REF!+#REF!+#REF!+#REF!+#REF!+#REF!+#REF!+#REF!+#REF!+#REF!+#REF!+#REF!+#REF!+#REF!+#REF!+#REF!+#REF!+#REF!+#REF!+#REF!+#REF!+#REF!","v":{"$error":"#REF!"}},{"$f":"'9_Per Pupil Summary'!H26","v":5450.8459117612138},{"$f":"#REF!+#REF!+#REF!+#REF!+#REF!+#REF!+#REF!+#REF!+#REF!+#REF!+#REF!+#REF!+#REF!+#REF!+#REF!+#REF!+#REF!+#REF!+#REF!+#REF!+#REF!+#REF!+#REF!+#REF!+#REF!+#REF!+#REF!+#REF!+#REF!+#REF!+#REF!+#REF!+#REF!","v":{"$error":"#REF!"}},{"$f":"#REF!+#REF!+#REF!+#REF!+#REF!+#REF!+#REF!+#REF!+#REF!+#REF!+#REF!+#REF!+#REF!+#REF!+#REF!+#REF!+#REF!+#REF!+#REF!+#REF!+#REF!+#REF!+#REF!+#REF!+#REF!+#REF!+#REF!+#REF!+#REF!+#REF!+#REF!+#REF!+#REF!","v":{"$error":"#REF!"}},{"$f":"'9_Per Pupil Summary'!I26","v":705.9983026935829},{"$f":"#REF!+#REF!+#REF!+#REF!+#REF!+#REF!+#REF!+#REF!+#REF!+#REF!+#REF!+#REF!+#REF!+#REF!+#REF!+#REF!+#REF!+#REF!+#REF!+#REF!+#REF!+#REF!+#REF!+#REF!+#REF!+#REF!+#REF!+#REF!+#REF!+#REF!+#REF!+#REF!+#REF!","v":{"$error":"#REF!"}},{"$f":"#REF!+#REF!+#REF!+#REF!+#REF!+#REF!+#REF!+#REF!+#REF!+#REF!+#REF!+#REF!+#REF!+#REF!+#REF!+#REF!+#REF!+#REF!+#REF!+#REF!+#REF!+#REF!+#REF!+#REF!+#REF!+#REF!+#REF!+#REF!+#REF!+#REF!+#REF!+#REF!+#REF!","v":{"$error":"#REF!"}},{"$f":"'9_Per Pupil Summary'!J26","v":192.54499164370444},{"$f":"#REF!+#REF!+#REF!+#REF!+#REF!+#REF!+#REF!+#REF!+#REF!+#REF!+#REF!+#REF!+#REF!+#REF!+#REF!+#REF!+#REF!+#REF!+#REF!+#REF!+#REF!+#REF!+#REF!+#REF!+#REF!+#REF!+#REF!+#REF!+#REF!+#REF!+#REF!+#REF!+#REF!","v":{"$error":"#REF!"}},{"$f":"#REF!+#REF!+#REF!+#REF!+#REF!+#REF!+#REF!+#REF!+#REF!+#REF!+#REF!+#REF!+#REF!+#REF!+#REF!+#REF!+#REF!+#REF!+#REF!+#REF!+#REF!+#REF!+#REF!+#REF!+#REF!+#REF!+#REF!+#REF!+#REF!+#REF!+#REF!+#REF!+#REF!","v":{"$error":"#REF!"}},{"$f":"'9_Per Pupil Summary'!K26","v":4813.6247910926104},{"$f":"#REF!+#REF!+#REF!+#REF!+#REF!+#REF!+#REF!+#REF!+#REF!+#REF!+#REF!+#REF!+#REF!+#REF!+#REF!+#REF!+#REF!+#REF!+#REF!+#REF!+#REF!+#REF!+#REF!+#REF!+#REF!+#REF!+#REF!+#REF!+#REF!+#REF!+#REF!+#REF!+#REF!","v":{"$error":"#REF!"}},{"$f":"#REF!+#REF!+#REF!+#REF!+#REF!+#REF!+#REF!+#REF!+#REF!+#REF!+#REF!+#REF!+#REF!+#REF!+#REF!+#REF!+#REF!+#REF!+#REF!+#REF!+#REF!+#REF!+#REF!+#REF!+#REF!+#REF!+#REF!+#REF!+#REF!+#REF!+#REF!+#REF!+#REF!","v":{"$error":"#REF!"}},{"$f":"'9_Per Pupil Summary'!L26","v":1925.4499164370441},{"$f":"#REF!+#REF!+#REF!+#REF!+#REF!+#REF!+#REF!+#REF!+#REF!+#REF!+#REF!+#REF!+#REF!+#REF!+#REF!+#REF!+#REF!+#REF!+#REF!+#REF!+#REF!+#REF!+#REF!+#REF!+#REF!+#REF!+#REF!+#REF!+#REF!+#REF!+#REF!+#REF!+#REF!","v":{"$error":"#REF!"}},{"$f":"#REF!+#REF!+#REF!+#REF!+#REF!+#REF!+#REF!+#REF!+#REF!+#REF!+#REF!+#REF!+#REF!+#REF!+#REF!+#REF!+#REF!+#REF!+#REF!+#REF!+#REF!+#REF!+#REF!+#REF!+#REF!+#REF!+#REF!+#REF!+#REF!+#REF!+#REF!+#REF!+#REF!","v":{"$error":"#REF!"}},{"$f":"#REF!+#REF!","v":{"$error":"#REF!"}},{"$f":"#REF!+#REF!+#REF!+#REF!+#REF!+#REF!+#REF!+#REF!+#REF!+#REF!+#REF!+#REF!+#REF!+#REF!+#REF!+#REF!+#REF!+#REF!+#REF!+#REF!+#REF!+#REF!+#REF!+#REF!+#REF!+#REF!+#REF!+#REF!+#REF!+#REF!+#REF!+#REF!+#REF!","v":{"$error":"#REF!"}},{"$f":"#REF!+#REF!+#REF!+#REF!+#REF!+#REF!+#REF!+#REF!+#REF!+#REF!+#REF!+#REF!+#REF!+#REF!+#REF!+#REF!+#REF!+#REF!+#REF!+#REF!+#REF!+#REF!+#REF!+#REF!+#REF!+#REF!+#REF!+#REF!+#REF!+#REF!+#REF!+#REF!+#REF!","v":{"$error":"#REF!"}},{"$f":"#REF!+#REF!+#REF!+#REF!+#REF!+#REF!+#REF!+#REF!+#REF!+#REF!+#REF!+#REF!+#REF!+#REF!+#REF!+#REF!+#REF!+#REF!+#REF!+#REF!+#REF!+#REF!+#REF!+#REF!+#REF!+#REF!+#REF!+#REF!+#REF!+#REF!+#REF!+#REF!+#REF!","v":{"$error":"#REF!"}},{"$f":"#REF!+#REF!+#REF!+#REF!+#REF!+#REF!+#REF!+#REF!+#REF!+#REF!+#REF!+#REF!+#REF!+#REF!+#REF!+#REF!+#REF!+#REF!+#REF!+#REF!+#REF!+#REF!+#REF!+#REF!+#REF!+#REF!+#REF!+#REF!+#REF!+#REF!+#REF!+#REF!+#REF!","v":{"$error":"#REF!"}},{"$f":"#REF!+#REF!+#REF!+#REF!+#REF!+#REF!+#REF!+#REF!+#REF!+#REF!+#REF!+#REF!+#REF!+#REF!+#REF!+#REF!+#REF!+#REF!+#REF!+#REF!+#REF!+#REF!+#REF!+#REF!+#REF!+#REF!+#REF!+#REF!+#REF!+#REF!+#REF!+#REF!+#REF!","v":{"$error":"#REF!"}},{"$f":"#REF!+#REF!+#REF!+#REF!+#REF!+#REF!+#REF!+#REF!+#REF!+#REF!+#REF!+#REF!+#REF!+#REF!+#REF!+#REF!+#REF!+#REF!+#REF!+#REF!+#REF!+#REF!+#REF!+#REF!+#REF!+#REF!+#REF!+#REF!+#REF!+#REF!+#REF!+#REF!+#REF!","v":{"$error":"#REF!"}},{"$f":"#REF!+#REF!+#REF!+#REF!+#REF!+#REF!+#REF!+#REF!+#REF!+#REF!+#REF!+#REF!+#REF!+#REF!+#REF!+#REF!+#REF!+#REF!+#REF!+#REF!+#REF!+#REF!+#REF!+#REF!+#REF!+#REF!+#REF!+#REF!+#REF!+#REF!+#REF!+#REF!+#REF!","v":{"$error":"#REF!"}},{"$f":"#REF!+#REF!+#REF!+#REF!+#REF!+#REF!+#REF!+#REF!+#REF!+#REF!+#REF!+#REF!+#REF!+#REF!+#REF!+#REF!+#REF!+#REF!+#REF!+#REF!+#REF!+#REF!+#REF!+#REF!+#REF!+#REF!+#REF!+#REF!+#REF!+#REF!+#REF!+#REF!+#REF!","v":{"$error":"#REF!"}},{"$f":"#REF!+#REF!+#REF!+#REF!+#REF!+#REF!+#REF!+#REF!+#REF!+#REF!+#REF!+#REF!+#REF!+#REF!+#REF!+#REF!+#REF!+#REF!+#REF!+#REF!+#REF!+#REF!+#REF!+#REF!+#REF!+#REF!+#REF!+#REF!+#REF!+#REF!+#REF!+#REF!+#REF!","v":{"$error":"#REF!"}},{"$f":"#REF!+#REF!+#REF!+#REF!+#REF!+#REF!+#REF!+#REF!+#REF!+#REF!+#REF!+#REF!+#REF!+#REF!+#REF!+#REF!+#REF!+#REF!+#REF!+#REF!+#REF!+#REF!+#REF!+#REF!+#REF!+#REF!+#REF!+#REF!+#REF!+#REF!+#REF!+#REF!+#REF!","v":{"$error":"#REF!"}},{"$f":"#REF!+#REF!+#REF!+#REF!+#REF!+#REF!+#REF!+#REF!+#REF!+#REF!+#REF!+#REF!+#REF!+#REF!+#REF!+#REF!+#REF!+#REF!+#REF!+#REF!+#REF!+#REF!+#REF!+#REF!+#REF!+#REF!+#REF!+#REF!+#REF!+#REF!+#REF!+#REF!+#REF!","v":{"$error":"#REF!"}},{"$f":"#REF!+#REF!+#REF!+#REF!+#REF!+#REF!+#REF!+#REF!+#REF!+#REF!+#REF!+#REF!+#REF!+#REF!+#REF!+#REF!+#REF!+#REF!+#REF!+#REF!+#REF!+#REF!+#REF!+#REF!+#REF!+#REF!+#REF!+#REF!+#REF!+#REF!+#REF!+#REF!+#REF!","v":{"$error":"#REF!"}},{"$f":"'9_Per Pupil Summary'!N26","v":3882},{"$f":"#REF!+#REF!+#REF!+#REF!+#REF!+#REF!+#REF!+#REF!+#REF!+#REF!+#REF!+#REF!+#REF!+#REF!+#REF!+#REF!+#REF!+#REF!+#REF!+#REF!+#REF!+#REF!+#REF!+#REF!+#REF!+#REF!+#REF!+#REF!+#REF!+#REF!+#REF!+#REF!+#REF!","v":{"$error":"#REF!"}},{"$f":"#REF!+#REF!+#REF!+#REF!+#REF!+#REF!+#REF!+#REF!+#REF!+#REF!+#REF!+#REF!+#REF!+#REF!+#REF!+#REF!+#REF!+#REF!+#REF!+#REF!+#REF!+#REF!+#REF!+#REF!+#REF!+#REF!+#REF!+#REF!+#REF!+#REF!+#REF!+#REF!+#REF!","v":{"$error":"#REF!"}},{"$f":"#REF!+#REF!+#REF!+#REF!+#REF!+#REF!+#REF!+#REF!+#REF!+#REF!+#REF!+#REF!+#REF!+#REF!+#REF!+#REF!+#REF!+#REF!+#REF!+#REF!+#REF!+#REF!+#REF!+#REF!+#REF!+#REF!+#REF!+#REF!+#REF!+#REF!+#REF!+#REF!+#REF!","v":{"$error":"#REF!"}},{"$f":"#REF!+#REF!+#REF!+#REF!+#REF!+#REF!+#REF!+#REF!+#REF!+#REF!+#REF!+#REF!+#REF!+#REF!+#REF!+#REF!+#REF!+#REF!+#REF!+#REF!+#REF!+#REF!+#REF!+#REF!+#REF!+#REF!+#REF!+#REF!+#REF!+#REF!+#REF!+#REF!+#REF!","v":{"$error":"#REF!"}},{"$f":"#REF!+#REF!+#REF!+#REF!+#REF!+#REF!+#REF!+#REF!+#REF!+#REF!+#REF!+#REF!+#REF!+#REF!+#REF!+#REF!+#REF!+#REF!+#REF!+#REF!+#REF!+#REF!+#REF!+#REF!+#REF!+#REF!+#REF!+#REF!+#REF!+#REF!+#REF!+#REF!+#REF!","v":{"$error":"#REF!"}},{"$f":"#REF!+#REF!+#REF!+#REF!+#REF!+#REF!+#REF!+#REF!+#REF!+#REF!+#REF!+#REF!+#REF!+#REF!+#REF!+#REF!+#REF!+#REF!+#REF!+#REF!+#REF!+#REF!+#REF!+#REF!+#REF!+#REF!+#REF!+#REF!+#REF!+#REF!+#REF!+#REF!+#REF!","v":{"$error":"#REF!"}},{"$f":"#REF!+#REF!+#REF!+#REF!+#REF!+#REF!+#REF!+#REF!+#REF!+#REF!+#REF!+#REF!+#REF!+#REF!+#REF!+#REF!+#REF!+#REF!+#REF!+#REF!+#REF!+#REF!+#REF!+#REF!+#REF!+#REF!+#REF!+#REF!+#REF!+#REF!+#REF!+#REF!+#REF!","v":{"$error":"#REF!"}},{"$f":"#REF!+#REF!+#REF!+#REF!+#REF!+#REF!+#REF!+#REF!+#REF!+#REF!+#REF!+#REF!+#REF!+#REF!+#REF!+#REF!+#REF!+#REF!+#REF!+#REF!+#REF!+#REF!+#REF!+#REF!+#REF!+#REF!+#REF!+#REF!+#REF!+#REF!+#REF!+#REF!+#REF!","v":{"$error":"#REF!"}},{"$f":"#REF!+#REF!+#REF!+#REF!+#REF!+#REF!+#REF!+#REF!+#REF!+#REF!+#REF!+#REF!+#REF!+#REF!+#REF!+#REF!+#REF!+#REF!+#REF!+#REF!+#REF!+#REF!+#REF!+#REF!+#REF!+#REF!+#REF!+#REF!+#REF!+#REF!+#REF!+#REF!+#REF!","v":{"$error":"#REF!"}},{"$f":"#REF!+#REF!+#REF!+#REF!+#REF!+#REF!+#REF!+#REF!+#REF!+#REF!+#REF!+#REF!+#REF!+#REF!+#REF!+#REF!+#REF!+#REF!+#REF!+#REF!+#REF!+#REF!+#REF!+#REF!+#REF!+#REF!+#REF!+#REF!+#REF!+#REF!+#REF!+#REF!+#REF!","v":{"$error":"#REF!"}},{"$f":"#REF!+#REF!+#REF!+#REF!+#REF!+#REF!+#REF!+#REF!+#REF!+#REF!+#REF!+#REF!+#REF!+#REF!+#REF!+#REF!+#REF!+#REF!+#REF!+#REF!+#REF!+#REF!+#REF!+#REF!+#REF!+#REF!+#REF!+#REF!+#REF!+#REF!+#REF!+#REF!+#REF!","v":{"$error":"#REF!"}},{"$f":"#REF!+#REF!+#REF!+#REF!+#REF!+#REF!+#REF!+#REF!+#REF!+#REF!+#REF!+#REF!+#REF!+#REF!+#REF!+#REF!+#REF!+#REF!+#REF!+#REF!+#REF!+#REF!+#REF!+#REF!+#REF!+#REF!+#REF!+#REF!+#REF!+#REF!+#REF!+#REF!+#REF!","v":{"$error":"#REF!"}},{"$f":"#REF!+#REF!+#REF!+#REF!+#REF!+#REF!+#REF!+#REF!+#REF!+#REF!+#REF!+#REF!+#REF!+#REF!+#REF!+#REF!+#REF!+#REF!+#REF!+#REF!+#REF!+#REF!+#REF!+#REF!+#REF!+#REF!+#REF!+#REF!+#REF!+#REF!+#REF!+#REF!+#REF!","v":{"$error":"#REF!"}},{"$f":"#REF!+#REF!+#REF!+#REF!+#REF!+#REF!+#REF!+#REF!+#REF!+#REF!+#REF!+#REF!+#REF!+#REF!+#REF!+#REF!+#REF!+#REF!+#REF!+#REF!+#REF!+#REF!+#REF!+#REF!+#REF!+#REF!+#REF!+#REF!+#REF!+#REF!+#REF!+#REF!+#REF!","v":{"$error":"#REF!"}},{"$error":"#REF!"},{"$error":"#REF!"},{"$f":"#REF!+#REF!+#REF!+#REF!+#REF!+#REF!+#REF!+#REF!+#REF!+#REF!+#REF!+#REF!+#REF!+#REF!+#REF!+#REF!+#REF!+#REF!+#REF!+#REF!+#REF!+#REF!+#REF!+#REF!+#REF!+#REF!+#REF!+#REF!+#REF!+#REF!+#REF!+#REF!+#REF!","v":{"$error":"#REF!"}},null,{"$error":"#REF!"}]
[22,"Grant",{"$f":"#REF!+#REF!+#REF!+#REF!+#REF!+#REF!+#REF!+#REF!+#REF!+#REF!+#REF!+#REF!+#REF!+#REF!+#REF!+#REF!+#REF!+#REF!+#REF!+#REF!+#REF!+#REF!+#REF!+#REF!+#REF!+#REF!+#REF!+#REF!+#REF!+#REF!+#REF!+#REF!+#REF!","v":{"$error":"#REF!"}},{"$f":"'9_Per Pupil Summary'!H27","v":5818.697635409605},{"$f":"#REF!+#REF!+#REF!+#REF!+#REF!+#REF!+#REF!+#REF!+#REF!+#REF!+#REF!+#REF!+#REF!+#REF!+#REF!+#REF!+#REF!+#REF!+#REF!+#REF!+#REF!+#REF!+#REF!+#REF!+#REF!+#REF!+#REF!+#REF!+#REF!+#REF!+#REF!+#REF!+#REF!","v":{"$error":"#REF!"}},{"$f":"#REF!+#REF!+#REF!+#REF!+#REF!+#REF!+#REF!+#REF!+#REF!+#REF!+#REF!+#REF!+#REF!+#REF!+#REF!+#REF!+#REF!+#REF!+#REF!+#REF!+#REF!+#REF!+#REF!+#REF!+#REF!+#REF!+#REF!+#REF!+#REF!+#REF!+#REF!+#REF!+#REF!","v":{"$error":"#REF!"}},{"$f":"'9_Per Pupil Summary'!I27","v":768.66343524601734},{"$f":"#REF!+#REF!+#REF!+#REF!+#REF!+#REF!+#REF!+#REF!+#REF!+#REF!+#REF!+#REF!+#REF!+#REF!+#REF!+#REF!+#REF!+#REF!+#REF!+#REF!+#REF!+#REF!+#REF!+#REF!+#REF!+#REF!+#REF!+#REF!+#REF!+#REF!+#REF!+#REF!+#REF!","v":{"$error":"#REF!"}},{"$f":"#REF!+#REF!+#REF!+#REF!+#REF!+#REF!+#REF!+#REF!+#REF!+#REF!+#REF!+#REF!+#REF!+#REF!+#REF!+#REF!+#REF!+#REF!+#REF!+#REF!+#REF!+#REF!+#REF!+#REF!+#REF!+#REF!+#REF!+#REF!+#REF!+#REF!+#REF!+#REF!+#REF!","v":{"$error":"#REF!"}},{"$f":"'9_Per Pupil Summary'!J27","v":209.63548233982291},{"$f":"#REF!+#REF!+#REF!+#REF!+#REF!+#REF!+#REF!+#REF!+#REF!+#REF!+#REF!+#REF!+#REF!+#REF!+#REF!+#REF!+#REF!+#REF!+#REF!+#REF!+#REF!+#REF!+#REF!+#REF!+#REF!+#REF!+#REF!+#REF!+#REF!+#REF!+#REF!+#REF!+#REF!","v":{"$error":"#REF!"}},{"$f":"#REF!+#REF!+#REF!+#REF!+#REF!+#REF!+#REF!+#REF!+#REF!+#REF!+#REF!+#REF!+#REF!+#REF!+#REF!+#REF!+#REF!+#REF!+#REF!+#REF!+#REF!+#REF!+#REF!+#REF!+#REF!+#REF!+#REF!+#REF!+#REF!+#REF!+#REF!+#REF!+#REF!","v":{"$error":"#REF!"}},{"$f":"'9_Per Pupil Summary'!K27","v":5240.8870584955739},{"$f":"#REF!+#REF!+#REF!+#REF!+#REF!+#REF!+#REF!+#REF!+#REF!+#REF!+#REF!+#REF!+#REF!+#REF!+#REF!+#REF!+#REF!+#REF!+#REF!+#REF!+#REF!+#REF!+#REF!+#REF!+#REF!+#REF!+#REF!+#REF!+#REF!+#REF!+#REF!+#REF!+#REF!","v":{"$error":"#REF!"}},{"$f":"#REF!+#REF!+#REF!+#REF!+#REF!+#REF!+#REF!+#REF!+#REF!+#REF!+#REF!+#REF!+#REF!+#REF!+#REF!+#REF!+#REF!+#REF!+#REF!+#REF!+#REF!+#REF!+#REF!+#REF!+#REF!+#REF!+#REF!+#REF!+#REF!+#REF!+#REF!+#REF!+#REF!","v":{"$error":"#REF!"}},{"$f":"'9_Per Pupil Summary'!L27","v":2096.3548233982292},{"$f":"#REF!+#REF!+#REF!+#REF!+#REF!+#REF!+#REF!+#REF!+#REF!+#REF!+#REF!+#REF!+#REF!+#REF!+#REF!+#REF!+#REF!+#REF!+#REF!+#REF!+#REF!+#REF!+#REF!+#REF!+#REF!+#REF!+#REF!+#REF!+#REF!+#REF!+#REF!+#REF!+#REF!","v":{"$error":"#REF!"}},{"$f":"#REF!+#REF!+#REF!+#REF!+#REF!+#REF!+#REF!+#REF!+#REF!+#REF!+#REF!+#REF!+#REF!+#REF!+#REF!+#REF!+#REF!+#REF!+#REF!+#REF!+#REF!+#REF!+#REF!+#REF!+#REF!+#REF!+#REF!+#REF!+#REF!+#REF!+#REF!+#REF!+#REF!","v":{"$error":"#REF!"}},{"$f":"#REF!+#REF!","v":{"$error":"#REF!"}},{"$f":"#REF!+#REF!+#REF!+#REF!+#REF!+#REF!+#REF!+#REF!+#REF!+#REF!+#REF!+#REF!+#REF!+#REF!+#REF!+#REF!+#REF!+#REF!+#REF!+#REF!+#REF!+#REF!+#REF!+#REF!+#REF!+#REF!+#REF!+#REF!+#REF!+#REF!+#REF!+#REF!+#REF!","v":{"$error":"#REF!"}},{"$f":"#REF!+#REF!+#REF!+#REF!+#REF!+#REF!+#REF!+#REF!+#REF!+#REF!+#REF!+#REF!+#REF!+#REF!+#REF!+#REF!+#REF!+#REF!+#REF!+#REF!+#REF!+#REF!+#REF!+#REF!+#REF!+#REF!+#REF!+#REF!+#REF!+#REF!+#REF!+#REF!+#REF!","v":{"$error":"#REF!"}},{"$f":"#REF!+#REF!+#REF!+#REF!+#REF!+#REF!+#REF!+#REF!+#REF!+#REF!+#REF!+#REF!+#REF!+#REF!+#REF!+#REF!+#REF!+#REF!+#REF!+#REF!+#REF!+#REF!+#REF!+#REF!+#REF!+#REF!+#REF!+#REF!+#REF!+#REF!+#REF!+#REF!+#REF!","v":{"$error":"#REF!"}},{"$f":"#REF!+#REF!+#REF!+#REF!+#REF!+#REF!+#REF!+#REF!+#REF!+#REF!+#REF!+#REF!+#REF!+#REF!+#REF!+#REF!+#REF!+#REF!+#REF!+#REF!+#REF!+#REF!+#REF!+#REF!+#REF!+#REF!+#REF!+#REF!+#REF!+#REF!+#REF!+#REF!+#REF!","v":{"$error":"#REF!"}},{"$f":"#REF!+#REF!+#REF!+#REF!+#REF!+#REF!+#REF!+#REF!+#REF!+#REF!+#REF!+#REF!+#REF!+#REF!+#REF!+#REF!+#REF!+#REF!+#REF!+#REF!+#REF!+#REF!+#REF!+#REF!+#REF!+#REF!+#REF!+#REF!+#REF!+#REF!+#REF!+#REF!+#REF!","v":{"$error":"#REF!"}},{"$f":"#REF!+#REF!+#REF!+#REF!+#REF!+#REF!+#REF!+#REF!+#REF!+#REF!+#REF!+#REF!+#REF!+#REF!+#REF!+#REF!+#REF!+#REF!+#REF!+#REF!+#REF!+#REF!+#REF!+#REF!+#REF!+#REF!+#REF!+#REF!+#REF!+#REF!+#REF!+#REF!+#REF!","v":{"$error":"#REF!"}},{"$f":"#REF!+#REF!+#REF!+#REF!+#REF!+#REF!+#REF!+#REF!+#REF!+#REF!+#REF!+#REF!+#REF!+#REF!+#REF!+#REF!+#REF!+#REF!+#REF!+#REF!+#REF!+#REF!+#REF!+#REF!+#REF!+#REF!+#REF!+#REF!+#REF!+#REF!+#REF!+#REF!+#REF!","v":{"$error":"#REF!"}},{"$f":"#REF!+#REF!+#REF!+#REF!+#REF!+#REF!+#REF!+#REF!+#REF!+#REF!+#REF!+#REF!+#REF!+#REF!+#REF!+#REF!+#REF!+#REF!+#REF!+#REF!+#REF!+#REF!+#REF!+#REF!+#REF!+#REF!+#REF!+#REF!+#REF!+#REF!+#REF!+#REF!+#REF!","v":{"$error":"#REF!"}},{"$f":"#REF!+#REF!+#REF!+#REF!+#REF!+#REF!+#REF!+#REF!+#REF!+#REF!+#REF!+#REF!+#REF!+#REF!+#REF!+#REF!+#REF!+#REF!+#REF!+#REF!+#REF!+#REF!+#REF!+#REF!+#REF!+#REF!+#REF!+#REF!+#REF!+#REF!+#REF!+#REF!+#REF!","v":{"$error":"#REF!"}},{"$f":"#REF!+#REF!+#REF!+#REF!+#REF!+#REF!+#REF!+#REF!+#REF!+#REF!+#REF!+#REF!+#REF!+#REF!+#REF!+#REF!+#REF!+#REF!+#REF!+#REF!+#REF!+#REF!+#REF!+#REF!+#REF!+#REF!+#REF!+#REF!+#REF!+#REF!+#REF!+#REF!+#REF!","v":{"$error":"#REF!"}},{"$f":"#REF!+#REF!+#REF!+#REF!+#REF!+#REF!+#REF!+#REF!+#REF!+#REF!+#REF!+#REF!+#REF!+#REF!+#REF!+#REF!+#REF!+#REF!+#REF!+#REF!+#REF!+#REF!+#REF!+#REF!+#REF!+#REF!+#REF!+#REF!+#REF!+#REF!+#REF!+#REF!+#REF!","v":{"$error":"#REF!"}},{"$f":"#REF!+#REF!+#REF!+#REF!+#REF!+#REF!+#REF!+#REF!+#REF!+#REF!+#REF!+#REF!+#REF!+#REF!+#REF!+#REF!+#REF!+#REF!+#REF!+#REF!+#REF!+#REF!+#REF!+#REF!+#REF!+#REF!+#REF!+#REF!+#REF!+#REF!+#REF!+#REF!+#REF!","v":{"$error":"#REF!"}},{"$f":"'9_Per Pupil Summary'!N27","v":3051},{"$f":"#REF!+#REF!+#REF!+#REF!+#REF!+#REF!+#REF!+#REF!+#REF!+#REF!+#REF!+#REF!+#REF!+#REF!+#REF!+#REF!+#REF!+#REF!+#REF!+#REF!+#REF!+#REF!+#REF!+#REF!+#REF!+#REF!+#REF!+#REF!+#REF!+#REF!+#REF!+#REF!+#REF!","v":{"$error":"#REF!"}},{"$f":"#REF!+#REF!+#REF!+#REF!+#REF!+#REF!+#REF!+#REF!+#REF!+#REF!+#REF!+#REF!+#REF!+#REF!+#REF!+#REF!+#REF!+#REF!+#REF!+#REF!+#REF!+#REF!+#REF!+#REF!+#REF!+#REF!+#REF!+#REF!+#REF!+#REF!+#REF!+#REF!+#REF!","v":{"$error":"#REF!"}},{"$f":"#REF!+#REF!+#REF!+#REF!+#REF!+#REF!+#REF!+#REF!+#REF!+#REF!+#REF!+#REF!+#REF!+#REF!+#REF!+#REF!+#REF!+#REF!+#REF!+#REF!+#REF!+#REF!+#REF!+#REF!+#REF!+#REF!+#REF!+#REF!+#REF!+#REF!+#REF!+#REF!+#REF!","v":{"$error":"#REF!"}},{"$f":"#REF!+#REF!+#REF!+#REF!+#REF!+#REF!+#REF!+#REF!+#REF!+#REF!+#REF!+#REF!+#REF!+#REF!+#REF!+#REF!+#REF!+#REF!+#REF!+#REF!+#REF!+#REF!+#REF!+#REF!+#REF!+#REF!+#REF!+#REF!+#REF!+#REF!+#REF!+#REF!+#REF!","v":{"$error":"#REF!"}},{"$f":"#REF!+#REF!+#REF!+#REF!+#REF!+#REF!+#REF!+#REF!+#REF!+#REF!+#REF!+#REF!+#REF!+#REF!+#REF!+#REF!+#REF!+#REF!+#REF!+#REF!+#REF!+#REF!+#REF!+#REF!+#REF!+#REF!+#REF!+#REF!+#REF!+#REF!+#REF!+#REF!+#REF!","v":{"$error":"#REF!"}},{"$f":"#REF!+#REF!+#REF!+#REF!+#REF!+#REF!+#REF!+#REF!+#REF!+#REF!+#REF!+#REF!+#REF!+#REF!+#REF!+#REF!+#REF!+#REF!+#REF!+#REF!+#REF!+#REF!+#REF!+#REF!+#REF!+#REF!+#REF!+#REF!+#REF!+#REF!+#REF!+#REF!+#REF!","v":{"$error":"#REF!"}},{"$f":"#REF!+#REF!+#REF!+#REF!+#REF!+#REF!+#REF!+#REF!+#REF!+#REF!+#REF!+#REF!+#REF!+#REF!+#REF!+#REF!+#REF!+#REF!+#REF!+#REF!+#REF!+#REF!+#REF!+#REF!+#REF!+#REF!+#REF!+#REF!+#REF!+#REF!+#REF!+#REF!+#REF!","v":{"$error":"#REF!"}},{"$f":"#REF!+#REF!+#REF!+#REF!+#REF!+#REF!+#REF!+#REF!+#REF!+#REF!+#REF!+#REF!+#REF!+#REF!+#REF!+#REF!+#REF!+#REF!+#REF!+#REF!+#REF!+#REF!+#REF!+#REF!+#REF!+#REF!+#REF!+#REF!+#REF!+#REF!+#REF!+#REF!+#REF!","v":{"$error":"#REF!"}},{"$f":"#REF!+#REF!+#REF!+#REF!+#REF!+#REF!+#REF!+#REF!+#REF!+#REF!+#REF!+#REF!+#REF!+#REF!+#REF!+#REF!+#REF!+#REF!+#REF!+#REF!+#REF!+#REF!+#REF!+#REF!+#REF!+#REF!+#REF!+#REF!+#REF!+#REF!+#REF!+#REF!+#REF!","v":{"$error":"#REF!"}},{"$f":"#REF!+#REF!+#REF!+#REF!+#REF!+#REF!+#REF!+#REF!+#REF!+#REF!+#REF!+#REF!+#REF!+#REF!+#REF!+#REF!+#REF!+#REF!+#REF!+#REF!+#REF!+#REF!+#REF!+#REF!+#REF!+#REF!+#REF!+#REF!+#REF!+#REF!+#REF!+#REF!+#REF!","v":{"$error":"#REF!"}},{"$f":"#REF!+#REF!+#REF!+#REF!+#REF!+#REF!+#REF!+#REF!+#REF!+#REF!+#REF!+#REF!+#REF!+#REF!+#REF!+#REF!+#REF!+#REF!+#REF!+#REF!+#REF!+#REF!+#REF!+#REF!+#REF!+#REF!+#REF!+#REF!+#REF!+#REF!+#REF!+#REF!+#REF!","v":{"$error":"#REF!"}},{"$f":"#REF!+#REF!+#REF!+#REF!+#REF!+#REF!+#REF!+#REF!+#REF!+#REF!+#REF!+#REF!+#REF!+#REF!+#REF!+#REF!+#REF!+#REF!+#REF!+#REF!+#REF!+#REF!+#REF!+#REF!+#REF!+#REF!+#REF!+#REF!+#REF!+#REF!+#REF!+#REF!+#REF!","v":{"$error":"#REF!"}},{"$f":"#REF!+#REF!+#REF!+#REF!+#REF!+#REF!+#REF!+#REF!+#REF!+#REF!+#REF!+#REF!+#REF!+#REF!+#REF!+#REF!+#REF!+#REF!+#REF!+#REF!+#REF!+#REF!+#REF!+#REF!+#REF!+#REF!+#REF!+#REF!+#REF!+#REF!+#REF!+#REF!+#REF!","v":{"$error":"#REF!"}},{"$f":"#REF!+#REF!+#REF!+#REF!+#REF!+#REF!+#REF!+#REF!+#REF!+#REF!+#REF!+#REF!+#REF!+#REF!+#REF!+#REF!+#REF!+#REF!+#REF!+#REF!+#REF!+#REF!+#REF!+#REF!+#REF!+#REF!+#REF!+#REF!+#REF!+#REF!+#REF!+#REF!+#REF!","v":{"$error":"#REF!"}},{"$error":"#REF!"},{"$error":"#REF!"},{"$f":"#REF!+#REF!+#REF!+#REF!+#REF!+#REF!+#REF!+#REF!+#REF!+#REF!+#REF!+#REF!+#REF!+#REF!+#REF!+#REF!+#REF!+#REF!+#REF!+#REF!+#REF!+#REF!+#REF!+#REF!+#REF!+#REF!+#REF!+#REF!+#REF!+#REF!+#REF!+#REF!+#REF!","v":{"$error":"#REF!"}},null,{"$error":"#REF!"}]
[23,"Iberia",{"$f":"#REF!+#REF!+#REF!+#REF!+#REF!+#REF!+#REF!+#REF!+#REF!+#REF!+#REF!+#REF!+#REF!+#REF!+#REF!+#REF!+#REF!+#REF!+#REF!+#REF!+#REF!+#REF!+#REF!+#REF!+#REF!+#REF!+#REF!+#REF!+#REF!+#REF!+#REF!+#REF!+#REF!","v":{"$error":"#REF!"}},{"$f":"'9_Per Pupil Summary'!H28","v":4974.1093140644853},{"$f":"#REF!+#REF!+#REF!+#REF!+#REF!+#REF!+#REF!+#REF!+#REF!+#REF!+#REF!+#REF!+#REF!+#REF!+#REF!+#REF!+#REF!+#REF!+#REF!+#REF!+#REF!+#REF!+#REF!+#REF!+#REF!+#REF!+#REF!+#REF!+#REF!+#REF!+#REF!+#REF!+#REF!","v":{"$error":"#REF!"}},{"$f":"#REF!+#REF!+#REF!+#REF!+#REF!+#REF!+#REF!+#REF!+#REF!+#REF!+#REF!+#REF!+#REF!+#REF!+#REF!+#REF!+#REF!+#REF!+#REF!+#REF!+#REF!+#REF!+#REF!+#REF!+#REF!+#REF!+#REF!+#REF!+#REF!+#REF!+#REF!+#REF!+#REF!","v":{"$error":"#REF!"}},{"$f":"'9_Per Pupil Summary'!I28","v":659.58562894240856},{"$f":"#REF!+#REF!+#REF!+#REF!+#REF!+#REF!+#REF!+#REF!+#REF!+#REF!+#REF!+#REF!+#REF!+#REF!+#REF!+#REF!+#REF!+#REF!+#REF!+#REF!+#REF!+#REF!+#REF!+#REF!+#REF!+#REF!+#REF!+#REF!+#REF!+#REF!+#REF!+#REF!+#REF!","v":{"$error":"#REF!"}},{"$f":"#REF!+#REF!+#REF!+#REF!+#REF!+#REF!+#REF!+#REF!+#REF!+#REF!+#REF!+#REF!+#REF!+#REF!+#REF!+#REF!+#REF!+#REF!+#REF!+#REF!+#REF!+#REF!+#REF!+#REF!+#REF!+#REF!+#REF!+#REF!+#REF!+#REF!+#REF!+#REF!+#REF!","v":{"$error":"#REF!"}},{"$f":"'9_Per Pupil Summary'!J28","v":179.886989711566},{"$f":"#REF!+#REF!+#REF!+#REF!+#REF!+#REF!+#REF!+#REF!+#REF!+#REF!+#REF!+#REF!+#REF!+#REF!+#REF!+#REF!+#REF!+#REF!+#REF!+#REF!+#REF!+#REF!+#REF!+#REF!+#REF!+#REF!+#REF!+#REF!+#REF!+#REF!+#REF!+#REF!+#REF!","v":{"$error":"#REF!"}},{"$f":"#REF!+#REF!+#REF!+#REF!+#REF!+#REF!+#REF!+#REF!+#REF!+#REF!+#REF!+#REF!+#REF!+#REF!+#REF!+#REF!+#REF!+#REF!+#REF!+#REF!+#REF!+#REF!+#REF!+#REF!+#REF!+#REF!+#REF!+#REF!+#REF!+#REF!+#REF!+#REF!+#REF!","v":{"$error":"#REF!"}},{"$f":"'9_Per Pupil Summary'!K28","v":4497.1747427891496},{"$f":"#REF!+#REF!+#REF!+#REF!+#REF!+#REF!+#REF!+#REF!+#REF!+#REF!+#REF!+#REF!+#REF!+#REF!+#REF!+#REF!+#REF!+#REF!+#REF!+#REF!+#REF!+#REF!+#REF!+#REF!+#REF!+#REF!+#REF!+#REF!+#REF!+#REF!+#REF!+#REF!+#REF!","v":{"$error":"#REF!"}},{"$f":"#REF!+#REF!+#REF!+#REF!+#REF!+#REF!+#REF!+#REF!+#REF!+#REF!+#REF!+#REF!+#REF!+#REF!+#REF!+#REF!+#REF!+#REF!+#REF!+#REF!+#REF!+#REF!+#REF!+#REF!+#REF!+#REF!+#REF!+#REF!+#REF!+#REF!+#REF!+#REF!+#REF!","v":{"$error":"#REF!"}},{"$f":"'9_Per Pupil Summary'!L28","v":1798.86989711566},{"$f":"#REF!+#REF!+#REF!+#REF!+#REF!+#REF!+#REF!+#REF!+#REF!+#REF!+#REF!+#REF!+#REF!+#REF!+#REF!+#REF!+#REF!+#REF!+#REF!+#REF!+#REF!+#REF!+#REF!+#REF!+#REF!+#REF!+#REF!+#REF!+#REF!+#REF!+#REF!+#REF!+#REF!","v":{"$error":"#REF!"}},{"$f":"#REF!+#REF!+#REF!+#REF!+#REF!+#REF!+#REF!+#REF!+#REF!+#REF!+#REF!+#REF!+#REF!+#REF!+#REF!+#REF!+#REF!+#REF!+#REF!+#REF!+#REF!+#REF!+#REF!+#REF!+#REF!+#REF!+#REF!+#REF!+#REF!+#REF!+#REF!+#REF!+#REF!","v":{"$error":"#REF!"}},{"$f":"#REF!+#REF!","v":{"$error":"#REF!"}},{"$f":"#REF!+#REF!+#REF!+#REF!+#REF!+#REF!+#REF!+#REF!+#REF!+#REF!+#REF!+#REF!+#REF!+#REF!+#REF!+#REF!+#REF!+#REF!+#REF!+#REF!+#REF!+#REF!+#REF!+#REF!+#REF!+#REF!+#REF!+#REF!+#REF!+#REF!+#REF!+#REF!+#REF!","v":{"$error":"#REF!"}},{"$f":"#REF!+#REF!+#REF!+#REF!+#REF!+#REF!+#REF!+#REF!+#REF!+#REF!+#REF!+#REF!+#REF!+#REF!+#REF!+#REF!+#REF!+#REF!+#REF!+#REF!+#REF!+#REF!+#REF!+#REF!+#REF!+#REF!+#REF!+#REF!+#REF!+#REF!+#REF!+#REF!+#REF!","v":{"$error":"#REF!"}},{"$f":"#REF!+#REF!+#REF!+#REF!+#REF!+#REF!+#REF!+#REF!+#REF!+#REF!+#REF!+#REF!+#REF!+#REF!+#REF!+#REF!+#REF!+#REF!+#REF!+#REF!+#REF!+#REF!+#REF!+#REF!+#REF!+#REF!+#REF!+#REF!+#REF!+#REF!+#REF!+#REF!+#REF!","v":{"$error":"#REF!"}},{"$f":"#REF!+#REF!+#REF!+#REF!+#REF!+#REF!+#REF!+#REF!+#REF!+#REF!+#REF!+#REF!+#REF!+#REF!+#REF!+#REF!+#REF!+#REF!+#REF!+#REF!+#REF!+#REF!+#REF!+#REF!+#REF!+#REF!+#REF!+#REF!+#REF!+#REF!+#REF!+#REF!+#REF!","v":{"$error":"#REF!"}},{"$f":"#REF!+#REF!+#REF!+#REF!+#REF!+#REF!+#REF!+#REF!+#REF!+#REF!+#REF!+#REF!+#REF!+#REF!+#REF!+#REF!+#REF!+#REF!+#REF!+#REF!+#REF!+#REF!+#REF!+#REF!+#REF!+#REF!+#REF!+#REF!+#REF!+#REF!+#REF!+#REF!+#REF!","v":{"$error":"#REF!"}},{"$f":"#REF!+#REF!+#REF!+#REF!+#REF!+#REF!+#REF!+#REF!+#REF!+#REF!+#REF!+#REF!+#REF!+#REF!+#REF!+#REF!+#REF!+#REF!+#REF!+#REF!+#REF!+#REF!+#REF!+#REF!+#REF!+#REF!+#REF!+#REF!+#REF!+#REF!+#REF!+#REF!+#REF!","v":{"$error":"#REF!"}},{"$f":"#REF!+#REF!+#REF!+#REF!+#REF!+#REF!+#REF!+#REF!+#REF!+#REF!+#REF!+#REF!+#REF!+#REF!+#REF!+#REF!+#REF!+#REF!+#REF!+#REF!+#REF!+#REF!+#REF!+#REF!+#REF!+#REF!+#REF!+#REF!+#REF!+#REF!+#REF!+#REF!+#REF!","v":{"$error":"#REF!"}},{"$f":"#REF!+#REF!+#REF!+#REF!+#REF!+#REF!+#REF!+#REF!+#REF!+#REF!+#REF!+#REF!+#REF!+#REF!+#REF!+#REF!+#REF!+#REF!+#REF!+#REF!+#REF!+#REF!+#REF!+#REF!+#REF!+#REF!+#REF!+#REF!+#REF!+#REF!+#REF!+#REF!+#REF!","v":{"$error":"#REF!"}},{"$f":"#REF!+#REF!+#REF!+#REF!+#REF!+#REF!+#REF!+#REF!+#REF!+#REF!+#REF!+#REF!+#REF!+#REF!+#REF!+#REF!+#REF!+#REF!+#REF!+#REF!+#REF!+#REF!+#REF!+#REF!+#REF!+#REF!+#REF!+#REF!+#REF!+#REF!+#REF!+#REF!+#REF!","v":{"$error":"#REF!"}},{"$f":"#REF!+#REF!+#REF!+#REF!+#REF!+#REF!+#REF!+#REF!+#REF!+#REF!+#REF!+#REF!+#REF!+#REF!+#REF!+#REF!+#REF!+#REF!+#REF!+#REF!+#REF!+#REF!+#REF!+#REF!+#REF!+#REF!+#REF!+#REF!+#REF!+#REF!+#REF!+#REF!+#REF!","v":{"$error":"#REF!"}},{"$f":"#REF!+#REF!+#REF!+#REF!+#REF!+#REF!+#REF!+#REF!+#REF!+#REF!+#REF!+#REF!+#REF!+#REF!+#REF!+#REF!+#REF!+#REF!+#REF!+#REF!+#REF!+#REF!+#REF!+#REF!+#REF!+#REF!+#REF!+#REF!+#REF!+#REF!+#REF!+#REF!+#REF!","v":{"$error":"#REF!"}},{"$f":"#REF!+#REF!+#REF!+#REF!+#REF!+#REF!+#REF!+#REF!+#REF!+#REF!+#REF!+#REF!+#REF!+#REF!+#REF!+#REF!+#REF!+#REF!+#REF!+#REF!+#REF!+#REF!+#REF!+#REF!+#REF!+#REF!+#REF!+#REF!+#REF!+#REF!+#REF!+#REF!+#REF!","v":{"$error":"#REF!"}},{"$f":"'9_Per Pupil Summary'!N28","v":4976},{"$f":"#REF!+#REF!+#REF!+#REF!+#REF!+#REF!+#REF!+#REF!+#REF!+#REF!+#REF!+#REF!+#REF!+#REF!+#REF!+#REF!+#REF!+#REF!+#REF!+#REF!+#REF!+#REF!+#REF!+#REF!+#REF!+#REF!+#REF!+#REF!+#REF!+#REF!+#REF!+#REF!+#REF!","v":{"$error":"#REF!"}},{"$f":"#REF!+#REF!+#REF!+#REF!+#REF!+#REF!+#REF!+#REF!+#REF!+#REF!+#REF!+#REF!+#REF!+#REF!+#REF!+#REF!+#REF!+#REF!+#REF!+#REF!+#REF!+#REF!+#REF!+#REF!+#REF!+#REF!+#REF!+#REF!+#REF!+#REF!+#REF!+#REF!+#REF!","v":{"$error":"#REF!"}},{"$f":"#REF!+#REF!+#REF!+#REF!+#REF!+#REF!+#REF!+#REF!+#REF!+#REF!+#REF!+#REF!+#REF!+#REF!+#REF!+#REF!+#REF!+#REF!+#REF!+#REF!+#REF!+#REF!+#REF!+#REF!+#REF!+#REF!+#REF!+#REF!+#REF!+#REF!+#REF!+#REF!+#REF!","v":{"$error":"#REF!"}},{"$f":"#REF!+#REF!+#REF!+#REF!+#REF!+#REF!+#REF!+#REF!+#REF!+#REF!+#REF!+#REF!+#REF!+#REF!+#REF!+#REF!+#REF!+#REF!+#REF!+#REF!+#REF!+#REF!+#REF!+#REF!+#REF!+#REF!+#REF!+#REF!+#REF!+#REF!+#REF!+#REF!+#REF!","v":{"$error":"#REF!"}},{"$f":"#REF!+#REF!+#REF!+#REF!+#REF!+#REF!+#REF!+#REF!+#REF!+#REF!+#REF!+#REF!+#REF!+#REF!+#REF!+#REF!+#REF!+#REF!+#REF!+#REF!+#REF!+#REF!+#REF!+#REF!+#REF!+#REF!+#REF!+#REF!+#REF!+#REF!+#REF!+#REF!+#REF!","v":{"$error":"#REF!"}},{"$f":"#REF!+#REF!+#REF!+#REF!+#REF!+#REF!+#REF!+#REF!+#REF!+#REF!+#REF!+#REF!+#REF!+#REF!+#REF!+#REF!+#REF!+#REF!+#REF!+#REF!+#REF!+#REF!+#REF!+#REF!+#REF!+#REF!+#REF!+#REF!+#REF!+#REF!+#REF!+#REF!+#REF!","v":{"$error":"#REF!"}},{"$f":"#REF!+#REF!+#REF!+#REF!+#REF!+#REF!+#REF!+#REF!+#REF!+#REF!+#REF!+#REF!+#REF!+#REF!+#REF!+#REF!+#REF!+#REF!+#REF!+#REF!+#REF!+#REF!+#REF!+#REF!+#REF!+#REF!+#REF!+#REF!+#REF!+#REF!+#REF!+#REF!+#REF!","v":{"$error":"#REF!"}},{"$f":"#REF!+#REF!+#REF!+#REF!+#REF!+#REF!+#REF!+#REF!+#REF!+#REF!+#REF!+#REF!+#REF!+#REF!+#REF!+#REF!+#REF!+#REF!+#REF!+#REF!+#REF!+#REF!+#REF!+#REF!+#REF!+#REF!+#REF!+#REF!+#REF!+#REF!+#REF!+#REF!+#REF!","v":{"$error":"#REF!"}},{"$f":"#REF!+#REF!+#REF!+#REF!+#REF!+#REF!+#REF!+#REF!+#REF!+#REF!+#REF!+#REF!+#REF!+#REF!+#REF!+#REF!+#REF!+#REF!+#REF!+#REF!+#REF!+#REF!+#REF!+#REF!+#REF!+#REF!+#REF!+#REF!+#REF!+#REF!+#REF!+#REF!+#REF!","v":{"$error":"#REF!"}},{"$f":"#REF!+#REF!+#REF!+#REF!+#REF!+#REF!+#REF!+#REF!+#REF!+#REF!+#REF!+#REF!+#REF!+#REF!+#REF!+#REF!+#REF!+#REF!+#REF!+#REF!+#REF!+#REF!+#REF!+#REF!+#REF!+#REF!+#REF!+#REF!+#REF!+#REF!+#REF!+#REF!+#REF!","v":{"$error":"#REF!"}},{"$f":"#REF!+#REF!+#REF!+#REF!+#REF!+#REF!+#REF!+#REF!+#REF!+#REF!+#REF!+#REF!+#REF!+#REF!+#REF!+#REF!+#REF!+#REF!+#REF!+#REF!+#REF!+#REF!+#REF!+#REF!+#REF!+#REF!+#REF!+#REF!+#REF!+#REF!+#REF!+#REF!+#REF!","v":{"$error":"#REF!"}},{"$f":"#REF!+#REF!+#REF!+#REF!+#REF!+#REF!+#REF!+#REF!+#REF!+#REF!+#REF!+#REF!+#REF!+#REF!+#REF!+#REF!+#REF!+#REF!+#REF!+#REF!+#REF!+#REF!+#REF!+#REF!+#REF!+#REF!+#REF!+#REF!+#REF!+#REF!+#REF!+#REF!+#REF!","v":{"$error":"#REF!"}},{"$f":"#REF!+#REF!+#REF!+#REF!+#REF!+#REF!+#REF!+#REF!+#REF!+#REF!+#REF!+#REF!+#REF!+#REF!+#REF!+#REF!+#REF!+#REF!+#REF!+#REF!+#REF!+#REF!+#REF!+#REF!+#REF!+#REF!+#REF!+#REF!+#REF!+#REF!+#REF!+#REF!+#REF!","v":{"$error":"#REF!"}},{"$f":"#REF!+#REF!+#REF!+#REF!+#REF!+#REF!+#REF!+#REF!+#REF!+#REF!+#REF!+#REF!+#REF!+#REF!+#REF!+#REF!+#REF!+#REF!+#REF!+#REF!+#REF!+#REF!+#REF!+#REF!+#REF!+#REF!+#REF!+#REF!+#REF!+#REF!+#REF!+#REF!+#REF!","v":{"$error":"#REF!"}},{"$error":"#REF!"},{"$error":"#REF!"},{"$f":"#REF!+#REF!+#REF!+#REF!+#REF!+#REF!+#REF!+#REF!+#REF!+#REF!+#REF!+#REF!+#REF!+#REF!+#REF!+#REF!+#REF!+#REF!+#REF!+#REF!+#REF!+#REF!+#REF!+#REF!+#REF!+#REF!+#REF!+#REF!+#REF!+#REF!+#REF!+#REF!+#REF!","v":{"$error":"#REF!"}},null,{"$error":"#REF!"}]
[24,"Iberville",{"$f":"#REF!+#REF!+#REF!+#REF!+#REF!+#REF!+#REF!+#REF!+#REF!+#REF!+#REF!+#REF!+#REF!+#REF!+#REF!+#REF!+#REF!+#REF!+#REF!+#REF!+#REF!+#REF!+#REF!+#REF!+#REF!+#REF!+#REF!+#REF!+#REF!+#REF!+#REF!+#REF!+#REF!","v":{"$error":"#REF!"}},{"$f":"'9_Per Pupil Summary'!H29","v":2376.0732127338902},{"$f":"#REF!+#REF!+#REF!+#REF!+#REF!+#REF!+#REF!+#REF!+#REF!+#REF!+#REF!+#REF!+#REF!+#REF!+#REF!+#REF!+#REF!+#REF!+#REF!+#REF!+#REF!+#REF!+#REF!+#REF!+#REF!+#REF!+#REF!+#REF!+#REF!+#REF!+#REF!+#REF!+#REF!","v":{"$error":"#REF!"}},{"$f":"#REF!+#REF!+#REF!+#REF!+#REF!+#REF!+#REF!+#REF!+#REF!+#REF!+#REF!+#REF!+#REF!+#REF!+#REF!+#REF!+#REF!+#REF!+#REF!+#REF!+#REF!+#REF!+#REF!+#REF!+#REF!+#REF!+#REF!+#REF!+#REF!+#REF!+#REF!+#REF!+#REF!","v":{"$error":"#REF!"}},{"$f":"'9_Per Pupil Summary'!I29","v":220.82498754930828},{"$f":"#REF!+#REF!+#REF!+#REF!+#REF!+#REF!+#REF!+#REF!+#REF!+#REF!+#REF!+#REF!+#REF!+#REF!+#REF!+#REF!+#REF!+#REF!+#REF!+#REF!+#REF!+#REF!+#REF!+#REF!+#REF!+#REF!+#REF!+#REF!+#REF!+#REF!+#REF!+#REF!+#REF!","v":{"$error":"#REF!"}},{"$f":"#REF!+#REF!+#REF!+#REF!+#REF!+#REF!+#REF!+#REF!+#REF!+#REF!+#REF!+#REF!+#REF!+#REF!+#REF!+#REF!+#REF!+#REF!+#REF!+#REF!+#REF!+#REF!+#REF!+#REF!+#REF!+#REF!+#REF!+#REF!+#REF!+#REF!+#REF!+#REF!+#REF!","v":{"$error":"#REF!"}},{"$f":"'9_Per Pupil Summary'!J29","v":60.224996604356811},{"$f":"#REF!+#REF!+#REF!+#REF!+#REF!+#REF!+#REF!+#REF!+#REF!+#REF!+#REF!+#REF!+#REF!+#REF!+#REF!+#REF!+#REF!+#REF!+#REF!+#REF!+#REF!+#REF!+#REF!+#REF!+#REF!+#REF!+#REF!+#REF!+#REF!+#REF!+#REF!+#REF!+#REF!","v":{"$error":"#REF!"}},{"$f":"#REF!+#REF!+#REF!+#REF!+#REF!+#REF!+#REF!+#REF!+#REF!+#REF!+#REF!+#REF!+#REF!+#REF!+#REF!+#REF!+#REF!+#REF!+#REF!+#REF!+#REF!+#REF!+#REF!+#REF!+#REF!+#REF!+#REF!+#REF!+#REF!+#REF!+#REF!+#REF!+#REF!","v":{"$error":"#REF!"}},{"$f":"'9_Per Pupil Summary'!K29","v":1505.6249151089203},{"$f":"#REF!+#REF!+#REF!+#REF!+#REF!+#REF!+#REF!+#REF!+#REF!+#REF!+#REF!+#REF!+#REF!+#REF!+#REF!+#REF!+#REF!+#REF!+#REF!+#REF!+#REF!+#REF!+#REF!+#REF!+#REF!+#REF!+#REF!+#REF!+#REF!+#REF!+#REF!+#REF!+#REF!","v":{"$error":"#REF!"}},{"$f":"#REF!+#REF!+#REF!+#REF!+#REF!+#REF!+#REF!+#REF!+#REF!+#REF!+#REF!+#REF!+#REF!+#REF!+#REF!+#REF!+#REF!+#REF!+#REF!+#REF!+#REF!+#REF!+#REF!+#REF!+#REF!+#REF!+#REF!+#REF!+#REF!+#REF!+#REF!+#REF!+#REF!","v":{"$error":"#REF!"}},{"$f":"'9_Per Pupil Summary'!L29","v":602.24996604356807},{"$f":"#REF!+#REF!+#REF!+#REF!+#REF!+#REF!+#REF!+#REF!+#REF!+#REF!+#REF!+#REF!+#REF!+#REF!+#REF!+#REF!+#REF!+#REF!+#REF!+#REF!+#REF!+#REF!+#REF!+#REF!+#REF!+#REF!+#REF!+#REF!+#REF!+#REF!+#REF!+#REF!+#REF!","v":{"$error":"#REF!"}},{"$f":"#REF!+#REF!+#REF!+#REF!+#REF!+#REF!+#REF!+#REF!+#REF!+#REF!+#REF!+#REF!+#REF!+#REF!+#REF!+#REF!+#REF!+#REF!+#REF!+#REF!+#REF!+#REF!+#REF!+#REF!+#REF!+#REF!+#REF!+#REF!+#REF!+#REF!+#REF!+#REF!+#REF!","v":{"$error":"#REF!"}},{"$f":"#REF!+#REF!","v":{"$error":"#REF!"}},{"$f":"#REF!+#REF!+#REF!+#REF!+#REF!+#REF!+#REF!+#REF!+#REF!+#REF!+#REF!+#REF!+#REF!+#REF!+#REF!+#REF!+#REF!+#REF!+#REF!+#REF!+#REF!+#REF!+#REF!+#REF!+#REF!+#REF!+#REF!+#REF!+#REF!+#REF!+#REF!+#REF!+#REF!","v":{"$error":"#REF!"}},{"$f":"#REF!+#REF!+#REF!+#REF!+#REF!+#REF!+#REF!+#REF!+#REF!+#REF!+#REF!+#REF!+#REF!+#REF!+#REF!+#REF!+#REF!+#REF!+#REF!+#REF!+#REF!+#REF!+#REF!+#REF!+#REF!+#REF!+#REF!+#REF!+#REF!+#REF!+#REF!+#REF!+#REF!","v":{"$error":"#REF!"}},{"$f":"#REF!+#REF!+#REF!+#REF!+#REF!+#REF!+#REF!+#REF!+#REF!+#REF!+#REF!+#REF!+#REF!+#REF!+#REF!+#REF!+#REF!+#REF!+#REF!+#REF!+#REF!+#REF!+#REF!+#REF!+#REF!+#REF!+#REF!+#REF!+#REF!+#REF!+#REF!+#REF!+#REF!","v":{"$error":"#REF!"}},{"$f":"#REF!+#REF!+#REF!+#REF!+#REF!+#REF!+#REF!+#REF!+#REF!+#REF!+#REF!+#REF!+#REF!+#REF!+#REF!+#REF!+#REF!+#REF!+#REF!+#REF!+#REF!+#REF!+#REF!+#REF!+#REF!+#REF!+#REF!+#REF!+#REF!+#REF!+#REF!+#REF!+#REF!","v":{"$error":"#REF!"}},{"$f":"#REF!+#REF!+#REF!+#REF!+#REF!+#REF!+#REF!+#REF!+#REF!+#REF!+#REF!+#REF!+#REF!+#REF!+#REF!+#REF!+#REF!+#REF!+#REF!+#REF!+#REF!+#REF!+#REF!+#REF!+#REF!+#REF!+#REF!+#REF!+#REF!+#REF!+#REF!+#REF!+#REF!","v":{"$error":"#REF!"}},{"$f":"#REF!+#REF!+#REF!+#REF!+#REF!+#REF!+#REF!+#REF!+#REF!+#REF!+#REF!+#REF!+#REF!+#REF!+#REF!+#REF!+#REF!+#REF!+#REF!+#REF!+#REF!+#REF!+#REF!+#REF!+#REF!+#REF!+#REF!+#REF!+#REF!+#REF!+#REF!+#REF!+#REF!","v":{"$error":"#REF!"}},{"$f":"#REF!+#REF!+#REF!+#REF!+#REF!+#REF!+#REF!+#REF!+#REF!+#REF!+#REF!+#REF!+#REF!+#REF!+#REF!+#REF!+#REF!+#REF!+#REF!+#REF!+#REF!+#REF!+#REF!+#REF!+#REF!+#REF!+#REF!+#REF!+#REF!+#REF!+#REF!+#REF!+#REF!","v":{"$error":"#REF!"}},{"$f":"#REF!+#REF!+#REF!+#REF!+#REF!+#REF!+#REF!+#REF!+#REF!+#REF!+#REF!+#REF!+#REF!+#REF!+#REF!+#REF!+#REF!+#REF!+#REF!+#REF!+#REF!+#REF!+#REF!+#REF!+#REF!+#REF!+#REF!+#REF!+#REF!+#REF!+#REF!+#REF!+#REF!","v":{"$error":"#REF!"}},{"$f":"#REF!+#REF!+#REF!+#REF!+#REF!+#REF!+#REF!+#REF!+#REF!+#REF!+#REF!+#REF!+#REF!+#REF!+#REF!+#REF!+#REF!+#REF!+#REF!+#REF!+#REF!+#REF!+#REF!+#REF!+#REF!+#REF!+#REF!+#REF!+#REF!+#REF!+#REF!+#REF!+#REF!","v":{"$error":"#REF!"}},{"$f":"#REF!+#REF!+#REF!+#REF!+#REF!+#REF!+#REF!+#REF!+#REF!+#REF!+#REF!+#REF!+#REF!+#REF!+#REF!+#REF!+#REF!+#REF!+#REF!+#REF!+#REF!+#REF!+#REF!+#REF!+#REF!+#REF!+#REF!+#REF!+#REF!+#REF!+#REF!+#REF!+#REF!","v":{"$error":"#REF!"}},{"$f":"#REF!+#REF!+#REF!+#REF!+#REF!+#REF!+#REF!+#REF!+#REF!+#REF!+#REF!+#REF!+#REF!+#REF!+#REF!+#REF!+#REF!+#REF!+#REF!+#REF!+#REF!+#REF!+#REF!+#REF!+#REF!+#REF!+#REF!+#REF!+#REF!+#REF!+#REF!+#REF!+#REF!","v":{"$error":"#REF!"}},{"$f":"#REF!+#REF!+#REF!+#REF!+#REF!+#REF!+#REF!+#REF!+#REF!+#REF!+#REF!+#REF!+#REF!+#REF!+#REF!+#REF!+#REF!+#REF!+#REF!+#REF!+#REF!+#REF!+#REF!+#REF!+#REF!+#REF!+#REF!+#REF!+#REF!+#REF!+#REF!+#REF!+#REF!","v":{"$error":"#REF!"}},{"$f":"'9_Per Pupil Summary'!N29","v":24698},{"$f":"#REF!+#REF!+#REF!+#REF!+#REF!+#REF!+#REF!+#REF!+#REF!+#REF!+#REF!+#REF!+#REF!+#REF!+#REF!+#REF!+#REF!+#REF!+#REF!+#REF!+#REF!+#REF!+#REF!+#REF!+#REF!+#REF!+#REF!+#REF!+#REF!+#REF!+#REF!+#REF!+#REF!","v":{"$error":"#REF!"}},{"$f":"#REF!+#REF!+#REF!+#REF!+#REF!+#REF!+#REF!+#REF!+#REF!+#REF!+#REF!+#REF!+#REF!+#REF!+#REF!+#REF!+#REF!+#REF!+#REF!+#REF!+#REF!+#REF!+#REF!+#REF!+#REF!+#REF!+#REF!+#REF!+#REF!+#REF!+#REF!+#REF!+#REF!","v":{"$error":"#REF!"}},{"$f":"#REF!+#REF!+#REF!+#REF!+#REF!+#REF!+#REF!+#REF!+#REF!+#REF!+#REF!+#REF!+#REF!+#REF!+#REF!+#REF!+#REF!+#REF!+#REF!+#REF!+#REF!+#REF!+#REF!+#REF!+#REF!+#REF!+#REF!+#REF!+#REF!+#REF!+#REF!+#REF!+#REF!","v":{"$error":"#REF!"}},{"$f":"#REF!+#REF!+#REF!+#REF!+#REF!+#REF!+#REF!+#REF!+#REF!+#REF!+#REF!+#REF!+#REF!+#REF!+#REF!+#REF!+#REF!+#REF!+#REF!+#REF!+#REF!+#REF!+#REF!+#REF!+#REF!+#REF!+#REF!+#REF!+#REF!+#REF!+#REF!+#REF!+#REF!","v":{"$error":"#REF!"}},{"$f":"#REF!+#REF!+#REF!+#REF!+#REF!+#REF!+#REF!+#REF!+#REF!+#REF!+#REF!+#REF!+#REF!+#REF!+#REF!+#REF!+#REF!+#REF!+#REF!+#REF!+#REF!+#REF!+#REF!+#REF!+#REF!+#REF!+#REF!+#REF!+#REF!+#REF!+#REF!+#REF!+#REF!","v":{"$error":"#REF!"}},{"$f":"#REF!+#REF!+#REF!+#REF!+#REF!+#REF!+#REF!+#REF!+#REF!+#REF!+#REF!+#REF!+#REF!+#REF!+#REF!+#REF!+#REF!+#REF!+#REF!+#REF!+#REF!+#REF!+#REF!+#REF!+#REF!+#REF!+#REF!+#REF!+#REF!+#REF!+#REF!+#REF!+#REF!","v":{"$error":"#REF!"}},{"$f":"#REF!+#REF!+#REF!+#REF!+#REF!+#REF!+#REF!+#REF!+#REF!+#REF!+#REF!+#REF!+#REF!+#REF!+#REF!+#REF!+#REF!+#REF!+#REF!+#REF!+#REF!+#REF!+#REF!+#REF!+#REF!+#REF!+#REF!+#REF!+#REF!+#REF!+#REF!+#REF!+#REF!","v":{"$error":"#REF!"}},{"$f":"#REF!+#REF!+#REF!+#REF!+#REF!+#REF!+#REF!+#REF!+#REF!+#REF!+#REF!+#REF!+#REF!+#REF!+#REF!+#REF!+#REF!+#REF!+#REF!+#REF!+#REF!+#REF!+#REF!+#REF!+#REF!+#REF!+#REF!+#REF!+#REF!+#REF!+#REF!+#REF!+#REF!","v":{"$error":"#REF!"}},{"$f":"#REF!+#REF!+#REF!+#REF!+#REF!+#REF!+#REF!+#REF!+#REF!+#REF!+#REF!+#REF!+#REF!+#REF!+#REF!+#REF!+#REF!+#REF!+#REF!+#REF!+#REF!+#REF!+#REF!+#REF!+#REF!+#REF!+#REF!+#REF!+#REF!+#REF!+#REF!+#REF!+#REF!","v":{"$error":"#REF!"}},{"$f":"#REF!+#REF!+#REF!+#REF!+#REF!+#REF!+#REF!+#REF!+#REF!+#REF!+#REF!+#REF!+#REF!+#REF!+#REF!+#REF!+#REF!+#REF!+#REF!+#REF!+#REF!+#REF!+#REF!+#REF!+#REF!+#REF!+#REF!+#REF!+#REF!+#REF!+#REF!+#REF!+#REF!","v":{"$error":"#REF!"}},{"$f":"#REF!+#REF!+#REF!+#REF!+#REF!+#REF!+#REF!+#REF!+#REF!+#REF!+#REF!+#REF!+#REF!+#REF!+#REF!+#REF!+#REF!+#REF!+#REF!+#REF!+#REF!+#REF!+#REF!+#REF!+#REF!+#REF!+#REF!+#REF!+#REF!+#REF!+#REF!+#REF!+#REF!","v":{"$error":"#REF!"}},{"$f":"#REF!+#REF!+#REF!+#REF!+#REF!+#REF!+#REF!+#REF!+#REF!+#REF!+#REF!+#REF!+#REF!+#REF!+#REF!+#REF!+#REF!+#REF!+#REF!+#REF!+#REF!+#REF!+#REF!+#REF!+#REF!+#REF!+#REF!+#REF!+#REF!+#REF!+#REF!+#REF!+#REF!","v":{"$error":"#REF!"}},{"$f":"#REF!+#REF!+#REF!+#REF!+#REF!+#REF!+#REF!+#REF!+#REF!+#REF!+#REF!+#REF!+#REF!+#REF!+#REF!+#REF!+#REF!+#REF!+#REF!+#REF!+#REF!+#REF!+#REF!+#REF!+#REF!+#REF!+#REF!+#REF!+#REF!+#REF!+#REF!+#REF!+#REF!","v":{"$error":"#REF!"}},{"$f":"#REF!+#REF!+#REF!+#REF!+#REF!+#REF!+#REF!+#REF!+#REF!+#REF!+#REF!+#REF!+#REF!+#REF!+#REF!+#REF!+#REF!+#REF!+#REF!+#REF!+#REF!+#REF!+#REF!+#REF!+#REF!+#REF!+#REF!+#REF!+#REF!+#REF!+#REF!+#REF!+#REF!","v":{"$error":"#REF!"}},{"$error":"#REF!"},{"$error":"#REF!"},{"$f":"#REF!+#REF!+#REF!+#REF!+#REF!+#REF!+#REF!+#REF!+#REF!+#REF!+#REF!+#REF!+#REF!+#REF!+#REF!+#REF!+#REF!+#REF!+#REF!+#REF!+#REF!+#REF!+#REF!+#REF!+#REF!+#REF!+#REF!+#REF!+#REF!+#REF!+#REF!+#REF!+#REF!","v":{"$error":"#REF!"}},null,{"$error":"#REF!"}]
[25,"Jackson",{"$f":"#REF!+#REF!+#REF!+#REF!+#REF!+#REF!+#REF!+#REF!+#REF!+#REF!+#REF!+#REF!+#REF!+#REF!+#REF!+#REF!+#REF!+#REF!+#REF!+#REF!+#REF!+#REF!+#REF!+#REF!+#REF!+#REF!+#REF!+#REF!+#REF!+#REF!+#REF!+#REF!+#REF!","v":{"$error":"#REF!"}},{"$f":"'9_Per Pupil Summary'!H30","v":4759.6779346874209},{"$f":"#REF!+#REF!+#REF!+#REF!+#REF!+#REF!+#REF!+#REF!+#REF!+#REF!+#REF!+#REF!+#REF!+#REF!+#REF!+#REF!+#REF!+#REF!+#REF!+#REF!+#REF!+#REF!+#REF!+#REF!+#REF!+#REF!+#REF!+#REF!+#REF!+#REF!+#REF!+#REF!+#REF!","v":{"$error":"#REF!"}},{"$f":"#REF!+#REF!+#REF!+#REF!+#REF!+#REF!+#REF!+#REF!+#REF!+#REF!+#REF!+#REF!+#REF!+#REF!+#REF!+#REF!+#REF!+#REF!+#REF!+#REF!+#REF!+#REF!+#REF!+#REF!+#REF!+#REF!+#REF!+#REF!+#REF!+#REF!+#REF!+#REF!+#REF!","v":{"$error":"#REF!"}},{"$f":"'9_Per Pupil Summary'!I30","v":629.09769986008814},{"$f":"#REF!+#REF!+#REF!+#REF!+#REF!+#REF!+#REF!+#REF!+#REF!+#REF!+#REF!+#REF!+#REF!+#REF!+#REF!+#REF!+#REF!+#REF!+#REF!+#REF!+#REF!+#REF!+#REF!+#REF!+#REF!+#REF!+#REF!+#REF!+#REF!+#REF!+#REF!+#REF!+#REF!","v":{"$error":"#REF!"}},{"$f":"#REF!+#REF!+#REF!+#REF!+#REF!+#REF!+#REF!+#REF!+#REF!+#REF!+#REF!+#REF!+#REF!+#REF!+#REF!+#REF!+#REF!+#REF!+#REF!+#REF!+#REF!+#REF!+#REF!+#REF!+#REF!+#REF!+#REF!+#REF!+#REF!+#REF!+#REF!+#REF!+#REF!","v":{"$error":"#REF!"}},{"$f":"'9_Per Pupil Summary'!J30","v":171.57209996184224},{"$f":"#REF!+#REF!+#REF!+#REF!+#REF!+#REF!+#REF!+#REF!+#REF!+#REF!+#REF!+#REF!+#REF!+#REF!+#REF!+#REF!+#REF!+#REF!+#REF!+#REF!+#REF!+#REF!+#REF!+#REF!+#REF!+#REF!+#REF!+#REF!+#REF!+#REF!+#REF!+#REF!+#REF!","v":{"$error":"#REF!"}},{"$f":"#REF!+#REF!+#REF!+#REF!+#REF!+#REF!+#REF!+#REF!+#REF!+#REF!+#REF!+#REF!+#REF!+#REF!+#REF!+#REF!+#REF!+#REF!+#REF!+#REF!+#REF!+#REF!+#REF!+#REF!+#REF!+#REF!+#REF!+#REF!+#REF!+#REF!+#REF!+#REF!+#REF!","v":{"$error":"#REF!"}},{"$f":"'9_Per Pupil Summary'!K30","v":4289.3024990460563},{"$f":"#REF!+#REF!+#REF!+#REF!+#REF!+#REF!+#REF!+#REF!+#REF!+#REF!+#REF!+#REF!+#REF!+#REF!+#REF!+#REF!+#REF!+#REF!+#REF!+#REF!+#REF!+#REF!+#REF!+#REF!+#REF!+#REF!+#REF!+#REF!+#REF!+#REF!+#REF!+#REF!+#REF!","v":{"$error":"#REF!"}},{"$f":"#REF!+#REF!+#REF!+#REF!+#REF!+#REF!+#REF!+#REF!+#REF!+#REF!+#REF!+#REF!+#REF!+#REF!+#REF!+#REF!+#REF!+#REF!+#REF!+#REF!+#REF!+#REF!+#REF!+#REF!+#REF!+#REF!+#REF!+#REF!+#REF!+#REF!+#REF!+#REF!+#REF!","v":{"$error":"#REF!"}},{"$f":"'9_Per Pupil Summary'!L30","v":1715.7209996184222},{"$f":"#REF!+#REF!+#REF!+#REF!+#REF!+#REF!+#REF!+#REF!+#REF!+#REF!+#REF!+#REF!+#REF!+#REF!+#REF!+#REF!+#REF!+#REF!+#REF!+#REF!+#REF!+#REF!+#REF!+#REF!+#REF!+#REF!+#REF!+#REF!+#REF!+#REF!+#REF!+#REF!+#REF!","v":{"$error":"#REF!"}},{"$f":"#REF!+#REF!+#REF!+#REF!+#REF!+#REF!+#REF!+#REF!+#REF!+#REF!+#REF!+#REF!+#REF!+#REF!+#REF!+#REF!+#REF!+#REF!+#REF!+#REF!+#REF!+#REF!+#REF!+#REF!+#REF!+#REF!+#REF!+#REF!+#REF!+#REF!+#REF!+#REF!+#REF!","v":{"$error":"#REF!"}},{"$f":"#REF!+#REF!","v":{"$error":"#REF!"}},{"$f":"#REF!+#REF!+#REF!+#REF!+#REF!+#REF!+#REF!+#REF!+#REF!+#REF!+#REF!+#REF!+#REF!+#REF!+#REF!+#REF!+#REF!+#REF!+#REF!+#REF!+#REF!+#REF!+#REF!+#REF!+#REF!+#REF!+#REF!+#REF!+#REF!+#REF!+#REF!+#REF!+#REF!","v":{"$error":"#REF!"}},{"$f":"#REF!+#REF!+#REF!+#REF!+#REF!+#REF!+#REF!+#REF!+#REF!+#REF!+#REF!+#REF!+#REF!+#REF!+#REF!+#REF!+#REF!+#REF!+#REF!+#REF!+#REF!+#REF!+#REF!+#REF!+#REF!+#REF!+#REF!+#REF!+#REF!+#REF!+#REF!+#REF!+#REF!","v":{"$error":"#REF!"}},{"$f":"#REF!+#REF!+#REF!+#REF!+#REF!+#REF!+#REF!+#REF!+#REF!+#REF!+#REF!+#REF!+#REF!+#REF!+#REF!+#REF!+#REF!+#REF!+#REF!+#REF!+#REF!+#REF!+#REF!+#REF!+#REF!+#REF!+#REF!+#REF!+#REF!+#REF!+#REF!+#REF!+#REF!","v":{"$error":"#REF!"}},{"$f":"#REF!+#REF!+#REF!+#REF!+#REF!+#REF!+#REF!+#REF!+#REF!+#REF!+#REF!+#REF!+#REF!+#REF!+#REF!+#REF!+#REF!+#REF!+#REF!+#REF!+#REF!+#REF!+#REF!+#REF!+#REF!+#REF!+#REF!+#REF!+#REF!+#REF!+#REF!+#REF!+#REF!","v":{"$error":"#REF!"}},{"$f":"#REF!+#REF!+#REF!+#REF!+#REF!+#REF!+#REF!+#REF!+#REF!+#REF!+#REF!+#REF!+#REF!+#REF!+#REF!+#REF!+#REF!+#REF!+#REF!+#REF!+#REF!+#REF!+#REF!+#REF!+#REF!+#REF!+#REF!+#REF!+#REF!+#REF!+#REF!+#REF!+#REF!","v":{"$error":"#REF!"}},{"$f":"#REF!+#REF!+#REF!+#REF!+#REF!+#REF!+#REF!+#REF!+#REF!+#REF!+#REF!+#REF!+#REF!+#REF!+#REF!+#REF!+#REF!+#REF!+#REF!+#REF!+#REF!+#REF!+#REF!+#REF!+#REF!+#REF!+#REF!+#REF!+#REF!+#REF!+#REF!+#REF!+#REF!","v":{"$error":"#REF!"}},{"$f":"#REF!+#REF!+#REF!+#REF!+#REF!+#REF!+#REF!+#REF!+#REF!+#REF!+#REF!+#REF!+#REF!+#REF!+#REF!+#REF!+#REF!+#REF!+#REF!+#REF!+#REF!+#REF!+#REF!+#REF!+#REF!+#REF!+#REF!+#REF!+#REF!+#REF!+#REF!+#REF!+#REF!","v":{"$error":"#REF!"}},{"$f":"#REF!+#REF!+#REF!+#REF!+#REF!+#REF!+#REF!+#REF!+#REF!+#REF!+#REF!+#REF!+#REF!+#REF!+#REF!+#REF!+#REF!+#REF!+#REF!+#REF!+#REF!+#REF!+#REF!+#REF!+#REF!+#REF!+#REF!+#REF!+#REF!+#REF!+#REF!+#REF!+#REF!","v":{"$error":"#REF!"}},{"$f":"#REF!+#REF!+#REF!+#REF!+#REF!+#REF!+#REF!+#REF!+#REF!+#REF!+#REF!+#REF!+#REF!+#REF!+#REF!+#REF!+#REF!+#REF!+#REF!+#REF!+#REF!+#REF!+#REF!+#REF!+#REF!+#REF!+#REF!+#REF!+#REF!+#REF!+#REF!+#REF!+#REF!","v":{"$error":"#REF!"}},{"$f":"#REF!+#REF!+#REF!+#REF!+#REF!+#REF!+#REF!+#REF!+#REF!+#REF!+#REF!+#REF!+#REF!+#REF!+#REF!+#REF!+#REF!+#REF!+#REF!+#REF!+#REF!+#REF!+#REF!+#REF!+#REF!+#REF!+#REF!+#REF!+#REF!+#REF!+#REF!+#REF!+#REF!","v":{"$error":"#REF!"}},{"$f":"#REF!+#REF!+#REF!+#REF!+#REF!+#REF!+#REF!+#REF!+#REF!+#REF!+#REF!+#REF!+#REF!+#REF!+#REF!+#REF!+#REF!+#REF!+#REF!+#REF!+#REF!+#REF!+#REF!+#REF!+#REF!+#REF!+#REF!+#REF!+#REF!+#REF!+#REF!+#REF!+#REF!","v":{"$error":"#REF!"}},{"$f":"#REF!+#REF!+#REF!+#REF!+#REF!+#REF!+#REF!+#REF!+#REF!+#REF!+#REF!+#REF!+#REF!+#REF!+#REF!+#REF!+#REF!+#REF!+#REF!+#REF!+#REF!+#REF!+#REF!+#REF!+#REF!+#REF!+#REF!+#REF!+#REF!+#REF!+#REF!+#REF!+#REF!","v":{"$error":"#REF!"}},{"$f":"'9_Per Pupil Summary'!N30","v":5584},{"$f":"#REF!+#REF!+#REF!+#REF!+#REF!+#REF!+#REF!+#REF!+#REF!+#REF!+#REF!+#REF!+#REF!+#REF!+#REF!+#REF!+#REF!+#REF!+#REF!+#REF!+#REF!+#REF!+#REF!+#REF!+#REF!+#REF!+#REF!+#REF!+#REF!+#REF!+#REF!+#REF!+#REF!","v":{"$error":"#REF!"}},{"$f":"#REF!+#REF!+#REF!+#REF!+#REF!+#REF!+#REF!+#REF!+#REF!+#REF!+#REF!+#REF!+#REF!+#REF!+#REF!+#REF!+#REF!+#REF!+#REF!+#REF!+#REF!+#REF!+#REF!+#REF!+#REF!+#REF!+#REF!+#REF!+#REF!+#REF!+#REF!+#REF!+#REF!","v":{"$error":"#REF!"}},{"$f":"#REF!+#REF!+#REF!+#REF!+#REF!+#REF!+#REF!+#REF!+#REF!+#REF!+#REF!+#REF!+#REF!+#REF!+#REF!+#REF!+#REF!+#REF!+#REF!+#REF!+#REF!+#REF!+#REF!+#REF!+#REF!+#REF!+#REF!+#REF!+#REF!+#REF!+#REF!+#REF!+#REF!","v":{"$error":"#REF!"}},{"$f":"#REF!+#REF!+#REF!+#REF!+#REF!+#REF!+#REF!+#REF!+#REF!+#REF!+#REF!+#REF!+#REF!+#REF!+#REF!+#REF!+#REF!+#REF!+#REF!+#REF!+#REF!+#REF!+#REF!+#REF!+#REF!+#REF!+#REF!+#REF!+#REF!+#REF!+#REF!+#REF!+#REF!","v":{"$error":"#REF!"}},{"$f":"#REF!+#REF!+#REF!+#REF!+#REF!+#REF!+#REF!+#REF!+#REF!+#REF!+#REF!+#REF!+#REF!+#REF!+#REF!+#REF!+#REF!+#REF!+#REF!+#REF!+#REF!+#REF!+#REF!+#REF!+#REF!+#REF!+#REF!+#REF!+#REF!+#REF!+#REF!+#REF!+#REF!","v":{"$error":"#REF!"}},{"$f":"#REF!+#REF!+#REF!+#REF!+#REF!+#REF!+#REF!+#REF!+#REF!+#REF!+#REF!+#REF!+#REF!+#REF!+#REF!+#REF!+#REF!+#REF!+#REF!+#REF!+#REF!+#REF!+#REF!+#REF!+#REF!+#REF!+#REF!+#REF!+#REF!+#REF!+#REF!+#REF!+#REF!","v":{"$error":"#REF!"}},{"$f":"#REF!+#REF!+#REF!+#REF!+#REF!+#REF!+#REF!+#REF!+#REF!+#REF!+#REF!+#REF!+#REF!+#REF!+#REF!+#REF!+#REF!+#REF!+#REF!+#REF!+#REF!+#REF!+#REF!+#REF!+#REF!+#REF!+#REF!+#REF!+#REF!+#REF!+#REF!+#REF!+#REF!","v":{"$error":"#REF!"}},{"$f":"#REF!+#REF!+#REF!+#REF!+#REF!+#REF!+#REF!+#REF!+#REF!+#REF!+#REF!+#REF!+#REF!+#REF!+#REF!+#REF!+#REF!+#REF!+#REF!+#REF!+#REF!+#REF!+#REF!+#REF!+#REF!+#REF!+#REF!+#REF!+#REF!+#REF!+#REF!+#REF!+#REF!","v":{"$error":"#REF!"}},{"$f":"#REF!+#REF!+#REF!+#REF!+#REF!+#REF!+#REF!+#REF!+#REF!+#REF!+#REF!+#REF!+#REF!+#REF!+#REF!+#REF!+#REF!+#REF!+#REF!+#REF!+#REF!+#REF!+#REF!+#REF!+#REF!+#REF!+#REF!+#REF!+#REF!+#REF!+#REF!+#REF!+#REF!","v":{"$error":"#REF!"}},{"$f":"#REF!+#REF!+#REF!+#REF!+#REF!+#REF!+#REF!+#REF!+#REF!+#REF!+#REF!+#REF!+#REF!+#REF!+#REF!+#REF!+#REF!+#REF!+#REF!+#REF!+#REF!+#REF!+#REF!+#REF!+#REF!+#REF!+#REF!+#REF!+#REF!+#REF!+#REF!+#REF!+#REF!","v":{"$error":"#REF!"}},{"$f":"#REF!+#REF!+#REF!+#REF!+#REF!+#REF!+#REF!+#REF!+#REF!+#REF!+#REF!+#REF!+#REF!+#REF!+#REF!+#REF!+#REF!+#REF!+#REF!+#REF!+#REF!+#REF!+#REF!+#REF!+#REF!+#REF!+#REF!+#REF!+#REF!+#REF!+#REF!+#REF!+#REF!","v":{"$error":"#REF!"}},{"$f":"#REF!+#REF!+#REF!+#REF!+#REF!+#REF!+#REF!+#REF!+#REF!+#REF!+#REF!+#REF!+#REF!+#REF!+#REF!+#REF!+#REF!+#REF!+#REF!+#REF!+#REF!+#REF!+#REF!+#REF!+#REF!+#REF!+#REF!+#REF!+#REF!+#REF!+#REF!+#REF!+#REF!","v":{"$error":"#REF!"}},{"$f":"#REF!+#REF!+#REF!+#REF!+#REF!+#REF!+#REF!+#REF!+#REF!+#REF!+#REF!+#REF!+#REF!+#REF!+#REF!+#REF!+#REF!+#REF!+#REF!+#REF!+#REF!+#REF!+#REF!+#REF!+#REF!+#REF!+#REF!+#REF!+#REF!+#REF!+#REF!+#REF!+#REF!","v":{"$error":"#REF!"}},{"$f":"#REF!+#REF!+#REF!+#REF!+#REF!+#REF!+#REF!+#REF!+#REF!+#REF!+#REF!+#REF!+#REF!+#REF!+#REF!+#REF!+#REF!+#REF!+#REF!+#REF!+#REF!+#REF!+#REF!+#REF!+#REF!+#REF!+#REF!+#REF!+#REF!+#REF!+#REF!+#REF!+#REF!","v":{"$error":"#REF!"}},{"$error":"#REF!"},{"$error":"#REF!"},{"$f":"#REF!+#REF!+#REF!+#REF!+#REF!+#REF!+#REF!+#REF!+#REF!+#REF!+#REF!+#REF!+#REF!+#REF!+#REF!+#REF!+#REF!+#REF!+#REF!+#REF!+#REF!+#REF!+#REF!+#REF!+#REF!+#REF!+#REF!+#REF!+#REF!+#REF!+#REF!+#REF!+#REF!","v":{"$error":"#REF!"}},null,{"$error":"#REF!"}]
[26,"Jefferson",{"$f":"#REF!+#REF!+#REF!+#REF!+#REF!+#REF!+#REF!+#REF!+#REF!+#REF!+#REF!+#REF!+#REF!+#REF!+#REF!+#REF!+#REF!+#REF!+#REF!+#REF!+#REF!+#REF!+#REF!+#REF!+#REF!+#REF!+#REF!+#REF!+#REF!+#REF!+#REF!+#REF!+#REF!","v":{"$error":"#REF!"}},{"$f":"'9_Per Pupil Summary'!H31","v":3958.8447994724997},{"$f":"#REF!+#REF!+#REF!+#REF!+#REF!+#REF!+#REF!+#REF!+#REF!+#REF!+#REF!+#REF!+#REF!+#REF!+#REF!+#REF!+#REF!+#REF!+#REF!+#REF!+#REF!+#REF!+#REF!+#REF!+#REF!+#REF!+#REF!+#REF!+#REF!+#REF!+#REF!+#REF!+#REF!","v":{"$error":"#REF!"}},{"$f":"#REF!+#REF!+#REF!+#REF!+#REF!+#REF!+#REF!+#REF!+#REF!+#REF!+#REF!+#REF!+#REF!+#REF!+#REF!+#REF!+#REF!+#REF!+#REF!+#REF!+#REF!+#REF!+#REF!+#REF!+#REF!+#REF!+#REF!+#REF!+#REF!+#REF!+#REF!+#REF!+#REF!","v":{"$error":"#REF!"}},{"$f":"'9_Per Pupil Summary'!I31","v":492.8937921862219},{"$f":"#REF!+#REF!+#REF!+#REF!+#REF!+#REF!+#REF!+#REF!+#REF!+#REF!+#REF!+#REF!+#REF!+#REF!+#REF!+#REF!+#REF!+#REF!+#REF!+#REF!+#REF!+#REF!+#REF!+#REF!+#REF!+#REF!+#REF!+#REF!+#REF!+#REF!+#REF!+#REF!+#REF!","v":{"$error":"#REF!"}},{"$f":"#REF!+#REF!+#REF!+#REF!+#REF!+#REF!+#REF!+#REF!+#REF!+#REF!+#REF!+#REF!+#REF!+#REF!+#REF!+#REF!+#REF!+#REF!+#REF!+#REF!+#REF!+#REF!+#REF!+#REF!+#REF!+#REF!+#REF!+#REF!+#REF!+#REF!+#REF!+#REF!+#REF!","v":{"$error":"#REF!"}},{"$f":"'9_Per Pupil Summary'!J31","v":134.42557968715144},{"$f":"#REF!+#REF!+#REF!+#REF!+#REF!+#REF!+#REF!+#REF!+#REF!+#REF!+#REF!+#REF!+#REF!+#REF!+#REF!+#REF!+#REF!+#REF!+#REF!+#REF!+#REF!+#REF!+#REF!+#REF!+#REF!+#REF!+#REF!+#REF!+#REF!+#REF!+#REF!+#REF!+#REF!","v":{"$error":"#REF!"}},{"$f":"#REF!+#REF!+#REF!+#REF!+#REF!+#REF!+#REF!+#REF!+#REF!+#REF!+#REF!+#REF!+#REF!+#REF!+#REF!+#REF!+#REF!+#REF!+#REF!+#REF!+#REF!+#REF!+#REF!+#REF!+#REF!+#REF!+#REF!+#REF!+#REF!+#REF!+#REF!+#REF!+#REF!","v":{"$error":"#REF!"}},{"$f":"'9_Per Pupil Summary'!K31","v":3360.639492178786},{"$f":"#REF!+#REF!+#REF!+#REF!+#REF!+#REF!+#REF!+#REF!+#REF!+#REF!+#REF!+#REF!+#REF!+#REF!+#REF!+#REF!+#REF!+#REF!+#REF!+#REF!+#REF!+#REF!+#REF!+#REF!+#REF!+#REF!+#REF!+#REF!+#REF!+#REF!+#REF!+#REF!+#REF!","v":{"$error":"#REF!"}},{"$f":"#REF!+#REF!+#REF!+#REF!+#REF!+#REF!+#REF!+#REF!+#REF!+#REF!+#REF!+#REF!+#REF!+#REF!+#REF!+#REF!+#REF!+#REF!+#REF!+#REF!+#REF!+#REF!+#REF!+#REF!+#REF!+#REF!+#REF!+#REF!+#REF!+#REF!+#REF!+#REF!+#REF!","v":{"$error":"#REF!"}},{"$f":"'9_Per Pupil Summary'!L31","v":1344.2557968715146},{"$f":"#REF!+#REF!+#REF!+#REF!+#REF!+#REF!+#REF!+#REF!+#REF!+#REF!+#REF!+#REF!+#REF!+#REF!+#REF!+#REF!+#REF!+#REF!+#REF!+#REF!+#REF!+#REF!+#REF!+#REF!+#REF!+#REF!+#REF!+#REF!+#REF!+#REF!+#REF!+#REF!+#REF!","v":{"$error":"#REF!"}},{"$f":"#REF!+#REF!+#REF!+#REF!+#REF!+#REF!+#REF!+#REF!+#REF!+#REF!+#REF!+#REF!+#REF!+#REF!+#REF!+#REF!+#REF!+#REF!+#REF!+#REF!+#REF!+#REF!+#REF!+#REF!+#REF!+#REF!+#REF!+#REF!+#REF!+#REF!+#REF!+#REF!+#REF!","v":{"$error":"#REF!"}},{"$f":"#REF!+#REF!","v":{"$error":"#REF!"}},{"$f":"#REF!+#REF!+#REF!+#REF!+#REF!+#REF!+#REF!+#REF!+#REF!+#REF!+#REF!+#REF!+#REF!+#REF!+#REF!+#REF!+#REF!+#REF!+#REF!+#REF!+#REF!+#REF!+#REF!+#REF!+#REF!+#REF!+#REF!+#REF!+#REF!+#REF!+#REF!+#REF!+#REF!","v":{"$error":"#REF!"}},{"$f":"#REF!+#REF!+#REF!+#REF!+#REF!+#REF!+#REF!+#REF!+#REF!+#REF!+#REF!+#REF!+#REF!+#REF!+#REF!+#REF!+#REF!+#REF!+#REF!+#REF!+#REF!+#REF!+#REF!+#REF!+#REF!+#REF!+#REF!+#REF!+#REF!+#REF!+#REF!+#REF!+#REF!","v":{"$error":"#REF!"}},{"$f":"#REF!+#REF!+#REF!+#REF!+#REF!+#REF!+#REF!+#REF!+#REF!+#REF!+#REF!+#REF!+#REF!+#REF!+#REF!+#REF!+#REF!+#REF!+#REF!+#REF!+#REF!+#REF!+#REF!+#REF!+#REF!+#REF!+#REF!+#REF!+#REF!+#REF!+#REF!+#REF!+#REF!","v":{"$error":"#REF!"}},{"$f":"#REF!+#REF!+#REF!+#REF!+#REF!+#REF!+#REF!+#REF!+#REF!+#REF!+#REF!+#REF!+#REF!+#REF!+#REF!+#REF!+#REF!+#REF!+#REF!+#REF!+#REF!+#REF!+#REF!+#REF!+#REF!+#REF!+#REF!+#REF!+#REF!+#REF!+#REF!+#REF!+#REF!","v":{"$error":"#REF!"}},{"$f":"#REF!+#REF!+#REF!+#REF!+#REF!+#REF!+#REF!+#REF!+#REF!+#REF!+#REF!+#REF!+#REF!+#REF!+#REF!+#REF!+#REF!+#REF!+#REF!+#REF!+#REF!+#REF!+#REF!+#REF!+#REF!+#REF!+#REF!+#REF!+#REF!+#REF!+#REF!+#REF!+#REF!","v":{"$error":"#REF!"}},{"$f":"#REF!+#REF!+#REF!+#REF!+#REF!+#REF!+#REF!+#REF!+#REF!+#REF!+#REF!+#REF!+#REF!+#REF!+#REF!+#REF!+#REF!+#REF!+#REF!+#REF!+#REF!+#REF!+#REF!+#REF!+#REF!+#REF!+#REF!+#REF!+#REF!+#REF!+#REF!+#REF!+#REF!","v":{"$error":"#REF!"}},{"$f":"#REF!+#REF!+#REF!+#REF!+#REF!+#REF!+#REF!+#REF!+#REF!+#REF!+#REF!+#REF!+#REF!+#REF!+#REF!+#REF!+#REF!+#REF!+#REF!+#REF!+#REF!+#REF!+#REF!+#REF!+#REF!+#REF!+#REF!+#REF!+#REF!+#REF!+#REF!+#REF!+#REF!","v":{"$error":"#REF!"}},{"$f":"#REF!+#REF!+#REF!+#REF!+#REF!+#REF!+#REF!+#REF!+#REF!+#REF!+#REF!+#REF!+#REF!+#REF!+#REF!+#REF!+#REF!+#REF!+#REF!+#REF!+#REF!+#REF!+#REF!+#REF!+#REF!+#REF!+#REF!+#REF!+#REF!+#REF!+#REF!+#REF!+#REF!","v":{"$error":"#REF!"}},{"$f":"#REF!+#REF!+#REF!+#REF!+#REF!+#REF!+#REF!+#REF!+#REF!+#REF!+#REF!+#REF!+#REF!+#REF!+#REF!+#REF!+#REF!+#REF!+#REF!+#REF!+#REF!+#REF!+#REF!+#REF!+#REF!+#REF!+#REF!+#REF!+#REF!+#REF!+#REF!+#REF!+#REF!","v":{"$error":"#REF!"}},{"$f":"#REF!+#REF!+#REF!+#REF!+#REF!+#REF!+#REF!+#REF!+#REF!+#REF!+#REF!+#REF!+#REF!+#REF!+#REF!+#REF!+#REF!+#REF!+#REF!+#REF!+#REF!+#REF!+#REF!+#REF!+#REF!+#REF!+#REF!+#REF!+#REF!+#REF!+#REF!+#REF!+#REF!","v":{"$error":"#REF!"}},{"$f":"#REF!+#REF!+#REF!+#REF!+#REF!+#REF!+#REF!+#REF!+#REF!+#REF!+#REF!+#REF!+#REF!+#REF!+#REF!+#REF!+#REF!+#REF!+#REF!+#REF!+#REF!+#REF!+#REF!+#REF!+#REF!+#REF!+#REF!+#REF!+#REF!+#REF!+#REF!+#REF!+#REF!","v":{"$error":"#REF!"}},{"$f":"#REF!+#REF!+#REF!+#REF!+#REF!+#REF!+#REF!+#REF!+#REF!+#REF!+#REF!+#REF!+#REF!+#REF!+#REF!+#REF!+#REF!+#REF!+#REF!+#REF!+#REF!+#REF!+#REF!+#REF!+#REF!+#REF!+#REF!+#REF!+#REF!+#REF!+#REF!+#REF!+#REF!","v":{"$error":"#REF!"}},{"$f":"'9_Per Pupil Summary'!N31","v":7534},{"$f":"#REF!+#REF!+#REF!+#REF!+#REF!+#REF!+#REF!+#REF!+#REF!+#REF!+#REF!+#REF!+#REF!+#REF!+#REF!+#REF!+#REF!+#REF!+#REF!+#REF!+#REF!+#REF!+#REF!+#REF!+#REF!+#REF!+#REF!+#REF!+#REF!+#REF!+#REF!+#REF!+#REF!","v":{"$error":"#REF!"}},{"$f":"#REF!+#REF!+#REF!+#REF!+#REF!+#REF!+#REF!+#REF!+#REF!+#REF!+#REF!+#REF!+#REF!+#REF!+#REF!+#REF!+#REF!+#REF!+#REF!+#REF!+#REF!+#REF!+#REF!+#REF!+#REF!+#REF!+#REF!+#REF!+#REF!+#REF!+#REF!+#REF!+#REF!","v":{"$error":"#REF!"}},{"$f":"#REF!+#REF!+#REF!+#REF!+#REF!+#REF!+#REF!+#REF!+#REF!+#REF!+#REF!+#REF!+#REF!+#REF!+#REF!+#REF!+#REF!+#REF!+#REF!+#REF!+#REF!+#REF!+#REF!+#REF!+#REF!+#REF!+#REF!+#REF!+#REF!+#REF!+#REF!+#REF!+#REF!","v":{"$error":"#REF!"}},{"$f":"#REF!+#REF!+#REF!+#REF!+#REF!+#REF!+#REF!+#REF!+#REF!+#REF!+#REF!+#REF!+#REF!+#REF!+#REF!+#REF!+#REF!+#REF!+#REF!+#REF!+#REF!+#REF!+#REF!+#REF!+#REF!+#REF!+#REF!+#REF!+#REF!+#REF!+#REF!+#REF!+#REF!","v":{"$error":"#REF!"}},{"$f":"#REF!+#REF!+#REF!+#REF!+#REF!+#REF!+#REF!+#REF!+#REF!+#REF!+#REF!+#REF!+#REF!+#REF!+#REF!+#REF!+#REF!+#REF!+#REF!+#REF!+#REF!+#REF!+#REF!+#REF!+#REF!+#REF!+#REF!+#REF!+#REF!+#REF!+#REF!+#REF!+#REF!","v":{"$error":"#REF!"}},{"$f":"#REF!+#REF!+#REF!+#REF!+#REF!+#REF!+#REF!+#REF!+#REF!+#REF!+#REF!+#REF!+#REF!+#REF!+#REF!+#REF!+#REF!+#REF!+#REF!+#REF!+#REF!+#REF!+#REF!+#REF!+#REF!+#REF!+#REF!+#REF!+#REF!+#REF!+#REF!+#REF!+#REF!","v":{"$error":"#REF!"}},{"$f":"#REF!+#REF!+#REF!+#REF!+#REF!+#REF!+#REF!+#REF!+#REF!+#REF!+#REF!+#REF!+#REF!+#REF!+#REF!+#REF!+#REF!+#REF!+#REF!+#REF!+#REF!+#REF!+#REF!+#REF!+#REF!+#REF!+#REF!+#REF!+#REF!+#REF!+#REF!+#REF!+#REF!","v":{"$error":"#REF!"}},{"$f":"#REF!+#REF!+#REF!+#REF!+#REF!+#REF!+#REF!+#REF!+#REF!+#REF!+#REF!+#REF!+#REF!+#REF!+#REF!+#REF!+#REF!+#REF!+#REF!+#REF!+#REF!+#REF!+#REF!+#REF!+#REF!+#REF!+#REF!+#REF!+#REF!+#REF!+#REF!+#REF!+#REF!","v":{"$error":"#REF!"}},{"$f":"#REF!+#REF!+#REF!+#REF!+#REF!+#REF!+#REF!+#REF!+#REF!+#REF!+#REF!+#REF!+#REF!+#REF!+#REF!+#REF!+#REF!+#REF!+#REF!+#REF!+#REF!+#REF!+#REF!+#REF!+#REF!+#REF!+#REF!+#REF!+#REF!+#REF!+#REF!+#REF!+#REF!","v":{"$error":"#REF!"}},{"$f":"#REF!+#REF!+#REF!+#REF!+#REF!+#REF!+#REF!+#REF!+#REF!+#REF!+#REF!+#REF!+#REF!+#REF!+#REF!+#REF!+#REF!+#REF!+#REF!+#REF!+#REF!+#REF!+#REF!+#REF!+#REF!+#REF!+#REF!+#REF!+#REF!+#REF!+#REF!+#REF!+#REF!","v":{"$error":"#REF!"}},{"$f":"#REF!+#REF!+#REF!+#REF!+#REF!+#REF!+#REF!+#REF!+#REF!+#REF!+#REF!+#REF!+#REF!+#REF!+#REF!+#REF!+#REF!+#REF!+#REF!+#REF!+#REF!+#REF!+#REF!+#REF!+#REF!+#REF!+#REF!+#REF!+#REF!+#REF!+#REF!+#REF!+#REF!","v":{"$error":"#REF!"}},{"$f":"#REF!+#REF!+#REF!+#REF!+#REF!+#REF!+#REF!+#REF!+#REF!+#REF!+#REF!+#REF!+#REF!+#REF!+#REF!+#REF!+#REF!+#REF!+#REF!+#REF!+#REF!+#REF!+#REF!+#REF!+#REF!+#REF!+#REF!+#REF!+#REF!+#REF!+#REF!+#REF!+#REF!","v":{"$error":"#REF!"}},{"$f":"#REF!+#REF!+#REF!+#REF!+#REF!+#REF!+#REF!+#REF!+#REF!+#REF!+#REF!+#REF!+#REF!+#REF!+#REF!+#REF!+#REF!+#REF!+#REF!+#REF!+#REF!+#REF!+#REF!+#REF!+#REF!+#REF!+#REF!+#REF!+#REF!+#REF!+#REF!+#REF!+#REF!","v":{"$error":"#REF!"}},{"$f":"#REF!+#REF!+#REF!+#REF!+#REF!+#REF!+#REF!+#REF!+#REF!+#REF!+#REF!+#REF!+#REF!+#REF!+#REF!+#REF!+#REF!+#REF!+#REF!+#REF!+#REF!+#REF!+#REF!+#REF!+#REF!+#REF!+#REF!+#REF!+#REF!+#REF!+#REF!+#REF!+#REF!","v":{"$error":"#REF!"}},{"$error":"#REF!"},{"$error":"#REF!"},{"$f":"#REF!+#REF!+#REF!+#REF!+#REF!+#REF!+#REF!+#REF!+#REF!+#REF!+#REF!+#REF!+#REF!+#REF!+#REF!+#REF!+#REF!+#REF!+#REF!+#REF!+#REF!+#REF!+#REF!+#REF!+#REF!+#REF!+#REF!+#REF!+#REF!+#REF!+#REF!+#REF!+#REF!","v":{"$error":"#REF!"}},null,{"$error":"#REF!"}]
[27,"Jefferson Davis",{"$f":"#REF!+#REF!+#REF!+#REF!+#REF!+#REF!+#REF!+#REF!+#REF!+#REF!+#REF!+#REF!+#REF!+#REF!+#REF!+#REF!+#REF!+#REF!+#REF!+#REF!+#REF!+#REF!+#REF!+#REF!+#REF!+#REF!+#REF!+#REF!+#REF!+#REF!+#REF!+#REF!+#REF!","v":{"$error":"#REF!"}},{"$f":"'9_Per Pupil Summary'!H32","v":5252.3527434755943},{"$f":"#REF!+#REF!+#REF!+#REF!+#REF!+#REF!+#REF!+#REF!+#REF!+#REF!+#REF!+#REF!+#REF!+#REF!+#REF!+#REF!+#REF!+#REF!+#REF!+#REF!+#REF!+#REF!+#REF!+#REF!+#REF!+#REF!+#REF!+#REF!+#REF!+#REF!+#REF!+#REF!+#REF!","v":{"$error":"#REF!"}},{"$f":"#REF!+#REF!+#REF!+#REF!+#REF!+#REF!+#REF!+#REF!+#REF!+#REF!+#REF!+#REF!+#REF!+#REF!+#REF!+#REF!+#REF!+#REF!+#REF!+#REF!+#REF!+#REF!+#REF!+#REF!+#REF!+#REF!+#REF!+#REF!+#REF!+#REF!+#REF!+#REF!+#REF!","v":{"$error":"#REF!"}},{"$f":"'9_Per Pupil Summary'!I32","v":686.15355821987032},{"$f":"#REF!+#REF!+#REF!+#REF!+#REF!+#REF!+#REF!+#REF!+#REF!+#REF!+#REF!+#REF!+#REF!+#REF!+#REF!+#REF!+#REF!+#REF!+#REF!+#REF!+#REF!+#REF!+#REF!+#REF!+#REF!+#REF!+#REF!+#REF!+#REF!+#REF!+#REF!+#REF!+#REF!","v":{"$error":"#REF!"}},{"$f":"#REF!+#REF!+#REF!+#REF!+#REF!+#REF!+#REF!+#REF!+#REF!+#REF!+#REF!+#REF!+#REF!+#REF!+#REF!+#REF!+#REF!+#REF!+#REF!+#REF!+#REF!+#REF!+#REF!+#REF!+#REF!+#REF!+#REF!+#REF!+#REF!+#REF!+#REF!+#REF!+#REF!","v":{"$error":"#REF!"}},{"$f":"'9_Per Pupil Summary'!J32","v":187.13278860541917},{"$f":"#REF!+#REF!+#REF!+#REF!+#REF!+#REF!+#REF!+#REF!+#REF!+#REF!+#REF!+#REF!+#REF!+#REF!+#REF!+#REF!+#REF!+#REF!+#REF!+#REF!+#REF!+#REF!+#REF!+#REF!+#REF!+#REF!+#REF!+#REF!+#REF!+#REF!+#REF!+#REF!+#REF!","v":{"$error":"#REF!"}},{"$f":"#REF!+#REF!+#REF!+#REF!+#REF!+#REF!+#REF!+#REF!+#REF!+#REF!+#REF!+#REF!+#REF!+#REF!+#REF!+#REF!+#REF!+#REF!+#REF!+#REF!+#REF!+#REF!+#REF!+#REF!+#REF!+#REF!+#REF!+#REF!+#REF!+#REF!+#REF!+#REF!+#REF!","v":{"$error":"#REF!"}},{"$f":"'9_Per Pupil Summary'!K32","v":4678.3197151354798},{"$f":"#REF!+#REF!+#REF!+#REF!+#REF!+#REF!+#REF!+#REF!+#REF!+#REF!+#REF!+#REF!+#REF!+#REF!+#REF!+#REF!+#REF!+#REF!+#REF!+#REF!+#REF!+#REF!+#REF!+#REF!+#REF!+#REF!+#REF!+#REF!+#REF!+#REF!+#REF!+#REF!+#REF!","v":{"$error":"#REF!"}},{"$f":"#REF!+#REF!+#REF!+#REF!+#REF!+#REF!+#REF!+#REF!+#REF!+#REF!+#REF!+#REF!+#REF!+#REF!+#REF!+#REF!+#REF!+#REF!+#REF!+#REF!+#REF!+#REF!+#REF!+#REF!+#REF!+#REF!+#REF!+#REF!+#REF!+#REF!+#REF!+#REF!+#REF!","v":{"$error":"#REF!"}},{"$f":"'9_Per Pupil Summary'!L32","v":1871.3278860541916},{"$f":"#REF!+#REF!+#REF!+#REF!+#REF!+#REF!+#REF!+#REF!+#REF!+#REF!+#REF!+#REF!+#REF!+#REF!+#REF!+#REF!+#REF!+#REF!+#REF!+#REF!+#REF!+#REF!+#REF!+#REF!+#REF!+#REF!+#REF!+#REF!+#REF!+#REF!+#REF!+#REF!+#REF!","v":{"$error":"#REF!"}},{"$f":"#REF!+#REF!+#REF!+#REF!+#REF!+#REF!+#REF!+#REF!+#REF!+#REF!+#REF!+#REF!+#REF!+#REF!+#REF!+#REF!+#REF!+#REF!+#REF!+#REF!+#REF!+#REF!+#REF!+#REF!+#REF!+#REF!+#REF!+#REF!+#REF!+#REF!+#REF!+#REF!+#REF!","v":{"$error":"#REF!"}},{"$f":"#REF!+#REF!","v":{"$error":"#REF!"}},{"$f":"#REF!+#REF!+#REF!+#REF!+#REF!+#REF!+#REF!+#REF!+#REF!+#REF!+#REF!+#REF!+#REF!+#REF!+#REF!+#REF!+#REF!+#REF!+#REF!+#REF!+#REF!+#REF!+#REF!+#REF!+#REF!+#REF!+#REF!+#REF!+#REF!+#REF!+#REF!+#REF!+#REF!","v":{"$error":"#REF!"}},{"$f":"#REF!+#REF!+#REF!+#REF!+#REF!+#REF!+#REF!+#REF!+#REF!+#REF!+#REF!+#REF!+#REF!+#REF!+#REF!+#REF!+#REF!+#REF!+#REF!+#REF!+#REF!+#REF!+#REF!+#REF!+#REF!+#REF!+#REF!+#REF!+#REF!+#REF!+#REF!+#REF!+#REF!","v":{"$error":"#REF!"}},{"$f":"#REF!+#REF!+#REF!+#REF!+#REF!+#REF!+#REF!+#REF!+#REF!+#REF!+#REF!+#REF!+#REF!+#REF!+#REF!+#REF!+#REF!+#REF!+#REF!+#REF!+#REF!+#REF!+#REF!+#REF!+#REF!+#REF!+#REF!+#REF!+#REF!+#REF!+#REF!+#REF!+#REF!","v":{"$error":"#REF!"}},{"$f":"#REF!+#REF!+#REF!+#REF!+#REF!+#REF!+#REF!+#REF!+#REF!+#REF!+#REF!+#REF!+#REF!+#REF!+#REF!+#REF!+#REF!+#REF!+#REF!+#REF!+#REF!+#REF!+#REF!+#REF!+#REF!+#REF!+#REF!+#REF!+#REF!+#REF!+#REF!+#REF!+#REF!","v":{"$error":"#REF!"}},{"$f":"#REF!+#REF!+#REF!+#REF!+#REF!+#REF!+#REF!+#REF!+#REF!+#REF!+#REF!+#REF!+#REF!+#REF!+#REF!+#REF!+#REF!+#REF!+#REF!+#REF!+#REF!+#REF!+#REF!+#REF!+#REF!+#REF!+#REF!+#REF!+#REF!+#REF!+#REF!+#REF!+#REF!","v":{"$error":"#REF!"}},{"$f":"#REF!+#REF!+#REF!+#REF!+#REF!+#REF!+#REF!+#REF!+#REF!+#REF!+#REF!+#REF!+#REF!+#REF!+#REF!+#REF!+#REF!+#REF!+#REF!+#REF!+#REF!+#REF!+#REF!+#REF!+#REF!+#REF!+#REF!+#REF!+#REF!+#REF!+#REF!+#REF!+#REF!","v":{"$error":"#REF!"}},{"$f":"#REF!+#REF!+#REF!+#REF!+#REF!+#REF!+#REF!+#REF!+#REF!+#REF!+#REF!+#REF!+#REF!+#REF!+#REF!+#REF!+#REF!+#REF!+#REF!+#REF!+#REF!+#REF!+#REF!+#REF!+#REF!+#REF!+#REF!+#REF!+#REF!+#REF!+#REF!+#REF!+#REF!","v":{"$error":"#REF!"}},{"$f":"#REF!+#REF!+#REF!+#REF!+#REF!+#REF!+#REF!+#REF!+#REF!+#REF!+#REF!+#REF!+#REF!+#REF!+#REF!+#REF!+#REF!+#REF!+#REF!+#REF!+#REF!+#REF!+#REF!+#REF!+#REF!+#REF!+#REF!+#REF!+#REF!+#REF!+#REF!+#REF!+#REF!","v":{"$error":"#REF!"}},{"$f":"#REF!+#REF!+#REF!+#REF!+#REF!+#REF!+#REF!+#REF!+#REF!+#REF!+#REF!+#REF!+#REF!+#REF!+#REF!+#REF!+#REF!+#REF!+#REF!+#REF!+#REF!+#REF!+#REF!+#REF!+#REF!+#REF!+#REF!+#REF!+#REF!+#REF!+#REF!+#REF!+#REF!","v":{"$error":"#REF!"}},{"$f":"#REF!+#REF!+#REF!+#REF!+#REF!+#REF!+#REF!+#REF!+#REF!+#REF!+#REF!+#REF!+#REF!+#REF!+#REF!+#REF!+#REF!+#REF!+#REF!+#REF!+#REF!+#REF!+#REF!+#REF!+#REF!+#REF!+#REF!+#REF!+#REF!+#REF!+#REF!+#REF!+#REF!","v":{"$error":"#REF!"}},{"$f":"#REF!+#REF!+#REF!+#REF!+#REF!+#REF!+#REF!+#REF!+#REF!+#REF!+#REF!+#REF!+#REF!+#REF!+#REF!+#REF!+#REF!+#REF!+#REF!+#REF!+#REF!+#REF!+#REF!+#REF!+#REF!+#REF!+#REF!+#REF!+#REF!+#REF!+#REF!+#REF!+#REF!","v":{"$error":"#REF!"}},{"$f":"#REF!+#REF!+#REF!+#REF!+#REF!+#REF!+#REF!+#REF!+#REF!+#REF!+#REF!+#REF!+#REF!+#REF!+#REF!+#REF!+#REF!+#REF!+#REF!+#REF!+#REF!+#REF!+#REF!+#REF!+#REF!+#REF!+#REF!+#REF!+#REF!+#REF!+#REF!+#REF!+#REF!","v":{"$error":"#REF!"}},{"$f":"'9_Per Pupil Summary'!N32","v":4855},{"$f":"#REF!+#REF!+#REF!+#REF!+#REF!+#REF!+#REF!+#REF!+#REF!+#REF!+#REF!+#REF!+#REF!+#REF!+#REF!+#REF!+#REF!+#REF!+#REF!+#REF!+#REF!+#REF!+#REF!+#REF!+#REF!+#REF!+#REF!+#REF!+#REF!+#REF!+#REF!+#REF!+#REF!","v":{"$error":"#REF!"}},{"$f":"#REF!+#REF!+#REF!+#REF!+#REF!+#REF!+#REF!+#REF!+#REF!+#REF!+#REF!+#REF!+#REF!+#REF!+#REF!+#REF!+#REF!+#REF!+#REF!+#REF!+#REF!+#REF!+#REF!+#REF!+#REF!+#REF!+#REF!+#REF!+#REF!+#REF!+#REF!+#REF!+#REF!","v":{"$error":"#REF!"}},{"$f":"#REF!+#REF!+#REF!+#REF!+#REF!+#REF!+#REF!+#REF!+#REF!+#REF!+#REF!+#REF!+#REF!+#REF!+#REF!+#REF!+#REF!+#REF!+#REF!+#REF!+#REF!+#REF!+#REF!+#REF!+#REF!+#REF!+#REF!+#REF!+#REF!+#REF!+#REF!+#REF!+#REF!","v":{"$error":"#REF!"}},{"$f":"#REF!+#REF!+#REF!+#REF!+#REF!+#REF!+#REF!+#REF!+#REF!+#REF!+#REF!+#REF!+#REF!+#REF!+#REF!+#REF!+#REF!+#REF!+#REF!+#REF!+#REF!+#REF!+#REF!+#REF!+#REF!+#REF!+#REF!+#REF!+#REF!+#REF!+#REF!+#REF!+#REF!","v":{"$error":"#REF!"}},{"$f":"#REF!+#REF!+#REF!+#REF!+#REF!+#REF!+#REF!+#REF!+#REF!+#REF!+#REF!+#REF!+#REF!+#REF!+#REF!+#REF!+#REF!+#REF!+#REF!+#REF!+#REF!+#REF!+#REF!+#REF!+#REF!+#REF!+#REF!+#REF!+#REF!+#REF!+#REF!+#REF!+#REF!","v":{"$error":"#REF!"}},{"$f":"#REF!+#REF!+#REF!+#REF!+#REF!+#REF!+#REF!+#REF!+#REF!+#REF!+#REF!+#REF!+#REF!+#REF!+#REF!+#REF!+#REF!+#REF!+#REF!+#REF!+#REF!+#REF!+#REF!+#REF!+#REF!+#REF!+#REF!+#REF!+#REF!+#REF!+#REF!+#REF!+#REF!","v":{"$error":"#REF!"}},{"$f":"#REF!+#REF!+#REF!+#REF!+#REF!+#REF!+#REF!+#REF!+#REF!+#REF!+#REF!+#REF!+#REF!+#REF!+#REF!+#REF!+#REF!+#REF!+#REF!+#REF!+#REF!+#REF!+#REF!+#REF!+#REF!+#REF!+#REF!+#REF!+#REF!+#REF!+#REF!+#REF!+#REF!","v":{"$error":"#REF!"}},{"$f":"#REF!+#REF!+#REF!+#REF!+#REF!+#REF!+#REF!+#REF!+#REF!+#REF!+#REF!+#REF!+#REF!+#REF!+#REF!+#REF!+#REF!+#REF!+#REF!+#REF!+#REF!+#REF!+#REF!+#REF!+#REF!+#REF!+#REF!+#REF!+#REF!+#REF!+#REF!+#REF!+#REF!","v":{"$error":"#REF!"}},{"$f":"#REF!+#REF!+#REF!+#REF!+#REF!+#REF!+#REF!+#REF!+#REF!+#REF!+#REF!+#REF!+#REF!+#REF!+#REF!+#REF!+#REF!+#REF!+#REF!+#REF!+#REF!+#REF!+#REF!+#REF!+#REF!+#REF!+#REF!+#REF!+#REF!+#REF!+#REF!+#REF!+#REF!","v":{"$error":"#REF!"}},{"$f":"#REF!+#REF!+#REF!+#REF!+#REF!+#REF!+#REF!+#REF!+#REF!+#REF!+#REF!+#REF!+#REF!+#REF!+#REF!+#REF!+#REF!+#REF!+#REF!+#REF!+#REF!+#REF!+#REF!+#REF!+#REF!+#REF!+#REF!+#REF!+#REF!+#REF!+#REF!+#REF!+#REF!","v":{"$error":"#REF!"}},{"$f":"#REF!+#REF!+#REF!+#REF!+#REF!+#REF!+#REF!+#REF!+#REF!+#REF!+#REF!+#REF!+#REF!+#REF!+#REF!+#REF!+#REF!+#REF!+#REF!+#REF!+#REF!+#REF!+#REF!+#REF!+#REF!+#REF!+#REF!+#REF!+#REF!+#REF!+#REF!+#REF!+#REF!","v":{"$error":"#REF!"}},{"$f":"#REF!+#REF!+#REF!+#REF!+#REF!+#REF!+#REF!+#REF!+#REF!+#REF!+#REF!+#REF!+#REF!+#REF!+#REF!+#REF!+#REF!+#REF!+#REF!+#REF!+#REF!+#REF!+#REF!+#REF!+#REF!+#REF!+#REF!+#REF!+#REF!+#REF!+#REF!+#REF!+#REF!","v":{"$error":"#REF!"}},{"$f":"#REF!+#REF!+#REF!+#REF!+#REF!+#REF!+#REF!+#REF!+#REF!+#REF!+#REF!+#REF!+#REF!+#REF!+#REF!+#REF!+#REF!+#REF!+#REF!+#REF!+#REF!+#REF!+#REF!+#REF!+#REF!+#REF!+#REF!+#REF!+#REF!+#REF!+#REF!+#REF!+#REF!","v":{"$error":"#REF!"}},{"$f":"#REF!+#REF!+#REF!+#REF!+#REF!+#REF!+#REF!+#REF!+#REF!+#REF!+#REF!+#REF!+#REF!+#REF!+#REF!+#REF!+#REF!+#REF!+#REF!+#REF!+#REF!+#REF!+#REF!+#REF!+#REF!+#REF!+#REF!+#REF!+#REF!+#REF!+#REF!+#REF!+#REF!","v":{"$error":"#REF!"}},{"$error":"#REF!"},{"$error":"#REF!"},{"$f":"#REF!+#REF!+#REF!+#REF!+#REF!+#REF!+#REF!+#REF!+#REF!+#REF!+#REF!+#REF!+#REF!+#REF!+#REF!+#REF!+#REF!+#REF!+#REF!+#REF!+#REF!+#REF!+#REF!+#REF!+#REF!+#REF!+#REF!+#REF!+#REF!+#REF!+#REF!+#REF!+#REF!","v":{"$error":"#REF!"}},null,{"$error":"#REF!"}]
[28,"Lafayette",{"$f":"#REF!+#REF!+#REF!+#REF!+#REF!+#REF!+#REF!+#REF!+#REF!+#REF!+#REF!+#REF!+#REF!+#REF!+#REF!+#REF!+#REF!+#REF!+#REF!+#REF!+#REF!+#REF!+#REF!+#REF!+#REF!+#REF!+#REF!+#REF!+#REF!+#REF!+#REF!+#REF!+#REF!","v":{"$error":"#REF!"}},{"$f":"'9_Per Pupil Summary'!H33","v":3891.1115730037727},{"$f":"#REF!+#REF!+#REF!+#REF!+#REF!+#REF!+#REF!+#REF!+#REF!+#REF!+#REF!+#REF!+#REF!+#REF!+#REF!+#REF!+#REF!+#REF!+#REF!+#REF!+#REF!+#REF!+#REF!+#REF!+#REF!+#REF!+#REF!+#REF!+#REF!+#REF!+#REF!+#REF!+#REF!","v":{"$error":"#REF!"}},{"$f":"#REF!+#REF!+#REF!+#REF!+#REF!+#REF!+#REF!+#REF!+#REF!+#REF!+#REF!+#REF!+#REF!+#REF!+#REF!+#REF!+#REF!+#REF!+#REF!+#REF!+#REF!+#REF!+#REF!+#REF!+#REF!+#REF!+#REF!+#REF!+#REF!+#REF!+#REF!+#REF!+#REF!","v":{"$error":"#REF!"}},{"$f":"'9_Per Pupil Summary'!I33","v":527.5032248511975},{"$f":"#REF!+#REF!+#REF!+#REF!+#REF!+#REF!+#REF!+#REF!+#REF!+#REF!+#REF!+#REF!+#REF!+#REF!+#REF!+#REF!+#REF!+#REF!+#REF!+#REF!+#REF!+#REF!+#REF!+#REF!+#REF!+#REF!+#REF!+#REF!+#REF!+#REF!+#REF!+#REF!+#REF!","v":{"$error":"#REF!"}},{"$f":"#REF!+#REF!+#REF!+#REF!+#REF!+#REF!+#REF!+#REF!+#REF!+#REF!+#REF!+#REF!+#REF!+#REF!+#REF!+#REF!+#REF!+#REF!+#REF!+#REF!+#REF!+#REF!+#REF!+#REF!+#REF!+#REF!+#REF!+#REF!+#REF!+#REF!+#REF!+#REF!+#REF!","v":{"$error":"#REF!"}},{"$f":"'9_Per Pupil Summary'!J33","v":143.86451586850836},{"$f":"#REF!+#REF!+#REF!+#REF!+#REF!+#REF!+#REF!+#REF!+#REF!+#REF!+#REF!+#REF!+#REF!+#REF!+#REF!+#REF!+#REF!+#REF!+#REF!+#REF!+#REF!+#REF!+#REF!+#REF!+#REF!+#REF!+#REF!+#REF!+#REF!+#REF!+#REF!+#REF!+#REF!","v":{"$error":"#REF!"}},{"$f":"#REF!+#REF!+#REF!+#REF!+#REF!+#REF!+#REF!+#REF!+#REF!+#REF!+#REF!+#REF!+#REF!+#REF!+#REF!+#REF!+#REF!+#REF!+#REF!+#REF!+#REF!+#REF!+#REF!+#REF!+#REF!+#REF!+#REF!+#REF!+#REF!+#REF!+#REF!+#REF!+#REF!","v":{"$error":"#REF!"}},{"$f":"'9_Per Pupil Summary'!K33","v":3596.6128967127097},{"$f":"#REF!+#REF!+#REF!+#REF!+#REF!+#REF!+#REF!+#REF!+#REF!+#REF!+#REF!+#REF!+#REF!+#REF!+#REF!+#REF!+#REF!+#REF!+#REF!+#REF!+#REF!+#REF!+#REF!+#REF!+#REF!+#REF!+#REF!+#REF!+#REF!+#REF!+#REF!+#REF!+#REF!","v":{"$error":"#REF!"}},{"$f":"#REF!+#REF!+#REF!+#REF!+#REF!+#REF!+#REF!+#REF!+#REF!+#REF!+#REF!+#REF!+#REF!+#REF!+#REF!+#REF!+#REF!+#REF!+#REF!+#REF!+#REF!+#REF!+#REF!+#REF!+#REF!+#REF!+#REF!+#REF!+#REF!+#REF!+#REF!+#REF!+#REF!","v":{"$error":"#REF!"}},{"$f":"'9_Per Pupil Summary'!L33","v":1438.645158685084},{"$f":"#REF!+#REF!+#REF!+#REF!+#REF!+#REF!+#REF!+#REF!+#REF!+#REF!+#REF!+#REF!+#REF!+#REF!+#REF!+#REF!+#REF!+#REF!+#REF!+#REF!+#REF!+#REF!+#REF!+#REF!+#REF!+#REF!+#REF!+#REF!+#REF!+#REF!+#REF!+#REF!+#REF!","v":{"$error":"#REF!"}},{"$f":"#REF!+#REF!+#REF!+#REF!+#REF!+#REF!+#REF!+#REF!+#REF!+#REF!+#REF!+#REF!+#REF!+#REF!+#REF!+#REF!+#REF!+#REF!+#REF!+#REF!+#REF!+#REF!+#REF!+#REF!+#REF!+#REF!+#REF!+#REF!+#REF!+#REF!+#REF!+#REF!+#REF!","v":{"$error":"#REF!"}},{"$f":"#REF!+#REF!","v":{"$error":"#REF!"}},{"$f":"#REF!+#REF!+#REF!+#REF!+#REF!+#REF!+#REF!+#REF!+#REF!+#REF!+#REF!+#REF!+#REF!+#REF!+#REF!+#REF!+#REF!+#REF!+#REF!+#REF!+#REF!+#REF!+#REF!+#REF!+#REF!+#REF!+#REF!+#REF!+#REF!+#REF!+#REF!+#REF!+#REF!","v":{"$error":"#REF!"}},{"$f":"#REF!+#REF!+#REF!+#REF!+#REF!+#REF!+#REF!+#REF!+#REF!+#REF!+#REF!+#REF!+#REF!+#REF!+#REF!+#REF!+#REF!+#REF!+#REF!+#REF!+#REF!+#REF!+#REF!+#REF!+#REF!+#REF!+#REF!+#REF!+#REF!+#REF!+#REF!+#REF!+#REF!","v":{"$error":"#REF!"}},{"$f":"#REF!+#REF!+#REF!+#REF!+#REF!+#REF!+#REF!+#REF!+#REF!+#REF!+#REF!+#REF!+#REF!+#REF!+#REF!+#REF!+#REF!+#REF!+#REF!+#REF!+#REF!+#REF!+#REF!+#REF!+#REF!+#REF!+#REF!+#REF!+#REF!+#REF!+#REF!+#REF!+#REF!","v":{"$error":"#REF!"}},{"$f":"#REF!+#REF!+#REF!+#REF!+#REF!+#REF!+#REF!+#REF!+#REF!+#REF!+#REF!+#REF!+#REF!+#REF!+#REF!+#REF!+#REF!+#REF!+#REF!+#REF!+#REF!+#REF!+#REF!+#REF!+#REF!+#REF!+#REF!+#REF!+#REF!+#REF!+#REF!+#REF!+#REF!","v":{"$error":"#REF!"}},{"$f":"#REF!+#REF!+#REF!+#REF!+#REF!+#REF!+#REF!+#REF!+#REF!+#REF!+#REF!+#REF!+#REF!+#REF!+#REF!+#REF!+#REF!+#REF!+#REF!+#REF!+#REF!+#REF!+#REF!+#REF!+#REF!+#REF!+#REF!+#REF!+#REF!+#REF!+#REF!+#REF!+#REF!","v":{"$error":"#REF!"}},{"$f":"#REF!+#REF!+#REF!+#REF!+#REF!+#REF!+#REF!+#REF!+#REF!+#REF!+#REF!+#REF!+#REF!+#REF!+#REF!+#REF!+#REF!+#REF!+#REF!+#REF!+#REF!+#REF!+#REF!+#REF!+#REF!+#REF!+#REF!+#REF!+#REF!+#REF!+#REF!+#REF!+#REF!","v":{"$error":"#REF!"}},{"$f":"#REF!+#REF!+#REF!+#REF!+#REF!+#REF!+#REF!+#REF!+#REF!+#REF!+#REF!+#REF!+#REF!+#REF!+#REF!+#REF!+#REF!+#REF!+#REF!+#REF!+#REF!+#REF!+#REF!+#REF!+#REF!+#REF!+#REF!+#REF!+#REF!+#REF!+#REF!+#REF!+#REF!","v":{"$error":"#REF!"}},{"$f":"#REF!+#REF!+#REF!+#REF!+#REF!+#REF!+#REF!+#REF!+#REF!+#REF!+#REF!+#REF!+#REF!+#REF!+#REF!+#REF!+#REF!+#REF!+#REF!+#REF!+#REF!+#REF!+#REF!+#REF!+#REF!+#REF!+#REF!+#REF!+#REF!+#REF!+#REF!+#REF!+#REF!","v":{"$error":"#REF!"}},{"$f":"#REF!+#REF!+#REF!+#REF!+#REF!+#REF!+#REF!+#REF!+#REF!+#REF!+#REF!+#REF!+#REF!+#REF!+#REF!+#REF!+#REF!+#REF!+#REF!+#REF!+#REF!+#REF!+#REF!+#REF!+#REF!+#REF!+#REF!+#REF!+#REF!+#REF!+#REF!+#REF!+#REF!","v":{"$error":"#REF!"}},{"$f":"#REF!+#REF!+#REF!+#REF!+#REF!+#REF!+#REF!+#REF!+#REF!+#REF!+#REF!+#REF!+#REF!+#REF!+#REF!+#REF!+#REF!+#REF!+#REF!+#REF!+#REF!+#REF!+#REF!+#REF!+#REF!+#REF!+#REF!+#REF!+#REF!+#REF!+#REF!+#REF!+#REF!","v":{"$error":"#REF!"}},{"$f":"#REF!+#REF!+#REF!+#REF!+#REF!+#REF!+#REF!+#REF!+#REF!+#REF!+#REF!+#REF!+#REF!+#REF!+#REF!+#REF!+#REF!+#REF!+#REF!+#REF!+#REF!+#REF!+#REF!+#REF!+#REF!+#REF!+#REF!+#REF!+#REF!+#REF!+#REF!+#REF!+#REF!","v":{"$error":"#REF!"}},{"$f":"#REF!+#REF!+#REF!+#REF!+#REF!+#REF!+#REF!+#REF!+#REF!+#REF!+#REF!+#REF!+#REF!+#REF!+#REF!+#REF!+#REF!+#REF!+#REF!+#REF!+#REF!+#REF!+#REF!+#REF!+#REF!+#REF!+#REF!+#REF!+#REF!+#REF!+#REF!+#REF!+#REF!","v":{"$error":"#REF!"}},{"$f":"'9_Per Pupil Summary'!N33","v":6589},{"$f":"#REF!+#REF!+#REF!+#REF!+#REF!+#REF!+#REF!+#REF!+#REF!+#REF!+#REF!+#REF!+#REF!+#REF!+#REF!+#REF!+#REF!+#REF!+#REF!+#REF!+#REF!+#REF!+#REF!+#REF!+#REF!+#REF!+#REF!+#REF!+#REF!+#REF!+#REF!+#REF!+#REF!","v":{"$error":"#REF!"}},{"$f":"#REF!+#REF!+#REF!+#REF!+#REF!+#REF!+#REF!+#REF!+#REF!+#REF!+#REF!+#REF!+#REF!+#REF!+#REF!+#REF!+#REF!+#REF!+#REF!+#REF!+#REF!+#REF!+#REF!+#REF!+#REF!+#REF!+#REF!+#REF!+#REF!+#REF!+#REF!+#REF!+#REF!","v":{"$error":"#REF!"}},{"$f":"#REF!+#REF!+#REF!+#REF!+#REF!+#REF!+#REF!+#REF!+#REF!+#REF!+#REF!+#REF!+#REF!+#REF!+#REF!+#REF!+#REF!+#REF!+#REF!+#REF!+#REF!+#REF!+#REF!+#REF!+#REF!+#REF!+#REF!+#REF!+#REF!+#REF!+#REF!+#REF!+#REF!","v":{"$error":"#REF!"}},{"$f":"#REF!+#REF!+#REF!+#REF!+#REF!+#REF!+#REF!+#REF!+#REF!+#REF!+#REF!+#REF!+#REF!+#REF!+#REF!+#REF!+#REF!+#REF!+#REF!+#REF!+#REF!+#REF!+#REF!+#REF!+#REF!+#REF!+#REF!+#REF!+#REF!+#REF!+#REF!+#REF!+#REF!","v":{"$error":"#REF!"}},{"$f":"#REF!+#REF!+#REF!+#REF!+#REF!+#REF!+#REF!+#REF!+#REF!+#REF!+#REF!+#REF!+#REF!+#REF!+#REF!+#REF!+#REF!+#REF!+#REF!+#REF!+#REF!+#REF!+#REF!+#REF!+#REF!+#REF!+#REF!+#REF!+#REF!+#REF!+#REF!+#REF!+#REF!","v":{"$error":"#REF!"}},{"$f":"#REF!+#REF!+#REF!+#REF!+#REF!+#REF!+#REF!+#REF!+#REF!+#REF!+#REF!+#REF!+#REF!+#REF!+#REF!+#REF!+#REF!+#REF!+#REF!+#REF!+#REF!+#REF!+#REF!+#REF!+#REF!+#REF!+#REF!+#REF!+#REF!+#REF!+#REF!+#REF!+#REF!","v":{"$error":"#REF!"}},{"$f":"#REF!+#REF!+#REF!+#REF!+#REF!+#REF!+#REF!+#REF!+#REF!+#REF!+#REF!+#REF!+#REF!+#REF!+#REF!+#REF!+#REF!+#REF!+#REF!+#REF!+#REF!+#REF!+#REF!+#REF!+#REF!+#REF!+#REF!+#REF!+#REF!+#REF!+#REF!+#REF!+#REF!","v":{"$error":"#REF!"}},{"$f":"#REF!+#REF!+#REF!+#REF!+#REF!+#REF!+#REF!+#REF!+#REF!+#REF!+#REF!+#REF!+#REF!+#REF!+#REF!+#REF!+#REF!+#REF!+#REF!+#REF!+#REF!+#REF!+#REF!+#REF!+#REF!+#REF!+#REF!+#REF!+#REF!+#REF!+#REF!+#REF!+#REF!","v":{"$error":"#REF!"}},{"$f":"#REF!+#REF!+#REF!+#REF!+#REF!+#REF!+#REF!+#REF!+#REF!+#REF!+#REF!+#REF!+#REF!+#REF!+#REF!+#REF!+#REF!+#REF!+#REF!+#REF!+#REF!+#REF!+#REF!+#REF!+#REF!+#REF!+#REF!+#REF!+#REF!+#REF!+#REF!+#REF!+#REF!","v":{"$error":"#REF!"}},{"$f":"#REF!+#REF!+#REF!+#REF!+#REF!+#REF!+#REF!+#REF!+#REF!+#REF!+#REF!+#REF!+#REF!+#REF!+#REF!+#REF!+#REF!+#REF!+#REF!+#REF!+#REF!+#REF!+#REF!+#REF!+#REF!+#REF!+#REF!+#REF!+#REF!+#REF!+#REF!+#REF!+#REF!","v":{"$error":"#REF!"}},{"$f":"#REF!+#REF!+#REF!+#REF!+#REF!+#REF!+#REF!+#REF!+#REF!+#REF!+#REF!+#REF!+#REF!+#REF!+#REF!+#REF!+#REF!+#REF!+#REF!+#REF!+#REF!+#REF!+#REF!+#REF!+#REF!+#REF!+#REF!+#REF!+#REF!+#REF!+#REF!+#REF!+#REF!","v":{"$error":"#REF!"}},{"$f":"#REF!+#REF!+#REF!+#REF!+#REF!+#REF!+#REF!+#REF!+#REF!+#REF!+#REF!+#REF!+#REF!+#REF!+#REF!+#REF!+#REF!+#REF!+#REF!+#REF!+#REF!+#REF!+#REF!+#REF!+#REF!+#REF!+#REF!+#REF!+#REF!+#REF!+#REF!+#REF!+#REF!","v":{"$error":"#REF!"}},{"$f":"#REF!+#REF!+#REF!+#REF!+#REF!+#REF!+#REF!+#REF!+#REF!+#REF!+#REF!+#REF!+#REF!+#REF!+#REF!+#REF!+#REF!+#REF!+#REF!+#REF!+#REF!+#REF!+#REF!+#REF!+#REF!+#REF!+#REF!+#REF!+#REF!+#REF!+#REF!+#REF!+#REF!","v":{"$error":"#REF!"}},{"$f":"#REF!+#REF!+#REF!+#REF!+#REF!+#REF!+#REF!+#REF!+#REF!+#REF!+#REF!+#REF!+#REF!+#REF!+#REF!+#REF!+#REF!+#REF!+#REF!+#REF!+#REF!+#REF!+#REF!+#REF!+#REF!+#REF!+#REF!+#REF!+#REF!+#REF!+#REF!+#REF!+#REF!","v":{"$error":"#REF!"}},{"$error":"#REF!"},{"$error":"#REF!"},{"$f":"#REF!+#REF!+#REF!+#REF!+#REF!+#REF!+#REF!+#REF!+#REF!+#REF!+#REF!+#REF!+#REF!+#REF!+#REF!+#REF!+#REF!+#REF!+#REF!+#REF!+#REF!+#REF!+#REF!+#REF!+#REF!+#REF!+#REF!+#REF!+#REF!+#REF!+#REF!+#REF!+#REF!","v":{"$error":"#REF!"}},null,{"$error":"#REF!"}]
[29,"Lafourche",{"$f":"#REF!+#REF!+#REF!+#REF!+#REF!+#REF!+#REF!+#REF!+#REF!+#REF!+#REF!+#REF!+#REF!+#REF!+#REF!+#REF!+#REF!+#REF!+#REF!+#REF!+#REF!+#REF!+#REF!+#REF!+#REF!+#REF!+#REF!+#REF!+#REF!+#REF!+#REF!+#REF!+#REF!","v":{"$error":"#REF!"}},{"$f":"'9_Per Pupil Summary'!H34","v":4612.6655666844154},{"$f":"#REF!+#REF!+#REF!+#REF!+#REF!+#REF!+#REF!+#REF!+#REF!+#REF!+#REF!+#REF!+#REF!+#REF!+#REF!+#REF!+#REF!+#REF!+#REF!+#REF!+#REF!+#REF!+#REF!+#REF!+#REF!+#REF!+#REF!+#REF!+#REF!+#REF!+#REF!+#REF!+#REF!","v":{"$error":"#REF!"}},{"$f":"#REF!+#REF!+#REF!+#REF!+#REF!+#REF!+#REF!+#REF!+#REF!+#REF!+#REF!+#REF!+#REF!+#REF!+#REF!+#REF!+#REF!+#REF!+#REF!+#REF!+#REF!+#REF!+#REF!+#REF!+#REF!+#REF!+#REF!+#REF!+#REF!+#REF!+#REF!+#REF!+#REF!","v":{"$error":"#REF!"}},{"$f":"'9_Per Pupil Summary'!I34","v":614.74660081986588},{"$f":"#REF!+#REF!+#REF!+#REF!+#REF!+#REF!+#REF!+#REF!+#REF!+#REF!+#REF!+#REF!+#REF!+#REF!+#REF!+#REF!+#REF!+#REF!+#REF!+#REF!+#REF!+#REF!+#REF!+#REF!+#REF!+#REF!+#REF!+#REF!+#REF!+#REF!+#REF!+#REF!+#REF!","v":{"$error":"#REF!"}},{"$f":"#REF!+#REF!+#REF!+#REF!+#REF!+#REF!+#REF!+#REF!+#REF!+#REF!+#REF!+#REF!+#REF!+#REF!+#REF!+#REF!+#REF!+#REF!+#REF!+#REF!+#REF!+#REF!+#REF!+#REF!+#REF!+#REF!+#REF!+#REF!+#REF!+#REF!+#REF!+#REF!+#REF!","v":{"$error":"#REF!"}},{"$f":"'9_Per Pupil Summary'!J34","v":167.65816385996342},{"$f":"#REF!+#REF!+#REF!+#REF!+#REF!+#REF!+#REF!+#REF!+#REF!+#REF!+#REF!+#REF!+#REF!+#REF!+#REF!+#REF!+#REF!+#REF!+#REF!+#REF!+#REF!+#REF!+#REF!+#REF!+#REF!+#REF!+#REF!+#REF!+#REF!+#REF!+#REF!+#REF!+#REF!","v":{"$error":"#REF!"}},{"$f":"#REF!+#REF!+#REF!+#REF!+#REF!+#REF!+#REF!+#REF!+#REF!+#REF!+#REF!+#REF!+#REF!+#REF!+#REF!+#REF!+#REF!+#REF!+#REF!+#REF!+#REF!+#REF!+#REF!+#REF!+#REF!+#REF!+#REF!+#REF!+#REF!+#REF!+#REF!+#REF!+#REF!","v":{"$error":"#REF!"}},{"$f":"'9_Per Pupil Summary'!K34","v":4191.4540964990856},{"$f":"#REF!+#REF!+#REF!+#REF!+#REF!+#REF!+#REF!+#REF!+#REF!+#REF!+#REF!+#REF!+#REF!+#REF!+#REF!+#REF!+#REF!+#REF!+#REF!+#REF!+#REF!+#REF!+#REF!+#REF!+#REF!+#REF!+#REF!+#REF!+#REF!+#REF!+#REF!+#REF!+#REF!","v":{"$error":"#REF!"}},{"$f":"#REF!+#REF!+#REF!+#REF!+#REF!+#REF!+#REF!+#REF!+#REF!+#REF!+#REF!+#REF!+#REF!+#REF!+#REF!+#REF!+#REF!+#REF!+#REF!+#REF!+#REF!+#REF!+#REF!+#REF!+#REF!+#REF!+#REF!+#REF!+#REF!+#REF!+#REF!+#REF!+#REF!","v":{"$error":"#REF!"}},{"$f":"'9_Per Pupil Summary'!L34","v":1676.5816385996341},{"$f":"#REF!+#REF!+#REF!+#REF!+#REF!+#REF!+#REF!+#REF!+#REF!+#REF!+#REF!+#REF!+#REF!+#REF!+#REF!+#REF!+#REF!+#REF!+#REF!+#REF!+#REF!+#REF!+#REF!+#REF!+#REF!+#REF!+#REF!+#REF!+#REF!+#REF!+#REF!+#REF!+#REF!","v":{"$error":"#REF!"}},{"$f":"#REF!+#REF!+#REF!+#REF!+#REF!+#REF!+#REF!+#REF!+#REF!+#REF!+#REF!+#REF!+#REF!+#REF!+#REF!+#REF!+#REF!+#REF!+#REF!+#REF!+#REF!+#REF!+#REF!+#REF!+#REF!+#REF!+#REF!+#REF!+#REF!+#REF!+#REF!+#REF!+#REF!","v":{"$error":"#REF!"}},{"$f":"#REF!+#REF!","v":{"$error":"#REF!"}},{"$f":"#REF!+#REF!+#REF!+#REF!+#REF!+#REF!+#REF!+#REF!+#REF!+#REF!+#REF!+#REF!+#REF!+#REF!+#REF!+#REF!+#REF!+#REF!+#REF!+#REF!+#REF!+#REF!+#REF!+#REF!+#REF!+#REF!+#REF!+#REF!+#REF!+#REF!+#REF!+#REF!+#REF!","v":{"$error":"#REF!"}},{"$f":"#REF!+#REF!+#REF!+#REF!+#REF!+#REF!+#REF!+#REF!+#REF!+#REF!+#REF!+#REF!+#REF!+#REF!+#REF!+#REF!+#REF!+#REF!+#REF!+#REF!+#REF!+#REF!+#REF!+#REF!+#REF!+#REF!+#REF!+#REF!+#REF!+#REF!+#REF!+#REF!+#REF!","v":{"$error":"#REF!"}},{"$f":"#REF!+#REF!+#REF!+#REF!+#REF!+#REF!+#REF!+#REF!+#REF!+#REF!+#REF!+#REF!+#REF!+#REF!+#REF!+#REF!+#REF!+#REF!+#REF!+#REF!+#REF!+#REF!+#REF!+#REF!+#REF!+#REF!+#REF!+#REF!+#REF!+#REF!+#REF!+#REF!+#REF!","v":{"$error":"#REF!"}},{"$f":"#REF!+#REF!+#REF!+#REF!+#REF!+#REF!+#REF!+#REF!+#REF!+#REF!+#REF!+#REF!+#REF!+#REF!+#REF!+#REF!+#REF!+#REF!+#REF!+#REF!+#REF!+#REF!+#REF!+#REF!+#REF!+#REF!+#REF!+#REF!+#REF!+#REF!+#REF!+#REF!+#REF!","v":{"$error":"#REF!"}},{"$f":"#REF!+#REF!+#REF!+#REF!+#REF!+#REF!+#REF!+#REF!+#REF!+#REF!+#REF!+#REF!+#REF!+#REF!+#REF!+#REF!+#REF!+#REF!+#REF!+#REF!+#REF!+#REF!+#REF!+#REF!+#REF!+#REF!+#REF!+#REF!+#REF!+#REF!+#REF!+#REF!+#REF!","v":{"$error":"#REF!"}},{"$f":"#REF!+#REF!+#REF!+#REF!+#REF!+#REF!+#REF!+#REF!+#REF!+#REF!+#REF!+#REF!+#REF!+#REF!+#REF!+#REF!+#REF!+#REF!+#REF!+#REF!+#REF!+#REF!+#REF!+#REF!+#REF!+#REF!+#REF!+#REF!+#REF!+#REF!+#REF!+#REF!+#REF!","v":{"$error":"#REF!"}},{"$f":"#REF!+#REF!+#REF!+#REF!+#REF!+#REF!+#REF!+#REF!+#REF!+#REF!+#REF!+#REF!+#REF!+#REF!+#REF!+#REF!+#REF!+#REF!+#REF!+#REF!+#REF!+#REF!+#REF!+#REF!+#REF!+#REF!+#REF!+#REF!+#REF!+#REF!+#REF!+#REF!+#REF!","v":{"$error":"#REF!"}},{"$f":"#REF!+#REF!+#REF!+#REF!+#REF!+#REF!+#REF!+#REF!+#REF!+#REF!+#REF!+#REF!+#REF!+#REF!+#REF!+#REF!+#REF!+#REF!+#REF!+#REF!+#REF!+#REF!+#REF!+#REF!+#REF!+#REF!+#REF!+#REF!+#REF!+#REF!+#REF!+#REF!+#REF!","v":{"$error":"#REF!"}},{"$f":"#REF!+#REF!+#REF!+#REF!+#REF!+#REF!+#REF!+#REF!+#REF!+#REF!+#REF!+#REF!+#REF!+#REF!+#REF!+#REF!+#REF!+#REF!+#REF!+#REF!+#REF!+#REF!+#REF!+#REF!+#REF!+#REF!+#REF!+#REF!+#REF!+#REF!+#REF!+#REF!+#REF!","v":{"$error":"#REF!"}},{"$f":"#REF!+#REF!+#REF!+#REF!+#REF!+#REF!+#REF!+#REF!+#REF!+#REF!+#REF!+#REF!+#REF!+#REF!+#REF!+#REF!+#REF!+#REF!+#REF!+#REF!+#REF!+#REF!+#REF!+#REF!+#REF!+#REF!+#REF!+#REF!+#REF!+#REF!+#REF!+#REF!+#REF!","v":{"$error":"#REF!"}},{"$f":"#REF!+#REF!+#REF!+#REF!+#REF!+#REF!+#REF!+#REF!+#REF!+#REF!+#REF!+#REF!+#REF!+#REF!+#REF!+#REF!+#REF!+#REF!+#REF!+#REF!+#REF!+#REF!+#REF!+#REF!+#REF!+#REF!+#REF!+#REF!+#REF!+#REF!+#REF!+#REF!+#REF!","v":{"$error":"#REF!"}},{"$f":"#REF!+#REF!+#REF!+#REF!+#REF!+#REF!+#REF!+#REF!+#REF!+#REF!+#REF!+#REF!+#REF!+#REF!+#REF!+#REF!+#REF!+#REF!+#REF!+#REF!+#REF!+#REF!+#REF!+#REF!+#REF!+#REF!+#REF!+#REF!+#REF!+#REF!+#REF!+#REF!+#REF!","v":{"$error":"#REF!"}},{"$f":"'9_Per Pupil Summary'!N34","v":6064},{"$f":"#REF!+#REF!+#REF!+#REF!+#REF!+#REF!+#REF!+#REF!+#REF!+#REF!+#REF!+#REF!+#REF!+#REF!+#REF!+#REF!+#REF!+#REF!+#REF!+#REF!+#REF!+#REF!+#REF!+#REF!+#REF!+#REF!+#REF!+#REF!+#REF!+#REF!+#REF!+#REF!+#REF!","v":{"$error":"#REF!"}},{"$f":"#REF!+#REF!+#REF!+#REF!+#REF!+#REF!+#REF!+#REF!+#REF!+#REF!+#REF!+#REF!+#REF!+#REF!+#REF!+#REF!+#REF!+#REF!+#REF!+#REF!+#REF!+#REF!+#REF!+#REF!+#REF!+#REF!+#REF!+#REF!+#REF!+#REF!+#REF!+#REF!+#REF!","v":{"$error":"#REF!"}},{"$f":"#REF!+#REF!+#REF!+#REF!+#REF!+#REF!+#REF!+#REF!+#REF!+#REF!+#REF!+#REF!+#REF!+#REF!+#REF!+#REF!+#REF!+#REF!+#REF!+#REF!+#REF!+#REF!+#REF!+#REF!+#REF!+#REF!+#REF!+#REF!+#REF!+#REF!+#REF!+#REF!+#REF!","v":{"$error":"#REF!"}},{"$f":"#REF!+#REF!+#REF!+#REF!+#REF!+#REF!+#REF!+#REF!+#REF!+#REF!+#REF!+#REF!+#REF!+#REF!+#REF!+#REF!+#REF!+#REF!+#REF!+#REF!+#REF!+#REF!+#REF!+#REF!+#REF!+#REF!+#REF!+#REF!+#REF!+#REF!+#REF!+#REF!+#REF!","v":{"$error":"#REF!"}},{"$f":"#REF!+#REF!+#REF!+#REF!+#REF!+#REF!+#REF!+#REF!+#REF!+#REF!+#REF!+#REF!+#REF!+#REF!+#REF!+#REF!+#REF!+#REF!+#REF!+#REF!+#REF!+#REF!+#REF!+#REF!+#REF!+#REF!+#REF!+#REF!+#REF!+#REF!+#REF!+#REF!+#REF!","v":{"$error":"#REF!"}},{"$f":"#REF!+#REF!+#REF!+#REF!+#REF!+#REF!+#REF!+#REF!+#REF!+#REF!+#REF!+#REF!+#REF!+#REF!+#REF!+#REF!+#REF!+#REF!+#REF!+#REF!+#REF!+#REF!+#REF!+#REF!+#REF!+#REF!+#REF!+#REF!+#REF!+#REF!+#REF!+#REF!+#REF!","v":{"$error":"#REF!"}},{"$f":"#REF!+#REF!+#REF!+#REF!+#REF!+#REF!+#REF!+#REF!+#REF!+#REF!+#REF!+#REF!+#REF!+#REF!+#REF!+#REF!+#REF!+#REF!+#REF!+#REF!+#REF!+#REF!+#REF!+#REF!+#REF!+#REF!+#REF!+#REF!+#REF!+#REF!+#REF!+#REF!+#REF!","v":{"$error":"#REF!"}},{"$f":"#REF!+#REF!+#REF!+#REF!+#REF!+#REF!+#REF!+#REF!+#REF!+#REF!+#REF!+#REF!+#REF!+#REF!+#REF!+#REF!+#REF!+#REF!+#REF!+#REF!+#REF!+#REF!+#REF!+#REF!+#REF!+#REF!+#REF!+#REF!+#REF!+#REF!+#REF!+#REF!+#REF!","v":{"$error":"#REF!"}},{"$f":"#REF!+#REF!+#REF!+#REF!+#REF!+#REF!+#REF!+#REF!+#REF!+#REF!+#REF!+#REF!+#REF!+#REF!+#REF!+#REF!+#REF!+#REF!+#REF!+#REF!+#REF!+#REF!+#REF!+#REF!+#REF!+#REF!+#REF!+#REF!+#REF!+#REF!+#REF!+#REF!+#REF!","v":{"$error":"#REF!"}},{"$f":"#REF!+#REF!+#REF!+#REF!+#REF!+#REF!+#REF!+#REF!+#REF!+#REF!+#REF!+#REF!+#REF!+#REF!+#REF!+#REF!+#REF!+#REF!+#REF!+#REF!+#REF!+#REF!+#REF!+#REF!+#REF!+#REF!+#REF!+#REF!+#REF!+#REF!+#REF!+#REF!+#REF!","v":{"$error":"#REF!"}},{"$f":"#REF!+#REF!+#REF!+#REF!+#REF!+#REF!+#REF!+#REF!+#REF!+#REF!+#REF!+#REF!+#REF!+#REF!+#REF!+#REF!+#REF!+#REF!+#REF!+#REF!+#REF!+#REF!+#REF!+#REF!+#REF!+#REF!+#REF!+#REF!+#REF!+#REF!+#REF!+#REF!+#REF!","v":{"$error":"#REF!"}},{"$f":"#REF!+#REF!+#REF!+#REF!+#REF!+#REF!+#REF!+#REF!+#REF!+#REF!+#REF!+#REF!+#REF!+#REF!+#REF!+#REF!+#REF!+#REF!+#REF!+#REF!+#REF!+#REF!+#REF!+#REF!+#REF!+#REF!+#REF!+#REF!+#REF!+#REF!+#REF!+#REF!+#REF!","v":{"$error":"#REF!"}},{"$f":"#REF!+#REF!+#REF!+#REF!+#REF!+#REF!+#REF!+#REF!+#REF!+#REF!+#REF!+#REF!+#REF!+#REF!+#REF!+#REF!+#REF!+#REF!+#REF!+#REF!+#REF!+#REF!+#REF!+#REF!+#REF!+#REF!+#REF!+#REF!+#REF!+#REF!+#REF!+#REF!+#REF!","v":{"$error":"#REF!"}},{"$f":"#REF!+#REF!+#REF!+#REF!+#REF!+#REF!+#REF!+#REF!+#REF!+#REF!+#REF!+#REF!+#REF!+#REF!+#REF!+#REF!+#REF!+#REF!+#REF!+#REF!+#REF!+#REF!+#REF!+#REF!+#REF!+#REF!+#REF!+#REF!+#REF!+#REF!+#REF!+#REF!+#REF!","v":{"$error":"#REF!"}},{"$error":"#REF!"},{"$error":"#REF!"},{"$f":"#REF!+#REF!+#REF!+#REF!+#REF!+#REF!+#REF!+#REF!+#REF!+#REF!+#REF!+#REF!+#REF!+#REF!+#REF!+#REF!+#REF!+#REF!+#REF!+#REF!+#REF!+#REF!+#REF!+#REF!+#REF!+#REF!+#REF!+#REF!+#REF!+#REF!+#REF!+#REF!+#REF!","v":{"$error":"#REF!"}},null,{"$error":"#REF!"}]
[30,"LaSalle",{"$f":"#REF!+#REF!+#REF!+#REF!+#REF!+#REF!+#REF!+#REF!+#REF!+#REF!+#REF!+#REF!+#REF!+#REF!+#REF!+#REF!+#REF!+#REF!+#REF!+#REF!+#REF!+#REF!+#REF!+#REF!+#REF!+#REF!+#REF!+#REF!+#REF!+#REF!+#REF!+#REF!+#REF!","v":{"$error":"#REF!"}},{"$f":"'9_Per Pupil Summary'!H35","v":5427.090008281707},{"$f":"#REF!+#REF!+#REF!+#REF!+#REF!+#REF!+#REF!+#REF!+#REF!+#REF!+#REF!+#REF!+#REF!+#REF!+#REF!+#REF!+#REF!+#REF!+#REF!+#REF!+#REF!+#REF!+#REF!+#REF!+#REF!+#REF!+#REF!+#REF!+#REF!+#REF!+#REF!+#REF!+#REF!","v":{"$error":"#REF!"}},{"$f":"#REF!+#REF!+#REF!+#REF!+#REF!+#REF!+#REF!+#REF!+#REF!+#REF!+#REF!+#REF!+#REF!+#REF!+#REF!+#REF!+#REF!+#REF!+#REF!+#REF!+#REF!+#REF!+#REF!+#REF!+#REF!+#REF!+#REF!+#REF!+#REF!+#REF!+#REF!+#REF!+#REF!","v":{"$error":"#REF!"}},{"$f":"'9_Per Pupil Summary'!I35","v":701.47158036346752},{"$f":"#REF!+#REF!+#REF!+#REF!+#REF!+#REF!+#REF!+#REF!+#REF!+#REF!+#REF!+#REF!+#REF!+#REF!+#REF!+#REF!+#REF!+#REF!+#REF!+#REF!+#REF!+#REF!+#REF!+#REF!+#REF!+#REF!+#REF!+#REF!+#REF!+#REF!+#REF!+#REF!+#REF!","v":{"$error":"#REF!"}},{"$f":"#REF!+#REF!+#REF!+#REF!+#REF!+#REF!+#REF!+#REF!+#REF!+#REF!+#REF!+#REF!+#REF!+#REF!+#REF!+#REF!+#REF!+#REF!+#REF!+#REF!+#REF!+#REF!+#REF!+#REF!+#REF!+#REF!+#REF!+#REF!+#REF!+#REF!+#REF!+#REF!+#REF!","v":{"$error":"#REF!"}},{"$f":"'9_Per Pupil Summary'!J35","v":191.31043100821839},{"$f":"#REF!+#REF!+#REF!+#REF!+#REF!+#REF!+#REF!+#REF!+#REF!+#REF!+#REF!+#REF!+#REF!+#REF!+#REF!+#REF!+#REF!+#REF!+#REF!+#REF!+#REF!+#REF!+#REF!+#REF!+#REF!+#REF!+#REF!+#REF!+#REF!+#REF!+#REF!+#REF!+#REF!","v":{"$error":"#REF!"}},{"$f":"#REF!+#REF!+#REF!+#REF!+#REF!+#REF!+#REF!+#REF!+#REF!+#REF!+#REF!+#REF!+#REF!+#REF!+#REF!+#REF!+#REF!+#REF!+#REF!+#REF!+#REF!+#REF!+#REF!+#REF!+#REF!+#REF!+#REF!+#REF!+#REF!+#REF!+#REF!+#REF!+#REF!","v":{"$error":"#REF!"}},{"$f":"'9_Per Pupil Summary'!K35","v":4782.76077520546},{"$f":"#REF!+#REF!+#REF!+#REF!+#REF!+#REF!+#REF!+#REF!+#REF!+#REF!+#REF!+#REF!+#REF!+#REF!+#REF!+#REF!+#REF!+#REF!+#REF!+#REF!+#REF!+#REF!+#REF!+#REF!+#REF!+#REF!+#REF!+#REF!+#REF!+#REF!+#REF!+#REF!+#REF!","v":{"$error":"#REF!"}},{"$f":"#REF!+#REF!+#REF!+#REF!+#REF!+#REF!+#REF!+#REF!+#REF!+#REF!+#REF!+#REF!+#REF!+#REF!+#REF!+#REF!+#REF!+#REF!+#REF!+#REF!+#REF!+#REF!+#REF!+#REF!+#REF!+#REF!+#REF!+#REF!+#REF!+#REF!+#REF!+#REF!+#REF!","v":{"$error":"#REF!"}},{"$f":"'9_Per Pupil Summary'!L35","v":1913.1043100821837},{"$f":"#REF!+#REF!+#REF!+#REF!+#REF!+#REF!+#REF!+#REF!+#REF!+#REF!+#REF!+#REF!+#REF!+#REF!+#REF!+#REF!+#REF!+#REF!+#REF!+#REF!+#REF!+#REF!+#REF!+#REF!+#REF!+#REF!+#REF!+#REF!+#REF!+#REF!+#REF!+#REF!+#REF!","v":{"$error":"#REF!"}},{"$f":"#REF!+#REF!+#REF!+#REF!+#REF!+#REF!+#REF!+#REF!+#REF!+#REF!+#REF!+#REF!+#REF!+#REF!+#REF!+#REF!+#REF!+#REF!+#REF!+#REF!+#REF!+#REF!+#REF!+#REF!+#REF!+#REF!+#REF!+#REF!+#REF!+#REF!+#REF!+#REF!+#REF!","v":{"$error":"#REF!"}},{"$f":"#REF!+#REF!","v":{"$error":"#REF!"}},{"$f":"#REF!+#REF!+#REF!+#REF!+#REF!+#REF!+#REF!+#REF!+#REF!+#REF!+#REF!+#REF!+#REF!+#REF!+#REF!+#REF!+#REF!+#REF!+#REF!+#REF!+#REF!+#REF!+#REF!+#REF!+#REF!+#REF!+#REF!+#REF!+#REF!+#REF!+#REF!+#REF!+#REF!","v":{"$error":"#REF!"}},{"$f":"#REF!+#REF!+#REF!+#REF!+#REF!+#REF!+#REF!+#REF!+#REF!+#REF!+#REF!+#REF!+#REF!+#REF!+#REF!+#REF!+#REF!+#REF!+#REF!+#REF!+#REF!+#REF!+#REF!+#REF!+#REF!+#REF!+#REF!+#REF!+#REF!+#REF!+#REF!+#REF!+#REF!","v":{"$error":"#REF!"}},{"$f":"#REF!+#REF!+#REF!+#REF!+#REF!+#REF!+#REF!+#REF!+#REF!+#REF!+#REF!+#REF!+#REF!+#REF!+#REF!+#REF!+#REF!+#REF!+#REF!+#REF!+#REF!+#REF!+#REF!+#REF!+#REF!+#REF!+#REF!+#REF!+#REF!+#REF!+#REF!+#REF!+#REF!","v":{"$error":"#REF!"}},{"$f":"#REF!+#REF!+#REF!+#REF!+#REF!+#REF!+#REF!+#REF!+#REF!+#REF!+#REF!+#REF!+#REF!+#REF!+#REF!+#REF!+#REF!+#REF!+#REF!+#REF!+#REF!+#REF!+#REF!+#REF!+#REF!+#REF!+#REF!+#REF!+#REF!+#REF!+#REF!+#REF!+#REF!","v":{"$error":"#REF!"}},{"$f":"#REF!+#REF!+#REF!+#REF!+#REF!+#REF!+#REF!+#REF!+#REF!+#REF!+#REF!+#REF!+#REF!+#REF!+#REF!+#REF!+#REF!+#REF!+#REF!+#REF!+#REF!+#REF!+#REF!+#REF!+#REF!+#REF!+#REF!+#REF!+#REF!+#REF!+#REF!+#REF!+#REF!","v":{"$error":"#REF!"}},{"$f":"#REF!+#REF!+#REF!+#REF!+#REF!+#REF!+#REF!+#REF!+#REF!+#REF!+#REF!+#REF!+#REF!+#REF!+#REF!+#REF!+#REF!+#REF!+#REF!+#REF!+#REF!+#REF!+#REF!+#REF!+#REF!+#REF!+#REF!+#REF!+#REF!+#REF!+#REF!+#REF!+#REF!","v":{"$error":"#REF!"}},{"$f":"#REF!+#REF!+#REF!+#REF!+#REF!+#REF!+#REF!+#REF!+#REF!+#REF!+#REF!+#REF!+#REF!+#REF!+#REF!+#REF!+#REF!+#REF!+#REF!+#REF!+#REF!+#REF!+#REF!+#REF!+#REF!+#REF!+#REF!+#REF!+#REF!+#REF!+#REF!+#REF!+#REF!","v":{"$error":"#REF!"}},{"$f":"#REF!+#REF!+#REF!+#REF!+#REF!+#REF!+#REF!+#REF!+#REF!+#REF!+#REF!+#REF!+#REF!+#REF!+#REF!+#REF!+#REF!+#REF!+#REF!+#REF!+#REF!+#REF!+#REF!+#REF!+#REF!+#REF!+#REF!+#REF!+#REF!+#REF!+#REF!+#REF!+#REF!","v":{"$error":"#REF!"}},{"$f":"#REF!+#REF!+#REF!+#REF!+#REF!+#REF!+#REF!+#REF!+#REF!+#REF!+#REF!+#REF!+#REF!+#REF!+#REF!+#REF!+#REF!+#REF!+#REF!+#REF!+#REF!+#REF!+#REF!+#REF!+#REF!+#REF!+#REF!+#REF!+#REF!+#REF!+#REF!+#REF!+#REF!","v":{"$error":"#REF!"}},{"$f":"#REF!+#REF!+#REF!+#REF!+#REF!+#REF!+#REF!+#REF!+#REF!+#REF!+#REF!+#REF!+#REF!+#REF!+#REF!+#REF!+#REF!+#REF!+#REF!+#REF!+#REF!+#REF!+#REF!+#REF!+#REF!+#REF!+#REF!+#REF!+#REF!+#REF!+#REF!+#REF!+#REF!","v":{"$error":"#REF!"}},{"$f":"#REF!+#REF!+#REF!+#REF!+#REF!+#REF!+#REF!+#REF!+#REF!+#REF!+#REF!+#REF!+#REF!+#REF!+#REF!+#REF!+#REF!+#REF!+#REF!+#REF!+#REF!+#REF!+#REF!+#REF!+#REF!+#REF!+#REF!+#REF!+#REF!+#REF!+#REF!+#REF!+#REF!","v":{"$error":"#REF!"}},{"$f":"#REF!+#REF!+#REF!+#REF!+#REF!+#REF!+#REF!+#REF!+#REF!+#REF!+#REF!+#REF!+#REF!+#REF!+#REF!+#REF!+#REF!+#REF!+#REF!+#REF!+#REF!+#REF!+#REF!+#REF!+#REF!+#REF!+#REF!+#REF!+#REF!+#REF!+#REF!+#REF!+#REF!","v":{"$error":"#REF!"}},{"$f":"'9_Per Pupil Summary'!N35","v":5793},{"$f":"#REF!+#REF!+#REF!+#REF!+#REF!+#REF!+#REF!+#REF!+#REF!+#REF!+#REF!+#REF!+#REF!+#REF!+#REF!+#REF!+#REF!+#REF!+#REF!+#REF!+#REF!+#REF!+#REF!+#REF!+#REF!+#REF!+#REF!+#REF!+#REF!+#REF!+#REF!+#REF!+#REF!","v":{"$error":"#REF!"}},{"$f":"#REF!+#REF!+#REF!+#REF!+#REF!+#REF!+#REF!+#REF!+#REF!+#REF!+#REF!+#REF!+#REF!+#REF!+#REF!+#REF!+#REF!+#REF!+#REF!+#REF!+#REF!+#REF!+#REF!+#REF!+#REF!+#REF!+#REF!+#REF!+#REF!+#REF!+#REF!+#REF!+#REF!","v":{"$error":"#REF!"}},{"$f":"#REF!+#REF!+#REF!+#REF!+#REF!+#REF!+#REF!+#REF!+#REF!+#REF!+#REF!+#REF!+#REF!+#REF!+#REF!+#REF!+#REF!+#REF!+#REF!+#REF!+#REF!+#REF!+#REF!+#REF!+#REF!+#REF!+#REF!+#REF!+#REF!+#REF!+#REF!+#REF!+#REF!","v":{"$error":"#REF!"}},{"$f":"#REF!+#REF!+#REF!+#REF!+#REF!+#REF!+#REF!+#REF!+#REF!+#REF!+#REF!+#REF!+#REF!+#REF!+#REF!+#REF!+#REF!+#REF!+#REF!+#REF!+#REF!+#REF!+#REF!+#REF!+#REF!+#REF!+#REF!+#REF!+#REF!+#REF!+#REF!+#REF!+#REF!","v":{"$error":"#REF!"}},{"$f":"#REF!+#REF!+#REF!+#REF!+#REF!+#REF!+#REF!+#REF!+#REF!+#REF!+#REF!+#REF!+#REF!+#REF!+#REF!+#REF!+#REF!+#REF!+#REF!+#REF!+#REF!+#REF!+#REF!+#REF!+#REF!+#REF!+#REF!+#REF!+#REF!+#REF!+#REF!+#REF!+#REF!","v":{"$error":"#REF!"}},{"$f":"#REF!+#REF!+#REF!+#REF!+#REF!+#REF!+#REF!+#REF!+#REF!+#REF!+#REF!+#REF!+#REF!+#REF!+#REF!+#REF!+#REF!+#REF!+#REF!+#REF!+#REF!+#REF!+#REF!+#REF!+#REF!+#REF!+#REF!+#REF!+#REF!+#REF!+#REF!+#REF!+#REF!","v":{"$error":"#REF!"}},{"$f":"#REF!+#REF!+#REF!+#REF!+#REF!+#REF!+#REF!+#REF!+#REF!+#REF!+#REF!+#REF!+#REF!+#REF!+#REF!+#REF!+#REF!+#REF!+#REF!+#REF!+#REF!+#REF!+#REF!+#REF!+#REF!+#REF!+#REF!+#REF!+#REF!+#REF!+#REF!+#REF!+#REF!","v":{"$error":"#REF!"}},{"$f":"#REF!+#REF!+#REF!+#REF!+#REF!+#REF!+#REF!+#REF!+#REF!+#REF!+#REF!+#REF!+#REF!+#REF!+#REF!+#REF!+#REF!+#REF!+#REF!+#REF!+#REF!+#REF!+#REF!+#REF!+#REF!+#REF!+#REF!+#REF!+#REF!+#REF!+#REF!+#REF!+#REF!","v":{"$error":"#REF!"}},{"$f":"#REF!+#REF!+#REF!+#REF!+#REF!+#REF!+#REF!+#REF!+#REF!+#REF!+#REF!+#REF!+#REF!+#REF!+#REF!+#REF!+#REF!+#REF!+#REF!+#REF!+#REF!+#REF!+#REF!+#REF!+#REF!+#REF!+#REF!+#REF!+#REF!+#REF!+#REF!+#REF!+#REF!","v":{"$error":"#REF!"}},{"$f":"#REF!+#REF!+#REF!+#REF!+#REF!+#REF!+#REF!+#REF!+#REF!+#REF!+#REF!+#REF!+#REF!+#REF!+#REF!+#REF!+#REF!+#REF!+#REF!+#REF!+#REF!+#REF!+#REF!+#REF!+#REF!+#REF!+#REF!+#REF!+#REF!+#REF!+#REF!+#REF!+#REF!","v":{"$error":"#REF!"}},{"$f":"#REF!+#REF!+#REF!+#REF!+#REF!+#REF!+#REF!+#REF!+#REF!+#REF!+#REF!+#REF!+#REF!+#REF!+#REF!+#REF!+#REF!+#REF!+#REF!+#REF!+#REF!+#REF!+#REF!+#REF!+#REF!+#REF!+#REF!+#REF!+#REF!+#REF!+#REF!+#REF!+#REF!","v":{"$error":"#REF!"}},{"$f":"#REF!+#REF!+#REF!+#REF!+#REF!+#REF!+#REF!+#REF!+#REF!+#REF!+#REF!+#REF!+#REF!+#REF!+#REF!+#REF!+#REF!+#REF!+#REF!+#REF!+#REF!+#REF!+#REF!+#REF!+#REF!+#REF!+#REF!+#REF!+#REF!+#REF!+#REF!+#REF!+#REF!","v":{"$error":"#REF!"}},{"$f":"#REF!+#REF!+#REF!+#REF!+#REF!+#REF!+#REF!+#REF!+#REF!+#REF!+#REF!+#REF!+#REF!+#REF!+#REF!+#REF!+#REF!+#REF!+#REF!+#REF!+#REF!+#REF!+#REF!+#REF!+#REF!+#REF!+#REF!+#REF!+#REF!+#REF!+#REF!+#REF!+#REF!","v":{"$error":"#REF!"}},{"$f":"#REF!+#REF!+#REF!+#REF!+#REF!+#REF!+#REF!+#REF!+#REF!+#REF!+#REF!+#REF!+#REF!+#REF!+#REF!+#REF!+#REF!+#REF!+#REF!+#REF!+#REF!+#REF!+#REF!+#REF!+#REF!+#REF!+#REF!+#REF!+#REF!+#REF!+#REF!+#REF!+#REF!","v":{"$error":"#REF!"}},{"$error":"#REF!"},{"$error":"#REF!"},{"$f":"#REF!+#REF!+#REF!+#REF!+#REF!+#REF!+#REF!+#REF!+#REF!+#REF!+#REF!+#REF!+#REF!+#REF!+#REF!+#REF!+#REF!+#REF!+#REF!+#REF!+#REF!+#REF!+#REF!+#REF!+#REF!+#REF!+#REF!+#REF!+#REF!+#REF!+#REF!+#REF!+#REF!","v":{"$error":"#REF!"}},null,{"$error":"#REF!"}]
[31,"Lincoln",{"$f":"#REF!+#REF!+#REF!+#REF!+#REF!+#REF!+#REF!+#REF!+#REF!+#REF!+#REF!+#REF!+#REF!+#REF!+#REF!+#REF!+#REF!+#REF!+#REF!+#REF!+#REF!+#REF!+#REF!+#REF!+#REF!+#REF!+#REF!+#REF!+#REF!+#REF!+#REF!+#REF!+#REF!","v":{"$error":"#REF!"}},{"$f":"'9_Per Pupil Summary'!H36","v":4334.7412131858255},{"$f":"#REF!+#REF!+#REF!+#REF!+#REF!+#REF!+#REF!+#REF!+#REF!+#REF!+#REF!+#REF!+#REF!+#REF!+#REF!+#REF!+#REF!+#REF!+#REF!+#REF!+#REF!+#REF!+#REF!+#REF!+#REF!+#REF!+#REF!+#REF!+#REF!+#REF!+#REF!+#REF!+#REF!","v":{"$error":"#REF!"}},{"$f":"#REF!+#REF!+#REF!+#REF!+#REF!+#REF!+#REF!+#REF!+#REF!+#REF!+#REF!+#REF!+#REF!+#REF!+#REF!+#REF!+#REF!+#REF!+#REF!+#REF!+#REF!+#REF!+#REF!+#REF!+#REF!+#REF!+#REF!+#REF!+#REF!+#REF!+#REF!+#REF!+#REF!","v":{"$error":"#REF!"}},{"$f":"'9_Per Pupil Summary'!I36","v":587.72964511551254},{"$f":"#REF!+#REF!+#REF!+#REF!+#REF!+#REF!+#REF!+#REF!+#REF!+#REF!+#REF!+#REF!+#REF!+#REF!+#REF!+#REF!+#REF!+#REF!+#REF!+#REF!+#REF!+#REF!+#REF!+#REF!+#REF!+#REF!+#REF!+#REF!+#REF!+#REF!+#REF!+#REF!+#REF!","v":{"$error":"#REF!"}},{"$f":"#REF!+#REF!+#REF!+#REF!+#REF!+#REF!+#REF!+#REF!+#REF!+#REF!+#REF!+#REF!+#REF!+#REF!+#REF!+#REF!+#REF!+#REF!+#REF!+#REF!+#REF!+#REF!+#REF!+#REF!+#REF!+#REF!+#REF!+#REF!+#REF!+#REF!+#REF!+#REF!+#REF!","v":{"$error":"#REF!"}},{"$f":"'9_Per Pupil Summary'!J36","v":160.28990321332159},{"$f":"#REF!+#REF!+#REF!+#REF!+#REF!+#REF!+#REF!+#REF!+#REF!+#REF!+#REF!+#REF!+#REF!+#REF!+#REF!+#REF!+#REF!+#REF!+#REF!+#REF!+#REF!+#REF!+#REF!+#REF!+#REF!+#REF!+#REF!+#REF!+#REF!+#REF!+#REF!+#REF!+#REF!","v":{"$error":"#REF!"}},{"$f":"#REF!+#REF!+#REF!+#REF!+#REF!+#REF!+#REF!+#REF!+#REF!+#REF!+#REF!+#REF!+#REF!+#REF!+#REF!+#REF!+#REF!+#REF!+#REF!+#REF!+#REF!+#REF!+#REF!+#REF!+#REF!+#REF!+#REF!+#REF!+#REF!+#REF!+#REF!+#REF!+#REF!","v":{"$error":"#REF!"}},{"$f":"'9_Per Pupil Summary'!K36","v":4007.2475803330399},{"$f":"#REF!+#REF!+#REF!+#REF!+#REF!+#REF!+#REF!+#REF!+#REF!+#REF!+#REF!+#REF!+#REF!+#REF!+#REF!+#REF!+#REF!+#REF!+#REF!+#REF!+#REF!+#REF!+#REF!+#REF!+#REF!+#REF!+#REF!+#REF!+#REF!+#REF!+#REF!+#REF!+#REF!","v":{"$error":"#REF!"}},{"$f":"#REF!+#REF!+#REF!+#REF!+#REF!+#REF!+#REF!+#REF!+#REF!+#REF!+#REF!+#REF!+#REF!+#REF!+#REF!+#REF!+#REF!+#REF!+#REF!+#REF!+#REF!+#REF!+#REF!+#REF!+#REF!+#REF!+#REF!+#REF!+#REF!+#REF!+#REF!+#REF!+#REF!","v":{"$error":"#REF!"}},{"$f":"'9_Per Pupil Summary'!L36","v":1602.899032133216},{"$f":"#REF!+#REF!+#REF!+#REF!+#REF!+#REF!+#REF!+#REF!+#REF!+#REF!+#REF!+#REF!+#REF!+#REF!+#REF!+#REF!+#REF!+#REF!+#REF!+#REF!+#REF!+#REF!+#REF!+#REF!+#REF!+#REF!+#REF!+#REF!+#REF!+#REF!+#REF!+#REF!+#REF!","v":{"$error":"#REF!"}},{"$f":"#REF!+#REF!+#REF!+#REF!+#REF!+#REF!+#REF!+#REF!+#REF!+#REF!+#REF!+#REF!+#REF!+#REF!+#REF!+#REF!+#REF!+#REF!+#REF!+#REF!+#REF!+#REF!+#REF!+#REF!+#REF!+#REF!+#REF!+#REF!+#REF!+#REF!+#REF!+#REF!+#REF!","v":{"$error":"#REF!"}},{"$f":"#REF!+#REF!","v":{"$error":"#REF!"}},{"$f":"#REF!+#REF!+#REF!+#REF!+#REF!+#REF!+#REF!+#REF!+#REF!+#REF!+#REF!+#REF!+#REF!+#REF!+#REF!+#REF!+#REF!+#REF!+#REF!+#REF!+#REF!+#REF!+#REF!+#REF!+#REF!+#REF!+#REF!+#REF!+#REF!+#REF!+#REF!+#REF!+#REF!","v":{"$error":"#REF!"}},{"$f":"#REF!+#REF!+#REF!+#REF!+#REF!+#REF!+#REF!+#REF!+#REF!+#REF!+#REF!+#REF!+#REF!+#REF!+#REF!+#REF!+#REF!+#REF!+#REF!+#REF!+#REF!+#REF!+#REF!+#REF!+#REF!+#REF!+#REF!+#REF!+#REF!+#REF!+#REF!+#REF!+#REF!","v":{"$error":"#REF!"}},{"$f":"#REF!+#REF!+#REF!+#REF!+#REF!+#REF!+#REF!+#REF!+#REF!+#REF!+#REF!+#REF!+#REF!+#REF!+#REF!+#REF!+#REF!+#REF!+#REF!+#REF!+#REF!+#REF!+#REF!+#REF!+#REF!+#REF!+#REF!+#REF!+#REF!+#REF!+#REF!+#REF!+#REF!","v":{"$error":"#REF!"}},{"$f":"#REF!+#REF!+#REF!+#REF!+#REF!+#REF!+#REF!+#REF!+#REF!+#REF!+#REF!+#REF!+#REF!+#REF!+#REF!+#REF!+#REF!+#REF!+#REF!+#REF!+#REF!+#REF!+#REF!+#REF!+#REF!+#REF!+#REF!+#REF!+#REF!+#REF!+#REF!+#REF!+#REF!","v":{"$error":"#REF!"}},{"$f":"#REF!+#REF!+#REF!+#REF!+#REF!+#REF!+#REF!+#REF!+#REF!+#REF!+#REF!+#REF!+#REF!+#REF!+#REF!+#REF!+#REF!+#REF!+#REF!+#REF!+#REF!+#REF!+#REF!+#REF!+#REF!+#REF!+#REF!+#REF!+#REF!+#REF!+#REF!+#REF!+#REF!","v":{"$error":"#REF!"}},{"$f":"#REF!+#REF!+#REF!+#REF!+#REF!+#REF!+#REF!+#REF!+#REF!+#REF!+#REF!+#REF!+#REF!+#REF!+#REF!+#REF!+#REF!+#REF!+#REF!+#REF!+#REF!+#REF!+#REF!+#REF!+#REF!+#REF!+#REF!+#REF!+#REF!+#REF!+#REF!+#REF!+#REF!","v":{"$error":"#REF!"}},{"$f":"#REF!+#REF!+#REF!+#REF!+#REF!+#REF!+#REF!+#REF!+#REF!+#REF!+#REF!+#REF!+#REF!+#REF!+#REF!+#REF!+#REF!+#REF!+#REF!+#REF!+#REF!+#REF!+#REF!+#REF!+#REF!+#REF!+#REF!+#REF!+#REF!+#REF!+#REF!+#REF!+#REF!","v":{"$error":"#REF!"}},{"$f":"#REF!+#REF!+#REF!+#REF!+#REF!+#REF!+#REF!+#REF!+#REF!+#REF!+#REF!+#REF!+#REF!+#REF!+#REF!+#REF!+#REF!+#REF!+#REF!+#REF!+#REF!+#REF!+#REF!+#REF!+#REF!+#REF!+#REF!+#REF!+#REF!+#REF!+#REF!+#REF!+#REF!","v":{"$error":"#REF!"}},{"$f":"#REF!+#REF!+#REF!+#REF!+#REF!+#REF!+#REF!+#REF!+#REF!+#REF!+#REF!+#REF!+#REF!+#REF!+#REF!+#REF!+#REF!+#REF!+#REF!+#REF!+#REF!+#REF!+#REF!+#REF!+#REF!+#REF!+#REF!+#REF!+#REF!+#REF!+#REF!+#REF!+#REF!","v":{"$error":"#REF!"}},{"$f":"#REF!+#REF!+#REF!+#REF!+#REF!+#REF!+#REF!+#REF!+#REF!+#REF!+#REF!+#REF!+#REF!+#REF!+#REF!+#REF!+#REF!+#REF!+#REF!+#REF!+#REF!+#REF!+#REF!+#REF!+#REF!+#REF!+#REF!+#REF!+#REF!+#REF!+#REF!+#REF!+#REF!","v":{"$error":"#REF!"}},{"$f":"#REF!+#REF!+#REF!+#REF!+#REF!+#REF!+#REF!+#REF!+#REF!+#REF!+#REF!+#REF!+#REF!+#REF!+#REF!+#REF!+#REF!+#REF!+#REF!+#REF!+#REF!+#REF!+#REF!+#REF!+#REF!+#REF!+#REF!+#REF!+#REF!+#REF!+#REF!+#REF!+#REF!","v":{"$error":"#REF!"}},{"$f":"#REF!+#REF!+#REF!+#REF!+#REF!+#REF!+#REF!+#REF!+#REF!+#REF!+#REF!+#REF!+#REF!+#REF!+#REF!+#REF!+#REF!+#REF!+#REF!+#REF!+#REF!+#REF!+#REF!+#REF!+#REF!+#REF!+#REF!+#REF!+#REF!+#REF!+#REF!+#REF!+#REF!","v":{"$error":"#REF!"}},{"$f":"'9_Per Pupil Summary'!N36","v":8643},{"$f":"#REF!+#REF!+#REF!+#REF!+#REF!+#REF!+#REF!+#REF!+#REF!+#REF!+#REF!+#REF!+#REF!+#REF!+#REF!+#REF!+#REF!+#REF!+#REF!+#REF!+#REF!+#REF!+#REF!+#REF!+#REF!+#REF!+#REF!+#REF!+#REF!+#REF!+#REF!+#REF!+#REF!","v":{"$error":"#REF!"}},{"$f":"#REF!+#REF!+#REF!+#REF!+#REF!+#REF!+#REF!+#REF!+#REF!+#REF!+#REF!+#REF!+#REF!+#REF!+#REF!+#REF!+#REF!+#REF!+#REF!+#REF!+#REF!+#REF!+#REF!+#REF!+#REF!+#REF!+#REF!+#REF!+#REF!+#REF!+#REF!+#REF!+#REF!","v":{"$error":"#REF!"}},{"$f":"#REF!+#REF!+#REF!+#REF!+#REF!+#REF!+#REF!+#REF!+#REF!+#REF!+#REF!+#REF!+#REF!+#REF!+#REF!+#REF!+#REF!+#REF!+#REF!+#REF!+#REF!+#REF!+#REF!+#REF!+#REF!+#REF!+#REF!+#REF!+#REF!+#REF!+#REF!+#REF!+#REF!","v":{"$error":"#REF!"}},{"$f":"#REF!+#REF!+#REF!+#REF!+#REF!+#REF!+#REF!+#REF!+#REF!+#REF!+#REF!+#REF!+#REF!+#REF!+#REF!+#REF!+#REF!+#REF!+#REF!+#REF!+#REF!+#REF!+#REF!+#REF!+#REF!+#REF!+#REF!+#REF!+#REF!+#REF!+#REF!+#REF!+#REF!","v":{"$error":"#REF!"}},{"$f":"#REF!+#REF!+#REF!+#REF!+#REF!+#REF!+#REF!+#REF!+#REF!+#REF!+#REF!+#REF!+#REF!+#REF!+#REF!+#REF!+#REF!+#REF!+#REF!+#REF!+#REF!+#REF!+#REF!+#REF!+#REF!+#REF!+#REF!+#REF!+#REF!+#REF!+#REF!+#REF!+#REF!","v":{"$error":"#REF!"}},{"$f":"#REF!+#REF!+#REF!+#REF!+#REF!+#REF!+#REF!+#REF!+#REF!+#REF!+#REF!+#REF!+#REF!+#REF!+#REF!+#REF!+#REF!+#REF!+#REF!+#REF!+#REF!+#REF!+#REF!+#REF!+#REF!+#REF!+#REF!+#REF!+#REF!+#REF!+#REF!+#REF!+#REF!","v":{"$error":"#REF!"}},{"$f":"#REF!+#REF!+#REF!+#REF!+#REF!+#REF!+#REF!+#REF!+#REF!+#REF!+#REF!+#REF!+#REF!+#REF!+#REF!+#REF!+#REF!+#REF!+#REF!+#REF!+#REF!+#REF!+#REF!+#REF!+#REF!+#REF!+#REF!+#REF!+#REF!+#REF!+#REF!+#REF!+#REF!","v":{"$error":"#REF!"}},{"$f":"#REF!+#REF!+#REF!+#REF!+#REF!+#REF!+#REF!+#REF!+#REF!+#REF!+#REF!+#REF!+#REF!+#REF!+#REF!+#REF!+#REF!+#REF!+#REF!+#REF!+#REF!+#REF!+#REF!+#REF!+#REF!+#REF!+#REF!+#REF!+#REF!+#REF!+#REF!+#REF!+#REF!","v":{"$error":"#REF!"}},{"$f":"#REF!+#REF!+#REF!+#REF!+#REF!+#REF!+#REF!+#REF!+#REF!+#REF!+#REF!+#REF!+#REF!+#REF!+#REF!+#REF!+#REF!+#REF!+#REF!+#REF!+#REF!+#REF!+#REF!+#REF!+#REF!+#REF!+#REF!+#REF!+#REF!+#REF!+#REF!+#REF!+#REF!","v":{"$error":"#REF!"}},{"$f":"#REF!+#REF!+#REF!+#REF!+#REF!+#REF!+#REF!+#REF!+#REF!+#REF!+#REF!+#REF!+#REF!+#REF!+#REF!+#REF!+#REF!+#REF!+#REF!+#REF!+#REF!+#REF!+#REF!+#REF!+#REF!+#REF!+#REF!+#REF!+#REF!+#REF!+#REF!+#REF!+#REF!","v":{"$error":"#REF!"}},{"$f":"#REF!+#REF!+#REF!+#REF!+#REF!+#REF!+#REF!+#REF!+#REF!+#REF!+#REF!+#REF!+#REF!+#REF!+#REF!+#REF!+#REF!+#REF!+#REF!+#REF!+#REF!+#REF!+#REF!+#REF!+#REF!+#REF!+#REF!+#REF!+#REF!+#REF!+#REF!+#REF!+#REF!","v":{"$error":"#REF!"}},{"$f":"#REF!+#REF!+#REF!+#REF!+#REF!+#REF!+#REF!+#REF!+#REF!+#REF!+#REF!+#REF!+#REF!+#REF!+#REF!+#REF!+#REF!+#REF!+#REF!+#REF!+#REF!+#REF!+#REF!+#REF!+#REF!+#REF!+#REF!+#REF!+#REF!+#REF!+#REF!+#REF!+#REF!","v":{"$error":"#REF!"}},{"$f":"#REF!+#REF!+#REF!+#REF!+#REF!+#REF!+#REF!+#REF!+#REF!+#REF!+#REF!+#REF!+#REF!+#REF!+#REF!+#REF!+#REF!+#REF!+#REF!+#REF!+#REF!+#REF!+#REF!+#REF!+#REF!+#REF!+#REF!+#REF!+#REF!+#REF!+#REF!+#REF!+#REF!","v":{"$error":"#REF!"}},{"$f":"#REF!+#REF!+#REF!+#REF!+#REF!+#REF!+#REF!+#REF!+#REF!+#REF!+#REF!+#REF!+#REF!+#REF!+#REF!+#REF!+#REF!+#REF!+#REF!+#REF!+#REF!+#REF!+#REF!+#REF!+#REF!+#REF!+#REF!+#REF!+#REF!+#REF!+#REF!+#REF!+#REF!","v":{"$error":"#REF!"}},{"$error":"#REF!"},{"$error":"#REF!"},{"$f":"#REF!+#REF!+#REF!+#REF!+#REF!+#REF!+#REF!+#REF!+#REF!+#REF!+#REF!+#REF!+#REF!+#REF!+#REF!+#REF!+#REF!+#REF!+#REF!+#REF!+#REF!+#REF!+#REF!+#REF!+#REF!+#REF!+#REF!+#REF!+#REF!+#REF!+#REF!+#REF!+#REF!","v":{"$error":"#REF!"}},null,{"$error":"#REF!"}]
[32,"Livingston",{"$f":"#REF!+#REF!+#REF!+#REF!+#REF!+#REF!+#REF!+#REF!+#REF!+#REF!+#REF!+#REF!+#REF!+#REF!+#REF!+#REF!+#REF!+#REF!+#REF!+#REF!+#REF!+#REF!+#REF!+#REF!+#REF!+#REF!+#REF!+#REF!+#REF!+#REF!+#REF!+#REF!+#REF!","v":{"$error":"#REF!"}},{"$f":"'9_Per Pupil Summary'!H37","v":5440.6001202576317},{"$f":"#REF!+#REF!+#REF!+#REF!+#REF!+#REF!+#REF!+#REF!+#REF!+#REF!+#REF!+#REF!+#REF!+#REF!+#REF!+#REF!+#REF!+#REF!+#REF!+#REF!+#REF!+#REF!+#REF!+#REF!+#REF!+#REF!+#REF!+#REF!+#REF!+#REF!+#REF!+#REF!+#REF!","v":{"$error":"#REF!"}},{"$f":"#REF!+#REF!+#REF!+#REF!+#REF!+#REF!+#REF!+#REF!+#REF!+#REF!+#REF!+#REF!+#REF!+#REF!+#REF!+#REF!+#REF!+#REF!+#REF!+#REF!+#REF!+#REF!+#REF!+#REF!+#REF!+#REF!+#REF!+#REF!+#REF!+#REF!+#REF!+#REF!+#REF!","v":{"$error":"#REF!"}},{"$f":"'9_Per Pupil Summary'!I37","v":733.35179671690196},{"$f":"#REF!+#REF!+#REF!+#REF!+#REF!+#REF!+#REF!+#REF!+#REF!+#REF!+#REF!+#REF!+#REF!+#REF!+#REF!+#REF!+#REF!+#REF!+#REF!+#REF!+#REF!+#REF!+#REF!+#REF!+#REF!+#REF!+#REF!+#REF!+#REF!+#REF!+#REF!+#REF!+#REF!","v":{"$error":"#REF!"}},{"$f":"#REF!+#REF!+#REF!+#REF!+#REF!+#REF!+#REF!+#REF!+#REF!+#REF!+#REF!+#REF!+#REF!+#REF!+#REF!+#REF!+#REF!+#REF!+#REF!+#REF!+#REF!+#REF!+#REF!+#REF!+#REF!+#REF!+#REF!+#REF!+#REF!+#REF!+#REF!+#REF!+#REF!","v":{"$error":"#REF!"}},{"$f":"'9_Per Pupil Summary'!J37","v":200.00503546824595},{"$f":"#REF!+#REF!+#REF!+#REF!+#REF!+#REF!+#REF!+#REF!+#REF!+#REF!+#REF!+#REF!+#REF!+#REF!+#REF!+#REF!+#REF!+#REF!+#REF!+#REF!+#REF!+#REF!+#REF!+#REF!+#REF!+#REF!+#REF!+#REF!+#REF!+#REF!+#REF!+#REF!+#REF!","v":{"$error":"#REF!"}},{"$f":"#REF!+#REF!+#REF!+#REF!+#REF!+#REF!+#REF!+#REF!+#REF!+#REF!+#REF!+#REF!+#REF!+#REF!+#REF!+#REF!+#REF!+#REF!+#REF!+#REF!+#REF!+#REF!+#REF!+#REF!+#REF!+#REF!+#REF!+#REF!+#REF!+#REF!+#REF!+#REF!+#REF!","v":{"$error":"#REF!"}},{"$f":"'9_Per Pupil Summary'!K37","v":5000.1258867061497},{"$f":"#REF!+#REF!+#REF!+#REF!+#REF!+#REF!+#REF!+#REF!+#REF!+#REF!+#REF!+#REF!+#REF!+#REF!+#REF!+#REF!+#REF!+#REF!+#REF!+#REF!+#REF!+#REF!+#REF!+#REF!+#REF!+#REF!+#REF!+#REF!+#REF!+#REF!+#REF!+#REF!+#REF!","v":{"$error":"#REF!"}},{"$f":"#REF!+#REF!+#REF!+#REF!+#REF!+#REF!+#REF!+#REF!+#REF!+#REF!+#REF!+#REF!+#REF!+#REF!+#REF!+#REF!+#REF!+#REF!+#REF!+#REF!+#REF!+#REF!+#REF!+#REF!+#REF!+#REF!+#REF!+#REF!+#REF!+#REF!+#REF!+#REF!+#REF!","v":{"$error":"#REF!"}},{"$f":"'9_Per Pupil Summary'!L37","v":2000.0503546824596},{"$f":"#REF!+#REF!+#REF!+#REF!+#REF!+#REF!+#REF!+#REF!+#REF!+#REF!+#REF!+#REF!+#REF!+#REF!+#REF!+#REF!+#REF!+#REF!+#REF!+#REF!+#REF!+#REF!+#REF!+#REF!+#REF!+#REF!+#REF!+#REF!+#REF!+#REF!+#REF!+#REF!+#REF!","v":{"$error":"#REF!"}},{"$f":"#REF!+#REF!+#REF!+#REF!+#REF!+#REF!+#REF!+#REF!+#REF!+#REF!+#REF!+#REF!+#REF!+#REF!+#REF!+#REF!+#REF!+#REF!+#REF!+#REF!+#REF!+#REF!+#REF!+#REF!+#REF!+#REF!+#REF!+#REF!+#REF!+#REF!+#REF!+#REF!+#REF!","v":{"$error":"#REF!"}},{"$f":"#REF!+#REF!","v":{"$error":"#REF!"}},{"$f":"#REF!+#REF!+#REF!+#REF!+#REF!+#REF!+#REF!+#REF!+#REF!+#REF!+#REF!+#REF!+#REF!+#REF!+#REF!+#REF!+#REF!+#REF!+#REF!+#REF!+#REF!+#REF!+#REF!+#REF!+#REF!+#REF!+#REF!+#REF!+#REF!+#REF!+#REF!+#REF!+#REF!","v":{"$error":"#REF!"}},{"$f":"#REF!+#REF!+#REF!+#REF!+#REF!+#REF!+#REF!+#REF!+#REF!+#REF!+#REF!+#REF!+#REF!+#REF!+#REF!+#REF!+#REF!+#REF!+#REF!+#REF!+#REF!+#REF!+#REF!+#REF!+#REF!+#REF!+#REF!+#REF!+#REF!+#REF!+#REF!+#REF!+#REF!","v":{"$error":"#REF!"}},{"$f":"#REF!+#REF!+#REF!+#REF!+#REF!+#REF!+#REF!+#REF!+#REF!+#REF!+#REF!+#REF!+#REF!+#REF!+#REF!+#REF!+#REF!+#REF!+#REF!+#REF!+#REF!+#REF!+#REF!+#REF!+#REF!+#REF!+#REF!+#REF!+#REF!+#REF!+#REF!+#REF!+#REF!","v":{"$error":"#REF!"}},{"$f":"#REF!+#REF!+#REF!+#REF!+#REF!+#REF!+#REF!+#REF!+#REF!+#REF!+#REF!+#REF!+#REF!+#REF!+#REF!+#REF!+#REF!+#REF!+#REF!+#REF!+#REF!+#REF!+#REF!+#REF!+#REF!+#REF!+#REF!+#REF!+#REF!+#REF!+#REF!+#REF!+#REF!","v":{"$error":"#REF!"}},{"$f":"#REF!+#REF!+#REF!+#REF!+#REF!+#REF!+#REF!+#REF!+#REF!+#REF!+#REF!+#REF!+#REF!+#REF!+#REF!+#REF!+#REF!+#REF!+#REF!+#REF!+#REF!+#REF!+#REF!+#REF!+#REF!+#REF!+#REF!+#REF!+#REF!+#REF!+#REF!+#REF!+#REF!","v":{"$error":"#REF!"}},{"$f":"#REF!+#REF!+#REF!+#REF!+#REF!+#REF!+#REF!+#REF!+#REF!+#REF!+#REF!+#REF!+#REF!+#REF!+#REF!+#REF!+#REF!+#REF!+#REF!+#REF!+#REF!+#REF!+#REF!+#REF!+#REF!+#REF!+#REF!+#REF!+#REF!+#REF!+#REF!+#REF!+#REF!","v":{"$error":"#REF!"}},{"$f":"#REF!+#REF!+#REF!+#REF!+#REF!+#REF!+#REF!+#REF!+#REF!+#REF!+#REF!+#REF!+#REF!+#REF!+#REF!+#REF!+#REF!+#REF!+#REF!+#REF!+#REF!+#REF!+#REF!+#REF!+#REF!+#REF!+#REF!+#REF!+#REF!+#REF!+#REF!+#REF!+#REF!","v":{"$error":"#REF!"}},{"$f":"#REF!+#REF!+#REF!+#REF!+#REF!+#REF!+#REF!+#REF!+#REF!+#REF!+#REF!+#REF!+#REF!+#REF!+#REF!+#REF!+#REF!+#REF!+#REF!+#REF!+#REF!+#REF!+#REF!+#REF!+#REF!+#REF!+#REF!+#REF!+#REF!+#REF!+#REF!+#REF!+#REF!","v":{"$error":"#REF!"}},{"$f":"#REF!+#REF!+#REF!+#REF!+#REF!+#REF!+#REF!+#REF!+#REF!+#REF!+#REF!+#REF!+#REF!+#REF!+#REF!+#REF!+#REF!+#REF!+#REF!+#REF!+#REF!+#REF!+#REF!+#REF!+#REF!+#REF!+#REF!+#REF!+#REF!+#REF!+#REF!+#REF!+#REF!","v":{"$error":"#REF!"}},{"$f":"#REF!+#REF!+#REF!+#REF!+#REF!+#REF!+#REF!+#REF!+#REF!+#REF!+#REF!+#REF!+#REF!+#REF!+#REF!+#REF!+#REF!+#REF!+#REF!+#REF!+#REF!+#REF!+#REF!+#REF!+#REF!+#REF!+#REF!+#REF!+#REF!+#REF!+#REF!+#REF!+#REF!","v":{"$error":"#REF!"}},{"$f":"#REF!+#REF!+#REF!+#REF!+#REF!+#REF!+#REF!+#REF!+#REF!+#REF!+#REF!+#REF!+#REF!+#REF!+#REF!+#REF!+#REF!+#REF!+#REF!+#REF!+#REF!+#REF!+#REF!+#REF!+#REF!+#REF!+#REF!+#REF!+#REF!+#REF!+#REF!+#REF!+#REF!","v":{"$error":"#REF!"}},{"$f":"#REF!+#REF!+#REF!+#REF!+#REF!+#REF!+#REF!+#REF!+#REF!+#REF!+#REF!+#REF!+#REF!+#REF!+#REF!+#REF!+#REF!+#REF!+#REF!+#REF!+#REF!+#REF!+#REF!+#REF!+#REF!+#REF!+#REF!+#REF!+#REF!+#REF!+#REF!+#REF!+#REF!","v":{"$error":"#REF!"}},{"$f":"'9_Per Pupil Summary'!N37","v":3656},{"$f":"#REF!+#REF!+#REF!+#REF!+#REF!+#REF!+#REF!+#REF!+#REF!+#REF!+#REF!+#REF!+#REF!+#REF!+#REF!+#REF!+#REF!+#REF!+#REF!+#REF!+#REF!+#REF!+#REF!+#REF!+#REF!+#REF!+#REF!+#REF!+#REF!+#REF!+#REF!+#REF!+#REF!","v":{"$error":"#REF!"}},{"$f":"#REF!+#REF!+#REF!+#REF!+#REF!+#REF!+#REF!+#REF!+#REF!+#REF!+#REF!+#REF!+#REF!+#REF!+#REF!+#REF!+#REF!+#REF!+#REF!+#REF!+#REF!+#REF!+#REF!+#REF!+#REF!+#REF!+#REF!+#REF!+#REF!+#REF!+#REF!+#REF!+#REF!","v":{"$error":"#REF!"}},{"$f":"#REF!+#REF!+#REF!+#REF!+#REF!+#REF!+#REF!+#REF!+#REF!+#REF!+#REF!+#REF!+#REF!+#REF!+#REF!+#REF!+#REF!+#REF!+#REF!+#REF!+#REF!+#REF!+#REF!+#REF!+#REF!+#REF!+#REF!+#REF!+#REF!+#REF!+#REF!+#REF!+#REF!","v":{"$error":"#REF!"}},{"$f":"#REF!+#REF!+#REF!+#REF!+#REF!+#REF!+#REF!+#REF!+#REF!+#REF!+#REF!+#REF!+#REF!+#REF!+#REF!+#REF!+#REF!+#REF!+#REF!+#REF!+#REF!+#REF!+#REF!+#REF!+#REF!+#REF!+#REF!+#REF!+#REF!+#REF!+#REF!+#REF!+#REF!","v":{"$error":"#REF!"}},{"$f":"#REF!+#REF!+#REF!+#REF!+#REF!+#REF!+#REF!+#REF!+#REF!+#REF!+#REF!+#REF!+#REF!+#REF!+#REF!+#REF!+#REF!+#REF!+#REF!+#REF!+#REF!+#REF!+#REF!+#REF!+#REF!+#REF!+#REF!+#REF!+#REF!+#REF!+#REF!+#REF!+#REF!","v":{"$error":"#REF!"}},{"$f":"#REF!+#REF!+#REF!+#REF!+#REF!+#REF!+#REF!+#REF!+#REF!+#REF!+#REF!+#REF!+#REF!+#REF!+#REF!+#REF!+#REF!+#REF!+#REF!+#REF!+#REF!+#REF!+#REF!+#REF!+#REF!+#REF!+#REF!+#REF!+#REF!+#REF!+#REF!+#REF!+#REF!","v":{"$error":"#REF!"}},{"$f":"#REF!+#REF!+#REF!+#REF!+#REF!+#REF!+#REF!+#REF!+#REF!+#REF!+#REF!+#REF!+#REF!+#REF!+#REF!+#REF!+#REF!+#REF!+#REF!+#REF!+#REF!+#REF!+#REF!+#REF!+#REF!+#REF!+#REF!+#REF!+#REF!+#REF!+#REF!+#REF!+#REF!","v":{"$error":"#REF!"}},{"$f":"#REF!+#REF!+#REF!+#REF!+#REF!+#REF!+#REF!+#REF!+#REF!+#REF!+#REF!+#REF!+#REF!+#REF!+#REF!+#REF!+#REF!+#REF!+#REF!+#REF!+#REF!+#REF!+#REF!+#REF!+#REF!+#REF!+#REF!+#REF!+#REF!+#REF!+#REF!+#REF!+#REF!","v":{"$error":"#REF!"}},{"$f":"#REF!+#REF!+#REF!+#REF!+#REF!+#REF!+#REF!+#REF!+#REF!+#REF!+#REF!+#REF!+#REF!+#REF!+#REF!+#REF!+#REF!+#REF!+#REF!+#REF!+#REF!+#REF!+#REF!+#REF!+#REF!+#REF!+#REF!+#REF!+#REF!+#REF!+#REF!+#REF!+#REF!","v":{"$error":"#REF!"}},{"$f":"#REF!+#REF!+#REF!+#REF!+#REF!+#REF!+#REF!+#REF!+#REF!+#REF!+#REF!+#REF!+#REF!+#REF!+#REF!+#REF!+#REF!+#REF!+#REF!+#REF!+#REF!+#REF!+#REF!+#REF!+#REF!+#REF!+#REF!+#REF!+#REF!+#REF!+#REF!+#REF!+#REF!","v":{"$error":"#REF!"}},{"$f":"#REF!+#REF!+#REF!+#REF!+#REF!+#REF!+#REF!+#REF!+#REF!+#REF!+#REF!+#REF!+#REF!+#REF!+#REF!+#REF!+#REF!+#REF!+#REF!+#REF!+#REF!+#REF!+#REF!+#REF!+#REF!+#REF!+#REF!+#REF!+#REF!+#REF!+#REF!+#REF!+#REF!","v":{"$error":"#REF!"}},{"$f":"#REF!+#REF!+#REF!+#REF!+#REF!+#REF!+#REF!+#REF!+#REF!+#REF!+#REF!+#REF!+#REF!+#REF!+#REF!+#REF!+#REF!+#REF!+#REF!+#REF!+#REF!+#REF!+#REF!+#REF!+#REF!+#REF!+#REF!+#REF!+#REF!+#REF!+#REF!+#REF!+#REF!","v":{"$error":"#REF!"}},{"$f":"#REF!+#REF!+#REF!+#REF!+#REF!+#REF!+#REF!+#REF!+#REF!+#REF!+#REF!+#REF!+#REF!+#REF!+#REF!+#REF!+#REF!+#REF!+#REF!+#REF!+#REF!+#REF!+#REF!+#REF!+#REF!+#REF!+#REF!+#REF!+#REF!+#REF!+#REF!+#REF!+#REF!","v":{"$error":"#REF!"}},{"$f":"#REF!+#REF!+#REF!+#REF!+#REF!+#REF!+#REF!+#REF!+#REF!+#REF!+#REF!+#REF!+#REF!+#REF!+#REF!+#REF!+#REF!+#REF!+#REF!+#REF!+#REF!+#REF!+#REF!+#REF!+#REF!+#REF!+#REF!+#REF!+#REF!+#REF!+#REF!+#REF!+#REF!","v":{"$error":"#REF!"}},{"$error":"#REF!"},{"$error":"#REF!"},{"$f":"#REF!+#REF!+#REF!+#REF!+#REF!+#REF!+#REF!+#REF!+#REF!+#REF!+#REF!+#REF!+#REF!+#REF!+#REF!+#REF!+#REF!+#REF!+#REF!+#REF!+#REF!+#REF!+#REF!+#REF!+#REF!+#REF!+#REF!+#REF!+#REF!+#REF!+#REF!+#REF!+#REF!","v":{"$error":"#REF!"}},null,{"$error":"#REF!"}]
[33,"Madison",{"$f":"#REF!+#REF!+#REF!+#REF!+#REF!+#REF!+#REF!+#REF!+#REF!+#REF!+#REF!+#REF!+#REF!+#REF!+#REF!+#REF!+#REF!+#REF!+#REF!+#REF!+#REF!+#REF!+#REF!+#REF!+#REF!+#REF!+#REF!+#REF!+#REF!+#REF!+#REF!+#REF!+#REF!","v":{"$error":"#REF!"}},{"$f":"'9_Per Pupil Summary'!H38","v":5013.6445940554804},{"$f":"#REF!+#REF!+#REF!+#REF!+#REF!+#REF!+#REF!+#REF!+#REF!+#REF!+#REF!+#REF!+#REF!+#REF!+#REF!+#REF!+#REF!+#REF!+#REF!+#REF!+#REF!+#REF!+#REF!+#REF!+#REF!+#REF!+#REF!+#REF!+#REF!+#REF!+#REF!+#REF!+#REF!","v":{"$error":"#REF!"}},{"$f":"#REF!+#REF!+#REF!+#REF!+#REF!+#REF!+#REF!+#REF!+#REF!+#REF!+#REF!+#REF!+#REF!+#REF!+#REF!+#REF!+#REF!+#REF!+#REF!+#REF!+#REF!+#REF!+#REF!+#REF!+#REF!+#REF!+#REF!+#REF!+#REF!+#REF!+#REF!+#REF!+#REF!","v":{"$error":"#REF!"}},{"$f":"'9_Per Pupil Summary'!I38","v":648.98287419466055},{"$f":"#REF!+#REF!+#REF!+#REF!+#REF!+#REF!+#REF!+#REF!+#REF!+#REF!+#REF!+#REF!+#REF!+#REF!+#REF!+#REF!+#REF!+#REF!+#REF!+#REF!+#REF!+#REF!+#REF!+#REF!+#REF!+#REF!+#REF!+#REF!+#REF!+#REF!+#REF!+#REF!+#REF!","v":{"$error":"#REF!"}},{"$f":"#REF!+#REF!+#REF!+#REF!+#REF!+#REF!+#REF!+#REF!+#REF!+#REF!+#REF!+#REF!+#REF!+#REF!+#REF!+#REF!+#REF!+#REF!+#REF!+#REF!+#REF!+#REF!+#REF!+#REF!+#REF!+#REF!+#REF!+#REF!+#REF!+#REF!+#REF!+#REF!+#REF!","v":{"$error":"#REF!"}},{"$f":"'9_Per Pupil Summary'!J38","v":176.9953293258165},{"$f":"#REF!+#REF!+#REF!+#REF!+#REF!+#REF!+#REF!+#REF!+#REF!+#REF!+#REF!+#REF!+#REF!+#REF!+#REF!+#REF!+#REF!+#REF!+#REF!+#REF!+#REF!+#REF!+#REF!+#REF!+#REF!+#REF!+#REF!+#REF!+#REF!+#REF!+#REF!+#REF!+#REF!","v":{"$error":"#REF!"}},{"$f":"#REF!+#REF!+#REF!+#REF!+#REF!+#REF!+#REF!+#REF!+#REF!+#REF!+#REF!+#REF!+#REF!+#REF!+#REF!+#REF!+#REF!+#REF!+#REF!+#REF!+#REF!+#REF!+#REF!+#REF!+#REF!+#REF!+#REF!+#REF!+#REF!+#REF!+#REF!+#REF!+#REF!","v":{"$error":"#REF!"}},{"$f":"'9_Per Pupil Summary'!K38","v":4424.8832331454132},{"$f":"#REF!+#REF!+#REF!+#REF!+#REF!+#REF!+#REF!+#REF!+#REF!+#REF!+#REF!+#REF!+#REF!+#REF!+#REF!+#REF!+#REF!+#REF!+#REF!+#REF!+#REF!+#REF!+#REF!+#REF!+#REF!+#REF!+#REF!+#REF!+#REF!+#REF!+#REF!+#REF!+#REF!","v":{"$error":"#REF!"}},{"$f":"#REF!+#REF!+#REF!+#REF!+#REF!+#REF!+#REF!+#REF!+#REF!+#REF!+#REF!+#REF!+#REF!+#REF!+#REF!+#REF!+#REF!+#REF!+#REF!+#REF!+#REF!+#REF!+#REF!+#REF!+#REF!+#REF!+#REF!+#REF!+#REF!+#REF!+#REF!+#REF!+#REF!","v":{"$error":"#REF!"}},{"$f":"'9_Per Pupil Summary'!L38","v":1769.9532932581649},{"$f":"#REF!+#REF!+#REF!+#REF!+#REF!+#REF!+#REF!+#REF!+#REF!+#REF!+#REF!+#REF!+#REF!+#REF!+#REF!+#REF!+#REF!+#REF!+#REF!+#REF!+#REF!+#REF!+#REF!+#REF!+#REF!+#REF!+#REF!+#REF!+#REF!+#REF!+#REF!+#REF!+#REF!","v":{"$error":"#REF!"}},{"$f":"#REF!+#REF!+#REF!+#REF!+#REF!+#REF!+#REF!+#REF!+#REF!+#REF!+#REF!+#REF!+#REF!+#REF!+#REF!+#REF!+#REF!+#REF!+#REF!+#REF!+#REF!+#REF!+#REF!+#REF!+#REF!+#REF!+#REF!+#REF!+#REF!+#REF!+#REF!+#REF!+#REF!","v":{"$error":"#REF!"}},{"$f":"#REF!+#REF!","v":{"$error":"#REF!"}},{"$f":"#REF!+#REF!+#REF!+#REF!+#REF!+#REF!+#REF!+#REF!+#REF!+#REF!+#REF!+#REF!+#REF!+#REF!+#REF!+#REF!+#REF!+#REF!+#REF!+#REF!+#REF!+#REF!+#REF!+#REF!+#REF!+#REF!+#REF!+#REF!+#REF!+#REF!+#REF!+#REF!+#REF!","v":{"$error":"#REF!"}},{"$f":"#REF!+#REF!+#REF!+#REF!+#REF!+#REF!+#REF!+#REF!+#REF!+#REF!+#REF!+#REF!+#REF!+#REF!+#REF!+#REF!+#REF!+#REF!+#REF!+#REF!+#REF!+#REF!+#REF!+#REF!+#REF!+#REF!+#REF!+#REF!+#REF!+#REF!+#REF!+#REF!+#REF!","v":{"$error":"#REF!"}},{"$f":"#REF!+#REF!+#REF!+#REF!+#REF!+#REF!+#REF!+#REF!+#REF!+#REF!+#REF!+#REF!+#REF!+#REF!+#REF!+#REF!+#REF!+#REF!+#REF!+#REF!+#REF!+#REF!+#REF!+#REF!+#REF!+#REF!+#REF!+#REF!+#REF!+#REF!+#REF!+#REF!+#REF!","v":{"$error":"#REF!"}},{"$f":"#REF!+#REF!+#REF!+#REF!+#REF!+#REF!+#REF!+#REF!+#REF!+#REF!+#REF!+#REF!+#REF!+#REF!+#REF!+#REF!+#REF!+#REF!+#REF!+#REF!+#REF!+#REF!+#REF!+#REF!+#REF!+#REF!+#REF!+#REF!+#REF!+#REF!+#REF!+#REF!+#REF!","v":{"$error":"#REF!"}},{"$f":"#REF!+#REF!+#REF!+#REF!+#REF!+#REF!+#REF!+#REF!+#REF!+#REF!+#REF!+#REF!+#REF!+#REF!+#REF!+#REF!+#REF!+#REF!+#REF!+#REF!+#REF!+#REF!+#REF!+#REF!+#REF!+#REF!+#REF!+#REF!+#REF!+#REF!+#REF!+#REF!+#REF!","v":{"$error":"#REF!"}},{"$f":"#REF!+#REF!+#REF!+#REF!+#REF!+#REF!+#REF!+#REF!+#REF!+#REF!+#REF!+#REF!+#REF!+#REF!+#REF!+#REF!+#REF!+#REF!+#REF!+#REF!+#REF!+#REF!+#REF!+#REF!+#REF!+#REF!+#REF!+#REF!+#REF!+#REF!+#REF!+#REF!+#REF!","v":{"$error":"#REF!"}},{"$f":"#REF!+#REF!+#REF!+#REF!+#REF!+#REF!+#REF!+#REF!+#REF!+#REF!+#REF!+#REF!+#REF!+#REF!+#REF!+#REF!+#REF!+#REF!+#REF!+#REF!+#REF!+#REF!+#REF!+#REF!+#REF!+#REF!+#REF!+#REF!+#REF!+#REF!+#REF!+#REF!+#REF!","v":{"$error":"#REF!"}},{"$f":"#REF!+#REF!+#REF!+#REF!+#REF!+#REF!+#REF!+#REF!+#REF!+#REF!+#REF!+#REF!+#REF!+#REF!+#REF!+#REF!+#REF!+#REF!+#REF!+#REF!+#REF!+#REF!+#REF!+#REF!+#REF!+#REF!+#REF!+#REF!+#REF!+#REF!+#REF!+#REF!+#REF!","v":{"$error":"#REF!"}},{"$f":"#REF!+#REF!+#REF!+#REF!+#REF!+#REF!+#REF!+#REF!+#REF!+#REF!+#REF!+#REF!+#REF!+#REF!+#REF!+#REF!+#REF!+#REF!+#REF!+#REF!+#REF!+#REF!+#REF!+#REF!+#REF!+#REF!+#REF!+#REF!+#REF!+#REF!+#REF!+#REF!+#REF!","v":{"$error":"#REF!"}},{"$f":"#REF!+#REF!+#REF!+#REF!+#REF!+#REF!+#REF!+#REF!+#REF!+#REF!+#REF!+#REF!+#REF!+#REF!+#REF!+#REF!+#REF!+#REF!+#REF!+#REF!+#REF!+#REF!+#REF!+#REF!+#REF!+#REF!+#REF!+#REF!+#REF!+#REF!+#REF!+#REF!+#REF!","v":{"$error":"#REF!"}},{"$f":"#REF!+#REF!+#REF!+#REF!+#REF!+#REF!+#REF!+#REF!+#REF!+#REF!+#REF!+#REF!+#REF!+#REF!+#REF!+#REF!+#REF!+#REF!+#REF!+#REF!+#REF!+#REF!+#REF!+#REF!+#REF!+#REF!+#REF!+#REF!+#REF!+#REF!+#REF!+#REF!+#REF!","v":{"$error":"#REF!"}},{"$f":"#REF!+#REF!+#REF!+#REF!+#REF!+#REF!+#REF!+#REF!+#REF!+#REF!+#REF!+#REF!+#REF!+#REF!+#REF!+#REF!+#REF!+#REF!+#REF!+#REF!+#REF!+#REF!+#REF!+#REF!+#REF!+#REF!+#REF!+#REF!+#REF!+#REF!+#REF!+#REF!+#REF!","v":{"$error":"#REF!"}},{"$f":"'9_Per Pupil Summary'!N38","v":4978},{"$f":"#REF!+#REF!+#REF!+#REF!+#REF!+#REF!+#REF!+#REF!+#REF!+#REF!+#REF!+#REF!+#REF!+#REF!+#REF!+#REF!+#REF!+#REF!+#REF!+#REF!+#REF!+#REF!+#REF!+#REF!+#REF!+#REF!+#REF!+#REF!+#REF!+#REF!+#REF!+#REF!+#REF!","v":{"$error":"#REF!"}},{"$f":"#REF!+#REF!+#REF!+#REF!+#REF!+#REF!+#REF!+#REF!+#REF!+#REF!+#REF!+#REF!+#REF!+#REF!+#REF!+#REF!+#REF!+#REF!+#REF!+#REF!+#REF!+#REF!+#REF!+#REF!+#REF!+#REF!+#REF!+#REF!+#REF!+#REF!+#REF!+#REF!+#REF!","v":{"$error":"#REF!"}},{"$f":"#REF!+#REF!+#REF!+#REF!+#REF!+#REF!+#REF!+#REF!+#REF!+#REF!+#REF!+#REF!+#REF!+#REF!+#REF!+#REF!+#REF!+#REF!+#REF!+#REF!+#REF!+#REF!+#REF!+#REF!+#REF!+#REF!+#REF!+#REF!+#REF!+#REF!+#REF!+#REF!+#REF!","v":{"$error":"#REF!"}},{"$f":"#REF!+#REF!+#REF!+#REF!+#REF!+#REF!+#REF!+#REF!+#REF!+#REF!+#REF!+#REF!+#REF!+#REF!+#REF!+#REF!+#REF!+#REF!+#REF!+#REF!+#REF!+#REF!+#REF!+#REF!+#REF!+#REF!+#REF!+#REF!+#REF!+#REF!+#REF!+#REF!+#REF!","v":{"$error":"#REF!"}},{"$f":"#REF!+#REF!+#REF!+#REF!+#REF!+#REF!+#REF!+#REF!+#REF!+#REF!+#REF!+#REF!+#REF!+#REF!+#REF!+#REF!+#REF!+#REF!+#REF!+#REF!+#REF!+#REF!+#REF!+#REF!+#REF!+#REF!+#REF!+#REF!+#REF!+#REF!+#REF!+#REF!+#REF!","v":{"$error":"#REF!"}},{"$f":"#REF!+#REF!+#REF!+#REF!+#REF!+#REF!+#REF!+#REF!+#REF!+#REF!+#REF!+#REF!+#REF!+#REF!+#REF!+#REF!+#REF!+#REF!+#REF!+#REF!+#REF!+#REF!+#REF!+#REF!+#REF!+#REF!+#REF!+#REF!+#REF!+#REF!+#REF!+#REF!+#REF!","v":{"$error":"#REF!"}},{"$f":"#REF!+#REF!+#REF!+#REF!+#REF!+#REF!+#REF!+#REF!+#REF!+#REF!+#REF!+#REF!+#REF!+#REF!+#REF!+#REF!+#REF!+#REF!+#REF!+#REF!+#REF!+#REF!+#REF!+#REF!+#REF!+#REF!+#REF!+#REF!+#REF!+#REF!+#REF!+#REF!+#REF!","v":{"$error":"#REF!"}},{"$f":"#REF!+#REF!+#REF!+#REF!+#REF!+#REF!+#REF!+#REF!+#REF!+#REF!+#REF!+#REF!+#REF!+#REF!+#REF!+#REF!+#REF!+#REF!+#REF!+#REF!+#REF!+#REF!+#REF!+#REF!+#REF!+#REF!+#REF!+#REF!+#REF!+#REF!+#REF!+#REF!+#REF!","v":{"$error":"#REF!"}},{"$f":"#REF!+#REF!+#REF!+#REF!+#REF!+#REF!+#REF!+#REF!+#REF!+#REF!+#REF!+#REF!+#REF!+#REF!+#REF!+#REF!+#REF!+#REF!+#REF!+#REF!+#REF!+#REF!+#REF!+#REF!+#REF!+#REF!+#REF!+#REF!+#REF!+#REF!+#REF!+#REF!+#REF!","v":{"$error":"#REF!"}},{"$f":"#REF!+#REF!+#REF!+#REF!+#REF!+#REF!+#REF!+#REF!+#REF!+#REF!+#REF!+#REF!+#REF!+#REF!+#REF!+#REF!+#REF!+#REF!+#REF!+#REF!+#REF!+#REF!+#REF!+#REF!+#REF!+#REF!+#REF!+#REF!+#REF!+#REF!+#REF!+#REF!+#REF!","v":{"$error":"#REF!"}},{"$f":"#REF!+#REF!+#REF!+#REF!+#REF!+#REF!+#REF!+#REF!+#REF!+#REF!+#REF!+#REF!+#REF!+#REF!+#REF!+#REF!+#REF!+#REF!+#REF!+#REF!+#REF!+#REF!+#REF!+#REF!+#REF!+#REF!+#REF!+#REF!+#REF!+#REF!+#REF!+#REF!+#REF!","v":{"$error":"#REF!"}},{"$f":"#REF!+#REF!+#REF!+#REF!+#REF!+#REF!+#REF!+#REF!+#REF!+#REF!+#REF!+#REF!+#REF!+#REF!+#REF!+#REF!+#REF!+#REF!+#REF!+#REF!+#REF!+#REF!+#REF!+#REF!+#REF!+#REF!+#REF!+#REF!+#REF!+#REF!+#REF!+#REF!+#REF!","v":{"$error":"#REF!"}},{"$f":"#REF!+#REF!+#REF!+#REF!+#REF!+#REF!+#REF!+#REF!+#REF!+#REF!+#REF!+#REF!+#REF!+#REF!+#REF!+#REF!+#REF!+#REF!+#REF!+#REF!+#REF!+#REF!+#REF!+#REF!+#REF!+#REF!+#REF!+#REF!+#REF!+#REF!+#REF!+#REF!+#REF!","v":{"$error":"#REF!"}},{"$f":"#REF!+#REF!+#REF!+#REF!+#REF!+#REF!+#REF!+#REF!+#REF!+#REF!+#REF!+#REF!+#REF!+#REF!+#REF!+#REF!+#REF!+#REF!+#REF!+#REF!+#REF!+#REF!+#REF!+#REF!+#REF!+#REF!+#REF!+#REF!+#REF!+#REF!+#REF!+#REF!+#REF!","v":{"$error":"#REF!"}},{"$error":"#REF!"},{"$error":"#REF!"},{"$f":"#REF!+#REF!+#REF!+#REF!+#REF!+#REF!+#REF!+#REF!+#REF!+#REF!+#REF!+#REF!+#REF!+#REF!+#REF!+#REF!+#REF!+#REF!+#REF!+#REF!+#REF!+#REF!+#REF!+#REF!+#REF!+#REF!+#REF!+#REF!+#REF!+#REF!+#REF!+#REF!+#REF!","v":{"$error":"#REF!"}},null,{"$error":"#REF!"}]
[34,"Morehouse",{"$f":"#REF!+#REF!+#REF!+#REF!+#REF!+#REF!+#REF!+#REF!+#REF!+#REF!+#REF!+#REF!+#REF!+#REF!+#REF!+#REF!+#REF!+#REF!+#REF!+#REF!+#REF!+#REF!+#REF!+#REF!+#REF!+#REF!+#REF!+#REF!+#REF!+#REF!+#REF!+#REF!+#REF!","v":{"$error":"#REF!"}},{"$f":"'9_Per Pupil Summary'!H39","v":5288.6659122508754},{"$f":"#REF!+#REF!+#REF!+#REF!+#REF!+#REF!+#REF!+#REF!+#REF!+#REF!+#REF!+#REF!+#REF!+#REF!+#REF!+#REF!+#REF!+#REF!+#REF!+#REF!+#REF!+#REF!+#REF!+#REF!+#REF!+#REF!+#REF!+#REF!+#REF!+#REF!+#REF!+#REF!+#REF!","v":{"$error":"#REF!"}},{"$f":"#REF!+#REF!+#REF!+#REF!+#REF!+#REF!+#REF!+#REF!+#REF!+#REF!+#REF!+#REF!+#REF!+#REF!+#REF!+#REF!+#REF!+#REF!+#REF!+#REF!+#REF!+#REF!+#REF!+#REF!+#REF!+#REF!+#REF!+#REF!+#REF!+#REF!+#REF!+#REF!+#REF!","v":{"$error":"#REF!"}},{"$f":"'9_Per Pupil Summary'!I39","v":685.33149602494973},{"$f":"#REF!+#REF!+#REF!+#REF!+#REF!+#REF!+#REF!+#REF!+#REF!+#REF!+#REF!+#REF!+#REF!+#REF!+#REF!+#REF!+#REF!+#REF!+#REF!+#REF!+#REF!+#REF!+#REF!+#REF!+#REF!+#REF!+#REF!+#REF!+#REF!+#REF!+#REF!+#REF!+#REF!","v":{"$error":"#REF!"}},{"$f":"#REF!+#REF!+#REF!+#REF!+#REF!+#REF!+#REF!+#REF!+#REF!+#REF!+#REF!+#REF!+#REF!+#REF!+#REF!+#REF!+#REF!+#REF!+#REF!+#REF!+#REF!+#REF!+#REF!+#REF!+#REF!+#REF!+#REF!+#REF!+#REF!+#REF!+#REF!+#REF!+#REF!","v":{"$error":"#REF!"}},{"$f":"'9_Per Pupil Summary'!J39","v":186.90858982498628},{"$f":"#REF!+#REF!+#REF!+#REF!+#REF!+#REF!+#REF!+#REF!+#REF!+#REF!+#REF!+#REF!+#REF!+#REF!+#REF!+#REF!+#REF!+#REF!+#REF!+#REF!+#REF!+#REF!+#REF!+#REF!+#REF!+#REF!+#REF!+#REF!+#REF!+#REF!+#REF!+#REF!+#REF!","v":{"$error":"#REF!"}},{"$f":"#REF!+#REF!+#REF!+#REF!+#REF!+#REF!+#REF!+#REF!+#REF!+#REF!+#REF!+#REF!+#REF!+#REF!+#REF!+#REF!+#REF!+#REF!+#REF!+#REF!+#REF!+#REF!+#REF!+#REF!+#REF!+#REF!+#REF!+#REF!+#REF!+#REF!+#REF!+#REF!+#REF!","v":{"$error":"#REF!"}},{"$f":"'9_Per Pupil Summary'!K39","v":4672.7147456246576},{"$f":"#REF!+#REF!+#REF!+#REF!+#REF!+#REF!+#REF!+#REF!+#REF!+#REF!+#REF!+#REF!+#REF!+#REF!+#REF!+#REF!+#REF!+#REF!+#REF!+#REF!+#REF!+#REF!+#REF!+#REF!+#REF!+#REF!+#REF!+#REF!+#REF!+#REF!+#REF!+#REF!+#REF!","v":{"$error":"#REF!"}},{"$f":"#REF!+#REF!+#REF!+#REF!+#REF!+#REF!+#REF!+#REF!+#REF!+#REF!+#REF!+#REF!+#REF!+#REF!+#REF!+#REF!+#REF!+#REF!+#REF!+#REF!+#REF!+#REF!+#REF!+#REF!+#REF!+#REF!+#REF!+#REF!+#REF!+#REF!+#REF!+#REF!+#REF!","v":{"$error":"#REF!"}},{"$f":"'9_Per Pupil Summary'!L39","v":1869.085898249863},{"$f":"#REF!+#REF!+#REF!+#REF!+#REF!+#REF!+#REF!+#REF!+#REF!+#REF!+#REF!+#REF!+#REF!+#REF!+#REF!+#REF!+#REF!+#REF!+#REF!+#REF!+#REF!+#REF!+#REF!+#REF!+#REF!+#REF!+#REF!+#REF!+#REF!+#REF!+#REF!+#REF!+#REF!","v":{"$error":"#REF!"}},{"$f":"#REF!+#REF!+#REF!+#REF!+#REF!+#REF!+#REF!+#REF!+#REF!+#REF!+#REF!+#REF!+#REF!+#REF!+#REF!+#REF!+#REF!+#REF!+#REF!+#REF!+#REF!+#REF!+#REF!+#REF!+#REF!+#REF!+#REF!+#REF!+#REF!+#REF!+#REF!+#REF!+#REF!","v":{"$error":"#REF!"}},{"$f":"#REF!+#REF!","v":{"$error":"#REF!"}},{"$f":"#REF!+#REF!+#REF!+#REF!+#REF!+#REF!+#REF!+#REF!+#REF!+#REF!+#REF!+#REF!+#REF!+#REF!+#REF!+#REF!+#REF!+#REF!+#REF!+#REF!+#REF!+#REF!+#REF!+#REF!+#REF!+#REF!+#REF!+#REF!+#REF!+#REF!+#REF!+#REF!+#REF!","v":{"$error":"#REF!"}},{"$f":"#REF!+#REF!+#REF!+#REF!+#REF!+#REF!+#REF!+#REF!+#REF!+#REF!+#REF!+#REF!+#REF!+#REF!+#REF!+#REF!+#REF!+#REF!+#REF!+#REF!+#REF!+#REF!+#REF!+#REF!+#REF!+#REF!+#REF!+#REF!+#REF!+#REF!+#REF!+#REF!+#REF!","v":{"$error":"#REF!"}},{"$f":"#REF!+#REF!+#REF!+#REF!+#REF!+#REF!+#REF!+#REF!+#REF!+#REF!+#REF!+#REF!+#REF!+#REF!+#REF!+#REF!+#REF!+#REF!+#REF!+#REF!+#REF!+#REF!+#REF!+#REF!+#REF!+#REF!+#REF!+#REF!+#REF!+#REF!+#REF!+#REF!+#REF!","v":{"$error":"#REF!"}},{"$f":"#REF!+#REF!+#REF!+#REF!+#REF!+#REF!+#REF!+#REF!+#REF!+#REF!+#REF!+#REF!+#REF!+#REF!+#REF!+#REF!+#REF!+#REF!+#REF!+#REF!+#REF!+#REF!+#REF!+#REF!+#REF!+#REF!+#REF!+#REF!+#REF!+#REF!+#REF!+#REF!+#REF!","v":{"$error":"#REF!"}},{"$f":"#REF!+#REF!+#REF!+#REF!+#REF!+#REF!+#REF!+#REF!+#REF!+#REF!+#REF!+#REF!+#REF!+#REF!+#REF!+#REF!+#REF!+#REF!+#REF!+#REF!+#REF!+#REF!+#REF!+#REF!+#REF!+#REF!+#REF!+#REF!+#REF!+#REF!+#REF!+#REF!+#REF!","v":{"$error":"#REF!"}},{"$f":"#REF!+#REF!+#REF!+#REF!+#REF!+#REF!+#REF!+#REF!+#REF!+#REF!+#REF!+#REF!+#REF!+#REF!+#REF!+#REF!+#REF!+#REF!+#REF!+#REF!+#REF!+#REF!+#REF!+#REF!+#REF!+#REF!+#REF!+#REF!+#REF!+#REF!+#REF!+#REF!+#REF!","v":{"$error":"#REF!"}},{"$f":"#REF!+#REF!+#REF!+#REF!+#REF!+#REF!+#REF!+#REF!+#REF!+#REF!+#REF!+#REF!+#REF!+#REF!+#REF!+#REF!+#REF!+#REF!+#REF!+#REF!+#REF!+#REF!+#REF!+#REF!+#REF!+#REF!+#REF!+#REF!+#REF!+#REF!+#REF!+#REF!+#REF!","v":{"$error":"#REF!"}},{"$f":"#REF!+#REF!+#REF!+#REF!+#REF!+#REF!+#REF!+#REF!+#REF!+#REF!+#REF!+#REF!+#REF!+#REF!+#REF!+#REF!+#REF!+#REF!+#REF!+#REF!+#REF!+#REF!+#REF!+#REF!+#REF!+#REF!+#REF!+#REF!+#REF!+#REF!+#REF!+#REF!+#REF!","v":{"$error":"#REF!"}},{"$f":"#REF!+#REF!+#REF!+#REF!+#REF!+#REF!+#REF!+#REF!+#REF!+#REF!+#REF!+#REF!+#REF!+#REF!+#REF!+#REF!+#REF!+#REF!+#REF!+#REF!+#REF!+#REF!+#REF!+#REF!+#REF!+#REF!+#REF!+#REF!+#REF!+#REF!+#REF!+#REF!+#REF!","v":{"$error":"#REF!"}},{"$f":"#REF!+#REF!+#REF!+#REF!+#REF!+#REF!+#REF!+#REF!+#REF!+#REF!+#REF!+#REF!+#REF!+#REF!+#REF!+#REF!+#REF!+#REF!+#REF!+#REF!+#REF!+#REF!+#REF!+#REF!+#REF!+#REF!+#REF!+#REF!+#REF!+#REF!+#REF!+#REF!+#REF!","v":{"$error":"#REF!"}},{"$f":"#REF!+#REF!+#REF!+#REF!+#REF!+#REF!+#REF!+#REF!+#REF!+#REF!+#REF!+#REF!+#REF!+#REF!+#REF!+#REF!+#REF!+#REF!+#REF!+#REF!+#REF!+#REF!+#REF!+#REF!+#REF!+#REF!+#REF!+#REF!+#REF!+#REF!+#REF!+#REF!+#REF!","v":{"$error":"#REF!"}},{"$f":"#REF!+#REF!+#REF!+#REF!+#REF!+#REF!+#REF!+#REF!+#REF!+#REF!+#REF!+#REF!+#REF!+#REF!+#REF!+#REF!+#REF!+#REF!+#REF!+#REF!+#REF!+#REF!+#REF!+#REF!+#REF!+#REF!+#REF!+#REF!+#REF!+#REF!+#REF!+#REF!+#REF!","v":{"$error":"#REF!"}},{"$f":"'9_Per Pupil Summary'!N39","v":5011},{"$f":"#REF!+#REF!+#REF!+#REF!+#REF!+#REF!+#REF!+#REF!+#REF!+#REF!+#REF!+#REF!+#REF!+#REF!+#REF!+#REF!+#REF!+#REF!+#REF!+#REF!+#REF!+#REF!+#REF!+#REF!+#REF!+#REF!+#REF!+#REF!+#REF!+#REF!+#REF!+#REF!+#REF!","v":{"$error":"#REF!"}},{"$f":"#REF!+#REF!+#REF!+#REF!+#REF!+#REF!+#REF!+#REF!+#REF!+#REF!+#REF!+#REF!+#REF!+#REF!+#REF!+#REF!+#REF!+#REF!+#REF!+#REF!+#REF!+#REF!+#REF!+#REF!+#REF!+#REF!+#REF!+#REF!+#REF!+#REF!+#REF!+#REF!+#REF!","v":{"$error":"#REF!"}},{"$f":"#REF!+#REF!+#REF!+#REF!+#REF!+#REF!+#REF!+#REF!+#REF!+#REF!+#REF!+#REF!+#REF!+#REF!+#REF!+#REF!+#REF!+#REF!+#REF!+#REF!+#REF!+#REF!+#REF!+#REF!+#REF!+#REF!+#REF!+#REF!+#REF!+#REF!+#REF!+#REF!+#REF!","v":{"$error":"#REF!"}},{"$f":"#REF!+#REF!+#REF!+#REF!+#REF!+#REF!+#REF!+#REF!+#REF!+#REF!+#REF!+#REF!+#REF!+#REF!+#REF!+#REF!+#REF!+#REF!+#REF!+#REF!+#REF!+#REF!+#REF!+#REF!+#REF!+#REF!+#REF!+#REF!+#REF!+#REF!+#REF!+#REF!+#REF!","v":{"$error":"#REF!"}},{"$f":"#REF!+#REF!+#REF!+#REF!+#REF!+#REF!+#REF!+#REF!+#REF!+#REF!+#REF!+#REF!+#REF!+#REF!+#REF!+#REF!+#REF!+#REF!+#REF!+#REF!+#REF!+#REF!+#REF!+#REF!+#REF!+#REF!+#REF!+#REF!+#REF!+#REF!+#REF!+#REF!+#REF!","v":{"$error":"#REF!"}},{"$f":"#REF!+#REF!+#REF!+#REF!+#REF!+#REF!+#REF!+#REF!+#REF!+#REF!+#REF!+#REF!+#REF!+#REF!+#REF!+#REF!+#REF!+#REF!+#REF!+#REF!+#REF!+#REF!+#REF!+#REF!+#REF!+#REF!+#REF!+#REF!+#REF!+#REF!+#REF!+#REF!+#REF!","v":{"$error":"#REF!"}},{"$f":"#REF!+#REF!+#REF!+#REF!+#REF!+#REF!+#REF!+#REF!+#REF!+#REF!+#REF!+#REF!+#REF!+#REF!+#REF!+#REF!+#REF!+#REF!+#REF!+#REF!+#REF!+#REF!+#REF!+#REF!+#REF!+#REF!+#REF!+#REF!+#REF!+#REF!+#REF!+#REF!+#REF!","v":{"$error":"#REF!"}},{"$f":"#REF!+#REF!+#REF!+#REF!+#REF!+#REF!+#REF!+#REF!+#REF!+#REF!+#REF!+#REF!+#REF!+#REF!+#REF!+#REF!+#REF!+#REF!+#REF!+#REF!+#REF!+#REF!+#REF!+#REF!+#REF!+#REF!+#REF!+#REF!+#REF!+#REF!+#REF!+#REF!+#REF!","v":{"$error":"#REF!"}},{"$f":"#REF!+#REF!+#REF!+#REF!+#REF!+#REF!+#REF!+#REF!+#REF!+#REF!+#REF!+#REF!+#REF!+#REF!+#REF!+#REF!+#REF!+#REF!+#REF!+#REF!+#REF!+#REF!+#REF!+#REF!+#REF!+#REF!+#REF!+#REF!+#REF!+#REF!+#REF!+#REF!+#REF!","v":{"$error":"#REF!"}},{"$f":"#REF!+#REF!+#REF!+#REF!+#REF!+#REF!+#REF!+#REF!+#REF!+#REF!+#REF!+#REF!+#REF!+#REF!+#REF!+#REF!+#REF!+#REF!+#REF!+#REF!+#REF!+#REF!+#REF!+#REF!+#REF!+#REF!+#REF!+#REF!+#REF!+#REF!+#REF!+#REF!+#REF!","v":{"$error":"#REF!"}},{"$f":"#REF!+#REF!+#REF!+#REF!+#REF!+#REF!+#REF!+#REF!+#REF!+#REF!+#REF!+#REF!+#REF!+#REF!+#REF!+#REF!+#REF!+#REF!+#REF!+#REF!+#REF!+#REF!+#REF!+#REF!+#REF!+#REF!+#REF!+#REF!+#REF!+#REF!+#REF!+#REF!+#REF!","v":{"$error":"#REF!"}},{"$f":"#REF!+#REF!+#REF!+#REF!+#REF!+#REF!+#REF!+#REF!+#REF!+#REF!+#REF!+#REF!+#REF!+#REF!+#REF!+#REF!+#REF!+#REF!+#REF!+#REF!+#REF!+#REF!+#REF!+#REF!+#REF!+#REF!+#REF!+#REF!+#REF!+#REF!+#REF!+#REF!+#REF!","v":{"$error":"#REF!"}},{"$f":"#REF!+#REF!+#REF!+#REF!+#REF!+#REF!+#REF!+#REF!+#REF!+#REF!+#REF!+#REF!+#REF!+#REF!+#REF!+#REF!+#REF!+#REF!+#REF!+#REF!+#REF!+#REF!+#REF!+#REF!+#REF!+#REF!+#REF!+#REF!+#REF!+#REF!+#REF!+#REF!+#REF!","v":{"$error":"#REF!"}},{"$f":"#REF!+#REF!+#REF!+#REF!+#REF!+#REF!+#REF!+#REF!+#REF!+#REF!+#REF!+#REF!+#REF!+#REF!+#REF!+#REF!+#REF!+#REF!+#REF!+#REF!+#REF!+#REF!+#REF!+#REF!+#REF!+#REF!+#REF!+#REF!+#REF!+#REF!+#REF!+#REF!+#REF!","v":{"$error":"#REF!"}},{"$error":"#REF!"},{"$error":"#REF!"},{"$f":"#REF!+#REF!+#REF!+#REF!+#REF!+#REF!+#REF!+#REF!+#REF!+#REF!+#REF!+#REF!+#REF!+#REF!+#REF!+#REF!+#REF!+#REF!+#REF!+#REF!+#REF!+#REF!+#REF!+#REF!+#REF!+#REF!+#REF!+#REF!+#REF!+#REF!+#REF!+#REF!+#REF!","v":{"$error":"#REF!"}},null,{"$error":"#REF!"}]
[35,"Natchitoches",{"$f":"#REF!+#REF!+#REF!+#REF!+#REF!+#REF!+#REF!+#REF!+#REF!+#REF!+#REF!+#REF!+#REF!+#REF!+#REF!+#REF!+#REF!+#REF!+#REF!+#REF!+#REF!+#REF!+#REF!+#REF!+#REF!+#REF!+#REF!+#REF!+#REF!+#REF!+#REF!+#REF!+#REF!","v":{"$error":"#REF!"}},{"$f":"'9_Per Pupil Summary'!H40","v":4088.7371236233994},{"$f":"#REF!+#REF!+#REF!+#REF!+#REF!+#REF!+#REF!+#REF!+#REF!+#REF!+#REF!+#REF!+#REF!+#REF!+#REF!+#REF!+#REF!+#REF!+#REF!+#REF!+#REF!+#REF!+#REF!+#REF!+#REF!+#REF!+#REF!+#REF!+#REF!+#REF!+#REF!+#REF!+#REF!","v":{"$error":"#REF!"}},{"$f":"#REF!+#REF!+#REF!+#REF!+#REF!+#REF!+#REF!+#REF!+#REF!+#REF!+#REF!+#REF!+#REF!+#REF!+#REF!+#REF!+#REF!+#REF!+#REF!+#REF!+#REF!+#REF!+#REF!+#REF!+#REF!+#REF!+#REF!+#REF!+#REF!+#REF!+#REF!+#REF!+#REF!","v":{"$error":"#REF!"}},{"$f":"'9_Per Pupil Summary'!I40","v":568.12015244407428},{"$f":"#REF!+#REF!+#REF!+#REF!+#REF!+#REF!+#REF!+#REF!+#REF!+#REF!+#REF!+#REF!+#REF!+#REF!+#REF!+#REF!+#REF!+#REF!+#REF!+#REF!+#REF!+#REF!+#REF!+#REF!+#REF!+#REF!+#REF!+#REF!+#REF!+#REF!+#REF!+#REF!+#REF!","v":{"$error":"#REF!"}},{"$f":"#REF!+#REF!+#REF!+#REF!+#REF!+#REF!+#REF!+#REF!+#REF!+#REF!+#REF!+#REF!+#REF!+#REF!+#REF!+#REF!+#REF!+#REF!+#REF!+#REF!+#REF!+#REF!+#REF!+#REF!+#REF!+#REF!+#REF!+#REF!+#REF!+#REF!+#REF!+#REF!+#REF!","v":{"$error":"#REF!"}},{"$f":"'9_Per Pupil Summary'!J40","v":154.94185975747482},{"$f":"#REF!+#REF!+#REF!+#REF!+#REF!+#REF!+#REF!+#REF!+#REF!+#REF!+#REF!+#REF!+#REF!+#REF!+#REF!+#REF!+#REF!+#REF!+#REF!+#REF!+#REF!+#REF!+#REF!+#REF!+#REF!+#REF!+#REF!+#REF!+#REF!+#REF!+#REF!+#REF!+#REF!","v":{"$error":"#REF!"}},{"$f":"#REF!+#REF!+#REF!+#REF!+#REF!+#REF!+#REF!+#REF!+#REF!+#REF!+#REF!+#REF!+#REF!+#REF!+#REF!+#REF!+#REF!+#REF!+#REF!+#REF!+#REF!+#REF!+#REF!+#REF!+#REF!+#REF!+#REF!+#REF!+#REF!+#REF!+#REF!+#REF!+#REF!","v":{"$error":"#REF!"}},{"$f":"'9_Per Pupil Summary'!K40","v":3873.5464939368703},{"$f":"#REF!+#REF!+#REF!+#REF!+#REF!+#REF!+#REF!+#REF!+#REF!+#REF!+#REF!+#REF!+#REF!+#REF!+#REF!+#REF!+#REF!+#REF!+#REF!+#REF!+#REF!+#REF!+#REF!+#REF!+#REF!+#REF!+#REF!+#REF!+#REF!+#REF!+#REF!+#REF!+#REF!","v":{"$error":"#REF!"}},{"$f":"#REF!+#REF!+#REF!+#REF!+#REF!+#REF!+#REF!+#REF!+#REF!+#REF!+#REF!+#REF!+#REF!+#REF!+#REF!+#REF!+#REF!+#REF!+#REF!+#REF!+#REF!+#REF!+#REF!+#REF!+#REF!+#REF!+#REF!+#REF!+#REF!+#REF!+#REF!+#REF!+#REF!","v":{"$error":"#REF!"}},{"$f":"'9_Per Pupil Summary'!L40","v":1549.418597574748},{"$f":"#REF!+#REF!+#REF!+#REF!+#REF!+#REF!+#REF!+#REF!+#REF!+#REF!+#REF!+#REF!+#REF!+#REF!+#REF!+#REF!+#REF!+#REF!+#REF!+#REF!+#REF!+#REF!+#REF!+#REF!+#REF!+#REF!+#REF!+#REF!+#REF!+#REF!+#REF!+#REF!+#REF!","v":{"$error":"#REF!"}},{"$f":"#REF!+#REF!+#REF!+#REF!+#REF!+#REF!+#REF!+#REF!+#REF!+#REF!+#REF!+#REF!+#REF!+#REF!+#REF!+#REF!+#REF!+#REF!+#REF!+#REF!+#REF!+#REF!+#REF!+#REF!+#REF!+#REF!+#REF!+#REF!+#REF!+#REF!+#REF!+#REF!+#REF!","v":{"$error":"#REF!"}},{"$f":"#REF!+#REF!","v":{"$error":"#REF!"}},{"$f":"#REF!+#REF!+#REF!+#REF!+#REF!+#REF!+#REF!+#REF!+#REF!+#REF!+#REF!+#REF!+#REF!+#REF!+#REF!+#REF!+#REF!+#REF!+#REF!+#REF!+#REF!+#REF!+#REF!+#REF!+#REF!+#REF!+#REF!+#REF!+#REF!+#REF!+#REF!+#REF!+#REF!","v":{"$error":"#REF!"}},{"$f":"#REF!+#REF!+#REF!+#REF!+#REF!+#REF!+#REF!+#REF!+#REF!+#REF!+#REF!+#REF!+#REF!+#REF!+#REF!+#REF!+#REF!+#REF!+#REF!+#REF!+#REF!+#REF!+#REF!+#REF!+#REF!+#REF!+#REF!+#REF!+#REF!+#REF!+#REF!+#REF!+#REF!","v":{"$error":"#REF!"}},{"$f":"#REF!+#REF!+#REF!+#REF!+#REF!+#REF!+#REF!+#REF!+#REF!+#REF!+#REF!+#REF!+#REF!+#REF!+#REF!+#REF!+#REF!+#REF!+#REF!+#REF!+#REF!+#REF!+#REF!+#REF!+#REF!+#REF!+#REF!+#REF!+#REF!+#REF!+#REF!+#REF!+#REF!","v":{"$error":"#REF!"}},{"$f":"#REF!+#REF!+#REF!+#REF!+#REF!+#REF!+#REF!+#REF!+#REF!+#REF!+#REF!+#REF!+#REF!+#REF!+#REF!+#REF!+#REF!+#REF!+#REF!+#REF!+#REF!+#REF!+#REF!+#REF!+#REF!+#REF!+#REF!+#REF!+#REF!+#REF!+#REF!+#REF!+#REF!","v":{"$error":"#REF!"}},{"$f":"#REF!+#REF!+#REF!+#REF!+#REF!+#REF!+#REF!+#REF!+#REF!+#REF!+#REF!+#REF!+#REF!+#REF!+#REF!+#REF!+#REF!+#REF!+#REF!+#REF!+#REF!+#REF!+#REF!+#REF!+#REF!+#REF!+#REF!+#REF!+#REF!+#REF!+#REF!+#REF!+#REF!","v":{"$error":"#REF!"}},{"$f":"#REF!+#REF!+#REF!+#REF!+#REF!+#REF!+#REF!+#REF!+#REF!+#REF!+#REF!+#REF!+#REF!+#REF!+#REF!+#REF!+#REF!+#REF!+#REF!+#REF!+#REF!+#REF!+#REF!+#REF!+#REF!+#REF!+#REF!+#REF!+#REF!+#REF!+#REF!+#REF!+#REF!","v":{"$error":"#REF!"}},{"$f":"#REF!+#REF!+#REF!+#REF!+#REF!+#REF!+#REF!+#REF!+#REF!+#REF!+#REF!+#REF!+#REF!+#REF!+#REF!+#REF!+#REF!+#REF!+#REF!+#REF!+#REF!+#REF!+#REF!+#REF!+#REF!+#REF!+#REF!+#REF!+#REF!+#REF!+#REF!+#REF!+#REF!","v":{"$error":"#REF!"}},{"$f":"#REF!+#REF!+#REF!+#REF!+#REF!+#REF!+#REF!+#REF!+#REF!+#REF!+#REF!+#REF!+#REF!+#REF!+#REF!+#REF!+#REF!+#REF!+#REF!+#REF!+#REF!+#REF!+#REF!+#REF!+#REF!+#REF!+#REF!+#REF!+#REF!+#REF!+#REF!+#REF!+#REF!","v":{"$error":"#REF!"}},{"$f":"#REF!+#REF!+#REF!+#REF!+#REF!+#REF!+#REF!+#REF!+#REF!+#REF!+#REF!+#REF!+#REF!+#REF!+#REF!+#REF!+#REF!+#REF!+#REF!+#REF!+#REF!+#REF!+#REF!+#REF!+#REF!+#REF!+#REF!+#REF!+#REF!+#REF!+#REF!+#REF!+#REF!","v":{"$error":"#REF!"}},{"$f":"#REF!+#REF!+#REF!+#REF!+#REF!+#REF!+#REF!+#REF!+#REF!+#REF!+#REF!+#REF!+#REF!+#REF!+#REF!+#REF!+#REF!+#REF!+#REF!+#REF!+#REF!+#REF!+#REF!+#REF!+#REF!+#REF!+#REF!+#REF!+#REF!+#REF!+#REF!+#REF!+#REF!","v":{"$error":"#REF!"}},{"$f":"#REF!+#REF!+#REF!+#REF!+#REF!+#REF!+#REF!+#REF!+#REF!+#REF!+#REF!+#REF!+#REF!+#REF!+#REF!+#REF!+#REF!+#REF!+#REF!+#REF!+#REF!+#REF!+#REF!+#REF!+#REF!+#REF!+#REF!+#REF!+#REF!+#REF!+#REF!+#REF!+#REF!","v":{"$error":"#REF!"}},{"$f":"#REF!+#REF!+#REF!+#REF!+#REF!+#REF!+#REF!+#REF!+#REF!+#REF!+#REF!+#REF!+#REF!+#REF!+#REF!+#REF!+#REF!+#REF!+#REF!+#REF!+#REF!+#REF!+#REF!+#REF!+#REF!+#REF!+#REF!+#REF!+#REF!+#REF!+#REF!+#REF!+#REF!","v":{"$error":"#REF!"}},{"$f":"'9_Per Pupil Summary'!N40","v":7284},{"$f":"#REF!+#REF!+#REF!+#REF!+#REF!+#REF!+#REF!+#REF!+#REF!+#REF!+#REF!+#REF!+#REF!+#REF!+#REF!+#REF!+#REF!+#REF!+#REF!+#REF!+#REF!+#REF!+#REF!+#REF!+#REF!+#REF!+#REF!+#REF!+#REF!+#REF!+#REF!+#REF!+#REF!","v":{"$error":"#REF!"}},{"$f":"#REF!+#REF!+#REF!+#REF!+#REF!+#REF!+#REF!+#REF!+#REF!+#REF!+#REF!+#REF!+#REF!+#REF!+#REF!+#REF!+#REF!+#REF!+#REF!+#REF!+#REF!+#REF!+#REF!+#REF!+#REF!+#REF!+#REF!+#REF!+#REF!+#REF!+#REF!+#REF!+#REF!","v":{"$error":"#REF!"}},{"$f":"#REF!+#REF!+#REF!+#REF!+#REF!+#REF!+#REF!+#REF!+#REF!+#REF!+#REF!+#REF!+#REF!+#REF!+#REF!+#REF!+#REF!+#REF!+#REF!+#REF!+#REF!+#REF!+#REF!+#REF!+#REF!+#REF!+#REF!+#REF!+#REF!+#REF!+#REF!+#REF!+#REF!","v":{"$error":"#REF!"}},{"$f":"#REF!+#REF!+#REF!+#REF!+#REF!+#REF!+#REF!+#REF!+#REF!+#REF!+#REF!+#REF!+#REF!+#REF!+#REF!+#REF!+#REF!+#REF!+#REF!+#REF!+#REF!+#REF!+#REF!+#REF!+#REF!+#REF!+#REF!+#REF!+#REF!+#REF!+#REF!+#REF!+#REF!","v":{"$error":"#REF!"}},{"$f":"#REF!+#REF!+#REF!+#REF!+#REF!+#REF!+#REF!+#REF!+#REF!+#REF!+#REF!+#REF!+#REF!+#REF!+#REF!+#REF!+#REF!+#REF!+#REF!+#REF!+#REF!+#REF!+#REF!+#REF!+#REF!+#REF!+#REF!+#REF!+#REF!+#REF!+#REF!+#REF!+#REF!","v":{"$error":"#REF!"}},{"$f":"#REF!+#REF!+#REF!+#REF!+#REF!+#REF!+#REF!+#REF!+#REF!+#REF!+#REF!+#REF!+#REF!+#REF!+#REF!+#REF!+#REF!+#REF!+#REF!+#REF!+#REF!+#REF!+#REF!+#REF!+#REF!+#REF!+#REF!+#REF!+#REF!+#REF!+#REF!+#REF!+#REF!","v":{"$error":"#REF!"}},{"$f":"#REF!+#REF!+#REF!+#REF!+#REF!+#REF!+#REF!+#REF!+#REF!+#REF!+#REF!+#REF!+#REF!+#REF!+#REF!+#REF!+#REF!+#REF!+#REF!+#REF!+#REF!+#REF!+#REF!+#REF!+#REF!+#REF!+#REF!+#REF!+#REF!+#REF!+#REF!+#REF!+#REF!","v":{"$error":"#REF!"}},{"$f":"#REF!+#REF!+#REF!+#REF!+#REF!+#REF!+#REF!+#REF!+#REF!+#REF!+#REF!+#REF!+#REF!+#REF!+#REF!+#REF!+#REF!+#REF!+#REF!+#REF!+#REF!+#REF!+#REF!+#REF!+#REF!+#REF!+#REF!+#REF!+#REF!+#REF!+#REF!+#REF!+#REF!","v":{"$error":"#REF!"}},{"$f":"#REF!+#REF!+#REF!+#REF!+#REF!+#REF!+#REF!+#REF!+#REF!+#REF!+#REF!+#REF!+#REF!+#REF!+#REF!+#REF!+#REF!+#REF!+#REF!+#REF!+#REF!+#REF!+#REF!+#REF!+#REF!+#REF!+#REF!+#REF!+#REF!+#REF!+#REF!+#REF!+#REF!","v":{"$error":"#REF!"}},{"$f":"#REF!+#REF!+#REF!+#REF!+#REF!+#REF!+#REF!+#REF!+#REF!+#REF!+#REF!+#REF!+#REF!+#REF!+#REF!+#REF!+#REF!+#REF!+#REF!+#REF!+#REF!+#REF!+#REF!+#REF!+#REF!+#REF!+#REF!+#REF!+#REF!+#REF!+#REF!+#REF!+#REF!","v":{"$error":"#REF!"}},{"$f":"#REF!+#REF!+#REF!+#REF!+#REF!+#REF!+#REF!+#REF!+#REF!+#REF!+#REF!+#REF!+#REF!+#REF!+#REF!+#REF!+#REF!+#REF!+#REF!+#REF!+#REF!+#REF!+#REF!+#REF!+#REF!+#REF!+#REF!+#REF!+#REF!+#REF!+#REF!+#REF!+#REF!","v":{"$error":"#REF!"}},{"$f":"#REF!+#REF!+#REF!+#REF!+#REF!+#REF!+#REF!+#REF!+#REF!+#REF!+#REF!+#REF!+#REF!+#REF!+#REF!+#REF!+#REF!+#REF!+#REF!+#REF!+#REF!+#REF!+#REF!+#REF!+#REF!+#REF!+#REF!+#REF!+#REF!+#REF!+#REF!+#REF!+#REF!","v":{"$error":"#REF!"}},{"$f":"#REF!+#REF!+#REF!+#REF!+#REF!+#REF!+#REF!+#REF!+#REF!+#REF!+#REF!+#REF!+#REF!+#REF!+#REF!+#REF!+#REF!+#REF!+#REF!+#REF!+#REF!+#REF!+#REF!+#REF!+#REF!+#REF!+#REF!+#REF!+#REF!+#REF!+#REF!+#REF!+#REF!","v":{"$error":"#REF!"}},{"$f":"#REF!+#REF!+#REF!+#REF!+#REF!+#REF!+#REF!+#REF!+#REF!+#REF!+#REF!+#REF!+#REF!+#REF!+#REF!+#REF!+#REF!+#REF!+#REF!+#REF!+#REF!+#REF!+#REF!+#REF!+#REF!+#REF!+#REF!+#REF!+#REF!+#REF!+#REF!+#REF!+#REF!","v":{"$error":"#REF!"}},{"$error":"#REF!"},{"$error":"#REF!"},{"$f":"#REF!+#REF!+#REF!+#REF!+#REF!+#REF!+#REF!+#REF!+#REF!+#REF!+#REF!+#REF!+#REF!+#REF!+#REF!+#REF!+#REF!+#REF!+#REF!+#REF!+#REF!+#REF!+#REF!+#REF!+#REF!+#REF!+#REF!+#REF!+#REF!+#REF!+#REF!+#REF!+#REF!","v":{"$error":"#REF!"}},null,{"$error":"#REF!"}]
[36,"Orleans",{"$f":"#REF!+#REF!+#REF!+#REF!+#REF!+#REF!+#REF!+#REF!+#REF!+#REF!+#REF!+#REF!+#REF!+#REF!+#REF!+#REF!+#REF!+#REF!+#REF!+#REF!+#REF!+#REF!+#REF!+#REF!+#REF!+#REF!+#REF!+#REF!+#REF!+#REF!+#REF!+#REF!+#REF!","v":{"$error":"#REF!"}},{"$f":"'9_Per Pupil Summary'!H41","v":3400.6600770314171},{"$f":"#REF!+#REF!+#REF!+#REF!+#REF!+#REF!+#REF!+#REF!+#REF!+#REF!+#REF!+#REF!+#REF!+#REF!+#REF!+#REF!+#REF!+#REF!+#REF!+#REF!+#REF!+#REF!+#REF!+#REF!+#REF!+#REF!+#REF!+#REF!+#REF!+#REF!+#REF!+#REF!+#REF!","v":{"$error":"#REF!"}},{"$f":"#REF!+#REF!+#REF!+#REF!+#REF!+#REF!+#REF!+#REF!+#REF!+#REF!+#REF!+#REF!+#REF!+#REF!+#REF!+#REF!+#REF!+#REF!+#REF!+#REF!+#REF!+#REF!+#REF!+#REF!+#REF!+#REF!+#REF!+#REF!+#REF!+#REF!+#REF!+#REF!+#REF!","v":{"$error":"#REF!"}},{"$f":"'9_Per Pupil Summary'!I41","v":464.68778957388326},{"$f":"#REF!+#REF!+#REF!+#REF!+#REF!+#REF!+#REF!+#REF!+#REF!+#REF!+#REF!+#REF!+#REF!+#REF!+#REF!+#REF!+#REF!+#REF!+#REF!+#REF!+#REF!+#REF!+#REF!+#REF!+#REF!+#REF!+#REF!+#REF!+#REF!+#REF!+#REF!+#REF!+#REF!","v":{"$error":"#REF!"}},{"$f":"#REF!+#REF!+#REF!+#REF!+#REF!+#REF!+#REF!+#REF!+#REF!+#REF!+#REF!+#REF!+#REF!+#REF!+#REF!+#REF!+#REF!+#REF!+#REF!+#REF!+#REF!+#REF!+#REF!+#REF!+#REF!+#REF!+#REF!+#REF!+#REF!+#REF!+#REF!+#REF!+#REF!","v":{"$error":"#REF!"}},{"$f":"'9_Per Pupil Summary'!J41","v":126.73303352014996},{"$f":"#REF!+#REF!+#REF!+#REF!+#REF!+#REF!+#REF!+#REF!+#REF!+#REF!+#REF!+#REF!+#REF!+#REF!+#REF!+#REF!+#REF!+#REF!+#REF!+#REF!+#REF!+#REF!+#REF!+#REF!+#REF!+#REF!+#REF!+#REF!+#REF!+#REF!+#REF!+#REF!+#REF!","v":{"$error":"#REF!"}},{"$f":"#REF!+#REF!+#REF!+#REF!+#REF!+#REF!+#REF!+#REF!+#REF!+#REF!+#REF!+#REF!+#REF!+#REF!+#REF!+#REF!+#REF!+#REF!+#REF!+#REF!+#REF!+#REF!+#REF!+#REF!+#REF!+#REF!+#REF!+#REF!+#REF!+#REF!+#REF!+#REF!+#REF!","v":{"$error":"#REF!"}},{"$f":"'9_Per Pupil Summary'!K41","v":3168.3258380037491},{"$f":"#REF!+#REF!+#REF!+#REF!+#REF!+#REF!+#REF!+#REF!+#REF!+#REF!+#REF!+#REF!+#REF!+#REF!+#REF!+#REF!+#REF!+#REF!+#REF!+#REF!+#REF!+#REF!+#REF!+#REF!+#REF!+#REF!+#REF!+#REF!+#REF!+#REF!+#REF!+#REF!+#REF!","v":{"$error":"#REF!"}},{"$f":"#REF!+#REF!+#REF!+#REF!+#REF!+#REF!+#REF!+#REF!+#REF!+#REF!+#REF!+#REF!+#REF!+#REF!+#REF!+#REF!+#REF!+#REF!+#REF!+#REF!+#REF!+#REF!+#REF!+#REF!+#REF!+#REF!+#REF!+#REF!+#REF!+#REF!+#REF!+#REF!+#REF!","v":{"$error":"#REF!"}},{"$f":"'9_Per Pupil Summary'!L41","v":1267.3303352014998},{"$f":"#REF!+#REF!+#REF!+#REF!+#REF!+#REF!+#REF!+#REF!+#REF!+#REF!+#REF!+#REF!+#REF!+#REF!+#REF!+#REF!+#REF!+#REF!+#REF!+#REF!+#REF!+#REF!+#REF!+#REF!+#REF!+#REF!+#REF!+#REF!+#REF!+#REF!+#REF!+#REF!+#REF!","v":{"$error":"#REF!"}},{"$f":"#REF!+#REF!+#REF!+#REF!+#REF!+#REF!+#REF!+#REF!+#REF!+#REF!+#REF!+#REF!+#REF!+#REF!+#REF!+#REF!+#REF!+#REF!+#REF!+#REF!+#REF!+#REF!+#REF!+#REF!+#REF!+#REF!+#REF!+#REF!+#REF!+#REF!+#REF!+#REF!+#REF!","v":{"$error":"#REF!"}},{"$f":"#REF!+#REF!","v":{"$error":"#REF!"}},{"$f":"#REF!+#REF!+#REF!+#REF!+#REF!+#REF!+#REF!+#REF!+#REF!+#REF!+#REF!+#REF!+#REF!+#REF!+#REF!+#REF!+#REF!+#REF!+#REF!+#REF!+#REF!+#REF!+#REF!+#REF!+#REF!+#REF!+#REF!+#REF!+#REF!+#REF!+#REF!+#REF!+#REF!","v":{"$error":"#REF!"}},{"$f":"#REF!+#REF!+#REF!+#REF!+#REF!+#REF!+#REF!+#REF!+#REF!+#REF!+#REF!+#REF!+#REF!+#REF!+#REF!+#REF!+#REF!+#REF!+#REF!+#REF!+#REF!+#REF!+#REF!+#REF!+#REF!+#REF!+#REF!+#REF!+#REF!+#REF!+#REF!+#REF!+#REF!","v":{"$error":"#REF!"}},{"$f":"#REF!+#REF!+#REF!+#REF!+#REF!+#REF!+#REF!+#REF!+#REF!+#REF!+#REF!+#REF!+#REF!+#REF!+#REF!+#REF!+#REF!+#REF!+#REF!+#REF!+#REF!+#REF!+#REF!+#REF!+#REF!+#REF!+#REF!+#REF!+#REF!+#REF!+#REF!+#REF!+#REF!","v":{"$error":"#REF!"}},{"$f":"#REF!+#REF!+#REF!+#REF!+#REF!+#REF!+#REF!+#REF!+#REF!+#REF!+#REF!+#REF!+#REF!+#REF!+#REF!+#REF!+#REF!+#REF!+#REF!+#REF!+#REF!+#REF!+#REF!+#REF!+#REF!+#REF!+#REF!+#REF!+#REF!+#REF!+#REF!+#REF!+#REF!","v":{"$error":"#REF!"}},{"$f":"#REF!+#REF!+#REF!+#REF!+#REF!+#REF!+#REF!+#REF!+#REF!+#REF!+#REF!+#REF!+#REF!+#REF!+#REF!+#REF!+#REF!+#REF!+#REF!+#REF!+#REF!+#REF!+#REF!+#REF!+#REF!+#REF!+#REF!+#REF!+#REF!+#REF!+#REF!+#REF!+#REF!","v":{"$error":"#REF!"}},{"$f":"#REF!+#REF!+#REF!+#REF!+#REF!+#REF!+#REF!+#REF!+#REF!+#REF!+#REF!+#REF!+#REF!+#REF!+#REF!+#REF!+#REF!+#REF!+#REF!+#REF!+#REF!+#REF!+#REF!+#REF!+#REF!+#REF!+#REF!+#REF!+#REF!+#REF!+#REF!+#REF!+#REF!","v":{"$error":"#REF!"}},{"$f":"#REF!+#REF!+#REF!+#REF!+#REF!+#REF!+#REF!+#REF!+#REF!+#REF!+#REF!+#REF!+#REF!+#REF!+#REF!+#REF!+#REF!+#REF!+#REF!+#REF!+#REF!+#REF!+#REF!+#REF!+#REF!+#REF!+#REF!+#REF!+#REF!+#REF!+#REF!+#REF!+#REF!","v":{"$error":"#REF!"}},{"$f":"#REF!+#REF!+#REF!+#REF!+#REF!+#REF!+#REF!+#REF!+#REF!+#REF!+#REF!+#REF!+#REF!+#REF!+#REF!+#REF!+#REF!+#REF!+#REF!+#REF!+#REF!+#REF!+#REF!+#REF!+#REF!+#REF!+#REF!+#REF!+#REF!+#REF!+#REF!+#REF!+#REF!","v":{"$error":"#REF!"}},{"$f":"#REF!+#REF!+#REF!+#REF!+#REF!+#REF!+#REF!+#REF!+#REF!+#REF!+#REF!+#REF!+#REF!+#REF!+#REF!+#REF!+#REF!+#REF!+#REF!+#REF!+#REF!+#REF!+#REF!+#REF!+#REF!+#REF!+#REF!+#REF!+#REF!+#REF!+#REF!+#REF!+#REF!","v":{"$error":"#REF!"}},{"$f":"#REF!+#REF!+#REF!+#REF!+#REF!+#REF!+#REF!+#REF!+#REF!+#REF!+#REF!+#REF!+#REF!+#REF!+#REF!+#REF!+#REF!+#REF!+#REF!+#REF!+#REF!+#REF!+#REF!+#REF!+#REF!+#REF!+#REF!+#REF!+#REF!+#REF!+#REF!+#REF!+#REF!","v":{"$error":"#REF!"}},{"$f":"#REF!+#REF!+#REF!+#REF!+#REF!+#REF!+#REF!+#REF!+#REF!+#REF!+#REF!+#REF!+#REF!+#REF!+#REF!+#REF!+#REF!+#REF!+#REF!+#REF!+#REF!+#REF!+#REF!+#REF!+#REF!+#REF!+#REF!+#REF!+#REF!+#REF!+#REF!+#REF!+#REF!","v":{"$error":"#REF!"}},{"$f":"#REF!+#REF!+#REF!+#REF!+#REF!+#REF!+#REF!+#REF!+#REF!+#REF!+#REF!+#REF!+#REF!+#REF!+#REF!+#REF!+#REF!+#REF!+#REF!+#REF!+#REF!+#REF!+#REF!+#REF!+#REF!+#REF!+#REF!+#REF!+#REF!+#REF!+#REF!+#REF!+#REF!","v":{"$error":"#REF!"}},{"$f":"'9_Per Pupil Summary'!N41","v":8379},{"$f":"#REF!+#REF!+#REF!+#REF!+#REF!+#REF!+#REF!+#REF!+#REF!+#REF!+#REF!+#REF!+#REF!+#REF!+#REF!+#REF!+#REF!+#REF!+#REF!+#REF!+#REF!+#REF!+#REF!+#REF!+#REF!+#REF!+#REF!+#REF!+#REF!+#REF!+#REF!+#REF!+#REF!","v":{"$error":"#REF!"}},{"$f":"#REF!+#REF!+#REF!+#REF!+#REF!+#REF!+#REF!+#REF!+#REF!+#REF!+#REF!+#REF!+#REF!+#REF!+#REF!+#REF!+#REF!+#REF!+#REF!+#REF!+#REF!+#REF!+#REF!+#REF!+#REF!+#REF!+#REF!+#REF!+#REF!+#REF!+#REF!+#REF!+#REF!","v":{"$error":"#REF!"}},{"$f":"#REF!+#REF!+#REF!+#REF!+#REF!+#REF!+#REF!+#REF!+#REF!+#REF!+#REF!+#REF!+#REF!+#REF!+#REF!+#REF!+#REF!+#REF!+#REF!+#REF!+#REF!+#REF!+#REF!+#REF!+#REF!+#REF!+#REF!+#REF!+#REF!+#REF!+#REF!+#REF!+#REF!","v":{"$error":"#REF!"}},{"$f":"#REF!+#REF!+#REF!+#REF!+#REF!+#REF!+#REF!+#REF!+#REF!+#REF!+#REF!+#REF!+#REF!+#REF!+#REF!+#REF!+#REF!+#REF!+#REF!+#REF!+#REF!+#REF!+#REF!+#REF!+#REF!+#REF!+#REF!+#REF!+#REF!+#REF!+#REF!+#REF!+#REF!","v":{"$error":"#REF!"}},{"$f":"#REF!+#REF!+#REF!+#REF!+#REF!+#REF!+#REF!+#REF!+#REF!+#REF!+#REF!+#REF!+#REF!+#REF!+#REF!+#REF!+#REF!+#REF!+#REF!+#REF!+#REF!+#REF!+#REF!+#REF!+#REF!+#REF!+#REF!+#REF!+#REF!+#REF!+#REF!+#REF!+#REF!","v":{"$error":"#REF!"}},{"$f":"#REF!+#REF!+#REF!+#REF!+#REF!+#REF!+#REF!+#REF!+#REF!+#REF!+#REF!+#REF!+#REF!+#REF!+#REF!+#REF!+#REF!+#REF!+#REF!+#REF!+#REF!+#REF!+#REF!+#REF!+#REF!+#REF!+#REF!+#REF!+#REF!+#REF!+#REF!+#REF!+#REF!","v":{"$error":"#REF!"}},{"$f":"#REF!+#REF!+#REF!+#REF!+#REF!+#REF!+#REF!+#REF!+#REF!+#REF!+#REF!+#REF!+#REF!+#REF!+#REF!+#REF!+#REF!+#REF!+#REF!+#REF!+#REF!+#REF!+#REF!+#REF!+#REF!+#REF!+#REF!+#REF!+#REF!+#REF!+#REF!+#REF!+#REF!","v":{"$error":"#REF!"}},{"$f":"#REF!+#REF!+#REF!+#REF!+#REF!+#REF!+#REF!+#REF!+#REF!+#REF!+#REF!+#REF!+#REF!+#REF!+#REF!+#REF!+#REF!+#REF!+#REF!+#REF!+#REF!+#REF!+#REF!+#REF!+#REF!+#REF!+#REF!+#REF!+#REF!+#REF!+#REF!+#REF!+#REF!","v":{"$error":"#REF!"}},{"$f":"#REF!+#REF!+#REF!+#REF!+#REF!+#REF!+#REF!+#REF!+#REF!+#REF!+#REF!+#REF!+#REF!+#REF!+#REF!+#REF!+#REF!+#REF!+#REF!+#REF!+#REF!+#REF!+#REF!+#REF!+#REF!+#REF!+#REF!+#REF!+#REF!+#REF!+#REF!+#REF!+#REF!","v":{"$error":"#REF!"}},{"$f":"#REF!+#REF!+#REF!+#REF!+#REF!+#REF!+#REF!+#REF!+#REF!+#REF!+#REF!+#REF!+#REF!+#REF!+#REF!+#REF!+#REF!+#REF!+#REF!+#REF!+#REF!+#REF!+#REF!+#REF!+#REF!+#REF!+#REF!+#REF!+#REF!+#REF!+#REF!+#REF!+#REF!","v":{"$error":"#REF!"}},{"$f":"#REF!+#REF!+#REF!+#REF!+#REF!+#REF!+#REF!+#REF!+#REF!+#REF!+#REF!+#REF!+#REF!+#REF!+#REF!+#REF!+#REF!+#REF!+#REF!+#REF!+#REF!+#REF!+#REF!+#REF!+#REF!+#REF!+#REF!+#REF!+#REF!+#REF!+#REF!+#REF!+#REF!","v":{"$error":"#REF!"}},{"$f":"#REF!+#REF!+#REF!+#REF!+#REF!+#REF!+#REF!+#REF!+#REF!+#REF!+#REF!+#REF!+#REF!+#REF!+#REF!+#REF!+#REF!+#REF!+#REF!+#REF!+#REF!+#REF!+#REF!+#REF!+#REF!+#REF!+#REF!+#REF!+#REF!+#REF!+#REF!+#REF!+#REF!","v":{"$error":"#REF!"}},{"$f":"#REF!+#REF!+#REF!+#REF!+#REF!+#REF!+#REF!+#REF!+#REF!+#REF!+#REF!+#REF!+#REF!+#REF!+#REF!+#REF!+#REF!+#REF!+#REF!+#REF!+#REF!+#REF!+#REF!+#REF!+#REF!+#REF!+#REF!+#REF!+#REF!+#REF!+#REF!+#REF!+#REF!","v":{"$error":"#REF!"}},{"$f":"#REF!+#REF!+#REF!+#REF!+#REF!+#REF!+#REF!+#REF!+#REF!+#REF!+#REF!+#REF!+#REF!+#REF!+#REF!+#REF!+#REF!+#REF!+#REF!+#REF!+#REF!+#REF!+#REF!+#REF!+#REF!+#REF!+#REF!+#REF!+#REF!+#REF!+#REF!+#REF!+#REF!","v":{"$error":"#REF!"}},{"$error":"#REF!"},{"$error":"#REF!"},{"$f":"#REF!+#REF!+#REF!+#REF!+#REF!+#REF!+#REF!+#REF!+#REF!+#REF!+#REF!+#REF!+#REF!+#REF!+#REF!+#REF!+#REF!+#REF!+#REF!+#REF!+#REF!+#REF!+#REF!+#REF!+#REF!+#REF!+#REF!+#REF!+#REF!+#REF!+#REF!+#REF!+#REF!","v":{"$error":"#REF!"}},null,{"$error":"#REF!"}]
[37,"Ouachita",{"$f":"#REF!+#REF!+#REF!+#REF!+#REF!+#REF!+#REF!+#REF!+#REF!+#REF!+#REF!+#REF!+#REF!+#REF!+#REF!+#REF!+#REF!+#REF!+#REF!+#REF!+#REF!+#REF!+#REF!+#REF!+#REF!+#REF!+#REF!+#REF!+#REF!+#REF!+#REF!+#REF!+#REF!","v":{"$error":"#REF!"}},{"$f":"'9_Per Pupil Summary'!H42","v":5114.0092610581632},{"$f":"#REF!+#REF!+#REF!+#REF!+#REF!+#REF!+#REF!+#REF!+#REF!+#REF!+#REF!+#REF!+#REF!+#REF!+#REF!+#REF!+#REF!+#REF!+#REF!+#REF!+#REF!+#REF!+#REF!+#REF!+#REF!+#REF!+#REF!+#REF!+#REF!+#REF!+#REF!+#REF!+#REF!","v":{"$error":"#REF!"}},{"$f":"#REF!+#REF!+#REF!+#REF!+#REF!+#REF!+#REF!+#REF!+#REF!+#REF!+#REF!+#REF!+#REF!+#REF!+#REF!+#REF!+#REF!+#REF!+#REF!+#REF!+#REF!+#REF!+#REF!+#REF!+#REF!+#REF!+#REF!+#REF!+#REF!+#REF!+#REF!+#REF!+#REF!","v":{"$error":"#REF!"}},{"$f":"'9_Per Pupil Summary'!I42","v":684.19701627120878},{"$f":"#REF!+#REF!+#REF!+#REF!+#REF!+#REF!+#REF!+#REF!+#REF!+#REF!+#REF!+#REF!+#REF!+#REF!+#REF!+#REF!+#REF!+#REF!+#REF!+#REF!+#REF!+#REF!+#REF!+#REF!+#REF!+#REF!+#REF!+#REF!+#REF!+#REF!+#REF!+#REF!+#REF!","v":{"$error":"#REF!"}},{"$f":"#REF!+#REF!+#REF!+#REF!+#REF!+#REF!+#REF!+#REF!+#REF!+#REF!+#REF!+#REF!+#REF!+#REF!+#REF!+#REF!+#REF!+#REF!+#REF!+#REF!+#REF!+#REF!+#REF!+#REF!+#REF!+#REF!+#REF!+#REF!+#REF!+#REF!+#REF!+#REF!+#REF!","v":{"$error":"#REF!"}},{"$f":"'9_Per Pupil Summary'!J42","v":186.59918625578419},{"$f":"#REF!+#REF!+#REF!+#REF!+#REF!+#REF!+#REF!+#REF!+#REF!+#REF!+#REF!+#REF!+#REF!+#REF!+#REF!+#REF!+#REF!+#REF!+#REF!+#REF!+#REF!+#REF!+#REF!+#REF!+#REF!+#REF!+#REF!+#REF!+#REF!+#REF!+#REF!+#REF!+#REF!","v":{"$error":"#REF!"}},{"$f":"#REF!+#REF!+#REF!+#REF!+#REF!+#REF!+#REF!+#REF!+#REF!+#REF!+#REF!+#REF!+#REF!+#REF!+#REF!+#REF!+#REF!+#REF!+#REF!+#REF!+#REF!+#REF!+#REF!+#REF!+#REF!+#REF!+#REF!+#REF!+#REF!+#REF!+#REF!+#REF!+#REF!","v":{"$error":"#REF!"}},{"$f":"'9_Per Pupil Summary'!K42","v":4664.9796563946056},{"$f":"#REF!+#REF!+#REF!+#REF!+#REF!+#REF!+#REF!+#REF!+#REF!+#REF!+#REF!+#REF!+#REF!+#REF!+#REF!+#REF!+#REF!+#REF!+#REF!+#REF!+#REF!+#REF!+#REF!+#REF!+#REF!+#REF!+#REF!+#REF!+#REF!+#REF!+#REF!+#REF!+#REF!","v":{"$error":"#REF!"}},{"$f":"#REF!+#REF!+#REF!+#REF!+#REF!+#REF!+#REF!+#REF!+#REF!+#REF!+#REF!+#REF!+#REF!+#REF!+#REF!+#REF!+#REF!+#REF!+#REF!+#REF!+#REF!+#REF!+#REF!+#REF!+#REF!+#REF!+#REF!+#REF!+#REF!+#REF!+#REF!+#REF!+#REF!","v":{"$error":"#REF!"}},{"$f":"'9_Per Pupil Summary'!L42","v":1865.9918625578425},{"$f":"#REF!+#REF!+#REF!+#REF!+#REF!+#REF!+#REF!+#REF!+#REF!+#REF!+#REF!+#REF!+#REF!+#REF!+#REF!+#REF!+#REF!+#REF!+#REF!+#REF!+#REF!+#REF!+#REF!+#REF!+#REF!+#REF!+#REF!+#REF!+#REF!+#REF!+#REF!+#REF!+#REF!","v":{"$error":"#REF!"}},{"$f":"#REF!+#REF!+#REF!+#REF!+#REF!+#REF!+#REF!+#REF!+#REF!+#REF!+#REF!+#REF!+#REF!+#REF!+#REF!+#REF!+#REF!+#REF!+#REF!+#REF!+#REF!+#REF!+#REF!+#REF!+#REF!+#REF!+#REF!+#REF!+#REF!+#REF!+#REF!+#REF!+#REF!","v":{"$error":"#REF!"}},{"$f":"#REF!+#REF!","v":{"$error":"#REF!"}},{"$f":"#REF!+#REF!+#REF!+#REF!+#REF!+#REF!+#REF!+#REF!+#REF!+#REF!+#REF!+#REF!+#REF!+#REF!+#REF!+#REF!+#REF!+#REF!+#REF!+#REF!+#REF!+#REF!+#REF!+#REF!+#REF!+#REF!+#REF!+#REF!+#REF!+#REF!+#REF!+#REF!+#REF!","v":{"$error":"#REF!"}},{"$f":"#REF!+#REF!+#REF!+#REF!+#REF!+#REF!+#REF!+#REF!+#REF!+#REF!+#REF!+#REF!+#REF!+#REF!+#REF!+#REF!+#REF!+#REF!+#REF!+#REF!+#REF!+#REF!+#REF!+#REF!+#REF!+#REF!+#REF!+#REF!+#REF!+#REF!+#REF!+#REF!+#REF!","v":{"$error":"#REF!"}},{"$f":"#REF!+#REF!+#REF!+#REF!+#REF!+#REF!+#REF!+#REF!+#REF!+#REF!+#REF!+#REF!+#REF!+#REF!+#REF!+#REF!+#REF!+#REF!+#REF!+#REF!+#REF!+#REF!+#REF!+#REF!+#REF!+#REF!+#REF!+#REF!+#REF!+#REF!+#REF!+#REF!+#REF!","v":{"$error":"#REF!"}},{"$f":"#REF!+#REF!+#REF!+#REF!+#REF!+#REF!+#REF!+#REF!+#REF!+#REF!+#REF!+#REF!+#REF!+#REF!+#REF!+#REF!+#REF!+#REF!+#REF!+#REF!+#REF!+#REF!+#REF!+#REF!+#REF!+#REF!+#REF!+#REF!+#REF!+#REF!+#REF!+#REF!+#REF!","v":{"$error":"#REF!"}},{"$f":"#REF!+#REF!+#REF!+#REF!+#REF!+#REF!+#REF!+#REF!+#REF!+#REF!+#REF!+#REF!+#REF!+#REF!+#REF!+#REF!+#REF!+#REF!+#REF!+#REF!+#REF!+#REF!+#REF!+#REF!+#REF!+#REF!+#REF!+#REF!+#REF!+#REF!+#REF!+#REF!+#REF!","v":{"$error":"#REF!"}},{"$f":"#REF!+#REF!+#REF!+#REF!+#REF!+#REF!+#REF!+#REF!+#REF!+#REF!+#REF!+#REF!+#REF!+#REF!+#REF!+#REF!+#REF!+#REF!+#REF!+#REF!+#REF!+#REF!+#REF!+#REF!+#REF!+#REF!+#REF!+#REF!+#REF!+#REF!+#REF!+#REF!+#REF!","v":{"$error":"#REF!"}},{"$f":"#REF!+#REF!+#REF!+#REF!+#REF!+#REF!+#REF!+#REF!+#REF!+#REF!+#REF!+#REF!+#REF!+#REF!+#REF!+#REF!+#REF!+#REF!+#REF!+#REF!+#REF!+#REF!+#REF!+#REF!+#REF!+#REF!+#REF!+#REF!+#REF!+#REF!+#REF!+#REF!+#REF!","v":{"$error":"#REF!"}},{"$f":"#REF!+#REF!+#REF!+#REF!+#REF!+#REF!+#REF!+#REF!+#REF!+#REF!+#REF!+#REF!+#REF!+#REF!+#REF!+#REF!+#REF!+#REF!+#REF!+#REF!+#REF!+#REF!+#REF!+#REF!+#REF!+#REF!+#REF!+#REF!+#REF!+#REF!+#REF!+#REF!+#REF!","v":{"$error":"#REF!"}},{"$f":"#REF!+#REF!+#REF!+#REF!+#REF!+#REF!+#REF!+#REF!+#REF!+#REF!+#REF!+#REF!+#REF!+#REF!+#REF!+#REF!+#REF!+#REF!+#REF!+#REF!+#REF!+#REF!+#REF!+#REF!+#REF!+#REF!+#REF!+#REF!+#REF!+#REF!+#REF!+#REF!+#REF!","v":{"$error":"#REF!"}},{"$f":"#REF!+#REF!+#REF!+#REF!+#REF!+#REF!+#REF!+#REF!+#REF!+#REF!+#REF!+#REF!+#REF!+#REF!+#REF!+#REF!+#REF!+#REF!+#REF!+#REF!+#REF!+#REF!+#REF!+#REF!+#REF!+#REF!+#REF!+#REF!+#REF!+#REF!+#REF!+#REF!+#REF!","v":{"$error":"#REF!"}},{"$f":"#REF!+#REF!+#REF!+#REF!+#REF!+#REF!+#REF!+#REF!+#REF!+#REF!+#REF!+#REF!+#REF!+#REF!+#REF!+#REF!+#REF!+#REF!+#REF!+#REF!+#REF!+#REF!+#REF!+#REF!+#REF!+#REF!+#REF!+#REF!+#REF!+#REF!+#REF!+#REF!+#REF!","v":{"$error":"#REF!"}},{"$f":"#REF!+#REF!+#REF!+#REF!+#REF!+#REF!+#REF!+#REF!+#REF!+#REF!+#REF!+#REF!+#REF!+#REF!+#REF!+#REF!+#REF!+#REF!+#REF!+#REF!+#REF!+#REF!+#REF!+#REF!+#REF!+#REF!+#REF!+#REF!+#REF!+#REF!+#REF!+#REF!+#REF!","v":{"$error":"#REF!"}},{"$f":"'9_Per Pupil Summary'!N42","v":5763},{"$f":"#REF!+#REF!+#REF!+#REF!+#REF!+#REF!+#REF!+#REF!+#REF!+#REF!+#REF!+#REF!+#REF!+#REF!+#REF!+#REF!+#REF!+#REF!+#REF!+#REF!+#REF!+#REF!+#REF!+#REF!+#REF!+#REF!+#REF!+#REF!+#REF!+#REF!+#REF!+#REF!+#REF!","v":{"$error":"#REF!"}},{"$f":"#REF!+#REF!+#REF!+#REF!+#REF!+#REF!+#REF!+#REF!+#REF!+#REF!+#REF!+#REF!+#REF!+#REF!+#REF!+#REF!+#REF!+#REF!+#REF!+#REF!+#REF!+#REF!+#REF!+#REF!+#REF!+#REF!+#REF!+#REF!+#REF!+#REF!+#REF!+#REF!+#REF!","v":{"$error":"#REF!"}},{"$f":"#REF!+#REF!+#REF!+#REF!+#REF!+#REF!+#REF!+#REF!+#REF!+#REF!+#REF!+#REF!+#REF!+#REF!+#REF!+#REF!+#REF!+#REF!+#REF!+#REF!+#REF!+#REF!+#REF!+#REF!+#REF!+#REF!+#REF!+#REF!+#REF!+#REF!+#REF!+#REF!+#REF!","v":{"$error":"#REF!"}},{"$f":"#REF!+#REF!+#REF!+#REF!+#REF!+#REF!+#REF!+#REF!+#REF!+#REF!+#REF!+#REF!+#REF!+#REF!+#REF!+#REF!+#REF!+#REF!+#REF!+#REF!+#REF!+#REF!+#REF!+#REF!+#REF!+#REF!+#REF!+#REF!+#REF!+#REF!+#REF!+#REF!+#REF!","v":{"$error":"#REF!"}},{"$f":"#REF!+#REF!+#REF!+#REF!+#REF!+#REF!+#REF!+#REF!+#REF!+#REF!+#REF!+#REF!+#REF!+#REF!+#REF!+#REF!+#REF!+#REF!+#REF!+#REF!+#REF!+#REF!+#REF!+#REF!+#REF!+#REF!+#REF!+#REF!+#REF!+#REF!+#REF!+#REF!+#REF!","v":{"$error":"#REF!"}},{"$f":"#REF!+#REF!+#REF!+#REF!+#REF!+#REF!+#REF!+#REF!+#REF!+#REF!+#REF!+#REF!+#REF!+#REF!+#REF!+#REF!+#REF!+#REF!+#REF!+#REF!+#REF!+#REF!+#REF!+#REF!+#REF!+#REF!+#REF!+#REF!+#REF!+#REF!+#REF!+#REF!+#REF!","v":{"$error":"#REF!"}},{"$f":"#REF!+#REF!+#REF!+#REF!+#REF!+#REF!+#REF!+#REF!+#REF!+#REF!+#REF!+#REF!+#REF!+#REF!+#REF!+#REF!+#REF!+#REF!+#REF!+#REF!+#REF!+#REF!+#REF!+#REF!+#REF!+#REF!+#REF!+#REF!+#REF!+#REF!+#REF!+#REF!+#REF!","v":{"$error":"#REF!"}},{"$f":"#REF!+#REF!+#REF!+#REF!+#REF!+#REF!+#REF!+#REF!+#REF!+#REF!+#REF!+#REF!+#REF!+#REF!+#REF!+#REF!+#REF!+#REF!+#REF!+#REF!+#REF!+#REF!+#REF!+#REF!+#REF!+#REF!+#REF!+#REF!+#REF!+#REF!+#REF!+#REF!+#REF!","v":{"$error":"#REF!"}},{"$f":"#REF!+#REF!+#REF!+#REF!+#REF!+#REF!+#REF!+#REF!+#REF!+#REF!+#REF!+#REF!+#REF!+#REF!+#REF!+#REF!+#REF!+#REF!+#REF!+#REF!+#REF!+#REF!+#REF!+#REF!+#REF!+#REF!+#REF!+#REF!+#REF!+#REF!+#REF!+#REF!+#REF!","v":{"$error":"#REF!"}},{"$f":"#REF!+#REF!+#REF!+#REF!+#REF!+#REF!+#REF!+#REF!+#REF!+#REF!+#REF!+#REF!+#REF!+#REF!+#REF!+#REF!+#REF!+#REF!+#REF!+#REF!+#REF!+#REF!+#REF!+#REF!+#REF!+#REF!+#REF!+#REF!+#REF!+#REF!+#REF!+#REF!+#REF!","v":{"$error":"#REF!"}},{"$f":"#REF!+#REF!+#REF!+#REF!+#REF!+#REF!+#REF!+#REF!+#REF!+#REF!+#REF!+#REF!+#REF!+#REF!+#REF!+#REF!+#REF!+#REF!+#REF!+#REF!+#REF!+#REF!+#REF!+#REF!+#REF!+#REF!+#REF!+#REF!+#REF!+#REF!+#REF!+#REF!+#REF!","v":{"$error":"#REF!"}},{"$f":"#REF!+#REF!+#REF!+#REF!+#REF!+#REF!+#REF!+#REF!+#REF!+#REF!+#REF!+#REF!+#REF!+#REF!+#REF!+#REF!+#REF!+#REF!+#REF!+#REF!+#REF!+#REF!+#REF!+#REF!+#REF!+#REF!+#REF!+#REF!+#REF!+#REF!+#REF!+#REF!+#REF!","v":{"$error":"#REF!"}},{"$f":"#REF!+#REF!+#REF!+#REF!+#REF!+#REF!+#REF!+#REF!+#REF!+#REF!+#REF!+#REF!+#REF!+#REF!+#REF!+#REF!+#REF!+#REF!+#REF!+#REF!+#REF!+#REF!+#REF!+#REF!+#REF!+#REF!+#REF!+#REF!+#REF!+#REF!+#REF!+#REF!+#REF!","v":{"$error":"#REF!"}},{"$f":"#REF!+#REF!+#REF!+#REF!+#REF!+#REF!+#REF!+#REF!+#REF!+#REF!+#REF!+#REF!+#REF!+#REF!+#REF!+#REF!+#REF!+#REF!+#REF!+#REF!+#REF!+#REF!+#REF!+#REF!+#REF!+#REF!+#REF!+#REF!+#REF!+#REF!+#REF!+#REF!+#REF!","v":{"$error":"#REF!"}},{"$error":"#REF!"},{"$error":"#REF!"},{"$f":"#REF!+#REF!+#REF!+#REF!+#REF!+#REF!+#REF!+#REF!+#REF!+#REF!+#REF!+#REF!+#REF!+#REF!+#REF!+#REF!+#REF!+#REF!+#REF!+#REF!+#REF!+#REF!+#REF!+#REF!+#REF!+#REF!+#REF!+#REF!+#REF!+#REF!+#REF!+#REF!+#REF!","v":{"$error":"#REF!"}},null,{"$error":"#REF!"}]
[38,"Plaquemines",{"$f":"#REF!+#REF!+#REF!+#REF!+#REF!+#REF!+#REF!+#REF!+#REF!+#REF!+#REF!+#REF!+#REF!+#REF!+#REF!+#REF!+#REF!+#REF!+#REF!+#REF!+#REF!+#REF!+#REF!+#REF!+#REF!+#REF!+#REF!+#REF!+#REF!+#REF!+#REF!+#REF!+#REF!","v":{"$error":"#REF!"}},{"$f":"'9_Per Pupil Summary'!H43","v":2297.2239588195253},{"$f":"#REF!+#REF!+#REF!+#REF!+#REF!+#REF!+#REF!+#REF!+#REF!+#REF!+#REF!+#REF!+#REF!+#REF!+#REF!+#REF!+#REF!+#REF!+#REF!+#REF!+#REF!+#REF!+#REF!+#REF!+#REF!+#REF!+#REF!+#REF!+#REF!+#REF!+#REF!+#REF!+#REF!","v":{"$error":"#REF!"}},{"$f":"#REF!+#REF!+#REF!+#REF!+#REF!+#REF!+#REF!+#REF!+#REF!+#REF!+#REF!+#REF!+#REF!+#REF!+#REF!+#REF!+#REF!+#REF!+#REF!+#REF!+#REF!+#REF!+#REF!+#REF!+#REF!+#REF!+#REF!+#REF!+#REF!+#REF!+#REF!+#REF!+#REF!","v":{"$error":"#REF!"}},{"$f":"'9_Per Pupil Summary'!I43","v":223.39000940183402},{"$f":"#REF!+#REF!+#REF!+#REF!+#REF!+#REF!+#REF!+#REF!+#REF!+#REF!+#REF!+#REF!+#REF!+#REF!+#REF!+#REF!+#REF!+#REF!+#REF!+#REF!+#REF!+#REF!+#REF!+#REF!+#REF!+#REF!+#REF!+#REF!+#REF!+#REF!+#REF!+#REF!+#REF!","v":{"$error":"#REF!"}},{"$f":"#REF!+#REF!+#REF!+#REF!+#REF!+#REF!+#REF!+#REF!+#REF!+#REF!+#REF!+#REF!+#REF!+#REF!+#REF!+#REF!+#REF!+#REF!+#REF!+#REF!+#REF!+#REF!+#REF!+#REF!+#REF!+#REF!+#REF!+#REF!+#REF!+#REF!+#REF!+#REF!+#REF!","v":{"$error":"#REF!"}},{"$f":"'9_Per Pupil Summary'!J43","v":60.924548018682003},{"$f":"#REF!+#REF!+#REF!+#REF!+#REF!+#REF!+#REF!+#REF!+#REF!+#REF!+#REF!+#REF!+#REF!+#REF!+#REF!+#REF!+#REF!+#REF!+#REF!+#REF!+#REF!+#REF!+#REF!+#REF!+#REF!+#REF!+#REF!+#REF!+#REF!+#REF!+#REF!+#REF!+#REF!","v":{"$error":"#REF!"}},{"$f":"#REF!+#REF!+#REF!+#REF!+#REF!+#REF!+#REF!+#REF!+#REF!+#REF!+#REF!+#REF!+#REF!+#REF!+#REF!+#REF!+#REF!+#REF!+#REF!+#REF!+#REF!+#REF!+#REF!+#REF!+#REF!+#REF!+#REF!+#REF!+#REF!+#REF!+#REF!+#REF!+#REF!","v":{"$error":"#REF!"}},{"$f":"'9_Per Pupil Summary'!K43","v":1523.1137004670502},{"$f":"#REF!+#REF!+#REF!+#REF!+#REF!+#REF!+#REF!+#REF!+#REF!+#REF!+#REF!+#REF!+#REF!+#REF!+#REF!+#REF!+#REF!+#REF!+#REF!+#REF!+#REF!+#REF!+#REF!+#REF!+#REF!+#REF!+#REF!+#REF!+#REF!+#REF!+#REF!+#REF!+#REF!","v":{"$error":"#REF!"}},{"$f":"#REF!+#REF!+#REF!+#REF!+#REF!+#REF!+#REF!+#REF!+#REF!+#REF!+#REF!+#REF!+#REF!+#REF!+#REF!+#REF!+#REF!+#REF!+#REF!+#REF!+#REF!+#REF!+#REF!+#REF!+#REF!+#REF!+#REF!+#REF!+#REF!+#REF!+#REF!+#REF!+#REF!","v":{"$error":"#REF!"}},{"$f":"'9_Per Pupil Summary'!L43","v":609.24548018682003},{"$f":"#REF!+#REF!+#REF!+#REF!+#REF!+#REF!+#REF!+#REF!+#REF!+#REF!+#REF!+#REF!+#REF!+#REF!+#REF!+#REF!+#REF!+#REF!+#REF!+#REF!+#REF!+#REF!+#REF!+#REF!+#REF!+#REF!+#REF!+#REF!+#REF!+#REF!+#REF!+#REF!+#REF!","v":{"$error":"#REF!"}},{"$f":"#REF!+#REF!+#REF!+#REF!+#REF!+#REF!+#REF!+#REF!+#REF!+#REF!+#REF!+#REF!+#REF!+#REF!+#REF!+#REF!+#REF!+#REF!+#REF!+#REF!+#REF!+#REF!+#REF!+#REF!+#REF!+#REF!+#REF!+#REF!+#REF!+#REF!+#REF!+#REF!+#REF!","v":{"$error":"#REF!"}},{"$f":"#REF!+#REF!","v":{"$error":"#REF!"}},{"$f":"#REF!+#REF!+#REF!+#REF!+#REF!+#REF!+#REF!+#REF!+#REF!+#REF!+#REF!+#REF!+#REF!+#REF!+#REF!+#REF!+#REF!+#REF!+#REF!+#REF!+#REF!+#REF!+#REF!+#REF!+#REF!+#REF!+#REF!+#REF!+#REF!+#REF!+#REF!+#REF!+#REF!","v":{"$error":"#REF!"}},{"$f":"#REF!+#REF!+#REF!+#REF!+#REF!+#REF!+#REF!+#REF!+#REF!+#REF!+#REF!+#REF!+#REF!+#REF!+#REF!+#REF!+#REF!+#REF!+#REF!+#REF!+#REF!+#REF!+#REF!+#REF!+#REF!+#REF!+#REF!+#REF!+#REF!+#REF!+#REF!+#REF!+#REF!","v":{"$error":"#REF!"}},{"$f":"#REF!+#REF!+#REF!+#REF!+#REF!+#REF!+#REF!+#REF!+#REF!+#REF!+#REF!+#REF!+#REF!+#REF!+#REF!+#REF!+#REF!+#REF!+#REF!+#REF!+#REF!+#REF!+#REF!+#REF!+#REF!+#REF!+#REF!+#REF!+#REF!+#REF!+#REF!+#REF!+#REF!","v":{"$error":"#REF!"}},{"$f":"#REF!+#REF!+#REF!+#REF!+#REF!+#REF!+#REF!+#REF!+#REF!+#REF!+#REF!+#REF!+#REF!+#REF!+#REF!+#REF!+#REF!+#REF!+#REF!+#REF!+#REF!+#REF!+#REF!+#REF!+#REF!+#REF!+#REF!+#REF!+#REF!+#REF!+#REF!+#REF!+#REF!","v":{"$error":"#REF!"}},{"$f":"#REF!+#REF!+#REF!+#REF!+#REF!+#REF!+#REF!+#REF!+#REF!+#REF!+#REF!+#REF!+#REF!+#REF!+#REF!+#REF!+#REF!+#REF!+#REF!+#REF!+#REF!+#REF!+#REF!+#REF!+#REF!+#REF!+#REF!+#REF!+#REF!+#REF!+#REF!+#REF!+#REF!","v":{"$error":"#REF!"}},{"$f":"#REF!+#REF!+#REF!+#REF!+#REF!+#REF!+#REF!+#REF!+#REF!+#REF!+#REF!+#REF!+#REF!+#REF!+#REF!+#REF!+#REF!+#REF!+#REF!+#REF!+#REF!+#REF!+#REF!+#REF!+#REF!+#REF!+#REF!+#REF!+#REF!+#REF!+#REF!+#REF!+#REF!","v":{"$error":"#REF!"}},{"$f":"#REF!+#REF!+#REF!+#REF!+#REF!+#REF!+#REF!+#REF!+#REF!+#REF!+#REF!+#REF!+#REF!+#REF!+#REF!+#REF!+#REF!+#REF!+#REF!+#REF!+#REF!+#REF!+#REF!+#REF!+#REF!+#REF!+#REF!+#REF!+#REF!+#REF!+#REF!+#REF!+#REF!","v":{"$error":"#REF!"}},{"$f":"#REF!+#REF!+#REF!+#REF!+#REF!+#REF!+#REF!+#REF!+#REF!+#REF!+#REF!+#REF!+#REF!+#REF!+#REF!+#REF!+#REF!+#REF!+#REF!+#REF!+#REF!+#REF!+#REF!+#REF!+#REF!+#REF!+#REF!+#REF!+#REF!+#REF!+#REF!+#REF!+#REF!","v":{"$error":"#REF!"}},{"$f":"#REF!+#REF!+#REF!+#REF!+#REF!+#REF!+#REF!+#REF!+#REF!+#REF!+#REF!+#REF!+#REF!+#REF!+#REF!+#REF!+#REF!+#REF!+#REF!+#REF!+#REF!+#REF!+#REF!+#REF!+#REF!+#REF!+#REF!+#REF!+#REF!+#REF!+#REF!+#REF!+#REF!","v":{"$error":"#REF!"}},{"$f":"#REF!+#REF!+#REF!+#REF!+#REF!+#REF!+#REF!+#REF!+#REF!+#REF!+#REF!+#REF!+#REF!+#REF!+#REF!+#REF!+#REF!+#REF!+#REF!+#REF!+#REF!+#REF!+#REF!+#REF!+#REF!+#REF!+#REF!+#REF!+#REF!+#REF!+#REF!+#REF!+#REF!","v":{"$error":"#REF!"}},{"$f":"#REF!+#REF!+#REF!+#REF!+#REF!+#REF!+#REF!+#REF!+#REF!+#REF!+#REF!+#REF!+#REF!+#REF!+#REF!+#REF!+#REF!+#REF!+#REF!+#REF!+#REF!+#REF!+#REF!+#REF!+#REF!+#REF!+#REF!+#REF!+#REF!+#REF!+#REF!+#REF!+#REF!","v":{"$error":"#REF!"}},{"$f":"#REF!+#REF!+#REF!+#REF!+#REF!+#REF!+#REF!+#REF!+#REF!+#REF!+#REF!+#REF!+#REF!+#REF!+#REF!+#REF!+#REF!+#REF!+#REF!+#REF!+#REF!+#REF!+#REF!+#REF!+#REF!+#REF!+#REF!+#REF!+#REF!+#REF!+#REF!+#REF!+#REF!","v":{"$error":"#REF!"}},{"$f":"'9_Per Pupil Summary'!N43","v":28450},{"$f":"#REF!+#REF!+#REF!+#REF!+#REF!+#REF!+#REF!+#REF!+#REF!+#REF!+#REF!+#REF!+#REF!+#REF!+#REF!+#REF!+#REF!+#REF!+#REF!+#REF!+#REF!+#REF!+#REF!+#REF!+#REF!+#REF!+#REF!+#REF!+#REF!+#REF!+#REF!+#REF!+#REF!","v":{"$error":"#REF!"}},{"$f":"#REF!+#REF!+#REF!+#REF!+#REF!+#REF!+#REF!+#REF!+#REF!+#REF!+#REF!+#REF!+#REF!+#REF!+#REF!+#REF!+#REF!+#REF!+#REF!+#REF!+#REF!+#REF!+#REF!+#REF!+#REF!+#REF!+#REF!+#REF!+#REF!+#REF!+#REF!+#REF!+#REF!","v":{"$error":"#REF!"}},{"$f":"#REF!+#REF!+#REF!+#REF!+#REF!+#REF!+#REF!+#REF!+#REF!+#REF!+#REF!+#REF!+#REF!+#REF!+#REF!+#REF!+#REF!+#REF!+#REF!+#REF!+#REF!+#REF!+#REF!+#REF!+#REF!+#REF!+#REF!+#REF!+#REF!+#REF!+#REF!+#REF!+#REF!","v":{"$error":"#REF!"}},{"$f":"#REF!+#REF!+#REF!+#REF!+#REF!+#REF!+#REF!+#REF!+#REF!+#REF!+#REF!+#REF!+#REF!+#REF!+#REF!+#REF!+#REF!+#REF!+#REF!+#REF!+#REF!+#REF!+#REF!+#REF!+#REF!+#REF!+#REF!+#REF!+#REF!+#REF!+#REF!+#REF!+#REF!","v":{"$error":"#REF!"}},{"$f":"#REF!+#REF!+#REF!+#REF!+#REF!+#REF!+#REF!+#REF!+#REF!+#REF!+#REF!+#REF!+#REF!+#REF!+#REF!+#REF!+#REF!+#REF!+#REF!+#REF!+#REF!+#REF!+#REF!+#REF!+#REF!+#REF!+#REF!+#REF!+#REF!+#REF!+#REF!+#REF!+#REF!","v":{"$error":"#REF!"}},{"$f":"#REF!+#REF!+#REF!+#REF!+#REF!+#REF!+#REF!+#REF!+#REF!+#REF!+#REF!+#REF!+#REF!+#REF!+#REF!+#REF!+#REF!+#REF!+#REF!+#REF!+#REF!+#REF!+#REF!+#REF!+#REF!+#REF!+#REF!+#REF!+#REF!+#REF!+#REF!+#REF!+#REF!","v":{"$error":"#REF!"}},{"$f":"#REF!+#REF!+#REF!+#REF!+#REF!+#REF!+#REF!+#REF!+#REF!+#REF!+#REF!+#REF!+#REF!+#REF!+#REF!+#REF!+#REF!+#REF!+#REF!+#REF!+#REF!+#REF!+#REF!+#REF!+#REF!+#REF!+#REF!+#REF!+#REF!+#REF!+#REF!+#REF!+#REF!","v":{"$error":"#REF!"}},{"$f":"#REF!+#REF!+#REF!+#REF!+#REF!+#REF!+#REF!+#REF!+#REF!+#REF!+#REF!+#REF!+#REF!+#REF!+#REF!+#REF!+#REF!+#REF!+#REF!+#REF!+#REF!+#REF!+#REF!+#REF!+#REF!+#REF!+#REF!+#REF!+#REF!+#REF!+#REF!+#REF!+#REF!","v":{"$error":"#REF!"}},{"$f":"#REF!+#REF!+#REF!+#REF!+#REF!+#REF!+#REF!+#REF!+#REF!+#REF!+#REF!+#REF!+#REF!+#REF!+#REF!+#REF!+#REF!+#REF!+#REF!+#REF!+#REF!+#REF!+#REF!+#REF!+#REF!+#REF!+#REF!+#REF!+#REF!+#REF!+#REF!+#REF!+#REF!","v":{"$error":"#REF!"}},{"$f":"#REF!+#REF!+#REF!+#REF!+#REF!+#REF!+#REF!+#REF!+#REF!+#REF!+#REF!+#REF!+#REF!+#REF!+#REF!+#REF!+#REF!+#REF!+#REF!+#REF!+#REF!+#REF!+#REF!+#REF!+#REF!+#REF!+#REF!+#REF!+#REF!+#REF!+#REF!+#REF!+#REF!","v":{"$error":"#REF!"}},{"$f":"#REF!+#REF!+#REF!+#REF!+#REF!+#REF!+#REF!+#REF!+#REF!+#REF!+#REF!+#REF!+#REF!+#REF!+#REF!+#REF!+#REF!+#REF!+#REF!+#REF!+#REF!+#REF!+#REF!+#REF!+#REF!+#REF!+#REF!+#REF!+#REF!+#REF!+#REF!+#REF!+#REF!","v":{"$error":"#REF!"}},{"$f":"#REF!+#REF!+#REF!+#REF!+#REF!+#REF!+#REF!+#REF!+#REF!+#REF!+#REF!+#REF!+#REF!+#REF!+#REF!+#REF!+#REF!+#REF!+#REF!+#REF!+#REF!+#REF!+#REF!+#REF!+#REF!+#REF!+#REF!+#REF!+#REF!+#REF!+#REF!+#REF!+#REF!","v":{"$error":"#REF!"}},{"$f":"#REF!+#REF!+#REF!+#REF!+#REF!+#REF!+#REF!+#REF!+#REF!+#REF!+#REF!+#REF!+#REF!+#REF!+#REF!+#REF!+#REF!+#REF!+#REF!+#REF!+#REF!+#REF!+#REF!+#REF!+#REF!+#REF!+#REF!+#REF!+#REF!+#REF!+#REF!+#REF!+#REF!","v":{"$error":"#REF!"}},{"$f":"#REF!+#REF!+#REF!+#REF!+#REF!+#REF!+#REF!+#REF!+#REF!+#REF!+#REF!+#REF!+#REF!+#REF!+#REF!+#REF!+#REF!+#REF!+#REF!+#REF!+#REF!+#REF!+#REF!+#REF!+#REF!+#REF!+#REF!+#REF!+#REF!+#REF!+#REF!+#REF!+#REF!","v":{"$error":"#REF!"}},{"$error":"#REF!"},{"$error":"#REF!"},{"$f":"#REF!+#REF!+#REF!+#REF!+#REF!+#REF!+#REF!+#REF!+#REF!+#REF!+#REF!+#REF!+#REF!+#REF!+#REF!+#REF!+#REF!+#REF!+#REF!+#REF!+#REF!+#REF!+#REF!+#REF!+#REF!+#REF!+#REF!+#REF!+#REF!+#REF!+#REF!+#REF!+#REF!","v":{"$error":"#REF!"}},null,{"$error":"#REF!"}]
[39,"Pointe Coupee",{"$f":"#REF!+#REF!+#REF!+#REF!+#REF!+#REF!+#REF!+#REF!+#REF!+#REF!+#REF!+#REF!+#REF!+#REF!+#REF!+#REF!+#REF!+#REF!+#REF!+#REF!+#REF!+#REF!+#REF!+#REF!+#REF!+#REF!+#REF!+#REF!+#REF!+#REF!+#REF!+#REF!+#REF!","v":{"$error":"#REF!"}},{"$f":"'9_Per Pupil Summary'!H44","v":3058.8978199518233},{"$f":"#REF!+#REF!+#REF!+#REF!+#REF!+#REF!+#REF!+#REF!+#REF!+#REF!+#REF!+#REF!+#REF!+#REF!+#REF!+#REF!+#REF!+#REF!+#REF!+#REF!+#REF!+#REF!+#REF!+#REF!+#REF!+#REF!+#REF!+#REF!+#REF!+#REF!+#REF!+#REF!+#REF!","v":{"$error":"#REF!"}},{"$f":"#REF!+#REF!+#REF!+#REF!+#REF!+#REF!+#REF!+#REF!+#REF!+#REF!+#REF!+#REF!+#REF!+#REF!+#REF!+#REF!+#REF!+#REF!+#REF!+#REF!+#REF!+#REF!+#REF!+#REF!+#REF!+#REF!+#REF!+#REF!+#REF!+#REF!+#REF!+#REF!+#REF!","v":{"$error":"#REF!"}},{"$f":"'9_Per Pupil Summary'!I44","v":401.17941942533452},{"$f":"#REF!+#REF!+#REF!+#REF!+#REF!+#REF!+#REF!+#REF!+#REF!+#REF!+#REF!+#REF!+#REF!+#REF!+#REF!+#REF!+#REF!+#REF!+#REF!+#REF!+#REF!+#REF!+#REF!+#REF!+#REF!+#REF!+#REF!+#REF!+#REF!+#REF!+#REF!+#REF!+#REF!","v":{"$error":"#REF!"}},{"$f":"#REF!+#REF!+#REF!+#REF!+#REF!+#REF!+#REF!+#REF!+#REF!+#REF!+#REF!+#REF!+#REF!+#REF!+#REF!+#REF!+#REF!+#REF!+#REF!+#REF!+#REF!+#REF!+#REF!+#REF!+#REF!+#REF!+#REF!+#REF!+#REF!+#REF!+#REF!+#REF!+#REF!","v":{"$error":"#REF!"}},{"$f":"'9_Per Pupil Summary'!J44","v":109.41256893418216},{"$f":"#REF!+#REF!+#REF!+#REF!+#REF!+#REF!+#REF!+#REF!+#REF!+#REF!+#REF!+#REF!+#REF!+#REF!+#REF!+#REF!+#REF!+#REF!+#REF!+#REF!+#REF!+#REF!+#REF!+#REF!+#REF!+#REF!+#REF!+#REF!+#REF!+#REF!+#REF!+#REF!+#REF!","v":{"$error":"#REF!"}},{"$f":"#REF!+#REF!+#REF!+#REF!+#REF!+#REF!+#REF!+#REF!+#REF!+#REF!+#REF!+#REF!+#REF!+#REF!+#REF!+#REF!+#REF!+#REF!+#REF!+#REF!+#REF!+#REF!+#REF!+#REF!+#REF!+#REF!+#REF!+#REF!+#REF!+#REF!+#REF!+#REF!+#REF!","v":{"$error":"#REF!"}},{"$f":"'9_Per Pupil Summary'!K44","v":2735.3142233545541},{"$f":"#REF!+#REF!+#REF!+#REF!+#REF!+#REF!+#REF!+#REF!+#REF!+#REF!+#REF!+#REF!+#REF!+#REF!+#REF!+#REF!+#REF!+#REF!+#REF!+#REF!+#REF!+#REF!+#REF!+#REF!+#REF!+#REF!+#REF!+#REF!+#REF!+#REF!+#REF!+#REF!+#REF!","v":{"$error":"#REF!"}},{"$f":"#REF!+#REF!+#REF!+#REF!+#REF!+#REF!+#REF!+#REF!+#REF!+#REF!+#REF!+#REF!+#REF!+#REF!+#REF!+#REF!+#REF!+#REF!+#REF!+#REF!+#REF!+#REF!+#REF!+#REF!+#REF!+#REF!+#REF!+#REF!+#REF!+#REF!+#REF!+#REF!+#REF!","v":{"$error":"#REF!"}},{"$f":"'9_Per Pupil Summary'!L44","v":1094.1256893418215},{"$f":"#REF!+#REF!+#REF!+#REF!+#REF!+#REF!+#REF!+#REF!+#REF!+#REF!+#REF!+#REF!+#REF!+#REF!+#REF!+#REF!+#REF!+#REF!+#REF!+#REF!+#REF!+#REF!+#REF!+#REF!+#REF!+#REF!+#REF!+#REF!+#REF!+#REF!+#REF!+#REF!+#REF!","v":{"$error":"#REF!"}},{"$f":"#REF!+#REF!+#REF!+#REF!+#REF!+#REF!+#REF!+#REF!+#REF!+#REF!+#REF!+#REF!+#REF!+#REF!+#REF!+#REF!+#REF!+#REF!+#REF!+#REF!+#REF!+#REF!+#REF!+#REF!+#REF!+#REF!+#REF!+#REF!+#REF!+#REF!+#REF!+#REF!+#REF!","v":{"$error":"#REF!"}},{"$f":"#REF!+#REF!","v":{"$error":"#REF!"}},{"$f":"#REF!+#REF!+#REF!+#REF!+#REF!+#REF!+#REF!+#REF!+#REF!+#REF!+#REF!+#REF!+#REF!+#REF!+#REF!+#REF!+#REF!+#REF!+#REF!+#REF!+#REF!+#REF!+#REF!+#REF!+#REF!+#REF!+#REF!+#REF!+#REF!+#REF!+#REF!+#REF!+#REF!","v":{"$error":"#REF!"}},{"$f":"#REF!+#REF!+#REF!+#REF!+#REF!+#REF!+#REF!+#REF!+#REF!+#REF!+#REF!+#REF!+#REF!+#REF!+#REF!+#REF!+#REF!+#REF!+#REF!+#REF!+#REF!+#REF!+#REF!+#REF!+#REF!+#REF!+#REF!+#REF!+#REF!+#REF!+#REF!+#REF!+#REF!","v":{"$error":"#REF!"}},{"$f":"#REF!+#REF!+#REF!+#REF!+#REF!+#REF!+#REF!+#REF!+#REF!+#REF!+#REF!+#REF!+#REF!+#REF!+#REF!+#REF!+#REF!+#REF!+#REF!+#REF!+#REF!+#REF!+#REF!+#REF!+#REF!+#REF!+#REF!+#REF!+#REF!+#REF!+#REF!+#REF!+#REF!","v":{"$error":"#REF!"}},{"$f":"#REF!+#REF!+#REF!+#REF!+#REF!+#REF!+#REF!+#REF!+#REF!+#REF!+#REF!+#REF!+#REF!+#REF!+#REF!+#REF!+#REF!+#REF!+#REF!+#REF!+#REF!+#REF!+#REF!+#REF!+#REF!+#REF!+#REF!+#REF!+#REF!+#REF!+#REF!+#REF!+#REF!","v":{"$error":"#REF!"}},{"$f":"#REF!+#REF!+#REF!+#REF!+#REF!+#REF!+#REF!+#REF!+#REF!+#REF!+#REF!+#REF!+#REF!+#REF!+#REF!+#REF!+#REF!+#REF!+#REF!+#REF!+#REF!+#REF!+#REF!+#REF!+#REF!+#REF!+#REF!+#REF!+#REF!+#REF!+#REF!+#REF!+#REF!","v":{"$error":"#REF!"}},{"$f":"#REF!+#REF!+#REF!+#REF!+#REF!+#REF!+#REF!+#REF!+#REF!+#REF!+#REF!+#REF!+#REF!+#REF!+#REF!+#REF!+#REF!+#REF!+#REF!+#REF!+#REF!+#REF!+#REF!+#REF!+#REF!+#REF!+#REF!+#REF!+#REF!+#REF!+#REF!+#REF!+#REF!","v":{"$error":"#REF!"}},{"$f":"#REF!+#REF!+#REF!+#REF!+#REF!+#REF!+#REF!+#REF!+#REF!+#REF!+#REF!+#REF!+#REF!+#REF!+#REF!+#REF!+#REF!+#REF!+#REF!+#REF!+#REF!+#REF!+#REF!+#REF!+#REF!+#REF!+#REF!+#REF!+#REF!+#REF!+#REF!+#REF!+#REF!","v":{"$error":"#REF!"}},{"$f":"#REF!+#REF!+#REF!+#REF!+#REF!+#REF!+#REF!+#REF!+#REF!+#REF!+#REF!+#REF!+#REF!+#REF!+#REF!+#REF!+#REF!+#REF!+#REF!+#REF!+#REF!+#REF!+#REF!+#REF!+#REF!+#REF!+#REF!+#REF!+#REF!+#REF!+#REF!+#REF!+#REF!","v":{"$error":"#REF!"}},{"$f":"#REF!+#REF!+#REF!+#REF!+#REF!+#REF!+#REF!+#REF!+#REF!+#REF!+#REF!+#REF!+#REF!+#REF!+#REF!+#REF!+#REF!+#REF!+#REF!+#REF!+#REF!+#REF!+#REF!+#REF!+#REF!+#REF!+#REF!+#REF!+#REF!+#REF!+#REF!+#REF!+#REF!","v":{"$error":"#REF!"}},{"$f":"#REF!+#REF!+#REF!+#REF!+#REF!+#REF!+#REF!+#REF!+#REF!+#REF!+#REF!+#REF!+#REF!+#REF!+#REF!+#REF!+#REF!+#REF!+#REF!+#REF!+#REF!+#REF!+#REF!+#REF!+#REF!+#REF!+#REF!+#REF!+#REF!+#REF!+#REF!+#REF!+#REF!","v":{"$error":"#REF!"}},{"$f":"#REF!+#REF!+#REF!+#REF!+#REF!+#REF!+#REF!+#REF!+#REF!+#REF!+#REF!+#REF!+#REF!+#REF!+#REF!+#REF!+#REF!+#REF!+#REF!+#REF!+#REF!+#REF!+#REF!+#REF!+#REF!+#REF!+#REF!+#REF!+#REF!+#REF!+#REF!+#REF!+#REF!","v":{"$error":"#REF!"}},{"$f":"#REF!+#REF!+#REF!+#REF!+#REF!+#REF!+#REF!+#REF!+#REF!+#REF!+#REF!+#REF!+#REF!+#REF!+#REF!+#REF!+#REF!+#REF!+#REF!+#REF!+#REF!+#REF!+#REF!+#REF!+#REF!+#REF!+#REF!+#REF!+#REF!+#REF!+#REF!+#REF!+#REF!","v":{"$error":"#REF!"}},{"$f":"'9_Per Pupil Summary'!N44","v":8099},{"$f":"#REF!+#REF!+#REF!+#REF!+#REF!+#REF!+#REF!+#REF!+#REF!+#REF!+#REF!+#REF!+#REF!+#REF!+#REF!+#REF!+#REF!+#REF!+#REF!+#REF!+#REF!+#REF!+#REF!+#REF!+#REF!+#REF!+#REF!+#REF!+#REF!+#REF!+#REF!+#REF!+#REF!","v":{"$error":"#REF!"}},{"$f":"#REF!+#REF!+#REF!+#REF!+#REF!+#REF!+#REF!+#REF!+#REF!+#REF!+#REF!+#REF!+#REF!+#REF!+#REF!+#REF!+#REF!+#REF!+#REF!+#REF!+#REF!+#REF!+#REF!+#REF!+#REF!+#REF!+#REF!+#REF!+#REF!+#REF!+#REF!+#REF!+#REF!","v":{"$error":"#REF!"}},{"$f":"#REF!+#REF!+#REF!+#REF!+#REF!+#REF!+#REF!+#REF!+#REF!+#REF!+#REF!+#REF!+#REF!+#REF!+#REF!+#REF!+#REF!+#REF!+#REF!+#REF!+#REF!+#REF!+#REF!+#REF!+#REF!+#REF!+#REF!+#REF!+#REF!+#REF!+#REF!+#REF!+#REF!","v":{"$error":"#REF!"}},{"$f":"#REF!+#REF!+#REF!+#REF!+#REF!+#REF!+#REF!+#REF!+#REF!+#REF!+#REF!+#REF!+#REF!+#REF!+#REF!+#REF!+#REF!+#REF!+#REF!+#REF!+#REF!+#REF!+#REF!+#REF!+#REF!+#REF!+#REF!+#REF!+#REF!+#REF!+#REF!+#REF!+#REF!","v":{"$error":"#REF!"}},{"$f":"#REF!+#REF!+#REF!+#REF!+#REF!+#REF!+#REF!+#REF!+#REF!+#REF!+#REF!+#REF!+#REF!+#REF!+#REF!+#REF!+#REF!+#REF!+#REF!+#REF!+#REF!+#REF!+#REF!+#REF!+#REF!+#REF!+#REF!+#REF!+#REF!+#REF!+#REF!+#REF!+#REF!","v":{"$error":"#REF!"}},{"$f":"#REF!+#REF!+#REF!+#REF!+#REF!+#REF!+#REF!+#REF!+#REF!+#REF!+#REF!+#REF!+#REF!+#REF!+#REF!+#REF!+#REF!+#REF!+#REF!+#REF!+#REF!+#REF!+#REF!+#REF!+#REF!+#REF!+#REF!+#REF!+#REF!+#REF!+#REF!+#REF!+#REF!","v":{"$error":"#REF!"}},{"$f":"#REF!+#REF!+#REF!+#REF!+#REF!+#REF!+#REF!+#REF!+#REF!+#REF!+#REF!+#REF!+#REF!+#REF!+#REF!+#REF!+#REF!+#REF!+#REF!+#REF!+#REF!+#REF!+#REF!+#REF!+#REF!+#REF!+#REF!+#REF!+#REF!+#REF!+#REF!+#REF!+#REF!","v":{"$error":"#REF!"}},{"$f":"#REF!+#REF!+#REF!+#REF!+#REF!+#REF!+#REF!+#REF!+#REF!+#REF!+#REF!+#REF!+#REF!+#REF!+#REF!+#REF!+#REF!+#REF!+#REF!+#REF!+#REF!+#REF!+#REF!+#REF!+#REF!+#REF!+#REF!+#REF!+#REF!+#REF!+#REF!+#REF!+#REF!","v":{"$error":"#REF!"}},{"$f":"#REF!+#REF!+#REF!+#REF!+#REF!+#REF!+#REF!+#REF!+#REF!+#REF!+#REF!+#REF!+#REF!+#REF!+#REF!+#REF!+#REF!+#REF!+#REF!+#REF!+#REF!+#REF!+#REF!+#REF!+#REF!+#REF!+#REF!+#REF!+#REF!+#REF!+#REF!+#REF!+#REF!","v":{"$error":"#REF!"}},{"$f":"#REF!+#REF!+#REF!+#REF!+#REF!+#REF!+#REF!+#REF!+#REF!+#REF!+#REF!+#REF!+#REF!+#REF!+#REF!+#REF!+#REF!+#REF!+#REF!+#REF!+#REF!+#REF!+#REF!+#REF!+#REF!+#REF!+#REF!+#REF!+#REF!+#REF!+#REF!+#REF!+#REF!","v":{"$error":"#REF!"}},{"$f":"#REF!+#REF!+#REF!+#REF!+#REF!+#REF!+#REF!+#REF!+#REF!+#REF!+#REF!+#REF!+#REF!+#REF!+#REF!+#REF!+#REF!+#REF!+#REF!+#REF!+#REF!+#REF!+#REF!+#REF!+#REF!+#REF!+#REF!+#REF!+#REF!+#REF!+#REF!+#REF!+#REF!","v":{"$error":"#REF!"}},{"$f":"#REF!+#REF!+#REF!+#REF!+#REF!+#REF!+#REF!+#REF!+#REF!+#REF!+#REF!+#REF!+#REF!+#REF!+#REF!+#REF!+#REF!+#REF!+#REF!+#REF!+#REF!+#REF!+#REF!+#REF!+#REF!+#REF!+#REF!+#REF!+#REF!+#REF!+#REF!+#REF!+#REF!","v":{"$error":"#REF!"}},{"$f":"#REF!+#REF!+#REF!+#REF!+#REF!+#REF!+#REF!+#REF!+#REF!+#REF!+#REF!+#REF!+#REF!+#REF!+#REF!+#REF!+#REF!+#REF!+#REF!+#REF!+#REF!+#REF!+#REF!+#REF!+#REF!+#REF!+#REF!+#REF!+#REF!+#REF!+#REF!+#REF!+#REF!","v":{"$error":"#REF!"}},{"$f":"#REF!+#REF!+#REF!+#REF!+#REF!+#REF!+#REF!+#REF!+#REF!+#REF!+#REF!+#REF!+#REF!+#REF!+#REF!+#REF!+#REF!+#REF!+#REF!+#REF!+#REF!+#REF!+#REF!+#REF!+#REF!+#REF!+#REF!+#REF!+#REF!+#REF!+#REF!+#REF!+#REF!","v":{"$error":"#REF!"}},{"$error":"#REF!"},{"$error":"#REF!"},{"$f":"#REF!+#REF!+#REF!+#REF!+#REF!+#REF!+#REF!+#REF!+#REF!+#REF!+#REF!+#REF!+#REF!+#REF!+#REF!+#REF!+#REF!+#REF!+#REF!+#REF!+#REF!+#REF!+#REF!+#REF!+#REF!+#REF!+#REF!+#REF!+#REF!+#REF!+#REF!+#REF!+#REF!","v":{"$error":"#REF!"}},null,{"$error":"#REF!"}]
[40,"Rapides",{"$f":"#REF!+#REF!+#REF!+#REF!+#REF!+#REF!+#REF!+#REF!+#REF!+#REF!+#REF!+#REF!+#REF!+#REF!+#REF!+#REF!+#REF!+#REF!+#REF!+#REF!+#REF!+#REF!+#REF!+#REF!+#REF!+#REF!+#REF!+#REF!+#REF!+#REF!+#REF!+#REF!+#REF!","v":{"$error":"#REF!"}},{"$f":"'9_Per Pupil Summary'!H45","v":4901.4987134284083},{"$f":"#REF!+#REF!+#REF!+#REF!+#REF!+#REF!+#REF!+#REF!+#REF!+#REF!+#REF!+#REF!+#REF!+#REF!+#REF!+#REF!+#REF!+#REF!+#REF!+#REF!+#REF!+#REF!+#REF!+#REF!+#REF!+#REF!+#REF!+#REF!+#REF!+#REF!+#REF!+#REF!+#REF!","v":{"$error":"#REF!"}},{"$f":"#REF!+#REF!+#REF!+#REF!+#REF!+#REF!+#REF!+#REF!+#REF!+#REF!+#REF!+#REF!+#REF!+#REF!+#REF!+#REF!+#REF!+#REF!+#REF!+#REF!+#REF!+#REF!+#REF!+#REF!+#REF!+#REF!+#REF!+#REF!+#REF!+#REF!+#REF!+#REF!+#REF!","v":{"$error":"#REF!"}},{"$f":"'9_Per Pupil Summary'!I45","v":648.95948892877198},{"$f":"#REF!+#REF!+#REF!+#REF!+#REF!+#REF!+#REF!+#REF!+#REF!+#REF!+#REF!+#REF!+#REF!+#REF!+#REF!+#REF!+#REF!+#REF!+#REF!+#REF!+#REF!+#REF!+#REF!+#REF!+#REF!+#REF!+#REF!+#REF!+#REF!+#REF!+#REF!+#REF!+#REF!","v":{"$error":"#REF!"}},{"$f":"#REF!+#REF!+#REF!+#REF!+#REF!+#REF!+#REF!+#REF!+#REF!+#REF!+#REF!+#REF!+#REF!+#REF!+#REF!+#REF!+#REF!+#REF!+#REF!+#REF!+#REF!+#REF!+#REF!+#REF!+#REF!+#REF!+#REF!+#REF!+#REF!+#REF!+#REF!+#REF!+#REF!","v":{"$error":"#REF!"}},{"$f":"'9_Per Pupil Summary'!J45","v":176.98895152602876},{"$f":"#REF!+#REF!+#REF!+#REF!+#REF!+#REF!+#REF!+#REF!+#REF!+#REF!+#REF!+#REF!+#REF!+#REF!+#REF!+#REF!+#REF!+#REF!+#REF!+#REF!+#REF!+#REF!+#REF!+#REF!+#REF!+#REF!+#REF!+#REF!+#REF!+#REF!+#REF!+#REF!+#REF!","v":{"$error":"#REF!"}},{"$f":"#REF!+#REF!+#REF!+#REF!+#REF!+#REF!+#REF!+#REF!+#REF!+#REF!+#REF!+#REF!+#REF!+#REF!+#REF!+#REF!+#REF!+#REF!+#REF!+#REF!+#REF!+#REF!+#REF!+#REF!+#REF!+#REF!+#REF!+#REF!+#REF!+#REF!+#REF!+#REF!+#REF!","v":{"$error":"#REF!"}},{"$f":"'9_Per Pupil Summary'!K45","v":4424.7237881507181},{"$f":"#REF!+#REF!+#REF!+#REF!+#REF!+#REF!+#REF!+#REF!+#REF!+#REF!+#REF!+#REF!+#REF!+#REF!+#REF!+#REF!+#REF!+#REF!+#REF!+#REF!+#REF!+#REF!+#REF!+#REF!+#REF!+#REF!+#REF!+#REF!+#REF!+#REF!+#REF!+#REF!+#REF!","v":{"$error":"#REF!"}},{"$f":"#REF!+#REF!+#REF!+#REF!+#REF!+#REF!+#REF!+#REF!+#REF!+#REF!+#REF!+#REF!+#REF!+#REF!+#REF!+#REF!+#REF!+#REF!+#REF!+#REF!+#REF!+#REF!+#REF!+#REF!+#REF!+#REF!+#REF!+#REF!+#REF!+#REF!+#REF!+#REF!+#REF!","v":{"$error":"#REF!"}},{"$f":"'9_Per Pupil Summary'!L45","v":1769.8895152602872},{"$f":"#REF!+#REF!+#REF!+#REF!+#REF!+#REF!+#REF!+#REF!+#REF!+#REF!+#REF!+#REF!+#REF!+#REF!+#REF!+#REF!+#REF!+#REF!+#REF!+#REF!+#REF!+#REF!+#REF!+#REF!+#REF!+#REF!+#REF!+#REF!+#REF!+#REF!+#REF!+#REF!+#REF!","v":{"$error":"#REF!"}},{"$f":"#REF!+#REF!+#REF!+#REF!+#REF!+#REF!+#REF!+#REF!+#REF!+#REF!+#REF!+#REF!+#REF!+#REF!+#REF!+#REF!+#REF!+#REF!+#REF!+#REF!+#REF!+#REF!+#REF!+#REF!+#REF!+#REF!+#REF!+#REF!+#REF!+#REF!+#REF!+#REF!+#REF!","v":{"$error":"#REF!"}},{"$f":"#REF!+#REF!","v":{"$error":"#REF!"}},{"$f":"#REF!+#REF!+#REF!+#REF!+#REF!+#REF!+#REF!+#REF!+#REF!+#REF!+#REF!+#REF!+#REF!+#REF!+#REF!+#REF!+#REF!+#REF!+#REF!+#REF!+#REF!+#REF!+#REF!+#REF!+#REF!+#REF!+#REF!+#REF!+#REF!+#REF!+#REF!+#REF!+#REF!","v":{"$error":"#REF!"}},{"$f":"#REF!+#REF!+#REF!+#REF!+#REF!+#REF!+#REF!+#REF!+#REF!+#REF!+#REF!+#REF!+#REF!+#REF!+#REF!+#REF!+#REF!+#REF!+#REF!+#REF!+#REF!+#REF!+#REF!+#REF!+#REF!+#REF!+#REF!+#REF!+#REF!+#REF!+#REF!+#REF!+#REF!","v":{"$error":"#REF!"}},{"$f":"#REF!+#REF!+#REF!+#REF!+#REF!+#REF!+#REF!+#REF!+#REF!+#REF!+#REF!+#REF!+#REF!+#REF!+#REF!+#REF!+#REF!+#REF!+#REF!+#REF!+#REF!+#REF!+#REF!+#REF!+#REF!+#REF!+#REF!+#REF!+#REF!+#REF!+#REF!+#REF!+#REF!","v":{"$error":"#REF!"}},{"$f":"#REF!+#REF!+#REF!+#REF!+#REF!+#REF!+#REF!+#REF!+#REF!+#REF!+#REF!+#REF!+#REF!+#REF!+#REF!+#REF!+#REF!+#REF!+#REF!+#REF!+#REF!+#REF!+#REF!+#REF!+#REF!+#REF!+#REF!+#REF!+#REF!+#REF!+#REF!+#REF!+#REF!","v":{"$error":"#REF!"}},{"$f":"#REF!+#REF!+#REF!+#REF!+#REF!+#REF!+#REF!+#REF!+#REF!+#REF!+#REF!+#REF!+#REF!+#REF!+#REF!+#REF!+#REF!+#REF!+#REF!+#REF!+#REF!+#REF!+#REF!+#REF!+#REF!+#REF!+#REF!+#REF!+#REF!+#REF!+#REF!+#REF!+#REF!","v":{"$error":"#REF!"}},{"$f":"#REF!+#REF!+#REF!+#REF!+#REF!+#REF!+#REF!+#REF!+#REF!+#REF!+#REF!+#REF!+#REF!+#REF!+#REF!+#REF!+#REF!+#REF!+#REF!+#REF!+#REF!+#REF!+#REF!+#REF!+#REF!+#REF!+#REF!+#REF!+#REF!+#REF!+#REF!+#REF!+#REF!","v":{"$error":"#REF!"}},{"$f":"#REF!+#REF!+#REF!+#REF!+#REF!+#REF!+#REF!+#REF!+#REF!+#REF!+#REF!+#REF!+#REF!+#REF!+#REF!+#REF!+#REF!+#REF!+#REF!+#REF!+#REF!+#REF!+#REF!+#REF!+#REF!+#REF!+#REF!+#REF!+#REF!+#REF!+#REF!+#REF!+#REF!","v":{"$error":"#REF!"}},{"$f":"#REF!+#REF!+#REF!+#REF!+#REF!+#REF!+#REF!+#REF!+#REF!+#REF!+#REF!+#REF!+#REF!+#REF!+#REF!+#REF!+#REF!+#REF!+#REF!+#REF!+#REF!+#REF!+#REF!+#REF!+#REF!+#REF!+#REF!+#REF!+#REF!+#REF!+#REF!+#REF!+#REF!","v":{"$error":"#REF!"}},{"$f":"#REF!+#REF!+#REF!+#REF!+#REF!+#REF!+#REF!+#REF!+#REF!+#REF!+#REF!+#REF!+#REF!+#REF!+#REF!+#REF!+#REF!+#REF!+#REF!+#REF!+#REF!+#REF!+#REF!+#REF!+#REF!+#REF!+#REF!+#REF!+#REF!+#REF!+#REF!+#REF!+#REF!","v":{"$error":"#REF!"}},{"$f":"#REF!+#REF!+#REF!+#REF!+#REF!+#REF!+#REF!+#REF!+#REF!+#REF!+#REF!+#REF!+#REF!+#REF!+#REF!+#REF!+#REF!+#REF!+#REF!+#REF!+#REF!+#REF!+#REF!+#REF!+#REF!+#REF!+#REF!+#REF!+#REF!+#REF!+#REF!+#REF!+#REF!","v":{"$error":"#REF!"}},{"$f":"#REF!+#REF!+#REF!+#REF!+#REF!+#REF!+#REF!+#REF!+#REF!+#REF!+#REF!+#REF!+#REF!+#REF!+#REF!+#REF!+#REF!+#REF!+#REF!+#REF!+#REF!+#REF!+#REF!+#REF!+#REF!+#REF!+#REF!+#REF!+#REF!+#REF!+#REF!+#REF!+#REF!","v":{"$error":"#REF!"}},{"$f":"#REF!+#REF!+#REF!+#REF!+#REF!+#REF!+#REF!+#REF!+#REF!+#REF!+#REF!+#REF!+#REF!+#REF!+#REF!+#REF!+#REF!+#REF!+#REF!+#REF!+#REF!+#REF!+#REF!+#REF!+#REF!+#REF!+#REF!+#REF!+#REF!+#REF!+#REF!+#REF!+#REF!","v":{"$error":"#REF!"}},{"$f":"'9_Per Pupil Summary'!N45","v":5916},{"$f":"#REF!+#REF!+#REF!+#REF!+#REF!+#REF!+#REF!+#REF!+#REF!+#REF!+#REF!+#REF!+#REF!+#REF!+#REF!+#REF!+#REF!+#REF!+#REF!+#REF!+#REF!+#REF!+#REF!+#REF!+#REF!+#REF!+#REF!+#REF!+#REF!+#REF!+#REF!+#REF!+#REF!","v":{"$error":"#REF!"}},{"$f":"#REF!+#REF!+#REF!+#REF!+#REF!+#REF!+#REF!+#REF!+#REF!+#REF!+#REF!+#REF!+#REF!+#REF!+#REF!+#REF!+#REF!+#REF!+#REF!+#REF!+#REF!+#REF!+#REF!+#REF!+#REF!+#REF!+#REF!+#REF!+#REF!+#REF!+#REF!+#REF!+#REF!","v":{"$error":"#REF!"}},{"$f":"#REF!+#REF!+#REF!+#REF!+#REF!+#REF!+#REF!+#REF!+#REF!+#REF!+#REF!+#REF!+#REF!+#REF!+#REF!+#REF!+#REF!+#REF!+#REF!+#REF!+#REF!+#REF!+#REF!+#REF!+#REF!+#REF!+#REF!+#REF!+#REF!+#REF!+#REF!+#REF!+#REF!","v":{"$error":"#REF!"}},{"$f":"#REF!+#REF!+#REF!+#REF!+#REF!+#REF!+#REF!+#REF!+#REF!+#REF!+#REF!+#REF!+#REF!+#REF!+#REF!+#REF!+#REF!+#REF!+#REF!+#REF!+#REF!+#REF!+#REF!+#REF!+#REF!+#REF!+#REF!+#REF!+#REF!+#REF!+#REF!+#REF!+#REF!","v":{"$error":"#REF!"}},{"$f":"#REF!+#REF!+#REF!+#REF!+#REF!+#REF!+#REF!+#REF!+#REF!+#REF!+#REF!+#REF!+#REF!+#REF!+#REF!+#REF!+#REF!+#REF!+#REF!+#REF!+#REF!+#REF!+#REF!+#REF!+#REF!+#REF!+#REF!+#REF!+#REF!+#REF!+#REF!+#REF!+#REF!","v":{"$error":"#REF!"}},{"$f":"#REF!+#REF!+#REF!+#REF!+#REF!+#REF!+#REF!+#REF!+#REF!+#REF!+#REF!+#REF!+#REF!+#REF!+#REF!+#REF!+#REF!+#REF!+#REF!+#REF!+#REF!+#REF!+#REF!+#REF!+#REF!+#REF!+#REF!+#REF!+#REF!+#REF!+#REF!+#REF!+#REF!","v":{"$error":"#REF!"}},{"$f":"#REF!+#REF!+#REF!+#REF!+#REF!+#REF!+#REF!+#REF!+#REF!+#REF!+#REF!+#REF!+#REF!+#REF!+#REF!+#REF!+#REF!+#REF!+#REF!+#REF!+#REF!+#REF!+#REF!+#REF!+#REF!+#REF!+#REF!+#REF!+#REF!+#REF!+#REF!+#REF!+#REF!","v":{"$error":"#REF!"}},{"$f":"#REF!+#REF!+#REF!+#REF!+#REF!+#REF!+#REF!+#REF!+#REF!+#REF!+#REF!+#REF!+#REF!+#REF!+#REF!+#REF!+#REF!+#REF!+#REF!+#REF!+#REF!+#REF!+#REF!+#REF!+#REF!+#REF!+#REF!+#REF!+#REF!+#REF!+#REF!+#REF!+#REF!","v":{"$error":"#REF!"}},{"$f":"#REF!+#REF!+#REF!+#REF!+#REF!+#REF!+#REF!+#REF!+#REF!+#REF!+#REF!+#REF!+#REF!+#REF!+#REF!+#REF!+#REF!+#REF!+#REF!+#REF!+#REF!+#REF!+#REF!+#REF!+#REF!+#REF!+#REF!+#REF!+#REF!+#REF!+#REF!+#REF!+#REF!","v":{"$error":"#REF!"}},{"$f":"#REF!+#REF!+#REF!+#REF!+#REF!+#REF!+#REF!+#REF!+#REF!+#REF!+#REF!+#REF!+#REF!+#REF!+#REF!+#REF!+#REF!+#REF!+#REF!+#REF!+#REF!+#REF!+#REF!+#REF!+#REF!+#REF!+#REF!+#REF!+#REF!+#REF!+#REF!+#REF!+#REF!","v":{"$error":"#REF!"}},{"$f":"#REF!+#REF!+#REF!+#REF!+#REF!+#REF!+#REF!+#REF!+#REF!+#REF!+#REF!+#REF!+#REF!+#REF!+#REF!+#REF!+#REF!+#REF!+#REF!+#REF!+#REF!+#REF!+#REF!+#REF!+#REF!+#REF!+#REF!+#REF!+#REF!+#REF!+#REF!+#REF!+#REF!","v":{"$error":"#REF!"}},{"$f":"#REF!+#REF!+#REF!+#REF!+#REF!+#REF!+#REF!+#REF!+#REF!+#REF!+#REF!+#REF!+#REF!+#REF!+#REF!+#REF!+#REF!+#REF!+#REF!+#REF!+#REF!+#REF!+#REF!+#REF!+#REF!+#REF!+#REF!+#REF!+#REF!+#REF!+#REF!+#REF!+#REF!","v":{"$error":"#REF!"}},{"$f":"#REF!+#REF!+#REF!+#REF!+#REF!+#REF!+#REF!+#REF!+#REF!+#REF!+#REF!+#REF!+#REF!+#REF!+#REF!+#REF!+#REF!+#REF!+#REF!+#REF!+#REF!+#REF!+#REF!+#REF!+#REF!+#REF!+#REF!+#REF!+#REF!+#REF!+#REF!+#REF!+#REF!","v":{"$error":"#REF!"}},{"$f":"#REF!+#REF!+#REF!+#REF!+#REF!+#REF!+#REF!+#REF!+#REF!+#REF!+#REF!+#REF!+#REF!+#REF!+#REF!+#REF!+#REF!+#REF!+#REF!+#REF!+#REF!+#REF!+#REF!+#REF!+#REF!+#REF!+#REF!+#REF!+#REF!+#REF!+#REF!+#REF!+#REF!","v":{"$error":"#REF!"}},{"$error":"#REF!"},{"$error":"#REF!"},{"$f":"#REF!+#REF!+#REF!+#REF!+#REF!+#REF!+#REF!+#REF!+#REF!+#REF!+#REF!+#REF!+#REF!+#REF!+#REF!+#REF!+#REF!+#REF!+#REF!+#REF!+#REF!+#REF!+#REF!+#REF!+#REF!+#REF!+#REF!+#REF!+#REF!+#REF!+#REF!+#REF!+#REF!","v":{"$error":"#REF!"}},null,{"$error":"#REF!"}]
[41,"Red River",{"$f":"#REF!+#REF!+#REF!+#REF!+#REF!+#REF!+#REF!+#REF!+#REF!+#REF!+#REF!+#REF!+#REF!+#REF!+#REF!+#REF!+#REF!+#REF!+#REF!+#REF!+#REF!+#REF!+#REF!+#REF!+#REF!+#REF!+#REF!+#REF!+#REF!+#REF!+#REF!+#REF!+#REF!","v":{"$error":"#REF!"}},{"$f":"'9_Per Pupil Summary'!H46","v":2063.3828520459592},{"$f":"#REF!+#REF!+#REF!+#REF!+#REF!+#REF!+#REF!+#REF!+#REF!+#REF!+#REF!+#REF!+#REF!+#REF!+#REF!+#REF!+#REF!+#REF!+#REF!+#REF!+#REF!+#REF!+#REF!+#REF!+#REF!+#REF!+#REF!+#REF!+#REF!+#REF!+#REF!+#REF!+#REF!","v":{"$error":"#REF!"}},{"$f":"#REF!+#REF!+#REF!+#REF!+#REF!+#REF!+#REF!+#REF!+#REF!+#REF!+#REF!+#REF!+#REF!+#REF!+#REF!+#REF!+#REF!+#REF!+#REF!+#REF!+#REF!+#REF!+#REF!+#REF!+#REF!+#REF!+#REF!+#REF!+#REF!+#REF!+#REF!+#REF!+#REF!","v":{"$error":"#REF!"}},{"$f":"'9_Per Pupil Summary'!I46","v":220.82501570572424},{"$f":"#REF!+#REF!+#REF!+#REF!+#REF!+#REF!+#REF!+#REF!+#REF!+#REF!+#REF!+#REF!+#REF!+#REF!+#REF!+#REF!+#REF!+#REF!+#REF!+#REF!+#REF!+#REF!+#REF!+#REF!+#REF!+#REF!+#REF!+#REF!+#REF!+#REF!+#REF!+#REF!+#REF!","v":{"$error":"#REF!"}},{"$f":"#REF!+#REF!+#REF!+#REF!+#REF!+#REF!+#REF!+#REF!+#REF!+#REF!+#REF!+#REF!+#REF!+#REF!+#REF!+#REF!+#REF!+#REF!+#REF!+#REF!+#REF!+#REF!+#REF!+#REF!+#REF!+#REF!+#REF!+#REF!+#REF!+#REF!+#REF!+#REF!+#REF!","v":{"$error":"#REF!"}},{"$f":"'9_Per Pupil Summary'!J46","v":60.225004283379327},{"$f":"#REF!+#REF!+#REF!+#REF!+#REF!+#REF!+#REF!+#REF!+#REF!+#REF!+#REF!+#REF!+#REF!+#REF!+#REF!+#REF!+#REF!+#REF!+#REF!+#REF!+#REF!+#REF!+#REF!+#REF!+#REF!+#REF!+#REF!+#REF!+#REF!+#REF!+#REF!+#REF!+#REF!","v":{"$error":"#REF!"}},{"$f":"#REF!+#REF!+#REF!+#REF!+#REF!+#REF!+#REF!+#REF!+#REF!+#REF!+#REF!+#REF!+#REF!+#REF!+#REF!+#REF!+#REF!+#REF!+#REF!+#REF!+#REF!+#REF!+#REF!+#REF!+#REF!+#REF!+#REF!+#REF!+#REF!+#REF!+#REF!+#REF!+#REF!","v":{"$error":"#REF!"}},{"$f":"'9_Per Pupil Summary'!K46","v":1505.6251070844833},{"$f":"#REF!+#REF!+#REF!+#REF!+#REF!+#REF!+#REF!+#REF!+#REF!+#REF!+#REF!+#REF!+#REF!+#REF!+#REF!+#REF!+#REF!+#REF!+#REF!+#REF!+#REF!+#REF!+#REF!+#REF!+#REF!+#REF!+#REF!+#REF!+#REF!+#REF!+#REF!+#REF!+#REF!","v":{"$error":"#REF!"}},{"$f":"#REF!+#REF!+#REF!+#REF!+#REF!+#REF!+#REF!+#REF!+#REF!+#REF!+#REF!+#REF!+#REF!+#REF!+#REF!+#REF!+#REF!+#REF!+#REF!+#REF!+#REF!+#REF!+#REF!+#REF!+#REF!+#REF!+#REF!+#REF!+#REF!+#REF!+#REF!+#REF!+#REF!","v":{"$error":"#REF!"}},{"$f":"'9_Per Pupil Summary'!L46","v":602.25004283379337},{"$f":"#REF!+#REF!+#REF!+#REF!+#REF!+#REF!+#REF!+#REF!+#REF!+#REF!+#REF!+#REF!+#REF!+#REF!+#REF!+#REF!+#REF!+#REF!+#REF!+#REF!+#REF!+#REF!+#REF!+#REF!+#REF!+#REF!+#REF!+#REF!+#REF!+#REF!+#REF!+#REF!+#REF!","v":{"$error":"#REF!"}},{"$f":"#REF!+#REF!+#REF!+#REF!+#REF!+#REF!+#REF!+#REF!+#REF!+#REF!+#REF!+#REF!+#REF!+#REF!+#REF!+#REF!+#REF!+#REF!+#REF!+#REF!+#REF!+#REF!+#REF!+#REF!+#REF!+#REF!+#REF!+#REF!+#REF!+#REF!+#REF!+#REF!+#REF!","v":{"$error":"#REF!"}},{"$f":"#REF!+#REF!","v":{"$error":"#REF!"}},{"$f":"#REF!+#REF!+#REF!+#REF!+#REF!+#REF!+#REF!+#REF!+#REF!+#REF!+#REF!+#REF!+#REF!+#REF!+#REF!+#REF!+#REF!+#REF!+#REF!+#REF!+#REF!+#REF!+#REF!+#REF!+#REF!+#REF!+#REF!+#REF!+#REF!+#REF!+#REF!+#REF!+#REF!","v":{"$error":"#REF!"}},{"$f":"#REF!+#REF!+#REF!+#REF!+#REF!+#REF!+#REF!+#REF!+#REF!+#REF!+#REF!+#REF!+#REF!+#REF!+#REF!+#REF!+#REF!+#REF!+#REF!+#REF!+#REF!+#REF!+#REF!+#REF!+#REF!+#REF!+#REF!+#REF!+#REF!+#REF!+#REF!+#REF!+#REF!","v":{"$error":"#REF!"}},{"$f":"#REF!+#REF!+#REF!+#REF!+#REF!+#REF!+#REF!+#REF!+#REF!+#REF!+#REF!+#REF!+#REF!+#REF!+#REF!+#REF!+#REF!+#REF!+#REF!+#REF!+#REF!+#REF!+#REF!+#REF!+#REF!+#REF!+#REF!+#REF!+#REF!+#REF!+#REF!+#REF!+#REF!","v":{"$error":"#REF!"}},{"$f":"#REF!+#REF!+#REF!+#REF!+#REF!+#REF!+#REF!+#REF!+#REF!+#REF!+#REF!+#REF!+#REF!+#REF!+#REF!+#REF!+#REF!+#REF!+#REF!+#REF!+#REF!+#REF!+#REF!+#REF!+#REF!+#REF!+#REF!+#REF!+#REF!+#REF!+#REF!+#REF!+#REF!","v":{"$error":"#REF!"}},{"$f":"#REF!+#REF!+#REF!+#REF!+#REF!+#REF!+#REF!+#REF!+#REF!+#REF!+#REF!+#REF!+#REF!+#REF!+#REF!+#REF!+#REF!+#REF!+#REF!+#REF!+#REF!+#REF!+#REF!+#REF!+#REF!+#REF!+#REF!+#REF!+#REF!+#REF!+#REF!+#REF!+#REF!","v":{"$error":"#REF!"}},{"$f":"#REF!+#REF!+#REF!+#REF!+#REF!+#REF!+#REF!+#REF!+#REF!+#REF!+#REF!+#REF!+#REF!+#REF!+#REF!+#REF!+#REF!+#REF!+#REF!+#REF!+#REF!+#REF!+#REF!+#REF!+#REF!+#REF!+#REF!+#REF!+#REF!+#REF!+#REF!+#REF!+#REF!","v":{"$error":"#REF!"}},{"$f":"#REF!+#REF!+#REF!+#REF!+#REF!+#REF!+#REF!+#REF!+#REF!+#REF!+#REF!+#REF!+#REF!+#REF!+#REF!+#REF!+#REF!+#REF!+#REF!+#REF!+#REF!+#REF!+#REF!+#REF!+#REF!+#REF!+#REF!+#REF!+#REF!+#REF!+#REF!+#REF!+#REF!","v":{"$error":"#REF!"}},{"$f":"#REF!+#REF!+#REF!+#REF!+#REF!+#REF!+#REF!+#REF!+#REF!+#REF!+#REF!+#REF!+#REF!+#REF!+#REF!+#REF!+#REF!+#REF!+#REF!+#REF!+#REF!+#REF!+#REF!+#REF!+#REF!+#REF!+#REF!+#REF!+#REF!+#REF!+#REF!+#REF!+#REF!","v":{"$error":"#REF!"}},{"$f":"#REF!+#REF!+#REF!+#REF!+#REF!+#REF!+#REF!+#REF!+#REF!+#REF!+#REF!+#REF!+#REF!+#REF!+#REF!+#REF!+#REF!+#REF!+#REF!+#REF!+#REF!+#REF!+#REF!+#REF!+#REF!+#REF!+#REF!+#REF!+#REF!+#REF!+#REF!+#REF!+#REF!","v":{"$error":"#REF!"}},{"$f":"#REF!+#REF!+#REF!+#REF!+#REF!+#REF!+#REF!+#REF!+#REF!+#REF!+#REF!+#REF!+#REF!+#REF!+#REF!+#REF!+#REF!+#REF!+#REF!+#REF!+#REF!+#REF!+#REF!+#REF!+#REF!+#REF!+#REF!+#REF!+#REF!+#REF!+#REF!+#REF!+#REF!","v":{"$error":"#REF!"}},{"$f":"#REF!+#REF!+#REF!+#REF!+#REF!+#REF!+#REF!+#REF!+#REF!+#REF!+#REF!+#REF!+#REF!+#REF!+#REF!+#REF!+#REF!+#REF!+#REF!+#REF!+#REF!+#REF!+#REF!+#REF!+#REF!+#REF!+#REF!+#REF!+#REF!+#REF!+#REF!+#REF!+#REF!","v":{"$error":"#REF!"}},{"$f":"#REF!+#REF!+#REF!+#REF!+#REF!+#REF!+#REF!+#REF!+#REF!+#REF!+#REF!+#REF!+#REF!+#REF!+#REF!+#REF!+#REF!+#REF!+#REF!+#REF!+#REF!+#REF!+#REF!+#REF!+#REF!+#REF!+#REF!+#REF!+#REF!+#REF!+#REF!+#REF!+#REF!","v":{"$error":"#REF!"}},{"$f":"'9_Per Pupil Summary'!N46","v":19540},{"$f":"#REF!+#REF!+#REF!+#REF!+#REF!+#REF!+#REF!+#REF!+#REF!+#REF!+#REF!+#REF!+#REF!+#REF!+#REF!+#REF!+#REF!+#REF!+#REF!+#REF!+#REF!+#REF!+#REF!+#REF!+#REF!+#REF!+#REF!+#REF!+#REF!+#REF!+#REF!+#REF!+#REF!","v":{"$error":"#REF!"}},{"$f":"#REF!+#REF!+#REF!+#REF!+#REF!+#REF!+#REF!+#REF!+#REF!+#REF!+#REF!+#REF!+#REF!+#REF!+#REF!+#REF!+#REF!+#REF!+#REF!+#REF!+#REF!+#REF!+#REF!+#REF!+#REF!+#REF!+#REF!+#REF!+#REF!+#REF!+#REF!+#REF!+#REF!","v":{"$error":"#REF!"}},{"$f":"#REF!+#REF!+#REF!+#REF!+#REF!+#REF!+#REF!+#REF!+#REF!+#REF!+#REF!+#REF!+#REF!+#REF!+#REF!+#REF!+#REF!+#REF!+#REF!+#REF!+#REF!+#REF!+#REF!+#REF!+#REF!+#REF!+#REF!+#REF!+#REF!+#REF!+#REF!+#REF!+#REF!","v":{"$error":"#REF!"}},{"$f":"#REF!+#REF!+#REF!+#REF!+#REF!+#REF!+#REF!+#REF!+#REF!+#REF!+#REF!+#REF!+#REF!+#REF!+#REF!+#REF!+#REF!+#REF!+#REF!+#REF!+#REF!+#REF!+#REF!+#REF!+#REF!+#REF!+#REF!+#REF!+#REF!+#REF!+#REF!+#REF!+#REF!","v":{"$error":"#REF!"}},{"$f":"#REF!+#REF!+#REF!+#REF!+#REF!+#REF!+#REF!+#REF!+#REF!+#REF!+#REF!+#REF!+#REF!+#REF!+#REF!+#REF!+#REF!+#REF!+#REF!+#REF!+#REF!+#REF!+#REF!+#REF!+#REF!+#REF!+#REF!+#REF!+#REF!+#REF!+#REF!+#REF!+#REF!","v":{"$error":"#REF!"}},{"$f":"#REF!+#REF!+#REF!+#REF!+#REF!+#REF!+#REF!+#REF!+#REF!+#REF!+#REF!+#REF!+#REF!+#REF!+#REF!+#REF!+#REF!+#REF!+#REF!+#REF!+#REF!+#REF!+#REF!+#REF!+#REF!+#REF!+#REF!+#REF!+#REF!+#REF!+#REF!+#REF!+#REF!","v":{"$error":"#REF!"}},{"$f":"#REF!+#REF!+#REF!+#REF!+#REF!+#REF!+#REF!+#REF!+#REF!+#REF!+#REF!+#REF!+#REF!+#REF!+#REF!+#REF!+#REF!+#REF!+#REF!+#REF!+#REF!+#REF!+#REF!+#REF!+#REF!+#REF!+#REF!+#REF!+#REF!+#REF!+#REF!+#REF!+#REF!","v":{"$error":"#REF!"}},{"$f":"#REF!+#REF!+#REF!+#REF!+#REF!+#REF!+#REF!+#REF!+#REF!+#REF!+#REF!+#REF!+#REF!+#REF!+#REF!+#REF!+#REF!+#REF!+#REF!+#REF!+#REF!+#REF!+#REF!+#REF!+#REF!+#REF!+#REF!+#REF!+#REF!+#REF!+#REF!+#REF!+#REF!","v":{"$error":"#REF!"}},{"$f":"#REF!+#REF!+#REF!+#REF!+#REF!+#REF!+#REF!+#REF!+#REF!+#REF!+#REF!+#REF!+#REF!+#REF!+#REF!+#REF!+#REF!+#REF!+#REF!+#REF!+#REF!+#REF!+#REF!+#REF!+#REF!+#REF!+#REF!+#REF!+#REF!+#REF!+#REF!+#REF!+#REF!","v":{"$error":"#REF!"}},{"$f":"#REF!+#REF!+#REF!+#REF!+#REF!+#REF!+#REF!+#REF!+#REF!+#REF!+#REF!+#REF!+#REF!+#REF!+#REF!+#REF!+#REF!+#REF!+#REF!+#REF!+#REF!+#REF!+#REF!+#REF!+#REF!+#REF!+#REF!+#REF!+#REF!+#REF!+#REF!+#REF!+#REF!","v":{"$error":"#REF!"}},{"$f":"#REF!+#REF!+#REF!+#REF!+#REF!+#REF!+#REF!+#REF!+#REF!+#REF!+#REF!+#REF!+#REF!+#REF!+#REF!+#REF!+#REF!+#REF!+#REF!+#REF!+#REF!+#REF!+#REF!+#REF!+#REF!+#REF!+#REF!+#REF!+#REF!+#REF!+#REF!+#REF!+#REF!","v":{"$error":"#REF!"}},{"$f":"#REF!+#REF!+#REF!+#REF!+#REF!+#REF!+#REF!+#REF!+#REF!+#REF!+#REF!+#REF!+#REF!+#REF!+#REF!+#REF!+#REF!+#REF!+#REF!+#REF!+#REF!+#REF!+#REF!+#REF!+#REF!+#REF!+#REF!+#REF!+#REF!+#REF!+#REF!+#REF!+#REF!","v":{"$error":"#REF!"}},{"$f":"#REF!+#REF!+#REF!+#REF!+#REF!+#REF!+#REF!+#REF!+#REF!+#REF!+#REF!+#REF!+#REF!+#REF!+#REF!+#REF!+#REF!+#REF!+#REF!+#REF!+#REF!+#REF!+#REF!+#REF!+#REF!+#REF!+#REF!+#REF!+#REF!+#REF!+#REF!+#REF!+#REF!","v":{"$error":"#REF!"}},{"$f":"#REF!+#REF!+#REF!+#REF!+#REF!+#REF!+#REF!+#REF!+#REF!+#REF!+#REF!+#REF!+#REF!+#REF!+#REF!+#REF!+#REF!+#REF!+#REF!+#REF!+#REF!+#REF!+#REF!+#REF!+#REF!+#REF!+#REF!+#REF!+#REF!+#REF!+#REF!+#REF!+#REF!","v":{"$error":"#REF!"}},{"$error":"#REF!"},{"$error":"#REF!"},{"$f":"#REF!+#REF!+#REF!+#REF!+#REF!+#REF!+#REF!+#REF!+#REF!+#REF!+#REF!+#REF!+#REF!+#REF!+#REF!+#REF!+#REF!+#REF!+#REF!+#REF!+#REF!+#REF!+#REF!+#REF!+#REF!+#REF!+#REF!+#REF!+#REF!+#REF!+#REF!+#REF!+#REF!","v":{"$error":"#REF!"}},null,{"$error":"#REF!"}]
[42,"Richland",{"$f":"#REF!+#REF!+#REF!+#REF!+#REF!+#REF!+#REF!+#REF!+#REF!+#REF!+#REF!+#REF!+#REF!+#REF!+#REF!+#REF!+#REF!+#REF!+#REF!+#REF!+#REF!+#REF!+#REF!+#REF!+#REF!+#REF!+#REF!+#REF!+#REF!+#REF!+#REF!+#REF!+#REF!","v":{"$error":"#REF!"}},{"$f":"'9_Per Pupil Summary'!H47","v":4560.0919946952563},{"$f":"#REF!+#REF!+#REF!+#REF!+#REF!+#REF!+#REF!+#REF!+#REF!+#REF!+#REF!+#REF!+#REF!+#REF!+#REF!+#REF!+#REF!+#REF!+#REF!+#REF!+#REF!+#REF!+#REF!+#REF!+#REF!+#REF!+#REF!+#REF!+#REF!+#REF!+#REF!+#REF!+#REF!","v":{"$error":"#REF!"}},{"$f":"#REF!+#REF!+#REF!+#REF!+#REF!+#REF!+#REF!+#REF!+#REF!+#REF!+#REF!+#REF!+#REF!+#REF!+#REF!+#REF!+#REF!+#REF!+#REF!+#REF!+#REF!+#REF!+#REF!+#REF!+#REF!+#REF!+#REF!+#REF!+#REF!+#REF!+#REF!+#REF!+#REF!","v":{"$error":"#REF!"}},{"$f":"'9_Per Pupil Summary'!I47","v":618.06779959386654},{"$f":"#REF!+#REF!+#REF!+#REF!+#REF!+#REF!+#REF!+#REF!+#REF!+#REF!+#REF!+#REF!+#REF!+#REF!+#REF!+#REF!+#REF!+#REF!+#REF!+#REF!+#REF!+#REF!+#REF!+#REF!+#REF!+#REF!+#REF!+#REF!+#REF!+#REF!+#REF!+#REF!+#REF!","v":{"$error":"#REF!"}},{"$f":"#REF!+#REF!+#REF!+#REF!+#REF!+#REF!+#REF!+#REF!+#REF!+#REF!+#REF!+#REF!+#REF!+#REF!+#REF!+#REF!+#REF!+#REF!+#REF!+#REF!+#REF!+#REF!+#REF!+#REF!+#REF!+#REF!+#REF!+#REF!+#REF!+#REF!+#REF!+#REF!+#REF!","v":{"$error":"#REF!"}},{"$f":"'9_Per Pupil Summary'!J47","v":168.5639453437818},{"$f":"#REF!+#REF!+#REF!+#REF!+#REF!+#REF!+#REF!+#REF!+#REF!+#REF!+#REF!+#REF!+#REF!+#REF!+#REF!+#REF!+#REF!+#REF!+#REF!+#REF!+#REF!+#REF!+#REF!+#REF!+#REF!+#REF!+#REF!+#REF!+#REF!+#REF!+#REF!+#REF!+#REF!","v":{"$error":"#REF!"}},{"$f":"#REF!+#REF!+#REF!+#REF!+#REF!+#REF!+#REF!+#REF!+#REF!+#REF!+#REF!+#REF!+#REF!+#REF!+#REF!+#REF!+#REF!+#REF!+#REF!+#REF!+#REF!+#REF!+#REF!+#REF!+#REF!+#REF!+#REF!+#REF!+#REF!+#REF!+#REF!+#REF!+#REF!","v":{"$error":"#REF!"}},{"$f":"'9_Per Pupil Summary'!K47","v":4214.0986335945445},{"$f":"#REF!+#REF!+#REF!+#REF!+#REF!+#REF!+#REF!+#REF!+#REF!+#REF!+#REF!+#REF!+#REF!+#REF!+#REF!+#REF!+#REF!+#REF!+#REF!+#REF!+#REF!+#REF!+#REF!+#REF!+#REF!+#REF!+#REF!+#REF!+#REF!+#REF!+#REF!+#REF!+#REF!","v":{"$error":"#REF!"}},{"$f":"#REF!+#REF!+#REF!+#REF!+#REF!+#REF!+#REF!+#REF!+#REF!+#REF!+#REF!+#REF!+#REF!+#REF!+#REF!+#REF!+#REF!+#REF!+#REF!+#REF!+#REF!+#REF!+#REF!+#REF!+#REF!+#REF!+#REF!+#REF!+#REF!+#REF!+#REF!+#REF!+#REF!","v":{"$error":"#REF!"}},{"$f":"'9_Per Pupil Summary'!L47","v":1685.6394534378178},{"$f":"#REF!+#REF!+#REF!+#REF!+#REF!+#REF!+#REF!+#REF!+#REF!+#REF!+#REF!+#REF!+#REF!+#REF!+#REF!+#REF!+#REF!+#REF!+#REF!+#REF!+#REF!+#REF!+#REF!+#REF!+#REF!+#REF!+#REF!+#REF!+#REF!+#REF!+#REF!+#REF!+#REF!","v":{"$error":"#REF!"}},{"$f":"#REF!+#REF!+#REF!+#REF!+#REF!+#REF!+#REF!+#REF!+#REF!+#REF!+#REF!+#REF!+#REF!+#REF!+#REF!+#REF!+#REF!+#REF!+#REF!+#REF!+#REF!+#REF!+#REF!+#REF!+#REF!+#REF!+#REF!+#REF!+#REF!+#REF!+#REF!+#REF!+#REF!","v":{"$error":"#REF!"}},{"$f":"#REF!+#REF!","v":{"$error":"#REF!"}},{"$f":"#REF!+#REF!+#REF!+#REF!+#REF!+#REF!+#REF!+#REF!+#REF!+#REF!+#REF!+#REF!+#REF!+#REF!+#REF!+#REF!+#REF!+#REF!+#REF!+#REF!+#REF!+#REF!+#REF!+#REF!+#REF!+#REF!+#REF!+#REF!+#REF!+#REF!+#REF!+#REF!+#REF!","v":{"$error":"#REF!"}},{"$f":"#REF!+#REF!+#REF!+#REF!+#REF!+#REF!+#REF!+#REF!+#REF!+#REF!+#REF!+#REF!+#REF!+#REF!+#REF!+#REF!+#REF!+#REF!+#REF!+#REF!+#REF!+#REF!+#REF!+#REF!+#REF!+#REF!+#REF!+#REF!+#REF!+#REF!+#REF!+#REF!+#REF!","v":{"$error":"#REF!"}},{"$f":"#REF!+#REF!+#REF!+#REF!+#REF!+#REF!+#REF!+#REF!+#REF!+#REF!+#REF!+#REF!+#REF!+#REF!+#REF!+#REF!+#REF!+#REF!+#REF!+#REF!+#REF!+#REF!+#REF!+#REF!+#REF!+#REF!+#REF!+#REF!+#REF!+#REF!+#REF!+#REF!+#REF!","v":{"$error":"#REF!"}},{"$f":"#REF!+#REF!+#REF!+#REF!+#REF!+#REF!+#REF!+#REF!+#REF!+#REF!+#REF!+#REF!+#REF!+#REF!+#REF!+#REF!+#REF!+#REF!+#REF!+#REF!+#REF!+#REF!+#REF!+#REF!+#REF!+#REF!+#REF!+#REF!+#REF!+#REF!+#REF!+#REF!+#REF!","v":{"$error":"#REF!"}},{"$f":"#REF!+#REF!+#REF!+#REF!+#REF!+#REF!+#REF!+#REF!+#REF!+#REF!+#REF!+#REF!+#REF!+#REF!+#REF!+#REF!+#REF!+#REF!+#REF!+#REF!+#REF!+#REF!+#REF!+#REF!+#REF!+#REF!+#REF!+#REF!+#REF!+#REF!+#REF!+#REF!+#REF!","v":{"$error":"#REF!"}},{"$f":"#REF!+#REF!+#REF!+#REF!+#REF!+#REF!+#REF!+#REF!+#REF!+#REF!+#REF!+#REF!+#REF!+#REF!+#REF!+#REF!+#REF!+#REF!+#REF!+#REF!+#REF!+#REF!+#REF!+#REF!+#REF!+#REF!+#REF!+#REF!+#REF!+#REF!+#REF!+#REF!+#REF!","v":{"$error":"#REF!"}},{"$f":"#REF!+#REF!+#REF!+#REF!+#REF!+#REF!+#REF!+#REF!+#REF!+#REF!+#REF!+#REF!+#REF!+#REF!+#REF!+#REF!+#REF!+#REF!+#REF!+#REF!+#REF!+#REF!+#REF!+#REF!+#REF!+#REF!+#REF!+#REF!+#REF!+#REF!+#REF!+#REF!+#REF!","v":{"$error":"#REF!"}},{"$f":"#REF!+#REF!+#REF!+#REF!+#REF!+#REF!+#REF!+#REF!+#REF!+#REF!+#REF!+#REF!+#REF!+#REF!+#REF!+#REF!+#REF!+#REF!+#REF!+#REF!+#REF!+#REF!+#REF!+#REF!+#REF!+#REF!+#REF!+#REF!+#REF!+#REF!+#REF!+#REF!+#REF!","v":{"$error":"#REF!"}},{"$f":"#REF!+#REF!+#REF!+#REF!+#REF!+#REF!+#REF!+#REF!+#REF!+#REF!+#REF!+#REF!+#REF!+#REF!+#REF!+#REF!+#REF!+#REF!+#REF!+#REF!+#REF!+#REF!+#REF!+#REF!+#REF!+#REF!+#REF!+#REF!+#REF!+#REF!+#REF!+#REF!+#REF!","v":{"$error":"#REF!"}},{"$f":"#REF!+#REF!+#REF!+#REF!+#REF!+#REF!+#REF!+#REF!+#REF!+#REF!+#REF!+#REF!+#REF!+#REF!+#REF!+#REF!+#REF!+#REF!+#REF!+#REF!+#REF!+#REF!+#REF!+#REF!+#REF!+#REF!+#REF!+#REF!+#REF!+#REF!+#REF!+#REF!+#REF!","v":{"$error":"#REF!"}},{"$f":"#REF!+#REF!+#REF!+#REF!+#REF!+#REF!+#REF!+#REF!+#REF!+#REF!+#REF!+#REF!+#REF!+#REF!+#REF!+#REF!+#REF!+#REF!+#REF!+#REF!+#REF!+#REF!+#REF!+#REF!+#REF!+#REF!+#REF!+#REF!+#REF!+#REF!+#REF!+#REF!+#REF!","v":{"$error":"#REF!"}},{"$f":"#REF!+#REF!+#REF!+#REF!+#REF!+#REF!+#REF!+#REF!+#REF!+#REF!+#REF!+#REF!+#REF!+#REF!+#REF!+#REF!+#REF!+#REF!+#REF!+#REF!+#REF!+#REF!+#REF!+#REF!+#REF!+#REF!+#REF!+#REF!+#REF!+#REF!+#REF!+#REF!+#REF!","v":{"$error":"#REF!"}},{"$f":"'9_Per Pupil Summary'!N47","v":6188},{"$f":"#REF!+#REF!+#REF!+#REF!+#REF!+#REF!+#REF!+#REF!+#REF!+#REF!+#REF!+#REF!+#REF!+#REF!+#REF!+#REF!+#REF!+#REF!+#REF!+#REF!+#REF!+#REF!+#REF!+#REF!+#REF!+#REF!+#REF!+#REF!+#REF!+#REF!+#REF!+#REF!+#REF!","v":{"$error":"#REF!"}},{"$f":"#REF!+#REF!+#REF!+#REF!+#REF!+#REF!+#REF!+#REF!+#REF!+#REF!+#REF!+#REF!+#REF!+#REF!+#REF!+#REF!+#REF!+#REF!+#REF!+#REF!+#REF!+#REF!+#REF!+#REF!+#REF!+#REF!+#REF!+#REF!+#REF!+#REF!+#REF!+#REF!+#REF!","v":{"$error":"#REF!"}},{"$f":"#REF!+#REF!+#REF!+#REF!+#REF!+#REF!+#REF!+#REF!+#REF!+#REF!+#REF!+#REF!+#REF!+#REF!+#REF!+#REF!+#REF!+#REF!+#REF!+#REF!+#REF!+#REF!+#REF!+#REF!+#REF!+#REF!+#REF!+#REF!+#REF!+#REF!+#REF!+#REF!+#REF!","v":{"$error":"#REF!"}},{"$f":"#REF!+#REF!+#REF!+#REF!+#REF!+#REF!+#REF!+#REF!+#REF!+#REF!+#REF!+#REF!+#REF!+#REF!+#REF!+#REF!+#REF!+#REF!+#REF!+#REF!+#REF!+#REF!+#REF!+#REF!+#REF!+#REF!+#REF!+#REF!+#REF!+#REF!+#REF!+#REF!+#REF!","v":{"$error":"#REF!"}},{"$f":"#REF!+#REF!+#REF!+#REF!+#REF!+#REF!+#REF!+#REF!+#REF!+#REF!+#REF!+#REF!+#REF!+#REF!+#REF!+#REF!+#REF!+#REF!+#REF!+#REF!+#REF!+#REF!+#REF!+#REF!+#REF!+#REF!+#REF!+#REF!+#REF!+#REF!+#REF!+#REF!+#REF!","v":{"$error":"#REF!"}},{"$f":"#REF!+#REF!+#REF!+#REF!+#REF!+#REF!+#REF!+#REF!+#REF!+#REF!+#REF!+#REF!+#REF!+#REF!+#REF!+#REF!+#REF!+#REF!+#REF!+#REF!+#REF!+#REF!+#REF!+#REF!+#REF!+#REF!+#REF!+#REF!+#REF!+#REF!+#REF!+#REF!+#REF!","v":{"$error":"#REF!"}},{"$f":"#REF!+#REF!+#REF!+#REF!+#REF!+#REF!+#REF!+#REF!+#REF!+#REF!+#REF!+#REF!+#REF!+#REF!+#REF!+#REF!+#REF!+#REF!+#REF!+#REF!+#REF!+#REF!+#REF!+#REF!+#REF!+#REF!+#REF!+#REF!+#REF!+#REF!+#REF!+#REF!+#REF!","v":{"$error":"#REF!"}},{"$f":"#REF!+#REF!+#REF!+#REF!+#REF!+#REF!+#REF!+#REF!+#REF!+#REF!+#REF!+#REF!+#REF!+#REF!+#REF!+#REF!+#REF!+#REF!+#REF!+#REF!+#REF!+#REF!+#REF!+#REF!+#REF!+#REF!+#REF!+#REF!+#REF!+#REF!+#REF!+#REF!+#REF!","v":{"$error":"#REF!"}},{"$f":"#REF!+#REF!+#REF!+#REF!+#REF!+#REF!+#REF!+#REF!+#REF!+#REF!+#REF!+#REF!+#REF!+#REF!+#REF!+#REF!+#REF!+#REF!+#REF!+#REF!+#REF!+#REF!+#REF!+#REF!+#REF!+#REF!+#REF!+#REF!+#REF!+#REF!+#REF!+#REF!+#REF!","v":{"$error":"#REF!"}},{"$f":"#REF!+#REF!+#REF!+#REF!+#REF!+#REF!+#REF!+#REF!+#REF!+#REF!+#REF!+#REF!+#REF!+#REF!+#REF!+#REF!+#REF!+#REF!+#REF!+#REF!+#REF!+#REF!+#REF!+#REF!+#REF!+#REF!+#REF!+#REF!+#REF!+#REF!+#REF!+#REF!+#REF!","v":{"$error":"#REF!"}},{"$f":"#REF!+#REF!+#REF!+#REF!+#REF!+#REF!+#REF!+#REF!+#REF!+#REF!+#REF!+#REF!+#REF!+#REF!+#REF!+#REF!+#REF!+#REF!+#REF!+#REF!+#REF!+#REF!+#REF!+#REF!+#REF!+#REF!+#REF!+#REF!+#REF!+#REF!+#REF!+#REF!+#REF!","v":{"$error":"#REF!"}},{"$f":"#REF!+#REF!+#REF!+#REF!+#REF!+#REF!+#REF!+#REF!+#REF!+#REF!+#REF!+#REF!+#REF!+#REF!+#REF!+#REF!+#REF!+#REF!+#REF!+#REF!+#REF!+#REF!+#REF!+#REF!+#REF!+#REF!+#REF!+#REF!+#REF!+#REF!+#REF!+#REF!+#REF!","v":{"$error":"#REF!"}},{"$f":"#REF!+#REF!+#REF!+#REF!+#REF!+#REF!+#REF!+#REF!+#REF!+#REF!+#REF!+#REF!+#REF!+#REF!+#REF!+#REF!+#REF!+#REF!+#REF!+#REF!+#REF!+#REF!+#REF!+#REF!+#REF!+#REF!+#REF!+#REF!+#REF!+#REF!+#REF!+#REF!+#REF!","v":{"$error":"#REF!"}},{"$f":"#REF!+#REF!+#REF!+#REF!+#REF!+#REF!+#REF!+#REF!+#REF!+#REF!+#REF!+#REF!+#REF!+#REF!+#REF!+#REF!+#REF!+#REF!+#REF!+#REF!+#REF!+#REF!+#REF!+#REF!+#REF!+#REF!+#REF!+#REF!+#REF!+#REF!+#REF!+#REF!+#REF!","v":{"$error":"#REF!"}},{"$error":"#REF!"},{"$error":"#REF!"},{"$f":"#REF!+#REF!+#REF!+#REF!+#REF!+#REF!+#REF!+#REF!+#REF!+#REF!+#REF!+#REF!+#REF!+#REF!+#REF!+#REF!+#REF!+#REF!+#REF!+#REF!+#REF!+#REF!+#REF!+#REF!+#REF!+#REF!+#REF!+#REF!+#REF!+#REF!+#REF!+#REF!+#REF!","v":{"$error":"#REF!"}},null,{"$error":"#REF!"}]
[43,"Sabine",{"$f":"#REF!+#REF!+#REF!+#REF!+#REF!+#REF!+#REF!+#REF!+#REF!+#REF!+#REF!+#REF!+#REF!+#REF!+#REF!+#REF!+#REF!+#REF!+#REF!+#REF!+#REF!+#REF!+#REF!+#REF!+#REF!+#REF!+#REF!+#REF!+#REF!+#REF!+#REF!+#REF!+#REF!","v":{"$error":"#REF!"}},{"$f":"'9_Per Pupil Summary'!H48","v":4390.9289510023782},{"$f":"#REF!+#REF!+#REF!+#REF!+#REF!+#REF!+#REF!+#REF!+#REF!+#REF!+#REF!+#REF!+#REF!+#REF!+#REF!+#REF!+#REF!+#REF!+#REF!+#REF!+#REF!+#REF!+#REF!+#REF!+#REF!+#REF!+#REF!+#REF!+#REF!+#REF!+#REF!+#REF!+#REF!","v":{"$error":"#REF!"}},{"$f":"#REF!+#REF!+#REF!+#REF!+#REF!+#REF!+#REF!+#REF!+#REF!+#REF!+#REF!+#REF!+#REF!+#REF!+#REF!+#REF!+#REF!+#REF!+#REF!+#REF!+#REF!+#REF!+#REF!+#REF!+#REF!+#REF!+#REF!+#REF!+#REF!+#REF!+#REF!+#REF!+#REF!","v":{"$error":"#REF!"}},{"$f":"'9_Per Pupil Summary'!I48","v":596.83936385139577},{"$f":"#REF!+#REF!+#REF!+#REF!+#REF!+#REF!+#REF!+#REF!+#REF!+#REF!+#REF!+#REF!+#REF!+#REF!+#REF!+#REF!+#REF!+#REF!+#REF!+#REF!+#REF!+#REF!+#REF!+#REF!+#REF!+#REF!+#REF!+#REF!+#REF!+#REF!+#REF!+#REF!+#REF!","v":{"$error":"#REF!"}},{"$f":"#REF!+#REF!+#REF!+#REF!+#REF!+#REF!+#REF!+#REF!+#REF!+#REF!+#REF!+#REF!+#REF!+#REF!+#REF!+#REF!+#REF!+#REF!+#REF!+#REF!+#REF!+#REF!+#REF!+#REF!+#REF!+#REF!+#REF!+#REF!+#REF!+#REF!+#REF!+#REF!+#REF!","v":{"$error":"#REF!"}},{"$f":"'9_Per Pupil Summary'!J48","v":162.77437195947158},{"$f":"#REF!+#REF!+#REF!+#REF!+#REF!+#REF!+#REF!+#REF!+#REF!+#REF!+#REF!+#REF!+#REF!+#REF!+#REF!+#REF!+#REF!+#REF!+#REF!+#REF!+#REF!+#REF!+#REF!+#REF!+#REF!+#REF!+#REF!+#REF!+#REF!+#REF!+#REF!+#REF!+#REF!","v":{"$error":"#REF!"}},{"$f":"#REF!+#REF!+#REF!+#REF!+#REF!+#REF!+#REF!+#REF!+#REF!+#REF!+#REF!+#REF!+#REF!+#REF!+#REF!+#REF!+#REF!+#REF!+#REF!+#REF!+#REF!+#REF!+#REF!+#REF!+#REF!+#REF!+#REF!+#REF!+#REF!+#REF!+#REF!+#REF!+#REF!","v":{"$error":"#REF!"}},{"$f":"'9_Per Pupil Summary'!K48","v":4069.3592989867902},{"$f":"#REF!+#REF!+#REF!+#REF!+#REF!+#REF!+#REF!+#REF!+#REF!+#REF!+#REF!+#REF!+#REF!+#REF!+#REF!+#REF!+#REF!+#REF!+#REF!+#REF!+#REF!+#REF!+#REF!+#REF!+#REF!+#REF!+#REF!+#REF!+#REF!+#REF!+#REF!+#REF!+#REF!","v":{"$error":"#REF!"}},{"$f":"#REF!+#REF!+#REF!+#REF!+#REF!+#REF!+#REF!+#REF!+#REF!+#REF!+#REF!+#REF!+#REF!+#REF!+#REF!+#REF!+#REF!+#REF!+#REF!+#REF!+#REF!+#REF!+#REF!+#REF!+#REF!+#REF!+#REF!+#REF!+#REF!+#REF!+#REF!+#REF!+#REF!","v":{"$error":"#REF!"}},{"$f":"'9_Per Pupil Summary'!L48","v":1627.7437195947159},{"$f":"#REF!+#REF!+#REF!+#REF!+#REF!+#REF!+#REF!+#REF!+#REF!+#REF!+#REF!+#REF!+#REF!+#REF!+#REF!+#REF!+#REF!+#REF!+#REF!+#REF!+#REF!+#REF!+#REF!+#REF!+#REF!+#REF!+#REF!+#REF!+#REF!+#REF!+#REF!+#REF!+#REF!","v":{"$error":"#REF!"}},{"$f":"#REF!+#REF!+#REF!+#REF!+#REF!+#REF!+#REF!+#REF!+#REF!+#REF!+#REF!+#REF!+#REF!+#REF!+#REF!+#REF!+#REF!+#REF!+#REF!+#REF!+#REF!+#REF!+#REF!+#REF!+#REF!+#REF!+#REF!+#REF!+#REF!+#REF!+#REF!+#REF!+#REF!","v":{"$error":"#REF!"}},{"$f":"#REF!+#REF!","v":{"$error":"#REF!"}},{"$f":"#REF!+#REF!+#REF!+#REF!+#REF!+#REF!+#REF!+#REF!+#REF!+#REF!+#REF!+#REF!+#REF!+#REF!+#REF!+#REF!+#REF!+#REF!+#REF!+#REF!+#REF!+#REF!+#REF!+#REF!+#REF!+#REF!+#REF!+#REF!+#REF!+#REF!+#REF!+#REF!+#REF!","v":{"$error":"#REF!"}},{"$f":"#REF!+#REF!+#REF!+#REF!+#REF!+#REF!+#REF!+#REF!+#REF!+#REF!+#REF!+#REF!+#REF!+#REF!+#REF!+#REF!+#REF!+#REF!+#REF!+#REF!+#REF!+#REF!+#REF!+#REF!+#REF!+#REF!+#REF!+#REF!+#REF!+#REF!+#REF!+#REF!+#REF!","v":{"$error":"#REF!"}},{"$f":"#REF!+#REF!+#REF!+#REF!+#REF!+#REF!+#REF!+#REF!+#REF!+#REF!+#REF!+#REF!+#REF!+#REF!+#REF!+#REF!+#REF!+#REF!+#REF!+#REF!+#REF!+#REF!+#REF!+#REF!+#REF!+#REF!+#REF!+#REF!+#REF!+#REF!+#REF!+#REF!+#REF!","v":{"$error":"#REF!"}},{"$f":"#REF!+#REF!+#REF!+#REF!+#REF!+#REF!+#REF!+#REF!+#REF!+#REF!+#REF!+#REF!+#REF!+#REF!+#REF!+#REF!+#REF!+#REF!+#REF!+#REF!+#REF!+#REF!+#REF!+#REF!+#REF!+#REF!+#REF!+#REF!+#REF!+#REF!+#REF!+#REF!+#REF!","v":{"$error":"#REF!"}},{"$f":"#REF!+#REF!+#REF!+#REF!+#REF!+#REF!+#REF!+#REF!+#REF!+#REF!+#REF!+#REF!+#REF!+#REF!+#REF!+#REF!+#REF!+#REF!+#REF!+#REF!+#REF!+#REF!+#REF!+#REF!+#REF!+#REF!+#REF!+#REF!+#REF!+#REF!+#REF!+#REF!+#REF!","v":{"$error":"#REF!"}},{"$f":"#REF!+#REF!+#REF!+#REF!+#REF!+#REF!+#REF!+#REF!+#REF!+#REF!+#REF!+#REF!+#REF!+#REF!+#REF!+#REF!+#REF!+#REF!+#REF!+#REF!+#REF!+#REF!+#REF!+#REF!+#REF!+#REF!+#REF!+#REF!+#REF!+#REF!+#REF!+#REF!+#REF!","v":{"$error":"#REF!"}},{"$f":"#REF!+#REF!+#REF!+#REF!+#REF!+#REF!+#REF!+#REF!+#REF!+#REF!+#REF!+#REF!+#REF!+#REF!+#REF!+#REF!+#REF!+#REF!+#REF!+#REF!+#REF!+#REF!+#REF!+#REF!+#REF!+#REF!+#REF!+#REF!+#REF!+#REF!+#REF!+#REF!+#REF!","v":{"$error":"#REF!"}},{"$f":"#REF!+#REF!+#REF!+#REF!+#REF!+#REF!+#REF!+#REF!+#REF!+#REF!+#REF!+#REF!+#REF!+#REF!+#REF!+#REF!+#REF!+#REF!+#REF!+#REF!+#REF!+#REF!+#REF!+#REF!+#REF!+#REF!+#REF!+#REF!+#REF!+#REF!+#REF!+#REF!+#REF!","v":{"$error":"#REF!"}},{"$f":"#REF!+#REF!+#REF!+#REF!+#REF!+#REF!+#REF!+#REF!+#REF!+#REF!+#REF!+#REF!+#REF!+#REF!+#REF!+#REF!+#REF!+#REF!+#REF!+#REF!+#REF!+#REF!+#REF!+#REF!+#REF!+#REF!+#REF!+#REF!+#REF!+#REF!+#REF!+#REF!+#REF!","v":{"$error":"#REF!"}},{"$f":"#REF!+#REF!+#REF!+#REF!+#REF!+#REF!+#REF!+#REF!+#REF!+#REF!+#REF!+#REF!+#REF!+#REF!+#REF!+#REF!+#REF!+#REF!+#REF!+#REF!+#REF!+#REF!+#REF!+#REF!+#REF!+#REF!+#REF!+#REF!+#REF!+#REF!+#REF!+#REF!+#REF!","v":{"$error":"#REF!"}},{"$f":"#REF!+#REF!+#REF!+#REF!+#REF!+#REF!+#REF!+#REF!+#REF!+#REF!+#REF!+#REF!+#REF!+#REF!+#REF!+#REF!+#REF!+#REF!+#REF!+#REF!+#REF!+#REF!+#REF!+#REF!+#REF!+#REF!+#REF!+#REF!+#REF!+#REF!+#REF!+#REF!+#REF!","v":{"$error":"#REF!"}},{"$f":"#REF!+#REF!+#REF!+#REF!+#REF!+#REF!+#REF!+#REF!+#REF!+#REF!+#REF!+#REF!+#REF!+#REF!+#REF!+#REF!+#REF!+#REF!+#REF!+#REF!+#REF!+#REF!+#REF!+#REF!+#REF!+#REF!+#REF!+#REF!+#REF!+#REF!+#REF!+#REF!+#REF!","v":{"$error":"#REF!"}},{"$f":"'9_Per Pupil Summary'!N48","v":6484},{"$f":"#REF!+#REF!+#REF!+#REF!+#REF!+#REF!+#REF!+#REF!+#REF!+#REF!+#REF!+#REF!+#REF!+#REF!+#REF!+#REF!+#REF!+#REF!+#REF!+#REF!+#REF!+#REF!+#REF!+#REF!+#REF!+#REF!+#REF!+#REF!+#REF!+#REF!+#REF!+#REF!+#REF!","v":{"$error":"#REF!"}},{"$f":"#REF!+#REF!+#REF!+#REF!+#REF!+#REF!+#REF!+#REF!+#REF!+#REF!+#REF!+#REF!+#REF!+#REF!+#REF!+#REF!+#REF!+#REF!+#REF!+#REF!+#REF!+#REF!+#REF!+#REF!+#REF!+#REF!+#REF!+#REF!+#REF!+#REF!+#REF!+#REF!+#REF!","v":{"$error":"#REF!"}},{"$f":"#REF!+#REF!+#REF!+#REF!+#REF!+#REF!+#REF!+#REF!+#REF!+#REF!+#REF!+#REF!+#REF!+#REF!+#REF!+#REF!+#REF!+#REF!+#REF!+#REF!+#REF!+#REF!+#REF!+#REF!+#REF!+#REF!+#REF!+#REF!+#REF!+#REF!+#REF!+#REF!+#REF!","v":{"$error":"#REF!"}},{"$f":"#REF!+#REF!+#REF!+#REF!+#REF!+#REF!+#REF!+#REF!+#REF!+#REF!+#REF!+#REF!+#REF!+#REF!+#REF!+#REF!+#REF!+#REF!+#REF!+#REF!+#REF!+#REF!+#REF!+#REF!+#REF!+#REF!+#REF!+#REF!+#REF!+#REF!+#REF!+#REF!+#REF!","v":{"$error":"#REF!"}},{"$f":"#REF!+#REF!+#REF!+#REF!+#REF!+#REF!+#REF!+#REF!+#REF!+#REF!+#REF!+#REF!+#REF!+#REF!+#REF!+#REF!+#REF!+#REF!+#REF!+#REF!+#REF!+#REF!+#REF!+#REF!+#REF!+#REF!+#REF!+#REF!+#REF!+#REF!+#REF!+#REF!+#REF!","v":{"$error":"#REF!"}},{"$f":"#REF!+#REF!+#REF!+#REF!+#REF!+#REF!+#REF!+#REF!+#REF!+#REF!+#REF!+#REF!+#REF!+#REF!+#REF!+#REF!+#REF!+#REF!+#REF!+#REF!+#REF!+#REF!+#REF!+#REF!+#REF!+#REF!+#REF!+#REF!+#REF!+#REF!+#REF!+#REF!+#REF!","v":{"$error":"#REF!"}},{"$f":"#REF!+#REF!+#REF!+#REF!+#REF!+#REF!+#REF!+#REF!+#REF!+#REF!+#REF!+#REF!+#REF!+#REF!+#REF!+#REF!+#REF!+#REF!+#REF!+#REF!+#REF!+#REF!+#REF!+#REF!+#REF!+#REF!+#REF!+#REF!+#REF!+#REF!+#REF!+#REF!+#REF!","v":{"$error":"#REF!"}},{"$f":"#REF!+#REF!+#REF!+#REF!+#REF!+#REF!+#REF!+#REF!+#REF!+#REF!+#REF!+#REF!+#REF!+#REF!+#REF!+#REF!+#REF!+#REF!+#REF!+#REF!+#REF!+#REF!+#REF!+#REF!+#REF!+#REF!+#REF!+#REF!+#REF!+#REF!+#REF!+#REF!+#REF!","v":{"$error":"#REF!"}},{"$f":"#REF!+#REF!+#REF!+#REF!+#REF!+#REF!+#REF!+#REF!+#REF!+#REF!+#REF!+#REF!+#REF!+#REF!+#REF!+#REF!+#REF!+#REF!+#REF!+#REF!+#REF!+#REF!+#REF!+#REF!+#REF!+#REF!+#REF!+#REF!+#REF!+#REF!+#REF!+#REF!+#REF!","v":{"$error":"#REF!"}},{"$f":"#REF!+#REF!+#REF!+#REF!+#REF!+#REF!+#REF!+#REF!+#REF!+#REF!+#REF!+#REF!+#REF!+#REF!+#REF!+#REF!+#REF!+#REF!+#REF!+#REF!+#REF!+#REF!+#REF!+#REF!+#REF!+#REF!+#REF!+#REF!+#REF!+#REF!+#REF!+#REF!+#REF!","v":{"$error":"#REF!"}},{"$f":"#REF!+#REF!+#REF!+#REF!+#REF!+#REF!+#REF!+#REF!+#REF!+#REF!+#REF!+#REF!+#REF!+#REF!+#REF!+#REF!+#REF!+#REF!+#REF!+#REF!+#REF!+#REF!+#REF!+#REF!+#REF!+#REF!+#REF!+#REF!+#REF!+#REF!+#REF!+#REF!+#REF!","v":{"$error":"#REF!"}},{"$f":"#REF!+#REF!+#REF!+#REF!+#REF!+#REF!+#REF!+#REF!+#REF!+#REF!+#REF!+#REF!+#REF!+#REF!+#REF!+#REF!+#REF!+#REF!+#REF!+#REF!+#REF!+#REF!+#REF!+#REF!+#REF!+#REF!+#REF!+#REF!+#REF!+#REF!+#REF!+#REF!+#REF!","v":{"$error":"#REF!"}},{"$f":"#REF!+#REF!+#REF!+#REF!+#REF!+#REF!+#REF!+#REF!+#REF!+#REF!+#REF!+#REF!+#REF!+#REF!+#REF!+#REF!+#REF!+#REF!+#REF!+#REF!+#REF!+#REF!+#REF!+#REF!+#REF!+#REF!+#REF!+#REF!+#REF!+#REF!+#REF!+#REF!+#REF!","v":{"$error":"#REF!"}},{"$f":"#REF!+#REF!+#REF!+#REF!+#REF!+#REF!+#REF!+#REF!+#REF!+#REF!+#REF!+#REF!+#REF!+#REF!+#REF!+#REF!+#REF!+#REF!+#REF!+#REF!+#REF!+#REF!+#REF!+#REF!+#REF!+#REF!+#REF!+#REF!+#REF!+#REF!+#REF!+#REF!+#REF!","v":{"$error":"#REF!"}},{"$error":"#REF!"},{"$error":"#REF!"},{"$f":"#REF!+#REF!+#REF!+#REF!+#REF!+#REF!+#REF!+#REF!+#REF!+#REF!+#REF!+#REF!+#REF!+#REF!+#REF!+#REF!+#REF!+#REF!+#REF!+#REF!+#REF!+#REF!+#REF!+#REF!+#REF!+#REF!+#REF!+#REF!+#REF!+#REF!+#REF!+#REF!+#REF!","v":{"$error":"#REF!"}},null,{"$error":"#REF!"}]
[44,"St. Bernard",{"$f":"#REF!+#REF!+#REF!+#REF!+#REF!+#REF!+#REF!+#REF!+#REF!+#REF!+#REF!+#REF!+#REF!+#REF!+#REF!+#REF!+#REF!+#REF!+#REF!+#REF!+#REF!+#REF!+#REF!+#REF!+#REF!+#REF!+#REF!+#REF!+#REF!+#REF!+#REF!+#REF!+#REF!","v":{"$error":"#REF!"}},{"$f":"'9_Per Pupil Summary'!H49","v":4687.4483606331905},{"$f":"#REF!+#REF!+#REF!+#REF!+#REF!+#REF!+#REF!+#REF!+#REF!+#REF!+#REF!+#REF!+#REF!+#REF!+#REF!+#REF!+#REF!+#REF!+#REF!+#REF!+#REF!+#REF!+#REF!+#REF!+#REF!+#REF!+#REF!+#REF!+#REF!+#REF!+#REF!+#REF!+#REF!","v":{"$error":"#REF!"}},{"$f":"#REF!+#REF!+#REF!+#REF!+#REF!+#REF!+#REF!+#REF!+#REF!+#REF!+#REF!+#REF!+#REF!+#REF!+#REF!+#REF!+#REF!+#REF!+#REF!+#REF!+#REF!+#REF!+#REF!+#REF!+#REF!+#REF!+#REF!+#REF!+#REF!+#REF!+#REF!+#REF!+#REF!","v":{"$error":"#REF!"}},{"$f":"'9_Per Pupil Summary'!I49","v":632.4726109369351},{"$f":"#REF!+#REF!+#REF!+#REF!+#REF!+#REF!+#REF!+#REF!+#REF!+#REF!+#REF!+#REF!+#REF!+#REF!+#REF!+#REF!+#REF!+#REF!+#REF!+#REF!+#REF!+#REF!+#REF!+#REF!+#REF!+#REF!+#REF!+#REF!+#REF!+#REF!+#REF!+#REF!+#REF!","v":{"$error":"#REF!"}},{"$f":"#REF!+#REF!+#REF!+#REF!+#REF!+#REF!+#REF!+#REF!+#REF!+#REF!+#REF!+#REF!+#REF!+#REF!+#REF!+#REF!+#REF!+#REF!+#REF!+#REF!+#REF!+#REF!+#REF!+#REF!+#REF!+#REF!+#REF!+#REF!+#REF!+#REF!+#REF!+#REF!+#REF!","v":{"$error":"#REF!"}},{"$f":"'9_Per Pupil Summary'!J49","v":172.49253025552775},{"$f":"#REF!+#REF!+#REF!+#REF!+#REF!+#REF!+#REF!+#REF!+#REF!+#REF!+#REF!+#REF!+#REF!+#REF!+#REF!+#REF!+#REF!+#REF!+#REF!+#REF!+#REF!+#REF!+#REF!+#REF!+#REF!+#REF!+#REF!+#REF!+#REF!+#REF!+#REF!+#REF!+#REF!","v":{"$error":"#REF!"}},{"$f":"#REF!+#REF!+#REF!+#REF!+#REF!+#REF!+#REF!+#REF!+#REF!+#REF!+#REF!+#REF!+#REF!+#REF!+#REF!+#REF!+#REF!+#REF!+#REF!+#REF!+#REF!+#REF!+#REF!+#REF!+#REF!+#REF!+#REF!+#REF!+#REF!+#REF!+#REF!+#REF!+#REF!","v":{"$error":"#REF!"}},{"$f":"'9_Per Pupil Summary'!K49","v":4312.3132563881936},{"$f":"#REF!+#REF!+#REF!+#REF!+#REF!+#REF!+#REF!+#REF!+#REF!+#REF!+#REF!+#REF!+#REF!+#REF!+#REF!+#REF!+#REF!+#REF!+#REF!+#REF!+#REF!+#REF!+#REF!+#REF!+#REF!+#REF!+#REF!+#REF!+#REF!+#REF!+#REF!+#REF!+#REF!","v":{"$error":"#REF!"}},{"$f":"#REF!+#REF!+#REF!+#REF!+#REF!+#REF!+#REF!+#REF!+#REF!+#REF!+#REF!+#REF!+#REF!+#REF!+#REF!+#REF!+#REF!+#REF!+#REF!+#REF!+#REF!+#REF!+#REF!+#REF!+#REF!+#REF!+#REF!+#REF!+#REF!+#REF!+#REF!+#REF!+#REF!","v":{"$error":"#REF!"}},{"$f":"'9_Per Pupil Summary'!L49","v":1724.9253025552773},{"$f":"#REF!+#REF!+#REF!+#REF!+#REF!+#REF!+#REF!+#REF!+#REF!+#REF!+#REF!+#REF!+#REF!+#REF!+#REF!+#REF!+#REF!+#REF!+#REF!+#REF!+#REF!+#REF!+#REF!+#REF!+#REF!+#REF!+#REF!+#REF!+#REF!+#REF!+#REF!+#REF!+#REF!","v":{"$error":"#REF!"}},{"$f":"#REF!+#REF!+#REF!+#REF!+#REF!+#REF!+#REF!+#REF!+#REF!+#REF!+#REF!+#REF!+#REF!+#REF!+#REF!+#REF!+#REF!+#REF!+#REF!+#REF!+#REF!+#REF!+#REF!+#REF!+#REF!+#REF!+#REF!+#REF!+#REF!+#REF!+#REF!+#REF!+#REF!","v":{"$error":"#REF!"}},{"$f":"#REF!+#REF!","v":{"$error":"#REF!"}},{"$f":"#REF!+#REF!+#REF!+#REF!+#REF!+#REF!+#REF!+#REF!+#REF!+#REF!+#REF!+#REF!+#REF!+#REF!+#REF!+#REF!+#REF!+#REF!+#REF!+#REF!+#REF!+#REF!+#REF!+#REF!+#REF!+#REF!+#REF!+#REF!+#REF!+#REF!+#REF!+#REF!+#REF!","v":{"$error":"#REF!"}},{"$f":"#REF!+#REF!+#REF!+#REF!+#REF!+#REF!+#REF!+#REF!+#REF!+#REF!+#REF!+#REF!+#REF!+#REF!+#REF!+#REF!+#REF!+#REF!+#REF!+#REF!+#REF!+#REF!+#REF!+#REF!+#REF!+#REF!+#REF!+#REF!+#REF!+#REF!+#REF!+#REF!+#REF!","v":{"$error":"#REF!"}},{"$f":"#REF!+#REF!+#REF!+#REF!+#REF!+#REF!+#REF!+#REF!+#REF!+#REF!+#REF!+#REF!+#REF!+#REF!+#REF!+#REF!+#REF!+#REF!+#REF!+#REF!+#REF!+#REF!+#REF!+#REF!+#REF!+#REF!+#REF!+#REF!+#REF!+#REF!+#REF!+#REF!+#REF!","v":{"$error":"#REF!"}},{"$f":"#REF!+#REF!+#REF!+#REF!+#REF!+#REF!+#REF!+#REF!+#REF!+#REF!+#REF!+#REF!+#REF!+#REF!+#REF!+#REF!+#REF!+#REF!+#REF!+#REF!+#REF!+#REF!+#REF!+#REF!+#REF!+#REF!+#REF!+#REF!+#REF!+#REF!+#REF!+#REF!+#REF!","v":{"$error":"#REF!"}},{"$f":"#REF!+#REF!+#REF!+#REF!+#REF!+#REF!+#REF!+#REF!+#REF!+#REF!+#REF!+#REF!+#REF!+#REF!+#REF!+#REF!+#REF!+#REF!+#REF!+#REF!+#REF!+#REF!+#REF!+#REF!+#REF!+#REF!+#REF!+#REF!+#REF!+#REF!+#REF!+#REF!+#REF!","v":{"$error":"#REF!"}},{"$f":"#REF!+#REF!+#REF!+#REF!+#REF!+#REF!+#REF!+#REF!+#REF!+#REF!+#REF!+#REF!+#REF!+#REF!+#REF!+#REF!+#REF!+#REF!+#REF!+#REF!+#REF!+#REF!+#REF!+#REF!+#REF!+#REF!+#REF!+#REF!+#REF!+#REF!+#REF!+#REF!+#REF!","v":{"$error":"#REF!"}},{"$f":"#REF!+#REF!+#REF!+#REF!+#REF!+#REF!+#REF!+#REF!+#REF!+#REF!+#REF!+#REF!+#REF!+#REF!+#REF!+#REF!+#REF!+#REF!+#REF!+#REF!+#REF!+#REF!+#REF!+#REF!+#REF!+#REF!+#REF!+#REF!+#REF!+#REF!+#REF!+#REF!+#REF!","v":{"$error":"#REF!"}},{"$f":"#REF!+#REF!+#REF!+#REF!+#REF!+#REF!+#REF!+#REF!+#REF!+#REF!+#REF!+#REF!+#REF!+#REF!+#REF!+#REF!+#REF!+#REF!+#REF!+#REF!+#REF!+#REF!+#REF!+#REF!+#REF!+#REF!+#REF!+#REF!+#REF!+#REF!+#REF!+#REF!+#REF!","v":{"$error":"#REF!"}},{"$f":"#REF!+#REF!+#REF!+#REF!+#REF!+#REF!+#REF!+#REF!+#REF!+#REF!+#REF!+#REF!+#REF!+#REF!+#REF!+#REF!+#REF!+#REF!+#REF!+#REF!+#REF!+#REF!+#REF!+#REF!+#REF!+#REF!+#REF!+#REF!+#REF!+#REF!+#REF!+#REF!+#REF!","v":{"$error":"#REF!"}},{"$f":"#REF!+#REF!+#REF!+#REF!+#REF!+#REF!+#REF!+#REF!+#REF!+#REF!+#REF!+#REF!+#REF!+#REF!+#REF!+#REF!+#REF!+#REF!+#REF!+#REF!+#REF!+#REF!+#REF!+#REF!+#REF!+#REF!+#REF!+#REF!+#REF!+#REF!+#REF!+#REF!+#REF!","v":{"$error":"#REF!"}},{"$f":"#REF!+#REF!+#REF!+#REF!+#REF!+#REF!+#REF!+#REF!+#REF!+#REF!+#REF!+#REF!+#REF!+#REF!+#REF!+#REF!+#REF!+#REF!+#REF!+#REF!+#REF!+#REF!+#REF!+#REF!+#REF!+#REF!+#REF!+#REF!+#REF!+#REF!+#REF!+#REF!+#REF!","v":{"$error":"#REF!"}},{"$f":"#REF!+#REF!+#REF!+#REF!+#REF!+#REF!+#REF!+#REF!+#REF!+#REF!+#REF!+#REF!+#REF!+#REF!+#REF!+#REF!+#REF!+#REF!+#REF!+#REF!+#REF!+#REF!+#REF!+#REF!+#REF!+#REF!+#REF!+#REF!+#REF!+#REF!+#REF!+#REF!+#REF!","v":{"$error":"#REF!"}},{"$f":"'9_Per Pupil Summary'!N49","v":5414},{"$f":"#REF!+#REF!+#REF!+#REF!+#REF!+#REF!+#REF!+#REF!+#REF!+#REF!+#REF!+#REF!+#REF!+#REF!+#REF!+#REF!+#REF!+#REF!+#REF!+#REF!+#REF!+#REF!+#REF!+#REF!+#REF!+#REF!+#REF!+#REF!+#REF!+#REF!+#REF!+#REF!+#REF!","v":{"$error":"#REF!"}},{"$f":"#REF!+#REF!+#REF!+#REF!+#REF!+#REF!+#REF!+#REF!+#REF!+#REF!+#REF!+#REF!+#REF!+#REF!+#REF!+#REF!+#REF!+#REF!+#REF!+#REF!+#REF!+#REF!+#REF!+#REF!+#REF!+#REF!+#REF!+#REF!+#REF!+#REF!+#REF!+#REF!+#REF!","v":{"$error":"#REF!"}},{"$f":"#REF!+#REF!+#REF!+#REF!+#REF!+#REF!+#REF!+#REF!+#REF!+#REF!+#REF!+#REF!+#REF!+#REF!+#REF!+#REF!+#REF!+#REF!+#REF!+#REF!+#REF!+#REF!+#REF!+#REF!+#REF!+#REF!+#REF!+#REF!+#REF!+#REF!+#REF!+#REF!+#REF!","v":{"$error":"#REF!"}},{"$f":"#REF!+#REF!+#REF!+#REF!+#REF!+#REF!+#REF!+#REF!+#REF!+#REF!+#REF!+#REF!+#REF!+#REF!+#REF!+#REF!+#REF!+#REF!+#REF!+#REF!+#REF!+#REF!+#REF!+#REF!+#REF!+#REF!+#REF!+#REF!+#REF!+#REF!+#REF!+#REF!+#REF!","v":{"$error":"#REF!"}},{"$f":"#REF!+#REF!+#REF!+#REF!+#REF!+#REF!+#REF!+#REF!+#REF!+#REF!+#REF!+#REF!+#REF!+#REF!+#REF!+#REF!+#REF!+#REF!+#REF!+#REF!+#REF!+#REF!+#REF!+#REF!+#REF!+#REF!+#REF!+#REF!+#REF!+#REF!+#REF!+#REF!+#REF!","v":{"$error":"#REF!"}},{"$f":"#REF!+#REF!+#REF!+#REF!+#REF!+#REF!+#REF!+#REF!+#REF!+#REF!+#REF!+#REF!+#REF!+#REF!+#REF!+#REF!+#REF!+#REF!+#REF!+#REF!+#REF!+#REF!+#REF!+#REF!+#REF!+#REF!+#REF!+#REF!+#REF!+#REF!+#REF!+#REF!+#REF!","v":{"$error":"#REF!"}},{"$f":"#REF!+#REF!+#REF!+#REF!+#REF!+#REF!+#REF!+#REF!+#REF!+#REF!+#REF!+#REF!+#REF!+#REF!+#REF!+#REF!+#REF!+#REF!+#REF!+#REF!+#REF!+#REF!+#REF!+#REF!+#REF!+#REF!+#REF!+#REF!+#REF!+#REF!+#REF!+#REF!+#REF!","v":{"$error":"#REF!"}},{"$f":"#REF!+#REF!+#REF!+#REF!+#REF!+#REF!+#REF!+#REF!+#REF!+#REF!+#REF!+#REF!+#REF!+#REF!+#REF!+#REF!+#REF!+#REF!+#REF!+#REF!+#REF!+#REF!+#REF!+#REF!+#REF!+#REF!+#REF!+#REF!+#REF!+#REF!+#REF!+#REF!+#REF!","v":{"$error":"#REF!"}},{"$f":"#REF!+#REF!+#REF!+#REF!+#REF!+#REF!+#REF!+#REF!+#REF!+#REF!+#REF!+#REF!+#REF!+#REF!+#REF!+#REF!+#REF!+#REF!+#REF!+#REF!+#REF!+#REF!+#REF!+#REF!+#REF!+#REF!+#REF!+#REF!+#REF!+#REF!+#REF!+#REF!+#REF!","v":{"$error":"#REF!"}},{"$f":"#REF!+#REF!+#REF!+#REF!+#REF!+#REF!+#REF!+#REF!+#REF!+#REF!+#REF!+#REF!+#REF!+#REF!+#REF!+#REF!+#REF!+#REF!+#REF!+#REF!+#REF!+#REF!+#REF!+#REF!+#REF!+#REF!+#REF!+#REF!+#REF!+#REF!+#REF!+#REF!+#REF!","v":{"$error":"#REF!"}},{"$f":"#REF!+#REF!+#REF!+#REF!+#REF!+#REF!+#REF!+#REF!+#REF!+#REF!+#REF!+#REF!+#REF!+#REF!+#REF!+#REF!+#REF!+#REF!+#REF!+#REF!+#REF!+#REF!+#REF!+#REF!+#REF!+#REF!+#REF!+#REF!+#REF!+#REF!+#REF!+#REF!+#REF!","v":{"$error":"#REF!"}},{"$f":"#REF!+#REF!+#REF!+#REF!+#REF!+#REF!+#REF!+#REF!+#REF!+#REF!+#REF!+#REF!+#REF!+#REF!+#REF!+#REF!+#REF!+#REF!+#REF!+#REF!+#REF!+#REF!+#REF!+#REF!+#REF!+#REF!+#REF!+#REF!+#REF!+#REF!+#REF!+#REF!+#REF!","v":{"$error":"#REF!"}},{"$f":"#REF!+#REF!+#REF!+#REF!+#REF!+#REF!+#REF!+#REF!+#REF!+#REF!+#REF!+#REF!+#REF!+#REF!+#REF!+#REF!+#REF!+#REF!+#REF!+#REF!+#REF!+#REF!+#REF!+#REF!+#REF!+#REF!+#REF!+#REF!+#REF!+#REF!+#REF!+#REF!+#REF!","v":{"$error":"#REF!"}},{"$f":"#REF!+#REF!+#REF!+#REF!+#REF!+#REF!+#REF!+#REF!+#REF!+#REF!+#REF!+#REF!+#REF!+#REF!+#REF!+#REF!+#REF!+#REF!+#REF!+#REF!+#REF!+#REF!+#REF!+#REF!+#REF!+#REF!+#REF!+#REF!+#REF!+#REF!+#REF!+#REF!+#REF!","v":{"$error":"#REF!"}},{"$error":"#REF!"},{"$error":"#REF!"},{"$f":"#REF!+#REF!+#REF!+#REF!+#REF!+#REF!+#REF!+#REF!+#REF!+#REF!+#REF!+#REF!+#REF!+#REF!+#REF!+#REF!+#REF!+#REF!+#REF!+#REF!+#REF!+#REF!+#REF!+#REF!+#REF!+#REF!+#REF!+#REF!+#REF!+#REF!+#REF!+#REF!+#REF!","v":{"$error":"#REF!"}},null,{"$error":"#REF!"}]
[45,"St. Charles",{"$f":"#REF!+#REF!+#REF!+#REF!+#REF!+#REF!+#REF!+#REF!+#REF!+#REF!+#REF!+#REF!+#REF!+#REF!+#REF!+#REF!+#REF!+#REF!+#REF!+#REF!+#REF!+#REF!+#REF!+#REF!+#REF!+#REF!+#REF!+#REF!+#REF!+#REF!+#REF!+#REF!+#REF!","v":{"$error":"#REF!"}},{"$f":"'9_Per Pupil Summary'!H50","v":2478.9152201891616},{"$f":"#REF!+#REF!+#REF!+#REF!+#REF!+#REF!+#REF!+#REF!+#REF!+#REF!+#REF!+#REF!+#REF!+#REF!+#REF!+#REF!+#REF!+#REF!+#REF!+#REF!+#REF!+#REF!+#REF!+#REF!+#REF!+#REF!+#REF!+#REF!+#REF!+#REF!+#REF!+#REF!+#REF!","v":{"$error":"#REF!"}},{"$f":"#REF!+#REF!+#REF!+#REF!+#REF!+#REF!+#REF!+#REF!+#REF!+#REF!+#REF!+#REF!+#REF!+#REF!+#REF!+#REF!+#REF!+#REF!+#REF!+#REF!+#REF!+#REF!+#REF!+#REF!+#REF!+#REF!+#REF!+#REF!+#REF!+#REF!+#REF!+#REF!+#REF!","v":{"$error":"#REF!"}},{"$f":"'9_Per Pupil Summary'!I50","v":286.16805288231251},{"$f":"#REF!+#REF!+#REF!+#REF!+#REF!+#REF!+#REF!+#REF!+#REF!+#REF!+#REF!+#REF!+#REF!+#REF!+#REF!+#REF!+#REF!+#REF!+#REF!+#REF!+#REF!+#REF!+#REF!+#REF!+#REF!+#REF!+#REF!+#REF!+#REF!+#REF!+#REF!+#REF!+#REF!","v":{"$error":"#REF!"}},{"$f":"#REF!+#REF!+#REF!+#REF!+#REF!+#REF!+#REF!+#REF!+#REF!+#REF!+#REF!+#REF!+#REF!+#REF!+#REF!+#REF!+#REF!+#REF!+#REF!+#REF!+#REF!+#REF!+#REF!+#REF!+#REF!+#REF!+#REF!+#REF!+#REF!+#REF!+#REF!+#REF!+#REF!","v":{"$error":"#REF!"}},{"$f":"'9_Per Pupil Summary'!J50","v":78.045832604267048},{"$f":"#REF!+#REF!+#REF!+#REF!+#REF!+#REF!+#REF!+#REF!+#REF!+#REF!+#REF!+#REF!+#REF!+#REF!+#REF!+#REF!+#REF!+#REF!+#REF!+#REF!+#REF!+#REF!+#REF!+#REF!+#REF!+#REF!+#REF!+#REF!+#REF!+#REF!+#REF!+#REF!+#REF!","v":{"$error":"#REF!"}},{"$f":"#REF!+#REF!+#REF!+#REF!+#REF!+#REF!+#REF!+#REF!+#REF!+#REF!+#REF!+#REF!+#REF!+#REF!+#REF!+#REF!+#REF!+#REF!+#REF!+#REF!+#REF!+#REF!+#REF!+#REF!+#REF!+#REF!+#REF!+#REF!+#REF!+#REF!+#REF!+#REF!+#REF!","v":{"$error":"#REF!"}},{"$f":"'9_Per Pupil Summary'!K50","v":1951.1458151066759},{"$f":"#REF!+#REF!+#REF!+#REF!+#REF!+#REF!+#REF!+#REF!+#REF!+#REF!+#REF!+#REF!+#REF!+#REF!+#REF!+#REF!+#REF!+#REF!+#REF!+#REF!+#REF!+#REF!+#REF!+#REF!+#REF!+#REF!+#REF!+#REF!+#REF!+#REF!+#REF!+#REF!+#REF!","v":{"$error":"#REF!"}},{"$f":"#REF!+#REF!+#REF!+#REF!+#REF!+#REF!+#REF!+#REF!+#REF!+#REF!+#REF!+#REF!+#REF!+#REF!+#REF!+#REF!+#REF!+#REF!+#REF!+#REF!+#REF!+#REF!+#REF!+#REF!+#REF!+#REF!+#REF!+#REF!+#REF!+#REF!+#REF!+#REF!+#REF!","v":{"$error":"#REF!"}},{"$f":"'9_Per Pupil Summary'!L50","v":780.45832604267048},{"$f":"#REF!+#REF!+#REF!+#REF!+#REF!+#REF!+#REF!+#REF!+#REF!+#REF!+#REF!+#REF!+#REF!+#REF!+#REF!+#REF!+#REF!+#REF!+#REF!+#REF!+#REF!+#REF!+#REF!+#REF!+#REF!+#REF!+#REF!+#REF!+#REF!+#REF!+#REF!+#REF!+#REF!","v":{"$error":"#REF!"}},{"$f":"#REF!+#REF!+#REF!+#REF!+#REF!+#REF!+#REF!+#REF!+#REF!+#REF!+#REF!+#REF!+#REF!+#REF!+#REF!+#REF!+#REF!+#REF!+#REF!+#REF!+#REF!+#REF!+#REF!+#REF!+#REF!+#REF!+#REF!+#REF!+#REF!+#REF!+#REF!+#REF!+#REF!","v":{"$error":"#REF!"}},{"$f":"#REF!+#REF!","v":{"$error":"#REF!"}},{"$f":"#REF!+#REF!+#REF!+#REF!+#REF!+#REF!+#REF!+#REF!+#REF!+#REF!+#REF!+#REF!+#REF!+#REF!+#REF!+#REF!+#REF!+#REF!+#REF!+#REF!+#REF!+#REF!+#REF!+#REF!+#REF!+#REF!+#REF!+#REF!+#REF!+#REF!+#REF!+#REF!+#REF!","v":{"$error":"#REF!"}},{"$f":"#REF!+#REF!+#REF!+#REF!+#REF!+#REF!+#REF!+#REF!+#REF!+#REF!+#REF!+#REF!+#REF!+#REF!+#REF!+#REF!+#REF!+#REF!+#REF!+#REF!+#REF!+#REF!+#REF!+#REF!+#REF!+#REF!+#REF!+#REF!+#REF!+#REF!+#REF!+#REF!+#REF!","v":{"$error":"#REF!"}},{"$f":"#REF!+#REF!+#REF!+#REF!+#REF!+#REF!+#REF!+#REF!+#REF!+#REF!+#REF!+#REF!+#REF!+#REF!+#REF!+#REF!+#REF!+#REF!+#REF!+#REF!+#REF!+#REF!+#REF!+#REF!+#REF!+#REF!+#REF!+#REF!+#REF!+#REF!+#REF!+#REF!+#REF!","v":{"$error":"#REF!"}},{"$f":"#REF!+#REF!+#REF!+#REF!+#REF!+#REF!+#REF!+#REF!+#REF!+#REF!+#REF!+#REF!+#REF!+#REF!+#REF!+#REF!+#REF!+#REF!+#REF!+#REF!+#REF!+#REF!+#REF!+#REF!+#REF!+#REF!+#REF!+#REF!+#REF!+#REF!+#REF!+#REF!+#REF!","v":{"$error":"#REF!"}},{"$f":"#REF!+#REF!+#REF!+#REF!+#REF!+#REF!+#REF!+#REF!+#REF!+#REF!+#REF!+#REF!+#REF!+#REF!+#REF!+#REF!+#REF!+#REF!+#REF!+#REF!+#REF!+#REF!+#REF!+#REF!+#REF!+#REF!+#REF!+#REF!+#REF!+#REF!+#REF!+#REF!+#REF!","v":{"$error":"#REF!"}},{"$f":"#REF!+#REF!+#REF!+#REF!+#REF!+#REF!+#REF!+#REF!+#REF!+#REF!+#REF!+#REF!+#REF!+#REF!+#REF!+#REF!+#REF!+#REF!+#REF!+#REF!+#REF!+#REF!+#REF!+#REF!+#REF!+#REF!+#REF!+#REF!+#REF!+#REF!+#REF!+#REF!+#REF!","v":{"$error":"#REF!"}},{"$f":"#REF!+#REF!+#REF!+#REF!+#REF!+#REF!+#REF!+#REF!+#REF!+#REF!+#REF!+#REF!+#REF!+#REF!+#REF!+#REF!+#REF!+#REF!+#REF!+#REF!+#REF!+#REF!+#REF!+#REF!+#REF!+#REF!+#REF!+#REF!+#REF!+#REF!+#REF!+#REF!+#REF!","v":{"$error":"#REF!"}},{"$f":"#REF!+#REF!+#REF!+#REF!+#REF!+#REF!+#REF!+#REF!+#REF!+#REF!+#REF!+#REF!+#REF!+#REF!+#REF!+#REF!+#REF!+#REF!+#REF!+#REF!+#REF!+#REF!+#REF!+#REF!+#REF!+#REF!+#REF!+#REF!+#REF!+#REF!+#REF!+#REF!+#REF!","v":{"$error":"#REF!"}},{"$f":"#REF!+#REF!+#REF!+#REF!+#REF!+#REF!+#REF!+#REF!+#REF!+#REF!+#REF!+#REF!+#REF!+#REF!+#REF!+#REF!+#REF!+#REF!+#REF!+#REF!+#REF!+#REF!+#REF!+#REF!+#REF!+#REF!+#REF!+#REF!+#REF!+#REF!+#REF!+#REF!+#REF!","v":{"$error":"#REF!"}},{"$f":"#REF!+#REF!+#REF!+#REF!+#REF!+#REF!+#REF!+#REF!+#REF!+#REF!+#REF!+#REF!+#REF!+#REF!+#REF!+#REF!+#REF!+#REF!+#REF!+#REF!+#REF!+#REF!+#REF!+#REF!+#REF!+#REF!+#REF!+#REF!+#REF!+#REF!+#REF!+#REF!+#REF!","v":{"$error":"#REF!"}},{"$f":"#REF!+#REF!+#REF!+#REF!+#REF!+#REF!+#REF!+#REF!+#REF!+#REF!+#REF!+#REF!+#REF!+#REF!+#REF!+#REF!+#REF!+#REF!+#REF!+#REF!+#REF!+#REF!+#REF!+#REF!+#REF!+#REF!+#REF!+#REF!+#REF!+#REF!+#REF!+#REF!+#REF!","v":{"$error":"#REF!"}},{"$f":"#REF!+#REF!+#REF!+#REF!+#REF!+#REF!+#REF!+#REF!+#REF!+#REF!+#REF!+#REF!+#REF!+#REF!+#REF!+#REF!+#REF!+#REF!+#REF!+#REF!+#REF!+#REF!+#REF!+#REF!+#REF!+#REF!+#REF!+#REF!+#REF!+#REF!+#REF!+#REF!+#REF!","v":{"$error":"#REF!"}},{"$f":"'9_Per Pupil Summary'!N50","v":22367},{"$f":"#REF!+#REF!+#REF!+#REF!+#REF!+#REF!+#REF!+#REF!+#REF!+#REF!+#REF!+#REF!+#REF!+#REF!+#REF!+#REF!+#REF!+#REF!+#REF!+#REF!+#REF!+#REF!+#REF!+#REF!+#REF!+#REF!+#REF!+#REF!+#REF!+#REF!+#REF!+#REF!+#REF!","v":{"$error":"#REF!"}},{"$f":"#REF!+#REF!+#REF!+#REF!+#REF!+#REF!+#REF!+#REF!+#REF!+#REF!+#REF!+#REF!+#REF!+#REF!+#REF!+#REF!+#REF!+#REF!+#REF!+#REF!+#REF!+#REF!+#REF!+#REF!+#REF!+#REF!+#REF!+#REF!+#REF!+#REF!+#REF!+#REF!+#REF!","v":{"$error":"#REF!"}},{"$f":"#REF!+#REF!+#REF!+#REF!+#REF!+#REF!+#REF!+#REF!+#REF!+#REF!+#REF!+#REF!+#REF!+#REF!+#REF!+#REF!+#REF!+#REF!+#REF!+#REF!+#REF!+#REF!+#REF!+#REF!+#REF!+#REF!+#REF!+#REF!+#REF!+#REF!+#REF!+#REF!+#REF!","v":{"$error":"#REF!"}},{"$f":"#REF!+#REF!+#REF!+#REF!+#REF!+#REF!+#REF!+#REF!+#REF!+#REF!+#REF!+#REF!+#REF!+#REF!+#REF!+#REF!+#REF!+#REF!+#REF!+#REF!+#REF!+#REF!+#REF!+#REF!+#REF!+#REF!+#REF!+#REF!+#REF!+#REF!+#REF!+#REF!+#REF!","v":{"$error":"#REF!"}},{"$f":"#REF!+#REF!+#REF!+#REF!+#REF!+#REF!+#REF!+#REF!+#REF!+#REF!+#REF!+#REF!+#REF!+#REF!+#REF!+#REF!+#REF!+#REF!+#REF!+#REF!+#REF!+#REF!+#REF!+#REF!+#REF!+#REF!+#REF!+#REF!+#REF!+#REF!+#REF!+#REF!+#REF!","v":{"$error":"#REF!"}},{"$f":"#REF!+#REF!+#REF!+#REF!+#REF!+#REF!+#REF!+#REF!+#REF!+#REF!+#REF!+#REF!+#REF!+#REF!+#REF!+#REF!+#REF!+#REF!+#REF!+#REF!+#REF!+#REF!+#REF!+#REF!+#REF!+#REF!+#REF!+#REF!+#REF!+#REF!+#REF!+#REF!+#REF!","v":{"$error":"#REF!"}},{"$f":"#REF!+#REF!+#REF!+#REF!+#REF!+#REF!+#REF!+#REF!+#REF!+#REF!+#REF!+#REF!+#REF!+#REF!+#REF!+#REF!+#REF!+#REF!+#REF!+#REF!+#REF!+#REF!+#REF!+#REF!+#REF!+#REF!+#REF!+#REF!+#REF!+#REF!+#REF!+#REF!+#REF!","v":{"$error":"#REF!"}},{"$f":"#REF!+#REF!+#REF!+#REF!+#REF!+#REF!+#REF!+#REF!+#REF!+#REF!+#REF!+#REF!+#REF!+#REF!+#REF!+#REF!+#REF!+#REF!+#REF!+#REF!+#REF!+#REF!+#REF!+#REF!+#REF!+#REF!+#REF!+#REF!+#REF!+#REF!+#REF!+#REF!+#REF!","v":{"$error":"#REF!"}},{"$f":"#REF!+#REF!+#REF!+#REF!+#REF!+#REF!+#REF!+#REF!+#REF!+#REF!+#REF!+#REF!+#REF!+#REF!+#REF!+#REF!+#REF!+#REF!+#REF!+#REF!+#REF!+#REF!+#REF!+#REF!+#REF!+#REF!+#REF!+#REF!+#REF!+#REF!+#REF!+#REF!+#REF!","v":{"$error":"#REF!"}},{"$f":"#REF!+#REF!+#REF!+#REF!+#REF!+#REF!+#REF!+#REF!+#REF!+#REF!+#REF!+#REF!+#REF!+#REF!+#REF!+#REF!+#REF!+#REF!+#REF!+#REF!+#REF!+#REF!+#REF!+#REF!+#REF!+#REF!+#REF!+#REF!+#REF!+#REF!+#REF!+#REF!+#REF!","v":{"$error":"#REF!"}},{"$f":"#REF!+#REF!+#REF!+#REF!+#REF!+#REF!+#REF!+#REF!+#REF!+#REF!+#REF!+#REF!+#REF!+#REF!+#REF!+#REF!+#REF!+#REF!+#REF!+#REF!+#REF!+#REF!+#REF!+#REF!+#REF!+#REF!+#REF!+#REF!+#REF!+#REF!+#REF!+#REF!+#REF!","v":{"$error":"#REF!"}},{"$f":"#REF!+#REF!+#REF!+#REF!+#REF!+#REF!+#REF!+#REF!+#REF!+#REF!+#REF!+#REF!+#REF!+#REF!+#REF!+#REF!+#REF!+#REF!+#REF!+#REF!+#REF!+#REF!+#REF!+#REF!+#REF!+#REF!+#REF!+#REF!+#REF!+#REF!+#REF!+#REF!+#REF!","v":{"$error":"#REF!"}},{"$f":"#REF!+#REF!+#REF!+#REF!+#REF!+#REF!+#REF!+#REF!+#REF!+#REF!+#REF!+#REF!+#REF!+#REF!+#REF!+#REF!+#REF!+#REF!+#REF!+#REF!+#REF!+#REF!+#REF!+#REF!+#REF!+#REF!+#REF!+#REF!+#REF!+#REF!+#REF!+#REF!+#REF!","v":{"$error":"#REF!"}},{"$f":"#REF!+#REF!+#REF!+#REF!+#REF!+#REF!+#REF!+#REF!+#REF!+#REF!+#REF!+#REF!+#REF!+#REF!+#REF!+#REF!+#REF!+#REF!+#REF!+#REF!+#REF!+#REF!+#REF!+#REF!+#REF!+#REF!+#REF!+#REF!+#REF!+#REF!+#REF!+#REF!+#REF!","v":{"$error":"#REF!"}},{"$error":"#REF!"},{"$error":"#REF!"},{"$f":"#REF!+#REF!+#REF!+#REF!+#REF!+#REF!+#REF!+#REF!+#REF!+#REF!+#REF!+#REF!+#REF!+#REF!+#REF!+#REF!+#REF!+#REF!+#REF!+#REF!+#REF!+#REF!+#REF!+#REF!+#REF!+#REF!+#REF!+#REF!+#REF!+#REF!+#REF!+#REF!+#REF!","v":{"$error":"#REF!"}},null,{"$error":"#REF!"}]
[46,"St. Helena",{"$f":"#REF!+#REF!+#REF!+#REF!+#REF!+#REF!+#REF!+#REF!+#REF!+#REF!+#REF!+#REF!+#REF!+#REF!+#REF!+#REF!+#REF!+#REF!+#REF!+#REF!+#REF!+#REF!+#REF!+#REF!+#REF!+#REF!+#REF!+#REF!+#REF!+#REF!+#REF!+#REF!+#REF!","v":{"$error":"#REF!"}},{"$f":"'9_Per Pupil Summary'!H51","v":5790.8158465582073},{"$f":"#REF!+#REF!+#REF!+#REF!+#REF!+#REF!+#REF!+#REF!+#REF!+#REF!+#REF!+#REF!+#REF!+#REF!+#REF!+#REF!+#REF!+#REF!+#REF!+#REF!+#REF!+#REF!+#REF!+#REF!+#REF!+#REF!+#REF!+#REF!+#REF!+#REF!+#REF!+#REF!+#REF!","v":{"$error":"#REF!"}},{"$f":"#REF!+#REF!+#REF!+#REF!+#REF!+#REF!+#REF!+#REF!+#REF!+#REF!+#REF!+#REF!+#REF!+#REF!+#REF!+#REF!+#REF!+#REF!+#REF!+#REF!+#REF!+#REF!+#REF!+#REF!+#REF!+#REF!+#REF!+#REF!+#REF!+#REF!+#REF!+#REF!+#REF!","v":{"$error":"#REF!"}},{"$f":"'9_Per Pupil Summary'!I51","v":722.99547228931715},{"$f":"#REF!+#REF!+#REF!+#REF!+#REF!+#REF!+#REF!+#REF!+#REF!+#REF!+#REF!+#REF!+#REF!+#REF!+#REF!+#REF!+#REF!+#REF!+#REF!+#REF!+#REF!+#REF!+#REF!+#REF!+#REF!+#REF!+#REF!+#REF!+#REF!+#REF!+#REF!+#REF!+#REF!","v":{"$error":"#REF!"}},{"$f":"#REF!+#REF!+#REF!+#REF!+#REF!+#REF!+#REF!+#REF!+#REF!+#REF!+#REF!+#REF!+#REF!+#REF!+#REF!+#REF!+#REF!+#REF!+#REF!+#REF!+#REF!+#REF!+#REF!+#REF!+#REF!+#REF!+#REF!+#REF!+#REF!+#REF!+#REF!+#REF!+#REF!","v":{"$error":"#REF!"}},{"$f":"'9_Per Pupil Summary'!J51","v":197.18058335163198},{"$f":"#REF!+#REF!+#REF!+#REF!+#REF!+#REF!+#REF!+#REF!+#REF!+#REF!+#REF!+#REF!+#REF!+#REF!+#REF!+#REF!+#REF!+#REF!+#REF!+#REF!+#REF!+#REF!+#REF!+#REF!+#REF!+#REF!+#REF!+#REF!+#REF!+#REF!+#REF!+#REF!+#REF!","v":{"$error":"#REF!"}},{"$f":"#REF!+#REF!+#REF!+#REF!+#REF!+#REF!+#REF!+#REF!+#REF!+#REF!+#REF!+#REF!+#REF!+#REF!+#REF!+#REF!+#REF!+#REF!+#REF!+#REF!+#REF!+#REF!+#REF!+#REF!+#REF!+#REF!+#REF!+#REF!+#REF!+#REF!+#REF!+#REF!+#REF!","v":{"$error":"#REF!"}},{"$f":"'9_Per Pupil Summary'!K51","v":4929.5145837907994},{"$f":"#REF!+#REF!+#REF!+#REF!+#REF!+#REF!+#REF!+#REF!+#REF!+#REF!+#REF!+#REF!+#REF!+#REF!+#REF!+#REF!+#REF!+#REF!+#REF!+#REF!+#REF!+#REF!+#REF!+#REF!+#REF!+#REF!+#REF!+#REF!+#REF!+#REF!+#REF!+#REF!+#REF!","v":{"$error":"#REF!"}},{"$f":"#REF!+#REF!+#REF!+#REF!+#REF!+#REF!+#REF!+#REF!+#REF!+#REF!+#REF!+#REF!+#REF!+#REF!+#REF!+#REF!+#REF!+#REF!+#REF!+#REF!+#REF!+#REF!+#REF!+#REF!+#REF!+#REF!+#REF!+#REF!+#REF!+#REF!+#REF!+#REF!+#REF!","v":{"$error":"#REF!"}},{"$f":"'9_Per Pupil Summary'!L51","v":1971.80583351632},{"$f":"#REF!+#REF!+#REF!+#REF!+#REF!+#REF!+#REF!+#REF!+#REF!+#REF!+#REF!+#REF!+#REF!+#REF!+#REF!+#REF!+#REF!+#REF!+#REF!+#REF!+#REF!+#REF!+#REF!+#REF!+#REF!+#REF!+#REF!+#REF!+#REF!+#REF!+#REF!+#REF!+#REF!","v":{"$error":"#REF!"}},{"$f":"#REF!+#REF!+#REF!+#REF!+#REF!+#REF!+#REF!+#REF!+#REF!+#REF!+#REF!+#REF!+#REF!+#REF!+#REF!+#REF!+#REF!+#REF!+#REF!+#REF!+#REF!+#REF!+#REF!+#REF!+#REF!+#REF!+#REF!+#REF!+#REF!+#REF!+#REF!+#REF!+#REF!","v":{"$error":"#REF!"}},{"$f":"#REF!+#REF!","v":{"$error":"#REF!"}},{"$f":"#REF!+#REF!+#REF!+#REF!+#REF!+#REF!+#REF!+#REF!+#REF!+#REF!+#REF!+#REF!+#REF!+#REF!+#REF!+#REF!+#REF!+#REF!+#REF!+#REF!+#REF!+#REF!+#REF!+#REF!+#REF!+#REF!+#REF!+#REF!+#REF!+#REF!+#REF!+#REF!+#REF!","v":{"$error":"#REF!"}},{"$f":"#REF!+#REF!+#REF!+#REF!+#REF!+#REF!+#REF!+#REF!+#REF!+#REF!+#REF!+#REF!+#REF!+#REF!+#REF!+#REF!+#REF!+#REF!+#REF!+#REF!+#REF!+#REF!+#REF!+#REF!+#REF!+#REF!+#REF!+#REF!+#REF!+#REF!+#REF!+#REF!+#REF!","v":{"$error":"#REF!"}},{"$f":"#REF!+#REF!+#REF!+#REF!+#REF!+#REF!+#REF!+#REF!+#REF!+#REF!+#REF!+#REF!+#REF!+#REF!+#REF!+#REF!+#REF!+#REF!+#REF!+#REF!+#REF!+#REF!+#REF!+#REF!+#REF!+#REF!+#REF!+#REF!+#REF!+#REF!+#REF!+#REF!+#REF!","v":{"$error":"#REF!"}},{"$f":"#REF!+#REF!+#REF!+#REF!+#REF!+#REF!+#REF!+#REF!+#REF!+#REF!+#REF!+#REF!+#REF!+#REF!+#REF!+#REF!+#REF!+#REF!+#REF!+#REF!+#REF!+#REF!+#REF!+#REF!+#REF!+#REF!+#REF!+#REF!+#REF!+#REF!+#REF!+#REF!+#REF!","v":{"$error":"#REF!"}},{"$f":"#REF!+#REF!+#REF!+#REF!+#REF!+#REF!+#REF!+#REF!+#REF!+#REF!+#REF!+#REF!+#REF!+#REF!+#REF!+#REF!+#REF!+#REF!+#REF!+#REF!+#REF!+#REF!+#REF!+#REF!+#REF!+#REF!+#REF!+#REF!+#REF!+#REF!+#REF!+#REF!+#REF!","v":{"$error":"#REF!"}},{"$f":"#REF!+#REF!+#REF!+#REF!+#REF!+#REF!+#REF!+#REF!+#REF!+#REF!+#REF!+#REF!+#REF!+#REF!+#REF!+#REF!+#REF!+#REF!+#REF!+#REF!+#REF!+#REF!+#REF!+#REF!+#REF!+#REF!+#REF!+#REF!+#REF!+#REF!+#REF!+#REF!+#REF!","v":{"$error":"#REF!"}},{"$f":"#REF!+#REF!+#REF!+#REF!+#REF!+#REF!+#REF!+#REF!+#REF!+#REF!+#REF!+#REF!+#REF!+#REF!+#REF!+#REF!+#REF!+#REF!+#REF!+#REF!+#REF!+#REF!+#REF!+#REF!+#REF!+#REF!+#REF!+#REF!+#REF!+#REF!+#REF!+#REF!+#REF!","v":{"$error":"#REF!"}},{"$f":"#REF!+#REF!+#REF!+#REF!+#REF!+#REF!+#REF!+#REF!+#REF!+#REF!+#REF!+#REF!+#REF!+#REF!+#REF!+#REF!+#REF!+#REF!+#REF!+#REF!+#REF!+#REF!+#REF!+#REF!+#REF!+#REF!+#REF!+#REF!+#REF!+#REF!+#REF!+#REF!+#REF!","v":{"$error":"#REF!"}},{"$f":"#REF!+#REF!+#REF!+#REF!+#REF!+#REF!+#REF!+#REF!+#REF!+#REF!+#REF!+#REF!+#REF!+#REF!+#REF!+#REF!+#REF!+#REF!+#REF!+#REF!+#REF!+#REF!+#REF!+#REF!+#REF!+#REF!+#REF!+#REF!+#REF!+#REF!+#REF!+#REF!+#REF!","v":{"$error":"#REF!"}},{"$f":"#REF!+#REF!+#REF!+#REF!+#REF!+#REF!+#REF!+#REF!+#REF!+#REF!+#REF!+#REF!+#REF!+#REF!+#REF!+#REF!+#REF!+#REF!+#REF!+#REF!+#REF!+#REF!+#REF!+#REF!+#REF!+#REF!+#REF!+#REF!+#REF!+#REF!+#REF!+#REF!+#REF!","v":{"$error":"#REF!"}},{"$f":"#REF!+#REF!+#REF!+#REF!+#REF!+#REF!+#REF!+#REF!+#REF!+#REF!+#REF!+#REF!+#REF!+#REF!+#REF!+#REF!+#REF!+#REF!+#REF!+#REF!+#REF!+#REF!+#REF!+#REF!+#REF!+#REF!+#REF!+#REF!+#REF!+#REF!+#REF!+#REF!+#REF!","v":{"$error":"#REF!"}},{"$f":"#REF!+#REF!+#REF!+#REF!+#REF!+#REF!+#REF!+#REF!+#REF!+#REF!+#REF!+#REF!+#REF!+#REF!+#REF!+#REF!+#REF!+#REF!+#REF!+#REF!+#REF!+#REF!+#REF!+#REF!+#REF!+#REF!+#REF!+#REF!+#REF!+#REF!+#REF!+#REF!+#REF!","v":{"$error":"#REF!"}},{"$f":"'9_Per Pupil Summary'!N51","v":4464},{"$f":"#REF!+#REF!+#REF!+#REF!+#REF!+#REF!+#REF!+#REF!+#REF!+#REF!+#REF!+#REF!+#REF!+#REF!+#REF!+#REF!+#REF!+#REF!+#REF!+#REF!+#REF!+#REF!+#REF!+#REF!+#REF!+#REF!+#REF!+#REF!+#REF!+#REF!+#REF!+#REF!+#REF!","v":{"$error":"#REF!"}},{"$f":"#REF!+#REF!+#REF!+#REF!+#REF!+#REF!+#REF!+#REF!+#REF!+#REF!+#REF!+#REF!+#REF!+#REF!+#REF!+#REF!+#REF!+#REF!+#REF!+#REF!+#REF!+#REF!+#REF!+#REF!+#REF!+#REF!+#REF!+#REF!+#REF!+#REF!+#REF!+#REF!+#REF!","v":{"$error":"#REF!"}},{"$f":"#REF!+#REF!+#REF!+#REF!+#REF!+#REF!+#REF!+#REF!+#REF!+#REF!+#REF!+#REF!+#REF!+#REF!+#REF!+#REF!+#REF!+#REF!+#REF!+#REF!+#REF!+#REF!+#REF!+#REF!+#REF!+#REF!+#REF!+#REF!+#REF!+#REF!+#REF!+#REF!+#REF!","v":{"$error":"#REF!"}},{"$f":"#REF!+#REF!+#REF!+#REF!+#REF!+#REF!+#REF!+#REF!+#REF!+#REF!+#REF!+#REF!+#REF!+#REF!+#REF!+#REF!+#REF!+#REF!+#REF!+#REF!+#REF!+#REF!+#REF!+#REF!+#REF!+#REF!+#REF!+#REF!+#REF!+#REF!+#REF!+#REF!+#REF!","v":{"$error":"#REF!"}},{"$f":"#REF!+#REF!+#REF!+#REF!+#REF!+#REF!+#REF!+#REF!+#REF!+#REF!+#REF!+#REF!+#REF!+#REF!+#REF!+#REF!+#REF!+#REF!+#REF!+#REF!+#REF!+#REF!+#REF!+#REF!+#REF!+#REF!+#REF!+#REF!+#REF!+#REF!+#REF!+#REF!+#REF!","v":{"$error":"#REF!"}},{"$f":"#REF!+#REF!+#REF!+#REF!+#REF!+#REF!+#REF!+#REF!+#REF!+#REF!+#REF!+#REF!+#REF!+#REF!+#REF!+#REF!+#REF!+#REF!+#REF!+#REF!+#REF!+#REF!+#REF!+#REF!+#REF!+#REF!+#REF!+#REF!+#REF!+#REF!+#REF!+#REF!+#REF!","v":{"$error":"#REF!"}},{"$f":"#REF!+#REF!+#REF!+#REF!+#REF!+#REF!+#REF!+#REF!+#REF!+#REF!+#REF!+#REF!+#REF!+#REF!+#REF!+#REF!+#REF!+#REF!+#REF!+#REF!+#REF!+#REF!+#REF!+#REF!+#REF!+#REF!+#REF!+#REF!+#REF!+#REF!+#REF!+#REF!+#REF!","v":{"$error":"#REF!"}},{"$f":"#REF!+#REF!+#REF!+#REF!+#REF!+#REF!+#REF!+#REF!+#REF!+#REF!+#REF!+#REF!+#REF!+#REF!+#REF!+#REF!+#REF!+#REF!+#REF!+#REF!+#REF!+#REF!+#REF!+#REF!+#REF!+#REF!+#REF!+#REF!+#REF!+#REF!+#REF!+#REF!+#REF!","v":{"$error":"#REF!"}},{"$f":"#REF!+#REF!+#REF!+#REF!+#REF!+#REF!+#REF!+#REF!+#REF!+#REF!+#REF!+#REF!+#REF!+#REF!+#REF!+#REF!+#REF!+#REF!+#REF!+#REF!+#REF!+#REF!+#REF!+#REF!+#REF!+#REF!+#REF!+#REF!+#REF!+#REF!+#REF!+#REF!+#REF!","v":{"$error":"#REF!"}},{"$f":"#REF!+#REF!+#REF!+#REF!+#REF!+#REF!+#REF!+#REF!+#REF!+#REF!+#REF!+#REF!+#REF!+#REF!+#REF!+#REF!+#REF!+#REF!+#REF!+#REF!+#REF!+#REF!+#REF!+#REF!+#REF!+#REF!+#REF!+#REF!+#REF!+#REF!+#REF!+#REF!+#REF!","v":{"$error":"#REF!"}},{"$f":"#REF!+#REF!+#REF!+#REF!+#REF!+#REF!+#REF!+#REF!+#REF!+#REF!+#REF!+#REF!+#REF!+#REF!+#REF!+#REF!+#REF!+#REF!+#REF!+#REF!+#REF!+#REF!+#REF!+#REF!+#REF!+#REF!+#REF!+#REF!+#REF!+#REF!+#REF!+#REF!+#REF!","v":{"$error":"#REF!"}},{"$f":"#REF!+#REF!+#REF!+#REF!+#REF!+#REF!+#REF!+#REF!+#REF!+#REF!+#REF!+#REF!+#REF!+#REF!+#REF!+#REF!+#REF!+#REF!+#REF!+#REF!+#REF!+#REF!+#REF!+#REF!+#REF!+#REF!+#REF!+#REF!+#REF!+#REF!+#REF!+#REF!+#REF!","v":{"$error":"#REF!"}},{"$f":"#REF!+#REF!+#REF!+#REF!+#REF!+#REF!+#REF!+#REF!+#REF!+#REF!+#REF!+#REF!+#REF!+#REF!+#REF!+#REF!+#REF!+#REF!+#REF!+#REF!+#REF!+#REF!+#REF!+#REF!+#REF!+#REF!+#REF!+#REF!+#REF!+#REF!+#REF!+#REF!+#REF!","v":{"$error":"#REF!"}},{"$f":"#REF!+#REF!+#REF!+#REF!+#REF!+#REF!+#REF!+#REF!+#REF!+#REF!+#REF!+#REF!+#REF!+#REF!+#REF!+#REF!+#REF!+#REF!+#REF!+#REF!+#REF!+#REF!+#REF!+#REF!+#REF!+#REF!+#REF!+#REF!+#REF!+#REF!+#REF!+#REF!+#REF!","v":{"$error":"#REF!"}},{"$error":"#REF!"},{"$error":"#REF!"},{"$f":"#REF!+#REF!+#REF!+#REF!+#REF!+#REF!+#REF!+#REF!+#REF!+#REF!+#REF!+#REF!+#REF!+#REF!+#REF!+#REF!+#REF!+#REF!+#REF!+#REF!+#REF!+#REF!+#REF!+#REF!+#REF!+#REF!+#REF!+#REF!+#REF!+#REF!+#REF!+#REF!+#REF!","v":{"$error":"#REF!"}},null,{"$error":"#REF!"}]
[47,"St. James",{"$f":"#REF!+#REF!+#REF!+#REF!+#REF!+#REF!+#REF!+#REF!+#REF!+#REF!+#REF!+#REF!+#REF!+#REF!+#REF!+#REF!+#REF!+#REF!+#REF!+#REF!+#REF!+#REF!+#REF!+#REF!+#REF!+#REF!+#REF!+#REF!+#REF!+#REF!+#REF!+#REF!+#REF!","v":{"$error":"#REF!"}},{"$f":"'9_Per Pupil Summary'!H52","v":2943.0747284043368},{"$f":"#REF!+#REF!+#REF!+#REF!+#REF!+#REF!+#REF!+#REF!+#REF!+#REF!+#REF!+#REF!+#REF!+#REF!+#REF!+#REF!+#REF!+#REF!+#REF!+#REF!+#REF!+#REF!+#REF!+#REF!+#REF!+#REF!+#REF!+#REF!+#REF!+#REF!+#REF!+#REF!+#REF!","v":{"$error":"#REF!"}},{"$f":"#REF!+#REF!+#REF!+#REF!+#REF!+#REF!+#REF!+#REF!+#REF!+#REF!+#REF!+#REF!+#REF!+#REF!+#REF!+#REF!+#REF!+#REF!+#REF!+#REF!+#REF!+#REF!+#REF!+#REF!+#REF!+#REF!+#REF!+#REF!+#REF!+#REF!+#REF!+#REF!+#REF!","v":{"$error":"#REF!"}},{"$f":"'9_Per Pupil Summary'!I52","v":350.39419702128839},{"$f":"#REF!+#REF!+#REF!+#REF!+#REF!+#REF!+#REF!+#REF!+#REF!+#REF!+#REF!+#REF!+#REF!+#REF!+#REF!+#REF!+#REF!+#REF!+#REF!+#REF!+#REF!+#REF!+#REF!+#REF!+#REF!+#REF!+#REF!+#REF!+#REF!+#REF!+#REF!+#REF!+#REF!","v":{"$error":"#REF!"}},{"$f":"#REF!+#REF!+#REF!+#REF!+#REF!+#REF!+#REF!+#REF!+#REF!+#REF!+#REF!+#REF!+#REF!+#REF!+#REF!+#REF!+#REF!+#REF!+#REF!+#REF!+#REF!+#REF!+#REF!+#REF!+#REF!+#REF!+#REF!+#REF!+#REF!+#REF!+#REF!+#REF!+#REF!","v":{"$error":"#REF!"}},{"$f":"'9_Per Pupil Summary'!J52","v":95.562053733078642},{"$f":"#REF!+#REF!+#REF!+#REF!+#REF!+#REF!+#REF!+#REF!+#REF!+#REF!+#REF!+#REF!+#REF!+#REF!+#REF!+#REF!+#REF!+#REF!+#REF!+#REF!+#REF!+#REF!+#REF!+#REF!+#REF!+#REF!+#REF!+#REF!+#REF!+#REF!+#REF!+#REF!+#REF!","v":{"$error":"#REF!"}},{"$f":"#REF!+#REF!+#REF!+#REF!+#REF!+#REF!+#REF!+#REF!+#REF!+#REF!+#REF!+#REF!+#REF!+#REF!+#REF!+#REF!+#REF!+#REF!+#REF!+#REF!+#REF!+#REF!+#REF!+#REF!+#REF!+#REF!+#REF!+#REF!+#REF!+#REF!+#REF!+#REF!+#REF!","v":{"$error":"#REF!"}},{"$f":"'9_Per Pupil Summary'!K52","v":2389.0513433269662},{"$f":"#REF!+#REF!+#REF!+#REF!+#REF!+#REF!+#REF!+#REF!+#REF!+#REF!+#REF!+#REF!+#REF!+#REF!+#REF!+#REF!+#REF!+#REF!+#REF!+#REF!+#REF!+#REF!+#REF!+#REF!+#REF!+#REF!+#REF!+#REF!+#REF!+#REF!+#REF!+#REF!+#REF!","v":{"$error":"#REF!"}},{"$f":"#REF!+#REF!+#REF!+#REF!+#REF!+#REF!+#REF!+#REF!+#REF!+#REF!+#REF!+#REF!+#REF!+#REF!+#REF!+#REF!+#REF!+#REF!+#REF!+#REF!+#REF!+#REF!+#REF!+#REF!+#REF!+#REF!+#REF!+#REF!+#REF!+#REF!+#REF!+#REF!+#REF!","v":{"$error":"#REF!"}},{"$f":"'9_Per Pupil Summary'!L52","v":955.62053733078653},{"$f":"#REF!+#REF!+#REF!+#REF!+#REF!+#REF!+#REF!+#REF!+#REF!+#REF!+#REF!+#REF!+#REF!+#REF!+#REF!+#REF!+#REF!+#REF!+#REF!+#REF!+#REF!+#REF!+#REF!+#REF!+#REF!+#REF!+#REF!+#REF!+#REF!+#REF!+#REF!+#REF!+#REF!","v":{"$error":"#REF!"}},{"$f":"#REF!+#REF!+#REF!+#REF!+#REF!+#REF!+#REF!+#REF!+#REF!+#REF!+#REF!+#REF!+#REF!+#REF!+#REF!+#REF!+#REF!+#REF!+#REF!+#REF!+#REF!+#REF!+#REF!+#REF!+#REF!+#REF!+#REF!+#REF!+#REF!+#REF!+#REF!+#REF!+#REF!","v":{"$error":"#REF!"}},{"$f":"#REF!+#REF!","v":{"$error":"#REF!"}},{"$f":"#REF!+#REF!+#REF!+#REF!+#REF!+#REF!+#REF!+#REF!+#REF!+#REF!+#REF!+#REF!+#REF!+#REF!+#REF!+#REF!+#REF!+#REF!+#REF!+#REF!+#REF!+#REF!+#REF!+#REF!+#REF!+#REF!+#REF!+#REF!+#REF!+#REF!+#REF!+#REF!+#REF!","v":{"$error":"#REF!"}},{"$f":"#REF!+#REF!+#REF!+#REF!+#REF!+#REF!+#REF!+#REF!+#REF!+#REF!+#REF!+#REF!+#REF!+#REF!+#REF!+#REF!+#REF!+#REF!+#REF!+#REF!+#REF!+#REF!+#REF!+#REF!+#REF!+#REF!+#REF!+#REF!+#REF!+#REF!+#REF!+#REF!+#REF!","v":{"$error":"#REF!"}},{"$f":"#REF!+#REF!+#REF!+#REF!+#REF!+#REF!+#REF!+#REF!+#REF!+#REF!+#REF!+#REF!+#REF!+#REF!+#REF!+#REF!+#REF!+#REF!+#REF!+#REF!+#REF!+#REF!+#REF!+#REF!+#REF!+#REF!+#REF!+#REF!+#REF!+#REF!+#REF!+#REF!+#REF!","v":{"$error":"#REF!"}},{"$f":"#REF!+#REF!+#REF!+#REF!+#REF!+#REF!+#REF!+#REF!+#REF!+#REF!+#REF!+#REF!+#REF!+#REF!+#REF!+#REF!+#REF!+#REF!+#REF!+#REF!+#REF!+#REF!+#REF!+#REF!+#REF!+#REF!+#REF!+#REF!+#REF!+#REF!+#REF!+#REF!+#REF!","v":{"$error":"#REF!"}},{"$f":"#REF!+#REF!+#REF!+#REF!+#REF!+#REF!+#REF!+#REF!+#REF!+#REF!+#REF!+#REF!+#REF!+#REF!+#REF!+#REF!+#REF!+#REF!+#REF!+#REF!+#REF!+#REF!+#REF!+#REF!+#REF!+#REF!+#REF!+#REF!+#REF!+#REF!+#REF!+#REF!+#REF!","v":{"$error":"#REF!"}},{"$f":"#REF!+#REF!+#REF!+#REF!+#REF!+#REF!+#REF!+#REF!+#REF!+#REF!+#REF!+#REF!+#REF!+#REF!+#REF!+#REF!+#REF!+#REF!+#REF!+#REF!+#REF!+#REF!+#REF!+#REF!+#REF!+#REF!+#REF!+#REF!+#REF!+#REF!+#REF!+#REF!+#REF!","v":{"$error":"#REF!"}},{"$f":"#REF!+#REF!+#REF!+#REF!+#REF!+#REF!+#REF!+#REF!+#REF!+#REF!+#REF!+#REF!+#REF!+#REF!+#REF!+#REF!+#REF!+#REF!+#REF!+#REF!+#REF!+#REF!+#REF!+#REF!+#REF!+#REF!+#REF!+#REF!+#REF!+#REF!+#REF!+#REF!+#REF!","v":{"$error":"#REF!"}},{"$f":"#REF!+#REF!+#REF!+#REF!+#REF!+#REF!+#REF!+#REF!+#REF!+#REF!+#REF!+#REF!+#REF!+#REF!+#REF!+#REF!+#REF!+#REF!+#REF!+#REF!+#REF!+#REF!+#REF!+#REF!+#REF!+#REF!+#REF!+#REF!+#REF!+#REF!+#REF!+#REF!+#REF!","v":{"$error":"#REF!"}},{"$f":"#REF!+#REF!+#REF!+#REF!+#REF!+#REF!+#REF!+#REF!+#REF!+#REF!+#REF!+#REF!+#REF!+#REF!+#REF!+#REF!+#REF!+#REF!+#REF!+#REF!+#REF!+#REF!+#REF!+#REF!+#REF!+#REF!+#REF!+#REF!+#REF!+#REF!+#REF!+#REF!+#REF!","v":{"$error":"#REF!"}},{"$f":"#REF!+#REF!+#REF!+#REF!+#REF!+#REF!+#REF!+#REF!+#REF!+#REF!+#REF!+#REF!+#REF!+#REF!+#REF!+#REF!+#REF!+#REF!+#REF!+#REF!+#REF!+#REF!+#REF!+#REF!+#REF!+#REF!+#REF!+#REF!+#REF!+#REF!+#REF!+#REF!+#REF!","v":{"$error":"#REF!"}},{"$f":"#REF!+#REF!+#REF!+#REF!+#REF!+#REF!+#REF!+#REF!+#REF!+#REF!+#REF!+#REF!+#REF!+#REF!+#REF!+#REF!+#REF!+#REF!+#REF!+#REF!+#REF!+#REF!+#REF!+#REF!+#REF!+#REF!+#REF!+#REF!+#REF!+#REF!+#REF!+#REF!+#REF!","v":{"$error":"#REF!"}},{"$f":"#REF!+#REF!+#REF!+#REF!+#REF!+#REF!+#REF!+#REF!+#REF!+#REF!+#REF!+#REF!+#REF!+#REF!+#REF!+#REF!+#REF!+#REF!+#REF!+#REF!+#REF!+#REF!+#REF!+#REF!+#REF!+#REF!+#REF!+#REF!+#REF!+#REF!+#REF!+#REF!+#REF!","v":{"$error":"#REF!"}},{"$f":"'9_Per Pupil Summary'!N52","v":16568},{"$f":"#REF!+#REF!+#REF!+#REF!+#REF!+#REF!+#REF!+#REF!+#REF!+#REF!+#REF!+#REF!+#REF!+#REF!+#REF!+#REF!+#REF!+#REF!+#REF!+#REF!+#REF!+#REF!+#REF!+#REF!+#REF!+#REF!+#REF!+#REF!+#REF!+#REF!+#REF!+#REF!+#REF!","v":{"$error":"#REF!"}},{"$f":"#REF!+#REF!+#REF!+#REF!+#REF!+#REF!+#REF!+#REF!+#REF!+#REF!+#REF!+#REF!+#REF!+#REF!+#REF!+#REF!+#REF!+#REF!+#REF!+#REF!+#REF!+#REF!+#REF!+#REF!+#REF!+#REF!+#REF!+#REF!+#REF!+#REF!+#REF!+#REF!+#REF!","v":{"$error":"#REF!"}},{"$f":"#REF!+#REF!+#REF!+#REF!+#REF!+#REF!+#REF!+#REF!+#REF!+#REF!+#REF!+#REF!+#REF!+#REF!+#REF!+#REF!+#REF!+#REF!+#REF!+#REF!+#REF!+#REF!+#REF!+#REF!+#REF!+#REF!+#REF!+#REF!+#REF!+#REF!+#REF!+#REF!+#REF!","v":{"$error":"#REF!"}},{"$f":"#REF!+#REF!+#REF!+#REF!+#REF!+#REF!+#REF!+#REF!+#REF!+#REF!+#REF!+#REF!+#REF!+#REF!+#REF!+#REF!+#REF!+#REF!+#REF!+#REF!+#REF!+#REF!+#REF!+#REF!+#REF!+#REF!+#REF!+#REF!+#REF!+#REF!+#REF!+#REF!+#REF!","v":{"$error":"#REF!"}},{"$f":"#REF!+#REF!+#REF!+#REF!+#REF!+#REF!+#REF!+#REF!+#REF!+#REF!+#REF!+#REF!+#REF!+#REF!+#REF!+#REF!+#REF!+#REF!+#REF!+#REF!+#REF!+#REF!+#REF!+#REF!+#REF!+#REF!+#REF!+#REF!+#REF!+#REF!+#REF!+#REF!+#REF!","v":{"$error":"#REF!"}},{"$f":"#REF!+#REF!+#REF!+#REF!+#REF!+#REF!+#REF!+#REF!+#REF!+#REF!+#REF!+#REF!+#REF!+#REF!+#REF!+#REF!+#REF!+#REF!+#REF!+#REF!+#REF!+#REF!+#REF!+#REF!+#REF!+#REF!+#REF!+#REF!+#REF!+#REF!+#REF!+#REF!+#REF!","v":{"$error":"#REF!"}},{"$f":"#REF!+#REF!+#REF!+#REF!+#REF!+#REF!+#REF!+#REF!+#REF!+#REF!+#REF!+#REF!+#REF!+#REF!+#REF!+#REF!+#REF!+#REF!+#REF!+#REF!+#REF!+#REF!+#REF!+#REF!+#REF!+#REF!+#REF!+#REF!+#REF!+#REF!+#REF!+#REF!+#REF!","v":{"$error":"#REF!"}},{"$f":"#REF!+#REF!+#REF!+#REF!+#REF!+#REF!+#REF!+#REF!+#REF!+#REF!+#REF!+#REF!+#REF!+#REF!+#REF!+#REF!+#REF!+#REF!+#REF!+#REF!+#REF!+#REF!+#REF!+#REF!+#REF!+#REF!+#REF!+#REF!+#REF!+#REF!+#REF!+#REF!+#REF!","v":{"$error":"#REF!"}},{"$f":"#REF!+#REF!+#REF!+#REF!+#REF!+#REF!+#REF!+#REF!+#REF!+#REF!+#REF!+#REF!+#REF!+#REF!+#REF!+#REF!+#REF!+#REF!+#REF!+#REF!+#REF!+#REF!+#REF!+#REF!+#REF!+#REF!+#REF!+#REF!+#REF!+#REF!+#REF!+#REF!+#REF!","v":{"$error":"#REF!"}},{"$f":"#REF!+#REF!+#REF!+#REF!+#REF!+#REF!+#REF!+#REF!+#REF!+#REF!+#REF!+#REF!+#REF!+#REF!+#REF!+#REF!+#REF!+#REF!+#REF!+#REF!+#REF!+#REF!+#REF!+#REF!+#REF!+#REF!+#REF!+#REF!+#REF!+#REF!+#REF!+#REF!+#REF!","v":{"$error":"#REF!"}},{"$f":"#REF!+#REF!+#REF!+#REF!+#REF!+#REF!+#REF!+#REF!+#REF!+#REF!+#REF!+#REF!+#REF!+#REF!+#REF!+#REF!+#REF!+#REF!+#REF!+#REF!+#REF!+#REF!+#REF!+#REF!+#REF!+#REF!+#REF!+#REF!+#REF!+#REF!+#REF!+#REF!+#REF!","v":{"$error":"#REF!"}},{"$f":"#REF!+#REF!+#REF!+#REF!+#REF!+#REF!+#REF!+#REF!+#REF!+#REF!+#REF!+#REF!+#REF!+#REF!+#REF!+#REF!+#REF!+#REF!+#REF!+#REF!+#REF!+#REF!+#REF!+#REF!+#REF!+#REF!+#REF!+#REF!+#REF!+#REF!+#REF!+#REF!+#REF!","v":{"$error":"#REF!"}},{"$f":"#REF!+#REF!+#REF!+#REF!+#REF!+#REF!+#REF!+#REF!+#REF!+#REF!+#REF!+#REF!+#REF!+#REF!+#REF!+#REF!+#REF!+#REF!+#REF!+#REF!+#REF!+#REF!+#REF!+#REF!+#REF!+#REF!+#REF!+#REF!+#REF!+#REF!+#REF!+#REF!+#REF!","v":{"$error":"#REF!"}},{"$f":"#REF!+#REF!+#REF!+#REF!+#REF!+#REF!+#REF!+#REF!+#REF!+#REF!+#REF!+#REF!+#REF!+#REF!+#REF!+#REF!+#REF!+#REF!+#REF!+#REF!+#REF!+#REF!+#REF!+#REF!+#REF!+#REF!+#REF!+#REF!+#REF!+#REF!+#REF!+#REF!+#REF!","v":{"$error":"#REF!"}},{"$error":"#REF!"},{"$error":"#REF!"},{"$f":"#REF!+#REF!+#REF!+#REF!+#REF!+#REF!+#REF!+#REF!+#REF!+#REF!+#REF!+#REF!+#REF!+#REF!+#REF!+#REF!+#REF!+#REF!+#REF!+#REF!+#REF!+#REF!+#REF!+#REF!+#REF!+#REF!+#REF!+#REF!+#REF!+#REF!+#REF!+#REF!+#REF!","v":{"$error":"#REF!"}},null,{"$error":"#REF!"}]
[48,"St. John the Baptist",{"$f":"#REF!+#REF!+#REF!+#REF!+#REF!+#REF!+#REF!+#REF!+#REF!+#REF!+#REF!+#REF!+#REF!+#REF!+#REF!+#REF!+#REF!+#REF!+#REF!+#REF!+#REF!+#REF!+#REF!+#REF!+#REF!+#REF!+#REF!+#REF!+#REF!+#REF!+#REF!+#REF!+#REF!","v":{"$error":"#REF!"}},{"$f":"'9_Per Pupil Summary'!H53","v":3326.4617881769714},{"$f":"#REF!+#REF!+#REF!+#REF!+#REF!+#REF!+#REF!+#REF!+#REF!+#REF!+#REF!+#REF!+#REF!+#REF!+#REF!+#REF!+#REF!+#REF!+#REF!+#REF!+#REF!+#REF!+#REF!+#REF!+#REF!+#REF!+#REF!+#REF!+#REF!+#REF!+#REF!+#REF!+#REF!","v":{"$error":"#REF!"}},{"$f":"#REF!+#REF!+#REF!+#REF!+#REF!+#REF!+#REF!+#REF!+#REF!+#REF!+#REF!+#REF!+#REF!+#REF!+#REF!+#REF!+#REF!+#REF!+#REF!+#REF!+#REF!+#REF!+#REF!+#REF!+#REF!+#REF!+#REF!+#REF!+#REF!+#REF!+#REF!+#REF!+#REF!","v":{"$error":"#REF!"}},{"$f":"'9_Per Pupil Summary'!I53","v":439.11536690303603},{"$f":"#REF!+#REF!+#REF!+#REF!+#REF!+#REF!+#REF!+#REF!+#REF!+#REF!+#REF!+#REF!+#REF!+#REF!+#REF!+#REF!+#REF!+#REF!+#REF!+#REF!+#REF!+#REF!+#REF!+#REF!+#REF!+#REF!+#REF!+#REF!+#REF!+#REF!+#REF!+#REF!+#REF!","v":{"$error":"#REF!"}},{"$f":"#REF!+#REF!+#REF!+#REF!+#REF!+#REF!+#REF!+#REF!+#REF!+#REF!+#REF!+#REF!+#REF!+#REF!+#REF!+#REF!+#REF!+#REF!+#REF!+#REF!+#REF!+#REF!+#REF!+#REF!+#REF!+#REF!+#REF!+#REF!+#REF!+#REF!+#REF!+#REF!+#REF!","v":{"$error":"#REF!"}},{"$f":"'9_Per Pupil Summary'!J53","v":119.75873642810075},{"$f":"#REF!+#REF!+#REF!+#REF!+#REF!+#REF!+#REF!+#REF!+#REF!+#REF!+#REF!+#REF!+#REF!+#REF!+#REF!+#REF!+#REF!+#REF!+#REF!+#REF!+#REF!+#REF!+#REF!+#REF!+#REF!+#REF!+#REF!+#REF!+#REF!+#REF!+#REF!+#REF!+#REF!","v":{"$error":"#REF!"}},{"$f":"#REF!+#REF!+#REF!+#REF!+#REF!+#REF!+#REF!+#REF!+#REF!+#REF!+#REF!+#REF!+#REF!+#REF!+#REF!+#REF!+#REF!+#REF!+#REF!+#REF!+#REF!+#REF!+#REF!+#REF!+#REF!+#REF!+#REF!+#REF!+#REF!+#REF!+#REF!+#REF!+#REF!","v":{"$error":"#REF!"}},{"$f":"'9_Per Pupil Summary'!K53","v":2993.9684107025187},{"$f":"#REF!+#REF!+#REF!+#REF!+#REF!+#REF!+#REF!+#REF!+#REF!+#REF!+#REF!+#REF!+#REF!+#REF!+#REF!+#REF!+#REF!+#REF!+#REF!+#REF!+#REF!+#REF!+#REF!+#REF!+#REF!+#REF!+#REF!+#REF!+#REF!+#REF!+#REF!+#REF!+#REF!","v":{"$error":"#REF!"}},{"$f":"#REF!+#REF!+#REF!+#REF!+#REF!+#REF!+#REF!+#REF!+#REF!+#REF!+#REF!+#REF!+#REF!+#REF!+#REF!+#REF!+#REF!+#REF!+#REF!+#REF!+#REF!+#REF!+#REF!+#REF!+#REF!+#REF!+#REF!+#REF!+#REF!+#REF!+#REF!+#REF!+#REF!","v":{"$error":"#REF!"}},{"$f":"'9_Per Pupil Summary'!L53","v":1197.5873642810075},{"$f":"#REF!+#REF!+#REF!+#REF!+#REF!+#REF!+#REF!+#REF!+#REF!+#REF!+#REF!+#REF!+#REF!+#REF!+#REF!+#REF!+#REF!+#REF!+#REF!+#REF!+#REF!+#REF!+#REF!+#REF!+#REF!+#REF!+#REF!+#REF!+#REF!+#REF!+#REF!+#REF!+#REF!","v":{"$error":"#REF!"}},{"$f":"#REF!+#REF!+#REF!+#REF!+#REF!+#REF!+#REF!+#REF!+#REF!+#REF!+#REF!+#REF!+#REF!+#REF!+#REF!+#REF!+#REF!+#REF!+#REF!+#REF!+#REF!+#REF!+#REF!+#REF!+#REF!+#REF!+#REF!+#REF!+#REF!+#REF!+#REF!+#REF!+#REF!","v":{"$error":"#REF!"}},{"$f":"#REF!+#REF!","v":{"$error":"#REF!"}},{"$f":"#REF!+#REF!+#REF!+#REF!+#REF!+#REF!+#REF!+#REF!+#REF!+#REF!+#REF!+#REF!+#REF!+#REF!+#REF!+#REF!+#REF!+#REF!+#REF!+#REF!+#REF!+#REF!+#REF!+#REF!+#REF!+#REF!+#REF!+#REF!+#REF!+#REF!+#REF!+#REF!+#REF!","v":{"$error":"#REF!"}},{"$f":"#REF!+#REF!+#REF!+#REF!+#REF!+#REF!+#REF!+#REF!+#REF!+#REF!+#REF!+#REF!+#REF!+#REF!+#REF!+#REF!+#REF!+#REF!+#REF!+#REF!+#REF!+#REF!+#REF!+#REF!+#REF!+#REF!+#REF!+#REF!+#REF!+#REF!+#REF!+#REF!+#REF!","v":{"$error":"#REF!"}},{"$f":"#REF!+#REF!+#REF!+#REF!+#REF!+#REF!+#REF!+#REF!+#REF!+#REF!+#REF!+#REF!+#REF!+#REF!+#REF!+#REF!+#REF!+#REF!+#REF!+#REF!+#REF!+#REF!+#REF!+#REF!+#REF!+#REF!+#REF!+#REF!+#REF!+#REF!+#REF!+#REF!+#REF!","v":{"$error":"#REF!"}},{"$f":"#REF!+#REF!+#REF!+#REF!+#REF!+#REF!+#REF!+#REF!+#REF!+#REF!+#REF!+#REF!+#REF!+#REF!+#REF!+#REF!+#REF!+#REF!+#REF!+#REF!+#REF!+#REF!+#REF!+#REF!+#REF!+#REF!+#REF!+#REF!+#REF!+#REF!+#REF!+#REF!+#REF!","v":{"$error":"#REF!"}},{"$f":"#REF!+#REF!+#REF!+#REF!+#REF!+#REF!+#REF!+#REF!+#REF!+#REF!+#REF!+#REF!+#REF!+#REF!+#REF!+#REF!+#REF!+#REF!+#REF!+#REF!+#REF!+#REF!+#REF!+#REF!+#REF!+#REF!+#REF!+#REF!+#REF!+#REF!+#REF!+#REF!+#REF!","v":{"$error":"#REF!"}},{"$f":"#REF!+#REF!+#REF!+#REF!+#REF!+#REF!+#REF!+#REF!+#REF!+#REF!+#REF!+#REF!+#REF!+#REF!+#REF!+#REF!+#REF!+#REF!+#REF!+#REF!+#REF!+#REF!+#REF!+#REF!+#REF!+#REF!+#REF!+#REF!+#REF!+#REF!+#REF!+#REF!+#REF!","v":{"$error":"#REF!"}},{"$f":"#REF!+#REF!+#REF!+#REF!+#REF!+#REF!+#REF!+#REF!+#REF!+#REF!+#REF!+#REF!+#REF!+#REF!+#REF!+#REF!+#REF!+#REF!+#REF!+#REF!+#REF!+#REF!+#REF!+#REF!+#REF!+#REF!+#REF!+#REF!+#REF!+#REF!+#REF!+#REF!+#REF!","v":{"$error":"#REF!"}},{"$f":"#REF!+#REF!+#REF!+#REF!+#REF!+#REF!+#REF!+#REF!+#REF!+#REF!+#REF!+#REF!+#REF!+#REF!+#REF!+#REF!+#REF!+#REF!+#REF!+#REF!+#REF!+#REF!+#REF!+#REF!+#REF!+#REF!+#REF!+#REF!+#REF!+#REF!+#REF!+#REF!+#REF!","v":{"$error":"#REF!"}},{"$f":"#REF!+#REF!+#REF!+#REF!+#REF!+#REF!+#REF!+#REF!+#REF!+#REF!+#REF!+#REF!+#REF!+#REF!+#REF!+#REF!+#REF!+#REF!+#REF!+#REF!+#REF!+#REF!+#REF!+#REF!+#REF!+#REF!+#REF!+#REF!+#REF!+#REF!+#REF!+#REF!+#REF!","v":{"$error":"#REF!"}},{"$f":"#REF!+#REF!+#REF!+#REF!+#REF!+#REF!+#REF!+#REF!+#REF!+#REF!+#REF!+#REF!+#REF!+#REF!+#REF!+#REF!+#REF!+#REF!+#REF!+#REF!+#REF!+#REF!+#REF!+#REF!+#REF!+#REF!+#REF!+#REF!+#REF!+#REF!+#REF!+#REF!+#REF!","v":{"$error":"#REF!"}},{"$f":"#REF!+#REF!+#REF!+#REF!+#REF!+#REF!+#REF!+#REF!+#REF!+#REF!+#REF!+#REF!+#REF!+#REF!+#REF!+#REF!+#REF!+#REF!+#REF!+#REF!+#REF!+#REF!+#REF!+#REF!+#REF!+#REF!+#REF!+#REF!+#REF!+#REF!+#REF!+#REF!+#REF!","v":{"$error":"#REF!"}},{"$f":"#REF!+#REF!+#REF!+#REF!+#REF!+#REF!+#REF!+#REF!+#REF!+#REF!+#REF!+#REF!+#REF!+#REF!+#REF!+#REF!+#REF!+#REF!+#REF!+#REF!+#REF!+#REF!+#REF!+#REF!+#REF!+#REF!+#REF!+#REF!+#REF!+#REF!+#REF!+#REF!+#REF!","v":{"$error":"#REF!"}},{"$f":"'9_Per Pupil Summary'!N53","v":11031},{"$f":"#REF!+#REF!+#REF!+#REF!+#REF!+#REF!+#REF!+#REF!+#REF!+#REF!+#REF!+#REF!+#REF!+#REF!+#REF!+#REF!+#REF!+#REF!+#REF!+#REF!+#REF!+#REF!+#REF!+#REF!+#REF!+#REF!+#REF!+#REF!+#REF!+#REF!+#REF!+#REF!+#REF!","v":{"$error":"#REF!"}},{"$f":"#REF!+#REF!+#REF!+#REF!+#REF!+#REF!+#REF!+#REF!+#REF!+#REF!+#REF!+#REF!+#REF!+#REF!+#REF!+#REF!+#REF!+#REF!+#REF!+#REF!+#REF!+#REF!+#REF!+#REF!+#REF!+#REF!+#REF!+#REF!+#REF!+#REF!+#REF!+#REF!+#REF!","v":{"$error":"#REF!"}},{"$f":"#REF!+#REF!+#REF!+#REF!+#REF!+#REF!+#REF!+#REF!+#REF!+#REF!+#REF!+#REF!+#REF!+#REF!+#REF!+#REF!+#REF!+#REF!+#REF!+#REF!+#REF!+#REF!+#REF!+#REF!+#REF!+#REF!+#REF!+#REF!+#REF!+#REF!+#REF!+#REF!+#REF!","v":{"$error":"#REF!"}},{"$f":"#REF!+#REF!+#REF!+#REF!+#REF!+#REF!+#REF!+#REF!+#REF!+#REF!+#REF!+#REF!+#REF!+#REF!+#REF!+#REF!+#REF!+#REF!+#REF!+#REF!+#REF!+#REF!+#REF!+#REF!+#REF!+#REF!+#REF!+#REF!+#REF!+#REF!+#REF!+#REF!+#REF!","v":{"$error":"#REF!"}},{"$f":"#REF!+#REF!+#REF!+#REF!+#REF!+#REF!+#REF!+#REF!+#REF!+#REF!+#REF!+#REF!+#REF!+#REF!+#REF!+#REF!+#REF!+#REF!+#REF!+#REF!+#REF!+#REF!+#REF!+#REF!+#REF!+#REF!+#REF!+#REF!+#REF!+#REF!+#REF!+#REF!+#REF!","v":{"$error":"#REF!"}},{"$f":"#REF!+#REF!+#REF!+#REF!+#REF!+#REF!+#REF!+#REF!+#REF!+#REF!+#REF!+#REF!+#REF!+#REF!+#REF!+#REF!+#REF!+#REF!+#REF!+#REF!+#REF!+#REF!+#REF!+#REF!+#REF!+#REF!+#REF!+#REF!+#REF!+#REF!+#REF!+#REF!+#REF!","v":{"$error":"#REF!"}},{"$f":"#REF!+#REF!+#REF!+#REF!+#REF!+#REF!+#REF!+#REF!+#REF!+#REF!+#REF!+#REF!+#REF!+#REF!+#REF!+#REF!+#REF!+#REF!+#REF!+#REF!+#REF!+#REF!+#REF!+#REF!+#REF!+#REF!+#REF!+#REF!+#REF!+#REF!+#REF!+#REF!+#REF!","v":{"$error":"#REF!"}},{"$f":"#REF!+#REF!+#REF!+#REF!+#REF!+#REF!+#REF!+#REF!+#REF!+#REF!+#REF!+#REF!+#REF!+#REF!+#REF!+#REF!+#REF!+#REF!+#REF!+#REF!+#REF!+#REF!+#REF!+#REF!+#REF!+#REF!+#REF!+#REF!+#REF!+#REF!+#REF!+#REF!+#REF!","v":{"$error":"#REF!"}},{"$f":"#REF!+#REF!+#REF!+#REF!+#REF!+#REF!+#REF!+#REF!+#REF!+#REF!+#REF!+#REF!+#REF!+#REF!+#REF!+#REF!+#REF!+#REF!+#REF!+#REF!+#REF!+#REF!+#REF!+#REF!+#REF!+#REF!+#REF!+#REF!+#REF!+#REF!+#REF!+#REF!+#REF!","v":{"$error":"#REF!"}},{"$f":"#REF!+#REF!+#REF!+#REF!+#REF!+#REF!+#REF!+#REF!+#REF!+#REF!+#REF!+#REF!+#REF!+#REF!+#REF!+#REF!+#REF!+#REF!+#REF!+#REF!+#REF!+#REF!+#REF!+#REF!+#REF!+#REF!+#REF!+#REF!+#REF!+#REF!+#REF!+#REF!+#REF!","v":{"$error":"#REF!"}},{"$f":"#REF!+#REF!+#REF!+#REF!+#REF!+#REF!+#REF!+#REF!+#REF!+#REF!+#REF!+#REF!+#REF!+#REF!+#REF!+#REF!+#REF!+#REF!+#REF!+#REF!+#REF!+#REF!+#REF!+#REF!+#REF!+#REF!+#REF!+#REF!+#REF!+#REF!+#REF!+#REF!+#REF!","v":{"$error":"#REF!"}},{"$f":"#REF!+#REF!+#REF!+#REF!+#REF!+#REF!+#REF!+#REF!+#REF!+#REF!+#REF!+#REF!+#REF!+#REF!+#REF!+#REF!+#REF!+#REF!+#REF!+#REF!+#REF!+#REF!+#REF!+#REF!+#REF!+#REF!+#REF!+#REF!+#REF!+#REF!+#REF!+#REF!+#REF!","v":{"$error":"#REF!"}},{"$f":"#REF!+#REF!+#REF!+#REF!+#REF!+#REF!+#REF!+#REF!+#REF!+#REF!+#REF!+#REF!+#REF!+#REF!+#REF!+#REF!+#REF!+#REF!+#REF!+#REF!+#REF!+#REF!+#REF!+#REF!+#REF!+#REF!+#REF!+#REF!+#REF!+#REF!+#REF!+#REF!+#REF!","v":{"$error":"#REF!"}},{"$f":"#REF!+#REF!+#REF!+#REF!+#REF!+#REF!+#REF!+#REF!+#REF!+#REF!+#REF!+#REF!+#REF!+#REF!+#REF!+#REF!+#REF!+#REF!+#REF!+#REF!+#REF!+#REF!+#REF!+#REF!+#REF!+#REF!+#REF!+#REF!+#REF!+#REF!+#REF!+#REF!+#REF!","v":{"$error":"#REF!"}},{"$error":"#REF!"},{"$error":"#REF!"},{"$f":"#REF!+#REF!+#REF!+#REF!+#REF!+#REF!+#REF!+#REF!+#REF!+#REF!+#REF!+#REF!+#REF!+#REF!+#REF!+#REF!+#REF!+#REF!+#REF!+#REF!+#REF!+#REF!+#REF!+#REF!+#REF!+#REF!+#REF!+#REF!+#REF!+#REF!+#REF!+#REF!+#REF!","v":{"$error":"#REF!"}},null,{"$error":"#REF!"}]
[49,"St. Landry",{"$f":"#REF!+#REF!+#REF!+#REF!+#REF!+#REF!+#REF!+#REF!+#REF!+#REF!+#REF!+#REF!+#REF!+#REF!+#REF!+#REF!+#REF!+#REF!+#REF!+#REF!+#REF!+#REF!+#REF!+#REF!+#REF!+#REF!+#REF!+#REF!+#REF!+#REF!+#REF!+#REF!+#REF!","v":{"$error":"#REF!"}},{"$f":"'9_Per Pupil Summary'!H54","v":4840.6072816757405},{"$f":"#REF!+#REF!+#REF!+#REF!+#REF!+#REF!+#REF!+#REF!+#REF!+#REF!+#REF!+#REF!+#REF!+#REF!+#REF!+#REF!+#REF!+#REF!+#REF!+#REF!+#REF!+#REF!+#REF!+#REF!+#REF!+#REF!+#REF!+#REF!+#REF!+#REF!+#REF!+#REF!+#REF!","v":{"$error":"#REF!"}},{"$f":"#REF!+#REF!+#REF!+#REF!+#REF!+#REF!+#REF!+#REF!+#REF!+#REF!+#REF!+#REF!+#REF!+#REF!+#REF!+#REF!+#REF!+#REF!+#REF!+#REF!+#REF!+#REF!+#REF!+#REF!+#REF!+#REF!+#REF!+#REF!+#REF!+#REF!+#REF!+#REF!+#REF!","v":{"$error":"#REF!"}},{"$f":"'9_Per Pupil Summary'!I54","v":656.42597896791415},{"$f":"#REF!+#REF!+#REF!+#REF!+#REF!+#REF!+#REF!+#REF!+#REF!+#REF!+#REF!+#REF!+#REF!+#REF!+#REF!+#REF!+#REF!+#REF!+#REF!+#REF!+#REF!+#REF!+#REF!+#REF!+#REF!+#REF!+#REF!+#REF!+#REF!+#REF!+#REF!+#REF!+#REF!","v":{"$error":"#REF!"}},{"$f":"#REF!+#REF!+#REF!+#REF!+#REF!+#REF!+#REF!+#REF!+#REF!+#REF!+#REF!+#REF!+#REF!+#REF!+#REF!+#REF!+#REF!+#REF!+#REF!+#REF!+#REF!+#REF!+#REF!+#REF!+#REF!+#REF!+#REF!+#REF!+#REF!+#REF!+#REF!+#REF!+#REF!","v":{"$error":"#REF!"}},{"$f":"'9_Per Pupil Summary'!J54","v":179.02526699124931},{"$f":"#REF!+#REF!+#REF!+#REF!+#REF!+#REF!+#REF!+#REF!+#REF!+#REF!+#REF!+#REF!+#REF!+#REF!+#REF!+#REF!+#REF!+#REF!+#REF!+#REF!+#REF!+#REF!+#REF!+#REF!+#REF!+#REF!+#REF!+#REF!+#REF!+#REF!+#REF!+#REF!+#REF!","v":{"$error":"#REF!"}},{"$f":"#REF!+#REF!+#REF!+#REF!+#REF!+#REF!+#REF!+#REF!+#REF!+#REF!+#REF!+#REF!+#REF!+#REF!+#REF!+#REF!+#REF!+#REF!+#REF!+#REF!+#REF!+#REF!+#REF!+#REF!+#REF!+#REF!+#REF!+#REF!+#REF!+#REF!+#REF!+#REF!+#REF!","v":{"$error":"#REF!"}},{"$f":"'9_Per Pupil Summary'!K54","v":4475.6316747812325},{"$f":"#REF!+#REF!+#REF!+#REF!+#REF!+#REF!+#REF!+#REF!+#REF!+#REF!+#REF!+#REF!+#REF!+#REF!+#REF!+#REF!+#REF!+#REF!+#REF!+#REF!+#REF!+#REF!+#REF!+#REF!+#REF!+#REF!+#REF!+#REF!+#REF!+#REF!+#REF!+#REF!+#REF!","v":{"$error":"#REF!"}},{"$f":"#REF!+#REF!+#REF!+#REF!+#REF!+#REF!+#REF!+#REF!+#REF!+#REF!+#REF!+#REF!+#REF!+#REF!+#REF!+#REF!+#REF!+#REF!+#REF!+#REF!+#REF!+#REF!+#REF!+#REF!+#REF!+#REF!+#REF!+#REF!+#REF!+#REF!+#REF!+#REF!+#REF!","v":{"$error":"#REF!"}},{"$f":"'9_Per Pupil Summary'!L54","v":1790.252669912493},{"$f":"#REF!+#REF!+#REF!+#REF!+#REF!+#REF!+#REF!+#REF!+#REF!+#REF!+#REF!+#REF!+#REF!+#REF!+#REF!+#REF!+#REF!+#REF!+#REF!+#REF!+#REF!+#REF!+#REF!+#REF!+#REF!+#REF!+#REF!+#REF!+#REF!+#REF!+#REF!+#REF!+#REF!","v":{"$error":"#REF!"}},{"$f":"#REF!+#REF!+#REF!+#REF!+#REF!+#REF!+#REF!+#REF!+#REF!+#REF!+#REF!+#REF!+#REF!+#REF!+#REF!+#REF!+#REF!+#REF!+#REF!+#REF!+#REF!+#REF!+#REF!+#REF!+#REF!+#REF!+#REF!+#REF!+#REF!+#REF!+#REF!+#REF!+#REF!","v":{"$error":"#REF!"}},{"$f":"#REF!+#REF!","v":{"$error":"#REF!"}},{"$f":"#REF!+#REF!+#REF!+#REF!+#REF!+#REF!+#REF!+#REF!+#REF!+#REF!+#REF!+#REF!+#REF!+#REF!+#REF!+#REF!+#REF!+#REF!+#REF!+#REF!+#REF!+#REF!+#REF!+#REF!+#REF!+#REF!+#REF!+#REF!+#REF!+#REF!+#REF!+#REF!+#REF!","v":{"$error":"#REF!"}},{"$f":"#REF!+#REF!+#REF!+#REF!+#REF!+#REF!+#REF!+#REF!+#REF!+#REF!+#REF!+#REF!+#REF!+#REF!+#REF!+#REF!+#REF!+#REF!+#REF!+#REF!+#REF!+#REF!+#REF!+#REF!+#REF!+#REF!+#REF!+#REF!+#REF!+#REF!+#REF!+#REF!+#REF!","v":{"$error":"#REF!"}},{"$f":"#REF!+#REF!+#REF!+#REF!+#REF!+#REF!+#REF!+#REF!+#REF!+#REF!+#REF!+#REF!+#REF!+#REF!+#REF!+#REF!+#REF!+#REF!+#REF!+#REF!+#REF!+#REF!+#REF!+#REF!+#REF!+#REF!+#REF!+#REF!+#REF!+#REF!+#REF!+#REF!+#REF!","v":{"$error":"#REF!"}},{"$f":"#REF!+#REF!+#REF!+#REF!+#REF!+#REF!+#REF!+#REF!+#REF!+#REF!+#REF!+#REF!+#REF!+#REF!+#REF!+#REF!+#REF!+#REF!+#REF!+#REF!+#REF!+#REF!+#REF!+#REF!+#REF!+#REF!+#REF!+#REF!+#REF!+#REF!+#REF!+#REF!+#REF!","v":{"$error":"#REF!"}},{"$f":"#REF!+#REF!+#REF!+#REF!+#REF!+#REF!+#REF!+#REF!+#REF!+#REF!+#REF!+#REF!+#REF!+#REF!+#REF!+#REF!+#REF!+#REF!+#REF!+#REF!+#REF!+#REF!+#REF!+#REF!+#REF!+#REF!+#REF!+#REF!+#REF!+#REF!+#REF!+#REF!+#REF!","v":{"$error":"#REF!"}},{"$f":"#REF!+#REF!+#REF!+#REF!+#REF!+#REF!+#REF!+#REF!+#REF!+#REF!+#REF!+#REF!+#REF!+#REF!+#REF!+#REF!+#REF!+#REF!+#REF!+#REF!+#REF!+#REF!+#REF!+#REF!+#REF!+#REF!+#REF!+#REF!+#REF!+#REF!+#REF!+#REF!+#REF!","v":{"$error":"#REF!"}},{"$f":"#REF!+#REF!+#REF!+#REF!+#REF!+#REF!+#REF!+#REF!+#REF!+#REF!+#REF!+#REF!+#REF!+#REF!+#REF!+#REF!+#REF!+#REF!+#REF!+#REF!+#REF!+#REF!+#REF!+#REF!+#REF!+#REF!+#REF!+#REF!+#REF!+#REF!+#REF!+#REF!+#REF!","v":{"$error":"#REF!"}},{"$f":"#REF!+#REF!+#REF!+#REF!+#REF!+#REF!+#REF!+#REF!+#REF!+#REF!+#REF!+#REF!+#REF!+#REF!+#REF!+#REF!+#REF!+#REF!+#REF!+#REF!+#REF!+#REF!+#REF!+#REF!+#REF!+#REF!+#REF!+#REF!+#REF!+#REF!+#REF!+#REF!+#REF!","v":{"$error":"#REF!"}},{"$f":"#REF!+#REF!+#REF!+#REF!+#REF!+#REF!+#REF!+#REF!+#REF!+#REF!+#REF!+#REF!+#REF!+#REF!+#REF!+#REF!+#REF!+#REF!+#REF!+#REF!+#REF!+#REF!+#REF!+#REF!+#REF!+#REF!+#REF!+#REF!+#REF!+#REF!+#REF!+#REF!+#REF!","v":{"$error":"#REF!"}},{"$f":"#REF!+#REF!+#REF!+#REF!+#REF!+#REF!+#REF!+#REF!+#REF!+#REF!+#REF!+#REF!+#REF!+#REF!+#REF!+#REF!+#REF!+#REF!+#REF!+#REF!+#REF!+#REF!+#REF!+#REF!+#REF!+#REF!+#REF!+#REF!+#REF!+#REF!+#REF!+#REF!+#REF!","v":{"$error":"#REF!"}},{"$f":"#REF!+#REF!+#REF!+#REF!+#REF!+#REF!+#REF!+#REF!+#REF!+#REF!+#REF!+#REF!+#REF!+#REF!+#REF!+#REF!+#REF!+#REF!+#REF!+#REF!+#REF!+#REF!+#REF!+#REF!+#REF!+#REF!+#REF!+#REF!+#REF!+#REF!+#REF!+#REF!+#REF!","v":{"$error":"#REF!"}},{"$f":"#REF!+#REF!+#REF!+#REF!+#REF!+#REF!+#REF!+#REF!+#REF!+#REF!+#REF!+#REF!+#REF!+#REF!+#REF!+#REF!+#REF!+#REF!+#REF!+#REF!+#REF!+#REF!+#REF!+#REF!+#REF!+#REF!+#REF!+#REF!+#REF!+#REF!+#REF!+#REF!+#REF!","v":{"$error":"#REF!"}},{"$f":"'9_Per Pupil Summary'!N54","v":3820},{"$f":"#REF!+#REF!+#REF!+#REF!+#REF!+#REF!+#REF!+#REF!+#REF!+#REF!+#REF!+#REF!+#REF!+#REF!+#REF!+#REF!+#REF!+#REF!+#REF!+#REF!+#REF!+#REF!+#REF!+#REF!+#REF!+#REF!+#REF!+#REF!+#REF!+#REF!+#REF!+#REF!+#REF!","v":{"$error":"#REF!"}},{"$f":"#REF!+#REF!+#REF!+#REF!+#REF!+#REF!+#REF!+#REF!+#REF!+#REF!+#REF!+#REF!+#REF!+#REF!+#REF!+#REF!+#REF!+#REF!+#REF!+#REF!+#REF!+#REF!+#REF!+#REF!+#REF!+#REF!+#REF!+#REF!+#REF!+#REF!+#REF!+#REF!+#REF!","v":{"$error":"#REF!"}},{"$f":"#REF!+#REF!+#REF!+#REF!+#REF!+#REF!+#REF!+#REF!+#REF!+#REF!+#REF!+#REF!+#REF!+#REF!+#REF!+#REF!+#REF!+#REF!+#REF!+#REF!+#REF!+#REF!+#REF!+#REF!+#REF!+#REF!+#REF!+#REF!+#REF!+#REF!+#REF!+#REF!+#REF!","v":{"$error":"#REF!"}},{"$f":"#REF!+#REF!+#REF!+#REF!+#REF!+#REF!+#REF!+#REF!+#REF!+#REF!+#REF!+#REF!+#REF!+#REF!+#REF!+#REF!+#REF!+#REF!+#REF!+#REF!+#REF!+#REF!+#REF!+#REF!+#REF!+#REF!+#REF!+#REF!+#REF!+#REF!+#REF!+#REF!+#REF!","v":{"$error":"#REF!"}},{"$f":"#REF!+#REF!+#REF!+#REF!+#REF!+#REF!+#REF!+#REF!+#REF!+#REF!+#REF!+#REF!+#REF!+#REF!+#REF!+#REF!+#REF!+#REF!+#REF!+#REF!+#REF!+#REF!+#REF!+#REF!+#REF!+#REF!+#REF!+#REF!+#REF!+#REF!+#REF!+#REF!+#REF!","v":{"$error":"#REF!"}},{"$f":"#REF!+#REF!+#REF!+#REF!+#REF!+#REF!+#REF!+#REF!+#REF!+#REF!+#REF!+#REF!+#REF!+#REF!+#REF!+#REF!+#REF!+#REF!+#REF!+#REF!+#REF!+#REF!+#REF!+#REF!+#REF!+#REF!+#REF!+#REF!+#REF!+#REF!+#REF!+#REF!+#REF!","v":{"$error":"#REF!"}},{"$f":"#REF!+#REF!+#REF!+#REF!+#REF!+#REF!+#REF!+#REF!+#REF!+#REF!+#REF!+#REF!+#REF!+#REF!+#REF!+#REF!+#REF!+#REF!+#REF!+#REF!+#REF!+#REF!+#REF!+#REF!+#REF!+#REF!+#REF!+#REF!+#REF!+#REF!+#REF!+#REF!+#REF!","v":{"$error":"#REF!"}},{"$f":"#REF!+#REF!+#REF!+#REF!+#REF!+#REF!+#REF!+#REF!+#REF!+#REF!+#REF!+#REF!+#REF!+#REF!+#REF!+#REF!+#REF!+#REF!+#REF!+#REF!+#REF!+#REF!+#REF!+#REF!+#REF!+#REF!+#REF!+#REF!+#REF!+#REF!+#REF!+#REF!+#REF!","v":{"$error":"#REF!"}},{"$f":"#REF!+#REF!+#REF!+#REF!+#REF!+#REF!+#REF!+#REF!+#REF!+#REF!+#REF!+#REF!+#REF!+#REF!+#REF!+#REF!+#REF!+#REF!+#REF!+#REF!+#REF!+#REF!+#REF!+#REF!+#REF!+#REF!+#REF!+#REF!+#REF!+#REF!+#REF!+#REF!+#REF!","v":{"$error":"#REF!"}},{"$f":"#REF!+#REF!+#REF!+#REF!+#REF!+#REF!+#REF!+#REF!+#REF!+#REF!+#REF!+#REF!+#REF!+#REF!+#REF!+#REF!+#REF!+#REF!+#REF!+#REF!+#REF!+#REF!+#REF!+#REF!+#REF!+#REF!+#REF!+#REF!+#REF!+#REF!+#REF!+#REF!+#REF!","v":{"$error":"#REF!"}},{"$f":"#REF!+#REF!+#REF!+#REF!+#REF!+#REF!+#REF!+#REF!+#REF!+#REF!+#REF!+#REF!+#REF!+#REF!+#REF!+#REF!+#REF!+#REF!+#REF!+#REF!+#REF!+#REF!+#REF!+#REF!+#REF!+#REF!+#REF!+#REF!+#REF!+#REF!+#REF!+#REF!+#REF!","v":{"$error":"#REF!"}},{"$f":"#REF!+#REF!+#REF!+#REF!+#REF!+#REF!+#REF!+#REF!+#REF!+#REF!+#REF!+#REF!+#REF!+#REF!+#REF!+#REF!+#REF!+#REF!+#REF!+#REF!+#REF!+#REF!+#REF!+#REF!+#REF!+#REF!+#REF!+#REF!+#REF!+#REF!+#REF!+#REF!+#REF!","v":{"$error":"#REF!"}},{"$f":"#REF!+#REF!+#REF!+#REF!+#REF!+#REF!+#REF!+#REF!+#REF!+#REF!+#REF!+#REF!+#REF!+#REF!+#REF!+#REF!+#REF!+#REF!+#REF!+#REF!+#REF!+#REF!+#REF!+#REF!+#REF!+#REF!+#REF!+#REF!+#REF!+#REF!+#REF!+#REF!+#REF!","v":{"$error":"#REF!"}},{"$f":"#REF!+#REF!+#REF!+#REF!+#REF!+#REF!+#REF!+#REF!+#REF!+#REF!+#REF!+#REF!+#REF!+#REF!+#REF!+#REF!+#REF!+#REF!+#REF!+#REF!+#REF!+#REF!+#REF!+#REF!+#REF!+#REF!+#REF!+#REF!+#REF!+#REF!+#REF!+#REF!+#REF!","v":{"$error":"#REF!"}},{"$error":"#REF!"},{"$error":"#REF!"},{"$f":"#REF!+#REF!+#REF!+#REF!+#REF!+#REF!+#REF!+#REF!+#REF!+#REF!+#REF!+#REF!+#REF!+#REF!+#REF!+#REF!+#REF!+#REF!+#REF!+#REF!+#REF!+#REF!+#REF!+#REF!+#REF!+#REF!+#REF!+#REF!+#REF!+#REF!+#REF!+#REF!+#REF!","v":{"$error":"#REF!"}},null,{"$error":"#REF!"}]
[50,"St. Martin",{"$f":"#REF!+#REF!+#REF!+#REF!+#REF!+#REF!+#REF!+#REF!+#REF!+#REF!+#REF!+#REF!+#REF!+#REF!+#REF!+#REF!+#REF!+#REF!+#REF!+#REF!+#REF!+#REF!+#REF!+#REF!+#REF!+#REF!+#REF!+#REF!+#REF!+#REF!+#REF!+#REF!+#REF!","v":{"$error":"#REF!"}},{"$f":"'9_Per Pupil Summary'!H55","v":4732.1995999877372},{"$f":"#REF!+#REF!+#REF!+#REF!+#REF!+#REF!+#REF!+#REF!+#REF!+#REF!+#REF!+#REF!+#REF!+#REF!+#REF!+#REF!+#REF!+#REF!+#REF!+#REF!+#REF!+#REF!+#REF!+#REF!+#REF!+#REF!+#REF!+#REF!+#REF!+#REF!+#REF!+#REF!+#REF!","v":{"$error":"#REF!"}},{"$f":"#REF!+#REF!+#REF!+#REF!+#REF!+#REF!+#REF!+#REF!+#REF!+#REF!+#REF!+#REF!+#REF!+#REF!+#REF!+#REF!+#REF!+#REF!+#REF!+#REF!+#REF!+#REF!+#REF!+#REF!+#REF!+#REF!+#REF!+#REF!+#REF!+#REF!+#REF!+#REF!+#REF!","v":{"$error":"#REF!"}},{"$f":"'9_Per Pupil Summary'!I55","v":637.19189564128419},{"$f":"#REF!+#REF!+#REF!+#REF!+#REF!+#REF!+#REF!+#REF!+#REF!+#REF!+#REF!+#REF!+#REF!+#REF!+#REF!+#REF!+#REF!+#REF!+#REF!+#REF!+#REF!+#REF!+#REF!+#REF!+#REF!+#REF!+#REF!+#REF!+#REF!+#REF!+#REF!+#REF!+#REF!","v":{"$error":"#REF!"}},{"$f":"#REF!+#REF!+#REF!+#REF!+#REF!+#REF!+#REF!+#REF!+#REF!+#REF!+#REF!+#REF!+#REF!+#REF!+#REF!+#REF!+#REF!+#REF!+#REF!+#REF!+#REF!+#REF!+#REF!+#REF!+#REF!+#REF!+#REF!+#REF!+#REF!+#REF!+#REF!+#REF!+#REF!","v":{"$error":"#REF!"}},{"$f":"'9_Per Pupil Summary'!J55","v":173.77960790216841},{"$f":"#REF!+#REF!+#REF!+#REF!+#REF!+#REF!+#REF!+#REF!+#REF!+#REF!+#REF!+#REF!+#REF!+#REF!+#REF!+#REF!+#REF!+#REF!+#REF!+#REF!+#REF!+#REF!+#REF!+#REF!+#REF!+#REF!+#REF!+#REF!+#REF!+#REF!+#REF!+#REF!+#REF!","v":{"$error":"#REF!"}},{"$f":"#REF!+#REF!+#REF!+#REF!+#REF!+#REF!+#REF!+#REF!+#REF!+#REF!+#REF!+#REF!+#REF!+#REF!+#REF!+#REF!+#REF!+#REF!+#REF!+#REF!+#REF!+#REF!+#REF!+#REF!+#REF!+#REF!+#REF!+#REF!+#REF!+#REF!+#REF!+#REF!+#REF!","v":{"$error":"#REF!"}},{"$f":"'9_Per Pupil Summary'!K55","v":4344.4901975542107},{"$f":"#REF!+#REF!+#REF!+#REF!+#REF!+#REF!+#REF!+#REF!+#REF!+#REF!+#REF!+#REF!+#REF!+#REF!+#REF!+#REF!+#REF!+#REF!+#REF!+#REF!+#REF!+#REF!+#REF!+#REF!+#REF!+#REF!+#REF!+#REF!+#REF!+#REF!+#REF!+#REF!+#REF!","v":{"$error":"#REF!"}},{"$f":"#REF!+#REF!+#REF!+#REF!+#REF!+#REF!+#REF!+#REF!+#REF!+#REF!+#REF!+#REF!+#REF!+#REF!+#REF!+#REF!+#REF!+#REF!+#REF!+#REF!+#REF!+#REF!+#REF!+#REF!+#REF!+#REF!+#REF!+#REF!+#REF!+#REF!+#REF!+#REF!+#REF!","v":{"$error":"#REF!"}},{"$f":"'9_Per Pupil Summary'!L55","v":1737.7960790216841},{"$f":"#REF!+#REF!+#REF!+#REF!+#REF!+#REF!+#REF!+#REF!+#REF!+#REF!+#REF!+#REF!+#REF!+#REF!+#REF!+#REF!+#REF!+#REF!+#REF!+#REF!+#REF!+#REF!+#REF!+#REF!+#REF!+#REF!+#REF!+#REF!+#REF!+#REF!+#REF!+#REF!+#REF!","v":{"$error":"#REF!"}},{"$f":"#REF!+#REF!+#REF!+#REF!+#REF!+#REF!+#REF!+#REF!+#REF!+#REF!+#REF!+#REF!+#REF!+#REF!+#REF!+#REF!+#REF!+#REF!+#REF!+#REF!+#REF!+#REF!+#REF!+#REF!+#REF!+#REF!+#REF!+#REF!+#REF!+#REF!+#REF!+#REF!+#REF!","v":{"$error":"#REF!"}},{"$f":"#REF!+#REF!","v":{"$error":"#REF!"}},{"$f":"#REF!+#REF!+#REF!+#REF!+#REF!+#REF!+#REF!+#REF!+#REF!+#REF!+#REF!+#REF!+#REF!+#REF!+#REF!+#REF!+#REF!+#REF!+#REF!+#REF!+#REF!+#REF!+#REF!+#REF!+#REF!+#REF!+#REF!+#REF!+#REF!+#REF!+#REF!+#REF!+#REF!","v":{"$error":"#REF!"}},{"$f":"#REF!+#REF!+#REF!+#REF!+#REF!+#REF!+#REF!+#REF!+#REF!+#REF!+#REF!+#REF!+#REF!+#REF!+#REF!+#REF!+#REF!+#REF!+#REF!+#REF!+#REF!+#REF!+#REF!+#REF!+#REF!+#REF!+#REF!+#REF!+#REF!+#REF!+#REF!+#REF!+#REF!","v":{"$error":"#REF!"}},{"$f":"#REF!+#REF!+#REF!+#REF!+#REF!+#REF!+#REF!+#REF!+#REF!+#REF!+#REF!+#REF!+#REF!+#REF!+#REF!+#REF!+#REF!+#REF!+#REF!+#REF!+#REF!+#REF!+#REF!+#REF!+#REF!+#REF!+#REF!+#REF!+#REF!+#REF!+#REF!+#REF!+#REF!","v":{"$error":"#REF!"}},{"$f":"#REF!+#REF!+#REF!+#REF!+#REF!+#REF!+#REF!+#REF!+#REF!+#REF!+#REF!+#REF!+#REF!+#REF!+#REF!+#REF!+#REF!+#REF!+#REF!+#REF!+#REF!+#REF!+#REF!+#REF!+#REF!+#REF!+#REF!+#REF!+#REF!+#REF!+#REF!+#REF!+#REF!","v":{"$error":"#REF!"}},{"$f":"#REF!+#REF!+#REF!+#REF!+#REF!+#REF!+#REF!+#REF!+#REF!+#REF!+#REF!+#REF!+#REF!+#REF!+#REF!+#REF!+#REF!+#REF!+#REF!+#REF!+#REF!+#REF!+#REF!+#REF!+#REF!+#REF!+#REF!+#REF!+#REF!+#REF!+#REF!+#REF!+#REF!","v":{"$error":"#REF!"}},{"$f":"#REF!+#REF!+#REF!+#REF!+#REF!+#REF!+#REF!+#REF!+#REF!+#REF!+#REF!+#REF!+#REF!+#REF!+#REF!+#REF!+#REF!+#REF!+#REF!+#REF!+#REF!+#REF!+#REF!+#REF!+#REF!+#REF!+#REF!+#REF!+#REF!+#REF!+#REF!+#REF!+#REF!","v":{"$error":"#REF!"}},{"$f":"#REF!+#REF!+#REF!+#REF!+#REF!+#REF!+#REF!+#REF!+#REF!+#REF!+#REF!+#REF!+#REF!+#REF!+#REF!+#REF!+#REF!+#REF!+#REF!+#REF!+#REF!+#REF!+#REF!+#REF!+#REF!+#REF!+#REF!+#REF!+#REF!+#REF!+#REF!+#REF!+#REF!","v":{"$error":"#REF!"}},{"$f":"#REF!+#REF!+#REF!+#REF!+#REF!+#REF!+#REF!+#REF!+#REF!+#REF!+#REF!+#REF!+#REF!+#REF!+#REF!+#REF!+#REF!+#REF!+#REF!+#REF!+#REF!+#REF!+#REF!+#REF!+#REF!+#REF!+#REF!+#REF!+#REF!+#REF!+#REF!+#REF!+#REF!","v":{"$error":"#REF!"}},{"$f":"#REF!+#REF!+#REF!+#REF!+#REF!+#REF!+#REF!+#REF!+#REF!+#REF!+#REF!+#REF!+#REF!+#REF!+#REF!+#REF!+#REF!+#REF!+#REF!+#REF!+#REF!+#REF!+#REF!+#REF!+#REF!+#REF!+#REF!+#REF!+#REF!+#REF!+#REF!+#REF!+#REF!","v":{"$error":"#REF!"}},{"$f":"#REF!+#REF!+#REF!+#REF!+#REF!+#REF!+#REF!+#REF!+#REF!+#REF!+#REF!+#REF!+#REF!+#REF!+#REF!+#REF!+#REF!+#REF!+#REF!+#REF!+#REF!+#REF!+#REF!+#REF!+#REF!+#REF!+#REF!+#REF!+#REF!+#REF!+#REF!+#REF!+#REF!","v":{"$error":"#REF!"}},{"$f":"#REF!+#REF!+#REF!+#REF!+#REF!+#REF!+#REF!+#REF!+#REF!+#REF!+#REF!+#REF!+#REF!+#REF!+#REF!+#REF!+#REF!+#REF!+#REF!+#REF!+#REF!+#REF!+#REF!+#REF!+#REF!+#REF!+#REF!+#REF!+#REF!+#REF!+#REF!+#REF!+#REF!","v":{"$error":"#REF!"}},{"$f":"#REF!+#REF!+#REF!+#REF!+#REF!+#REF!+#REF!+#REF!+#REF!+#REF!+#REF!+#REF!+#REF!+#REF!+#REF!+#REF!+#REF!+#REF!+#REF!+#REF!+#REF!+#REF!+#REF!+#REF!+#REF!+#REF!+#REF!+#REF!+#REF!+#REF!+#REF!+#REF!+#REF!","v":{"$error":"#REF!"}},{"$f":"'9_Per Pupil Summary'!N55","v":5165},{"$f":"#REF!+#REF!+#REF!+#REF!+#REF!+#REF!+#REF!+#REF!+#REF!+#REF!+#REF!+#REF!+#REF!+#REF!+#REF!+#REF!+#REF!+#REF!+#REF!+#REF!+#REF!+#REF!+#REF!+#REF!+#REF!+#REF!+#REF!+#REF!+#REF!+#REF!+#REF!+#REF!+#REF!","v":{"$error":"#REF!"}},{"$f":"#REF!+#REF!+#REF!+#REF!+#REF!+#REF!+#REF!+#REF!+#REF!+#REF!+#REF!+#REF!+#REF!+#REF!+#REF!+#REF!+#REF!+#REF!+#REF!+#REF!+#REF!+#REF!+#REF!+#REF!+#REF!+#REF!+#REF!+#REF!+#REF!+#REF!+#REF!+#REF!+#REF!","v":{"$error":"#REF!"}},{"$f":"#REF!+#REF!+#REF!+#REF!+#REF!+#REF!+#REF!+#REF!+#REF!+#REF!+#REF!+#REF!+#REF!+#REF!+#REF!+#REF!+#REF!+#REF!+#REF!+#REF!+#REF!+#REF!+#REF!+#REF!+#REF!+#REF!+#REF!+#REF!+#REF!+#REF!+#REF!+#REF!+#REF!","v":{"$error":"#REF!"}},{"$f":"#REF!+#REF!+#REF!+#REF!+#REF!+#REF!+#REF!+#REF!+#REF!+#REF!+#REF!+#REF!+#REF!+#REF!+#REF!+#REF!+#REF!+#REF!+#REF!+#REF!+#REF!+#REF!+#REF!+#REF!+#REF!+#REF!+#REF!+#REF!+#REF!+#REF!+#REF!+#REF!+#REF!","v":{"$error":"#REF!"}},{"$f":"#REF!+#REF!+#REF!+#REF!+#REF!+#REF!+#REF!+#REF!+#REF!+#REF!+#REF!+#REF!+#REF!+#REF!+#REF!+#REF!+#REF!+#REF!+#REF!+#REF!+#REF!+#REF!+#REF!+#REF!+#REF!+#REF!+#REF!+#REF!+#REF!+#REF!+#REF!+#REF!+#REF!","v":{"$error":"#REF!"}},{"$f":"#REF!+#REF!+#REF!+#REF!+#REF!+#REF!+#REF!+#REF!+#REF!+#REF!+#REF!+#REF!+#REF!+#REF!+#REF!+#REF!+#REF!+#REF!+#REF!+#REF!+#REF!+#REF!+#REF!+#REF!+#REF!+#REF!+#REF!+#REF!+#REF!+#REF!+#REF!+#REF!+#REF!","v":{"$error":"#REF!"}},{"$f":"#REF!+#REF!+#REF!+#REF!+#REF!+#REF!+#REF!+#REF!+#REF!+#REF!+#REF!+#REF!+#REF!+#REF!+#REF!+#REF!+#REF!+#REF!+#REF!+#REF!+#REF!+#REF!+#REF!+#REF!+#REF!+#REF!+#REF!+#REF!+#REF!+#REF!+#REF!+#REF!+#REF!","v":{"$error":"#REF!"}},{"$f":"#REF!+#REF!+#REF!+#REF!+#REF!+#REF!+#REF!+#REF!+#REF!+#REF!+#REF!+#REF!+#REF!+#REF!+#REF!+#REF!+#REF!+#REF!+#REF!+#REF!+#REF!+#REF!+#REF!+#REF!+#REF!+#REF!+#REF!+#REF!+#REF!+#REF!+#REF!+#REF!+#REF!","v":{"$error":"#REF!"}},{"$f":"#REF!+#REF!+#REF!+#REF!+#REF!+#REF!+#REF!+#REF!+#REF!+#REF!+#REF!+#REF!+#REF!+#REF!+#REF!+#REF!+#REF!+#REF!+#REF!+#REF!+#REF!+#REF!+#REF!+#REF!+#REF!+#REF!+#REF!+#REF!+#REF!+#REF!+#REF!+#REF!+#REF!","v":{"$error":"#REF!"}},{"$f":"#REF!+#REF!+#REF!+#REF!+#REF!+#REF!+#REF!+#REF!+#REF!+#REF!+#REF!+#REF!+#REF!+#REF!+#REF!+#REF!+#REF!+#REF!+#REF!+#REF!+#REF!+#REF!+#REF!+#REF!+#REF!+#REF!+#REF!+#REF!+#REF!+#REF!+#REF!+#REF!+#REF!","v":{"$error":"#REF!"}},{"$f":"#REF!+#REF!+#REF!+#REF!+#REF!+#REF!+#REF!+#REF!+#REF!+#REF!+#REF!+#REF!+#REF!+#REF!+#REF!+#REF!+#REF!+#REF!+#REF!+#REF!+#REF!+#REF!+#REF!+#REF!+#REF!+#REF!+#REF!+#REF!+#REF!+#REF!+#REF!+#REF!+#REF!","v":{"$error":"#REF!"}},{"$f":"#REF!+#REF!+#REF!+#REF!+#REF!+#REF!+#REF!+#REF!+#REF!+#REF!+#REF!+#REF!+#REF!+#REF!+#REF!+#REF!+#REF!+#REF!+#REF!+#REF!+#REF!+#REF!+#REF!+#REF!+#REF!+#REF!+#REF!+#REF!+#REF!+#REF!+#REF!+#REF!+#REF!","v":{"$error":"#REF!"}},{"$f":"#REF!+#REF!+#REF!+#REF!+#REF!+#REF!+#REF!+#REF!+#REF!+#REF!+#REF!+#REF!+#REF!+#REF!+#REF!+#REF!+#REF!+#REF!+#REF!+#REF!+#REF!+#REF!+#REF!+#REF!+#REF!+#REF!+#REF!+#REF!+#REF!+#REF!+#REF!+#REF!+#REF!","v":{"$error":"#REF!"}},{"$f":"#REF!+#REF!+#REF!+#REF!+#REF!+#REF!+#REF!+#REF!+#REF!+#REF!+#REF!+#REF!+#REF!+#REF!+#REF!+#REF!+#REF!+#REF!+#REF!+#REF!+#REF!+#REF!+#REF!+#REF!+#REF!+#REF!+#REF!+#REF!+#REF!+#REF!+#REF!+#REF!+#REF!","v":{"$error":"#REF!"}},{"$error":"#REF!"},{"$error":"#REF!"},{"$f":"#REF!+#REF!+#REF!+#REF!+#REF!+#REF!+#REF!+#REF!+#REF!+#REF!+#REF!+#REF!+#REF!+#REF!+#REF!+#REF!+#REF!+#REF!+#REF!+#REF!+#REF!+#REF!+#REF!+#REF!+#REF!+#REF!+#REF!+#REF!+#REF!+#REF!+#REF!+#REF!+#REF!","v":{"$error":"#REF!"}},null,{"$error":"#REF!"}]
[51,"St. Mary",{"$f":"#REF!+#REF!+#REF!+#REF!+#REF!+#REF!+#REF!+#REF!+#REF!+#REF!+#REF!+#REF!+#REF!+#REF!+#REF!+#REF!+#REF!+#REF!+#REF!+#REF!+#REF!+#REF!+#REF!+#REF!+#REF!+#REF!+#REF!+#REF!+#REF!+#REF!+#REF!+#REF!+#REF!","v":{"$error":"#REF!"}},{"$f":"'9_Per Pupil Summary'!H56","v":4701.7945153153714},{"$f":"#REF!+#REF!+#REF!+#REF!+#REF!+#REF!+#REF!+#REF!+#REF!+#REF!+#REF!+#REF!+#REF!+#REF!+#REF!+#REF!+#REF!+#REF!+#REF!+#REF!+#REF!+#REF!+#REF!+#REF!+#REF!+#REF!+#REF!+#REF!+#REF!+#REF!+#REF!+#REF!+#REF!","v":{"$error":"#REF!"}},{"$f":"#REF!+#REF!+#REF!+#REF!+#REF!+#REF!+#REF!+#REF!+#REF!+#REF!+#REF!+#REF!+#REF!+#REF!+#REF!+#REF!+#REF!+#REF!+#REF!+#REF!+#REF!+#REF!+#REF!+#REF!+#REF!+#REF!+#REF!+#REF!+#REF!+#REF!+#REF!+#REF!+#REF!","v":{"$error":"#REF!"}},{"$f":"'9_Per Pupil Summary'!I56","v":618.57875252854092},{"$f":"#REF!+#REF!+#REF!+#REF!+#REF!+#REF!+#REF!+#REF!+#REF!+#REF!+#REF!+#REF!+#REF!+#REF!+#REF!+#REF!+#REF!+#REF!+#REF!+#REF!+#REF!+#REF!+#REF!+#REF!+#REF!+#REF!+#REF!+#REF!+#REF!+#REF!+#REF!+#REF!+#REF!","v":{"$error":"#REF!"}},{"$f":"#REF!+#REF!+#REF!+#REF!+#REF!+#REF!+#REF!+#REF!+#REF!+#REF!+#REF!+#REF!+#REF!+#REF!+#REF!+#REF!+#REF!+#REF!+#REF!+#REF!+#REF!+#REF!+#REF!+#REF!+#REF!+#REF!+#REF!+#REF!+#REF!+#REF!+#REF!+#REF!+#REF!","v":{"$error":"#REF!"}},{"$f":"'9_Per Pupil Summary'!J56","v":168.70329614414752},{"$f":"#REF!+#REF!+#REF!+#REF!+#REF!+#REF!+#REF!+#REF!+#REF!+#REF!+#REF!+#REF!+#REF!+#REF!+#REF!+#REF!+#REF!+#REF!+#REF!+#REF!+#REF!+#REF!+#REF!+#REF!+#REF!+#REF!+#REF!+#REF!+#REF!+#REF!+#REF!+#REF!+#REF!","v":{"$error":"#REF!"}},{"$f":"#REF!+#REF!+#REF!+#REF!+#REF!+#REF!+#REF!+#REF!+#REF!+#REF!+#REF!+#REF!+#REF!+#REF!+#REF!+#REF!+#REF!+#REF!+#REF!+#REF!+#REF!+#REF!+#REF!+#REF!+#REF!+#REF!+#REF!+#REF!+#REF!+#REF!+#REF!+#REF!+#REF!","v":{"$error":"#REF!"}},{"$f":"'9_Per Pupil Summary'!K56","v":4217.5824036036875},{"$f":"#REF!+#REF!+#REF!+#REF!+#REF!+#REF!+#REF!+#REF!+#REF!+#REF!+#REF!+#REF!+#REF!+#REF!+#REF!+#REF!+#REF!+#REF!+#REF!+#REF!+#REF!+#REF!+#REF!+#REF!+#REF!+#REF!+#REF!+#REF!+#REF!+#REF!+#REF!+#REF!+#REF!","v":{"$error":"#REF!"}},{"$f":"#REF!+#REF!+#REF!+#REF!+#REF!+#REF!+#REF!+#REF!+#REF!+#REF!+#REF!+#REF!+#REF!+#REF!+#REF!+#REF!+#REF!+#REF!+#REF!+#REF!+#REF!+#REF!+#REF!+#REF!+#REF!+#REF!+#REF!+#REF!+#REF!+#REF!+#REF!+#REF!+#REF!","v":{"$error":"#REF!"}},{"$f":"'9_Per Pupil Summary'!L56","v":1687.0329614414752},{"$f":"#REF!+#REF!+#REF!+#REF!+#REF!+#REF!+#REF!+#REF!+#REF!+#REF!+#REF!+#REF!+#REF!+#REF!+#REF!+#REF!+#REF!+#REF!+#REF!+#REF!+#REF!+#REF!+#REF!+#REF!+#REF!+#REF!+#REF!+#REF!+#REF!+#REF!+#REF!+#REF!+#REF!","v":{"$error":"#REF!"}},{"$f":"#REF!+#REF!+#REF!+#REF!+#REF!+#REF!+#REF!+#REF!+#REF!+#REF!+#REF!+#REF!+#REF!+#REF!+#REF!+#REF!+#REF!+#REF!+#REF!+#REF!+#REF!+#REF!+#REF!+#REF!+#REF!+#REF!+#REF!+#REF!+#REF!+#REF!+#REF!+#REF!+#REF!","v":{"$error":"#REF!"}},{"$f":"#REF!+#REF!","v":{"$error":"#REF!"}},{"$f":"#REF!+#REF!+#REF!+#REF!+#REF!+#REF!+#REF!+#REF!+#REF!+#REF!+#REF!+#REF!+#REF!+#REF!+#REF!+#REF!+#REF!+#REF!+#REF!+#REF!+#REF!+#REF!+#REF!+#REF!+#REF!+#REF!+#REF!+#REF!+#REF!+#REF!+#REF!+#REF!+#REF!","v":{"$error":"#REF!"}},{"$f":"#REF!+#REF!+#REF!+#REF!+#REF!+#REF!+#REF!+#REF!+#REF!+#REF!+#REF!+#REF!+#REF!+#REF!+#REF!+#REF!+#REF!+#REF!+#REF!+#REF!+#REF!+#REF!+#REF!+#REF!+#REF!+#REF!+#REF!+#REF!+#REF!+#REF!+#REF!+#REF!+#REF!","v":{"$error":"#REF!"}},{"$f":"#REF!+#REF!+#REF!+#REF!+#REF!+#REF!+#REF!+#REF!+#REF!+#REF!+#REF!+#REF!+#REF!+#REF!+#REF!+#REF!+#REF!+#REF!+#REF!+#REF!+#REF!+#REF!+#REF!+#REF!+#REF!+#REF!+#REF!+#REF!+#REF!+#REF!+#REF!+#REF!+#REF!","v":{"$error":"#REF!"}},{"$f":"#REF!+#REF!+#REF!+#REF!+#REF!+#REF!+#REF!+#REF!+#REF!+#REF!+#REF!+#REF!+#REF!+#REF!+#REF!+#REF!+#REF!+#REF!+#REF!+#REF!+#REF!+#REF!+#REF!+#REF!+#REF!+#REF!+#REF!+#REF!+#REF!+#REF!+#REF!+#REF!+#REF!","v":{"$error":"#REF!"}},{"$f":"#REF!+#REF!+#REF!+#REF!+#REF!+#REF!+#REF!+#REF!+#REF!+#REF!+#REF!+#REF!+#REF!+#REF!+#REF!+#REF!+#REF!+#REF!+#REF!+#REF!+#REF!+#REF!+#REF!+#REF!+#REF!+#REF!+#REF!+#REF!+#REF!+#REF!+#REF!+#REF!+#REF!","v":{"$error":"#REF!"}},{"$f":"#REF!+#REF!+#REF!+#REF!+#REF!+#REF!+#REF!+#REF!+#REF!+#REF!+#REF!+#REF!+#REF!+#REF!+#REF!+#REF!+#REF!+#REF!+#REF!+#REF!+#REF!+#REF!+#REF!+#REF!+#REF!+#REF!+#REF!+#REF!+#REF!+#REF!+#REF!+#REF!+#REF!","v":{"$error":"#REF!"}},{"$f":"#REF!+#REF!+#REF!+#REF!+#REF!+#REF!+#REF!+#REF!+#REF!+#REF!+#REF!+#REF!+#REF!+#REF!+#REF!+#REF!+#REF!+#REF!+#REF!+#REF!+#REF!+#REF!+#REF!+#REF!+#REF!+#REF!+#REF!+#REF!+#REF!+#REF!+#REF!+#REF!+#REF!","v":{"$error":"#REF!"}},{"$f":"#REF!+#REF!+#REF!+#REF!+#REF!+#REF!+#REF!+#REF!+#REF!+#REF!+#REF!+#REF!+#REF!+#REF!+#REF!+#REF!+#REF!+#REF!+#REF!+#REF!+#REF!+#REF!+#REF!+#REF!+#REF!+#REF!+#REF!+#REF!+#REF!+#REF!+#REF!+#REF!+#REF!","v":{"$error":"#REF!"}},{"$f":"#REF!+#REF!+#REF!+#REF!+#REF!+#REF!+#REF!+#REF!+#REF!+#REF!+#REF!+#REF!+#REF!+#REF!+#REF!+#REF!+#REF!+#REF!+#REF!+#REF!+#REF!+#REF!+#REF!+#REF!+#REF!+#REF!+#REF!+#REF!+#REF!+#REF!+#REF!+#REF!+#REF!","v":{"$error":"#REF!"}},{"$f":"#REF!+#REF!+#REF!+#REF!+#REF!+#REF!+#REF!+#REF!+#REF!+#REF!+#REF!+#REF!+#REF!+#REF!+#REF!+#REF!+#REF!+#REF!+#REF!+#REF!+#REF!+#REF!+#REF!+#REF!+#REF!+#REF!+#REF!+#REF!+#REF!+#REF!+#REF!+#REF!+#REF!","v":{"$error":"#REF!"}},{"$f":"#REF!+#REF!+#REF!+#REF!+#REF!+#REF!+#REF!+#REF!+#REF!+#REF!+#REF!+#REF!+#REF!+#REF!+#REF!+#REF!+#REF!+#REF!+#REF!+#REF!+#REF!+#REF!+#REF!+#REF!+#REF!+#REF!+#REF!+#REF!+#REF!+#REF!+#REF!+#REF!+#REF!","v":{"$error":"#REF!"}},{"$f":"#REF!+#REF!+#REF!+#REF!+#REF!+#REF!+#REF!+#REF!+#REF!+#REF!+#REF!+#REF!+#REF!+#REF!+#REF!+#REF!+#REF!+#REF!+#REF!+#REF!+#REF!+#REF!+#REF!+#REF!+#REF!+#REF!+#REF!+#REF!+#REF!+#REF!+#REF!+#REF!+#REF!","v":{"$error":"#REF!"}},{"$f":"'9_Per Pupil Summary'!N56","v":6434},{"$f":"#REF!+#REF!+#REF!+#REF!+#REF!+#REF!+#REF!+#REF!+#REF!+#REF!+#REF!+#REF!+#REF!+#REF!+#REF!+#REF!+#REF!+#REF!+#REF!+#REF!+#REF!+#REF!+#REF!+#REF!+#REF!+#REF!+#REF!+#REF!+#REF!+#REF!+#REF!+#REF!+#REF!","v":{"$error":"#REF!"}},{"$f":"#REF!+#REF!+#REF!+#REF!+#REF!+#REF!+#REF!+#REF!+#REF!+#REF!+#REF!+#REF!+#REF!+#REF!+#REF!+#REF!+#REF!+#REF!+#REF!+#REF!+#REF!+#REF!+#REF!+#REF!+#REF!+#REF!+#REF!+#REF!+#REF!+#REF!+#REF!+#REF!+#REF!","v":{"$error":"#REF!"}},{"$f":"#REF!+#REF!+#REF!+#REF!+#REF!+#REF!+#REF!+#REF!+#REF!+#REF!+#REF!+#REF!+#REF!+#REF!+#REF!+#REF!+#REF!+#REF!+#REF!+#REF!+#REF!+#REF!+#REF!+#REF!+#REF!+#REF!+#REF!+#REF!+#REF!+#REF!+#REF!+#REF!+#REF!","v":{"$error":"#REF!"}},{"$f":"#REF!+#REF!+#REF!+#REF!+#REF!+#REF!+#REF!+#REF!+#REF!+#REF!+#REF!+#REF!+#REF!+#REF!+#REF!+#REF!+#REF!+#REF!+#REF!+#REF!+#REF!+#REF!+#REF!+#REF!+#REF!+#REF!+#REF!+#REF!+#REF!+#REF!+#REF!+#REF!+#REF!","v":{"$error":"#REF!"}},{"$f":"#REF!+#REF!+#REF!+#REF!+#REF!+#REF!+#REF!+#REF!+#REF!+#REF!+#REF!+#REF!+#REF!+#REF!+#REF!+#REF!+#REF!+#REF!+#REF!+#REF!+#REF!+#REF!+#REF!+#REF!+#REF!+#REF!+#REF!+#REF!+#REF!+#REF!+#REF!+#REF!+#REF!","v":{"$error":"#REF!"}},{"$f":"#REF!+#REF!+#REF!+#REF!+#REF!+#REF!+#REF!+#REF!+#REF!+#REF!+#REF!+#REF!+#REF!+#REF!+#REF!+#REF!+#REF!+#REF!+#REF!+#REF!+#REF!+#REF!+#REF!+#REF!+#REF!+#REF!+#REF!+#REF!+#REF!+#REF!+#REF!+#REF!+#REF!","v":{"$error":"#REF!"}},{"$f":"#REF!+#REF!+#REF!+#REF!+#REF!+#REF!+#REF!+#REF!+#REF!+#REF!+#REF!+#REF!+#REF!+#REF!+#REF!+#REF!+#REF!+#REF!+#REF!+#REF!+#REF!+#REF!+#REF!+#REF!+#REF!+#REF!+#REF!+#REF!+#REF!+#REF!+#REF!+#REF!+#REF!","v":{"$error":"#REF!"}},{"$f":"#REF!+#REF!+#REF!+#REF!+#REF!+#REF!+#REF!+#REF!+#REF!+#REF!+#REF!+#REF!+#REF!+#REF!+#REF!+#REF!+#REF!+#REF!+#REF!+#REF!+#REF!+#REF!+#REF!+#REF!+#REF!+#REF!+#REF!+#REF!+#REF!+#REF!+#REF!+#REF!+#REF!","v":{"$error":"#REF!"}},{"$f":"#REF!+#REF!+#REF!+#REF!+#REF!+#REF!+#REF!+#REF!+#REF!+#REF!+#REF!+#REF!+#REF!+#REF!+#REF!+#REF!+#REF!+#REF!+#REF!+#REF!+#REF!+#REF!+#REF!+#REF!+#REF!+#REF!+#REF!+#REF!+#REF!+#REF!+#REF!+#REF!+#REF!","v":{"$error":"#REF!"}},{"$f":"#REF!+#REF!+#REF!+#REF!+#REF!+#REF!+#REF!+#REF!+#REF!+#REF!+#REF!+#REF!+#REF!+#REF!+#REF!+#REF!+#REF!+#REF!+#REF!+#REF!+#REF!+#REF!+#REF!+#REF!+#REF!+#REF!+#REF!+#REF!+#REF!+#REF!+#REF!+#REF!+#REF!","v":{"$error":"#REF!"}},{"$f":"#REF!+#REF!+#REF!+#REF!+#REF!+#REF!+#REF!+#REF!+#REF!+#REF!+#REF!+#REF!+#REF!+#REF!+#REF!+#REF!+#REF!+#REF!+#REF!+#REF!+#REF!+#REF!+#REF!+#REF!+#REF!+#REF!+#REF!+#REF!+#REF!+#REF!+#REF!+#REF!+#REF!","v":{"$error":"#REF!"}},{"$f":"#REF!+#REF!+#REF!+#REF!+#REF!+#REF!+#REF!+#REF!+#REF!+#REF!+#REF!+#REF!+#REF!+#REF!+#REF!+#REF!+#REF!+#REF!+#REF!+#REF!+#REF!+#REF!+#REF!+#REF!+#REF!+#REF!+#REF!+#REF!+#REF!+#REF!+#REF!+#REF!+#REF!","v":{"$error":"#REF!"}},{"$f":"#REF!+#REF!+#REF!+#REF!+#REF!+#REF!+#REF!+#REF!+#REF!+#REF!+#REF!+#REF!+#REF!+#REF!+#REF!+#REF!+#REF!+#REF!+#REF!+#REF!+#REF!+#REF!+#REF!+#REF!+#REF!+#REF!+#REF!+#REF!+#REF!+#REF!+#REF!+#REF!+#REF!","v":{"$error":"#REF!"}},{"$f":"#REF!+#REF!+#REF!+#REF!+#REF!+#REF!+#REF!+#REF!+#REF!+#REF!+#REF!+#REF!+#REF!+#REF!+#REF!+#REF!+#REF!+#REF!+#REF!+#REF!+#REF!+#REF!+#REF!+#REF!+#REF!+#REF!+#REF!+#REF!+#REF!+#REF!+#REF!+#REF!+#REF!","v":{"$error":"#REF!"}},{"$error":"#REF!"},{"$error":"#REF!"},{"$f":"#REF!+#REF!+#REF!+#REF!+#REF!+#REF!+#REF!+#REF!+#REF!+#REF!+#REF!+#REF!+#REF!+#REF!+#REF!+#REF!+#REF!+#REF!+#REF!+#REF!+#REF!+#REF!+#REF!+#REF!+#REF!+#REF!+#REF!+#REF!+#REF!+#REF!+#REF!+#REF!+#REF!","v":{"$error":"#REF!"}},null,{"$error":"#REF!"}]
[52,"St. Tammany",{"$f":"#REF!+#REF!+#REF!+#REF!+#REF!+#REF!+#REF!+#REF!+#REF!+#REF!+#REF!+#REF!+#REF!+#REF!+#REF!+#REF!+#REF!+#REF!+#REF!+#REF!+#REF!+#REF!+#REF!+#REF!+#REF!+#REF!+#REF!+#REF!+#REF!+#REF!+#REF!+#REF!+#REF!","v":{"$error":"#REF!"}},{"$f":"'9_Per Pupil Summary'!H57","v":4325.0258333717138},{"$f":"#REF!+#REF!+#REF!+#REF!+#REF!+#REF!+#REF!+#REF!+#REF!+#REF!+#REF!+#REF!+#REF!+#REF!+#REF!+#REF!+#REF!+#REF!+#REF!+#REF!+#REF!+#REF!+#REF!+#REF!+#REF!+#REF!+#REF!+#REF!+#REF!+#REF!+#REF!+#REF!+#REF!","v":{"$error":"#REF!"}},{"$f":"#REF!+#REF!+#REF!+#REF!+#REF!+#REF!+#REF!+#REF!+#REF!+#REF!+#REF!+#REF!+#REF!+#REF!+#REF!+#REF!+#REF!+#REF!+#REF!+#REF!+#REF!+#REF!+#REF!+#REF!+#REF!+#REF!+#REF!+#REF!+#REF!+#REF!+#REF!+#REF!+#REF!","v":{"$error":"#REF!"}},{"$f":"'9_Per Pupil Summary'!I57","v":585.03345987051193},{"$f":"#REF!+#REF!+#REF!+#REF!+#REF!+#REF!+#REF!+#REF!+#REF!+#REF!+#REF!+#REF!+#REF!+#REF!+#REF!+#REF!+#REF!+#REF!+#REF!+#REF!+#REF!+#REF!+#REF!+#REF!+#REF!+#REF!+#REF!+#REF!+#REF!+#REF!+#REF!+#REF!+#REF!","v":{"$error":"#REF!"}},{"$f":"#REF!+#REF!+#REF!+#REF!+#REF!+#REF!+#REF!+#REF!+#REF!+#REF!+#REF!+#REF!+#REF!+#REF!+#REF!+#REF!+#REF!+#REF!+#REF!+#REF!+#REF!+#REF!+#REF!+#REF!+#REF!+#REF!+#REF!+#REF!+#REF!+#REF!+#REF!+#REF!+#REF!","v":{"$error":"#REF!"}},{"$f":"'9_Per Pupil Summary'!J57","v":159.5545799646851},{"$f":"#REF!+#REF!+#REF!+#REF!+#REF!+#REF!+#REF!+#REF!+#REF!+#REF!+#REF!+#REF!+#REF!+#REF!+#REF!+#REF!+#REF!+#REF!+#REF!+#REF!+#REF!+#REF!+#REF!+#REF!+#REF!+#REF!+#REF!+#REF!+#REF!+#REF!+#REF!+#REF!+#REF!","v":{"$error":"#REF!"}},{"$f":"#REF!+#REF!+#REF!+#REF!+#REF!+#REF!+#REF!+#REF!+#REF!+#REF!+#REF!+#REF!+#REF!+#REF!+#REF!+#REF!+#REF!+#REF!+#REF!+#REF!+#REF!+#REF!+#REF!+#REF!+#REF!+#REF!+#REF!+#REF!+#REF!+#REF!+#REF!+#REF!+#REF!","v":{"$error":"#REF!"}},{"$f":"'9_Per Pupil Summary'!K57","v":3988.8644991171277},{"$f":"#REF!+#REF!+#REF!+#REF!+#REF!+#REF!+#REF!+#REF!+#REF!+#REF!+#REF!+#REF!+#REF!+#REF!+#REF!+#REF!+#REF!+#REF!+#REF!+#REF!+#REF!+#REF!+#REF!+#REF!+#REF!+#REF!+#REF!+#REF!+#REF!+#REF!+#REF!+#REF!+#REF!","v":{"$error":"#REF!"}},{"$f":"#REF!+#REF!+#REF!+#REF!+#REF!+#REF!+#REF!+#REF!+#REF!+#REF!+#REF!+#REF!+#REF!+#REF!+#REF!+#REF!+#REF!+#REF!+#REF!+#REF!+#REF!+#REF!+#REF!+#REF!+#REF!+#REF!+#REF!+#REF!+#REF!+#REF!+#REF!+#REF!+#REF!","v":{"$error":"#REF!"}},{"$f":"'9_Per Pupil Summary'!L57","v":1595.545799646851},{"$f":"#REF!+#REF!+#REF!+#REF!+#REF!+#REF!+#REF!+#REF!+#REF!+#REF!+#REF!+#REF!+#REF!+#REF!+#REF!+#REF!+#REF!+#REF!+#REF!+#REF!+#REF!+#REF!+#REF!+#REF!+#REF!+#REF!+#REF!+#REF!+#REF!+#REF!+#REF!+#REF!+#REF!","v":{"$error":"#REF!"}},{"$f":"#REF!+#REF!+#REF!+#REF!+#REF!+#REF!+#REF!+#REF!+#REF!+#REF!+#REF!+#REF!+#REF!+#REF!+#REF!+#REF!+#REF!+#REF!+#REF!+#REF!+#REF!+#REF!+#REF!+#REF!+#REF!+#REF!+#REF!+#REF!+#REF!+#REF!+#REF!+#REF!+#REF!","v":{"$error":"#REF!"}},{"$f":"#REF!+#REF!","v":{"$error":"#REF!"}},{"$f":"#REF!+#REF!+#REF!+#REF!+#REF!+#REF!+#REF!+#REF!+#REF!+#REF!+#REF!+#REF!+#REF!+#REF!+#REF!+#REF!+#REF!+#REF!+#REF!+#REF!+#REF!+#REF!+#REF!+#REF!+#REF!+#REF!+#REF!+#REF!+#REF!+#REF!+#REF!+#REF!+#REF!","v":{"$error":"#REF!"}},{"$f":"#REF!+#REF!+#REF!+#REF!+#REF!+#REF!+#REF!+#REF!+#REF!+#REF!+#REF!+#REF!+#REF!+#REF!+#REF!+#REF!+#REF!+#REF!+#REF!+#REF!+#REF!+#REF!+#REF!+#REF!+#REF!+#REF!+#REF!+#REF!+#REF!+#REF!+#REF!+#REF!+#REF!","v":{"$error":"#REF!"}},{"$f":"#REF!+#REF!+#REF!+#REF!+#REF!+#REF!+#REF!+#REF!+#REF!+#REF!+#REF!+#REF!+#REF!+#REF!+#REF!+#REF!+#REF!+#REF!+#REF!+#REF!+#REF!+#REF!+#REF!+#REF!+#REF!+#REF!+#REF!+#REF!+#REF!+#REF!+#REF!+#REF!+#REF!","v":{"$error":"#REF!"}},{"$f":"#REF!+#REF!+#REF!+#REF!+#REF!+#REF!+#REF!+#REF!+#REF!+#REF!+#REF!+#REF!+#REF!+#REF!+#REF!+#REF!+#REF!+#REF!+#REF!+#REF!+#REF!+#REF!+#REF!+#REF!+#REF!+#REF!+#REF!+#REF!+#REF!+#REF!+#REF!+#REF!+#REF!","v":{"$error":"#REF!"}},{"$f":"#REF!+#REF!+#REF!+#REF!+#REF!+#REF!+#REF!+#REF!+#REF!+#REF!+#REF!+#REF!+#REF!+#REF!+#REF!+#REF!+#REF!+#REF!+#REF!+#REF!+#REF!+#REF!+#REF!+#REF!+#REF!+#REF!+#REF!+#REF!+#REF!+#REF!+#REF!+#REF!+#REF!","v":{"$error":"#REF!"}},{"$f":"#REF!+#REF!+#REF!+#REF!+#REF!+#REF!+#REF!+#REF!+#REF!+#REF!+#REF!+#REF!+#REF!+#REF!+#REF!+#REF!+#REF!+#REF!+#REF!+#REF!+#REF!+#REF!+#REF!+#REF!+#REF!+#REF!+#REF!+#REF!+#REF!+#REF!+#REF!+#REF!+#REF!","v":{"$error":"#REF!"}},{"$f":"#REF!+#REF!+#REF!+#REF!+#REF!+#REF!+#REF!+#REF!+#REF!+#REF!+#REF!+#REF!+#REF!+#REF!+#REF!+#REF!+#REF!+#REF!+#REF!+#REF!+#REF!+#REF!+#REF!+#REF!+#REF!+#REF!+#REF!+#REF!+#REF!+#REF!+#REF!+#REF!+#REF!","v":{"$error":"#REF!"}},{"$f":"#REF!+#REF!+#REF!+#REF!+#REF!+#REF!+#REF!+#REF!+#REF!+#REF!+#REF!+#REF!+#REF!+#REF!+#REF!+#REF!+#REF!+#REF!+#REF!+#REF!+#REF!+#REF!+#REF!+#REF!+#REF!+#REF!+#REF!+#REF!+#REF!+#REF!+#REF!+#REF!+#REF!","v":{"$error":"#REF!"}},{"$f":"#REF!+#REF!+#REF!+#REF!+#REF!+#REF!+#REF!+#REF!+#REF!+#REF!+#REF!+#REF!+#REF!+#REF!+#REF!+#REF!+#REF!+#REF!+#REF!+#REF!+#REF!+#REF!+#REF!+#REF!+#REF!+#REF!+#REF!+#REF!+#REF!+#REF!+#REF!+#REF!+#REF!","v":{"$error":"#REF!"}},{"$f":"#REF!+#REF!+#REF!+#REF!+#REF!+#REF!+#REF!+#REF!+#REF!+#REF!+#REF!+#REF!+#REF!+#REF!+#REF!+#REF!+#REF!+#REF!+#REF!+#REF!+#REF!+#REF!+#REF!+#REF!+#REF!+#REF!+#REF!+#REF!+#REF!+#REF!+#REF!+#REF!+#REF!","v":{"$error":"#REF!"}},{"$f":"#REF!+#REF!+#REF!+#REF!+#REF!+#REF!+#REF!+#REF!+#REF!+#REF!+#REF!+#REF!+#REF!+#REF!+#REF!+#REF!+#REF!+#REF!+#REF!+#REF!+#REF!+#REF!+#REF!+#REF!+#REF!+#REF!+#REF!+#REF!+#REF!+#REF!+#REF!+#REF!+#REF!","v":{"$error":"#REF!"}},{"$f":"#REF!+#REF!+#REF!+#REF!+#REF!+#REF!+#REF!+#REF!+#REF!+#REF!+#REF!+#REF!+#REF!+#REF!+#REF!+#REF!+#REF!+#REF!+#REF!+#REF!+#REF!+#REF!+#REF!+#REF!+#REF!+#REF!+#REF!+#REF!+#REF!+#REF!+#REF!+#REF!+#REF!","v":{"$error":"#REF!"}},{"$f":"'9_Per Pupil Summary'!N57","v":8470},{"$f":"#REF!+#REF!+#REF!+#REF!+#REF!+#REF!+#REF!+#REF!+#REF!+#REF!+#REF!+#REF!+#REF!+#REF!+#REF!+#REF!+#REF!+#REF!+#REF!+#REF!+#REF!+#REF!+#REF!+#REF!+#REF!+#REF!+#REF!+#REF!+#REF!+#REF!+#REF!+#REF!+#REF!","v":{"$error":"#REF!"}},{"$f":"#REF!+#REF!+#REF!+#REF!+#REF!+#REF!+#REF!+#REF!+#REF!+#REF!+#REF!+#REF!+#REF!+#REF!+#REF!+#REF!+#REF!+#REF!+#REF!+#REF!+#REF!+#REF!+#REF!+#REF!+#REF!+#REF!+#REF!+#REF!+#REF!+#REF!+#REF!+#REF!+#REF!","v":{"$error":"#REF!"}},{"$f":"#REF!+#REF!+#REF!+#REF!+#REF!+#REF!+#REF!+#REF!+#REF!+#REF!+#REF!+#REF!+#REF!+#REF!+#REF!+#REF!+#REF!+#REF!+#REF!+#REF!+#REF!+#REF!+#REF!+#REF!+#REF!+#REF!+#REF!+#REF!+#REF!+#REF!+#REF!+#REF!+#REF!","v":{"$error":"#REF!"}},{"$f":"#REF!+#REF!+#REF!+#REF!+#REF!+#REF!+#REF!+#REF!+#REF!+#REF!+#REF!+#REF!+#REF!+#REF!+#REF!+#REF!+#REF!+#REF!+#REF!+#REF!+#REF!+#REF!+#REF!+#REF!+#REF!+#REF!+#REF!+#REF!+#REF!+#REF!+#REF!+#REF!+#REF!","v":{"$error":"#REF!"}},{"$f":"#REF!+#REF!+#REF!+#REF!+#REF!+#REF!+#REF!+#REF!+#REF!+#REF!+#REF!+#REF!+#REF!+#REF!+#REF!+#REF!+#REF!+#REF!+#REF!+#REF!+#REF!+#REF!+#REF!+#REF!+#REF!+#REF!+#REF!+#REF!+#REF!+#REF!+#REF!+#REF!+#REF!","v":{"$error":"#REF!"}},{"$f":"#REF!+#REF!+#REF!+#REF!+#REF!+#REF!+#REF!+#REF!+#REF!+#REF!+#REF!+#REF!+#REF!+#REF!+#REF!+#REF!+#REF!+#REF!+#REF!+#REF!+#REF!+#REF!+#REF!+#REF!+#REF!+#REF!+#REF!+#REF!+#REF!+#REF!+#REF!+#REF!+#REF!","v":{"$error":"#REF!"}},{"$f":"#REF!+#REF!+#REF!+#REF!+#REF!+#REF!+#REF!+#REF!+#REF!+#REF!+#REF!+#REF!+#REF!+#REF!+#REF!+#REF!+#REF!+#REF!+#REF!+#REF!+#REF!+#REF!+#REF!+#REF!+#REF!+#REF!+#REF!+#REF!+#REF!+#REF!+#REF!+#REF!+#REF!","v":{"$error":"#REF!"}},{"$f":"#REF!+#REF!+#REF!+#REF!+#REF!+#REF!+#REF!+#REF!+#REF!+#REF!+#REF!+#REF!+#REF!+#REF!+#REF!+#REF!+#REF!+#REF!+#REF!+#REF!+#REF!+#REF!+#REF!+#REF!+#REF!+#REF!+#REF!+#REF!+#REF!+#REF!+#REF!+#REF!+#REF!","v":{"$error":"#REF!"}},{"$f":"#REF!+#REF!+#REF!+#REF!+#REF!+#REF!+#REF!+#REF!+#REF!+#REF!+#REF!+#REF!+#REF!+#REF!+#REF!+#REF!+#REF!+#REF!+#REF!+#REF!+#REF!+#REF!+#REF!+#REF!+#REF!+#REF!+#REF!+#REF!+#REF!+#REF!+#REF!+#REF!+#REF!","v":{"$error":"#REF!"}},{"$f":"#REF!+#REF!+#REF!+#REF!+#REF!+#REF!+#REF!+#REF!+#REF!+#REF!+#REF!+#REF!+#REF!+#REF!+#REF!+#REF!+#REF!+#REF!+#REF!+#REF!+#REF!+#REF!+#REF!+#REF!+#REF!+#REF!+#REF!+#REF!+#REF!+#REF!+#REF!+#REF!+#REF!","v":{"$error":"#REF!"}},{"$f":"#REF!+#REF!+#REF!+#REF!+#REF!+#REF!+#REF!+#REF!+#REF!+#REF!+#REF!+#REF!+#REF!+#REF!+#REF!+#REF!+#REF!+#REF!+#REF!+#REF!+#REF!+#REF!+#REF!+#REF!+#REF!+#REF!+#REF!+#REF!+#REF!+#REF!+#REF!+#REF!+#REF!","v":{"$error":"#REF!"}},{"$f":"#REF!+#REF!+#REF!+#REF!+#REF!+#REF!+#REF!+#REF!+#REF!+#REF!+#REF!+#REF!+#REF!+#REF!+#REF!+#REF!+#REF!+#REF!+#REF!+#REF!+#REF!+#REF!+#REF!+#REF!+#REF!+#REF!+#REF!+#REF!+#REF!+#REF!+#REF!+#REF!+#REF!","v":{"$error":"#REF!"}},{"$f":"#REF!+#REF!+#REF!+#REF!+#REF!+#REF!+#REF!+#REF!+#REF!+#REF!+#REF!+#REF!+#REF!+#REF!+#REF!+#REF!+#REF!+#REF!+#REF!+#REF!+#REF!+#REF!+#REF!+#REF!+#REF!+#REF!+#REF!+#REF!+#REF!+#REF!+#REF!+#REF!+#REF!","v":{"$error":"#REF!"}},{"$f":"#REF!+#REF!+#REF!+#REF!+#REF!+#REF!+#REF!+#REF!+#REF!+#REF!+#REF!+#REF!+#REF!+#REF!+#REF!+#REF!+#REF!+#REF!+#REF!+#REF!+#REF!+#REF!+#REF!+#REF!+#REF!+#REF!+#REF!+#REF!+#REF!+#REF!+#REF!+#REF!+#REF!","v":{"$error":"#REF!"}},{"$error":"#REF!"},{"$error":"#REF!"},{"$f":"#REF!+#REF!+#REF!+#REF!+#REF!+#REF!+#REF!+#REF!+#REF!+#REF!+#REF!+#REF!+#REF!+#REF!+#REF!+#REF!+#REF!+#REF!+#REF!+#REF!+#REF!+#REF!+#REF!+#REF!+#REF!+#REF!+#REF!+#REF!+#REF!+#REF!+#REF!+#REF!+#REF!","v":{"$error":"#REF!"}},null,{"$error":"#REF!"}]
[53,"Tangipahoa",{"$f":"#REF!+#REF!+#REF!+#REF!+#REF!+#REF!+#REF!+#REF!+#REF!+#REF!+#REF!+#REF!+#REF!+#REF!+#REF!+#REF!+#REF!+#REF!+#REF!+#REF!+#REF!+#REF!+#REF!+#REF!+#REF!+#REF!+#REF!+#REF!+#REF!+#REF!+#REF!+#REF!+#REF!","v":{"$error":"#REF!"}},{"$f":"'9_Per Pupil Summary'!H58","v":5111.0264281427881},{"$f":"#REF!+#REF!+#REF!+#REF!+#REF!+#REF!+#REF!+#REF!+#REF!+#REF!+#REF!+#REF!+#REF!+#REF!+#REF!+#REF!+#REF!+#REF!+#REF!+#REF!+#REF!+#REF!+#REF!+#REF!+#REF!+#REF!+#REF!+#REF!+#REF!+#REF!+#REF!+#REF!+#REF!","v":{"$error":"#REF!"}},{"$f":"#REF!+#REF!+#REF!+#REF!+#REF!+#REF!+#REF!+#REF!+#REF!+#REF!+#REF!+#REF!+#REF!+#REF!+#REF!+#REF!+#REF!+#REF!+#REF!+#REF!+#REF!+#REF!+#REF!+#REF!+#REF!+#REF!+#REF!+#REF!+#REF!+#REF!+#REF!+#REF!+#REF!","v":{"$error":"#REF!"}},{"$f":"'9_Per Pupil Summary'!I58","v":674.27218946000426},{"$f":"#REF!+#REF!+#REF!+#REF!+#REF!+#REF!+#REF!+#REF!+#REF!+#REF!+#REF!+#REF!+#REF!+#REF!+#REF!+#REF!+#REF!+#REF!+#REF!+#REF!+#REF!+#REF!+#REF!+#REF!+#REF!+#REF!+#REF!+#REF!+#REF!+#REF!+#REF!+#REF!+#REF!","v":{"$error":"#REF!"}},{"$f":"#REF!+#REF!+#REF!+#REF!+#REF!+#REF!+#REF!+#REF!+#REF!+#REF!+#REF!+#REF!+#REF!+#REF!+#REF!+#REF!+#REF!+#REF!+#REF!+#REF!+#REF!+#REF!+#REF!+#REF!+#REF!+#REF!+#REF!+#REF!+#REF!+#REF!+#REF!+#REF!+#REF!","v":{"$error":"#REF!"}},{"$f":"'9_Per Pupil Summary'!J58","v":183.89241530727389},{"$f":"#REF!+#REF!+#REF!+#REF!+#REF!+#REF!+#REF!+#REF!+#REF!+#REF!+#REF!+#REF!+#REF!+#REF!+#REF!+#REF!+#REF!+#REF!+#REF!+#REF!+#REF!+#REF!+#REF!+#REF!+#REF!+#REF!+#REF!+#REF!+#REF!+#REF!+#REF!+#REF!+#REF!","v":{"$error":"#REF!"}},{"$f":"#REF!+#REF!+#REF!+#REF!+#REF!+#REF!+#REF!+#REF!+#REF!+#REF!+#REF!+#REF!+#REF!+#REF!+#REF!+#REF!+#REF!+#REF!+#REF!+#REF!+#REF!+#REF!+#REF!+#REF!+#REF!+#REF!+#REF!+#REF!+#REF!+#REF!+#REF!+#REF!+#REF!","v":{"$error":"#REF!"}},{"$f":"'9_Per Pupil Summary'!K58","v":4597.3103826818478},{"$f":"#REF!+#REF!+#REF!+#REF!+#REF!+#REF!+#REF!+#REF!+#REF!+#REF!+#REF!+#REF!+#REF!+#REF!+#REF!+#REF!+#REF!+#REF!+#REF!+#REF!+#REF!+#REF!+#REF!+#REF!+#REF!+#REF!+#REF!+#REF!+#REF!+#REF!+#REF!+#REF!+#REF!","v":{"$error":"#REF!"}},{"$f":"#REF!+#REF!+#REF!+#REF!+#REF!+#REF!+#REF!+#REF!+#REF!+#REF!+#REF!+#REF!+#REF!+#REF!+#REF!+#REF!+#REF!+#REF!+#REF!+#REF!+#REF!+#REF!+#REF!+#REF!+#REF!+#REF!+#REF!+#REF!+#REF!+#REF!+#REF!+#REF!+#REF!","v":{"$error":"#REF!"}},{"$f":"'9_Per Pupil Summary'!L58","v":1838.9241530727388},{"$f":"#REF!+#REF!+#REF!+#REF!+#REF!+#REF!+#REF!+#REF!+#REF!+#REF!+#REF!+#REF!+#REF!+#REF!+#REF!+#REF!+#REF!+#REF!+#REF!+#REF!+#REF!+#REF!+#REF!+#REF!+#REF!+#REF!+#REF!+#REF!+#REF!+#REF!+#REF!+#REF!+#REF!","v":{"$error":"#REF!"}},{"$f":"#REF!+#REF!+#REF!+#REF!+#REF!+#REF!+#REF!+#REF!+#REF!+#REF!+#REF!+#REF!+#REF!+#REF!+#REF!+#REF!+#REF!+#REF!+#REF!+#REF!+#REF!+#REF!+#REF!+#REF!+#REF!+#REF!+#REF!+#REF!+#REF!+#REF!+#REF!+#REF!+#REF!","v":{"$error":"#REF!"}},{"$f":"#REF!+#REF!","v":{"$error":"#REF!"}},{"$f":"#REF!+#REF!+#REF!+#REF!+#REF!+#REF!+#REF!+#REF!+#REF!+#REF!+#REF!+#REF!+#REF!+#REF!+#REF!+#REF!+#REF!+#REF!+#REF!+#REF!+#REF!+#REF!+#REF!+#REF!+#REF!+#REF!+#REF!+#REF!+#REF!+#REF!+#REF!+#REF!+#REF!","v":{"$error":"#REF!"}},{"$f":"#REF!+#REF!+#REF!+#REF!+#REF!+#REF!+#REF!+#REF!+#REF!+#REF!+#REF!+#REF!+#REF!+#REF!+#REF!+#REF!+#REF!+#REF!+#REF!+#REF!+#REF!+#REF!+#REF!+#REF!+#REF!+#REF!+#REF!+#REF!+#REF!+#REF!+#REF!+#REF!+#REF!","v":{"$error":"#REF!"}},{"$f":"#REF!+#REF!+#REF!+#REF!+#REF!+#REF!+#REF!+#REF!+#REF!+#REF!+#REF!+#REF!+#REF!+#REF!+#REF!+#REF!+#REF!+#REF!+#REF!+#REF!+#REF!+#REF!+#REF!+#REF!+#REF!+#REF!+#REF!+#REF!+#REF!+#REF!+#REF!+#REF!+#REF!","v":{"$error":"#REF!"}},{"$f":"#REF!+#REF!+#REF!+#REF!+#REF!+#REF!+#REF!+#REF!+#REF!+#REF!+#REF!+#REF!+#REF!+#REF!+#REF!+#REF!+#REF!+#REF!+#REF!+#REF!+#REF!+#REF!+#REF!+#REF!+#REF!+#REF!+#REF!+#REF!+#REF!+#REF!+#REF!+#REF!+#REF!","v":{"$error":"#REF!"}},{"$f":"#REF!+#REF!+#REF!+#REF!+#REF!+#REF!+#REF!+#REF!+#REF!+#REF!+#REF!+#REF!+#REF!+#REF!+#REF!+#REF!+#REF!+#REF!+#REF!+#REF!+#REF!+#REF!+#REF!+#REF!+#REF!+#REF!+#REF!+#REF!+#REF!+#REF!+#REF!+#REF!+#REF!","v":{"$error":"#REF!"}},{"$f":"#REF!+#REF!+#REF!+#REF!+#REF!+#REF!+#REF!+#REF!+#REF!+#REF!+#REF!+#REF!+#REF!+#REF!+#REF!+#REF!+#REF!+#REF!+#REF!+#REF!+#REF!+#REF!+#REF!+#REF!+#REF!+#REF!+#REF!+#REF!+#REF!+#REF!+#REF!+#REF!+#REF!","v":{"$error":"#REF!"}},{"$f":"#REF!+#REF!+#REF!+#REF!+#REF!+#REF!+#REF!+#REF!+#REF!+#REF!+#REF!+#REF!+#REF!+#REF!+#REF!+#REF!+#REF!+#REF!+#REF!+#REF!+#REF!+#REF!+#REF!+#REF!+#REF!+#REF!+#REF!+#REF!+#REF!+#REF!+#REF!+#REF!+#REF!","v":{"$error":"#REF!"}},{"$f":"#REF!+#REF!+#REF!+#REF!+#REF!+#REF!+#REF!+#REF!+#REF!+#REF!+#REF!+#REF!+#REF!+#REF!+#REF!+#REF!+#REF!+#REF!+#REF!+#REF!+#REF!+#REF!+#REF!+#REF!+#REF!+#REF!+#REF!+#REF!+#REF!+#REF!+#REF!+#REF!+#REF!","v":{"$error":"#REF!"}},{"$f":"#REF!+#REF!+#REF!+#REF!+#REF!+#REF!+#REF!+#REF!+#REF!+#REF!+#REF!+#REF!+#REF!+#REF!+#REF!+#REF!+#REF!+#REF!+#REF!+#REF!+#REF!+#REF!+#REF!+#REF!+#REF!+#REF!+#REF!+#REF!+#REF!+#REF!+#REF!+#REF!+#REF!","v":{"$error":"#REF!"}},{"$f":"#REF!+#REF!+#REF!+#REF!+#REF!+#REF!+#REF!+#REF!+#REF!+#REF!+#REF!+#REF!+#REF!+#REF!+#REF!+#REF!+#REF!+#REF!+#REF!+#REF!+#REF!+#REF!+#REF!+#REF!+#REF!+#REF!+#REF!+#REF!+#REF!+#REF!+#REF!+#REF!+#REF!","v":{"$error":"#REF!"}},{"$f":"#REF!+#REF!+#REF!+#REF!+#REF!+#REF!+#REF!+#REF!+#REF!+#REF!+#REF!+#REF!+#REF!+#REF!+#REF!+#REF!+#REF!+#REF!+#REF!+#REF!+#REF!+#REF!+#REF!+#REF!+#REF!+#REF!+#REF!+#REF!+#REF!+#REF!+#REF!+#REF!+#REF!","v":{"$error":"#REF!"}},{"$f":"#REF!+#REF!+#REF!+#REF!+#REF!+#REF!+#REF!+#REF!+#REF!+#REF!+#REF!+#REF!+#REF!+#REF!+#REF!+#REF!+#REF!+#REF!+#REF!+#REF!+#REF!+#REF!+#REF!+#REF!+#REF!+#REF!+#REF!+#REF!+#REF!+#REF!+#REF!+#REF!+#REF!","v":{"$error":"#REF!"}},{"$f":"'9_Per Pupil Summary'!N58","v":4619},{"$f":"#REF!+#REF!+#REF!+#REF!+#REF!+#REF!+#REF!+#REF!+#REF!+#REF!+#REF!+#REF!+#REF!+#REF!+#REF!+#REF!+#REF!+#REF!+#REF!+#REF!+#REF!+#REF!+#REF!+#REF!+#REF!+#REF!+#REF!+#REF!+#REF!+#REF!+#REF!+#REF!+#REF!","v":{"$error":"#REF!"}},{"$f":"#REF!+#REF!+#REF!+#REF!+#REF!+#REF!+#REF!+#REF!+#REF!+#REF!+#REF!+#REF!+#REF!+#REF!+#REF!+#REF!+#REF!+#REF!+#REF!+#REF!+#REF!+#REF!+#REF!+#REF!+#REF!+#REF!+#REF!+#REF!+#REF!+#REF!+#REF!+#REF!+#REF!","v":{"$error":"#REF!"}},{"$f":"#REF!+#REF!+#REF!+#REF!+#REF!+#REF!+#REF!+#REF!+#REF!+#REF!+#REF!+#REF!+#REF!+#REF!+#REF!+#REF!+#REF!+#REF!+#REF!+#REF!+#REF!+#REF!+#REF!+#REF!+#REF!+#REF!+#REF!+#REF!+#REF!+#REF!+#REF!+#REF!+#REF!","v":{"$error":"#REF!"}},{"$f":"#REF!+#REF!+#REF!+#REF!+#REF!+#REF!+#REF!+#REF!+#REF!+#REF!+#REF!+#REF!+#REF!+#REF!+#REF!+#REF!+#REF!+#REF!+#REF!+#REF!+#REF!+#REF!+#REF!+#REF!+#REF!+#REF!+#REF!+#REF!+#REF!+#REF!+#REF!+#REF!+#REF!","v":{"$error":"#REF!"}},{"$f":"#REF!+#REF!+#REF!+#REF!+#REF!+#REF!+#REF!+#REF!+#REF!+#REF!+#REF!+#REF!+#REF!+#REF!+#REF!+#REF!+#REF!+#REF!+#REF!+#REF!+#REF!+#REF!+#REF!+#REF!+#REF!+#REF!+#REF!+#REF!+#REF!+#REF!+#REF!+#REF!+#REF!","v":{"$error":"#REF!"}},{"$f":"#REF!+#REF!+#REF!+#REF!+#REF!+#REF!+#REF!+#REF!+#REF!+#REF!+#REF!+#REF!+#REF!+#REF!+#REF!+#REF!+#REF!+#REF!+#REF!+#REF!+#REF!+#REF!+#REF!+#REF!+#REF!+#REF!+#REF!+#REF!+#REF!+#REF!+#REF!+#REF!+#REF!","v":{"$error":"#REF!"}},{"$f":"#REF!+#REF!+#REF!+#REF!+#REF!+#REF!+#REF!+#REF!+#REF!+#REF!+#REF!+#REF!+#REF!+#REF!+#REF!+#REF!+#REF!+#REF!+#REF!+#REF!+#REF!+#REF!+#REF!+#REF!+#REF!+#REF!+#REF!+#REF!+#REF!+#REF!+#REF!+#REF!+#REF!","v":{"$error":"#REF!"}},{"$f":"#REF!+#REF!+#REF!+#REF!+#REF!+#REF!+#REF!+#REF!+#REF!+#REF!+#REF!+#REF!+#REF!+#REF!+#REF!+#REF!+#REF!+#REF!+#REF!+#REF!+#REF!+#REF!+#REF!+#REF!+#REF!+#REF!+#REF!+#REF!+#REF!+#REF!+#REF!+#REF!+#REF!","v":{"$error":"#REF!"}},{"$f":"#REF!+#REF!+#REF!+#REF!+#REF!+#REF!+#REF!+#REF!+#REF!+#REF!+#REF!+#REF!+#REF!+#REF!+#REF!+#REF!+#REF!+#REF!+#REF!+#REF!+#REF!+#REF!+#REF!+#REF!+#REF!+#REF!+#REF!+#REF!+#REF!+#REF!+#REF!+#REF!+#REF!","v":{"$error":"#REF!"}},{"$f":"#REF!+#REF!+#REF!+#REF!+#REF!+#REF!+#REF!+#REF!+#REF!+#REF!+#REF!+#REF!+#REF!+#REF!+#REF!+#REF!+#REF!+#REF!+#REF!+#REF!+#REF!+#REF!+#REF!+#REF!+#REF!+#REF!+#REF!+#REF!+#REF!+#REF!+#REF!+#REF!+#REF!","v":{"$error":"#REF!"}},{"$f":"#REF!+#REF!+#REF!+#REF!+#REF!+#REF!+#REF!+#REF!+#REF!+#REF!+#REF!+#REF!+#REF!+#REF!+#REF!+#REF!+#REF!+#REF!+#REF!+#REF!+#REF!+#REF!+#REF!+#REF!+#REF!+#REF!+#REF!+#REF!+#REF!+#REF!+#REF!+#REF!+#REF!","v":{"$error":"#REF!"}},{"$f":"#REF!+#REF!+#REF!+#REF!+#REF!+#REF!+#REF!+#REF!+#REF!+#REF!+#REF!+#REF!+#REF!+#REF!+#REF!+#REF!+#REF!+#REF!+#REF!+#REF!+#REF!+#REF!+#REF!+#REF!+#REF!+#REF!+#REF!+#REF!+#REF!+#REF!+#REF!+#REF!+#REF!","v":{"$error":"#REF!"}},{"$f":"#REF!+#REF!+#REF!+#REF!+#REF!+#REF!+#REF!+#REF!+#REF!+#REF!+#REF!+#REF!+#REF!+#REF!+#REF!+#REF!+#REF!+#REF!+#REF!+#REF!+#REF!+#REF!+#REF!+#REF!+#REF!+#REF!+#REF!+#REF!+#REF!+#REF!+#REF!+#REF!+#REF!","v":{"$error":"#REF!"}},{"$f":"#REF!+#REF!+#REF!+#REF!+#REF!+#REF!+#REF!+#REF!+#REF!+#REF!+#REF!+#REF!+#REF!+#REF!+#REF!+#REF!+#REF!+#REF!+#REF!+#REF!+#REF!+#REF!+#REF!+#REF!+#REF!+#REF!+#REF!+#REF!+#REF!+#REF!+#REF!+#REF!+#REF!","v":{"$error":"#REF!"}},{"$error":"#REF!"},{"$error":"#REF!"},{"$f":"#REF!+#REF!+#REF!+#REF!+#REF!+#REF!+#REF!+#REF!+#REF!+#REF!+#REF!+#REF!+#REF!+#REF!+#REF!+#REF!+#REF!+#REF!+#REF!+#REF!+#REF!+#REF!+#REF!+#REF!+#REF!+#REF!+#REF!+#REF!+#REF!+#REF!+#REF!+#REF!+#REF!","v":{"$error":"#REF!"}},null,{"$error":"#REF!"}]
[54,"Tensas",{"$f":"#REF!+#REF!+#REF!+#REF!+#REF!+#REF!+#REF!+#REF!+#REF!+#REF!+#REF!+#REF!+#REF!+#REF!+#REF!+#REF!+#REF!+#REF!+#REF!+#REF!+#REF!+#REF!+#REF!+#REF!+#REF!+#REF!+#REF!+#REF!+#REF!+#REF!+#REF!+#REF!+#REF!","v":{"$error":"#REF!"}},{"$f":"'9_Per Pupil Summary'!H59","v":4100.6466276987576},{"$f":"#REF!+#REF!+#REF!+#REF!+#REF!+#REF!+#REF!+#REF!+#REF!+#REF!+#REF!+#REF!+#REF!+#REF!+#REF!+#REF!+#REF!+#REF!+#REF!+#REF!+#REF!+#REF!+#REF!+#REF!+#REF!+#REF!+#REF!+#REF!+#REF!+#REF!+#REF!+#REF!+#REF!","v":{"$error":"#REF!"}},{"$f":"#REF!+#REF!+#REF!+#REF!+#REF!+#REF!+#REF!+#REF!+#REF!+#REF!+#REF!+#REF!+#REF!+#REF!+#REF!+#REF!+#REF!+#REF!+#REF!+#REF!+#REF!+#REF!+#REF!+#REF!+#REF!+#REF!+#REF!+#REF!+#REF!+#REF!+#REF!+#REF!+#REF!","v":{"$error":"#REF!"}},{"$f":"'9_Per Pupil Summary'!I59","v":508.15215950217743},{"$f":"#REF!+#REF!+#REF!+#REF!+#REF!+#REF!+#REF!+#REF!+#REF!+#REF!+#REF!+#REF!+#REF!+#REF!+#REF!+#REF!+#REF!+#REF!+#REF!+#REF!+#REF!+#REF!+#REF!+#REF!+#REF!+#REF!+#REF!+#REF!+#REF!+#REF!+#REF!+#REF!+#REF!","v":{"$error":"#REF!"}},{"$f":"#REF!+#REF!+#REF!+#REF!+#REF!+#REF!+#REF!+#REF!+#REF!+#REF!+#REF!+#REF!+#REF!+#REF!+#REF!+#REF!+#REF!+#REF!+#REF!+#REF!+#REF!+#REF!+#REF!+#REF!+#REF!+#REF!+#REF!+#REF!+#REF!+#REF!+#REF!+#REF!+#REF!","v":{"$error":"#REF!"}},{"$f":"'9_Per Pupil Summary'!J59","v":138.58695259150289},{"$f":"#REF!+#REF!+#REF!+#REF!+#REF!+#REF!+#REF!+#REF!+#REF!+#REF!+#REF!+#REF!+#REF!+#REF!+#REF!+#REF!+#REF!+#REF!+#REF!+#REF!+#REF!+#REF!+#REF!+#REF!+#REF!+#REF!+#REF!+#REF!+#REF!+#REF!+#REF!+#REF!+#REF!","v":{"$error":"#REF!"}},{"$f":"#REF!+#REF!+#REF!+#REF!+#REF!+#REF!+#REF!+#REF!+#REF!+#REF!+#REF!+#REF!+#REF!+#REF!+#REF!+#REF!+#REF!+#REF!+#REF!+#REF!+#REF!+#REF!+#REF!+#REF!+#REF!+#REF!+#REF!+#REF!+#REF!+#REF!+#REF!+#REF!+#REF!","v":{"$error":"#REF!"}},{"$f":"'9_Per Pupil Summary'!K59","v":3464.6738147875735},{"$f":"#REF!+#REF!+#REF!+#REF!+#REF!+#REF!+#REF!+#REF!+#REF!+#REF!+#REF!+#REF!+#REF!+#REF!+#REF!+#REF!+#REF!+#REF!+#REF!+#REF!+#REF!+#REF!+#REF!+#REF!+#REF!+#REF!+#REF!+#REF!+#REF!+#REF!+#REF!+#REF!+#REF!","v":{"$error":"#REF!"}},{"$f":"#REF!+#REF!+#REF!+#REF!+#REF!+#REF!+#REF!+#REF!+#REF!+#REF!+#REF!+#REF!+#REF!+#REF!+#REF!+#REF!+#REF!+#REF!+#REF!+#REF!+#REF!+#REF!+#REF!+#REF!+#REF!+#REF!+#REF!+#REF!+#REF!+#REF!+#REF!+#REF!+#REF!","v":{"$error":"#REF!"}},{"$f":"'9_Per Pupil Summary'!L59","v":1385.8695259150293},{"$f":"#REF!+#REF!+#REF!+#REF!+#REF!+#REF!+#REF!+#REF!+#REF!+#REF!+#REF!+#REF!+#REF!+#REF!+#REF!+#REF!+#REF!+#REF!+#REF!+#REF!+#REF!+#REF!+#REF!+#REF!+#REF!+#REF!+#REF!+#REF!+#REF!+#REF!+#REF!+#REF!+#REF!","v":{"$error":"#REF!"}},{"$f":"#REF!+#REF!+#REF!+#REF!+#REF!+#REF!+#REF!+#REF!+#REF!+#REF!+#REF!+#REF!+#REF!+#REF!+#REF!+#REF!+#REF!+#REF!+#REF!+#REF!+#REF!+#REF!+#REF!+#REF!+#REF!+#REF!+#REF!+#REF!+#REF!+#REF!+#REF!+#REF!+#REF!","v":{"$error":"#REF!"}},{"$f":"#REF!+#REF!","v":{"$error":"#REF!"}},{"$f":"#REF!+#REF!+#REF!+#REF!+#REF!+#REF!+#REF!+#REF!+#REF!+#REF!+#REF!+#REF!+#REF!+#REF!+#REF!+#REF!+#REF!+#REF!+#REF!+#REF!+#REF!+#REF!+#REF!+#REF!+#REF!+#REF!+#REF!+#REF!+#REF!+#REF!+#REF!+#REF!+#REF!","v":{"$error":"#REF!"}},{"$f":"#REF!+#REF!+#REF!+#REF!+#REF!+#REF!+#REF!+#REF!+#REF!+#REF!+#REF!+#REF!+#REF!+#REF!+#REF!+#REF!+#REF!+#REF!+#REF!+#REF!+#REF!+#REF!+#REF!+#REF!+#REF!+#REF!+#REF!+#REF!+#REF!+#REF!+#REF!+#REF!+#REF!","v":{"$error":"#REF!"}},{"$f":"#REF!+#REF!+#REF!+#REF!+#REF!+#REF!+#REF!+#REF!+#REF!+#REF!+#REF!+#REF!+#REF!+#REF!+#REF!+#REF!+#REF!+#REF!+#REF!+#REF!+#REF!+#REF!+#REF!+#REF!+#REF!+#REF!+#REF!+#REF!+#REF!+#REF!+#REF!+#REF!+#REF!","v":{"$error":"#REF!"}},{"$f":"#REF!+#REF!+#REF!+#REF!+#REF!+#REF!+#REF!+#REF!+#REF!+#REF!+#REF!+#REF!+#REF!+#REF!+#REF!+#REF!+#REF!+#REF!+#REF!+#REF!+#REF!+#REF!+#REF!+#REF!+#REF!+#REF!+#REF!+#REF!+#REF!+#REF!+#REF!+#REF!+#REF!","v":{"$error":"#REF!"}},{"$f":"#REF!+#REF!+#REF!+#REF!+#REF!+#REF!+#REF!+#REF!+#REF!+#REF!+#REF!+#REF!+#REF!+#REF!+#REF!+#REF!+#REF!+#REF!+#REF!+#REF!+#REF!+#REF!+#REF!+#REF!+#REF!+#REF!+#REF!+#REF!+#REF!+#REF!+#REF!+#REF!+#REF!","v":{"$error":"#REF!"}},{"$f":"#REF!+#REF!+#REF!+#REF!+#REF!+#REF!+#REF!+#REF!+#REF!+#REF!+#REF!+#REF!+#REF!+#REF!+#REF!+#REF!+#REF!+#REF!+#REF!+#REF!+#REF!+#REF!+#REF!+#REF!+#REF!+#REF!+#REF!+#REF!+#REF!+#REF!+#REF!+#REF!+#REF!","v":{"$error":"#REF!"}},{"$f":"#REF!+#REF!+#REF!+#REF!+#REF!+#REF!+#REF!+#REF!+#REF!+#REF!+#REF!+#REF!+#REF!+#REF!+#REF!+#REF!+#REF!+#REF!+#REF!+#REF!+#REF!+#REF!+#REF!+#REF!+#REF!+#REF!+#REF!+#REF!+#REF!+#REF!+#REF!+#REF!+#REF!","v":{"$error":"#REF!"}},{"$f":"#REF!+#REF!+#REF!+#REF!+#REF!+#REF!+#REF!+#REF!+#REF!+#REF!+#REF!+#REF!+#REF!+#REF!+#REF!+#REF!+#REF!+#REF!+#REF!+#REF!+#REF!+#REF!+#REF!+#REF!+#REF!+#REF!+#REF!+#REF!+#REF!+#REF!+#REF!+#REF!+#REF!","v":{"$error":"#REF!"}},{"$f":"#REF!+#REF!+#REF!+#REF!+#REF!+#REF!+#REF!+#REF!+#REF!+#REF!+#REF!+#REF!+#REF!+#REF!+#REF!+#REF!+#REF!+#REF!+#REF!+#REF!+#REF!+#REF!+#REF!+#REF!+#REF!+#REF!+#REF!+#REF!+#REF!+#REF!+#REF!+#REF!+#REF!","v":{"$error":"#REF!"}},{"$f":"#REF!+#REF!+#REF!+#REF!+#REF!+#REF!+#REF!+#REF!+#REF!+#REF!+#REF!+#REF!+#REF!+#REF!+#REF!+#REF!+#REF!+#REF!+#REF!+#REF!+#REF!+#REF!+#REF!+#REF!+#REF!+#REF!+#REF!+#REF!+#REF!+#REF!+#REF!+#REF!+#REF!","v":{"$error":"#REF!"}},{"$f":"#REF!+#REF!+#REF!+#REF!+#REF!+#REF!+#REF!+#REF!+#REF!+#REF!+#REF!+#REF!+#REF!+#REF!+#REF!+#REF!+#REF!+#REF!+#REF!+#REF!+#REF!+#REF!+#REF!+#REF!+#REF!+#REF!+#REF!+#REF!+#REF!+#REF!+#REF!+#REF!+#REF!","v":{"$error":"#REF!"}},{"$f":"#REF!+#REF!+#REF!+#REF!+#REF!+#REF!+#REF!+#REF!+#REF!+#REF!+#REF!+#REF!+#REF!+#REF!+#REF!+#REF!+#REF!+#REF!+#REF!+#REF!+#REF!+#REF!+#REF!+#REF!+#REF!+#REF!+#REF!+#REF!+#REF!+#REF!+#REF!+#REF!+#REF!","v":{"$error":"#REF!"}},{"$f":"'9_Per Pupil Summary'!N59","v":8212},{"$f":"#REF!+#REF!+#REF!+#REF!+#REF!+#REF!+#REF!+#REF!+#REF!+#REF!+#REF!+#REF!+#REF!+#REF!+#REF!+#REF!+#REF!+#REF!+#REF!+#REF!+#REF!+#REF!+#REF!+#REF!+#REF!+#REF!+#REF!+#REF!+#REF!+#REF!+#REF!+#REF!+#REF!","v":{"$error":"#REF!"}},{"$f":"#REF!+#REF!+#REF!+#REF!+#REF!+#REF!+#REF!+#REF!+#REF!+#REF!+#REF!+#REF!+#REF!+#REF!+#REF!+#REF!+#REF!+#REF!+#REF!+#REF!+#REF!+#REF!+#REF!+#REF!+#REF!+#REF!+#REF!+#REF!+#REF!+#REF!+#REF!+#REF!+#REF!","v":{"$error":"#REF!"}},{"$f":"#REF!+#REF!+#REF!+#REF!+#REF!+#REF!+#REF!+#REF!+#REF!+#REF!+#REF!+#REF!+#REF!+#REF!+#REF!+#REF!+#REF!+#REF!+#REF!+#REF!+#REF!+#REF!+#REF!+#REF!+#REF!+#REF!+#REF!+#REF!+#REF!+#REF!+#REF!+#REF!+#REF!","v":{"$error":"#REF!"}},{"$f":"#REF!+#REF!+#REF!+#REF!+#REF!+#REF!+#REF!+#REF!+#REF!+#REF!+#REF!+#REF!+#REF!+#REF!+#REF!+#REF!+#REF!+#REF!+#REF!+#REF!+#REF!+#REF!+#REF!+#REF!+#REF!+#REF!+#REF!+#REF!+#REF!+#REF!+#REF!+#REF!+#REF!","v":{"$error":"#REF!"}},{"$f":"#REF!+#REF!+#REF!+#REF!+#REF!+#REF!+#REF!+#REF!+#REF!+#REF!+#REF!+#REF!+#REF!+#REF!+#REF!+#REF!+#REF!+#REF!+#REF!+#REF!+#REF!+#REF!+#REF!+#REF!+#REF!+#REF!+#REF!+#REF!+#REF!+#REF!+#REF!+#REF!+#REF!","v":{"$error":"#REF!"}},{"$f":"#REF!+#REF!+#REF!+#REF!+#REF!+#REF!+#REF!+#REF!+#REF!+#REF!+#REF!+#REF!+#REF!+#REF!+#REF!+#REF!+#REF!+#REF!+#REF!+#REF!+#REF!+#REF!+#REF!+#REF!+#REF!+#REF!+#REF!+#REF!+#REF!+#REF!+#REF!+#REF!+#REF!","v":{"$error":"#REF!"}},{"$f":"#REF!+#REF!+#REF!+#REF!+#REF!+#REF!+#REF!+#REF!+#REF!+#REF!+#REF!+#REF!+#REF!+#REF!+#REF!+#REF!+#REF!+#REF!+#REF!+#REF!+#REF!+#REF!+#REF!+#REF!+#REF!+#REF!+#REF!+#REF!+#REF!+#REF!+#REF!+#REF!+#REF!","v":{"$error":"#REF!"}},{"$f":"#REF!+#REF!+#REF!+#REF!+#REF!+#REF!+#REF!+#REF!+#REF!+#REF!+#REF!+#REF!+#REF!+#REF!+#REF!+#REF!+#REF!+#REF!+#REF!+#REF!+#REF!+#REF!+#REF!+#REF!+#REF!+#REF!+#REF!+#REF!+#REF!+#REF!+#REF!+#REF!+#REF!","v":{"$error":"#REF!"}},{"$f":"#REF!+#REF!+#REF!+#REF!+#REF!+#REF!+#REF!+#REF!+#REF!+#REF!+#REF!+#REF!+#REF!+#REF!+#REF!+#REF!+#REF!+#REF!+#REF!+#REF!+#REF!+#REF!+#REF!+#REF!+#REF!+#REF!+#REF!+#REF!+#REF!+#REF!+#REF!+#REF!+#REF!","v":{"$error":"#REF!"}},{"$f":"#REF!+#REF!+#REF!+#REF!+#REF!+#REF!+#REF!+#REF!+#REF!+#REF!+#REF!+#REF!+#REF!+#REF!+#REF!+#REF!+#REF!+#REF!+#REF!+#REF!+#REF!+#REF!+#REF!+#REF!+#REF!+#REF!+#REF!+#REF!+#REF!+#REF!+#REF!+#REF!+#REF!","v":{"$error":"#REF!"}},{"$f":"#REF!+#REF!+#REF!+#REF!+#REF!+#REF!+#REF!+#REF!+#REF!+#REF!+#REF!+#REF!+#REF!+#REF!+#REF!+#REF!+#REF!+#REF!+#REF!+#REF!+#REF!+#REF!+#REF!+#REF!+#REF!+#REF!+#REF!+#REF!+#REF!+#REF!+#REF!+#REF!+#REF!","v":{"$error":"#REF!"}},{"$f":"#REF!+#REF!+#REF!+#REF!+#REF!+#REF!+#REF!+#REF!+#REF!+#REF!+#REF!+#REF!+#REF!+#REF!+#REF!+#REF!+#REF!+#REF!+#REF!+#REF!+#REF!+#REF!+#REF!+#REF!+#REF!+#REF!+#REF!+#REF!+#REF!+#REF!+#REF!+#REF!+#REF!","v":{"$error":"#REF!"}},{"$f":"#REF!+#REF!+#REF!+#REF!+#REF!+#REF!+#REF!+#REF!+#REF!+#REF!+#REF!+#REF!+#REF!+#REF!+#REF!+#REF!+#REF!+#REF!+#REF!+#REF!+#REF!+#REF!+#REF!+#REF!+#REF!+#REF!+#REF!+#REF!+#REF!+#REF!+#REF!+#REF!+#REF!","v":{"$error":"#REF!"}},{"$f":"#REF!+#REF!+#REF!+#REF!+#REF!+#REF!+#REF!+#REF!+#REF!+#REF!+#REF!+#REF!+#REF!+#REF!+#REF!+#REF!+#REF!+#REF!+#REF!+#REF!+#REF!+#REF!+#REF!+#REF!+#REF!+#REF!+#REF!+#REF!+#REF!+#REF!+#REF!+#REF!+#REF!","v":{"$error":"#REF!"}},{"$error":"#REF!"},{"$error":"#REF!"},{"$f":"#REF!+#REF!+#REF!+#REF!+#REF!+#REF!+#REF!+#REF!+#REF!+#REF!+#REF!+#REF!+#REF!+#REF!+#REF!+#REF!+#REF!+#REF!+#REF!+#REF!+#REF!+#REF!+#REF!+#REF!+#REF!+#REF!+#REF!+#REF!+#REF!+#REF!+#REF!+#REF!+#REF!","v":{"$error":"#REF!"}},null,{"$error":"#REF!"}]
[55,"Terrebonne",{"$f":"#REF!+#REF!+#REF!+#REF!+#REF!+#REF!+#REF!+#REF!+#REF!+#REF!+#REF!+#REF!+#REF!+#REF!+#REF!+#REF!+#REF!+#REF!+#REF!+#REF!+#REF!+#REF!+#REF!+#REF!+#REF!+#REF!+#REF!+#REF!+#REF!+#REF!+#REF!+#REF!+#REF!","v":{"$error":"#REF!"}},{"$f":"'9_Per Pupil Summary'!H60","v":4347.2992053876433},{"$f":"#REF!+#REF!+#REF!+#REF!+#REF!+#REF!+#REF!+#REF!+#REF!+#REF!+#REF!+#REF!+#REF!+#REF!+#REF!+#REF!+#REF!+#REF!+#REF!+#REF!+#REF!+#REF!+#REF!+#REF!+#REF!+#REF!+#REF!+#REF!+#REF!+#REF!+#REF!+#REF!+#REF!","v":{"$error":"#REF!"}},{"$f":"#REF!+#REF!+#REF!+#REF!+#REF!+#REF!+#REF!+#REF!+#REF!+#REF!+#REF!+#REF!+#REF!+#REF!+#REF!+#REF!+#REF!+#REF!+#REF!+#REF!+#REF!+#REF!+#REF!+#REF!+#REF!+#REF!+#REF!+#REF!+#REF!+#REF!+#REF!+#REF!+#REF!","v":{"$error":"#REF!"}},{"$f":"'9_Per Pupil Summary'!I60","v":574.58420227004592},{"$f":"#REF!+#REF!+#REF!+#REF!+#REF!+#REF!+#REF!+#REF!+#REF!+#REF!+#REF!+#REF!+#REF!+#REF!+#REF!+#REF!+#REF!+#REF!+#REF!+#REF!+#REF!+#REF!+#REF!+#REF!+#REF!+#REF!+#REF!+#REF!+#REF!+#REF!+#REF!+#REF!+#REF!","v":{"$error":"#REF!"}},{"$f":"#REF!+#REF!+#REF!+#REF!+#REF!+#REF!+#REF!+#REF!+#REF!+#REF!+#REF!+#REF!+#REF!+#REF!+#REF!+#REF!+#REF!+#REF!+#REF!+#REF!+#REF!+#REF!+#REF!+#REF!+#REF!+#REF!+#REF!+#REF!+#REF!+#REF!+#REF!+#REF!+#REF!","v":{"$error":"#REF!"}},{"$f":"'9_Per Pupil Summary'!J60","v":156.70478243728525},{"$f":"#REF!+#REF!+#REF!+#REF!+#REF!+#REF!+#REF!+#REF!+#REF!+#REF!+#REF!+#REF!+#REF!+#REF!+#REF!+#REF!+#REF!+#REF!+#REF!+#REF!+#REF!+#REF!+#REF!+#REF!+#REF!+#REF!+#REF!+#REF!+#REF!+#REF!+#REF!+#REF!+#REF!","v":{"$error":"#REF!"}},{"$f":"#REF!+#REF!+#REF!+#REF!+#REF!+#REF!+#REF!+#REF!+#REF!+#REF!+#REF!+#REF!+#REF!+#REF!+#REF!+#REF!+#REF!+#REF!+#REF!+#REF!+#REF!+#REF!+#REF!+#REF!+#REF!+#REF!+#REF!+#REF!+#REF!+#REF!+#REF!+#REF!+#REF!","v":{"$error":"#REF!"}},{"$f":"'9_Per Pupil Summary'!K60","v":3917.6195609321308},{"$f":"#REF!+#REF!+#REF!+#REF!+#REF!+#REF!+#REF!+#REF!+#REF!+#REF!+#REF!+#REF!+#REF!+#REF!+#REF!+#REF!+#REF!+#REF!+#REF!+#REF!+#REF!+#REF!+#REF!+#REF!+#REF!+#REF!+#REF!+#REF!+#REF!+#REF!+#REF!+#REF!+#REF!","v":{"$error":"#REF!"}},{"$f":"#REF!+#REF!+#REF!+#REF!+#REF!+#REF!+#REF!+#REF!+#REF!+#REF!+#REF!+#REF!+#REF!+#REF!+#REF!+#REF!+#REF!+#REF!+#REF!+#REF!+#REF!+#REF!+#REF!+#REF!+#REF!+#REF!+#REF!+#REF!+#REF!+#REF!+#REF!+#REF!+#REF!","v":{"$error":"#REF!"}},{"$f":"'9_Per Pupil Summary'!L60","v":1567.0478243728523},{"$f":"#REF!+#REF!+#REF!+#REF!+#REF!+#REF!+#REF!+#REF!+#REF!+#REF!+#REF!+#REF!+#REF!+#REF!+#REF!+#REF!+#REF!+#REF!+#REF!+#REF!+#REF!+#REF!+#REF!+#REF!+#REF!+#REF!+#REF!+#REF!+#REF!+#REF!+#REF!+#REF!+#REF!","v":{"$error":"#REF!"}},{"$f":"#REF!+#REF!+#REF!+#REF!+#REF!+#REF!+#REF!+#REF!+#REF!+#REF!+#REF!+#REF!+#REF!+#REF!+#REF!+#REF!+#REF!+#REF!+#REF!+#REF!+#REF!+#REF!+#REF!+#REF!+#REF!+#REF!+#REF!+#REF!+#REF!+#REF!+#REF!+#REF!+#REF!","v":{"$error":"#REF!"}},{"$f":"#REF!+#REF!","v":{"$error":"#REF!"}},{"$f":"#REF!+#REF!+#REF!+#REF!+#REF!+#REF!+#REF!+#REF!+#REF!+#REF!+#REF!+#REF!+#REF!+#REF!+#REF!+#REF!+#REF!+#REF!+#REF!+#REF!+#REF!+#REF!+#REF!+#REF!+#REF!+#REF!+#REF!+#REF!+#REF!+#REF!+#REF!+#REF!+#REF!","v":{"$error":"#REF!"}},{"$f":"#REF!+#REF!+#REF!+#REF!+#REF!+#REF!+#REF!+#REF!+#REF!+#REF!+#REF!+#REF!+#REF!+#REF!+#REF!+#REF!+#REF!+#REF!+#REF!+#REF!+#REF!+#REF!+#REF!+#REF!+#REF!+#REF!+#REF!+#REF!+#REF!+#REF!+#REF!+#REF!+#REF!","v":{"$error":"#REF!"}},{"$f":"#REF!+#REF!+#REF!+#REF!+#REF!+#REF!+#REF!+#REF!+#REF!+#REF!+#REF!+#REF!+#REF!+#REF!+#REF!+#REF!+#REF!+#REF!+#REF!+#REF!+#REF!+#REF!+#REF!+#REF!+#REF!+#REF!+#REF!+#REF!+#REF!+#REF!+#REF!+#REF!+#REF!","v":{"$error":"#REF!"}},{"$f":"#REF!+#REF!+#REF!+#REF!+#REF!+#REF!+#REF!+#REF!+#REF!+#REF!+#REF!+#REF!+#REF!+#REF!+#REF!+#REF!+#REF!+#REF!+#REF!+#REF!+#REF!+#REF!+#REF!+#REF!+#REF!+#REF!+#REF!+#REF!+#REF!+#REF!+#REF!+#REF!+#REF!","v":{"$error":"#REF!"}},{"$f":"#REF!+#REF!+#REF!+#REF!+#REF!+#REF!+#REF!+#REF!+#REF!+#REF!+#REF!+#REF!+#REF!+#REF!+#REF!+#REF!+#REF!+#REF!+#REF!+#REF!+#REF!+#REF!+#REF!+#REF!+#REF!+#REF!+#REF!+#REF!+#REF!+#REF!+#REF!+#REF!+#REF!","v":{"$error":"#REF!"}},{"$f":"#REF!+#REF!+#REF!+#REF!+#REF!+#REF!+#REF!+#REF!+#REF!+#REF!+#REF!+#REF!+#REF!+#REF!+#REF!+#REF!+#REF!+#REF!+#REF!+#REF!+#REF!+#REF!+#REF!+#REF!+#REF!+#REF!+#REF!+#REF!+#REF!+#REF!+#REF!+#REF!+#REF!","v":{"$error":"#REF!"}},{"$f":"#REF!+#REF!+#REF!+#REF!+#REF!+#REF!+#REF!+#REF!+#REF!+#REF!+#REF!+#REF!+#REF!+#REF!+#REF!+#REF!+#REF!+#REF!+#REF!+#REF!+#REF!+#REF!+#REF!+#REF!+#REF!+#REF!+#REF!+#REF!+#REF!+#REF!+#REF!+#REF!+#REF!","v":{"$error":"#REF!"}},{"$f":"#REF!+#REF!+#REF!+#REF!+#REF!+#REF!+#REF!+#REF!+#REF!+#REF!+#REF!+#REF!+#REF!+#REF!+#REF!+#REF!+#REF!+#REF!+#REF!+#REF!+#REF!+#REF!+#REF!+#REF!+#REF!+#REF!+#REF!+#REF!+#REF!+#REF!+#REF!+#REF!+#REF!","v":{"$error":"#REF!"}},{"$f":"#REF!+#REF!+#REF!+#REF!+#REF!+#REF!+#REF!+#REF!+#REF!+#REF!+#REF!+#REF!+#REF!+#REF!+#REF!+#REF!+#REF!+#REF!+#REF!+#REF!+#REF!+#REF!+#REF!+#REF!+#REF!+#REF!+#REF!+#REF!+#REF!+#REF!+#REF!+#REF!+#REF!","v":{"$error":"#REF!"}},{"$f":"#REF!+#REF!+#REF!+#REF!+#REF!+#REF!+#REF!+#REF!+#REF!+#REF!+#REF!+#REF!+#REF!+#REF!+#REF!+#REF!+#REF!+#REF!+#REF!+#REF!+#REF!+#REF!+#REF!+#REF!+#REF!+#REF!+#REF!+#REF!+#REF!+#REF!+#REF!+#REF!+#REF!","v":{"$error":"#REF!"}},{"$f":"#REF!+#REF!+#REF!+#REF!+#REF!+#REF!+#REF!+#REF!+#REF!+#REF!+#REF!+#REF!+#REF!+#REF!+#REF!+#REF!+#REF!+#REF!+#REF!+#REF!+#REF!+#REF!+#REF!+#REF!+#REF!+#REF!+#REF!+#REF!+#REF!+#REF!+#REF!+#REF!+#REF!","v":{"$error":"#REF!"}},{"$f":"#REF!+#REF!+#REF!+#REF!+#REF!+#REF!+#REF!+#REF!+#REF!+#REF!+#REF!+#REF!+#REF!+#REF!+#REF!+#REF!+#REF!+#REF!+#REF!+#REF!+#REF!+#REF!+#REF!+#REF!+#REF!+#REF!+#REF!+#REF!+#REF!+#REF!+#REF!+#REF!+#REF!","v":{"$error":"#REF!"}},{"$f":"'9_Per Pupil Summary'!N60","v":5727},{"$f":"#REF!+#REF!+#REF!+#REF!+#REF!+#REF!+#REF!+#REF!+#REF!+#REF!+#REF!+#REF!+#REF!+#REF!+#REF!+#REF!+#REF!+#REF!+#REF!+#REF!+#REF!+#REF!+#REF!+#REF!+#REF!+#REF!+#REF!+#REF!+#REF!+#REF!+#REF!+#REF!+#REF!","v":{"$error":"#REF!"}},{"$f":"#REF!+#REF!+#REF!+#REF!+#REF!+#REF!+#REF!+#REF!+#REF!+#REF!+#REF!+#REF!+#REF!+#REF!+#REF!+#REF!+#REF!+#REF!+#REF!+#REF!+#REF!+#REF!+#REF!+#REF!+#REF!+#REF!+#REF!+#REF!+#REF!+#REF!+#REF!+#REF!+#REF!","v":{"$error":"#REF!"}},{"$f":"#REF!+#REF!+#REF!+#REF!+#REF!+#REF!+#REF!+#REF!+#REF!+#REF!+#REF!+#REF!+#REF!+#REF!+#REF!+#REF!+#REF!+#REF!+#REF!+#REF!+#REF!+#REF!+#REF!+#REF!+#REF!+#REF!+#REF!+#REF!+#REF!+#REF!+#REF!+#REF!+#REF!","v":{"$error":"#REF!"}},{"$f":"#REF!+#REF!+#REF!+#REF!+#REF!+#REF!+#REF!+#REF!+#REF!+#REF!+#REF!+#REF!+#REF!+#REF!+#REF!+#REF!+#REF!+#REF!+#REF!+#REF!+#REF!+#REF!+#REF!+#REF!+#REF!+#REF!+#REF!+#REF!+#REF!+#REF!+#REF!+#REF!+#REF!","v":{"$error":"#REF!"}},{"$f":"#REF!+#REF!+#REF!+#REF!+#REF!+#REF!+#REF!+#REF!+#REF!+#REF!+#REF!+#REF!+#REF!+#REF!+#REF!+#REF!+#REF!+#REF!+#REF!+#REF!+#REF!+#REF!+#REF!+#REF!+#REF!+#REF!+#REF!+#REF!+#REF!+#REF!+#REF!+#REF!+#REF!","v":{"$error":"#REF!"}},{"$f":"#REF!+#REF!+#REF!+#REF!+#REF!+#REF!+#REF!+#REF!+#REF!+#REF!+#REF!+#REF!+#REF!+#REF!+#REF!+#REF!+#REF!+#REF!+#REF!+#REF!+#REF!+#REF!+#REF!+#REF!+#REF!+#REF!+#REF!+#REF!+#REF!+#REF!+#REF!+#REF!+#REF!","v":{"$error":"#REF!"}},{"$f":"#REF!+#REF!+#REF!+#REF!+#REF!+#REF!+#REF!+#REF!+#REF!+#REF!+#REF!+#REF!+#REF!+#REF!+#REF!+#REF!+#REF!+#REF!+#REF!+#REF!+#REF!+#REF!+#REF!+#REF!+#REF!+#REF!+#REF!+#REF!+#REF!+#REF!+#REF!+#REF!+#REF!","v":{"$error":"#REF!"}},{"$f":"#REF!+#REF!+#REF!+#REF!+#REF!+#REF!+#REF!+#REF!+#REF!+#REF!+#REF!+#REF!+#REF!+#REF!+#REF!+#REF!+#REF!+#REF!+#REF!+#REF!+#REF!+#REF!+#REF!+#REF!+#REF!+#REF!+#REF!+#REF!+#REF!+#REF!+#REF!+#REF!+#REF!","v":{"$error":"#REF!"}},{"$f":"#REF!+#REF!+#REF!+#REF!+#REF!+#REF!+#REF!+#REF!+#REF!+#REF!+#REF!+#REF!+#REF!+#REF!+#REF!+#REF!+#REF!+#REF!+#REF!+#REF!+#REF!+#REF!+#REF!+#REF!+#REF!+#REF!+#REF!+#REF!+#REF!+#REF!+#REF!+#REF!+#REF!","v":{"$error":"#REF!"}},{"$f":"#REF!+#REF!+#REF!+#REF!+#REF!+#REF!+#REF!+#REF!+#REF!+#REF!+#REF!+#REF!+#REF!+#REF!+#REF!+#REF!+#REF!+#REF!+#REF!+#REF!+#REF!+#REF!+#REF!+#REF!+#REF!+#REF!+#REF!+#REF!+#REF!+#REF!+#REF!+#REF!+#REF!","v":{"$error":"#REF!"}},{"$f":"#REF!+#REF!+#REF!+#REF!+#REF!+#REF!+#REF!+#REF!+#REF!+#REF!+#REF!+#REF!+#REF!+#REF!+#REF!+#REF!+#REF!+#REF!+#REF!+#REF!+#REF!+#REF!+#REF!+#REF!+#REF!+#REF!+#REF!+#REF!+#REF!+#REF!+#REF!+#REF!+#REF!","v":{"$error":"#REF!"}},{"$f":"#REF!+#REF!+#REF!+#REF!+#REF!+#REF!+#REF!+#REF!+#REF!+#REF!+#REF!+#REF!+#REF!+#REF!+#REF!+#REF!+#REF!+#REF!+#REF!+#REF!+#REF!+#REF!+#REF!+#REF!+#REF!+#REF!+#REF!+#REF!+#REF!+#REF!+#REF!+#REF!+#REF!","v":{"$error":"#REF!"}},{"$f":"#REF!+#REF!+#REF!+#REF!+#REF!+#REF!+#REF!+#REF!+#REF!+#REF!+#REF!+#REF!+#REF!+#REF!+#REF!+#REF!+#REF!+#REF!+#REF!+#REF!+#REF!+#REF!+#REF!+#REF!+#REF!+#REF!+#REF!+#REF!+#REF!+#REF!+#REF!+#REF!+#REF!","v":{"$error":"#REF!"}},{"$f":"#REF!+#REF!+#REF!+#REF!+#REF!+#REF!+#REF!+#REF!+#REF!+#REF!+#REF!+#REF!+#REF!+#REF!+#REF!+#REF!+#REF!+#REF!+#REF!+#REF!+#REF!+#REF!+#REF!+#REF!+#REF!+#REF!+#REF!+#REF!+#REF!+#REF!+#REF!+#REF!+#REF!","v":{"$error":"#REF!"}},{"$error":"#REF!"},{"$error":"#REF!"},{"$f":"#REF!+#REF!+#REF!+#REF!+#REF!+#REF!+#REF!+#REF!+#REF!+#REF!+#REF!+#REF!+#REF!+#REF!+#REF!+#REF!+#REF!+#REF!+#REF!+#REF!+#REF!+#REF!+#REF!+#REF!+#REF!+#REF!+#REF!+#REF!+#REF!+#REF!+#REF!+#REF!+#REF!","v":{"$error":"#REF!"}},null,{"$error":"#REF!"}]
[56,"Union",{"$f":"#REF!+#REF!+#REF!+#REF!+#REF!+#REF!+#REF!+#REF!+#REF!+#REF!+#REF!+#REF!+#REF!+#REF!+#REF!+#REF!+#REF!+#REF!+#REF!+#REF!+#REF!+#REF!+#REF!+#REF!+#REF!+#REF!+#REF!+#REF!+#REF!+#REF!+#REF!+#REF!+#REF!","v":{"$error":"#REF!"}},{"$f":"'9_Per Pupil Summary'!H61","v":5164.1509792240913},{"$f":"#REF!+#REF!+#REF!+#REF!+#REF!+#REF!+#REF!+#REF!+#REF!+#REF!+#REF!+#REF!+#REF!+#REF!+#REF!+#REF!+#REF!+#REF!+#REF!+#REF!+#REF!+#REF!+#REF!+#REF!+#REF!+#REF!+#REF!+#REF!+#REF!+#REF!+#REF!+#REF!+#REF!","v":{"$error":"#REF!"}},{"$f":"#REF!+#REF!+#REF!+#REF!+#REF!+#REF!+#REF!+#REF!+#REF!+#REF!+#REF!+#REF!+#REF!+#REF!+#REF!+#REF!+#REF!+#REF!+#REF!+#REF!+#REF!+#REF!+#REF!+#REF!+#REF!+#REF!+#REF!+#REF!+#REF!+#REF!+#REF!+#REF!+#REF!","v":{"$error":"#REF!"}},{"$f":"'9_Per Pupil Summary'!I61","v":684.43715973676922},{"$f":"#REF!+#REF!+#REF!+#REF!+#REF!+#REF!+#REF!+#REF!+#REF!+#REF!+#REF!+#REF!+#REF!+#REF!+#REF!+#REF!+#REF!+#REF!+#REF!+#REF!+#REF!+#REF!+#REF!+#REF!+#REF!+#REF!+#REF!+#REF!+#REF!+#REF!+#REF!+#REF!+#REF!","v":{"$error":"#REF!"}},{"$f":"#REF!+#REF!+#REF!+#REF!+#REF!+#REF!+#REF!+#REF!+#REF!+#REF!+#REF!+#REF!+#REF!+#REF!+#REF!+#REF!+#REF!+#REF!+#REF!+#REF!+#REF!+#REF!+#REF!+#REF!+#REF!+#REF!+#REF!+#REF!+#REF!+#REF!+#REF!+#REF!+#REF!","v":{"$error":"#REF!"}},{"$f":"'9_Per Pupil Summary'!J61","v":186.66467992820978},{"$f":"#REF!+#REF!+#REF!+#REF!+#REF!+#REF!+#REF!+#REF!+#REF!+#REF!+#REF!+#REF!+#REF!+#REF!+#REF!+#REF!+#REF!+#REF!+#REF!+#REF!+#REF!+#REF!+#REF!+#REF!+#REF!+#REF!+#REF!+#REF!+#REF!+#REF!+#REF!+#REF!+#REF!","v":{"$error":"#REF!"}},{"$f":"#REF!+#REF!+#REF!+#REF!+#REF!+#REF!+#REF!+#REF!+#REF!+#REF!+#REF!+#REF!+#REF!+#REF!+#REF!+#REF!+#REF!+#REF!+#REF!+#REF!+#REF!+#REF!+#REF!+#REF!+#REF!+#REF!+#REF!+#REF!+#REF!+#REF!+#REF!+#REF!+#REF!","v":{"$error":"#REF!"}},{"$f":"'9_Per Pupil Summary'!K61","v":4666.6169982052452},{"$f":"#REF!+#REF!+#REF!+#REF!+#REF!+#REF!+#REF!+#REF!+#REF!+#REF!+#REF!+#REF!+#REF!+#REF!+#REF!+#REF!+#REF!+#REF!+#REF!+#REF!+#REF!+#REF!+#REF!+#REF!+#REF!+#REF!+#REF!+#REF!+#REF!+#REF!+#REF!+#REF!+#REF!","v":{"$error":"#REF!"}},{"$f":"#REF!+#REF!+#REF!+#REF!+#REF!+#REF!+#REF!+#REF!+#REF!+#REF!+#REF!+#REF!+#REF!+#REF!+#REF!+#REF!+#REF!+#REF!+#REF!+#REF!+#REF!+#REF!+#REF!+#REF!+#REF!+#REF!+#REF!+#REF!+#REF!+#REF!+#REF!+#REF!+#REF!","v":{"$error":"#REF!"}},{"$f":"'9_Per Pupil Summary'!L61","v":1866.6467992820978},{"$f":"#REF!+#REF!+#REF!+#REF!+#REF!+#REF!+#REF!+#REF!+#REF!+#REF!+#REF!+#REF!+#REF!+#REF!+#REF!+#REF!+#REF!+#REF!+#REF!+#REF!+#REF!+#REF!+#REF!+#REF!+#REF!+#REF!+#REF!+#REF!+#REF!+#REF!+#REF!+#REF!+#REF!","v":{"$error":"#REF!"}},{"$f":"#REF!+#REF!+#REF!+#REF!+#REF!+#REF!+#REF!+#REF!+#REF!+#REF!+#REF!+#REF!+#REF!+#REF!+#REF!+#REF!+#REF!+#REF!+#REF!+#REF!+#REF!+#REF!+#REF!+#REF!+#REF!+#REF!+#REF!+#REF!+#REF!+#REF!+#REF!+#REF!+#REF!","v":{"$error":"#REF!"}},{"$f":"#REF!+#REF!","v":{"$error":"#REF!"}},{"$f":"#REF!+#REF!+#REF!+#REF!+#REF!+#REF!+#REF!+#REF!+#REF!+#REF!+#REF!+#REF!+#REF!+#REF!+#REF!+#REF!+#REF!+#REF!+#REF!+#REF!+#REF!+#REF!+#REF!+#REF!+#REF!+#REF!+#REF!+#REF!+#REF!+#REF!+#REF!+#REF!+#REF!","v":{"$error":"#REF!"}},{"$f":"#REF!+#REF!+#REF!+#REF!+#REF!+#REF!+#REF!+#REF!+#REF!+#REF!+#REF!+#REF!+#REF!+#REF!+#REF!+#REF!+#REF!+#REF!+#REF!+#REF!+#REF!+#REF!+#REF!+#REF!+#REF!+#REF!+#REF!+#REF!+#REF!+#REF!+#REF!+#REF!+#REF!","v":{"$error":"#REF!"}},{"$f":"#REF!+#REF!+#REF!+#REF!+#REF!+#REF!+#REF!+#REF!+#REF!+#REF!+#REF!+#REF!+#REF!+#REF!+#REF!+#REF!+#REF!+#REF!+#REF!+#REF!+#REF!+#REF!+#REF!+#REF!+#REF!+#REF!+#REF!+#REF!+#REF!+#REF!+#REF!+#REF!+#REF!","v":{"$error":"#REF!"}},{"$f":"#REF!+#REF!+#REF!+#REF!+#REF!+#REF!+#REF!+#REF!+#REF!+#REF!+#REF!+#REF!+#REF!+#REF!+#REF!+#REF!+#REF!+#REF!+#REF!+#REF!+#REF!+#REF!+#REF!+#REF!+#REF!+#REF!+#REF!+#REF!+#REF!+#REF!+#REF!+#REF!+#REF!","v":{"$error":"#REF!"}},{"$f":"#REF!+#REF!+#REF!+#REF!+#REF!+#REF!+#REF!+#REF!+#REF!+#REF!+#REF!+#REF!+#REF!+#REF!+#REF!+#REF!+#REF!+#REF!+#REF!+#REF!+#REF!+#REF!+#REF!+#REF!+#REF!+#REF!+#REF!+#REF!+#REF!+#REF!+#REF!+#REF!+#REF!","v":{"$error":"#REF!"}},{"$f":"#REF!+#REF!+#REF!+#REF!+#REF!+#REF!+#REF!+#REF!+#REF!+#REF!+#REF!+#REF!+#REF!+#REF!+#REF!+#REF!+#REF!+#REF!+#REF!+#REF!+#REF!+#REF!+#REF!+#REF!+#REF!+#REF!+#REF!+#REF!+#REF!+#REF!+#REF!+#REF!+#REF!","v":{"$error":"#REF!"}},{"$f":"#REF!+#REF!+#REF!+#REF!+#REF!+#REF!+#REF!+#REF!+#REF!+#REF!+#REF!+#REF!+#REF!+#REF!+#REF!+#REF!+#REF!+#REF!+#REF!+#REF!+#REF!+#REF!+#REF!+#REF!+#REF!+#REF!+#REF!+#REF!+#REF!+#REF!+#REF!+#REF!+#REF!","v":{"$error":"#REF!"}},{"$f":"#REF!+#REF!+#REF!+#REF!+#REF!+#REF!+#REF!+#REF!+#REF!+#REF!+#REF!+#REF!+#REF!+#REF!+#REF!+#REF!+#REF!+#REF!+#REF!+#REF!+#REF!+#REF!+#REF!+#REF!+#REF!+#REF!+#REF!+#REF!+#REF!+#REF!+#REF!+#REF!+#REF!","v":{"$error":"#REF!"}},{"$f":"#REF!+#REF!+#REF!+#REF!+#REF!+#REF!+#REF!+#REF!+#REF!+#REF!+#REF!+#REF!+#REF!+#REF!+#REF!+#REF!+#REF!+#REF!+#REF!+#REF!+#REF!+#REF!+#REF!+#REF!+#REF!+#REF!+#REF!+#REF!+#REF!+#REF!+#REF!+#REF!+#REF!","v":{"$error":"#REF!"}},{"$f":"#REF!+#REF!+#REF!+#REF!+#REF!+#REF!+#REF!+#REF!+#REF!+#REF!+#REF!+#REF!+#REF!+#REF!+#REF!+#REF!+#REF!+#REF!+#REF!+#REF!+#REF!+#REF!+#REF!+#REF!+#REF!+#REF!+#REF!+#REF!+#REF!+#REF!+#REF!+#REF!+#REF!","v":{"$error":"#REF!"}},{"$f":"#REF!+#REF!+#REF!+#REF!+#REF!+#REF!+#REF!+#REF!+#REF!+#REF!+#REF!+#REF!+#REF!+#REF!+#REF!+#REF!+#REF!+#REF!+#REF!+#REF!+#REF!+#REF!+#REF!+#REF!+#REF!+#REF!+#REF!+#REF!+#REF!+#REF!+#REF!+#REF!+#REF!","v":{"$error":"#REF!"}},{"$f":"#REF!+#REF!+#REF!+#REF!+#REF!+#REF!+#REF!+#REF!+#REF!+#REF!+#REF!+#REF!+#REF!+#REF!+#REF!+#REF!+#REF!+#REF!+#REF!+#REF!+#REF!+#REF!+#REF!+#REF!+#REF!+#REF!+#REF!+#REF!+#REF!+#REF!+#REF!+#REF!+#REF!","v":{"$error":"#REF!"}},{"$f":"'9_Per Pupil Summary'!N61","v":5735},{"$f":"#REF!+#REF!+#REF!+#REF!+#REF!+#REF!+#REF!+#REF!+#REF!+#REF!+#REF!+#REF!+#REF!+#REF!+#REF!+#REF!+#REF!+#REF!+#REF!+#REF!+#REF!+#REF!+#REF!+#REF!+#REF!+#REF!+#REF!+#REF!+#REF!+#REF!+#REF!+#REF!+#REF!","v":{"$error":"#REF!"}},{"$f":"#REF!+#REF!+#REF!+#REF!+#REF!+#REF!+#REF!+#REF!+#REF!+#REF!+#REF!+#REF!+#REF!+#REF!+#REF!+#REF!+#REF!+#REF!+#REF!+#REF!+#REF!+#REF!+#REF!+#REF!+#REF!+#REF!+#REF!+#REF!+#REF!+#REF!+#REF!+#REF!+#REF!","v":{"$error":"#REF!"}},{"$f":"#REF!+#REF!+#REF!+#REF!+#REF!+#REF!+#REF!+#REF!+#REF!+#REF!+#REF!+#REF!+#REF!+#REF!+#REF!+#REF!+#REF!+#REF!+#REF!+#REF!+#REF!+#REF!+#REF!+#REF!+#REF!+#REF!+#REF!+#REF!+#REF!+#REF!+#REF!+#REF!+#REF!","v":{"$error":"#REF!"}},{"$f":"#REF!+#REF!+#REF!+#REF!+#REF!+#REF!+#REF!+#REF!+#REF!+#REF!+#REF!+#REF!+#REF!+#REF!+#REF!+#REF!+#REF!+#REF!+#REF!+#REF!+#REF!+#REF!+#REF!+#REF!+#REF!+#REF!+#REF!+#REF!+#REF!+#REF!+#REF!+#REF!+#REF!","v":{"$error":"#REF!"}},{"$f":"#REF!+#REF!+#REF!+#REF!+#REF!+#REF!+#REF!+#REF!+#REF!+#REF!+#REF!+#REF!+#REF!+#REF!+#REF!+#REF!+#REF!+#REF!+#REF!+#REF!+#REF!+#REF!+#REF!+#REF!+#REF!+#REF!+#REF!+#REF!+#REF!+#REF!+#REF!+#REF!+#REF!","v":{"$error":"#REF!"}},{"$f":"#REF!+#REF!+#REF!+#REF!+#REF!+#REF!+#REF!+#REF!+#REF!+#REF!+#REF!+#REF!+#REF!+#REF!+#REF!+#REF!+#REF!+#REF!+#REF!+#REF!+#REF!+#REF!+#REF!+#REF!+#REF!+#REF!+#REF!+#REF!+#REF!+#REF!+#REF!+#REF!+#REF!","v":{"$error":"#REF!"}},{"$f":"#REF!+#REF!+#REF!+#REF!+#REF!+#REF!+#REF!+#REF!+#REF!+#REF!+#REF!+#REF!+#REF!+#REF!+#REF!+#REF!+#REF!+#REF!+#REF!+#REF!+#REF!+#REF!+#REF!+#REF!+#REF!+#REF!+#REF!+#REF!+#REF!+#REF!+#REF!+#REF!+#REF!","v":{"$error":"#REF!"}},{"$f":"#REF!+#REF!+#REF!+#REF!+#REF!+#REF!+#REF!+#REF!+#REF!+#REF!+#REF!+#REF!+#REF!+#REF!+#REF!+#REF!+#REF!+#REF!+#REF!+#REF!+#REF!+#REF!+#REF!+#REF!+#REF!+#REF!+#REF!+#REF!+#REF!+#REF!+#REF!+#REF!+#REF!","v":{"$error":"#REF!"}},{"$f":"#REF!+#REF!+#REF!+#REF!+#REF!+#REF!+#REF!+#REF!+#REF!+#REF!+#REF!+#REF!+#REF!+#REF!+#REF!+#REF!+#REF!+#REF!+#REF!+#REF!+#REF!+#REF!+#REF!+#REF!+#REF!+#REF!+#REF!+#REF!+#REF!+#REF!+#REF!+#REF!+#REF!","v":{"$error":"#REF!"}},{"$f":"#REF!+#REF!+#REF!+#REF!+#REF!+#REF!+#REF!+#REF!+#REF!+#REF!+#REF!+#REF!+#REF!+#REF!+#REF!+#REF!+#REF!+#REF!+#REF!+#REF!+#REF!+#REF!+#REF!+#REF!+#REF!+#REF!+#REF!+#REF!+#REF!+#REF!+#REF!+#REF!+#REF!","v":{"$error":"#REF!"}},{"$f":"#REF!+#REF!+#REF!+#REF!+#REF!+#REF!+#REF!+#REF!+#REF!+#REF!+#REF!+#REF!+#REF!+#REF!+#REF!+#REF!+#REF!+#REF!+#REF!+#REF!+#REF!+#REF!+#REF!+#REF!+#REF!+#REF!+#REF!+#REF!+#REF!+#REF!+#REF!+#REF!+#REF!","v":{"$error":"#REF!"}},{"$f":"#REF!+#REF!+#REF!+#REF!+#REF!+#REF!+#REF!+#REF!+#REF!+#REF!+#REF!+#REF!+#REF!+#REF!+#REF!+#REF!+#REF!+#REF!+#REF!+#REF!+#REF!+#REF!+#REF!+#REF!+#REF!+#REF!+#REF!+#REF!+#REF!+#REF!+#REF!+#REF!+#REF!","v":{"$error":"#REF!"}},{"$f":"#REF!+#REF!+#REF!+#REF!+#REF!+#REF!+#REF!+#REF!+#REF!+#REF!+#REF!+#REF!+#REF!+#REF!+#REF!+#REF!+#REF!+#REF!+#REF!+#REF!+#REF!+#REF!+#REF!+#REF!+#REF!+#REF!+#REF!+#REF!+#REF!+#REF!+#REF!+#REF!+#REF!","v":{"$error":"#REF!"}},{"$f":"#REF!+#REF!+#REF!+#REF!+#REF!+#REF!+#REF!+#REF!+#REF!+#REF!+#REF!+#REF!+#REF!+#REF!+#REF!+#REF!+#REF!+#REF!+#REF!+#REF!+#REF!+#REF!+#REF!+#REF!+#REF!+#REF!+#REF!+#REF!+#REF!+#REF!+#REF!+#REF!+#REF!","v":{"$error":"#REF!"}},{"$error":"#REF!"},{"$error":"#REF!"},{"$f":"#REF!+#REF!+#REF!+#REF!+#REF!+#REF!+#REF!+#REF!+#REF!+#REF!+#REF!+#REF!+#REF!+#REF!+#REF!+#REF!+#REF!+#REF!+#REF!+#REF!+#REF!+#REF!+#REF!+#REF!+#REF!+#REF!+#REF!+#REF!+#REF!+#REF!+#REF!+#REF!+#REF!","v":{"$error":"#REF!"}},null,{"$error":"#REF!"}]
[57,"Vermilion",{"$f":"#REF!+#REF!+#REF!+#REF!+#REF!+#REF!+#REF!+#REF!+#REF!+#REF!+#REF!+#REF!+#REF!+#REF!+#REF!+#REF!+#REF!+#REF!+#REF!+#REF!+#REF!+#REF!+#REF!+#REF!+#REF!+#REF!+#REF!+#REF!+#REF!+#REF!+#REF!+#REF!+#REF!","v":{"$error":"#REF!"}},{"$f":"'9_Per Pupil Summary'!H62","v":5335.8626815425077},{"$f":"#REF!+#REF!+#REF!+#REF!+#REF!+#REF!+#REF!+#REF!+#REF!+#REF!+#REF!+#REF!+#REF!+#REF!+#REF!+#REF!+#REF!+#REF!+#REF!+#REF!+#REF!+#REF!+#REF!+#REF!+#REF!+#REF!+#REF!+#REF!+#REF!+#REF!+#REF!+#REF!+#REF!","v":{"$error":"#REF!"}},{"$f":"#REF!+#REF!+#REF!+#REF!+#REF!+#REF!+#REF!+#REF!+#REF!+#REF!+#REF!+#REF!+#REF!+#REF!+#REF!+#REF!+#REF!+#REF!+#REF!+#REF!+#REF!+#REF!+#REF!+#REF!+#REF!+#REF!+#REF!+#REF!+#REF!+#REF!+#REF!+#REF!+#REF!","v":{"$error":"#REF!"}},{"$f":"'9_Per Pupil Summary'!I62","v":698.92676646147152},{"$f":"#REF!+#REF!+#REF!+#REF!+#REF!+#REF!+#REF!+#REF!+#REF!+#REF!+#REF!+#REF!+#REF!+#REF!+#REF!+#REF!+#REF!+#REF!+#REF!+#REF!+#REF!+#REF!+#REF!+#REF!+#REF!+#REF!+#REF!+#REF!+#REF!+#REF!+#REF!+#REF!+#REF!","v":{"$error":"#REF!"}},{"$f":"#REF!+#REF!+#REF!+#REF!+#REF!+#REF!+#REF!+#REF!+#REF!+#REF!+#REF!+#REF!+#REF!+#REF!+#REF!+#REF!+#REF!+#REF!+#REF!+#REF!+#REF!+#REF!+#REF!+#REF!+#REF!+#REF!+#REF!+#REF!+#REF!+#REF!+#REF!+#REF!+#REF!","v":{"$error":"#REF!"}},{"$f":"'9_Per Pupil Summary'!J62","v":190.61639085312859},{"$f":"#REF!+#REF!+#REF!+#REF!+#REF!+#REF!+#REF!+#REF!+#REF!+#REF!+#REF!+#REF!+#REF!+#REF!+#REF!+#REF!+#REF!+#REF!+#REF!+#REF!+#REF!+#REF!+#REF!+#REF!+#REF!+#REF!+#REF!+#REF!+#REF!+#REF!+#REF!+#REF!+#REF!","v":{"$error":"#REF!"}},{"$f":"#REF!+#REF!+#REF!+#REF!+#REF!+#REF!+#REF!+#REF!+#REF!+#REF!+#REF!+#REF!+#REF!+#REF!+#REF!+#REF!+#REF!+#REF!+#REF!+#REF!+#REF!+#REF!+#REF!+#REF!+#REF!+#REF!+#REF!+#REF!+#REF!+#REF!+#REF!+#REF!+#REF!","v":{"$error":"#REF!"}},{"$f":"'9_Per Pupil Summary'!K62","v":4765.4097713282154},{"$f":"#REF!+#REF!+#REF!+#REF!+#REF!+#REF!+#REF!+#REF!+#REF!+#REF!+#REF!+#REF!+#REF!+#REF!+#REF!+#REF!+#REF!+#REF!+#REF!+#REF!+#REF!+#REF!+#REF!+#REF!+#REF!+#REF!+#REF!+#REF!+#REF!+#REF!+#REF!+#REF!+#REF!","v":{"$error":"#REF!"}},{"$f":"#REF!+#REF!+#REF!+#REF!+#REF!+#REF!+#REF!+#REF!+#REF!+#REF!+#REF!+#REF!+#REF!+#REF!+#REF!+#REF!+#REF!+#REF!+#REF!+#REF!+#REF!+#REF!+#REF!+#REF!+#REF!+#REF!+#REF!+#REF!+#REF!+#REF!+#REF!+#REF!+#REF!","v":{"$error":"#REF!"}},{"$f":"'9_Per Pupil Summary'!L62","v":1906.1639085312863},{"$f":"#REF!+#REF!+#REF!+#REF!+#REF!+#REF!+#REF!+#REF!+#REF!+#REF!+#REF!+#REF!+#REF!+#REF!+#REF!+#REF!+#REF!+#REF!+#REF!+#REF!+#REF!+#REF!+#REF!+#REF!+#REF!+#REF!+#REF!+#REF!+#REF!+#REF!+#REF!+#REF!+#REF!","v":{"$error":"#REF!"}},{"$f":"#REF!+#REF!+#REF!+#REF!+#REF!+#REF!+#REF!+#REF!+#REF!+#REF!+#REF!+#REF!+#REF!+#REF!+#REF!+#REF!+#REF!+#REF!+#REF!+#REF!+#REF!+#REF!+#REF!+#REF!+#REF!+#REF!+#REF!+#REF!+#REF!+#REF!+#REF!+#REF!+#REF!","v":{"$error":"#REF!"}},{"$f":"#REF!+#REF!","v":{"$error":"#REF!"}},{"$f":"#REF!+#REF!+#REF!+#REF!+#REF!+#REF!+#REF!+#REF!+#REF!+#REF!+#REF!+#REF!+#REF!+#REF!+#REF!+#REF!+#REF!+#REF!+#REF!+#REF!+#REF!+#REF!+#REF!+#REF!+#REF!+#REF!+#REF!+#REF!+#REF!+#REF!+#REF!+#REF!+#REF!","v":{"$error":"#REF!"}},{"$f":"#REF!+#REF!+#REF!+#REF!+#REF!+#REF!+#REF!+#REF!+#REF!+#REF!+#REF!+#REF!+#REF!+#REF!+#REF!+#REF!+#REF!+#REF!+#REF!+#REF!+#REF!+#REF!+#REF!+#REF!+#REF!+#REF!+#REF!+#REF!+#REF!+#REF!+#REF!+#REF!+#REF!","v":{"$error":"#REF!"}},{"$f":"#REF!+#REF!+#REF!+#REF!+#REF!+#REF!+#REF!+#REF!+#REF!+#REF!+#REF!+#REF!+#REF!+#REF!+#REF!+#REF!+#REF!+#REF!+#REF!+#REF!+#REF!+#REF!+#REF!+#REF!+#REF!+#REF!+#REF!+#REF!+#REF!+#REF!+#REF!+#REF!+#REF!","v":{"$error":"#REF!"}},{"$f":"#REF!+#REF!+#REF!+#REF!+#REF!+#REF!+#REF!+#REF!+#REF!+#REF!+#REF!+#REF!+#REF!+#REF!+#REF!+#REF!+#REF!+#REF!+#REF!+#REF!+#REF!+#REF!+#REF!+#REF!+#REF!+#REF!+#REF!+#REF!+#REF!+#REF!+#REF!+#REF!+#REF!","v":{"$error":"#REF!"}},{"$f":"#REF!+#REF!+#REF!+#REF!+#REF!+#REF!+#REF!+#REF!+#REF!+#REF!+#REF!+#REF!+#REF!+#REF!+#REF!+#REF!+#REF!+#REF!+#REF!+#REF!+#REF!+#REF!+#REF!+#REF!+#REF!+#REF!+#REF!+#REF!+#REF!+#REF!+#REF!+#REF!+#REF!","v":{"$error":"#REF!"}},{"$f":"#REF!+#REF!+#REF!+#REF!+#REF!+#REF!+#REF!+#REF!+#REF!+#REF!+#REF!+#REF!+#REF!+#REF!+#REF!+#REF!+#REF!+#REF!+#REF!+#REF!+#REF!+#REF!+#REF!+#REF!+#REF!+#REF!+#REF!+#REF!+#REF!+#REF!+#REF!+#REF!+#REF!","v":{"$error":"#REF!"}},{"$f":"#REF!+#REF!+#REF!+#REF!+#REF!+#REF!+#REF!+#REF!+#REF!+#REF!+#REF!+#REF!+#REF!+#REF!+#REF!+#REF!+#REF!+#REF!+#REF!+#REF!+#REF!+#REF!+#REF!+#REF!+#REF!+#REF!+#REF!+#REF!+#REF!+#REF!+#REF!+#REF!+#REF!","v":{"$error":"#REF!"}},{"$f":"#REF!+#REF!+#REF!+#REF!+#REF!+#REF!+#REF!+#REF!+#REF!+#REF!+#REF!+#REF!+#REF!+#REF!+#REF!+#REF!+#REF!+#REF!+#REF!+#REF!+#REF!+#REF!+#REF!+#REF!+#REF!+#REF!+#REF!+#REF!+#REF!+#REF!+#REF!+#REF!+#REF!","v":{"$error":"#REF!"}},{"$f":"#REF!+#REF!+#REF!+#REF!+#REF!+#REF!+#REF!+#REF!+#REF!+#REF!+#REF!+#REF!+#REF!+#REF!+#REF!+#REF!+#REF!+#REF!+#REF!+#REF!+#REF!+#REF!+#REF!+#REF!+#REF!+#REF!+#REF!+#REF!+#REF!+#REF!+#REF!+#REF!+#REF!","v":{"$error":"#REF!"}},{"$f":"#REF!+#REF!+#REF!+#REF!+#REF!+#REF!+#REF!+#REF!+#REF!+#REF!+#REF!+#REF!+#REF!+#REF!+#REF!+#REF!+#REF!+#REF!+#REF!+#REF!+#REF!+#REF!+#REF!+#REF!+#REF!+#REF!+#REF!+#REF!+#REF!+#REF!+#REF!+#REF!+#REF!","v":{"$error":"#REF!"}},{"$f":"#REF!+#REF!+#REF!+#REF!+#REF!+#REF!+#REF!+#REF!+#REF!+#REF!+#REF!+#REF!+#REF!+#REF!+#REF!+#REF!+#REF!+#REF!+#REF!+#REF!+#REF!+#REF!+#REF!+#REF!+#REF!+#REF!+#REF!+#REF!+#REF!+#REF!+#REF!+#REF!+#REF!","v":{"$error":"#REF!"}},{"$f":"#REF!+#REF!+#REF!+#REF!+#REF!+#REF!+#REF!+#REF!+#REF!+#REF!+#REF!+#REF!+#REF!+#REF!+#REF!+#REF!+#REF!+#REF!+#REF!+#REF!+#REF!+#REF!+#REF!+#REF!+#REF!+#REF!+#REF!+#REF!+#REF!+#REF!+#REF!+#REF!+#REF!","v":{"$error":"#REF!"}},{"$f":"'9_Per Pupil Summary'!N62","v":3330},{"$f":"#REF!+#REF!+#REF!+#REF!+#REF!+#REF!+#REF!+#REF!+#REF!+#REF!+#REF!+#REF!+#REF!+#REF!+#REF!+#REF!+#REF!+#REF!+#REF!+#REF!+#REF!+#REF!+#REF!+#REF!+#REF!+#REF!+#REF!+#REF!+#REF!+#REF!+#REF!+#REF!+#REF!","v":{"$error":"#REF!"}},{"$f":"#REF!+#REF!+#REF!+#REF!+#REF!+#REF!+#REF!+#REF!+#REF!+#REF!+#REF!+#REF!+#REF!+#REF!+#REF!+#REF!+#REF!+#REF!+#REF!+#REF!+#REF!+#REF!+#REF!+#REF!+#REF!+#REF!+#REF!+#REF!+#REF!+#REF!+#REF!+#REF!+#REF!","v":{"$error":"#REF!"}},{"$f":"#REF!+#REF!+#REF!+#REF!+#REF!+#REF!+#REF!+#REF!+#REF!+#REF!+#REF!+#REF!+#REF!+#REF!+#REF!+#REF!+#REF!+#REF!+#REF!+#REF!+#REF!+#REF!+#REF!+#REF!+#REF!+#REF!+#REF!+#REF!+#REF!+#REF!+#REF!+#REF!+#REF!","v":{"$error":"#REF!"}},{"$f":"#REF!+#REF!+#REF!+#REF!+#REF!+#REF!+#REF!+#REF!+#REF!+#REF!+#REF!+#REF!+#REF!+#REF!+#REF!+#REF!+#REF!+#REF!+#REF!+#REF!+#REF!+#REF!+#REF!+#REF!+#REF!+#REF!+#REF!+#REF!+#REF!+#REF!+#REF!+#REF!+#REF!","v":{"$error":"#REF!"}},{"$f":"#REF!+#REF!+#REF!+#REF!+#REF!+#REF!+#REF!+#REF!+#REF!+#REF!+#REF!+#REF!+#REF!+#REF!+#REF!+#REF!+#REF!+#REF!+#REF!+#REF!+#REF!+#REF!+#REF!+#REF!+#REF!+#REF!+#REF!+#REF!+#REF!+#REF!+#REF!+#REF!+#REF!","v":{"$error":"#REF!"}},{"$f":"#REF!+#REF!+#REF!+#REF!+#REF!+#REF!+#REF!+#REF!+#REF!+#REF!+#REF!+#REF!+#REF!+#REF!+#REF!+#REF!+#REF!+#REF!+#REF!+#REF!+#REF!+#REF!+#REF!+#REF!+#REF!+#REF!+#REF!+#REF!+#REF!+#REF!+#REF!+#REF!+#REF!","v":{"$error":"#REF!"}},{"$f":"#REF!+#REF!+#REF!+#REF!+#REF!+#REF!+#REF!+#REF!+#REF!+#REF!+#REF!+#REF!+#REF!+#REF!+#REF!+#REF!+#REF!+#REF!+#REF!+#REF!+#REF!+#REF!+#REF!+#REF!+#REF!+#REF!+#REF!+#REF!+#REF!+#REF!+#REF!+#REF!+#REF!","v":{"$error":"#REF!"}},{"$f":"#REF!+#REF!+#REF!+#REF!+#REF!+#REF!+#REF!+#REF!+#REF!+#REF!+#REF!+#REF!+#REF!+#REF!+#REF!+#REF!+#REF!+#REF!+#REF!+#REF!+#REF!+#REF!+#REF!+#REF!+#REF!+#REF!+#REF!+#REF!+#REF!+#REF!+#REF!+#REF!+#REF!","v":{"$error":"#REF!"}},{"$f":"#REF!+#REF!+#REF!+#REF!+#REF!+#REF!+#REF!+#REF!+#REF!+#REF!+#REF!+#REF!+#REF!+#REF!+#REF!+#REF!+#REF!+#REF!+#REF!+#REF!+#REF!+#REF!+#REF!+#REF!+#REF!+#REF!+#REF!+#REF!+#REF!+#REF!+#REF!+#REF!+#REF!","v":{"$error":"#REF!"}},{"$f":"#REF!+#REF!+#REF!+#REF!+#REF!+#REF!+#REF!+#REF!+#REF!+#REF!+#REF!+#REF!+#REF!+#REF!+#REF!+#REF!+#REF!+#REF!+#REF!+#REF!+#REF!+#REF!+#REF!+#REF!+#REF!+#REF!+#REF!+#REF!+#REF!+#REF!+#REF!+#REF!+#REF!","v":{"$error":"#REF!"}},{"$f":"#REF!+#REF!+#REF!+#REF!+#REF!+#REF!+#REF!+#REF!+#REF!+#REF!+#REF!+#REF!+#REF!+#REF!+#REF!+#REF!+#REF!+#REF!+#REF!+#REF!+#REF!+#REF!+#REF!+#REF!+#REF!+#REF!+#REF!+#REF!+#REF!+#REF!+#REF!+#REF!+#REF!","v":{"$error":"#REF!"}},{"$f":"#REF!+#REF!+#REF!+#REF!+#REF!+#REF!+#REF!+#REF!+#REF!+#REF!+#REF!+#REF!+#REF!+#REF!+#REF!+#REF!+#REF!+#REF!+#REF!+#REF!+#REF!+#REF!+#REF!+#REF!+#REF!+#REF!+#REF!+#REF!+#REF!+#REF!+#REF!+#REF!+#REF!","v":{"$error":"#REF!"}},{"$f":"#REF!+#REF!+#REF!+#REF!+#REF!+#REF!+#REF!+#REF!+#REF!+#REF!+#REF!+#REF!+#REF!+#REF!+#REF!+#REF!+#REF!+#REF!+#REF!+#REF!+#REF!+#REF!+#REF!+#REF!+#REF!+#REF!+#REF!+#REF!+#REF!+#REF!+#REF!+#REF!+#REF!","v":{"$error":"#REF!"}},{"$f":"#REF!+#REF!+#REF!+#REF!+#REF!+#REF!+#REF!+#REF!+#REF!+#REF!+#REF!+#REF!+#REF!+#REF!+#REF!+#REF!+#REF!+#REF!+#REF!+#REF!+#REF!+#REF!+#REF!+#REF!+#REF!+#REF!+#REF!+#REF!+#REF!+#REF!+#REF!+#REF!+#REF!","v":{"$error":"#REF!"}},{"$error":"#REF!"},{"$error":"#REF!"},{"$f":"#REF!+#REF!+#REF!+#REF!+#REF!+#REF!+#REF!+#REF!+#REF!+#REF!+#REF!+#REF!+#REF!+#REF!+#REF!+#REF!+#REF!+#REF!+#REF!+#REF!+#REF!+#REF!+#REF!+#REF!+#REF!+#REF!+#REF!+#REF!+#REF!+#REF!+#REF!+#REF!+#REF!","v":{"$error":"#REF!"}},null,{"$error":"#REF!"}]
[58,"Vernon",{"$f":"#REF!+#REF!+#REF!+#REF!+#REF!+#REF!+#REF!+#REF!+#REF!+#REF!+#REF!+#REF!+#REF!+#REF!+#REF!+#REF!+#REF!+#REF!+#REF!+#REF!+#REF!+#REF!+#REF!+#REF!+#REF!+#REF!+#REF!+#REF!+#REF!+#REF!+#REF!+#REF!+#REF!","v":{"$error":"#REF!"}},{"$f":"'9_Per Pupil Summary'!H63","v":5559.7345075730027},{"$f":"#REF!+#REF!+#REF!+#REF!+#REF!+#REF!+#REF!+#REF!+#REF!+#REF!+#REF!+#REF!+#REF!+#REF!+#REF!+#REF!+#REF!+#REF!+#REF!+#REF!+#REF!+#REF!+#REF!+#REF!+#REF!+#REF!+#REF!+#REF!+#REF!+#REF!+#REF!+#REF!+#REF!","v":{"$error":"#REF!"}},{"$f":"#REF!+#REF!+#REF!+#REF!+#REF!+#REF!+#REF!+#REF!+#REF!+#REF!+#REF!+#REF!+#REF!+#REF!+#REF!+#REF!+#REF!+#REF!+#REF!+#REF!+#REF!+#REF!+#REF!+#REF!+#REF!+#REF!+#REF!+#REF!+#REF!+#REF!+#REF!+#REF!+#REF!","v":{"$error":"#REF!"}},{"$f":"'9_Per Pupil Summary'!I63","v":732.66196359035098},{"$f":"#REF!+#REF!+#REF!+#REF!+#REF!+#REF!+#REF!+#REF!+#REF!+#REF!+#REF!+#REF!+#REF!+#REF!+#REF!+#REF!+#REF!+#REF!+#REF!+#REF!+#REF!+#REF!+#REF!+#REF!+#REF!+#REF!+#REF!+#REF!+#REF!+#REF!+#REF!+#REF!+#REF!","v":{"$error":"#REF!"}},{"$f":"#REF!+#REF!+#REF!+#REF!+#REF!+#REF!+#REF!+#REF!+#REF!+#REF!+#REF!+#REF!+#REF!+#REF!+#REF!+#REF!+#REF!+#REF!+#REF!+#REF!+#REF!+#REF!+#REF!+#REF!+#REF!+#REF!+#REF!+#REF!+#REF!+#REF!+#REF!+#REF!+#REF!","v":{"$error":"#REF!"}},{"$f":"'9_Per Pupil Summary'!J63","v":199.81689916100478},{"$f":"#REF!+#REF!+#REF!+#REF!+#REF!+#REF!+#REF!+#REF!+#REF!+#REF!+#REF!+#REF!+#REF!+#REF!+#REF!+#REF!+#REF!+#REF!+#REF!+#REF!+#REF!+#REF!+#REF!+#REF!+#REF!+#REF!+#REF!+#REF!+#REF!+#REF!+#REF!+#REF!+#REF!","v":{"$error":"#REF!"}},{"$f":"#REF!+#REF!+#REF!+#REF!+#REF!+#REF!+#REF!+#REF!+#REF!+#REF!+#REF!+#REF!+#REF!+#REF!+#REF!+#REF!+#REF!+#REF!+#REF!+#REF!+#REF!+#REF!+#REF!+#REF!+#REF!+#REF!+#REF!+#REF!+#REF!+#REF!+#REF!+#REF!+#REF!","v":{"$error":"#REF!"}},{"$f":"'9_Per Pupil Summary'!K63","v":4995.4224790251192},{"$f":"#REF!+#REF!+#REF!+#REF!+#REF!+#REF!+#REF!+#REF!+#REF!+#REF!+#REF!+#REF!+#REF!+#REF!+#REF!+#REF!+#REF!+#REF!+#REF!+#REF!+#REF!+#REF!+#REF!+#REF!+#REF!+#REF!+#REF!+#REF!+#REF!+#REF!+#REF!+#REF!+#REF!","v":{"$error":"#REF!"}},{"$f":"#REF!+#REF!+#REF!+#REF!+#REF!+#REF!+#REF!+#REF!+#REF!+#REF!+#REF!+#REF!+#REF!+#REF!+#REF!+#REF!+#REF!+#REF!+#REF!+#REF!+#REF!+#REF!+#REF!+#REF!+#REF!+#REF!+#REF!+#REF!+#REF!+#REF!+#REF!+#REF!+#REF!","v":{"$error":"#REF!"}},{"$f":"'9_Per Pupil Summary'!L63","v":1998.1689916100477},{"$f":"#REF!+#REF!+#REF!+#REF!+#REF!+#REF!+#REF!+#REF!+#REF!+#REF!+#REF!+#REF!+#REF!+#REF!+#REF!+#REF!+#REF!+#REF!+#REF!+#REF!+#REF!+#REF!+#REF!+#REF!+#REF!+#REF!+#REF!+#REF!+#REF!+#REF!+#REF!+#REF!+#REF!","v":{"$error":"#REF!"}},{"$f":"#REF!+#REF!+#REF!+#REF!+#REF!+#REF!+#REF!+#REF!+#REF!+#REF!+#REF!+#REF!+#REF!+#REF!+#REF!+#REF!+#REF!+#REF!+#REF!+#REF!+#REF!+#REF!+#REF!+#REF!+#REF!+#REF!+#REF!+#REF!+#REF!+#REF!+#REF!+#REF!+#REF!","v":{"$error":"#REF!"}},{"$f":"#REF!+#REF!","v":{"$error":"#REF!"}},{"$f":"#REF!+#REF!+#REF!+#REF!+#REF!+#REF!+#REF!+#REF!+#REF!+#REF!+#REF!+#REF!+#REF!+#REF!+#REF!+#REF!+#REF!+#REF!+#REF!+#REF!+#REF!+#REF!+#REF!+#REF!+#REF!+#REF!+#REF!+#REF!+#REF!+#REF!+#REF!+#REF!+#REF!","v":{"$error":"#REF!"}},{"$f":"#REF!+#REF!+#REF!+#REF!+#REF!+#REF!+#REF!+#REF!+#REF!+#REF!+#REF!+#REF!+#REF!+#REF!+#REF!+#REF!+#REF!+#REF!+#REF!+#REF!+#REF!+#REF!+#REF!+#REF!+#REF!+#REF!+#REF!+#REF!+#REF!+#REF!+#REF!+#REF!+#REF!","v":{"$error":"#REF!"}},{"$f":"#REF!+#REF!+#REF!+#REF!+#REF!+#REF!+#REF!+#REF!+#REF!+#REF!+#REF!+#REF!+#REF!+#REF!+#REF!+#REF!+#REF!+#REF!+#REF!+#REF!+#REF!+#REF!+#REF!+#REF!+#REF!+#REF!+#REF!+#REF!+#REF!+#REF!+#REF!+#REF!+#REF!","v":{"$error":"#REF!"}},{"$f":"#REF!+#REF!+#REF!+#REF!+#REF!+#REF!+#REF!+#REF!+#REF!+#REF!+#REF!+#REF!+#REF!+#REF!+#REF!+#REF!+#REF!+#REF!+#REF!+#REF!+#REF!+#REF!+#REF!+#REF!+#REF!+#REF!+#REF!+#REF!+#REF!+#REF!+#REF!+#REF!+#REF!","v":{"$error":"#REF!"}},{"$f":"#REF!+#REF!+#REF!+#REF!+#REF!+#REF!+#REF!+#REF!+#REF!+#REF!+#REF!+#REF!+#REF!+#REF!+#REF!+#REF!+#REF!+#REF!+#REF!+#REF!+#REF!+#REF!+#REF!+#REF!+#REF!+#REF!+#REF!+#REF!+#REF!+#REF!+#REF!+#REF!+#REF!","v":{"$error":"#REF!"}},{"$f":"#REF!+#REF!+#REF!+#REF!+#REF!+#REF!+#REF!+#REF!+#REF!+#REF!+#REF!+#REF!+#REF!+#REF!+#REF!+#REF!+#REF!+#REF!+#REF!+#REF!+#REF!+#REF!+#REF!+#REF!+#REF!+#REF!+#REF!+#REF!+#REF!+#REF!+#REF!+#REF!+#REF!","v":{"$error":"#REF!"}},{"$f":"#REF!+#REF!+#REF!+#REF!+#REF!+#REF!+#REF!+#REF!+#REF!+#REF!+#REF!+#REF!+#REF!+#REF!+#REF!+#REF!+#REF!+#REF!+#REF!+#REF!+#REF!+#REF!+#REF!+#REF!+#REF!+#REF!+#REF!+#REF!+#REF!+#REF!+#REF!+#REF!+#REF!","v":{"$error":"#REF!"}},{"$f":"#REF!+#REF!+#REF!+#REF!+#REF!+#REF!+#REF!+#REF!+#REF!+#REF!+#REF!+#REF!+#REF!+#REF!+#REF!+#REF!+#REF!+#REF!+#REF!+#REF!+#REF!+#REF!+#REF!+#REF!+#REF!+#REF!+#REF!+#REF!+#REF!+#REF!+#REF!+#REF!+#REF!","v":{"$error":"#REF!"}},{"$f":"#REF!+#REF!+#REF!+#REF!+#REF!+#REF!+#REF!+#REF!+#REF!+#REF!+#REF!+#REF!+#REF!+#REF!+#REF!+#REF!+#REF!+#REF!+#REF!+#REF!+#REF!+#REF!+#REF!+#REF!+#REF!+#REF!+#REF!+#REF!+#REF!+#REF!+#REF!+#REF!+#REF!","v":{"$error":"#REF!"}},{"$f":"#REF!+#REF!+#REF!+#REF!+#REF!+#REF!+#REF!+#REF!+#REF!+#REF!+#REF!+#REF!+#REF!+#REF!+#REF!+#REF!+#REF!+#REF!+#REF!+#REF!+#REF!+#REF!+#REF!+#REF!+#REF!+#REF!+#REF!+#REF!+#REF!+#REF!+#REF!+#REF!+#REF!","v":{"$error":"#REF!"}},{"$f":"#REF!+#REF!+#REF!+#REF!+#REF!+#REF!+#REF!+#REF!+#REF!+#REF!+#REF!+#REF!+#REF!+#REF!+#REF!+#REF!+#REF!+#REF!+#REF!+#REF!+#REF!+#REF!+#REF!+#REF!+#REF!+#REF!+#REF!+#REF!+#REF!+#REF!+#REF!+#REF!+#REF!","v":{"$error":"#REF!"}},{"$f":"#REF!+#REF!+#REF!+#REF!+#REF!+#REF!+#REF!+#REF!+#REF!+#REF!+#REF!+#REF!+#REF!+#REF!+#REF!+#REF!+#REF!+#REF!+#REF!+#REF!+#REF!+#REF!+#REF!+#REF!+#REF!+#REF!+#REF!+#REF!+#REF!+#REF!+#REF!+#REF!+#REF!","v":{"$error":"#REF!"}},{"$f":"'9_Per Pupil Summary'!N63","v":3255},{"$f":"#REF!+#REF!+#REF!+#REF!+#REF!+#REF!+#REF!+#REF!+#REF!+#REF!+#REF!+#REF!+#REF!+#REF!+#REF!+#REF!+#REF!+#REF!+#REF!+#REF!+#REF!+#REF!+#REF!+#REF!+#REF!+#REF!+#REF!+#REF!+#REF!+#REF!+#REF!+#REF!+#REF!","v":{"$error":"#REF!"}},{"$f":"#REF!+#REF!+#REF!+#REF!+#REF!+#REF!+#REF!+#REF!+#REF!+#REF!+#REF!+#REF!+#REF!+#REF!+#REF!+#REF!+#REF!+#REF!+#REF!+#REF!+#REF!+#REF!+#REF!+#REF!+#REF!+#REF!+#REF!+#REF!+#REF!+#REF!+#REF!+#REF!+#REF!","v":{"$error":"#REF!"}},{"$f":"#REF!+#REF!+#REF!+#REF!+#REF!+#REF!+#REF!+#REF!+#REF!+#REF!+#REF!+#REF!+#REF!+#REF!+#REF!+#REF!+#REF!+#REF!+#REF!+#REF!+#REF!+#REF!+#REF!+#REF!+#REF!+#REF!+#REF!+#REF!+#REF!+#REF!+#REF!+#REF!+#REF!","v":{"$error":"#REF!"}},{"$f":"#REF!+#REF!+#REF!+#REF!+#REF!+#REF!+#REF!+#REF!+#REF!+#REF!+#REF!+#REF!+#REF!+#REF!+#REF!+#REF!+#REF!+#REF!+#REF!+#REF!+#REF!+#REF!+#REF!+#REF!+#REF!+#REF!+#REF!+#REF!+#REF!+#REF!+#REF!+#REF!+#REF!","v":{"$error":"#REF!"}},{"$f":"#REF!+#REF!+#REF!+#REF!+#REF!+#REF!+#REF!+#REF!+#REF!+#REF!+#REF!+#REF!+#REF!+#REF!+#REF!+#REF!+#REF!+#REF!+#REF!+#REF!+#REF!+#REF!+#REF!+#REF!+#REF!+#REF!+#REF!+#REF!+#REF!+#REF!+#REF!+#REF!+#REF!","v":{"$error":"#REF!"}},{"$f":"#REF!+#REF!+#REF!+#REF!+#REF!+#REF!+#REF!+#REF!+#REF!+#REF!+#REF!+#REF!+#REF!+#REF!+#REF!+#REF!+#REF!+#REF!+#REF!+#REF!+#REF!+#REF!+#REF!+#REF!+#REF!+#REF!+#REF!+#REF!+#REF!+#REF!+#REF!+#REF!+#REF!","v":{"$error":"#REF!"}},{"$f":"#REF!+#REF!+#REF!+#REF!+#REF!+#REF!+#REF!+#REF!+#REF!+#REF!+#REF!+#REF!+#REF!+#REF!+#REF!+#REF!+#REF!+#REF!+#REF!+#REF!+#REF!+#REF!+#REF!+#REF!+#REF!+#REF!+#REF!+#REF!+#REF!+#REF!+#REF!+#REF!+#REF!","v":{"$error":"#REF!"}},{"$f":"#REF!+#REF!+#REF!+#REF!+#REF!+#REF!+#REF!+#REF!+#REF!+#REF!+#REF!+#REF!+#REF!+#REF!+#REF!+#REF!+#REF!+#REF!+#REF!+#REF!+#REF!+#REF!+#REF!+#REF!+#REF!+#REF!+#REF!+#REF!+#REF!+#REF!+#REF!+#REF!+#REF!","v":{"$error":"#REF!"}},{"$f":"#REF!+#REF!+#REF!+#REF!+#REF!+#REF!+#REF!+#REF!+#REF!+#REF!+#REF!+#REF!+#REF!+#REF!+#REF!+#REF!+#REF!+#REF!+#REF!+#REF!+#REF!+#REF!+#REF!+#REF!+#REF!+#REF!+#REF!+#REF!+#REF!+#REF!+#REF!+#REF!+#REF!","v":{"$error":"#REF!"}},{"$f":"#REF!+#REF!+#REF!+#REF!+#REF!+#REF!+#REF!+#REF!+#REF!+#REF!+#REF!+#REF!+#REF!+#REF!+#REF!+#REF!+#REF!+#REF!+#REF!+#REF!+#REF!+#REF!+#REF!+#REF!+#REF!+#REF!+#REF!+#REF!+#REF!+#REF!+#REF!+#REF!+#REF!","v":{"$error":"#REF!"}},{"$f":"#REF!+#REF!+#REF!+#REF!+#REF!+#REF!+#REF!+#REF!+#REF!+#REF!+#REF!+#REF!+#REF!+#REF!+#REF!+#REF!+#REF!+#REF!+#REF!+#REF!+#REF!+#REF!+#REF!+#REF!+#REF!+#REF!+#REF!+#REF!+#REF!+#REF!+#REF!+#REF!+#REF!","v":{"$error":"#REF!"}},{"$f":"#REF!+#REF!+#REF!+#REF!+#REF!+#REF!+#REF!+#REF!+#REF!+#REF!+#REF!+#REF!+#REF!+#REF!+#REF!+#REF!+#REF!+#REF!+#REF!+#REF!+#REF!+#REF!+#REF!+#REF!+#REF!+#REF!+#REF!+#REF!+#REF!+#REF!+#REF!+#REF!+#REF!","v":{"$error":"#REF!"}},{"$f":"#REF!+#REF!+#REF!+#REF!+#REF!+#REF!+#REF!+#REF!+#REF!+#REF!+#REF!+#REF!+#REF!+#REF!+#REF!+#REF!+#REF!+#REF!+#REF!+#REF!+#REF!+#REF!+#REF!+#REF!+#REF!+#REF!+#REF!+#REF!+#REF!+#REF!+#REF!+#REF!+#REF!","v":{"$error":"#REF!"}},{"$f":"#REF!+#REF!+#REF!+#REF!+#REF!+#REF!+#REF!+#REF!+#REF!+#REF!+#REF!+#REF!+#REF!+#REF!+#REF!+#REF!+#REF!+#REF!+#REF!+#REF!+#REF!+#REF!+#REF!+#REF!+#REF!+#REF!+#REF!+#REF!+#REF!+#REF!+#REF!+#REF!+#REF!","v":{"$error":"#REF!"}},{"$error":"#REF!"},{"$error":"#REF!"},{"$f":"#REF!+#REF!+#REF!+#REF!+#REF!+#REF!+#REF!+#REF!+#REF!+#REF!+#REF!+#REF!+#REF!+#REF!+#REF!+#REF!+#REF!+#REF!+#REF!+#REF!+#REF!+#REF!+#REF!+#REF!+#REF!+#REF!+#REF!+#REF!+#REF!+#REF!+#REF!+#REF!+#REF!","v":{"$error":"#REF!"}},null,{"$error":"#REF!"}]
[59,"Washington",{"$f":"#REF!+#REF!+#REF!+#REF!+#REF!+#REF!+#REF!+#REF!+#REF!+#REF!+#REF!+#REF!+#REF!+#REF!+#REF!+#REF!+#REF!+#REF!+#REF!+#REF!+#REF!+#REF!+#REF!+#REF!+#REF!+#REF!+#REF!+#REF!+#REF!+#REF!+#REF!+#REF!+#REF!","v":{"$error":"#REF!"}},{"$f":"'9_Per Pupil Summary'!H64","v":5666.1401585379426},{"$f":"#REF!+#REF!+#REF!+#REF!+#REF!+#REF!+#REF!+#REF!+#REF!+#REF!+#REF!+#REF!+#REF!+#REF!+#REF!+#REF!+#REF!+#REF!+#REF!+#REF!+#REF!+#REF!+#REF!+#REF!+#REF!+#REF!+#REF!+#REF!+#REF!+#REF!+#REF!+#REF!+#REF!","v":{"$error":"#REF!"}},{"$f":"#REF!+#REF!+#REF!+#REF!+#REF!+#REF!+#REF!+#REF!+#REF!+#REF!+#REF!+#REF!+#REF!+#REF!+#REF!+#REF!+#REF!+#REF!+#REF!+#REF!+#REF!+#REF!+#REF!+#REF!+#REF!+#REF!+#REF!+#REF!+#REF!+#REF!+#REF!+#REF!+#REF!","v":{"$error":"#REF!"}},{"$f":"'9_Per Pupil Summary'!I64","v":773.56560192022027},{"$f":"#REF!+#REF!+#REF!+#REF!+#REF!+#REF!+#REF!+#REF!+#REF!+#REF!+#REF!+#REF!+#REF!+#REF!+#REF!+#REF!+#REF!+#REF!+#REF!+#REF!+#REF!+#REF!+#REF!+#REF!+#REF!+#REF!+#REF!+#REF!+#REF!+#REF!+#REF!+#REF!+#REF!","v":{"$error":"#REF!"}},{"$f":"#REF!+#REF!+#REF!+#REF!+#REF!+#REF!+#REF!+#REF!+#REF!+#REF!+#REF!+#REF!+#REF!+#REF!+#REF!+#REF!+#REF!+#REF!+#REF!+#REF!+#REF!+#REF!+#REF!+#REF!+#REF!+#REF!+#REF!+#REF!+#REF!+#REF!+#REF!+#REF!+#REF!","v":{"$error":"#REF!"}},{"$f":"'9_Per Pupil Summary'!J64","v":210.97243688733278},{"$f":"#REF!+#REF!+#REF!+#REF!+#REF!+#REF!+#REF!+#REF!+#REF!+#REF!+#REF!+#REF!+#REF!+#REF!+#REF!+#REF!+#REF!+#REF!+#REF!+#REF!+#REF!+#REF!+#REF!+#REF!+#REF!+#REF!+#REF!+#REF!+#REF!+#REF!+#REF!+#REF!+#REF!","v":{"$error":"#REF!"}},{"$f":"#REF!+#REF!+#REF!+#REF!+#REF!+#REF!+#REF!+#REF!+#REF!+#REF!+#REF!+#REF!+#REF!+#REF!+#REF!+#REF!+#REF!+#REF!+#REF!+#REF!+#REF!+#REF!+#REF!+#REF!+#REF!+#REF!+#REF!+#REF!+#REF!+#REF!+#REF!+#REF!+#REF!","v":{"$error":"#REF!"}},{"$f":"'9_Per Pupil Summary'!K64","v":5274.3109221833201},{"$f":"#REF!+#REF!+#REF!+#REF!+#REF!+#REF!+#REF!+#REF!+#REF!+#REF!+#REF!+#REF!+#REF!+#REF!+#REF!+#REF!+#REF!+#REF!+#REF!+#REF!+#REF!+#REF!+#REF!+#REF!+#REF!+#REF!+#REF!+#REF!+#REF!+#REF!+#REF!+#REF!+#REF!","v":{"$error":"#REF!"}},{"$f":"#REF!+#REF!+#REF!+#REF!+#REF!+#REF!+#REF!+#REF!+#REF!+#REF!+#REF!+#REF!+#REF!+#REF!+#REF!+#REF!+#REF!+#REF!+#REF!+#REF!+#REF!+#REF!+#REF!+#REF!+#REF!+#REF!+#REF!+#REF!+#REF!+#REF!+#REF!+#REF!+#REF!","v":{"$error":"#REF!"}},{"$f":"'9_Per Pupil Summary'!L64","v":2109.7243688733279},{"$f":"#REF!+#REF!+#REF!+#REF!+#REF!+#REF!+#REF!+#REF!+#REF!+#REF!+#REF!+#REF!+#REF!+#REF!+#REF!+#REF!+#REF!+#REF!+#REF!+#REF!+#REF!+#REF!+#REF!+#REF!+#REF!+#REF!+#REF!+#REF!+#REF!+#REF!+#REF!+#REF!+#REF!","v":{"$error":"#REF!"}},{"$f":"#REF!+#REF!+#REF!+#REF!+#REF!+#REF!+#REF!+#REF!+#REF!+#REF!+#REF!+#REF!+#REF!+#REF!+#REF!+#REF!+#REF!+#REF!+#REF!+#REF!+#REF!+#REF!+#REF!+#REF!+#REF!+#REF!+#REF!+#REF!+#REF!+#REF!+#REF!+#REF!+#REF!","v":{"$error":"#REF!"}},{"$f":"#REF!+#REF!","v":{"$error":"#REF!"}},{"$f":"#REF!+#REF!+#REF!+#REF!+#REF!+#REF!+#REF!+#REF!+#REF!+#REF!+#REF!+#REF!+#REF!+#REF!+#REF!+#REF!+#REF!+#REF!+#REF!+#REF!+#REF!+#REF!+#REF!+#REF!+#REF!+#REF!+#REF!+#REF!+#REF!+#REF!+#REF!+#REF!+#REF!","v":{"$error":"#REF!"}},{"$f":"#REF!+#REF!+#REF!+#REF!+#REF!+#REF!+#REF!+#REF!+#REF!+#REF!+#REF!+#REF!+#REF!+#REF!+#REF!+#REF!+#REF!+#REF!+#REF!+#REF!+#REF!+#REF!+#REF!+#REF!+#REF!+#REF!+#REF!+#REF!+#REF!+#REF!+#REF!+#REF!+#REF!","v":{"$error":"#REF!"}},{"$f":"#REF!+#REF!+#REF!+#REF!+#REF!+#REF!+#REF!+#REF!+#REF!+#REF!+#REF!+#REF!+#REF!+#REF!+#REF!+#REF!+#REF!+#REF!+#REF!+#REF!+#REF!+#REF!+#REF!+#REF!+#REF!+#REF!+#REF!+#REF!+#REF!+#REF!+#REF!+#REF!+#REF!","v":{"$error":"#REF!"}},{"$f":"#REF!+#REF!+#REF!+#REF!+#REF!+#REF!+#REF!+#REF!+#REF!+#REF!+#REF!+#REF!+#REF!+#REF!+#REF!+#REF!+#REF!+#REF!+#REF!+#REF!+#REF!+#REF!+#REF!+#REF!+#REF!+#REF!+#REF!+#REF!+#REF!+#REF!+#REF!+#REF!+#REF!","v":{"$error":"#REF!"}},{"$f":"#REF!+#REF!+#REF!+#REF!+#REF!+#REF!+#REF!+#REF!+#REF!+#REF!+#REF!+#REF!+#REF!+#REF!+#REF!+#REF!+#REF!+#REF!+#REF!+#REF!+#REF!+#REF!+#REF!+#REF!+#REF!+#REF!+#REF!+#REF!+#REF!+#REF!+#REF!+#REF!+#REF!","v":{"$error":"#REF!"}},{"$f":"#REF!+#REF!+#REF!+#REF!+#REF!+#REF!+#REF!+#REF!+#REF!+#REF!+#REF!+#REF!+#REF!+#REF!+#REF!+#REF!+#REF!+#REF!+#REF!+#REF!+#REF!+#REF!+#REF!+#REF!+#REF!+#REF!+#REF!+#REF!+#REF!+#REF!+#REF!+#REF!+#REF!","v":{"$error":"#REF!"}},{"$f":"#REF!+#REF!+#REF!+#REF!+#REF!+#REF!+#REF!+#REF!+#REF!+#REF!+#REF!+#REF!+#REF!+#REF!+#REF!+#REF!+#REF!+#REF!+#REF!+#REF!+#REF!+#REF!+#REF!+#REF!+#REF!+#REF!+#REF!+#REF!+#REF!+#REF!+#REF!+#REF!+#REF!","v":{"$error":"#REF!"}},{"$f":"#REF!+#REF!+#REF!+#REF!+#REF!+#REF!+#REF!+#REF!+#REF!+#REF!+#REF!+#REF!+#REF!+#REF!+#REF!+#REF!+#REF!+#REF!+#REF!+#REF!+#REF!+#REF!+#REF!+#REF!+#REF!+#REF!+#REF!+#REF!+#REF!+#REF!+#REF!+#REF!+#REF!","v":{"$error":"#REF!"}},{"$f":"#REF!+#REF!+#REF!+#REF!+#REF!+#REF!+#REF!+#REF!+#REF!+#REF!+#REF!+#REF!+#REF!+#REF!+#REF!+#REF!+#REF!+#REF!+#REF!+#REF!+#REF!+#REF!+#REF!+#REF!+#REF!+#REF!+#REF!+#REF!+#REF!+#REF!+#REF!+#REF!+#REF!","v":{"$error":"#REF!"}},{"$f":"#REF!+#REF!+#REF!+#REF!+#REF!+#REF!+#REF!+#REF!+#REF!+#REF!+#REF!+#REF!+#REF!+#REF!+#REF!+#REF!+#REF!+#REF!+#REF!+#REF!+#REF!+#REF!+#REF!+#REF!+#REF!+#REF!+#REF!+#REF!+#REF!+#REF!+#REF!+#REF!+#REF!","v":{"$error":"#REF!"}},{"$f":"#REF!+#REF!+#REF!+#REF!+#REF!+#REF!+#REF!+#REF!+#REF!+#REF!+#REF!+#REF!+#REF!+#REF!+#REF!+#REF!+#REF!+#REF!+#REF!+#REF!+#REF!+#REF!+#REF!+#REF!+#REF!+#REF!+#REF!+#REF!+#REF!+#REF!+#REF!+#REF!+#REF!","v":{"$error":"#REF!"}},{"$f":"#REF!+#REF!+#REF!+#REF!+#REF!+#REF!+#REF!+#REF!+#REF!+#REF!+#REF!+#REF!+#REF!+#REF!+#REF!+#REF!+#REF!+#REF!+#REF!+#REF!+#REF!+#REF!+#REF!+#REF!+#REF!+#REF!+#REF!+#REF!+#REF!+#REF!+#REF!+#REF!+#REF!","v":{"$error":"#REF!"}},{"$f":"'9_Per Pupil Summary'!N64","v":2137},{"$f":"#REF!+#REF!+#REF!+#REF!+#REF!+#REF!+#REF!+#REF!+#REF!+#REF!+#REF!+#REF!+#REF!+#REF!+#REF!+#REF!+#REF!+#REF!+#REF!+#REF!+#REF!+#REF!+#REF!+#REF!+#REF!+#REF!+#REF!+#REF!+#REF!+#REF!+#REF!+#REF!+#REF!","v":{"$error":"#REF!"}},{"$f":"#REF!+#REF!+#REF!+#REF!+#REF!+#REF!+#REF!+#REF!+#REF!+#REF!+#REF!+#REF!+#REF!+#REF!+#REF!+#REF!+#REF!+#REF!+#REF!+#REF!+#REF!+#REF!+#REF!+#REF!+#REF!+#REF!+#REF!+#REF!+#REF!+#REF!+#REF!+#REF!+#REF!","v":{"$error":"#REF!"}},{"$f":"#REF!+#REF!+#REF!+#REF!+#REF!+#REF!+#REF!+#REF!+#REF!+#REF!+#REF!+#REF!+#REF!+#REF!+#REF!+#REF!+#REF!+#REF!+#REF!+#REF!+#REF!+#REF!+#REF!+#REF!+#REF!+#REF!+#REF!+#REF!+#REF!+#REF!+#REF!+#REF!+#REF!","v":{"$error":"#REF!"}},{"$f":"#REF!+#REF!+#REF!+#REF!+#REF!+#REF!+#REF!+#REF!+#REF!+#REF!+#REF!+#REF!+#REF!+#REF!+#REF!+#REF!+#REF!+#REF!+#REF!+#REF!+#REF!+#REF!+#REF!+#REF!+#REF!+#REF!+#REF!+#REF!+#REF!+#REF!+#REF!+#REF!+#REF!","v":{"$error":"#REF!"}},{"$f":"#REF!+#REF!+#REF!+#REF!+#REF!+#REF!+#REF!+#REF!+#REF!+#REF!+#REF!+#REF!+#REF!+#REF!+#REF!+#REF!+#REF!+#REF!+#REF!+#REF!+#REF!+#REF!+#REF!+#REF!+#REF!+#REF!+#REF!+#REF!+#REF!+#REF!+#REF!+#REF!+#REF!","v":{"$error":"#REF!"}},{"$f":"#REF!+#REF!+#REF!+#REF!+#REF!+#REF!+#REF!+#REF!+#REF!+#REF!+#REF!+#REF!+#REF!+#REF!+#REF!+#REF!+#REF!+#REF!+#REF!+#REF!+#REF!+#REF!+#REF!+#REF!+#REF!+#REF!+#REF!+#REF!+#REF!+#REF!+#REF!+#REF!+#REF!","v":{"$error":"#REF!"}},{"$f":"#REF!+#REF!+#REF!+#REF!+#REF!+#REF!+#REF!+#REF!+#REF!+#REF!+#REF!+#REF!+#REF!+#REF!+#REF!+#REF!+#REF!+#REF!+#REF!+#REF!+#REF!+#REF!+#REF!+#REF!+#REF!+#REF!+#REF!+#REF!+#REF!+#REF!+#REF!+#REF!+#REF!","v":{"$error":"#REF!"}},{"$f":"#REF!+#REF!+#REF!+#REF!+#REF!+#REF!+#REF!+#REF!+#REF!+#REF!+#REF!+#REF!+#REF!+#REF!+#REF!+#REF!+#REF!+#REF!+#REF!+#REF!+#REF!+#REF!+#REF!+#REF!+#REF!+#REF!+#REF!+#REF!+#REF!+#REF!+#REF!+#REF!+#REF!","v":{"$error":"#REF!"}},{"$f":"#REF!+#REF!+#REF!+#REF!+#REF!+#REF!+#REF!+#REF!+#REF!+#REF!+#REF!+#REF!+#REF!+#REF!+#REF!+#REF!+#REF!+#REF!+#REF!+#REF!+#REF!+#REF!+#REF!+#REF!+#REF!+#REF!+#REF!+#REF!+#REF!+#REF!+#REF!+#REF!+#REF!","v":{"$error":"#REF!"}},{"$f":"#REF!+#REF!+#REF!+#REF!+#REF!+#REF!+#REF!+#REF!+#REF!+#REF!+#REF!+#REF!+#REF!+#REF!+#REF!+#REF!+#REF!+#REF!+#REF!+#REF!+#REF!+#REF!+#REF!+#REF!+#REF!+#REF!+#REF!+#REF!+#REF!+#REF!+#REF!+#REF!+#REF!","v":{"$error":"#REF!"}},{"$f":"#REF!+#REF!+#REF!+#REF!+#REF!+#REF!+#REF!+#REF!+#REF!+#REF!+#REF!+#REF!+#REF!+#REF!+#REF!+#REF!+#REF!+#REF!+#REF!+#REF!+#REF!+#REF!+#REF!+#REF!+#REF!+#REF!+#REF!+#REF!+#REF!+#REF!+#REF!+#REF!+#REF!","v":{"$error":"#REF!"}},{"$f":"#REF!+#REF!+#REF!+#REF!+#REF!+#REF!+#REF!+#REF!+#REF!+#REF!+#REF!+#REF!+#REF!+#REF!+#REF!+#REF!+#REF!+#REF!+#REF!+#REF!+#REF!+#REF!+#REF!+#REF!+#REF!+#REF!+#REF!+#REF!+#REF!+#REF!+#REF!+#REF!+#REF!","v":{"$error":"#REF!"}},{"$f":"#REF!+#REF!+#REF!+#REF!+#REF!+#REF!+#REF!+#REF!+#REF!+#REF!+#REF!+#REF!+#REF!+#REF!+#REF!+#REF!+#REF!+#REF!+#REF!+#REF!+#REF!+#REF!+#REF!+#REF!+#REF!+#REF!+#REF!+#REF!+#REF!+#REF!+#REF!+#REF!+#REF!","v":{"$error":"#REF!"}},{"$f":"#REF!+#REF!+#REF!+#REF!+#REF!+#REF!+#REF!+#REF!+#REF!+#REF!+#REF!+#REF!+#REF!+#REF!+#REF!+#REF!+#REF!+#REF!+#REF!+#REF!+#REF!+#REF!+#REF!+#REF!+#REF!+#REF!+#REF!+#REF!+#REF!+#REF!+#REF!+#REF!+#REF!","v":{"$error":"#REF!"}},{"$error":"#REF!"},{"$error":"#REF!"},{"$f":"#REF!+#REF!+#REF!+#REF!+#REF!+#REF!+#REF!+#REF!+#REF!+#REF!+#REF!+#REF!+#REF!+#REF!+#REF!+#REF!+#REF!+#REF!+#REF!+#REF!+#REF!+#REF!+#REF!+#REF!+#REF!+#REF!+#REF!+#REF!+#REF!+#REF!+#REF!+#REF!+#REF!","v":{"$error":"#REF!"}},null,{"$error":"#REF!"}]
[60,"Webster",{"$f":"#REF!+#REF!+#REF!+#REF!+#REF!+#REF!+#REF!+#REF!+#REF!+#REF!+#REF!+#REF!+#REF!+#REF!+#REF!+#REF!+#REF!+#REF!+#REF!+#REF!+#REF!+#REF!+#REF!+#REF!+#REF!+#REF!+#REF!+#REF!+#REF!+#REF!+#REF!+#REF!+#REF!","v":{"$error":"#REF!"}},{"$f":"'9_Per Pupil Summary'!H65","v":4868.4050668130167},{"$f":"#REF!+#REF!+#REF!+#REF!+#REF!+#REF!+#REF!+#REF!+#REF!+#REF!+#REF!+#REF!+#REF!+#REF!+#REF!+#REF!+#REF!+#REF!+#REF!+#REF!+#REF!+#REF!+#REF!+#REF!+#REF!+#REF!+#REF!+#REF!+#REF!+#REF!+#REF!+#REF!+#REF!","v":{"$error":"#REF!"}},{"$f":"#REF!+#REF!+#REF!+#REF!+#REF!+#REF!+#REF!+#REF!+#REF!+#REF!+#REF!+#REF!+#REF!+#REF!+#REF!+#REF!+#REF!+#REF!+#REF!+#REF!+#REF!+#REF!+#REF!+#REF!+#REF!+#REF!+#REF!+#REF!+#REF!+#REF!+#REF!+#REF!+#REF!","v":{"$error":"#REF!"}},{"$f":"'9_Per Pupil Summary'!I65","v":649.20950903084747},{"$f":"#REF!+#REF!+#REF!+#REF!+#REF!+#REF!+#REF!+#REF!+#REF!+#REF!+#REF!+#REF!+#REF!+#REF!+#REF!+#REF!+#REF!+#REF!+#REF!+#REF!+#REF!+#REF!+#REF!+#REF!+#REF!+#REF!+#REF!+#REF!+#REF!+#REF!+#REF!+#REF!+#REF!","v":{"$error":"#REF!"}},{"$f":"#REF!+#REF!+#REF!+#REF!+#REF!+#REF!+#REF!+#REF!+#REF!+#REF!+#REF!+#REF!+#REF!+#REF!+#REF!+#REF!+#REF!+#REF!+#REF!+#REF!+#REF!+#REF!+#REF!+#REF!+#REF!+#REF!+#REF!+#REF!+#REF!+#REF!+#REF!+#REF!+#REF!","v":{"$error":"#REF!"}},{"$f":"'9_Per Pupil Summary'!J65","v":177.05713882659475},{"$f":"#REF!+#REF!+#REF!+#REF!+#REF!+#REF!+#REF!+#REF!+#REF!+#REF!+#REF!+#REF!+#REF!+#REF!+#REF!+#REF!+#REF!+#REF!+#REF!+#REF!+#REF!+#REF!+#REF!+#REF!+#REF!+#REF!+#REF!+#REF!+#REF!+#REF!+#REF!+#REF!+#REF!","v":{"$error":"#REF!"}},{"$f":"#REF!+#REF!+#REF!+#REF!+#REF!+#REF!+#REF!+#REF!+#REF!+#REF!+#REF!+#REF!+#REF!+#REF!+#REF!+#REF!+#REF!+#REF!+#REF!+#REF!+#REF!+#REF!+#REF!+#REF!+#REF!+#REF!+#REF!+#REF!+#REF!+#REF!+#REF!+#REF!+#REF!","v":{"$error":"#REF!"}},{"$f":"'9_Per Pupil Summary'!K65","v":4426.4284706648687},{"$f":"#REF!+#REF!+#REF!+#REF!+#REF!+#REF!+#REF!+#REF!+#REF!+#REF!+#REF!+#REF!+#REF!+#REF!+#REF!+#REF!+#REF!+#REF!+#REF!+#REF!+#REF!+#REF!+#REF!+#REF!+#REF!+#REF!+#REF!+#REF!+#REF!+#REF!+#REF!+#REF!+#REF!","v":{"$error":"#REF!"}},{"$f":"#REF!+#REF!+#REF!+#REF!+#REF!+#REF!+#REF!+#REF!+#REF!+#REF!+#REF!+#REF!+#REF!+#REF!+#REF!+#REF!+#REF!+#REF!+#REF!+#REF!+#REF!+#REF!+#REF!+#REF!+#REF!+#REF!+#REF!+#REF!+#REF!+#REF!+#REF!+#REF!+#REF!","v":{"$error":"#REF!"}},{"$f":"'9_Per Pupil Summary'!L65","v":1770.5713882659475},{"$f":"#REF!+#REF!+#REF!+#REF!+#REF!+#REF!+#REF!+#REF!+#REF!+#REF!+#REF!+#REF!+#REF!+#REF!+#REF!+#REF!+#REF!+#REF!+#REF!+#REF!+#REF!+#REF!+#REF!+#REF!+#REF!+#REF!+#REF!+#REF!+#REF!+#REF!+#REF!+#REF!+#REF!","v":{"$error":"#REF!"}},{"$f":"#REF!+#REF!+#REF!+#REF!+#REF!+#REF!+#REF!+#REF!+#REF!+#REF!+#REF!+#REF!+#REF!+#REF!+#REF!+#REF!+#REF!+#REF!+#REF!+#REF!+#REF!+#REF!+#REF!+#REF!+#REF!+#REF!+#REF!+#REF!+#REF!+#REF!+#REF!+#REF!+#REF!","v":{"$error":"#REF!"}},{"$f":"#REF!+#REF!","v":{"$error":"#REF!"}},{"$f":"#REF!+#REF!+#REF!+#REF!+#REF!+#REF!+#REF!+#REF!+#REF!+#REF!+#REF!+#REF!+#REF!+#REF!+#REF!+#REF!+#REF!+#REF!+#REF!+#REF!+#REF!+#REF!+#REF!+#REF!+#REF!+#REF!+#REF!+#REF!+#REF!+#REF!+#REF!+#REF!+#REF!","v":{"$error":"#REF!"}},{"$f":"#REF!+#REF!+#REF!+#REF!+#REF!+#REF!+#REF!+#REF!+#REF!+#REF!+#REF!+#REF!+#REF!+#REF!+#REF!+#REF!+#REF!+#REF!+#REF!+#REF!+#REF!+#REF!+#REF!+#REF!+#REF!+#REF!+#REF!+#REF!+#REF!+#REF!+#REF!+#REF!+#REF!","v":{"$error":"#REF!"}},{"$f":"#REF!+#REF!+#REF!+#REF!+#REF!+#REF!+#REF!+#REF!+#REF!+#REF!+#REF!+#REF!+#REF!+#REF!+#REF!+#REF!+#REF!+#REF!+#REF!+#REF!+#REF!+#REF!+#REF!+#REF!+#REF!+#REF!+#REF!+#REF!+#REF!+#REF!+#REF!+#REF!+#REF!","v":{"$error":"#REF!"}},{"$f":"#REF!+#REF!+#REF!+#REF!+#REF!+#REF!+#REF!+#REF!+#REF!+#REF!+#REF!+#REF!+#REF!+#REF!+#REF!+#REF!+#REF!+#REF!+#REF!+#REF!+#REF!+#REF!+#REF!+#REF!+#REF!+#REF!+#REF!+#REF!+#REF!+#REF!+#REF!+#REF!+#REF!","v":{"$error":"#REF!"}},{"$f":"#REF!+#REF!+#REF!+#REF!+#REF!+#REF!+#REF!+#REF!+#REF!+#REF!+#REF!+#REF!+#REF!+#REF!+#REF!+#REF!+#REF!+#REF!+#REF!+#REF!+#REF!+#REF!+#REF!+#REF!+#REF!+#REF!+#REF!+#REF!+#REF!+#REF!+#REF!+#REF!+#REF!","v":{"$error":"#REF!"}},{"$f":"#REF!+#REF!+#REF!+#REF!+#REF!+#REF!+#REF!+#REF!+#REF!+#REF!+#REF!+#REF!+#REF!+#REF!+#REF!+#REF!+#REF!+#REF!+#REF!+#REF!+#REF!+#REF!+#REF!+#REF!+#REF!+#REF!+#REF!+#REF!+#REF!+#REF!+#REF!+#REF!+#REF!","v":{"$error":"#REF!"}},{"$f":"#REF!+#REF!+#REF!+#REF!+#REF!+#REF!+#REF!+#REF!+#REF!+#REF!+#REF!+#REF!+#REF!+#REF!+#REF!+#REF!+#REF!+#REF!+#REF!+#REF!+#REF!+#REF!+#REF!+#REF!+#REF!+#REF!+#REF!+#REF!+#REF!+#REF!+#REF!+#REF!+#REF!","v":{"$error":"#REF!"}},{"$f":"#REF!+#REF!+#REF!+#REF!+#REF!+#REF!+#REF!+#REF!+#REF!+#REF!+#REF!+#REF!+#REF!+#REF!+#REF!+#REF!+#REF!+#REF!+#REF!+#REF!+#REF!+#REF!+#REF!+#REF!+#REF!+#REF!+#REF!+#REF!+#REF!+#REF!+#REF!+#REF!+#REF!","v":{"$error":"#REF!"}},{"$f":"#REF!+#REF!+#REF!+#REF!+#REF!+#REF!+#REF!+#REF!+#REF!+#REF!+#REF!+#REF!+#REF!+#REF!+#REF!+#REF!+#REF!+#REF!+#REF!+#REF!+#REF!+#REF!+#REF!+#REF!+#REF!+#REF!+#REF!+#REF!+#REF!+#REF!+#REF!+#REF!+#REF!","v":{"$error":"#REF!"}},{"$f":"#REF!+#REF!+#REF!+#REF!+#REF!+#REF!+#REF!+#REF!+#REF!+#REF!+#REF!+#REF!+#REF!+#REF!+#REF!+#REF!+#REF!+#REF!+#REF!+#REF!+#REF!+#REF!+#REF!+#REF!+#REF!+#REF!+#REF!+#REF!+#REF!+#REF!+#REF!+#REF!+#REF!","v":{"$error":"#REF!"}},{"$f":"#REF!+#REF!+#REF!+#REF!+#REF!+#REF!+#REF!+#REF!+#REF!+#REF!+#REF!+#REF!+#REF!+#REF!+#REF!+#REF!+#REF!+#REF!+#REF!+#REF!+#REF!+#REF!+#REF!+#REF!+#REF!+#REF!+#REF!+#REF!+#REF!+#REF!+#REF!+#REF!+#REF!","v":{"$error":"#REF!"}},{"$f":"#REF!+#REF!+#REF!+#REF!+#REF!+#REF!+#REF!+#REF!+#REF!+#REF!+#REF!+#REF!+#REF!+#REF!+#REF!+#REF!+#REF!+#REF!+#REF!+#REF!+#REF!+#REF!+#REF!+#REF!+#REF!+#REF!+#REF!+#REF!+#REF!+#REF!+#REF!+#REF!+#REF!","v":{"$error":"#REF!"}},{"$f":"'9_Per Pupil Summary'!N65","v":5131},{"$f":"#REF!+#REF!+#REF!+#REF!+#REF!+#REF!+#REF!+#REF!+#REF!+#REF!+#REF!+#REF!+#REF!+#REF!+#REF!+#REF!+#REF!+#REF!+#REF!+#REF!+#REF!+#REF!+#REF!+#REF!+#REF!+#REF!+#REF!+#REF!+#REF!+#REF!+#REF!+#REF!+#REF!","v":{"$error":"#REF!"}},{"$f":"#REF!+#REF!+#REF!+#REF!+#REF!+#REF!+#REF!+#REF!+#REF!+#REF!+#REF!+#REF!+#REF!+#REF!+#REF!+#REF!+#REF!+#REF!+#REF!+#REF!+#REF!+#REF!+#REF!+#REF!+#REF!+#REF!+#REF!+#REF!+#REF!+#REF!+#REF!+#REF!+#REF!","v":{"$error":"#REF!"}},{"$f":"#REF!+#REF!+#REF!+#REF!+#REF!+#REF!+#REF!+#REF!+#REF!+#REF!+#REF!+#REF!+#REF!+#REF!+#REF!+#REF!+#REF!+#REF!+#REF!+#REF!+#REF!+#REF!+#REF!+#REF!+#REF!+#REF!+#REF!+#REF!+#REF!+#REF!+#REF!+#REF!+#REF!","v":{"$error":"#REF!"}},{"$f":"#REF!+#REF!+#REF!+#REF!+#REF!+#REF!+#REF!+#REF!+#REF!+#REF!+#REF!+#REF!+#REF!+#REF!+#REF!+#REF!+#REF!+#REF!+#REF!+#REF!+#REF!+#REF!+#REF!+#REF!+#REF!+#REF!+#REF!+#REF!+#REF!+#REF!+#REF!+#REF!+#REF!","v":{"$error":"#REF!"}},{"$f":"#REF!+#REF!+#REF!+#REF!+#REF!+#REF!+#REF!+#REF!+#REF!+#REF!+#REF!+#REF!+#REF!+#REF!+#REF!+#REF!+#REF!+#REF!+#REF!+#REF!+#REF!+#REF!+#REF!+#REF!+#REF!+#REF!+#REF!+#REF!+#REF!+#REF!+#REF!+#REF!+#REF!","v":{"$error":"#REF!"}},{"$f":"#REF!+#REF!+#REF!+#REF!+#REF!+#REF!+#REF!+#REF!+#REF!+#REF!+#REF!+#REF!+#REF!+#REF!+#REF!+#REF!+#REF!+#REF!+#REF!+#REF!+#REF!+#REF!+#REF!+#REF!+#REF!+#REF!+#REF!+#REF!+#REF!+#REF!+#REF!+#REF!+#REF!","v":{"$error":"#REF!"}},{"$f":"#REF!+#REF!+#REF!+#REF!+#REF!+#REF!+#REF!+#REF!+#REF!+#REF!+#REF!+#REF!+#REF!+#REF!+#REF!+#REF!+#REF!+#REF!+#REF!+#REF!+#REF!+#REF!+#REF!+#REF!+#REF!+#REF!+#REF!+#REF!+#REF!+#REF!+#REF!+#REF!+#REF!","v":{"$error":"#REF!"}},{"$f":"#REF!+#REF!+#REF!+#REF!+#REF!+#REF!+#REF!+#REF!+#REF!+#REF!+#REF!+#REF!+#REF!+#REF!+#REF!+#REF!+#REF!+#REF!+#REF!+#REF!+#REF!+#REF!+#REF!+#REF!+#REF!+#REF!+#REF!+#REF!+#REF!+#REF!+#REF!+#REF!+#REF!","v":{"$error":"#REF!"}},{"$f":"#REF!+#REF!+#REF!+#REF!+#REF!+#REF!+#REF!+#REF!+#REF!+#REF!+#REF!+#REF!+#REF!+#REF!+#REF!+#REF!+#REF!+#REF!+#REF!+#REF!+#REF!+#REF!+#REF!+#REF!+#REF!+#REF!+#REF!+#REF!+#REF!+#REF!+#REF!+#REF!+#REF!","v":{"$error":"#REF!"}},{"$f":"#REF!+#REF!+#REF!+#REF!+#REF!+#REF!+#REF!+#REF!+#REF!+#REF!+#REF!+#REF!+#REF!+#REF!+#REF!+#REF!+#REF!+#REF!+#REF!+#REF!+#REF!+#REF!+#REF!+#REF!+#REF!+#REF!+#REF!+#REF!+#REF!+#REF!+#REF!+#REF!+#REF!","v":{"$error":"#REF!"}},{"$f":"#REF!+#REF!+#REF!+#REF!+#REF!+#REF!+#REF!+#REF!+#REF!+#REF!+#REF!+#REF!+#REF!+#REF!+#REF!+#REF!+#REF!+#REF!+#REF!+#REF!+#REF!+#REF!+#REF!+#REF!+#REF!+#REF!+#REF!+#REF!+#REF!+#REF!+#REF!+#REF!+#REF!","v":{"$error":"#REF!"}},{"$f":"#REF!+#REF!+#REF!+#REF!+#REF!+#REF!+#REF!+#REF!+#REF!+#REF!+#REF!+#REF!+#REF!+#REF!+#REF!+#REF!+#REF!+#REF!+#REF!+#REF!+#REF!+#REF!+#REF!+#REF!+#REF!+#REF!+#REF!+#REF!+#REF!+#REF!+#REF!+#REF!+#REF!","v":{"$error":"#REF!"}},{"$f":"#REF!+#REF!+#REF!+#REF!+#REF!+#REF!+#REF!+#REF!+#REF!+#REF!+#REF!+#REF!+#REF!+#REF!+#REF!+#REF!+#REF!+#REF!+#REF!+#REF!+#REF!+#REF!+#REF!+#REF!+#REF!+#REF!+#REF!+#REF!+#REF!+#REF!+#REF!+#REF!+#REF!","v":{"$error":"#REF!"}},{"$f":"#REF!+#REF!+#REF!+#REF!+#REF!+#REF!+#REF!+#REF!+#REF!+#REF!+#REF!+#REF!+#REF!+#REF!+#REF!+#REF!+#REF!+#REF!+#REF!+#REF!+#REF!+#REF!+#REF!+#REF!+#REF!+#REF!+#REF!+#REF!+#REF!+#REF!+#REF!+#REF!+#REF!","v":{"$error":"#REF!"}},{"$error":"#REF!"},{"$error":"#REF!"},{"$f":"#REF!+#REF!+#REF!+#REF!+#REF!+#REF!+#REF!+#REF!+#REF!+#REF!+#REF!+#REF!+#REF!+#REF!+#REF!+#REF!+#REF!+#REF!+#REF!+#REF!+#REF!+#REF!+#REF!+#REF!+#REF!+#REF!+#REF!+#REF!+#REF!+#REF!+#REF!+#REF!+#REF!","v":{"$error":"#REF!"}},null,{"$error":"#REF!"}]
[61,"West Baton Rouge",{"$f":"#REF!+#REF!+#REF!+#REF!+#REF!+#REF!+#REF!+#REF!+#REF!+#REF!+#REF!+#REF!+#REF!+#REF!+#REF!+#REF!+#REF!+#REF!+#REF!+#REF!+#REF!+#REF!+#REF!+#REF!+#REF!+#REF!+#REF!+#REF!+#REF!+#REF!+#REF!+#REF!+#REF!","v":{"$error":"#REF!"}},{"$f":"'9_Per Pupil Summary'!H66","v":2873.845955251988},{"$f":"#REF!+#REF!+#REF!+#REF!+#REF!+#REF!+#REF!+#REF!+#REF!+#REF!+#REF!+#REF!+#REF!+#REF!+#REF!+#REF!+#REF!+#REF!+#REF!+#REF!+#REF!+#REF!+#REF!+#REF!+#REF!+#REF!+#REF!+#REF!+#REF!+#REF!+#REF!+#REF!+#REF!","v":{"$error":"#REF!"}},{"$f":"#REF!+#REF!+#REF!+#REF!+#REF!+#REF!+#REF!+#REF!+#REF!+#REF!+#REF!+#REF!+#REF!+#REF!+#REF!+#REF!+#REF!+#REF!+#REF!+#REF!+#REF!+#REF!+#REF!+#REF!+#REF!+#REF!+#REF!+#REF!+#REF!+#REF!+#REF!+#REF!+#REF!","v":{"$error":"#REF!"}},{"$f":"'9_Per Pupil Summary'!I66","v":391.31906061099016},{"$f":"#REF!+#REF!+#REF!+#REF!+#REF!+#REF!+#REF!+#REF!+#REF!+#REF!+#REF!+#REF!+#REF!+#REF!+#REF!+#REF!+#REF!+#REF!+#REF!+#REF!+#REF!+#REF!+#REF!+#REF!+#REF!+#REF!+#REF!+#REF!+#REF!+#REF!+#REF!+#REF!+#REF!","v":{"$error":"#REF!"}},{"$f":"#REF!+#REF!+#REF!+#REF!+#REF!+#REF!+#REF!+#REF!+#REF!+#REF!+#REF!+#REF!+#REF!+#REF!+#REF!+#REF!+#REF!+#REF!+#REF!+#REF!+#REF!+#REF!+#REF!+#REF!+#REF!+#REF!+#REF!+#REF!+#REF!+#REF!+#REF!+#REF!+#REF!","v":{"$error":"#REF!"}},{"$f":"'9_Per Pupil Summary'!J66","v":106.72338016663367},{"$f":"#REF!+#REF!+#REF!+#REF!+#REF!+#REF!+#REF!+#REF!+#REF!+#REF!+#REF!+#REF!+#REF!+#REF!+#REF!+#REF!+#REF!+#REF!+#REF!+#REF!+#REF!+#REF!+#REF!+#REF!+#REF!+#REF!+#REF!+#REF!+#REF!+#REF!+#REF!+#REF!+#REF!","v":{"$error":"#REF!"}},{"$f":"#REF!+#REF!+#REF!+#REF!+#REF!+#REF!+#REF!+#REF!+#REF!+#REF!+#REF!+#REF!+#REF!+#REF!+#REF!+#REF!+#REF!+#REF!+#REF!+#REF!+#REF!+#REF!+#REF!+#REF!+#REF!+#REF!+#REF!+#REF!+#REF!+#REF!+#REF!+#REF!+#REF!","v":{"$error":"#REF!"}},{"$f":"'9_Per Pupil Summary'!K66","v":2668.0845041658422},{"$f":"#REF!+#REF!+#REF!+#REF!+#REF!+#REF!+#REF!+#REF!+#REF!+#REF!+#REF!+#REF!+#REF!+#REF!+#REF!+#REF!+#REF!+#REF!+#REF!+#REF!+#REF!+#REF!+#REF!+#REF!+#REF!+#REF!+#REF!+#REF!+#REF!+#REF!+#REF!+#REF!+#REF!","v":{"$error":"#REF!"}},{"$f":"#REF!+#REF!+#REF!+#REF!+#REF!+#REF!+#REF!+#REF!+#REF!+#REF!+#REF!+#REF!+#REF!+#REF!+#REF!+#REF!+#REF!+#REF!+#REF!+#REF!+#REF!+#REF!+#REF!+#REF!+#REF!+#REF!+#REF!+#REF!+#REF!+#REF!+#REF!+#REF!+#REF!","v":{"$error":"#REF!"}},{"$f":"'9_Per Pupil Summary'!L66","v":1067.2338016663368},{"$f":"#REF!+#REF!+#REF!+#REF!+#REF!+#REF!+#REF!+#REF!+#REF!+#REF!+#REF!+#REF!+#REF!+#REF!+#REF!+#REF!+#REF!+#REF!+#REF!+#REF!+#REF!+#REF!+#REF!+#REF!+#REF!+#REF!+#REF!+#REF!+#REF!+#REF!+#REF!+#REF!+#REF!","v":{"$error":"#REF!"}},{"$f":"#REF!+#REF!+#REF!+#REF!+#REF!+#REF!+#REF!+#REF!+#REF!+#REF!+#REF!+#REF!+#REF!+#REF!+#REF!+#REF!+#REF!+#REF!+#REF!+#REF!+#REF!+#REF!+#REF!+#REF!+#REF!+#REF!+#REF!+#REF!+#REF!+#REF!+#REF!+#REF!+#REF!","v":{"$error":"#REF!"}},{"$f":"#REF!+#REF!","v":{"$error":"#REF!"}},{"$f":"#REF!+#REF!+#REF!+#REF!+#REF!+#REF!+#REF!+#REF!+#REF!+#REF!+#REF!+#REF!+#REF!+#REF!+#REF!+#REF!+#REF!+#REF!+#REF!+#REF!+#REF!+#REF!+#REF!+#REF!+#REF!+#REF!+#REF!+#REF!+#REF!+#REF!+#REF!+#REF!+#REF!","v":{"$error":"#REF!"}},{"$f":"#REF!+#REF!+#REF!+#REF!+#REF!+#REF!+#REF!+#REF!+#REF!+#REF!+#REF!+#REF!+#REF!+#REF!+#REF!+#REF!+#REF!+#REF!+#REF!+#REF!+#REF!+#REF!+#REF!+#REF!+#REF!+#REF!+#REF!+#REF!+#REF!+#REF!+#REF!+#REF!+#REF!","v":{"$error":"#REF!"}},{"$f":"#REF!+#REF!+#REF!+#REF!+#REF!+#REF!+#REF!+#REF!+#REF!+#REF!+#REF!+#REF!+#REF!+#REF!+#REF!+#REF!+#REF!+#REF!+#REF!+#REF!+#REF!+#REF!+#REF!+#REF!+#REF!+#REF!+#REF!+#REF!+#REF!+#REF!+#REF!+#REF!+#REF!","v":{"$error":"#REF!"}},{"$f":"#REF!+#REF!+#REF!+#REF!+#REF!+#REF!+#REF!+#REF!+#REF!+#REF!+#REF!+#REF!+#REF!+#REF!+#REF!+#REF!+#REF!+#REF!+#REF!+#REF!+#REF!+#REF!+#REF!+#REF!+#REF!+#REF!+#REF!+#REF!+#REF!+#REF!+#REF!+#REF!+#REF!","v":{"$error":"#REF!"}},{"$f":"#REF!+#REF!+#REF!+#REF!+#REF!+#REF!+#REF!+#REF!+#REF!+#REF!+#REF!+#REF!+#REF!+#REF!+#REF!+#REF!+#REF!+#REF!+#REF!+#REF!+#REF!+#REF!+#REF!+#REF!+#REF!+#REF!+#REF!+#REF!+#REF!+#REF!+#REF!+#REF!+#REF!","v":{"$error":"#REF!"}},{"$f":"#REF!+#REF!+#REF!+#REF!+#REF!+#REF!+#REF!+#REF!+#REF!+#REF!+#REF!+#REF!+#REF!+#REF!+#REF!+#REF!+#REF!+#REF!+#REF!+#REF!+#REF!+#REF!+#REF!+#REF!+#REF!+#REF!+#REF!+#REF!+#REF!+#REF!+#REF!+#REF!+#REF!","v":{"$error":"#REF!"}},{"$f":"#REF!+#REF!+#REF!+#REF!+#REF!+#REF!+#REF!+#REF!+#REF!+#REF!+#REF!+#REF!+#REF!+#REF!+#REF!+#REF!+#REF!+#REF!+#REF!+#REF!+#REF!+#REF!+#REF!+#REF!+#REF!+#REF!+#REF!+#REF!+#REF!+#REF!+#REF!+#REF!+#REF!","v":{"$error":"#REF!"}},{"$f":"#REF!+#REF!+#REF!+#REF!+#REF!+#REF!+#REF!+#REF!+#REF!+#REF!+#REF!+#REF!+#REF!+#REF!+#REF!+#REF!+#REF!+#REF!+#REF!+#REF!+#REF!+#REF!+#REF!+#REF!+#REF!+#REF!+#REF!+#REF!+#REF!+#REF!+#REF!+#REF!+#REF!","v":{"$error":"#REF!"}},{"$f":"#REF!+#REF!+#REF!+#REF!+#REF!+#REF!+#REF!+#REF!+#REF!+#REF!+#REF!+#REF!+#REF!+#REF!+#REF!+#REF!+#REF!+#REF!+#REF!+#REF!+#REF!+#REF!+#REF!+#REF!+#REF!+#REF!+#REF!+#REF!+#REF!+#REF!+#REF!+#REF!+#REF!","v":{"$error":"#REF!"}},{"$f":"#REF!+#REF!+#REF!+#REF!+#REF!+#REF!+#REF!+#REF!+#REF!+#REF!+#REF!+#REF!+#REF!+#REF!+#REF!+#REF!+#REF!+#REF!+#REF!+#REF!+#REF!+#REF!+#REF!+#REF!+#REF!+#REF!+#REF!+#REF!+#REF!+#REF!+#REF!+#REF!+#REF!","v":{"$error":"#REF!"}},{"$f":"#REF!+#REF!+#REF!+#REF!+#REF!+#REF!+#REF!+#REF!+#REF!+#REF!+#REF!+#REF!+#REF!+#REF!+#REF!+#REF!+#REF!+#REF!+#REF!+#REF!+#REF!+#REF!+#REF!+#REF!+#REF!+#REF!+#REF!+#REF!+#REF!+#REF!+#REF!+#REF!+#REF!","v":{"$error":"#REF!"}},{"$f":"#REF!+#REF!+#REF!+#REF!+#REF!+#REF!+#REF!+#REF!+#REF!+#REF!+#REF!+#REF!+#REF!+#REF!+#REF!+#REF!+#REF!+#REF!+#REF!+#REF!+#REF!+#REF!+#REF!+#REF!+#REF!+#REF!+#REF!+#REF!+#REF!+#REF!+#REF!+#REF!+#REF!","v":{"$error":"#REF!"}},{"$f":"'9_Per Pupil Summary'!N66","v":14750},{"$f":"#REF!+#REF!+#REF!+#REF!+#REF!+#REF!+#REF!+#REF!+#REF!+#REF!+#REF!+#REF!+#REF!+#REF!+#REF!+#REF!+#REF!+#REF!+#REF!+#REF!+#REF!+#REF!+#REF!+#REF!+#REF!+#REF!+#REF!+#REF!+#REF!+#REF!+#REF!+#REF!+#REF!","v":{"$error":"#REF!"}},{"$f":"#REF!+#REF!+#REF!+#REF!+#REF!+#REF!+#REF!+#REF!+#REF!+#REF!+#REF!+#REF!+#REF!+#REF!+#REF!+#REF!+#REF!+#REF!+#REF!+#REF!+#REF!+#REF!+#REF!+#REF!+#REF!+#REF!+#REF!+#REF!+#REF!+#REF!+#REF!+#REF!+#REF!","v":{"$error":"#REF!"}},{"$f":"#REF!+#REF!+#REF!+#REF!+#REF!+#REF!+#REF!+#REF!+#REF!+#REF!+#REF!+#REF!+#REF!+#REF!+#REF!+#REF!+#REF!+#REF!+#REF!+#REF!+#REF!+#REF!+#REF!+#REF!+#REF!+#REF!+#REF!+#REF!+#REF!+#REF!+#REF!+#REF!+#REF!","v":{"$error":"#REF!"}},{"$f":"#REF!+#REF!+#REF!+#REF!+#REF!+#REF!+#REF!+#REF!+#REF!+#REF!+#REF!+#REF!+#REF!+#REF!+#REF!+#REF!+#REF!+#REF!+#REF!+#REF!+#REF!+#REF!+#REF!+#REF!+#REF!+#REF!+#REF!+#REF!+#REF!+#REF!+#REF!+#REF!+#REF!","v":{"$error":"#REF!"}},{"$f":"#REF!+#REF!+#REF!+#REF!+#REF!+#REF!+#REF!+#REF!+#REF!+#REF!+#REF!+#REF!+#REF!+#REF!+#REF!+#REF!+#REF!+#REF!+#REF!+#REF!+#REF!+#REF!+#REF!+#REF!+#REF!+#REF!+#REF!+#REF!+#REF!+#REF!+#REF!+#REF!+#REF!","v":{"$error":"#REF!"}},{"$f":"#REF!+#REF!+#REF!+#REF!+#REF!+#REF!+#REF!+#REF!+#REF!+#REF!+#REF!+#REF!+#REF!+#REF!+#REF!+#REF!+#REF!+#REF!+#REF!+#REF!+#REF!+#REF!+#REF!+#REF!+#REF!+#REF!+#REF!+#REF!+#REF!+#REF!+#REF!+#REF!+#REF!","v":{"$error":"#REF!"}},{"$f":"#REF!+#REF!+#REF!+#REF!+#REF!+#REF!+#REF!+#REF!+#REF!+#REF!+#REF!+#REF!+#REF!+#REF!+#REF!+#REF!+#REF!+#REF!+#REF!+#REF!+#REF!+#REF!+#REF!+#REF!+#REF!+#REF!+#REF!+#REF!+#REF!+#REF!+#REF!+#REF!+#REF!","v":{"$error":"#REF!"}},{"$f":"#REF!+#REF!+#REF!+#REF!+#REF!+#REF!+#REF!+#REF!+#REF!+#REF!+#REF!+#REF!+#REF!+#REF!+#REF!+#REF!+#REF!+#REF!+#REF!+#REF!+#REF!+#REF!+#REF!+#REF!+#REF!+#REF!+#REF!+#REF!+#REF!+#REF!+#REF!+#REF!+#REF!","v":{"$error":"#REF!"}},{"$f":"#REF!+#REF!+#REF!+#REF!+#REF!+#REF!+#REF!+#REF!+#REF!+#REF!+#REF!+#REF!+#REF!+#REF!+#REF!+#REF!+#REF!+#REF!+#REF!+#REF!+#REF!+#REF!+#REF!+#REF!+#REF!+#REF!+#REF!+#REF!+#REF!+#REF!+#REF!+#REF!+#REF!","v":{"$error":"#REF!"}},{"$f":"#REF!+#REF!+#REF!+#REF!+#REF!+#REF!+#REF!+#REF!+#REF!+#REF!+#REF!+#REF!+#REF!+#REF!+#REF!+#REF!+#REF!+#REF!+#REF!+#REF!+#REF!+#REF!+#REF!+#REF!+#REF!+#REF!+#REF!+#REF!+#REF!+#REF!+#REF!+#REF!+#REF!","v":{"$error":"#REF!"}},{"$f":"#REF!+#REF!+#REF!+#REF!+#REF!+#REF!+#REF!+#REF!+#REF!+#REF!+#REF!+#REF!+#REF!+#REF!+#REF!+#REF!+#REF!+#REF!+#REF!+#REF!+#REF!+#REF!+#REF!+#REF!+#REF!+#REF!+#REF!+#REF!+#REF!+#REF!+#REF!+#REF!+#REF!","v":{"$error":"#REF!"}},{"$f":"#REF!+#REF!+#REF!+#REF!+#REF!+#REF!+#REF!+#REF!+#REF!+#REF!+#REF!+#REF!+#REF!+#REF!+#REF!+#REF!+#REF!+#REF!+#REF!+#REF!+#REF!+#REF!+#REF!+#REF!+#REF!+#REF!+#REF!+#REF!+#REF!+#REF!+#REF!+#REF!+#REF!","v":{"$error":"#REF!"}},{"$f":"#REF!+#REF!+#REF!+#REF!+#REF!+#REF!+#REF!+#REF!+#REF!+#REF!+#REF!+#REF!+#REF!+#REF!+#REF!+#REF!+#REF!+#REF!+#REF!+#REF!+#REF!+#REF!+#REF!+#REF!+#REF!+#REF!+#REF!+#REF!+#REF!+#REF!+#REF!+#REF!+#REF!","v":{"$error":"#REF!"}},{"$f":"#REF!+#REF!+#REF!+#REF!+#REF!+#REF!+#REF!+#REF!+#REF!+#REF!+#REF!+#REF!+#REF!+#REF!+#REF!+#REF!+#REF!+#REF!+#REF!+#REF!+#REF!+#REF!+#REF!+#REF!+#REF!+#REF!+#REF!+#REF!+#REF!+#REF!+#REF!+#REF!+#REF!","v":{"$error":"#REF!"}},{"$error":"#REF!"},{"$error":"#REF!"},{"$f":"#REF!+#REF!+#REF!+#REF!+#REF!+#REF!+#REF!+#REF!+#REF!+#REF!+#REF!+#REF!+#REF!+#REF!+#REF!+#REF!+#REF!+#REF!+#REF!+#REF!+#REF!+#REF!+#REF!+#REF!+#REF!+#REF!+#REF!+#REF!+#REF!+#REF!+#REF!+#REF!+#REF!","v":{"$error":"#REF!"}},null,{"$error":"#REF!"}]
[62,"West Carroll",{"$f":"#REF!+#REF!+#REF!+#REF!+#REF!+#REF!+#REF!+#REF!+#REF!+#REF!+#REF!+#REF!+#REF!+#REF!+#REF!+#REF!+#REF!+#REF!+#REF!+#REF!+#REF!+#REF!+#REF!+#REF!+#REF!+#REF!+#REF!+#REF!+#REF!+#REF!+#REF!+#REF!+#REF!","v":{"$error":"#REF!"}},{"$f":"'9_Per Pupil Summary'!H67","v":5354.4954005172012},{"$f":"#REF!+#REF!+#REF!+#REF!+#REF!+#REF!+#REF!+#REF!+#REF!+#REF!+#REF!+#REF!+#REF!+#REF!+#REF!+#REF!+#REF!+#REF!+#REF!+#REF!+#REF!+#REF!+#REF!+#REF!+#REF!+#REF!+#REF!+#REF!+#REF!+#REF!+#REF!+#REF!+#REF!","v":{"$error":"#REF!"}},{"$f":"#REF!+#REF!+#REF!+#REF!+#REF!+#REF!+#REF!+#REF!+#REF!+#REF!+#REF!+#REF!+#REF!+#REF!+#REF!+#REF!+#REF!+#REF!+#REF!+#REF!+#REF!+#REF!+#REF!+#REF!+#REF!+#REF!+#REF!+#REF!+#REF!+#REF!+#REF!+#REF!+#REF!","v":{"$error":"#REF!"}},{"$f":"'9_Per Pupil Summary'!I67","v":708.40048991019171},{"$f":"#REF!+#REF!+#REF!+#REF!+#REF!+#REF!+#REF!+#REF!+#REF!+#REF!+#REF!+#REF!+#REF!+#REF!+#REF!+#REF!+#REF!+#REF!+#REF!+#REF!+#REF!+#REF!+#REF!+#REF!+#REF!+#REF!+#REF!+#REF!+#REF!+#REF!+#REF!+#REF!+#REF!","v":{"$error":"#REF!"}},{"$f":"#REF!+#REF!+#REF!+#REF!+#REF!+#REF!+#REF!+#REF!+#REF!+#REF!+#REF!+#REF!+#REF!+#REF!+#REF!+#REF!+#REF!+#REF!+#REF!+#REF!+#REF!+#REF!+#REF!+#REF!+#REF!+#REF!+#REF!+#REF!+#REF!+#REF!+#REF!+#REF!+#REF!","v":{"$error":"#REF!"}},{"$f":"'9_Per Pupil Summary'!J67","v":193.20013361187046},{"$f":"#REF!+#REF!+#REF!+#REF!+#REF!+#REF!+#REF!+#REF!+#REF!+#REF!+#REF!+#REF!+#REF!+#REF!+#REF!+#REF!+#REF!+#REF!+#REF!+#REF!+#REF!+#REF!+#REF!+#REF!+#REF!+#REF!+#REF!+#REF!+#REF!+#REF!+#REF!+#REF!+#REF!","v":{"$error":"#REF!"}},{"$f":"#REF!+#REF!+#REF!+#REF!+#REF!+#REF!+#REF!+#REF!+#REF!+#REF!+#REF!+#REF!+#REF!+#REF!+#REF!+#REF!+#REF!+#REF!+#REF!+#REF!+#REF!+#REF!+#REF!+#REF!+#REF!+#REF!+#REF!+#REF!+#REF!+#REF!+#REF!+#REF!+#REF!","v":{"$error":"#REF!"}},{"$f":"'9_Per Pupil Summary'!K67","v":4830.0033402967611},{"$f":"#REF!+#REF!+#REF!+#REF!+#REF!+#REF!+#REF!+#REF!+#REF!+#REF!+#REF!+#REF!+#REF!+#REF!+#REF!+#REF!+#REF!+#REF!+#REF!+#REF!+#REF!+#REF!+#REF!+#REF!+#REF!+#REF!+#REF!+#REF!+#REF!+#REF!+#REF!+#REF!+#REF!","v":{"$error":"#REF!"}},{"$f":"#REF!+#REF!+#REF!+#REF!+#REF!+#REF!+#REF!+#REF!+#REF!+#REF!+#REF!+#REF!+#REF!+#REF!+#REF!+#REF!+#REF!+#REF!+#REF!+#REF!+#REF!+#REF!+#REF!+#REF!+#REF!+#REF!+#REF!+#REF!+#REF!+#REF!+#REF!+#REF!+#REF!","v":{"$error":"#REF!"}},{"$f":"'9_Per Pupil Summary'!L67","v":0},{"$f":"#REF!+#REF!+#REF!+#REF!+#REF!+#REF!+#REF!+#REF!+#REF!+#REF!+#REF!+#REF!+#REF!+#REF!+#REF!+#REF!+#REF!+#REF!+#REF!+#REF!+#REF!+#REF!+#REF!+#REF!+#REF!+#REF!+#REF!+#REF!+#REF!+#REF!+#REF!+#REF!+#REF!","v":{"$error":"#REF!"}},{"$f":"#REF!+#REF!+#REF!+#REF!+#REF!+#REF!+#REF!+#REF!+#REF!+#REF!+#REF!+#REF!+#REF!+#REF!+#REF!+#REF!+#REF!+#REF!+#REF!+#REF!+#REF!+#REF!+#REF!+#REF!+#REF!+#REF!+#REF!+#REF!+#REF!+#REF!+#REF!+#REF!+#REF!","v":{"$error":"#REF!"}},{"$f":"#REF!+#REF!","v":{"$error":"#REF!"}},{"$f":"#REF!+#REF!+#REF!+#REF!+#REF!+#REF!+#REF!+#REF!+#REF!+#REF!+#REF!+#REF!+#REF!+#REF!+#REF!+#REF!+#REF!+#REF!+#REF!+#REF!+#REF!+#REF!+#REF!+#REF!+#REF!+#REF!+#REF!+#REF!+#REF!+#REF!+#REF!+#REF!+#REF!","v":{"$error":"#REF!"}},{"$f":"#REF!+#REF!+#REF!+#REF!+#REF!+#REF!+#REF!+#REF!+#REF!+#REF!+#REF!+#REF!+#REF!+#REF!+#REF!+#REF!+#REF!+#REF!+#REF!+#REF!+#REF!+#REF!+#REF!+#REF!+#REF!+#REF!+#REF!+#REF!+#REF!+#REF!+#REF!+#REF!+#REF!","v":{"$error":"#REF!"}},{"$f":"#REF!+#REF!+#REF!+#REF!+#REF!+#REF!+#REF!+#REF!+#REF!+#REF!+#REF!+#REF!+#REF!+#REF!+#REF!+#REF!+#REF!+#REF!+#REF!+#REF!+#REF!+#REF!+#REF!+#REF!+#REF!+#REF!+#REF!+#REF!+#REF!+#REF!+#REF!+#REF!+#REF!","v":{"$error":"#REF!"}},{"$f":"#REF!+#REF!+#REF!+#REF!+#REF!+#REF!+#REF!+#REF!+#REF!+#REF!+#REF!+#REF!+#REF!+#REF!+#REF!+#REF!+#REF!+#REF!+#REF!+#REF!+#REF!+#REF!+#REF!+#REF!+#REF!+#REF!+#REF!+#REF!+#REF!+#REF!+#REF!+#REF!+#REF!","v":{"$error":"#REF!"}},{"$f":"#REF!+#REF!+#REF!+#REF!+#REF!+#REF!+#REF!+#REF!+#REF!+#REF!+#REF!+#REF!+#REF!+#REF!+#REF!+#REF!+#REF!+#REF!+#REF!+#REF!+#REF!+#REF!+#REF!+#REF!+#REF!+#REF!+#REF!+#REF!+#REF!+#REF!+#REF!+#REF!+#REF!","v":{"$error":"#REF!"}},{"$f":"#REF!+#REF!+#REF!+#REF!+#REF!+#REF!+#REF!+#REF!+#REF!+#REF!+#REF!+#REF!+#REF!+#REF!+#REF!+#REF!+#REF!+#REF!+#REF!+#REF!+#REF!+#REF!+#REF!+#REF!+#REF!+#REF!+#REF!+#REF!+#REF!+#REF!+#REF!+#REF!+#REF!","v":{"$error":"#REF!"}},{"$f":"#REF!+#REF!+#REF!+#REF!+#REF!+#REF!+#REF!+#REF!+#REF!+#REF!+#REF!+#REF!+#REF!+#REF!+#REF!+#REF!+#REF!+#REF!+#REF!+#REF!+#REF!+#REF!+#REF!+#REF!+#REF!+#REF!+#REF!+#REF!+#REF!+#REF!+#REF!+#REF!+#REF!","v":{"$error":"#REF!"}},{"$f":"#REF!+#REF!+#REF!+#REF!+#REF!+#REF!+#REF!+#REF!+#REF!+#REF!+#REF!+#REF!+#REF!+#REF!+#REF!+#REF!+#REF!+#REF!+#REF!+#REF!+#REF!+#REF!+#REF!+#REF!+#REF!+#REF!+#REF!+#REF!+#REF!+#REF!+#REF!+#REF!+#REF!","v":{"$error":"#REF!"}},{"$f":"#REF!+#REF!+#REF!+#REF!+#REF!+#REF!+#REF!+#REF!+#REF!+#REF!+#REF!+#REF!+#REF!+#REF!+#REF!+#REF!+#REF!+#REF!+#REF!+#REF!+#REF!+#REF!+#REF!+#REF!+#REF!+#REF!+#REF!+#REF!+#REF!+#REF!+#REF!+#REF!+#REF!","v":{"$error":"#REF!"}},{"$f":"#REF!+#REF!+#REF!+#REF!+#REF!+#REF!+#REF!+#REF!+#REF!+#REF!+#REF!+#REF!+#REF!+#REF!+#REF!+#REF!+#REF!+#REF!+#REF!+#REF!+#REF!+#REF!+#REF!+#REF!+#REF!+#REF!+#REF!+#REF!+#REF!+#REF!+#REF!+#REF!+#REF!","v":{"$error":"#REF!"}},{"$f":"#REF!+#REF!+#REF!+#REF!+#REF!+#REF!+#REF!+#REF!+#REF!+#REF!+#REF!+#REF!+#REF!+#REF!+#REF!+#REF!+#REF!+#REF!+#REF!+#REF!+#REF!+#REF!+#REF!+#REF!+#REF!+#REF!+#REF!+#REF!+#REF!+#REF!+#REF!+#REF!+#REF!","v":{"$error":"#REF!"}},{"$f":"#REF!+#REF!+#REF!+#REF!+#REF!+#REF!+#REF!+#REF!+#REF!+#REF!+#REF!+#REF!+#REF!+#REF!+#REF!+#REF!+#REF!+#REF!+#REF!+#REF!+#REF!+#REF!+#REF!+#REF!+#REF!+#REF!+#REF!+#REF!+#REF!+#REF!+#REF!+#REF!+#REF!","v":{"$error":"#REF!"}},{"$f":"'9_Per Pupil Summary'!N67","v":3682},{"$f":"#REF!+#REF!+#REF!+#REF!+#REF!+#REF!+#REF!+#REF!+#REF!+#REF!+#REF!+#REF!+#REF!+#REF!+#REF!+#REF!+#REF!+#REF!+#REF!+#REF!+#REF!+#REF!+#REF!+#REF!+#REF!+#REF!+#REF!+#REF!+#REF!+#REF!+#REF!+#REF!+#REF!","v":{"$error":"#REF!"}},{"$f":"#REF!+#REF!+#REF!+#REF!+#REF!+#REF!+#REF!+#REF!+#REF!+#REF!+#REF!+#REF!+#REF!+#REF!+#REF!+#REF!+#REF!+#REF!+#REF!+#REF!+#REF!+#REF!+#REF!+#REF!+#REF!+#REF!+#REF!+#REF!+#REF!+#REF!+#REF!+#REF!+#REF!","v":{"$error":"#REF!"}},{"$f":"#REF!+#REF!+#REF!+#REF!+#REF!+#REF!+#REF!+#REF!+#REF!+#REF!+#REF!+#REF!+#REF!+#REF!+#REF!+#REF!+#REF!+#REF!+#REF!+#REF!+#REF!+#REF!+#REF!+#REF!+#REF!+#REF!+#REF!+#REF!+#REF!+#REF!+#REF!+#REF!+#REF!","v":{"$error":"#REF!"}},{"$f":"#REF!+#REF!+#REF!+#REF!+#REF!+#REF!+#REF!+#REF!+#REF!+#REF!+#REF!+#REF!+#REF!+#REF!+#REF!+#REF!+#REF!+#REF!+#REF!+#REF!+#REF!+#REF!+#REF!+#REF!+#REF!+#REF!+#REF!+#REF!+#REF!+#REF!+#REF!+#REF!+#REF!","v":{"$error":"#REF!"}},{"$f":"#REF!+#REF!+#REF!+#REF!+#REF!+#REF!+#REF!+#REF!+#REF!+#REF!+#REF!+#REF!+#REF!+#REF!+#REF!+#REF!+#REF!+#REF!+#REF!+#REF!+#REF!+#REF!+#REF!+#REF!+#REF!+#REF!+#REF!+#REF!+#REF!+#REF!+#REF!+#REF!+#REF!","v":{"$error":"#REF!"}},{"$f":"#REF!+#REF!+#REF!+#REF!+#REF!+#REF!+#REF!+#REF!+#REF!+#REF!+#REF!+#REF!+#REF!+#REF!+#REF!+#REF!+#REF!+#REF!+#REF!+#REF!+#REF!+#REF!+#REF!+#REF!+#REF!+#REF!+#REF!+#REF!+#REF!+#REF!+#REF!+#REF!+#REF!","v":{"$error":"#REF!"}},{"$f":"#REF!+#REF!+#REF!+#REF!+#REF!+#REF!+#REF!+#REF!+#REF!+#REF!+#REF!+#REF!+#REF!+#REF!+#REF!+#REF!+#REF!+#REF!+#REF!+#REF!+#REF!+#REF!+#REF!+#REF!+#REF!+#REF!+#REF!+#REF!+#REF!+#REF!+#REF!+#REF!+#REF!","v":{"$error":"#REF!"}},{"$f":"#REF!+#REF!+#REF!+#REF!+#REF!+#REF!+#REF!+#REF!+#REF!+#REF!+#REF!+#REF!+#REF!+#REF!+#REF!+#REF!+#REF!+#REF!+#REF!+#REF!+#REF!+#REF!+#REF!+#REF!+#REF!+#REF!+#REF!+#REF!+#REF!+#REF!+#REF!+#REF!+#REF!","v":{"$error":"#REF!"}},{"$f":"#REF!+#REF!+#REF!+#REF!+#REF!+#REF!+#REF!+#REF!+#REF!+#REF!+#REF!+#REF!+#REF!+#REF!+#REF!+#REF!+#REF!+#REF!+#REF!+#REF!+#REF!+#REF!+#REF!+#REF!+#REF!+#REF!+#REF!+#REF!+#REF!+#REF!+#REF!+#REF!+#REF!","v":{"$error":"#REF!"}},{"$f":"#REF!+#REF!+#REF!+#REF!+#REF!+#REF!+#REF!+#REF!+#REF!+#REF!+#REF!+#REF!+#REF!+#REF!+#REF!+#REF!+#REF!+#REF!+#REF!+#REF!+#REF!+#REF!+#REF!+#REF!+#REF!+#REF!+#REF!+#REF!+#REF!+#REF!+#REF!+#REF!+#REF!","v":{"$error":"#REF!"}},{"$f":"#REF!+#REF!+#REF!+#REF!+#REF!+#REF!+#REF!+#REF!+#REF!+#REF!+#REF!+#REF!+#REF!+#REF!+#REF!+#REF!+#REF!+#REF!+#REF!+#REF!+#REF!+#REF!+#REF!+#REF!+#REF!+#REF!+#REF!+#REF!+#REF!+#REF!+#REF!+#REF!+#REF!","v":{"$error":"#REF!"}},{"$f":"#REF!+#REF!+#REF!+#REF!+#REF!+#REF!+#REF!+#REF!+#REF!+#REF!+#REF!+#REF!+#REF!+#REF!+#REF!+#REF!+#REF!+#REF!+#REF!+#REF!+#REF!+#REF!+#REF!+#REF!+#REF!+#REF!+#REF!+#REF!+#REF!+#REF!+#REF!+#REF!+#REF!","v":{"$error":"#REF!"}},{"$f":"#REF!+#REF!+#REF!+#REF!+#REF!+#REF!+#REF!+#REF!+#REF!+#REF!+#REF!+#REF!+#REF!+#REF!+#REF!+#REF!+#REF!+#REF!+#REF!+#REF!+#REF!+#REF!+#REF!+#REF!+#REF!+#REF!+#REF!+#REF!+#REF!+#REF!+#REF!+#REF!+#REF!","v":{"$error":"#REF!"}},{"$f":"#REF!+#REF!+#REF!+#REF!+#REF!+#REF!+#REF!+#REF!+#REF!+#REF!+#REF!+#REF!+#REF!+#REF!+#REF!+#REF!+#REF!+#REF!+#REF!+#REF!+#REF!+#REF!+#REF!+#REF!+#REF!+#REF!+#REF!+#REF!+#REF!+#REF!+#REF!+#REF!+#REF!","v":{"$error":"#REF!"}},{"$error":"#REF!"},{"$error":"#REF!"},{"$f":"#REF!+#REF!+#REF!+#REF!+#REF!+#REF!+#REF!+#REF!+#REF!+#REF!+#REF!+#REF!+#REF!+#REF!+#REF!+#REF!+#REF!+#REF!+#REF!+#REF!+#REF!+#REF!+#REF!+#REF!+#REF!+#REF!+#REF!+#REF!+#REF!+#REF!+#REF!+#REF!+#REF!","v":{"$error":"#REF!"}},null,{"$error":"#REF!"}]
[63,"West Feliciana",{"$f":"#REF!+#REF!+#REF!+#REF!+#REF!+#REF!+#REF!+#REF!+#REF!+#REF!+#REF!+#REF!+#REF!+#REF!+#REF!+#REF!+#REF!+#REF!+#REF!+#REF!+#REF!+#REF!+#REF!+#REF!+#REF!+#REF!+#REF!+#REF!+#REF!+#REF!+#REF!+#REF!+#REF!","v":{"$error":"#REF!"}},{"$f":"'9_Per Pupil Summary'!H68","v":3370.9755469206516},{"$f":"#REF!+#REF!+#REF!+#REF!+#REF!+#REF!+#REF!+#REF!+#REF!+#REF!+#REF!+#REF!+#REF!+#REF!+#REF!+#REF!+#REF!+#REF!+#REF!+#REF!+#REF!+#REF!+#REF!+#REF!+#REF!+#REF!+#REF!+#REF!+#REF!+#REF!+#REF!+#REF!+#REF!","v":{"$error":"#REF!"}},{"$f":"#REF!+#REF!+#REF!+#REF!+#REF!+#REF!+#REF!+#REF!+#REF!+#REF!+#REF!+#REF!+#REF!+#REF!+#REF!+#REF!+#REF!+#REF!+#REF!+#REF!+#REF!+#REF!+#REF!+#REF!+#REF!+#REF!+#REF!+#REF!+#REF!+#REF!+#REF!+#REF!+#REF!","v":{"$error":"#REF!"}},{"$f":"'9_Per Pupil Summary'!I68","v":427.89845616620397},{"$f":"#REF!+#REF!+#REF!+#REF!+#REF!+#REF!+#REF!+#REF!+#REF!+#REF!+#REF!+#REF!+#REF!+#REF!+#REF!+#REF!+#REF!+#REF!+#REF!+#REF!+#REF!+#REF!+#REF!+#REF!+#REF!+#REF!+#REF!+#REF!+#REF!+#REF!+#REF!+#REF!+#REF!","v":{"$error":"#REF!"}},{"$f":"#REF!+#REF!+#REF!+#REF!+#REF!+#REF!+#REF!+#REF!+#REF!+#REF!+#REF!+#REF!+#REF!+#REF!+#REF!+#REF!+#REF!+#REF!+#REF!+#REF!+#REF!+#REF!+#REF!+#REF!+#REF!+#REF!+#REF!+#REF!+#REF!+#REF!+#REF!+#REF!+#REF!","v":{"$error":"#REF!"}},{"$f":"'9_Per Pupil Summary'!J68","v":116.69957895441928},{"$f":"#REF!+#REF!+#REF!+#REF!+#REF!+#REF!+#REF!+#REF!+#REF!+#REF!+#REF!+#REF!+#REF!+#REF!+#REF!+#REF!+#REF!+#REF!+#REF!+#REF!+#REF!+#REF!+#REF!+#REF!+#REF!+#REF!+#REF!+#REF!+#REF!+#REF!+#REF!+#REF!+#REF!","v":{"$error":"#REF!"}},{"$f":"#REF!+#REF!+#REF!+#REF!+#REF!+#REF!+#REF!+#REF!+#REF!+#REF!+#REF!+#REF!+#REF!+#REF!+#REF!+#REF!+#REF!+#REF!+#REF!+#REF!+#REF!+#REF!+#REF!+#REF!+#REF!+#REF!+#REF!+#REF!+#REF!+#REF!+#REF!+#REF!+#REF!","v":{"$error":"#REF!"}},{"$f":"'9_Per Pupil Summary'!K68","v":2917.4894738604812},{"$f":"#REF!+#REF!+#REF!+#REF!+#REF!+#REF!+#REF!+#REF!+#REF!+#REF!+#REF!+#REF!+#REF!+#REF!+#REF!+#REF!+#REF!+#REF!+#REF!+#REF!+#REF!+#REF!+#REF!+#REF!+#REF!+#REF!+#REF!+#REF!+#REF!+#REF!+#REF!+#REF!+#REF!","v":{"$error":"#REF!"}},{"$f":"#REF!+#REF!+#REF!+#REF!+#REF!+#REF!+#REF!+#REF!+#REF!+#REF!+#REF!+#REF!+#REF!+#REF!+#REF!+#REF!+#REF!+#REF!+#REF!+#REF!+#REF!+#REF!+#REF!+#REF!+#REF!+#REF!+#REF!+#REF!+#REF!+#REF!+#REF!+#REF!+#REF!","v":{"$error":"#REF!"}},{"$f":"'9_Per Pupil Summary'!L68","v":1166.9957895441926},{"$f":"#REF!+#REF!+#REF!+#REF!+#REF!+#REF!+#REF!+#REF!+#REF!+#REF!+#REF!+#REF!+#REF!+#REF!+#REF!+#REF!+#REF!+#REF!+#REF!+#REF!+#REF!+#REF!+#REF!+#REF!+#REF!+#REF!+#REF!+#REF!+#REF!+#REF!+#REF!+#REF!+#REF!","v":{"$error":"#REF!"}},{"$f":"#REF!+#REF!+#REF!+#REF!+#REF!+#REF!+#REF!+#REF!+#REF!+#REF!+#REF!+#REF!+#REF!+#REF!+#REF!+#REF!+#REF!+#REF!+#REF!+#REF!+#REF!+#REF!+#REF!+#REF!+#REF!+#REF!+#REF!+#REF!+#REF!+#REF!+#REF!+#REF!+#REF!","v":{"$error":"#REF!"}},{"$f":"#REF!+#REF!","v":{"$error":"#REF!"}},{"$f":"#REF!+#REF!+#REF!+#REF!+#REF!+#REF!+#REF!+#REF!+#REF!+#REF!+#REF!+#REF!+#REF!+#REF!+#REF!+#REF!+#REF!+#REF!+#REF!+#REF!+#REF!+#REF!+#REF!+#REF!+#REF!+#REF!+#REF!+#REF!+#REF!+#REF!+#REF!+#REF!+#REF!","v":{"$error":"#REF!"}},{"$f":"#REF!+#REF!+#REF!+#REF!+#REF!+#REF!+#REF!+#REF!+#REF!+#REF!+#REF!+#REF!+#REF!+#REF!+#REF!+#REF!+#REF!+#REF!+#REF!+#REF!+#REF!+#REF!+#REF!+#REF!+#REF!+#REF!+#REF!+#REF!+#REF!+#REF!+#REF!+#REF!+#REF!","v":{"$error":"#REF!"}},{"$f":"#REF!+#REF!+#REF!+#REF!+#REF!+#REF!+#REF!+#REF!+#REF!+#REF!+#REF!+#REF!+#REF!+#REF!+#REF!+#REF!+#REF!+#REF!+#REF!+#REF!+#REF!+#REF!+#REF!+#REF!+#REF!+#REF!+#REF!+#REF!+#REF!+#REF!+#REF!+#REF!+#REF!","v":{"$error":"#REF!"}},{"$f":"#REF!+#REF!+#REF!+#REF!+#REF!+#REF!+#REF!+#REF!+#REF!+#REF!+#REF!+#REF!+#REF!+#REF!+#REF!+#REF!+#REF!+#REF!+#REF!+#REF!+#REF!+#REF!+#REF!+#REF!+#REF!+#REF!+#REF!+#REF!+#REF!+#REF!+#REF!+#REF!+#REF!","v":{"$error":"#REF!"}},{"$f":"#REF!+#REF!+#REF!+#REF!+#REF!+#REF!+#REF!+#REF!+#REF!+#REF!+#REF!+#REF!+#REF!+#REF!+#REF!+#REF!+#REF!+#REF!+#REF!+#REF!+#REF!+#REF!+#REF!+#REF!+#REF!+#REF!+#REF!+#REF!+#REF!+#REF!+#REF!+#REF!+#REF!","v":{"$error":"#REF!"}},{"$f":"#REF!+#REF!+#REF!+#REF!+#REF!+#REF!+#REF!+#REF!+#REF!+#REF!+#REF!+#REF!+#REF!+#REF!+#REF!+#REF!+#REF!+#REF!+#REF!+#REF!+#REF!+#REF!+#REF!+#REF!+#REF!+#REF!+#REF!+#REF!+#REF!+#REF!+#REF!+#REF!+#REF!","v":{"$error":"#REF!"}},{"$f":"#REF!+#REF!+#REF!+#REF!+#REF!+#REF!+#REF!+#REF!+#REF!+#REF!+#REF!+#REF!+#REF!+#REF!+#REF!+#REF!+#REF!+#REF!+#REF!+#REF!+#REF!+#REF!+#REF!+#REF!+#REF!+#REF!+#REF!+#REF!+#REF!+#REF!+#REF!+#REF!+#REF!","v":{"$error":"#REF!"}},{"$f":"#REF!+#REF!+#REF!+#REF!+#REF!+#REF!+#REF!+#REF!+#REF!+#REF!+#REF!+#REF!+#REF!+#REF!+#REF!+#REF!+#REF!+#REF!+#REF!+#REF!+#REF!+#REF!+#REF!+#REF!+#REF!+#REF!+#REF!+#REF!+#REF!+#REF!+#REF!+#REF!+#REF!","v":{"$error":"#REF!"}},{"$f":"#REF!+#REF!+#REF!+#REF!+#REF!+#REF!+#REF!+#REF!+#REF!+#REF!+#REF!+#REF!+#REF!+#REF!+#REF!+#REF!+#REF!+#REF!+#REF!+#REF!+#REF!+#REF!+#REF!+#REF!+#REF!+#REF!+#REF!+#REF!+#REF!+#REF!+#REF!+#REF!+#REF!","v":{"$error":"#REF!"}},{"$f":"#REF!+#REF!+#REF!+#REF!+#REF!+#REF!+#REF!+#REF!+#REF!+#REF!+#REF!+#REF!+#REF!+#REF!+#REF!+#REF!+#REF!+#REF!+#REF!+#REF!+#REF!+#REF!+#REF!+#REF!+#REF!+#REF!+#REF!+#REF!+#REF!+#REF!+#REF!+#REF!+#REF!","v":{"$error":"#REF!"}},{"$f":"#REF!+#REF!+#REF!+#REF!+#REF!+#REF!+#REF!+#REF!+#REF!+#REF!+#REF!+#REF!+#REF!+#REF!+#REF!+#REF!+#REF!+#REF!+#REF!+#REF!+#REF!+#REF!+#REF!+#REF!+#REF!+#REF!+#REF!+#REF!+#REF!+#REF!+#REF!+#REF!+#REF!","v":{"$error":"#REF!"}},{"$f":"#REF!+#REF!+#REF!+#REF!+#REF!+#REF!+#REF!+#REF!+#REF!+#REF!+#REF!+#REF!+#REF!+#REF!+#REF!+#REF!+#REF!+#REF!+#REF!+#REF!+#REF!+#REF!+#REF!+#REF!+#REF!+#REF!+#REF!+#REF!+#REF!+#REF!+#REF!+#REF!+#REF!","v":{"$error":"#REF!"}},{"$f":"'9_Per Pupil Summary'!N68","v":12813},{"$f":"#REF!+#REF!+#REF!+#REF!+#REF!+#REF!+#REF!+#REF!+#REF!+#REF!+#REF!+#REF!+#REF!+#REF!+#REF!+#REF!+#REF!+#REF!+#REF!+#REF!+#REF!+#REF!+#REF!+#REF!+#REF!+#REF!+#REF!+#REF!+#REF!+#REF!+#REF!+#REF!+#REF!","v":{"$error":"#REF!"}},{"$f":"#REF!+#REF!+#REF!+#REF!+#REF!+#REF!+#REF!+#REF!+#REF!+#REF!+#REF!+#REF!+#REF!+#REF!+#REF!+#REF!+#REF!+#REF!+#REF!+#REF!+#REF!+#REF!+#REF!+#REF!+#REF!+#REF!+#REF!+#REF!+#REF!+#REF!+#REF!+#REF!+#REF!","v":{"$error":"#REF!"}},{"$f":"#REF!+#REF!+#REF!+#REF!+#REF!+#REF!+#REF!+#REF!+#REF!+#REF!+#REF!+#REF!+#REF!+#REF!+#REF!+#REF!+#REF!+#REF!+#REF!+#REF!+#REF!+#REF!+#REF!+#REF!+#REF!+#REF!+#REF!+#REF!+#REF!+#REF!+#REF!+#REF!+#REF!","v":{"$error":"#REF!"}},{"$f":"#REF!+#REF!+#REF!+#REF!+#REF!+#REF!+#REF!+#REF!+#REF!+#REF!+#REF!+#REF!+#REF!+#REF!+#REF!+#REF!+#REF!+#REF!+#REF!+#REF!+#REF!+#REF!+#REF!+#REF!+#REF!+#REF!+#REF!+#REF!+#REF!+#REF!+#REF!+#REF!+#REF!","v":{"$error":"#REF!"}},{"$f":"#REF!+#REF!+#REF!+#REF!+#REF!+#REF!+#REF!+#REF!+#REF!+#REF!+#REF!+#REF!+#REF!+#REF!+#REF!+#REF!+#REF!+#REF!+#REF!+#REF!+#REF!+#REF!+#REF!+#REF!+#REF!+#REF!+#REF!+#REF!+#REF!+#REF!+#REF!+#REF!+#REF!","v":{"$error":"#REF!"}},{"$f":"#REF!+#REF!+#REF!+#REF!+#REF!+#REF!+#REF!+#REF!+#REF!+#REF!+#REF!+#REF!+#REF!+#REF!+#REF!+#REF!+#REF!+#REF!+#REF!+#REF!+#REF!+#REF!+#REF!+#REF!+#REF!+#REF!+#REF!+#REF!+#REF!+#REF!+#REF!+#REF!+#REF!","v":{"$error":"#REF!"}},{"$f":"#REF!+#REF!+#REF!+#REF!+#REF!+#REF!+#REF!+#REF!+#REF!+#REF!+#REF!+#REF!+#REF!+#REF!+#REF!+#REF!+#REF!+#REF!+#REF!+#REF!+#REF!+#REF!+#REF!+#REF!+#REF!+#REF!+#REF!+#REF!+#REF!+#REF!+#REF!+#REF!+#REF!","v":{"$error":"#REF!"}},{"$f":"#REF!+#REF!+#REF!+#REF!+#REF!+#REF!+#REF!+#REF!+#REF!+#REF!+#REF!+#REF!+#REF!+#REF!+#REF!+#REF!+#REF!+#REF!+#REF!+#REF!+#REF!+#REF!+#REF!+#REF!+#REF!+#REF!+#REF!+#REF!+#REF!+#REF!+#REF!+#REF!+#REF!","v":{"$error":"#REF!"}},{"$f":"#REF!+#REF!+#REF!+#REF!+#REF!+#REF!+#REF!+#REF!+#REF!+#REF!+#REF!+#REF!+#REF!+#REF!+#REF!+#REF!+#REF!+#REF!+#REF!+#REF!+#REF!+#REF!+#REF!+#REF!+#REF!+#REF!+#REF!+#REF!+#REF!+#REF!+#REF!+#REF!+#REF!","v":{"$error":"#REF!"}},{"$f":"#REF!+#REF!+#REF!+#REF!+#REF!+#REF!+#REF!+#REF!+#REF!+#REF!+#REF!+#REF!+#REF!+#REF!+#REF!+#REF!+#REF!+#REF!+#REF!+#REF!+#REF!+#REF!+#REF!+#REF!+#REF!+#REF!+#REF!+#REF!+#REF!+#REF!+#REF!+#REF!+#REF!","v":{"$error":"#REF!"}},{"$f":"#REF!+#REF!+#REF!+#REF!+#REF!+#REF!+#REF!+#REF!+#REF!+#REF!+#REF!+#REF!+#REF!+#REF!+#REF!+#REF!+#REF!+#REF!+#REF!+#REF!+#REF!+#REF!+#REF!+#REF!+#REF!+#REF!+#REF!+#REF!+#REF!+#REF!+#REF!+#REF!+#REF!","v":{"$error":"#REF!"}},{"$f":"#REF!+#REF!+#REF!+#REF!+#REF!+#REF!+#REF!+#REF!+#REF!+#REF!+#REF!+#REF!+#REF!+#REF!+#REF!+#REF!+#REF!+#REF!+#REF!+#REF!+#REF!+#REF!+#REF!+#REF!+#REF!+#REF!+#REF!+#REF!+#REF!+#REF!+#REF!+#REF!+#REF!","v":{"$error":"#REF!"}},{"$f":"#REF!+#REF!+#REF!+#REF!+#REF!+#REF!+#REF!+#REF!+#REF!+#REF!+#REF!+#REF!+#REF!+#REF!+#REF!+#REF!+#REF!+#REF!+#REF!+#REF!+#REF!+#REF!+#REF!+#REF!+#REF!+#REF!+#REF!+#REF!+#REF!+#REF!+#REF!+#REF!+#REF!","v":{"$error":"#REF!"}},{"$f":"#REF!+#REF!+#REF!+#REF!+#REF!+#REF!+#REF!+#REF!+#REF!+#REF!+#REF!+#REF!+#REF!+#REF!+#REF!+#REF!+#REF!+#REF!+#REF!+#REF!+#REF!+#REF!+#REF!+#REF!+#REF!+#REF!+#REF!+#REF!+#REF!+#REF!+#REF!+#REF!+#REF!","v":{"$error":"#REF!"}},{"$error":"#REF!"},{"$error":"#REF!"},{"$f":"#REF!+#REF!+#REF!+#REF!+#REF!+#REF!+#REF!+#REF!+#REF!+#REF!+#REF!+#REF!+#REF!+#REF!+#REF!+#REF!+#REF!+#REF!+#REF!+#REF!+#REF!+#REF!+#REF!+#REF!+#REF!+#REF!+#REF!+#REF!+#REF!+#REF!+#REF!+#REF!+#REF!","v":{"$error":"#REF!"}},null,{"$error":"#REF!"}]
[64,"Winn",{"$f":"#REF!+#REF!+#REF!+#REF!+#REF!+#REF!+#REF!+#REF!+#REF!+#REF!+#REF!+#REF!+#REF!+#REF!+#REF!+#REF!+#REF!+#REF!+#REF!+#REF!+#REF!+#REF!+#REF!+#REF!+#REF!+#REF!+#REF!+#REF!+#REF!+#REF!+#REF!+#REF!+#REF!","v":{"$error":"#REF!"}},{"$f":"'9_Per Pupil Summary'!H69","v":5154.4089685233475},{"$f":"#REF!+#REF!+#REF!+#REF!+#REF!+#REF!+#REF!+#REF!+#REF!+#REF!+#REF!+#REF!+#REF!+#REF!+#REF!+#REF!+#REF!+#REF!+#REF!+#REF!+#REF!+#REF!+#REF!+#REF!+#REF!+#REF!+#REF!+#REF!+#REF!+#REF!+#REF!+#REF!+#REF!","v":{"$error":"#REF!"}},{"$f":"#REF!+#REF!+#REF!+#REF!+#REF!+#REF!+#REF!+#REF!+#REF!+#REF!+#REF!+#REF!+#REF!+#REF!+#REF!+#REF!+#REF!+#REF!+#REF!+#REF!+#REF!+#REF!+#REF!+#REF!+#REF!+#REF!+#REF!+#REF!+#REF!+#REF!+#REF!+#REF!+#REF!","v":{"$error":"#REF!"}},{"$f":"'9_Per Pupil Summary'!I69","v":674.81397538727515},{"$f":"#REF!+#REF!+#REF!+#REF!+#REF!+#REF!+#REF!+#REF!+#REF!+#REF!+#REF!+#REF!+#REF!+#REF!+#REF!+#REF!+#REF!+#REF!+#REF!+#REF!+#REF!+#REF!+#REF!+#REF!+#REF!+#REF!+#REF!+#REF!+#REF!+#REF!+#REF!+#REF!+#REF!","v":{"$error":"#REF!"}},{"$f":"#REF!+#REF!+#REF!+#REF!+#REF!+#REF!+#REF!+#REF!+#REF!+#REF!+#REF!+#REF!+#REF!+#REF!+#REF!+#REF!+#REF!+#REF!+#REF!+#REF!+#REF!+#REF!+#REF!+#REF!+#REF!+#REF!+#REF!+#REF!+#REF!+#REF!+#REF!+#REF!+#REF!","v":{"$error":"#REF!"}},{"$f":"'9_Per Pupil Summary'!J69","v":184.04017510562053},{"$f":"#REF!+#REF!+#REF!+#REF!+#REF!+#REF!+#REF!+#REF!+#REF!+#REF!+#REF!+#REF!+#REF!+#REF!+#REF!+#REF!+#REF!+#REF!+#REF!+#REF!+#REF!+#REF!+#REF!+#REF!+#REF!+#REF!+#REF!+#REF!+#REF!+#REF!+#REF!+#REF!+#REF!","v":{"$error":"#REF!"}},{"$f":"#REF!+#REF!+#REF!+#REF!+#REF!+#REF!+#REF!+#REF!+#REF!+#REF!+#REF!+#REF!+#REF!+#REF!+#REF!+#REF!+#REF!+#REF!+#REF!+#REF!+#REF!+#REF!+#REF!+#REF!+#REF!+#REF!+#REF!+#REF!+#REF!+#REF!+#REF!+#REF!+#REF!","v":{"$error":"#REF!"}},{"$f":"'9_Per Pupil Summary'!K69","v":4601.0043776405137},{"$f":"#REF!+#REF!+#REF!+#REF!+#REF!+#REF!+#REF!+#REF!+#REF!+#REF!+#REF!+#REF!+#REF!+#REF!+#REF!+#REF!+#REF!+#REF!+#REF!+#REF!+#REF!+#REF!+#REF!+#REF!+#REF!+#REF!+#REF!+#REF!+#REF!+#REF!+#REF!+#REF!+#REF!","v":{"$error":"#REF!"}},{"$f":"#REF!+#REF!+#REF!+#REF!+#REF!+#REF!+#REF!+#REF!+#REF!+#REF!+#REF!+#REF!+#REF!+#REF!+#REF!+#REF!+#REF!+#REF!+#REF!+#REF!+#REF!+#REF!+#REF!+#REF!+#REF!+#REF!+#REF!+#REF!+#REF!+#REF!+#REF!+#REF!+#REF!","v":{"$error":"#REF!"}},{"$f":"'9_Per Pupil Summary'!L69","v":1840.4017510562051},{"$f":"#REF!+#REF!+#REF!+#REF!+#REF!+#REF!+#REF!+#REF!+#REF!+#REF!+#REF!+#REF!+#REF!+#REF!+#REF!+#REF!+#REF!+#REF!+#REF!+#REF!+#REF!+#REF!+#REF!+#REF!+#REF!+#REF!+#REF!+#REF!+#REF!+#REF!+#REF!+#REF!+#REF!","v":{"$error":"#REF!"}},{"$f":"#REF!+#REF!+#REF!+#REF!+#REF!+#REF!+#REF!+#REF!+#REF!+#REF!+#REF!+#REF!+#REF!+#REF!+#REF!+#REF!+#REF!+#REF!+#REF!+#REF!+#REF!+#REF!+#REF!+#REF!+#REF!+#REF!+#REF!+#REF!+#REF!+#REF!+#REF!+#REF!+#REF!","v":{"$error":"#REF!"}},{"$f":"#REF!+#REF!","v":{"$error":"#REF!"}},{"$f":"#REF!+#REF!+#REF!+#REF!+#REF!+#REF!+#REF!+#REF!+#REF!+#REF!+#REF!+#REF!+#REF!+#REF!+#REF!+#REF!+#REF!+#REF!+#REF!+#REF!+#REF!+#REF!+#REF!+#REF!+#REF!+#REF!+#REF!+#REF!+#REF!+#REF!+#REF!+#REF!+#REF!","v":{"$error":"#REF!"}},{"$f":"#REF!+#REF!+#REF!+#REF!+#REF!+#REF!+#REF!+#REF!+#REF!+#REF!+#REF!+#REF!+#REF!+#REF!+#REF!+#REF!+#REF!+#REF!+#REF!+#REF!+#REF!+#REF!+#REF!+#REF!+#REF!+#REF!+#REF!+#REF!+#REF!+#REF!+#REF!+#REF!+#REF!","v":{"$error":"#REF!"}},{"$f":"#REF!+#REF!+#REF!+#REF!+#REF!+#REF!+#REF!+#REF!+#REF!+#REF!+#REF!+#REF!+#REF!+#REF!+#REF!+#REF!+#REF!+#REF!+#REF!+#REF!+#REF!+#REF!+#REF!+#REF!+#REF!+#REF!+#REF!+#REF!+#REF!+#REF!+#REF!+#REF!+#REF!","v":{"$error":"#REF!"}},{"$f":"#REF!+#REF!+#REF!+#REF!+#REF!+#REF!+#REF!+#REF!+#REF!+#REF!+#REF!+#REF!+#REF!+#REF!+#REF!+#REF!+#REF!+#REF!+#REF!+#REF!+#REF!+#REF!+#REF!+#REF!+#REF!+#REF!+#REF!+#REF!+#REF!+#REF!+#REF!+#REF!+#REF!","v":{"$error":"#REF!"}},{"$f":"#REF!+#REF!+#REF!+#REF!+#REF!+#REF!+#REF!+#REF!+#REF!+#REF!+#REF!+#REF!+#REF!+#REF!+#REF!+#REF!+#REF!+#REF!+#REF!+#REF!+#REF!+#REF!+#REF!+#REF!+#REF!+#REF!+#REF!+#REF!+#REF!+#REF!+#REF!+#REF!+#REF!","v":{"$error":"#REF!"}},{"$f":"#REF!+#REF!+#REF!+#REF!+#REF!+#REF!+#REF!+#REF!+#REF!+#REF!+#REF!+#REF!+#REF!+#REF!+#REF!+#REF!+#REF!+#REF!+#REF!+#REF!+#REF!+#REF!+#REF!+#REF!+#REF!+#REF!+#REF!+#REF!+#REF!+#REF!+#REF!+#REF!+#REF!","v":{"$error":"#REF!"}},{"$f":"#REF!+#REF!+#REF!+#REF!+#REF!+#REF!+#REF!+#REF!+#REF!+#REF!+#REF!+#REF!+#REF!+#REF!+#REF!+#REF!+#REF!+#REF!+#REF!+#REF!+#REF!+#REF!+#REF!+#REF!+#REF!+#REF!+#REF!+#REF!+#REF!+#REF!+#REF!+#REF!+#REF!","v":{"$error":"#REF!"}},{"$f":"#REF!+#REF!+#REF!+#REF!+#REF!+#REF!+#REF!+#REF!+#REF!+#REF!+#REF!+#REF!+#REF!+#REF!+#REF!+#REF!+#REF!+#REF!+#REF!+#REF!+#REF!+#REF!+#REF!+#REF!+#REF!+#REF!+#REF!+#REF!+#REF!+#REF!+#REF!+#REF!+#REF!","v":{"$error":"#REF!"}},{"$f":"#REF!+#REF!+#REF!+#REF!+#REF!+#REF!+#REF!+#REF!+#REF!+#REF!+#REF!+#REF!+#REF!+#REF!+#REF!+#REF!+#REF!+#REF!+#REF!+#REF!+#REF!+#REF!+#REF!+#REF!+#REF!+#REF!+#REF!+#REF!+#REF!+#REF!+#REF!+#REF!+#REF!","v":{"$error":"#REF!"}},{"$f":"#REF!+#REF!+#REF!+#REF!+#REF!+#REF!+#REF!+#REF!+#REF!+#REF!+#REF!+#REF!+#REF!+#REF!+#REF!+#REF!+#REF!+#REF!+#REF!+#REF!+#REF!+#REF!+#REF!+#REF!+#REF!+#REF!+#REF!+#REF!+#REF!+#REF!+#REF!+#REF!+#REF!","v":{"$error":"#REF!"}},{"$f":"#REF!+#REF!+#REF!+#REF!+#REF!+#REF!+#REF!+#REF!+#REF!+#REF!+#REF!+#REF!+#REF!+#REF!+#REF!+#REF!+#REF!+#REF!+#REF!+#REF!+#REF!+#REF!+#REF!+#REF!+#REF!+#REF!+#REF!+#REF!+#REF!+#REF!+#REF!+#REF!+#REF!","v":{"$error":"#REF!"}},{"$f":"#REF!+#REF!+#REF!+#REF!+#REF!+#REF!+#REF!+#REF!+#REF!+#REF!+#REF!+#REF!+#REF!+#REF!+#REF!+#REF!+#REF!+#REF!+#REF!+#REF!+#REF!+#REF!+#REF!+#REF!+#REF!+#REF!+#REF!+#REF!+#REF!+#REF!+#REF!+#REF!+#REF!","v":{"$error":"#REF!"}},{"$f":"'9_Per Pupil Summary'!N69","v":4424},{"$f":"#REF!+#REF!+#REF!+#REF!+#REF!+#REF!+#REF!+#REF!+#REF!+#REF!+#REF!+#REF!+#REF!+#REF!+#REF!+#REF!+#REF!+#REF!+#REF!+#REF!+#REF!+#REF!+#REF!+#REF!+#REF!+#REF!+#REF!+#REF!+#REF!+#REF!+#REF!+#REF!+#REF!","v":{"$error":"#REF!"}},{"$f":"#REF!+#REF!+#REF!+#REF!+#REF!+#REF!+#REF!+#REF!+#REF!+#REF!+#REF!+#REF!+#REF!+#REF!+#REF!+#REF!+#REF!+#REF!+#REF!+#REF!+#REF!+#REF!+#REF!+#REF!+#REF!+#REF!+#REF!+#REF!+#REF!+#REF!+#REF!+#REF!+#REF!","v":{"$error":"#REF!"}},{"$f":"#REF!+#REF!+#REF!+#REF!+#REF!+#REF!+#REF!+#REF!+#REF!+#REF!+#REF!+#REF!+#REF!+#REF!+#REF!+#REF!+#REF!+#REF!+#REF!+#REF!+#REF!+#REF!+#REF!+#REF!+#REF!+#REF!+#REF!+#REF!+#REF!+#REF!+#REF!+#REF!+#REF!","v":{"$error":"#REF!"}},{"$f":"#REF!+#REF!+#REF!+#REF!+#REF!+#REF!+#REF!+#REF!+#REF!+#REF!+#REF!+#REF!+#REF!+#REF!+#REF!+#REF!+#REF!+#REF!+#REF!+#REF!+#REF!+#REF!+#REF!+#REF!+#REF!+#REF!+#REF!+#REF!+#REF!+#REF!+#REF!+#REF!+#REF!","v":{"$error":"#REF!"}},{"$f":"#REF!+#REF!+#REF!+#REF!+#REF!+#REF!+#REF!+#REF!+#REF!+#REF!+#REF!+#REF!+#REF!+#REF!+#REF!+#REF!+#REF!+#REF!+#REF!+#REF!+#REF!+#REF!+#REF!+#REF!+#REF!+#REF!+#REF!+#REF!+#REF!+#REF!+#REF!+#REF!+#REF!","v":{"$error":"#REF!"}},{"$f":"#REF!+#REF!+#REF!+#REF!+#REF!+#REF!+#REF!+#REF!+#REF!+#REF!+#REF!+#REF!+#REF!+#REF!+#REF!+#REF!+#REF!+#REF!+#REF!+#REF!+#REF!+#REF!+#REF!+#REF!+#REF!+#REF!+#REF!+#REF!+#REF!+#REF!+#REF!+#REF!+#REF!","v":{"$error":"#REF!"}},{"$f":"#REF!+#REF!+#REF!+#REF!+#REF!+#REF!+#REF!+#REF!+#REF!+#REF!+#REF!+#REF!+#REF!+#REF!+#REF!+#REF!+#REF!+#REF!+#REF!+#REF!+#REF!+#REF!+#REF!+#REF!+#REF!+#REF!+#REF!+#REF!+#REF!+#REF!+#REF!+#REF!+#REF!","v":{"$error":"#REF!"}},{"$f":"#REF!+#REF!+#REF!+#REF!+#REF!+#REF!+#REF!+#REF!+#REF!+#REF!+#REF!+#REF!+#REF!+#REF!+#REF!+#REF!+#REF!+#REF!+#REF!+#REF!+#REF!+#REF!+#REF!+#REF!+#REF!+#REF!+#REF!+#REF!+#REF!+#REF!+#REF!+#REF!+#REF!","v":{"$error":"#REF!"}},{"$f":"#REF!+#REF!+#REF!+#REF!+#REF!+#REF!+#REF!+#REF!+#REF!+#REF!+#REF!+#REF!+#REF!+#REF!+#REF!+#REF!+#REF!+#REF!+#REF!+#REF!+#REF!+#REF!+#REF!+#REF!+#REF!+#REF!+#REF!+#REF!+#REF!+#REF!+#REF!+#REF!+#REF!","v":{"$error":"#REF!"}},{"$f":"#REF!+#REF!+#REF!+#REF!+#REF!+#REF!+#REF!+#REF!+#REF!+#REF!+#REF!+#REF!+#REF!+#REF!+#REF!+#REF!+#REF!+#REF!+#REF!+#REF!+#REF!+#REF!+#REF!+#REF!+#REF!+#REF!+#REF!+#REF!+#REF!+#REF!+#REF!+#REF!+#REF!","v":{"$error":"#REF!"}},{"$f":"#REF!+#REF!+#REF!+#REF!+#REF!+#REF!+#REF!+#REF!+#REF!+#REF!+#REF!+#REF!+#REF!+#REF!+#REF!+#REF!+#REF!+#REF!+#REF!+#REF!+#REF!+#REF!+#REF!+#REF!+#REF!+#REF!+#REF!+#REF!+#REF!+#REF!+#REF!+#REF!+#REF!","v":{"$error":"#REF!"}},{"$f":"#REF!+#REF!+#REF!+#REF!+#REF!+#REF!+#REF!+#REF!+#REF!+#REF!+#REF!+#REF!+#REF!+#REF!+#REF!+#REF!+#REF!+#REF!+#REF!+#REF!+#REF!+#REF!+#REF!+#REF!+#REF!+#REF!+#REF!+#REF!+#REF!+#REF!+#REF!+#REF!+#REF!","v":{"$error":"#REF!"}},{"$f":"#REF!+#REF!+#REF!+#REF!+#REF!+#REF!+#REF!+#REF!+#REF!+#REF!+#REF!+#REF!+#REF!+#REF!+#REF!+#REF!+#REF!+#REF!+#REF!+#REF!+#REF!+#REF!+#REF!+#REF!+#REF!+#REF!+#REF!+#REF!+#REF!+#REF!+#REF!+#REF!+#REF!","v":{"$error":"#REF!"}},{"$f":"#REF!+#REF!+#REF!+#REF!+#REF!+#REF!+#REF!+#REF!+#REF!+#REF!+#REF!+#REF!+#REF!+#REF!+#REF!+#REF!+#REF!+#REF!+#REF!+#REF!+#REF!+#REF!+#REF!+#REF!+#REF!+#REF!+#REF!+#REF!+#REF!+#REF!+#REF!+#REF!+#REF!","v":{"$error":"#REF!"}},{"$error":"#REF!"},{"$error":"#REF!"},{"$f":"#REF!+#REF!+#REF!+#REF!+#REF!+#REF!+#REF!+#REF!+#REF!+#REF!+#REF!+#REF!+#REF!+#REF!+#REF!+#REF!+#REF!+#REF!+#REF!+#REF!+#REF!+#REF!+#REF!+#REF!+#REF!+#REF!+#REF!+#REF!+#REF!+#REF!+#REF!+#REF!+#REF!","v":{"$error":"#REF!"}},null,{"$error":"#REF!"}]
[65,"City of Monroe",{"$f":"#REF!+#REF!+#REF!+#REF!+#REF!+#REF!+#REF!+#REF!+#REF!+#REF!+#REF!+#REF!+#REF!+#REF!+#REF!+#REF!+#REF!+#REF!+#REF!+#REF!+#REF!+#REF!+#REF!+#REF!+#REF!+#REF!+#REF!+#REF!+#REF!+#REF!+#REF!+#REF!+#REF!","v":{"$error":"#REF!"}},{"$f":"'9_Per Pupil Summary'!H70","v":4750.2599951350585},{"$f":"#REF!+#REF!+#REF!+#REF!+#REF!+#REF!+#REF!+#REF!+#REF!+#REF!+#REF!+#REF!+#REF!+#REF!+#REF!+#REF!+#REF!+#REF!+#REF!+#REF!+#REF!+#REF!+#REF!+#REF!+#REF!+#REF!+#REF!+#REF!+#REF!+#REF!+#REF!+#REF!+#REF!","v":{"$error":"#REF!"}},{"$f":"#REF!+#REF!+#REF!+#REF!+#REF!+#REF!+#REF!+#REF!+#REF!+#REF!+#REF!+#REF!+#REF!+#REF!+#REF!+#REF!+#REF!+#REF!+#REF!+#REF!+#REF!+#REF!+#REF!+#REF!+#REF!+#REF!+#REF!+#REF!+#REF!+#REF!+#REF!+#REF!+#REF!","v":{"$error":"#REF!"}},{"$f":"'9_Per Pupil Summary'!I70","v":611.75996075753403},{"$f":"#REF!+#REF!+#REF!+#REF!+#REF!+#REF!+#REF!+#REF!+#REF!+#REF!+#REF!+#REF!+#REF!+#REF!+#REF!+#REF!+#REF!+#REF!+#REF!+#REF!+#REF!+#REF!+#REF!+#REF!+#REF!+#REF!+#REF!+#REF!+#REF!+#REF!+#REF!+#REF!+#REF!","v":{"$error":"#REF!"}},{"$f":"#REF!+#REF!+#REF!+#REF!+#REF!+#REF!+#REF!+#REF!+#REF!+#REF!+#REF!+#REF!+#REF!+#REF!+#REF!+#REF!+#REF!+#REF!+#REF!+#REF!+#REF!+#REF!+#REF!+#REF!+#REF!+#REF!+#REF!+#REF!+#REF!+#REF!+#REF!+#REF!+#REF!","v":{"$error":"#REF!"}},{"$f":"'9_Per Pupil Summary'!J70","v":166.84362566114567},{"$f":"#REF!+#REF!+#REF!+#REF!+#REF!+#REF!+#REF!+#REF!+#REF!+#REF!+#REF!+#REF!+#REF!+#REF!+#REF!+#REF!+#REF!+#REF!+#REF!+#REF!+#REF!+#REF!+#REF!+#REF!+#REF!+#REF!+#REF!+#REF!+#REF!+#REF!+#REF!+#REF!+#REF!","v":{"$error":"#REF!"}},{"$f":"#REF!+#REF!+#REF!+#REF!+#REF!+#REF!+#REF!+#REF!+#REF!+#REF!+#REF!+#REF!+#REF!+#REF!+#REF!+#REF!+#REF!+#REF!+#REF!+#REF!+#REF!+#REF!+#REF!+#REF!+#REF!+#REF!+#REF!+#REF!+#REF!+#REF!+#REF!+#REF!+#REF!","v":{"$error":"#REF!"}},{"$f":"'9_Per Pupil Summary'!K70","v":4171.0906415286408},{"$f":"#REF!+#REF!+#REF!+#REF!+#REF!+#REF!+#REF!+#REF!+#REF!+#REF!+#REF!+#REF!+#REF!+#REF!+#REF!+#REF!+#REF!+#REF!+#REF!+#REF!+#REF!+#REF!+#REF!+#REF!+#REF!+#REF!+#REF!+#REF!+#REF!+#REF!+#REF!+#REF!+#REF!","v":{"$error":"#REF!"}},{"$f":"#REF!+#REF!+#REF!+#REF!+#REF!+#REF!+#REF!+#REF!+#REF!+#REF!+#REF!+#REF!+#REF!+#REF!+#REF!+#REF!+#REF!+#REF!+#REF!+#REF!+#REF!+#REF!+#REF!+#REF!+#REF!+#REF!+#REF!+#REF!+#REF!+#REF!+#REF!+#REF!+#REF!","v":{"$error":"#REF!"}},{"$f":"'9_Per Pupil Summary'!L70","v":1668.4362566114569},{"$f":"#REF!+#REF!+#REF!+#REF!+#REF!+#REF!+#REF!+#REF!+#REF!+#REF!+#REF!+#REF!+#REF!+#REF!+#REF!+#REF!+#REF!+#REF!+#REF!+#REF!+#REF!+#REF!+#REF!+#REF!+#REF!+#REF!+#REF!+#REF!+#REF!+#REF!+#REF!+#REF!+#REF!","v":{"$error":"#REF!"}},{"$f":"#REF!+#REF!+#REF!+#REF!+#REF!+#REF!+#REF!+#REF!+#REF!+#REF!+#REF!+#REF!+#REF!+#REF!+#REF!+#REF!+#REF!+#REF!+#REF!+#REF!+#REF!+#REF!+#REF!+#REF!+#REF!+#REF!+#REF!+#REF!+#REF!+#REF!+#REF!+#REF!+#REF!","v":{"$error":"#REF!"}},{"$f":"#REF!+#REF!","v":{"$error":"#REF!"}},{"$f":"#REF!+#REF!+#REF!+#REF!+#REF!+#REF!+#REF!+#REF!+#REF!+#REF!+#REF!+#REF!+#REF!+#REF!+#REF!+#REF!+#REF!+#REF!+#REF!+#REF!+#REF!+#REF!+#REF!+#REF!+#REF!+#REF!+#REF!+#REF!+#REF!+#REF!+#REF!+#REF!+#REF!","v":{"$error":"#REF!"}},{"$f":"#REF!+#REF!+#REF!+#REF!+#REF!+#REF!+#REF!+#REF!+#REF!+#REF!+#REF!+#REF!+#REF!+#REF!+#REF!+#REF!+#REF!+#REF!+#REF!+#REF!+#REF!+#REF!+#REF!+#REF!+#REF!+#REF!+#REF!+#REF!+#REF!+#REF!+#REF!+#REF!+#REF!","v":{"$error":"#REF!"}},{"$f":"#REF!+#REF!+#REF!+#REF!+#REF!+#REF!+#REF!+#REF!+#REF!+#REF!+#REF!+#REF!+#REF!+#REF!+#REF!+#REF!+#REF!+#REF!+#REF!+#REF!+#REF!+#REF!+#REF!+#REF!+#REF!+#REF!+#REF!+#REF!+#REF!+#REF!+#REF!+#REF!+#REF!","v":{"$error":"#REF!"}},{"$f":"#REF!+#REF!+#REF!+#REF!+#REF!+#REF!+#REF!+#REF!+#REF!+#REF!+#REF!+#REF!+#REF!+#REF!+#REF!+#REF!+#REF!+#REF!+#REF!+#REF!+#REF!+#REF!+#REF!+#REF!+#REF!+#REF!+#REF!+#REF!+#REF!+#REF!+#REF!+#REF!+#REF!","v":{"$error":"#REF!"}},{"$f":"#REF!+#REF!+#REF!+#REF!+#REF!+#REF!+#REF!+#REF!+#REF!+#REF!+#REF!+#REF!+#REF!+#REF!+#REF!+#REF!+#REF!+#REF!+#REF!+#REF!+#REF!+#REF!+#REF!+#REF!+#REF!+#REF!+#REF!+#REF!+#REF!+#REF!+#REF!+#REF!+#REF!","v":{"$error":"#REF!"}},{"$f":"#REF!+#REF!+#REF!+#REF!+#REF!+#REF!+#REF!+#REF!+#REF!+#REF!+#REF!+#REF!+#REF!+#REF!+#REF!+#REF!+#REF!+#REF!+#REF!+#REF!+#REF!+#REF!+#REF!+#REF!+#REF!+#REF!+#REF!+#REF!+#REF!+#REF!+#REF!+#REF!+#REF!","v":{"$error":"#REF!"}},{"$f":"#REF!+#REF!+#REF!+#REF!+#REF!+#REF!+#REF!+#REF!+#REF!+#REF!+#REF!+#REF!+#REF!+#REF!+#REF!+#REF!+#REF!+#REF!+#REF!+#REF!+#REF!+#REF!+#REF!+#REF!+#REF!+#REF!+#REF!+#REF!+#REF!+#REF!+#REF!+#REF!+#REF!","v":{"$error":"#REF!"}},{"$f":"#REF!+#REF!+#REF!+#REF!+#REF!+#REF!+#REF!+#REF!+#REF!+#REF!+#REF!+#REF!+#REF!+#REF!+#REF!+#REF!+#REF!+#REF!+#REF!+#REF!+#REF!+#REF!+#REF!+#REF!+#REF!+#REF!+#REF!+#REF!+#REF!+#REF!+#REF!+#REF!+#REF!","v":{"$error":"#REF!"}},{"$f":"#REF!+#REF!+#REF!+#REF!+#REF!+#REF!+#REF!+#REF!+#REF!+#REF!+#REF!+#REF!+#REF!+#REF!+#REF!+#REF!+#REF!+#REF!+#REF!+#REF!+#REF!+#REF!+#REF!+#REF!+#REF!+#REF!+#REF!+#REF!+#REF!+#REF!+#REF!+#REF!+#REF!","v":{"$error":"#REF!"}},{"$f":"#REF!+#REF!+#REF!+#REF!+#REF!+#REF!+#REF!+#REF!+#REF!+#REF!+#REF!+#REF!+#REF!+#REF!+#REF!+#REF!+#REF!+#REF!+#REF!+#REF!+#REF!+#REF!+#REF!+#REF!+#REF!+#REF!+#REF!+#REF!+#REF!+#REF!+#REF!+#REF!+#REF!","v":{"$error":"#REF!"}},{"$f":"#REF!+#REF!+#REF!+#REF!+#REF!+#REF!+#REF!+#REF!+#REF!+#REF!+#REF!+#REF!+#REF!+#REF!+#REF!+#REF!+#REF!+#REF!+#REF!+#REF!+#REF!+#REF!+#REF!+#REF!+#REF!+#REF!+#REF!+#REF!+#REF!+#REF!+#REF!+#REF!+#REF!","v":{"$error":"#REF!"}},{"$f":"#REF!+#REF!+#REF!+#REF!+#REF!+#REF!+#REF!+#REF!+#REF!+#REF!+#REF!+#REF!+#REF!+#REF!+#REF!+#REF!+#REF!+#REF!+#REF!+#REF!+#REF!+#REF!+#REF!+#REF!+#REF!+#REF!+#REF!+#REF!+#REF!+#REF!+#REF!+#REF!+#REF!","v":{"$error":"#REF!"}},{"$f":"'9_Per Pupil Summary'!N70","v":6188},{"$f":"#REF!+#REF!+#REF!+#REF!+#REF!+#REF!+#REF!+#REF!+#REF!+#REF!+#REF!+#REF!+#REF!+#REF!+#REF!+#REF!+#REF!+#REF!+#REF!+#REF!+#REF!+#REF!+#REF!+#REF!+#REF!+#REF!+#REF!+#REF!+#REF!+#REF!+#REF!+#REF!+#REF!","v":{"$error":"#REF!"}},{"$f":"#REF!+#REF!+#REF!+#REF!+#REF!+#REF!+#REF!+#REF!+#REF!+#REF!+#REF!+#REF!+#REF!+#REF!+#REF!+#REF!+#REF!+#REF!+#REF!+#REF!+#REF!+#REF!+#REF!+#REF!+#REF!+#REF!+#REF!+#REF!+#REF!+#REF!+#REF!+#REF!+#REF!","v":{"$error":"#REF!"}},{"$f":"#REF!+#REF!+#REF!+#REF!+#REF!+#REF!+#REF!+#REF!+#REF!+#REF!+#REF!+#REF!+#REF!+#REF!+#REF!+#REF!+#REF!+#REF!+#REF!+#REF!+#REF!+#REF!+#REF!+#REF!+#REF!+#REF!+#REF!+#REF!+#REF!+#REF!+#REF!+#REF!+#REF!","v":{"$error":"#REF!"}},{"$f":"#REF!+#REF!+#REF!+#REF!+#REF!+#REF!+#REF!+#REF!+#REF!+#REF!+#REF!+#REF!+#REF!+#REF!+#REF!+#REF!+#REF!+#REF!+#REF!+#REF!+#REF!+#REF!+#REF!+#REF!+#REF!+#REF!+#REF!+#REF!+#REF!+#REF!+#REF!+#REF!+#REF!","v":{"$error":"#REF!"}},{"$f":"#REF!+#REF!+#REF!+#REF!+#REF!+#REF!+#REF!+#REF!+#REF!+#REF!+#REF!+#REF!+#REF!+#REF!+#REF!+#REF!+#REF!+#REF!+#REF!+#REF!+#REF!+#REF!+#REF!+#REF!+#REF!+#REF!+#REF!+#REF!+#REF!+#REF!+#REF!+#REF!+#REF!","v":{"$error":"#REF!"}},{"$f":"#REF!+#REF!+#REF!+#REF!+#REF!+#REF!+#REF!+#REF!+#REF!+#REF!+#REF!+#REF!+#REF!+#REF!+#REF!+#REF!+#REF!+#REF!+#REF!+#REF!+#REF!+#REF!+#REF!+#REF!+#REF!+#REF!+#REF!+#REF!+#REF!+#REF!+#REF!+#REF!+#REF!","v":{"$error":"#REF!"}},{"$f":"#REF!+#REF!+#REF!+#REF!+#REF!+#REF!+#REF!+#REF!+#REF!+#REF!+#REF!+#REF!+#REF!+#REF!+#REF!+#REF!+#REF!+#REF!+#REF!+#REF!+#REF!+#REF!+#REF!+#REF!+#REF!+#REF!+#REF!+#REF!+#REF!+#REF!+#REF!+#REF!+#REF!","v":{"$error":"#REF!"}},{"$f":"#REF!+#REF!+#REF!+#REF!+#REF!+#REF!+#REF!+#REF!+#REF!+#REF!+#REF!+#REF!+#REF!+#REF!+#REF!+#REF!+#REF!+#REF!+#REF!+#REF!+#REF!+#REF!+#REF!+#REF!+#REF!+#REF!+#REF!+#REF!+#REF!+#REF!+#REF!+#REF!+#REF!","v":{"$error":"#REF!"}},{"$f":"#REF!+#REF!+#REF!+#REF!+#REF!+#REF!+#REF!+#REF!+#REF!+#REF!+#REF!+#REF!+#REF!+#REF!+#REF!+#REF!+#REF!+#REF!+#REF!+#REF!+#REF!+#REF!+#REF!+#REF!+#REF!+#REF!+#REF!+#REF!+#REF!+#REF!+#REF!+#REF!+#REF!","v":{"$error":"#REF!"}},{"$f":"#REF!+#REF!+#REF!+#REF!+#REF!+#REF!+#REF!+#REF!+#REF!+#REF!+#REF!+#REF!+#REF!+#REF!+#REF!+#REF!+#REF!+#REF!+#REF!+#REF!+#REF!+#REF!+#REF!+#REF!+#REF!+#REF!+#REF!+#REF!+#REF!+#REF!+#REF!+#REF!+#REF!","v":{"$error":"#REF!"}},{"$f":"#REF!+#REF!+#REF!+#REF!+#REF!+#REF!+#REF!+#REF!+#REF!+#REF!+#REF!+#REF!+#REF!+#REF!+#REF!+#REF!+#REF!+#REF!+#REF!+#REF!+#REF!+#REF!+#REF!+#REF!+#REF!+#REF!+#REF!+#REF!+#REF!+#REF!+#REF!+#REF!+#REF!","v":{"$error":"#REF!"}},{"$f":"#REF!+#REF!+#REF!+#REF!+#REF!+#REF!+#REF!+#REF!+#REF!+#REF!+#REF!+#REF!+#REF!+#REF!+#REF!+#REF!+#REF!+#REF!+#REF!+#REF!+#REF!+#REF!+#REF!+#REF!+#REF!+#REF!+#REF!+#REF!+#REF!+#REF!+#REF!+#REF!+#REF!","v":{"$error":"#REF!"}},{"$f":"#REF!+#REF!+#REF!+#REF!+#REF!+#REF!+#REF!+#REF!+#REF!+#REF!+#REF!+#REF!+#REF!+#REF!+#REF!+#REF!+#REF!+#REF!+#REF!+#REF!+#REF!+#REF!+#REF!+#REF!+#REF!+#REF!+#REF!+#REF!+#REF!+#REF!+#REF!+#REF!+#REF!","v":{"$error":"#REF!"}},{"$f":"#REF!+#REF!+#REF!+#REF!+#REF!+#REF!+#REF!+#REF!+#REF!+#REF!+#REF!+#REF!+#REF!+#REF!+#REF!+#REF!+#REF!+#REF!+#REF!+#REF!+#REF!+#REF!+#REF!+#REF!+#REF!+#REF!+#REF!+#REF!+#REF!+#REF!+#REF!+#REF!+#REF!","v":{"$error":"#REF!"}},{"$error":"#REF!"},{"$error":"#REF!"},{"$f":"#REF!+#REF!+#REF!+#REF!+#REF!+#REF!+#REF!+#REF!+#REF!+#REF!+#REF!+#REF!+#REF!+#REF!+#REF!+#REF!+#REF!+#REF!+#REF!+#REF!+#REF!+#REF!+#REF!+#REF!+#REF!+#REF!+#REF!+#REF!+#REF!+#REF!+#REF!+#REF!+#REF!","v":{"$error":"#REF!"}},null,{"$error":"#REF!"}]
[66,"City of Bogalusa",{"$f":"#REF!+#REF!+#REF!+#REF!+#REF!+#REF!+#REF!+#REF!+#REF!+#REF!+#REF!+#REF!+#REF!+#REF!+#REF!+#REF!+#REF!+#REF!+#REF!+#REF!+#REF!+#REF!+#REF!+#REF!+#REF!+#REF!+#REF!+#REF!+#REF!+#REF!+#REF!+#REF!+#REF!","v":{"$error":"#REF!"}},{"$f":"'9_Per Pupil Summary'!H71","v":4990.4938235916907},{"$f":"#REF!+#REF!+#REF!+#REF!+#REF!+#REF!+#REF!+#REF!+#REF!+#REF!+#REF!+#REF!+#REF!+#REF!+#REF!+#REF!+#REF!+#REF!+#REF!+#REF!+#REF!+#REF!+#REF!+#REF!+#REF!+#REF!+#REF!+#REF!+#REF!+#REF!+#REF!+#REF!+#REF!","v":{"$error":"#REF!"}},{"$f":"#REF!+#REF!+#REF!+#REF!+#REF!+#REF!+#REF!+#REF!+#REF!+#REF!+#REF!+#REF!+#REF!+#REF!+#REF!+#REF!+#REF!+#REF!+#REF!+#REF!+#REF!+#REF!+#REF!+#REF!+#REF!+#REF!+#REF!+#REF!+#REF!+#REF!+#REF!+#REF!+#REF!","v":{"$error":"#REF!"}},{"$f":"'9_Per Pupil Summary'!I71","v":633.60456399718976},{"$f":"#REF!+#REF!+#REF!+#REF!+#REF!+#REF!+#REF!+#REF!+#REF!+#REF!+#REF!+#REF!+#REF!+#REF!+#REF!+#REF!+#REF!+#REF!+#REF!+#REF!+#REF!+#REF!+#REF!+#REF!+#REF!+#REF!+#REF!+#REF!+#REF!+#REF!+#REF!+#REF!+#REF!","v":{"$error":"#REF!"}},{"$f":"#REF!+#REF!+#REF!+#REF!+#REF!+#REF!+#REF!+#REF!+#REF!+#REF!+#REF!+#REF!+#REF!+#REF!+#REF!+#REF!+#REF!+#REF!+#REF!+#REF!+#REF!+#REF!+#REF!+#REF!+#REF!+#REF!+#REF!+#REF!+#REF!+#REF!+#REF!+#REF!+#REF!","v":{"$error":"#REF!"}},{"$f":"'9_Per Pupil Summary'!J71","v":172.80124472650624},{"$f":"#REF!+#REF!+#REF!+#REF!+#REF!+#REF!+#REF!+#REF!+#REF!+#REF!+#REF!+#REF!+#REF!+#REF!+#REF!+#REF!+#REF!+#REF!+#REF!+#REF!+#REF!+#REF!+#REF!+#REF!+#REF!+#REF!+#REF!+#REF!+#REF!+#REF!+#REF!+#REF!+#REF!","v":{"$error":"#REF!"}},{"$f":"#REF!+#REF!+#REF!+#REF!+#REF!+#REF!+#REF!+#REF!+#REF!+#REF!+#REF!+#REF!+#REF!+#REF!+#REF!+#REF!+#REF!+#REF!+#REF!+#REF!+#REF!+#REF!+#REF!+#REF!+#REF!+#REF!+#REF!+#REF!+#REF!+#REF!+#REF!+#REF!+#REF!","v":{"$error":"#REF!"}},{"$f":"'9_Per Pupil Summary'!K71","v":4320.0311181626566},{"$f":"#REF!+#REF!+#REF!+#REF!+#REF!+#REF!+#REF!+#REF!+#REF!+#REF!+#REF!+#REF!+#REF!+#REF!+#REF!+#REF!+#REF!+#REF!+#REF!+#REF!+#REF!+#REF!+#REF!+#REF!+#REF!+#REF!+#REF!+#REF!+#REF!+#REF!+#REF!+#REF!+#REF!","v":{"$error":"#REF!"}},{"$f":"#REF!+#REF!+#REF!+#REF!+#REF!+#REF!+#REF!+#REF!+#REF!+#REF!+#REF!+#REF!+#REF!+#REF!+#REF!+#REF!+#REF!+#REF!+#REF!+#REF!+#REF!+#REF!+#REF!+#REF!+#REF!+#REF!+#REF!+#REF!+#REF!+#REF!+#REF!+#REF!+#REF!","v":{"$error":"#REF!"}},{"$f":"'9_Per Pupil Summary'!L71","v":1728.0124472650625},{"$f":"#REF!+#REF!+#REF!+#REF!+#REF!+#REF!+#REF!+#REF!+#REF!+#REF!+#REF!+#REF!+#REF!+#REF!+#REF!+#REF!+#REF!+#REF!+#REF!+#REF!+#REF!+#REF!+#REF!+#REF!+#REF!+#REF!+#REF!+#REF!+#REF!+#REF!+#REF!+#REF!+#REF!","v":{"$error":"#REF!"}},{"$f":"#REF!+#REF!+#REF!+#REF!+#REF!+#REF!+#REF!+#REF!+#REF!+#REF!+#REF!+#REF!+#REF!+#REF!+#REF!+#REF!+#REF!+#REF!+#REF!+#REF!+#REF!+#REF!+#REF!+#REF!+#REF!+#REF!+#REF!+#REF!+#REF!+#REF!+#REF!+#REF!+#REF!","v":{"$error":"#REF!"}},{"$f":"#REF!+#REF!","v":{"$error":"#REF!"}},{"$f":"#REF!+#REF!+#REF!+#REF!+#REF!+#REF!+#REF!+#REF!+#REF!+#REF!+#REF!+#REF!+#REF!+#REF!+#REF!+#REF!+#REF!+#REF!+#REF!+#REF!+#REF!+#REF!+#REF!+#REF!+#REF!+#REF!+#REF!+#REF!+#REF!+#REF!+#REF!+#REF!+#REF!","v":{"$error":"#REF!"}},{"$f":"#REF!+#REF!+#REF!+#REF!+#REF!+#REF!+#REF!+#REF!+#REF!+#REF!+#REF!+#REF!+#REF!+#REF!+#REF!+#REF!+#REF!+#REF!+#REF!+#REF!+#REF!+#REF!+#REF!+#REF!+#REF!+#REF!+#REF!+#REF!+#REF!+#REF!+#REF!+#REF!+#REF!","v":{"$error":"#REF!"}},{"$f":"#REF!+#REF!+#REF!+#REF!+#REF!+#REF!+#REF!+#REF!+#REF!+#REF!+#REF!+#REF!+#REF!+#REF!+#REF!+#REF!+#REF!+#REF!+#REF!+#REF!+#REF!+#REF!+#REF!+#REF!+#REF!+#REF!+#REF!+#REF!+#REF!+#REF!+#REF!+#REF!+#REF!","v":{"$error":"#REF!"}},{"$f":"#REF!+#REF!+#REF!+#REF!+#REF!+#REF!+#REF!+#REF!+#REF!+#REF!+#REF!+#REF!+#REF!+#REF!+#REF!+#REF!+#REF!+#REF!+#REF!+#REF!+#REF!+#REF!+#REF!+#REF!+#REF!+#REF!+#REF!+#REF!+#REF!+#REF!+#REF!+#REF!+#REF!","v":{"$error":"#REF!"}},{"$f":"#REF!+#REF!+#REF!+#REF!+#REF!+#REF!+#REF!+#REF!+#REF!+#REF!+#REF!+#REF!+#REF!+#REF!+#REF!+#REF!+#REF!+#REF!+#REF!+#REF!+#REF!+#REF!+#REF!+#REF!+#REF!+#REF!+#REF!+#REF!+#REF!+#REF!+#REF!+#REF!+#REF!","v":{"$error":"#REF!"}},{"$f":"#REF!+#REF!+#REF!+#REF!+#REF!+#REF!+#REF!+#REF!+#REF!+#REF!+#REF!+#REF!+#REF!+#REF!+#REF!+#REF!+#REF!+#REF!+#REF!+#REF!+#REF!+#REF!+#REF!+#REF!+#REF!+#REF!+#REF!+#REF!+#REF!+#REF!+#REF!+#REF!+#REF!","v":{"$error":"#REF!"}},{"$f":"#REF!+#REF!+#REF!+#REF!+#REF!+#REF!+#REF!+#REF!+#REF!+#REF!+#REF!+#REF!+#REF!+#REF!+#REF!+#REF!+#REF!+#REF!+#REF!+#REF!+#REF!+#REF!+#REF!+#REF!+#REF!+#REF!+#REF!+#REF!+#REF!+#REF!+#REF!+#REF!+#REF!","v":{"$error":"#REF!"}},{"$f":"#REF!+#REF!+#REF!+#REF!+#REF!+#REF!+#REF!+#REF!+#REF!+#REF!+#REF!+#REF!+#REF!+#REF!+#REF!+#REF!+#REF!+#REF!+#REF!+#REF!+#REF!+#REF!+#REF!+#REF!+#REF!+#REF!+#REF!+#REF!+#REF!+#REF!+#REF!+#REF!+#REF!","v":{"$error":"#REF!"}},{"$f":"#REF!+#REF!+#REF!+#REF!+#REF!+#REF!+#REF!+#REF!+#REF!+#REF!+#REF!+#REF!+#REF!+#REF!+#REF!+#REF!+#REF!+#REF!+#REF!+#REF!+#REF!+#REF!+#REF!+#REF!+#REF!+#REF!+#REF!+#REF!+#REF!+#REF!+#REF!+#REF!+#REF!","v":{"$error":"#REF!"}},{"$f":"#REF!+#REF!+#REF!+#REF!+#REF!+#REF!+#REF!+#REF!+#REF!+#REF!+#REF!+#REF!+#REF!+#REF!+#REF!+#REF!+#REF!+#REF!+#REF!+#REF!+#REF!+#REF!+#REF!+#REF!+#REF!+#REF!+#REF!+#REF!+#REF!+#REF!+#REF!+#REF!+#REF!","v":{"$error":"#REF!"}},{"$f":"#REF!+#REF!+#REF!+#REF!+#REF!+#REF!+#REF!+#REF!+#REF!+#REF!+#REF!+#REF!+#REF!+#REF!+#REF!+#REF!+#REF!+#REF!+#REF!+#REF!+#REF!+#REF!+#REF!+#REF!+#REF!+#REF!+#REF!+#REF!+#REF!+#REF!+#REF!+#REF!+#REF!","v":{"$error":"#REF!"}},{"$f":"#REF!+#REF!+#REF!+#REF!+#REF!+#REF!+#REF!+#REF!+#REF!+#REF!+#REF!+#REF!+#REF!+#REF!+#REF!+#REF!+#REF!+#REF!+#REF!+#REF!+#REF!+#REF!+#REF!+#REF!+#REF!+#REF!+#REF!+#REF!+#REF!+#REF!+#REF!+#REF!+#REF!","v":{"$error":"#REF!"}},{"$f":"'9_Per Pupil Summary'!N71","v":5628},{"$f":"#REF!+#REF!+#REF!+#REF!+#REF!+#REF!+#REF!+#REF!+#REF!+#REF!+#REF!+#REF!+#REF!+#REF!+#REF!+#REF!+#REF!+#REF!+#REF!+#REF!+#REF!+#REF!+#REF!+#REF!+#REF!+#REF!+#REF!+#REF!+#REF!+#REF!+#REF!+#REF!+#REF!","v":{"$error":"#REF!"}},{"$f":"#REF!+#REF!+#REF!+#REF!+#REF!+#REF!+#REF!+#REF!+#REF!+#REF!+#REF!+#REF!+#REF!+#REF!+#REF!+#REF!+#REF!+#REF!+#REF!+#REF!+#REF!+#REF!+#REF!+#REF!+#REF!+#REF!+#REF!+#REF!+#REF!+#REF!+#REF!+#REF!+#REF!","v":{"$error":"#REF!"}},{"$f":"#REF!+#REF!+#REF!+#REF!+#REF!+#REF!+#REF!+#REF!+#REF!+#REF!+#REF!+#REF!+#REF!+#REF!+#REF!+#REF!+#REF!+#REF!+#REF!+#REF!+#REF!+#REF!+#REF!+#REF!+#REF!+#REF!+#REF!+#REF!+#REF!+#REF!+#REF!+#REF!+#REF!","v":{"$error":"#REF!"}},{"$f":"#REF!+#REF!+#REF!+#REF!+#REF!+#REF!+#REF!+#REF!+#REF!+#REF!+#REF!+#REF!+#REF!+#REF!+#REF!+#REF!+#REF!+#REF!+#REF!+#REF!+#REF!+#REF!+#REF!+#REF!+#REF!+#REF!+#REF!+#REF!+#REF!+#REF!+#REF!+#REF!+#REF!","v":{"$error":"#REF!"}},{"$f":"#REF!+#REF!+#REF!+#REF!+#REF!+#REF!+#REF!+#REF!+#REF!+#REF!+#REF!+#REF!+#REF!+#REF!+#REF!+#REF!+#REF!+#REF!+#REF!+#REF!+#REF!+#REF!+#REF!+#REF!+#REF!+#REF!+#REF!+#REF!+#REF!+#REF!+#REF!+#REF!+#REF!","v":{"$error":"#REF!"}},{"$f":"#REF!+#REF!+#REF!+#REF!+#REF!+#REF!+#REF!+#REF!+#REF!+#REF!+#REF!+#REF!+#REF!+#REF!+#REF!+#REF!+#REF!+#REF!+#REF!+#REF!+#REF!+#REF!+#REF!+#REF!+#REF!+#REF!+#REF!+#REF!+#REF!+#REF!+#REF!+#REF!+#REF!","v":{"$error":"#REF!"}},{"$f":"#REF!+#REF!+#REF!+#REF!+#REF!+#REF!+#REF!+#REF!+#REF!+#REF!+#REF!+#REF!+#REF!+#REF!+#REF!+#REF!+#REF!+#REF!+#REF!+#REF!+#REF!+#REF!+#REF!+#REF!+#REF!+#REF!+#REF!+#REF!+#REF!+#REF!+#REF!+#REF!+#REF!","v":{"$error":"#REF!"}},{"$f":"#REF!+#REF!+#REF!+#REF!+#REF!+#REF!+#REF!+#REF!+#REF!+#REF!+#REF!+#REF!+#REF!+#REF!+#REF!+#REF!+#REF!+#REF!+#REF!+#REF!+#REF!+#REF!+#REF!+#REF!+#REF!+#REF!+#REF!+#REF!+#REF!+#REF!+#REF!+#REF!+#REF!","v":{"$error":"#REF!"}},{"$f":"#REF!+#REF!+#REF!+#REF!+#REF!+#REF!+#REF!+#REF!+#REF!+#REF!+#REF!+#REF!+#REF!+#REF!+#REF!+#REF!+#REF!+#REF!+#REF!+#REF!+#REF!+#REF!+#REF!+#REF!+#REF!+#REF!+#REF!+#REF!+#REF!+#REF!+#REF!+#REF!+#REF!","v":{"$error":"#REF!"}},{"$f":"#REF!+#REF!+#REF!+#REF!+#REF!+#REF!+#REF!+#REF!+#REF!+#REF!+#REF!+#REF!+#REF!+#REF!+#REF!+#REF!+#REF!+#REF!+#REF!+#REF!+#REF!+#REF!+#REF!+#REF!+#REF!+#REF!+#REF!+#REF!+#REF!+#REF!+#REF!+#REF!+#REF!","v":{"$error":"#REF!"}},{"$f":"#REF!+#REF!+#REF!+#REF!+#REF!+#REF!+#REF!+#REF!+#REF!+#REF!+#REF!+#REF!+#REF!+#REF!+#REF!+#REF!+#REF!+#REF!+#REF!+#REF!+#REF!+#REF!+#REF!+#REF!+#REF!+#REF!+#REF!+#REF!+#REF!+#REF!+#REF!+#REF!+#REF!","v":{"$error":"#REF!"}},{"$f":"#REF!+#REF!+#REF!+#REF!+#REF!+#REF!+#REF!+#REF!+#REF!+#REF!+#REF!+#REF!+#REF!+#REF!+#REF!+#REF!+#REF!+#REF!+#REF!+#REF!+#REF!+#REF!+#REF!+#REF!+#REF!+#REF!+#REF!+#REF!+#REF!+#REF!+#REF!+#REF!+#REF!","v":{"$error":"#REF!"}},{"$f":"#REF!+#REF!+#REF!+#REF!+#REF!+#REF!+#REF!+#REF!+#REF!+#REF!+#REF!+#REF!+#REF!+#REF!+#REF!+#REF!+#REF!+#REF!+#REF!+#REF!+#REF!+#REF!+#REF!+#REF!+#REF!+#REF!+#REF!+#REF!+#REF!+#REF!+#REF!+#REF!+#REF!","v":{"$error":"#REF!"}},{"$f":"#REF!+#REF!+#REF!+#REF!+#REF!+#REF!+#REF!+#REF!+#REF!+#REF!+#REF!+#REF!+#REF!+#REF!+#REF!+#REF!+#REF!+#REF!+#REF!+#REF!+#REF!+#REF!+#REF!+#REF!+#REF!+#REF!+#REF!+#REF!+#REF!+#REF!+#REF!+#REF!+#REF!","v":{"$error":"#REF!"}},{"$f":"AA72+AQ72","v":{"$error":"#REF!"}},{"$f":"AD72+AT72","v":{"$error":"#REF!"}},{"$f":"#REF!+#REF!+#REF!+#REF!+#REF!+#REF!+#REF!+#REF!+#REF!+#REF!+#REF!+#REF!+#REF!+#REF!+#REF!+#REF!+#REF!+#REF!+#REF!+#REF!+#REF!+#REF!+#REF!+#REF!+#REF!+#REF!+#REF!+#REF!+#REF!+#REF!+#REF!+#REF!+#REF!","v":{"$error":"#REF!"}},null,{"$f":"AW72-AX72","v":{"$error":"#REF!"}}]
[67,"Zachary Community",{"$f":"#REF!+#REF!+#REF!+#REF!+#REF!+#REF!+#REF!+#REF!+#REF!+#REF!+#REF!+#REF!+#REF!+#REF!+#REF!+#REF!+#REF!+#REF!+#REF!+#REF!+#REF!+#REF!+#REF!+#REF!+#REF!+#REF!+#REF!+#REF!+#REF!+#REF!+#REF!+#REF!+#REF!","v":{"$error":"#REF!"}},{"$f":"'9_Per Pupil Summary'!H72","v":5203.3944974620044},{"$f":"#REF!+#REF!+#REF!+#REF!+#REF!+#REF!+#REF!+#REF!+#REF!+#REF!+#REF!+#REF!+#REF!+#REF!+#REF!+#REF!+#REF!+#REF!+#REF!+#REF!+#REF!+#REF!+#REF!+#REF!+#REF!+#REF!+#REF!+#REF!+#REF!+#REF!+#REF!+#REF!+#REF!","v":{"$error":"#REF!"}},{"$f":"#REF!+#REF!+#REF!+#REF!+#REF!+#REF!+#REF!+#REF!+#REF!+#REF!+#REF!+#REF!+#REF!+#REF!+#REF!+#REF!+#REF!+#REF!+#REF!+#REF!+#REF!+#REF!+#REF!+#REF!+#REF!+#REF!+#REF!+#REF!+#REF!+#REF!+#REF!+#REF!+#REF!","v":{"$error":"#REF!"}},{"$f":"'9_Per Pupil Summary'!I72","v":684.94177804211301},{"$f":"#REF!+#REF!+#REF!+#REF!+#REF!+#REF!+#REF!+#REF!+#REF!+#REF!+#REF!+#REF!+#REF!+#REF!+#REF!+#REF!+#REF!+#REF!+#REF!+#REF!+#REF!+#REF!+#REF!+#REF!+#REF!+#REF!+#REF!+#REF!+#REF!+#REF!+#REF!+#REF!+#REF!","v":{"$error":"#REF!"}},{"$f":"#REF!+#REF!+#REF!+#REF!+#REF!+#REF!+#REF!+#REF!+#REF!+#REF!+#REF!+#REF!+#REF!+#REF!+#REF!+#REF!+#REF!+#REF!+#REF!+#REF!+#REF!+#REF!+#REF!+#REF!+#REF!+#REF!+#REF!+#REF!+#REF!+#REF!+#REF!+#REF!+#REF!","v":{"$error":"#REF!"}},{"$f":"'9_Per Pupil Summary'!J72","v":186.80230310239443},{"$f":"#REF!+#REF!+#REF!+#REF!+#REF!+#REF!+#REF!+#REF!+#REF!+#REF!+#REF!+#REF!+#REF!+#REF!+#REF!+#REF!+#REF!+#REF!+#REF!+#REF!+#REF!+#REF!+#REF!+#REF!+#REF!+#REF!+#REF!+#REF!+#REF!+#REF!+#REF!+#REF!+#REF!","v":{"$error":"#REF!"}},{"$f":"#REF!+#REF!+#REF!+#REF!+#REF!+#REF!+#REF!+#REF!+#REF!+#REF!+#REF!+#REF!+#REF!+#REF!+#REF!+#REF!+#REF!+#REF!+#REF!+#REF!+#REF!+#REF!+#REF!+#REF!+#REF!+#REF!+#REF!+#REF!+#REF!+#REF!+#REF!+#REF!+#REF!","v":{"$error":"#REF!"}},{"$f":"'9_Per Pupil Summary'!K72","v":4670.0575775598609},{"$f":"#REF!+#REF!+#REF!+#REF!+#REF!+#REF!+#REF!+#REF!+#REF!+#REF!+#REF!+#REF!+#REF!+#REF!+#REF!+#REF!+#REF!+#REF!+#REF!+#REF!+#REF!+#REF!+#REF!+#REF!+#REF!+#REF!+#REF!+#REF!+#REF!+#REF!+#REF!+#REF!+#REF!","v":{"$error":"#REF!"}},{"$f":"#REF!+#REF!+#REF!+#REF!+#REF!+#REF!+#REF!+#REF!+#REF!+#REF!+#REF!+#REF!+#REF!+#REF!+#REF!+#REF!+#REF!+#REF!+#REF!+#REF!+#REF!+#REF!+#REF!+#REF!+#REF!+#REF!+#REF!+#REF!+#REF!+#REF!+#REF!+#REF!+#REF!","v":{"$error":"#REF!"}},{"$f":"'9_Per Pupil Summary'!L72","v":1868.0230310239444},{"$f":"#REF!+#REF!+#REF!+#REF!+#REF!+#REF!+#REF!+#REF!+#REF!+#REF!+#REF!+#REF!+#REF!+#REF!+#REF!+#REF!+#REF!+#REF!+#REF!+#REF!+#REF!+#REF!+#REF!+#REF!+#REF!+#REF!+#REF!+#REF!+#REF!+#REF!+#REF!+#REF!+#REF!","v":{"$error":"#REF!"}},{"$f":"#REF!+#REF!+#REF!+#REF!+#REF!+#REF!+#REF!+#REF!+#REF!+#REF!+#REF!+#REF!+#REF!+#REF!+#REF!+#REF!+#REF!+#REF!+#REF!+#REF!+#REF!+#REF!+#REF!+#REF!+#REF!+#REF!+#REF!+#REF!+#REF!+#REF!+#REF!+#REF!+#REF!","v":{"$error":"#REF!"}},{"$f":"#REF!+#REF!","v":{"$error":"#REF!"}},{"$f":"#REF!+#REF!+#REF!+#REF!+#REF!+#REF!+#REF!+#REF!+#REF!+#REF!+#REF!+#REF!+#REF!+#REF!+#REF!+#REF!+#REF!+#REF!+#REF!+#REF!+#REF!+#REF!+#REF!+#REF!+#REF!+#REF!+#REF!+#REF!+#REF!+#REF!+#REF!+#REF!+#REF!","v":{"$error":"#REF!"}},{"$f":"#REF!+#REF!+#REF!+#REF!+#REF!+#REF!+#REF!+#REF!+#REF!+#REF!+#REF!+#REF!+#REF!+#REF!+#REF!+#REF!+#REF!+#REF!+#REF!+#REF!+#REF!+#REF!+#REF!+#REF!+#REF!+#REF!+#REF!+#REF!+#REF!+#REF!+#REF!+#REF!+#REF!","v":{"$error":"#REF!"}},{"$f":"#REF!+#REF!+#REF!+#REF!+#REF!+#REF!+#REF!+#REF!+#REF!+#REF!+#REF!+#REF!+#REF!+#REF!+#REF!+#REF!+#REF!+#REF!+#REF!+#REF!+#REF!+#REF!+#REF!+#REF!+#REF!+#REF!+#REF!+#REF!+#REF!+#REF!+#REF!+#REF!+#REF!","v":{"$error":"#REF!"}},{"$f":"#REF!+#REF!+#REF!+#REF!+#REF!+#REF!+#REF!+#REF!+#REF!+#REF!+#REF!+#REF!+#REF!+#REF!+#REF!+#REF!+#REF!+#REF!+#REF!+#REF!+#REF!+#REF!+#REF!+#REF!+#REF!+#REF!+#REF!+#REF!+#REF!+#REF!+#REF!+#REF!+#REF!","v":{"$error":"#REF!"}},{"$f":"#REF!+#REF!+#REF!+#REF!+#REF!+#REF!+#REF!+#REF!+#REF!+#REF!+#REF!+#REF!+#REF!+#REF!+#REF!+#REF!+#REF!+#REF!+#REF!+#REF!+#REF!+#REF!+#REF!+#REF!+#REF!+#REF!+#REF!+#REF!+#REF!+#REF!+#REF!+#REF!+#REF!","v":{"$error":"#REF!"}},{"$f":"#REF!+#REF!+#REF!+#REF!+#REF!+#REF!+#REF!+#REF!+#REF!+#REF!+#REF!+#REF!+#REF!+#REF!+#REF!+#REF!+#REF!+#REF!+#REF!+#REF!+#REF!+#REF!+#REF!+#REF!+#REF!+#REF!+#REF!+#REF!+#REF!+#REF!+#REF!+#REF!+#REF!","v":{"$error":"#REF!"}},{"$f":"#REF!+#REF!+#REF!+#REF!+#REF!+#REF!+#REF!+#REF!+#REF!+#REF!+#REF!+#REF!+#REF!+#REF!+#REF!+#REF!+#REF!+#REF!+#REF!+#REF!+#REF!+#REF!+#REF!+#REF!+#REF!+#REF!+#REF!+#REF!+#REF!+#REF!+#REF!+#REF!+#REF!","v":{"$error":"#REF!"}},{"$f":"#REF!+#REF!+#REF!+#REF!+#REF!+#REF!+#REF!+#REF!+#REF!+#REF!+#REF!+#REF!+#REF!+#REF!+#REF!+#REF!+#REF!+#REF!+#REF!+#REF!+#REF!+#REF!+#REF!+#REF!+#REF!+#REF!+#REF!+#REF!+#REF!+#REF!+#REF!+#REF!+#REF!","v":{"$error":"#REF!"}},{"$f":"#REF!+#REF!+#REF!+#REF!+#REF!+#REF!+#REF!+#REF!+#REF!+#REF!+#REF!+#REF!+#REF!+#REF!+#REF!+#REF!+#REF!+#REF!+#REF!+#REF!+#REF!+#REF!+#REF!+#REF!+#REF!+#REF!+#REF!+#REF!+#REF!+#REF!+#REF!+#REF!+#REF!","v":{"$error":"#REF!"}},{"$f":"#REF!+#REF!+#REF!+#REF!+#REF!+#REF!+#REF!+#REF!+#REF!+#REF!+#REF!+#REF!+#REF!+#REF!+#REF!+#REF!+#REF!+#REF!+#REF!+#REF!+#REF!+#REF!+#REF!+#REF!+#REF!+#REF!+#REF!+#REF!+#REF!+#REF!+#REF!+#REF!+#REF!","v":{"$error":"#REF!"}},{"$f":"#REF!+#REF!+#REF!+#REF!+#REF!+#REF!+#REF!+#REF!+#REF!+#REF!+#REF!+#REF!+#REF!+#REF!+#REF!+#REF!+#REF!+#REF!+#REF!+#REF!+#REF!+#REF!+#REF!+#REF!+#REF!+#REF!+#REF!+#REF!+#REF!+#REF!+#REF!+#REF!+#REF!","v":{"$error":"#REF!"}},{"$f":"#REF!+#REF!+#REF!+#REF!+#REF!+#REF!+#REF!+#REF!+#REF!+#REF!+#REF!+#REF!+#REF!+#REF!+#REF!+#REF!+#REF!+#REF!+#REF!+#REF!+#REF!+#REF!+#REF!+#REF!+#REF!+#REF!+#REF!+#REF!+#REF!+#REF!+#REF!+#REF!+#REF!","v":{"$error":"#REF!"}},{"$f":"'9_Per Pupil Summary'!N72","v":6046},{"$f":"#REF!+#REF!+#REF!+#REF!+#REF!+#REF!+#REF!+#REF!+#REF!+#REF!+#REF!+#REF!+#REF!+#REF!+#REF!+#REF!+#REF!+#REF!+#REF!+#REF!+#REF!+#REF!+#REF!+#REF!+#REF!+#REF!+#REF!+#REF!+#REF!+#REF!+#REF!+#REF!+#REF!","v":{"$error":"#REF!"}},{"$f":"#REF!+#REF!+#REF!+#REF!+#REF!+#REF!+#REF!+#REF!+#REF!+#REF!+#REF!+#REF!+#REF!+#REF!+#REF!+#REF!+#REF!+#REF!+#REF!+#REF!+#REF!+#REF!+#REF!+#REF!+#REF!+#REF!+#REF!+#REF!+#REF!+#REF!+#REF!+#REF!+#REF!","v":{"$error":"#REF!"}},{"$f":"#REF!+#REF!+#REF!+#REF!+#REF!+#REF!+#REF!+#REF!+#REF!+#REF!+#REF!+#REF!+#REF!+#REF!+#REF!+#REF!+#REF!+#REF!+#REF!+#REF!+#REF!+#REF!+#REF!+#REF!+#REF!+#REF!+#REF!+#REF!+#REF!+#REF!+#REF!+#REF!+#REF!","v":{"$error":"#REF!"}},{"$f":"#REF!+#REF!+#REF!+#REF!+#REF!+#REF!+#REF!+#REF!+#REF!+#REF!+#REF!+#REF!+#REF!+#REF!+#REF!+#REF!+#REF!+#REF!+#REF!+#REF!+#REF!+#REF!+#REF!+#REF!+#REF!+#REF!+#REF!+#REF!+#REF!+#REF!+#REF!+#REF!+#REF!","v":{"$error":"#REF!"}},{"$f":"#REF!+#REF!+#REF!+#REF!+#REF!+#REF!+#REF!+#REF!+#REF!+#REF!+#REF!+#REF!+#REF!+#REF!+#REF!+#REF!+#REF!+#REF!+#REF!+#REF!+#REF!+#REF!+#REF!+#REF!+#REF!+#REF!+#REF!+#REF!+#REF!+#REF!+#REF!+#REF!+#REF!","v":{"$error":"#REF!"}},{"$f":"#REF!+#REF!+#REF!+#REF!+#REF!+#REF!+#REF!+#REF!+#REF!+#REF!+#REF!+#REF!+#REF!+#REF!+#REF!+#REF!+#REF!+#REF!+#REF!+#REF!+#REF!+#REF!+#REF!+#REF!+#REF!+#REF!+#REF!+#REF!+#REF!+#REF!+#REF!+#REF!+#REF!","v":{"$error":"#REF!"}},{"$f":"#REF!+#REF!+#REF!+#REF!+#REF!+#REF!+#REF!+#REF!+#REF!+#REF!+#REF!+#REF!+#REF!+#REF!+#REF!+#REF!+#REF!+#REF!+#REF!+#REF!+#REF!+#REF!+#REF!+#REF!+#REF!+#REF!+#REF!+#REF!+#REF!+#REF!+#REF!+#REF!+#REF!","v":{"$error":"#REF!"}},{"$f":"#REF!+#REF!+#REF!+#REF!+#REF!+#REF!+#REF!+#REF!+#REF!+#REF!+#REF!+#REF!+#REF!+#REF!+#REF!+#REF!+#REF!+#REF!+#REF!+#REF!+#REF!+#REF!+#REF!+#REF!+#REF!+#REF!+#REF!+#REF!+#REF!+#REF!+#REF!+#REF!+#REF!","v":{"$error":"#REF!"}},{"$f":"#REF!+#REF!+#REF!+#REF!+#REF!+#REF!+#REF!+#REF!+#REF!+#REF!+#REF!+#REF!+#REF!+#REF!+#REF!+#REF!+#REF!+#REF!+#REF!+#REF!+#REF!+#REF!+#REF!+#REF!+#REF!+#REF!+#REF!+#REF!+#REF!+#REF!+#REF!+#REF!+#REF!","v":{"$error":"#REF!"}},{"$f":"#REF!+#REF!+#REF!+#REF!+#REF!+#REF!+#REF!+#REF!+#REF!+#REF!+#REF!+#REF!+#REF!+#REF!+#REF!+#REF!+#REF!+#REF!+#REF!+#REF!+#REF!+#REF!+#REF!+#REF!+#REF!+#REF!+#REF!+#REF!+#REF!+#REF!+#REF!+#REF!+#REF!","v":{"$error":"#REF!"}},{"$f":"#REF!+#REF!+#REF!+#REF!+#REF!+#REF!+#REF!+#REF!+#REF!+#REF!+#REF!+#REF!+#REF!+#REF!+#REF!+#REF!+#REF!+#REF!+#REF!+#REF!+#REF!+#REF!+#REF!+#REF!+#REF!+#REF!+#REF!+#REF!+#REF!+#REF!+#REF!+#REF!+#REF!","v":{"$error":"#REF!"}},{"$f":"#REF!+#REF!+#REF!+#REF!+#REF!+#REF!+#REF!+#REF!+#REF!+#REF!+#REF!+#REF!+#REF!+#REF!+#REF!+#REF!+#REF!+#REF!+#REF!+#REF!+#REF!+#REF!+#REF!+#REF!+#REF!+#REF!+#REF!+#REF!+#REF!+#REF!+#REF!+#REF!+#REF!","v":{"$error":"#REF!"}},{"$f":"#REF!+#REF!+#REF!+#REF!+#REF!+#REF!+#REF!+#REF!+#REF!+#REF!+#REF!+#REF!+#REF!+#REF!+#REF!+#REF!+#REF!+#REF!+#REF!+#REF!+#REF!+#REF!+#REF!+#REF!+#REF!+#REF!+#REF!+#REF!+#REF!+#REF!+#REF!+#REF!+#REF!","v":{"$error":"#REF!"}},{"$f":"#REF!+#REF!+#REF!+#REF!+#REF!+#REF!+#REF!+#REF!+#REF!+#REF!+#REF!+#REF!+#REF!+#REF!+#REF!+#REF!+#REF!+#REF!+#REF!+#REF!+#REF!+#REF!+#REF!+#REF!+#REF!+#REF!+#REF!+#REF!+#REF!+#REF!+#REF!+#REF!+#REF!","v":{"$error":"#REF!"}},{"$f":"AA73+AQ73","v":{"$error":"#REF!"}},{"$f":"AD73+AT73","v":{"$error":"#REF!"}},{"$f":"#REF!+#REF!+#REF!+#REF!+#REF!+#REF!+#REF!+#REF!+#REF!+#REF!+#REF!+#REF!+#REF!+#REF!+#REF!+#REF!+#REF!+#REF!+#REF!+#REF!+#REF!+#REF!+#REF!+#REF!+#REF!+#REF!+#REF!+#REF!+#REF!+#REF!+#REF!+#REF!+#REF!","v":{"$error":"#REF!"}},null,{"$error":"#REF!"}]
[68,"City of Baker",{"$f":"#REF!+#REF!+#REF!+#REF!+#REF!+#REF!+#REF!+#REF!+#REF!+#REF!+#REF!+#REF!+#REF!+#REF!+#REF!+#REF!+#REF!+#REF!+#REF!+#REF!+#REF!+#REF!+#REF!+#REF!+#REF!+#REF!+#REF!+#REF!+#REF!+#REF!+#REF!+#REF!+#REF!","v":{"$error":"#REF!"}},{"$f":"'9_Per Pupil Summary'!H73","v":5349.7057163293448},{"$f":"#REF!+#REF!+#REF!+#REF!+#REF!+#REF!+#REF!+#REF!+#REF!+#REF!+#REF!+#REF!+#REF!+#REF!+#REF!+#REF!+#REF!+#REF!+#REF!+#REF!+#REF!+#REF!+#REF!+#REF!+#REF!+#REF!+#REF!+#REF!+#REF!+#REF!+#REF!+#REF!+#REF!","v":{"$error":"#REF!"}},{"$f":"#REF!+#REF!+#REF!+#REF!+#REF!+#REF!+#REF!+#REF!+#REF!+#REF!+#REF!+#REF!+#REF!+#REF!+#REF!+#REF!+#REF!+#REF!+#REF!+#REF!+#REF!+#REF!+#REF!+#REF!+#REF!+#REF!+#REF!+#REF!+#REF!+#REF!+#REF!+#REF!+#REF!","v":{"$error":"#REF!"}},{"$f":"'9_Per Pupil Summary'!I73","v":682.57049334375131},{"$f":"#REF!+#REF!+#REF!+#REF!+#REF!+#REF!+#REF!+#REF!+#REF!+#REF!+#REF!+#REF!+#REF!+#REF!+#REF!+#REF!+#REF!+#REF!+#REF!+#REF!+#REF!+#REF!+#REF!+#REF!+#REF!+#REF!+#REF!+#REF!+#REF!+#REF!+#REF!+#REF!+#REF!","v":{"$error":"#REF!"}},{"$f":"#REF!+#REF!+#REF!+#REF!+#REF!+#REF!+#REF!+#REF!+#REF!+#REF!+#REF!+#REF!+#REF!+#REF!+#REF!+#REF!+#REF!+#REF!+#REF!+#REF!+#REF!+#REF!+#REF!+#REF!+#REF!+#REF!+#REF!+#REF!+#REF!+#REF!+#REF!+#REF!+#REF!","v":{"$error":"#REF!"}},{"$f":"'9_Per Pupil Summary'!J73","v":186.15558909375036},{"$f":"#REF!+#REF!+#REF!+#REF!+#REF!+#REF!+#REF!+#REF!+#REF!+#REF!+#REF!+#REF!+#REF!+#REF!+#REF!+#REF!+#REF!+#REF!+#REF!+#REF!+#REF!+#REF!+#REF!+#REF!+#REF!+#REF!+#REF!+#REF!+#REF!+#REF!+#REF!+#REF!+#REF!","v":{"$error":"#REF!"}},{"$f":"#REF!+#REF!+#REF!+#REF!+#REF!+#REF!+#REF!+#REF!+#REF!+#REF!+#REF!+#REF!+#REF!+#REF!+#REF!+#REF!+#REF!+#REF!+#REF!+#REF!+#REF!+#REF!+#REF!+#REF!+#REF!+#REF!+#REF!+#REF!+#REF!+#REF!+#REF!+#REF!+#REF!","v":{"$error":"#REF!"}},{"$f":"'9_Per Pupil Summary'!K73","v":4653.8897273437588},{"$f":"#REF!+#REF!+#REF!+#REF!+#REF!+#REF!+#REF!+#REF!+#REF!+#REF!+#REF!+#REF!+#REF!+#REF!+#REF!+#REF!+#REF!+#REF!+#REF!+#REF!+#REF!+#REF!+#REF!+#REF!+#REF!+#REF!+#REF!+#REF!+#REF!+#REF!+#REF!+#REF!+#REF!","v":{"$error":"#REF!"}},{"$f":"#REF!+#REF!+#REF!+#REF!+#REF!+#REF!+#REF!+#REF!+#REF!+#REF!+#REF!+#REF!+#REF!+#REF!+#REF!+#REF!+#REF!+#REF!+#REF!+#REF!+#REF!+#REF!+#REF!+#REF!+#REF!+#REF!+#REF!+#REF!+#REF!+#REF!+#REF!+#REF!+#REF!","v":{"$error":"#REF!"}},{"$f":"'9_Per Pupil Summary'!L73","v":1861.5558909375031},{"$f":"#REF!+#REF!+#REF!+#REF!+#REF!+#REF!+#REF!+#REF!+#REF!+#REF!+#REF!+#REF!+#REF!+#REF!+#REF!+#REF!+#REF!+#REF!+#REF!+#REF!+#REF!+#REF!+#REF!+#REF!+#REF!+#REF!+#REF!+#REF!+#REF!+#REF!+#REF!+#REF!+#REF!","v":{"$error":"#REF!"}},{"$f":"#REF!+#REF!+#REF!+#REF!+#REF!+#REF!+#REF!+#REF!+#REF!+#REF!+#REF!+#REF!+#REF!+#REF!+#REF!+#REF!+#REF!+#REF!+#REF!+#REF!+#REF!+#REF!+#REF!+#REF!+#REF!+#REF!+#REF!+#REF!+#REF!+#REF!+#REF!+#REF!+#REF!","v":{"$error":"#REF!"}},{"$f":"#REF!+#REF!","v":{"$error":"#REF!"}},{"$f":"#REF!+#REF!+#REF!+#REF!+#REF!+#REF!+#REF!+#REF!+#REF!+#REF!+#REF!+#REF!+#REF!+#REF!+#REF!+#REF!+#REF!+#REF!+#REF!+#REF!+#REF!+#REF!+#REF!+#REF!+#REF!+#REF!+#REF!+#REF!+#REF!+#REF!+#REF!+#REF!+#REF!","v":{"$error":"#REF!"}},{"$f":"#REF!+#REF!+#REF!+#REF!+#REF!+#REF!+#REF!+#REF!+#REF!+#REF!+#REF!+#REF!+#REF!+#REF!+#REF!+#REF!+#REF!+#REF!+#REF!+#REF!+#REF!+#REF!+#REF!+#REF!+#REF!+#REF!+#REF!+#REF!+#REF!+#REF!+#REF!+#REF!+#REF!","v":{"$error":"#REF!"}},{"$f":"#REF!+#REF!+#REF!+#REF!+#REF!+#REF!+#REF!+#REF!+#REF!+#REF!+#REF!+#REF!+#REF!+#REF!+#REF!+#REF!+#REF!+#REF!+#REF!+#REF!+#REF!+#REF!+#REF!+#REF!+#REF!+#REF!+#REF!+#REF!+#REF!+#REF!+#REF!+#REF!+#REF!","v":{"$error":"#REF!"}},{"$f":"#REF!+#REF!+#REF!+#REF!+#REF!+#REF!+#REF!+#REF!+#REF!+#REF!+#REF!+#REF!+#REF!+#REF!+#REF!+#REF!+#REF!+#REF!+#REF!+#REF!+#REF!+#REF!+#REF!+#REF!+#REF!+#REF!+#REF!+#REF!+#REF!+#REF!+#REF!+#REF!+#REF!","v":{"$error":"#REF!"}},{"$f":"#REF!+#REF!+#REF!+#REF!+#REF!+#REF!+#REF!+#REF!+#REF!+#REF!+#REF!+#REF!+#REF!+#REF!+#REF!+#REF!+#REF!+#REF!+#REF!+#REF!+#REF!+#REF!+#REF!+#REF!+#REF!+#REF!+#REF!+#REF!+#REF!+#REF!+#REF!+#REF!+#REF!","v":{"$error":"#REF!"}},{"$f":"#REF!+#REF!+#REF!+#REF!+#REF!+#REF!+#REF!+#REF!+#REF!+#REF!+#REF!+#REF!+#REF!+#REF!+#REF!+#REF!+#REF!+#REF!+#REF!+#REF!+#REF!+#REF!+#REF!+#REF!+#REF!+#REF!+#REF!+#REF!+#REF!+#REF!+#REF!+#REF!+#REF!","v":{"$error":"#REF!"}},{"$f":"#REF!+#REF!+#REF!+#REF!+#REF!+#REF!+#REF!+#REF!+#REF!+#REF!+#REF!+#REF!+#REF!+#REF!+#REF!+#REF!+#REF!+#REF!+#REF!+#REF!+#REF!+#REF!+#REF!+#REF!+#REF!+#REF!+#REF!+#REF!+#REF!+#REF!+#REF!+#REF!+#REF!","v":{"$error":"#REF!"}},{"$f":"#REF!+#REF!+#REF!+#REF!+#REF!+#REF!+#REF!+#REF!+#REF!+#REF!+#REF!+#REF!+#REF!+#REF!+#REF!+#REF!+#REF!+#REF!+#REF!+#REF!+#REF!+#REF!+#REF!+#REF!+#REF!+#REF!+#REF!+#REF!+#REF!+#REF!+#REF!+#REF!+#REF!","v":{"$error":"#REF!"}},{"$f":"#REF!+#REF!+#REF!+#REF!+#REF!+#REF!+#REF!+#REF!+#REF!+#REF!+#REF!+#REF!+#REF!+#REF!+#REF!+#REF!+#REF!+#REF!+#REF!+#REF!+#REF!+#REF!+#REF!+#REF!+#REF!+#REF!+#REF!+#REF!+#REF!+#REF!+#REF!+#REF!+#REF!","v":{"$error":"#REF!"}},{"$f":"#REF!+#REF!+#REF!+#REF!+#REF!+#REF!+#REF!+#REF!+#REF!+#REF!+#REF!+#REF!+#REF!+#REF!+#REF!+#REF!+#REF!+#REF!+#REF!+#REF!+#REF!+#REF!+#REF!+#REF!+#REF!+#REF!+#REF!+#REF!+#REF!+#REF!+#REF!+#REF!+#REF!","v":{"$error":"#REF!"}},{"$f":"#REF!+#REF!+#REF!+#REF!+#REF!+#REF!+#REF!+#REF!+#REF!+#REF!+#REF!+#REF!+#REF!+#REF!+#REF!+#REF!+#REF!+#REF!+#REF!+#REF!+#REF!+#REF!+#REF!+#REF!+#REF!+#REF!+#REF!+#REF!+#REF!+#REF!+#REF!+#REF!+#REF!","v":{"$error":"#REF!"}},{"$f":"#REF!+#REF!+#REF!+#REF!+#REF!+#REF!+#REF!+#REF!+#REF!+#REF!+#REF!+#REF!+#REF!+#REF!+#REF!+#REF!+#REF!+#REF!+#REF!+#REF!+#REF!+#REF!+#REF!+#REF!+#REF!+#REF!+#REF!+#REF!+#REF!+#REF!+#REF!+#REF!+#REF!","v":{"$error":"#REF!"}},{"$f":"'9_Per Pupil Summary'!N73","v":4801},{"$f":"#REF!+#REF!+#REF!+#REF!+#REF!+#REF!+#REF!+#REF!+#REF!+#REF!+#REF!+#REF!+#REF!+#REF!+#REF!+#REF!+#REF!+#REF!+#REF!+#REF!+#REF!+#REF!+#REF!+#REF!+#REF!+#REF!+#REF!+#REF!+#REF!+#REF!+#REF!+#REF!+#REF!","v":{"$error":"#REF!"}},{"$f":"#REF!+#REF!+#REF!+#REF!+#REF!+#REF!+#REF!+#REF!+#REF!+#REF!+#REF!+#REF!+#REF!+#REF!+#REF!+#REF!+#REF!+#REF!+#REF!+#REF!+#REF!+#REF!+#REF!+#REF!+#REF!+#REF!+#REF!+#REF!+#REF!+#REF!+#REF!+#REF!+#REF!","v":{"$error":"#REF!"}},{"$f":"#REF!+#REF!+#REF!+#REF!+#REF!+#REF!+#REF!+#REF!+#REF!+#REF!+#REF!+#REF!+#REF!+#REF!+#REF!+#REF!+#REF!+#REF!+#REF!+#REF!+#REF!+#REF!+#REF!+#REF!+#REF!+#REF!+#REF!+#REF!+#REF!+#REF!+#REF!+#REF!+#REF!","v":{"$error":"#REF!"}},{"$f":"#REF!+#REF!+#REF!+#REF!+#REF!+#REF!+#REF!+#REF!+#REF!+#REF!+#REF!+#REF!+#REF!+#REF!+#REF!+#REF!+#REF!+#REF!+#REF!+#REF!+#REF!+#REF!+#REF!+#REF!+#REF!+#REF!+#REF!+#REF!+#REF!+#REF!+#REF!+#REF!+#REF!","v":{"$error":"#REF!"}},{"$f":"#REF!+#REF!+#REF!+#REF!+#REF!+#REF!+#REF!+#REF!+#REF!+#REF!+#REF!+#REF!+#REF!+#REF!+#REF!+#REF!+#REF!+#REF!+#REF!+#REF!+#REF!+#REF!+#REF!+#REF!+#REF!+#REF!+#REF!+#REF!+#REF!+#REF!+#REF!+#REF!+#REF!","v":{"$error":"#REF!"}},{"$f":"#REF!+#REF!+#REF!+#REF!+#REF!+#REF!+#REF!+#REF!+#REF!+#REF!+#REF!+#REF!+#REF!+#REF!+#REF!+#REF!+#REF!+#REF!+#REF!+#REF!+#REF!+#REF!+#REF!+#REF!+#REF!+#REF!+#REF!+#REF!+#REF!+#REF!+#REF!+#REF!+#REF!","v":{"$error":"#REF!"}},{"$f":"#REF!+#REF!+#REF!+#REF!+#REF!+#REF!+#REF!+#REF!+#REF!+#REF!+#REF!+#REF!+#REF!+#REF!+#REF!+#REF!+#REF!+#REF!+#REF!+#REF!+#REF!+#REF!+#REF!+#REF!+#REF!+#REF!+#REF!+#REF!+#REF!+#REF!+#REF!+#REF!+#REF!","v":{"$error":"#REF!"}},{"$f":"#REF!+#REF!+#REF!+#REF!+#REF!+#REF!+#REF!+#REF!+#REF!+#REF!+#REF!+#REF!+#REF!+#REF!+#REF!+#REF!+#REF!+#REF!+#REF!+#REF!+#REF!+#REF!+#REF!+#REF!+#REF!+#REF!+#REF!+#REF!+#REF!+#REF!+#REF!+#REF!+#REF!","v":{"$error":"#REF!"}},{"$f":"#REF!+#REF!+#REF!+#REF!+#REF!+#REF!+#REF!+#REF!+#REF!+#REF!+#REF!+#REF!+#REF!+#REF!+#REF!+#REF!+#REF!+#REF!+#REF!+#REF!+#REF!+#REF!+#REF!+#REF!+#REF!+#REF!+#REF!+#REF!+#REF!+#REF!+#REF!+#REF!+#REF!","v":{"$error":"#REF!"}},{"$f":"#REF!+#REF!+#REF!+#REF!+#REF!+#REF!+#REF!+#REF!+#REF!+#REF!+#REF!+#REF!+#REF!+#REF!+#REF!+#REF!+#REF!+#REF!+#REF!+#REF!+#REF!+#REF!+#REF!+#REF!+#REF!+#REF!+#REF!+#REF!+#REF!+#REF!+#REF!+#REF!+#REF!","v":{"$error":"#REF!"}},{"$f":"#REF!+#REF!+#REF!+#REF!+#REF!+#REF!+#REF!+#REF!+#REF!+#REF!+#REF!+#REF!+#REF!+#REF!+#REF!+#REF!+#REF!+#REF!+#REF!+#REF!+#REF!+#REF!+#REF!+#REF!+#REF!+#REF!+#REF!+#REF!+#REF!+#REF!+#REF!+#REF!+#REF!","v":{"$error":"#REF!"}},{"$f":"#REF!+#REF!+#REF!+#REF!+#REF!+#REF!+#REF!+#REF!+#REF!+#REF!+#REF!+#REF!+#REF!+#REF!+#REF!+#REF!+#REF!+#REF!+#REF!+#REF!+#REF!+#REF!+#REF!+#REF!+#REF!+#REF!+#REF!+#REF!+#REF!+#REF!+#REF!+#REF!+#REF!","v":{"$error":"#REF!"}},{"$f":"#REF!+#REF!+#REF!+#REF!+#REF!+#REF!+#REF!+#REF!+#REF!+#REF!+#REF!+#REF!+#REF!+#REF!+#REF!+#REF!+#REF!+#REF!+#REF!+#REF!+#REF!+#REF!+#REF!+#REF!+#REF!+#REF!+#REF!+#REF!+#REF!+#REF!+#REF!+#REF!+#REF!","v":{"$error":"#REF!"}},{"$f":"#REF!+#REF!+#REF!+#REF!+#REF!+#REF!+#REF!+#REF!+#REF!+#REF!+#REF!+#REF!+#REF!+#REF!+#REF!+#REF!+#REF!+#REF!+#REF!+#REF!+#REF!+#REF!+#REF!+#REF!+#REF!+#REF!+#REF!+#REF!+#REF!+#REF!+#REF!+#REF!+#REF!","v":{"$error":"#REF!"}},{"$f":"AA74+AQ74","v":{"$error":"#REF!"}},{"$f":"AD74+AT74","v":{"$error":"#REF!"}},{"$f":"#REF!+#REF!+#REF!+#REF!+#REF!+#REF!+#REF!+#REF!+#REF!+#REF!+#REF!+#REF!+#REF!+#REF!+#REF!+#REF!+#REF!+#REF!+#REF!+#REF!+#REF!+#REF!+#REF!+#REF!+#REF!+#REF!+#REF!+#REF!+#REF!+#REF!+#REF!+#REF!+#REF!","v":{"$error":"#REF!"}},null,{"$error":"#REF!"}]
[69,"Central Community",{"$f":"#REF!+#REF!+#REF!+#REF!+#REF!+#REF!+#REF!+#REF!+#REF!+#REF!+#REF!+#REF!+#REF!+#REF!+#REF!+#REF!+#REF!+#REF!+#REF!+#REF!+#REF!+#REF!+#REF!+#REF!+#REF!+#REF!+#REF!+#REF!+#REF!+#REF!+#REF!+#REF!+#REF!","v":{"$error":"#REF!"}},{"$f":"'9_Per Pupil Summary'!H74","v":5445.6868984869725},{"$f":"#REF!+#REF!+#REF!+#REF!+#REF!+#REF!+#REF!+#REF!+#REF!+#REF!+#REF!+#REF!+#REF!+#REF!+#REF!+#REF!+#REF!+#REF!+#REF!+#REF!+#REF!+#REF!+#REF!+#REF!+#REF!+#REF!+#REF!+#REF!+#REF!+#REF!+#REF!+#REF!+#REF!","v":{"$error":"#REF!"}},{"$f":"#REF!+#REF!+#REF!+#REF!+#REF!+#REF!+#REF!+#REF!+#REF!+#REF!+#REF!+#REF!+#REF!+#REF!+#REF!+#REF!+#REF!+#REF!+#REF!+#REF!+#REF!+#REF!+#REF!+#REF!+#REF!+#REF!+#REF!+#REF!+#REF!+#REF!+#REF!+#REF!+#REF!","v":{"$error":"#REF!"}},{"$f":"'9_Per Pupil Summary'!I74","v":710.73288468795829},{"$f":"#REF!+#REF!+#REF!+#REF!+#REF!+#REF!+#REF!+#REF!+#REF!+#REF!+#REF!+#REF!+#REF!+#REF!+#REF!+#REF!+#REF!+#REF!+#REF!+#REF!+#REF!+#REF!+#REF!+#REF!+#REF!+#REF!+#REF!+#REF!+#REF!+#REF!+#REF!+#REF!+#REF!","v":{"$error":"#REF!"}},{"$f":"#REF!+#REF!+#REF!+#REF!+#REF!+#REF!+#REF!+#REF!+#REF!+#REF!+#REF!+#REF!+#REF!+#REF!+#REF!+#REF!+#REF!+#REF!+#REF!+#REF!+#REF!+#REF!+#REF!+#REF!+#REF!+#REF!+#REF!+#REF!+#REF!+#REF!+#REF!+#REF!+#REF!","v":{"$error":"#REF!"}},{"$f":"'9_Per Pupil Summary'!J74","v":193.83624127853409},{"$f":"#REF!+#REF!+#REF!+#REF!+#REF!+#REF!+#REF!+#REF!+#REF!+#REF!+#REF!+#REF!+#REF!+#REF!+#REF!+#REF!+#REF!+#REF!+#REF!+#REF!+#REF!+#REF!+#REF!+#REF!+#REF!+#REF!+#REF!+#REF!+#REF!+#REF!+#REF!+#REF!+#REF!","v":{"$error":"#REF!"}},{"$f":"#REF!+#REF!+#REF!+#REF!+#REF!+#REF!+#REF!+#REF!+#REF!+#REF!+#REF!+#REF!+#REF!+#REF!+#REF!+#REF!+#REF!+#REF!+#REF!+#REF!+#REF!+#REF!+#REF!+#REF!+#REF!+#REF!+#REF!+#REF!+#REF!+#REF!+#REF!+#REF!+#REF!","v":{"$error":"#REF!"}},{"$f":"'9_Per Pupil Summary'!K74","v":4845.9060319633527},{"$f":"#REF!+#REF!+#REF!+#REF!+#REF!+#REF!+#REF!+#REF!+#REF!+#REF!+#REF!+#REF!+#REF!+#REF!+#REF!+#REF!+#REF!+#REF!+#REF!+#REF!+#REF!+#REF!+#REF!+#REF!+#REF!+#REF!+#REF!+#REF!+#REF!+#REF!+#REF!+#REF!+#REF!","v":{"$error":"#REF!"}},{"$f":"#REF!+#REF!+#REF!+#REF!+#REF!+#REF!+#REF!+#REF!+#REF!+#REF!+#REF!+#REF!+#REF!+#REF!+#REF!+#REF!+#REF!+#REF!+#REF!+#REF!+#REF!+#REF!+#REF!+#REF!+#REF!+#REF!+#REF!+#REF!+#REF!+#REF!+#REF!+#REF!+#REF!","v":{"$error":"#REF!"}},{"$f":"'9_Per Pupil Summary'!L74","v":1938.3624127853411},{"$f":"#REF!+#REF!+#REF!+#REF!+#REF!+#REF!+#REF!+#REF!+#REF!+#REF!+#REF!+#REF!+#REF!+#REF!+#REF!+#REF!+#REF!+#REF!+#REF!+#REF!+#REF!+#REF!+#REF!+#REF!+#REF!+#REF!+#REF!+#REF!+#REF!+#REF!+#REF!+#REF!+#REF!","v":{"$error":"#REF!"}},{"$f":"#REF!+#REF!+#REF!+#REF!+#REF!+#REF!+#REF!+#REF!+#REF!+#REF!+#REF!+#REF!+#REF!+#REF!+#REF!+#REF!+#REF!+#REF!+#REF!+#REF!+#REF!+#REF!+#REF!+#REF!+#REF!+#REF!+#REF!+#REF!+#REF!+#REF!+#REF!+#REF!+#REF!","v":{"$error":"#REF!"}},{"$f":"#REF!+#REF!","v":{"$error":"#REF!"}},{"$f":"#REF!+#REF!+#REF!+#REF!+#REF!+#REF!+#REF!+#REF!+#REF!+#REF!+#REF!+#REF!+#REF!+#REF!+#REF!+#REF!+#REF!+#REF!+#REF!+#REF!+#REF!+#REF!+#REF!+#REF!+#REF!+#REF!+#REF!+#REF!+#REF!+#REF!+#REF!+#REF!+#REF!","v":{"$error":"#REF!"}},{"$f":"#REF!+#REF!+#REF!+#REF!+#REF!+#REF!+#REF!+#REF!+#REF!+#REF!+#REF!+#REF!+#REF!+#REF!+#REF!+#REF!+#REF!+#REF!+#REF!+#REF!+#REF!+#REF!+#REF!+#REF!+#REF!+#REF!+#REF!+#REF!+#REF!+#REF!+#REF!+#REF!+#REF!","v":{"$error":"#REF!"}},{"$f":"#REF!+#REF!+#REF!+#REF!+#REF!+#REF!+#REF!+#REF!+#REF!+#REF!+#REF!+#REF!+#REF!+#REF!+#REF!+#REF!+#REF!+#REF!+#REF!+#REF!+#REF!+#REF!+#REF!+#REF!+#REF!+#REF!+#REF!+#REF!+#REF!+#REF!+#REF!+#REF!+#REF!","v":{"$error":"#REF!"}},{"$f":"#REF!+#REF!+#REF!+#REF!+#REF!+#REF!+#REF!+#REF!+#REF!+#REF!+#REF!+#REF!+#REF!+#REF!+#REF!+#REF!+#REF!+#REF!+#REF!+#REF!+#REF!+#REF!+#REF!+#REF!+#REF!+#REF!+#REF!+#REF!+#REF!+#REF!+#REF!+#REF!+#REF!","v":{"$error":"#REF!"}},{"$f":"#REF!+#REF!+#REF!+#REF!+#REF!+#REF!+#REF!+#REF!+#REF!+#REF!+#REF!+#REF!+#REF!+#REF!+#REF!+#REF!+#REF!+#REF!+#REF!+#REF!+#REF!+#REF!+#REF!+#REF!+#REF!+#REF!+#REF!+#REF!+#REF!+#REF!+#REF!+#REF!+#REF!","v":{"$error":"#REF!"}},{"$f":"#REF!+#REF!+#REF!+#REF!+#REF!+#REF!+#REF!+#REF!+#REF!+#REF!+#REF!+#REF!+#REF!+#REF!+#REF!+#REF!+#REF!+#REF!+#REF!+#REF!+#REF!+#REF!+#REF!+#REF!+#REF!+#REF!+#REF!+#REF!+#REF!+#REF!+#REF!+#REF!+#REF!","v":{"$error":"#REF!"}},{"$f":"#REF!+#REF!+#REF!+#REF!+#REF!+#REF!+#REF!+#REF!+#REF!+#REF!+#REF!+#REF!+#REF!+#REF!+#REF!+#REF!+#REF!+#REF!+#REF!+#REF!+#REF!+#REF!+#REF!+#REF!+#REF!+#REF!+#REF!+#REF!+#REF!+#REF!+#REF!+#REF!+#REF!","v":{"$error":"#REF!"}},{"$f":"#REF!+#REF!+#REF!+#REF!+#REF!+#REF!+#REF!+#REF!+#REF!+#REF!+#REF!+#REF!+#REF!+#REF!+#REF!+#REF!+#REF!+#REF!+#REF!+#REF!+#REF!+#REF!+#REF!+#REF!+#REF!+#REF!+#REF!+#REF!+#REF!+#REF!+#REF!+#REF!+#REF!","v":{"$error":"#REF!"}},{"$f":"#REF!+#REF!+#REF!+#REF!+#REF!+#REF!+#REF!+#REF!+#REF!+#REF!+#REF!+#REF!+#REF!+#REF!+#REF!+#REF!+#REF!+#REF!+#REF!+#REF!+#REF!+#REF!+#REF!+#REF!+#REF!+#REF!+#REF!+#REF!+#REF!+#REF!+#REF!+#REF!+#REF!","v":{"$error":"#REF!"}},{"$f":"#REF!+#REF!+#REF!+#REF!+#REF!+#REF!+#REF!+#REF!+#REF!+#REF!+#REF!+#REF!+#REF!+#REF!+#REF!+#REF!+#REF!+#REF!+#REF!+#REF!+#REF!+#REF!+#REF!+#REF!+#REF!+#REF!+#REF!+#REF!+#REF!+#REF!+#REF!+#REF!+#REF!","v":{"$error":"#REF!"}},{"$f":"#REF!+#REF!+#REF!+#REF!+#REF!+#REF!+#REF!+#REF!+#REF!+#REF!+#REF!+#REF!+#REF!+#REF!+#REF!+#REF!+#REF!+#REF!+#REF!+#REF!+#REF!+#REF!+#REF!+#REF!+#REF!+#REF!+#REF!+#REF!+#REF!+#REF!+#REF!+#REF!+#REF!","v":{"$error":"#REF!"}},{"$f":"#REF!+#REF!+#REF!+#REF!+#REF!+#REF!+#REF!+#REF!+#REF!+#REF!+#REF!+#REF!+#REF!+#REF!+#REF!+#REF!+#REF!+#REF!+#REF!+#REF!+#REF!+#REF!+#REF!+#REF!+#REF!+#REF!+#REF!+#REF!+#REF!+#REF!+#REF!+#REF!+#REF!","v":{"$error":"#REF!"}},{"$f":"'9_Per Pupil Summary'!N74","v":5656},{"$f":"#REF!+#REF!+#REF!+#REF!+#REF!+#REF!+#REF!+#REF!+#REF!+#REF!+#REF!+#REF!+#REF!+#REF!+#REF!+#REF!+#REF!+#REF!+#REF!+#REF!+#REF!+#REF!+#REF!+#REF!+#REF!+#REF!+#REF!+#REF!+#REF!+#REF!+#REF!+#REF!+#REF!","v":{"$error":"#REF!"}},{"$f":"#REF!+#REF!+#REF!+#REF!+#REF!+#REF!+#REF!+#REF!+#REF!+#REF!+#REF!+#REF!+#REF!+#REF!+#REF!+#REF!+#REF!+#REF!+#REF!+#REF!+#REF!+#REF!+#REF!+#REF!+#REF!+#REF!+#REF!+#REF!+#REF!+#REF!+#REF!+#REF!+#REF!","v":{"$error":"#REF!"}},{"$f":"#REF!+#REF!+#REF!+#REF!+#REF!+#REF!+#REF!+#REF!+#REF!+#REF!+#REF!+#REF!+#REF!+#REF!+#REF!+#REF!+#REF!+#REF!+#REF!+#REF!+#REF!+#REF!+#REF!+#REF!+#REF!+#REF!+#REF!+#REF!+#REF!+#REF!+#REF!+#REF!+#REF!","v":{"$error":"#REF!"}},{"$f":"#REF!+#REF!+#REF!+#REF!+#REF!+#REF!+#REF!+#REF!+#REF!+#REF!+#REF!+#REF!+#REF!+#REF!+#REF!+#REF!+#REF!+#REF!+#REF!+#REF!+#REF!+#REF!+#REF!+#REF!+#REF!+#REF!+#REF!+#REF!+#REF!+#REF!+#REF!+#REF!+#REF!","v":{"$error":"#REF!"}},{"$f":"#REF!+#REF!+#REF!+#REF!+#REF!+#REF!+#REF!+#REF!+#REF!+#REF!+#REF!+#REF!+#REF!+#REF!+#REF!+#REF!+#REF!+#REF!+#REF!+#REF!+#REF!+#REF!+#REF!+#REF!+#REF!+#REF!+#REF!+#REF!+#REF!+#REF!+#REF!+#REF!+#REF!","v":{"$error":"#REF!"}},{"$f":"#REF!+#REF!+#REF!+#REF!+#REF!+#REF!+#REF!+#REF!+#REF!+#REF!+#REF!+#REF!+#REF!+#REF!+#REF!+#REF!+#REF!+#REF!+#REF!+#REF!+#REF!+#REF!+#REF!+#REF!+#REF!+#REF!+#REF!+#REF!+#REF!+#REF!+#REF!+#REF!+#REF!","v":{"$error":"#REF!"}},{"$f":"#REF!+#REF!+#REF!+#REF!+#REF!+#REF!+#REF!+#REF!+#REF!+#REF!+#REF!+#REF!+#REF!+#REF!+#REF!+#REF!+#REF!+#REF!+#REF!+#REF!+#REF!+#REF!+#REF!+#REF!+#REF!+#REF!+#REF!+#REF!+#REF!+#REF!+#REF!+#REF!+#REF!","v":{"$error":"#REF!"}},{"$f":"#REF!+#REF!+#REF!+#REF!+#REF!+#REF!+#REF!+#REF!+#REF!+#REF!+#REF!+#REF!+#REF!+#REF!+#REF!+#REF!+#REF!+#REF!+#REF!+#REF!+#REF!+#REF!+#REF!+#REF!+#REF!+#REF!+#REF!+#REF!+#REF!+#REF!+#REF!+#REF!+#REF!","v":{"$error":"#REF!"}},{"$f":"#REF!+#REF!+#REF!+#REF!+#REF!+#REF!+#REF!+#REF!+#REF!+#REF!+#REF!+#REF!+#REF!+#REF!+#REF!+#REF!+#REF!+#REF!+#REF!+#REF!+#REF!+#REF!+#REF!+#REF!+#REF!+#REF!+#REF!+#REF!+#REF!+#REF!+#REF!+#REF!+#REF!","v":{"$error":"#REF!"}},{"$f":"#REF!+#REF!+#REF!+#REF!+#REF!+#REF!+#REF!+#REF!+#REF!+#REF!+#REF!+#REF!+#REF!+#REF!+#REF!+#REF!+#REF!+#REF!+#REF!+#REF!+#REF!+#REF!+#REF!+#REF!+#REF!+#REF!+#REF!+#REF!+#REF!+#REF!+#REF!+#REF!+#REF!","v":{"$error":"#REF!"}},{"$f":"#REF!+#REF!+#REF!+#REF!+#REF!+#REF!+#REF!+#REF!+#REF!+#REF!+#REF!+#REF!+#REF!+#REF!+#REF!+#REF!+#REF!+#REF!+#REF!+#REF!+#REF!+#REF!+#REF!+#REF!+#REF!+#REF!+#REF!+#REF!+#REF!+#REF!+#REF!+#REF!+#REF!","v":{"$error":"#REF!"}},{"$f":"#REF!+#REF!+#REF!+#REF!+#REF!+#REF!+#REF!+#REF!+#REF!+#REF!+#REF!+#REF!+#REF!+#REF!+#REF!+#REF!+#REF!+#REF!+#REF!+#REF!+#REF!+#REF!+#REF!+#REF!+#REF!+#REF!+#REF!+#REF!+#REF!+#REF!+#REF!+#REF!+#REF!","v":{"$error":"#REF!"}},{"$f":"#REF!+#REF!+#REF!+#REF!+#REF!+#REF!+#REF!+#REF!+#REF!+#REF!+#REF!+#REF!+#REF!+#REF!+#REF!+#REF!+#REF!+#REF!+#REF!+#REF!+#REF!+#REF!+#REF!+#REF!+#REF!+#REF!+#REF!+#REF!+#REF!+#REF!+#REF!+#REF!+#REF!","v":{"$error":"#REF!"}},{"$f":"#REF!+#REF!+#REF!+#REF!+#REF!+#REF!+#REF!+#REF!+#REF!+#REF!+#REF!+#REF!+#REF!+#REF!+#REF!+#REF!+#REF!+#REF!+#REF!+#REF!+#REF!+#REF!+#REF!+#REF!+#REF!+#REF!+#REF!+#REF!+#REF!+#REF!+#REF!+#REF!+#REF!","v":{"$error":"#REF!"}},{"$f":"AA75+AQ75","v":{"$error":"#REF!"}},{"$f":"AD75+AT75","v":{"$error":"#REF!"}},{"$f":"#REF!+#REF!+#REF!+#REF!+#REF!+#REF!+#REF!+#REF!+#REF!+#REF!+#REF!+#REF!+#REF!+#REF!+#REF!+#REF!+#REF!+#REF!+#REF!+#REF!+#REF!+#REF!+#REF!+#REF!+#REF!+#REF!+#REF!+#REF!+#REF!+#REF!+#REF!+#REF!+#REF!","v":{"$error":"#REF!"}},null,{"$error":"#REF!"}]
["State Subtotal",null,{"$f":"SUM(C7:C75)","v":{"$error":"#REF!"}},null,{"$f":"SUM(E7:E75)","v":{"$error":"#REF!"}},{"$f":"SUM(F7:F75)","v":{"$error":"#REF!"}},null,{"$f":"SUM(H7:H75)","v":{"$error":"#REF!"}},{"$f":"SUM(I7:I75)","v":{"$error":"#REF!"}},null,{"$f":"SUM(K7:K75)","v":{"$error":"#REF!"}},{"$f":"SUM(L7:L75)","v":{"$error":"#REF!"}},null,{"$f":"SUM(N7:N75)","v":{"$error":"#REF!"}},{"$f":"SUM(O7:O75)","v":{"$error":"#REF!"}},null,{"$f":"SUM(Q7:Q75)","v":{"$error":"#REF!"}},{"$f":"SUM(R7:R75)","v":{"$error":"#REF!"}},{"$error":"#REF!"},{"$error":"#REF!"},{"$error":"#REF!"},{"$error":"#REF!"},{"$error":"#REF!"},{"$error":"#REF!"},{"$error":"#REF!"},{"$error":"#REF!"},{"$error":"#REF!"},{"$error":"#REF!"},{"$error":"#REF!"},{"$error":"#REF!"},{"$error":"#REF!"},{"$f":"'9_Per Pupil Summary'!N75","v":7321},{"$error":"#REF!"},{"$error":"#REF!"},{"$error":"#REF!"},{"$error":"#REF!"},{"$error":"#REF!"},{"$error":"#REF!"},{"$error":"#REF!"},{"$error":"#REF!"},{"$error":"#REF!"},{"$f":"SUM(AP7:AP75)","v":{"$error":"#REF!"}},{"$error":"#REF!"},{"$error":"#REF!"},{"$error":"#REF!"},{"$error":"#REF!"},{"$error":"#REF!"},{"$error":"#REF!"},{"$f":"SUM(AW7:AW75)","v":{"$error":"#REF!"}},{"$f":"SUM(AX7:AX75)","v":0},{"$f":"SUM(AY7:AY75)","v":{"$error":"#REF!"}}]
["Level 4 Allocations",null,null,null,null,null,null,null,null,null,null,null,null,null,null,null,null,null,null,null,null,null,null,null,null,null,null,null,null,null,null,null,null,null,null,null,null,null,null,null,null,null,null,null,null,null,{"$f":"AA77+AQ77","v":0},{"$f":"AD77+AT77","v":0}]
["International Assoc/Escadrille Salaries",null,null,null,null,null,null,null,null,null,null,null,null,null,null,null,null,null,null,null,null,null,null,null,null,null,{"$f":"#REF!+#REF!+#REF!+#REF!+#REF!+#REF!+#REF!+#REF!+#REF!+#REF!+#REF!+#REF!+#REF!+#REF!+#REF!+#REF!+#REF!+#REF!+#REF!+#REF!+#REF!+#REF!+#REF!+#REF!+#REF!+#REF!+#REF!+#REF!+#REF!+#REF!+#REF!+#REF!+#REF!","v":{"$error":"#REF!"}},{"$f":"#REF!+#REF!+#REF!+#REF!+#REF!+#REF!+#REF!+#REF!+#REF!+#REF!+#REF!+#REF!+#REF!+#REF!+#REF!+#REF!+#REF!+#REF!+#REF!+#REF!+#REF!+#REF!+#REF!+#REF!+#REF!+#REF!+#REF!+#REF!+#REF!+#REF!+#REF!+#REF!+#REF!","v":{"$error":"#REF!"}},{"$f":"#REF!+#REF!+#REF!+#REF!+#REF!+#REF!+#REF!+#REF!+#REF!+#REF!+#REF!+#REF!+#REF!+#REF!+#REF!+#REF!+#REF!+#REF!+#REF!+#REF!+#REF!+#REF!+#REF!+#REF!+#REF!+#REF!+#REF!+#REF!+#REF!+#REF!+#REF!+#REF!+#REF!","v":{"$error":"#REF!"}},{"$f":"#REF!+#REF!+#REF!+#REF!+#REF!+#REF!+#REF!+#REF!+#REF!+#REF!+#REF!+#REF!+#REF!+#REF!+#REF!+#REF!+#REF!+#REF!+#REF!+#REF!+#REF!+#REF!+#REF!+#REF!+#REF!+#REF!+#REF!+#REF!+#REF!+#REF!+#REF!+#REF!+#REF!","v":{"$error":"#REF!"}},{"$f":"#REF!+#REF!+#REF!+#REF!+#REF!+#REF!+#REF!+#REF!+#REF!+#REF!+#REF!+#REF!+#REF!+#REF!+#REF!+#REF!+#REF!+#REF!+#REF!+#REF!+#REF!+#REF!+#REF!+#REF!+#REF!+#REF!+#REF!+#REF!+#REF!+#REF!+#REF!+#REF!+#REF!","v":{"$error":"#REF!"}},null,null,null,null,null,null,null,null,null,null,null,null,null,null,null,{"$error":"#REF!"},{"$f":"AD78+AT78","v":{"$error":"#REF!"}}]
["International Assoc/Escadrille Stipends",null,null,null,null,null,null,null,null,null,null,null,null,null,null,null,null,null,null,null,null,null,null,null,null,null,{"$f":"#REF!+#REF!+#REF!+#REF!+#REF!+#REF!+#REF!+#REF!+#REF!+#REF!+#REF!+#REF!+#REF!+#REF!+#REF!+#REF!+#REF!+#REF!+#REF!+#REF!+#REF!+#REF!+#REF!+#REF!+#REF!+#REF!+#REF!+#REF!+#REF!+#REF!+#REF!+#REF!+#REF!","v":{"$error":"#REF!"}},{"$f":"#REF!+#REF!+#REF!+#REF!+#REF!+#REF!+#REF!+#REF!+#REF!+#REF!+#REF!+#REF!+#REF!+#REF!+#REF!+#REF!+#REF!+#REF!+#REF!+#REF!+#REF!+#REF!+#REF!+#REF!+#REF!+#REF!+#REF!+#REF!+#REF!+#REF!+#REF!+#REF!+#REF!","v":{"$error":"#REF!"}},{"$f":"#REF!+#REF!+#REF!+#REF!+#REF!+#REF!+#REF!+#REF!+#REF!+#REF!+#REF!+#REF!+#REF!+#REF!+#REF!+#REF!+#REF!+#REF!+#REF!+#REF!+#REF!+#REF!+#REF!+#REF!+#REF!+#REF!+#REF!+#REF!+#REF!+#REF!+#REF!+#REF!+#REF!","v":{"$error":"#REF!"}},{"$f":"#REF!+#REF!+#REF!+#REF!+#REF!+#REF!+#REF!+#REF!+#REF!+#REF!+#REF!+#REF!+#REF!+#REF!+#REF!+#REF!+#REF!+#REF!+#REF!+#REF!+#REF!+#REF!+#REF!+#REF!+#REF!+#REF!+#REF!+#REF!+#REF!+#REF!+#REF!+#REF!+#REF!","v":{"$error":"#REF!"}},{"$f":"#REF!+#REF!+#REF!+#REF!+#REF!+#REF!+#REF!+#REF!+#REF!+#REF!+#REF!+#REF!+#REF!+#REF!+#REF!+#REF!+#REF!+#REF!+#REF!+#REF!+#REF!+#REF!+#REF!+#REF!+#REF!+#REF!+#REF!+#REF!+#REF!+#REF!+#REF!+#REF!+#REF!","v":{"$error":"#REF!"}},null,null,null,null,null,null,null,null,null,null,null,null,null,null,null,{"$error":"#REF!"}]
["Career Development Fund",null,null,null,null,null,null,null,null,null,null,null,null,null,null,null,null,null,null,null,null,null,null,null,null,null,{"$f":"#REF!+#REF!+#REF!+#REF!+#REF!+#REF!+#REF!+#REF!+#REF!+#REF!+#REF!+#REF!+#REF!+#REF!+#REF!+#REF!+#REF!+#REF!+#REF!+#REF!+#REF!+#REF!+#REF!+#REF!+#REF!+#REF!+#REF!+#REF!+#REF!+#REF!+#REF!+#REF!+#REF!","v":{"$error":"#REF!"}},{"$f":"#REF!+#REF!+#REF!+#REF!+#REF!+#REF!+#REF!+#REF!+#REF!+#REF!+#REF!+#REF!+#REF!+#REF!+#REF!+#REF!+#REF!+#REF!+#REF!+#REF!+#REF!+#REF!+#REF!+#REF!+#REF!+#REF!+#REF!+#REF!+#REF!+#REF!+#REF!+#REF!+#REF!","v":{"$error":"#REF!"}},{"$f":"#REF!+#REF!+#REF!+#REF!+#REF!+#REF!+#REF!+#REF!+#REF!+#REF!+#REF!+#REF!+#REF!+#REF!+#REF!+#REF!+#REF!+#REF!+#REF!+#REF!+#REF!+#REF!+#REF!+#REF!+#REF!+#REF!+#REF!+#REF!+#REF!+#REF!+#REF!+#REF!+#REF!","v":{"$error":"#REF!"}},{"$f":"#REF!+#REF!+#REF!+#REF!+#REF!+#REF!+#REF!+#REF!+#REF!+#REF!+#REF!+#REF!+#REF!+#REF!+#REF!+#REF!+#REF!+#REF!+#REF!+#REF!+#REF!+#REF!+#REF!+#REF!+#REF!+#REF!+#REF!+#REF!+#REF!+#REF!+#REF!+#REF!+#REF!","v":{"$error":"#REF!"}},{"$f":"#REF!+#REF!+#REF!+#REF!+#REF!+#REF!+#REF!+#REF!+#REF!+#REF!+#REF!+#REF!+#REF!+#REF!+#REF!+#REF!+#REF!+#REF!+#REF!+#REF!+#REF!+#REF!+#REF!+#REF!+#REF!+#REF!+#REF!+#REF!+#REF!+#REF!+#REF!+#REF!+#REF!","v":{"$error":"#REF!"}},null,null,null,null,null,null,null,null,null,null,null,null,null,null,null,{"$error":"#REF!"}]
["High Cost Services Allocation",null,null,null,null,null,null,null,null,null,null,null,null,null,null,null,null,null,null,null,null,null,null,null,null,null,{"$f":"#REF!+#REF!+#REF!+#REF!+#REF!+#REF!+#REF!+#REF!+#REF!+#REF!+#REF!+#REF!+#REF!+#REF!+#REF!+#REF!+#REF!+#REF!+#REF!+#REF!+#REF!+#REF!+#REF!+#REF!+#REF!+#REF!+#REF!+#REF!+#REF!+#REF!+#REF!+#REF!+#REF!","v":{"$error":"#REF!"}},{"$f":"#REF!+#REF!+#REF!+#REF!+#REF!+#REF!+#REF!+#REF!+#REF!+#REF!+#REF!+#REF!+#REF!+#REF!+#REF!+#REF!+#REF!+#REF!+#REF!+#REF!+#REF!+#REF!+#REF!+#REF!+#REF!+#REF!+#REF!+#REF!+#REF!+#REF!+#REF!+#REF!+#REF!","v":{"$error":"#REF!"}},{"$f":"#REF!+#REF!+#REF!+#REF!+#REF!+#REF!+#REF!+#REF!+#REF!+#REF!+#REF!+#REF!+#REF!+#REF!+#REF!+#REF!+#REF!+#REF!+#REF!+#REF!+#REF!+#REF!+#REF!+#REF!+#REF!+#REF!+#REF!+#REF!+#REF!+#REF!+#REF!+#REF!+#REF!","v":{"$error":"#REF!"}},{"$f":"#REF!+#REF!+#REF!+#REF!+#REF!+#REF!+#REF!+#REF!+#REF!+#REF!+#REF!+#REF!+#REF!+#REF!+#REF!+#REF!+#REF!+#REF!+#REF!+#REF!+#REF!+#REF!+#REF!+#REF!+#REF!+#REF!+#REF!+#REF!+#REF!+#REF!+#REF!+#REF!+#REF!","v":{"$error":"#REF!"}},{"$f":"#REF!+#REF!+#REF!+#REF!+#REF!+#REF!+#REF!+#REF!+#REF!+#REF!+#REF!+#REF!+#REF!+#REF!+#REF!+#REF!+#REF!+#REF!+#REF!+#REF!+#REF!+#REF!+#REF!+#REF!+#REF!+#REF!+#REF!+#REF!+#REF!+#REF!+#REF!+#REF!+#REF!","v":{"$error":"#REF!"}},null,null,null,null,null,null,null,null,null,null,null,null,null,null,null,{"$error":"#REF!"}]
["Supplemental Course Allocation",null,null,null,null,null,null,null,null,null,null,null,null,null,null,null,null,null,null,null,null,null,null,null,null,null,{"$f":"#REF!+#REF!+#REF!+#REF!+#REF!+#REF!+#REF!+#REF!+#REF!+#REF!+#REF!+#REF!+#REF!+#REF!+#REF!+#REF!+#REF!+#REF!+#REF!+#REF!+#REF!+#REF!+#REF!+#REF!+#REF!+#REF!+#REF!+#REF!+#REF!+#REF!+#REF!+#REF!+#REF!","v":{"$error":"#REF!"}},{"$f":"#REF!+#REF!+#REF!+#REF!+#REF!+#REF!+#REF!+#REF!+#REF!+#REF!+#REF!+#REF!+#REF!+#REF!+#REF!+#REF!+#REF!+#REF!+#REF!+#REF!+#REF!+#REF!+#REF!+#REF!+#REF!+#REF!+#REF!+#REF!+#REF!+#REF!+#REF!+#REF!+#REF!","v":{"$error":"#REF!"}},{"$f":"#REF!+#REF!+#REF!+#REF!+#REF!+#REF!+#REF!+#REF!+#REF!+#REF!+#REF!+#REF!+#REF!+#REF!+#REF!+#REF!+#REF!+#REF!+#REF!+#REF!+#REF!+#REF!+#REF!+#REF!+#REF!+#REF!+#REF!+#REF!+#REF!+#REF!+#REF!+#REF!+#REF!","v":{"$error":"#REF!"}},{"$f":"#REF!+#REF!+#REF!+#REF!+#REF!+#REF!+#REF!+#REF!+#REF!+#REF!+#REF!+#REF!+#REF!+#REF!+#REF!+#REF!+#REF!+#REF!+#REF!+#REF!+#REF!+#REF!+#REF!+#REF!+#REF!+#REF!+#REF!+#REF!+#REF!+#REF!+#REF!+#REF!+#REF!","v":{"$error":"#REF!"}},{"$f":"#REF!+#REF!+#REF!+#REF!+#REF!+#REF!+#REF!+#REF!+#REF!+#REF!+#REF!+#REF!+#REF!+#REF!+#REF!+#REF!+#REF!+#REF!+#REF!+#REF!+#REF!+#REF!+#REF!+#REF!+#REF!+#REF!+#REF!+#REF!+#REF!+#REF!+#REF!+#REF!+#REF!","v":{"$error":"#REF!"}},null,null,null,null,null,null,null,null,null,null,null,null,null,null,null,{"$error":"#REF!"},{"$f":"AD82+AT82","v":{"$error":"#REF!"}}]
["FY2019-20 Pay Raise",null,null,null,null,null,null,null,null,null,null,null,null,null,null,null,null,null,null,null,null,null,null,null,null,null,{"$f":"#REF!+#REF!+#REF!+#REF!+#REF!+#REF!+#REF!+#REF!+#REF!+#REF!+#REF!+#REF!+#REF!+#REF!+#REF!+#REF!+#REF!+#REF!+#REF!+#REF!+#REF!+#REF!+#REF!+#REF!+#REF!+#REF!+#REF!+#REF!+#REF!+#REF!+#REF!+#REF!+#REF!","v":{"$error":"#REF!"}},{"$f":"#REF!+#REF!+#REF!+#REF!+#REF!+#REF!+#REF!+#REF!+#REF!+#REF!+#REF!+#REF!+#REF!+#REF!+#REF!+#REF!+#REF!+#REF!+#REF!+#REF!+#REF!+#REF!+#REF!+#REF!+#REF!+#REF!+#REF!+#REF!+#REF!+#REF!+#REF!+#REF!+#REF!","v":{"$error":"#REF!"}},{"$f":"#REF!+#REF!+#REF!+#REF!+#REF!+#REF!+#REF!+#REF!+#REF!+#REF!+#REF!+#REF!+#REF!+#REF!+#REF!+#REF!+#REF!+#REF!+#REF!+#REF!+#REF!+#REF!+#REF!+#REF!+#REF!+#REF!+#REF!+#REF!+#REF!+#REF!+#REF!+#REF!+#REF!","v":{"$error":"#REF!"}},{"$f":"#REF!+#REF!+#REF!+#REF!+#REF!+#REF!+#REF!+#REF!+#REF!+#REF!+#REF!+#REF!+#REF!+#REF!+#REF!+#REF!+#REF!+#REF!+#REF!+#REF!+#REF!+#REF!+#REF!+#REF!+#REF!+#REF!+#REF!+#REF!+#REF!+#REF!+#REF!+#REF!+#REF!","v":{"$error":"#REF!"}},{"$f":"#REF!+#REF!+#REF!+#REF!+#REF!+#REF!+#REF!+#REF!+#REF!+#REF!+#REF!+#REF!+#REF!+#REF!+#REF!+#REF!+#REF!+#REF!+#REF!+#REF!+#REF!+#REF!+#REF!+#REF!+#REF!+#REF!+#REF!+#REF!+#REF!+#REF!+#REF!+#REF!+#REF!","v":{"$error":"#REF!"}},null,null,null,null,null,null,null,null,null,null,null,null,null,null,null,{"$f":"AA83+AQ83","v":{"$error":"#REF!"}},{"$f":"AD83+AT83","v":{"$error":"#REF!"}}]
["FY2021-22 Pay Raise",null,null,null,null,null,null,null,null,null,null,null,null,null,null,null,null,null,null,null,null,null,null,null,null,null,{"$f":"#REF!+#REF!+#REF!+#REF!+#REF!+#REF!+#REF!+#REF!+#REF!+#REF!+#REF!+#REF!+#REF!+#REF!+#REF!+#REF!+#REF!+#REF!+#REF!+#REF!+#REF!+#REF!+#REF!+#REF!+#REF!+#REF!+#REF!+#REF!+#REF!+#REF!+#REF!+#REF!+#REF!","v":{"$error":"#REF!"}},{"$f":"#REF!+#REF!+#REF!+#REF!+#REF!+#REF!+#REF!+#REF!+#REF!+#REF!+#REF!+#REF!+#REF!+#REF!+#REF!+#REF!+#REF!+#REF!+#REF!+#REF!+#REF!+#REF!+#REF!+#REF!+#REF!+#REF!+#REF!+#REF!+#REF!+#REF!+#REF!+#REF!+#REF!","v":{"$error":"#REF!"}},{"$f":"#REF!+#REF!+#REF!+#REF!+#REF!+#REF!+#REF!+#REF!+#REF!+#REF!+#REF!+#REF!+#REF!+#REF!+#REF!+#REF!+#REF!+#REF!+#REF!+#REF!+#REF!+#REF!+#REF!+#REF!+#REF!+#REF!+#REF!+#REF!+#REF!+#REF!+#REF!+#REF!+#REF!","v":{"$error":"#REF!"}},{"$f":"#REF!+#REF!+#REF!+#REF!+#REF!+#REF!+#REF!+#REF!+#REF!+#REF!+#REF!+#REF!+#REF!+#REF!+#REF!+#REF!+#REF!+#REF!+#REF!+#REF!+#REF!+#REF!+#REF!+#REF!+#REF!+#REF!+#REF!+#REF!+#REF!+#REF!+#REF!+#REF!+#REF!","v":{"$error":"#REF!"}},{"$f":"#REF!+#REF!+#REF!+#REF!+#REF!+#REF!+#REF!+#REF!+#REF!+#REF!+#REF!+#REF!+#REF!+#REF!+#REF!+#REF!+#REF!+#REF!+#REF!+#REF!+#REF!+#REF!+#REF!+#REF!+#REF!+#REF!+#REF!+#REF!+#REF!+#REF!+#REF!+#REF!+#REF!","v":{"$error":"#REF!"}},null,null,null,null,null,null,null,null,null,null,null,null,null,null,null,{"$error":"#REF!"},{"$error":"#REF!"}]
["State Grand Total With Level 4",null,{"$f":"SUM(C76:C84)","v":{"$error":"#REF!"}},null,{"$error":"#REF!"},{"$error":"#REF!"},null,{"$error":"#REF!"},{"$error":"#REF!"},null,{"$error":"#REF!"},{"$error":"#REF!"},null,{"$error":"#REF!"},{"$error":"#REF!"},null,{"$f":"SUM(Q76:Q84)","v":{"$error":"#REF!"}},{"$error":"#REF!"},{"$error":"#REF!"},{"$error":"#REF!"},{"$error":"#REF!"},{"$error":"#REF!"},{"$error":"#REF!"},{"$error":"#REF!"},{"$error":"#REF!"},{"$error":"#REF!"},{"$f":"SUM(AA76:AA84)","v":{"$error":"#REF!"}},{"$f":"SUM(AB76:AB84)","v":{"$error":"#REF!"}},{"$error":"#REF!"},{"$error":"#REF!"},{"$error":"#REF!"},null,{"$f":"SUM(AG76:AG84)","v":{"$error":"#REF!"}},{"$error":"#REF!"},{"$error":"#REF!"},{"$error":"#REF!"},{"$error":"#REF!"},{"$error":"#REF!"},{"$error":"#REF!"},{"$error":"#REF!"},{"$error":"#REF!"},{"$error":"#REF!"},{"$error":"#REF!"},{"$error":"#REF!"},{"$error":"#REF!"},{"$error":"#REF!"},{"$error":"#REF!"},{"$error":"#REF!"},{"$f":"SUM(AW76:AW84)","v":{"$error":"#REF!"}},{"$f":"SUM(AX76:AX84)","v":0},{"$f":"SUM(AY76:AY84)","v":{"$error":"#REF!"}}]
[]
[null,"Orleans (In a District Building)*",{"$f":"#REF!+#REF!+#REF!+#REF!+#REF!+#REF!+#REF!+#REF!+#REF!+#REF!+#REF!+#REF!+#REF!+#REF!+#REF!+#REF!+#REF!+#REF!+#REF!+#REF!+#REF!+#REF!+#REF!+#REF!+#REF!+#REF!+#REF!+#REF!+#REF!+#REF!+#REF!+#REF!+#REF!","v":{"$error":"#REF!"}},null,null,null,null,null,null,null,null,null,null,null,null,null,null,null,null,null,null,null,null,null,null,null,null,null,null,null,null,{"$f":"'9_Per Pupil Summary'!N41","v":8379},{"$f":"#REF!+#REF!+#REF!+#REF!+#REF!+#REF!+#REF!+#REF!+#REF!+#REF!+#REF!+#REF!+#REF!+#REF!+#REF!+#REF!+#REF!+#REF!+#REF!+#REF!+#REF!+#REF!+#REF!+#REF!+#REF!+#REF!+#REF!+#REF!+#REF!+#REF!+#REF!+#REF!+#REF!","v":{"$error":"#REF!"}},{"$f":"#REF!+#REF!+#REF!+#REF!+#REF!+#REF!+#REF!+#REF!+#REF!+#REF!+#REF!+#REF!+#REF!+#REF!+#REF!+#REF!+#REF!+#REF!+#REF!+#REF!+#REF!+#REF!+#REF!+#REF!+#REF!+#REF!+#REF!+#REF!+#REF!+#REF!+#REF!+#REF!+#REF!","v":{"$error":"#REF!"}},{"$f":"#REF!+#REF!+#REF!+#REF!+#REF!+#REF!+#REF!+#REF!+#REF!+#REF!+#REF!+#REF!+#REF!+#REF!+#REF!+#REF!+#REF!+#REF!+#REF!+#REF!+#REF!+#REF!+#REF!+#REF!+#REF!+#REF!+#REF!+#REF!+#REF!+#REF!+#REF!+#REF!+#REF!","v":{"$error":"#REF!"}},{"$f":"#REF!+#REF!+#REF!+#REF!+#REF!+#REF!+#REF!+#REF!+#REF!+#REF!+#REF!+#REF!+#REF!+#REF!+#REF!+#REF!+#REF!+#REF!+#REF!+#REF!+#REF!+#REF!+#REF!+#REF!+#REF!+#REF!+#REF!+#REF!+#REF!+#REF!+#REF!+#REF!+#REF!","v":{"$error":"#REF!"}},{"$f":"#REF!+#REF!+#REF!+#REF!+#REF!+#REF!+#REF!+#REF!+#REF!+#REF!+#REF!+#REF!+#REF!+#REF!+#REF!+#REF!+#REF!+#REF!+#REF!+#REF!+#REF!+#REF!+#REF!+#REF!+#REF!+#REF!+#REF!+#REF!+#REF!+#REF!+#REF!+#REF!+#REF!","v":{"$error":"#REF!"}},{"$f":"#REF!+#REF!+#REF!+#REF!+#REF!+#REF!+#REF!+#REF!+#REF!+#REF!+#REF!+#REF!+#REF!+#REF!+#REF!+#REF!+#REF!+#REF!+#REF!+#REF!+#REF!+#REF!+#REF!+#REF!+#REF!+#REF!+#REF!+#REF!+#REF!+#REF!+#REF!+#REF!+#REF!","v":{"$error":"#REF!"}}]
[null,"Orleans (Not In a District Building)*",{"$f":"#REF!+#REF!+#REF!+#REF!+#REF!+#REF!+#REF!+#REF!+#REF!+#REF!+#REF!+#REF!+#REF!+#REF!+#REF!+#REF!+#REF!+#REF!+#REF!+#REF!+#REF!+#REF!+#REF!+#REF!+#REF!+#REF!+#REF!+#REF!+#REF!+#REF!+#REF!+#REF!+#REF!","v":{"$error":"#REF!"}},null,null,null,null,null,null,null,null,null,null,null,null,null,null,null,null,null,null,null,null,null,null,null,null,null,null,null,null,{"$f":"'9_Per Pupil Summary'!M41","v":7534},{"$f":"#REF!+#REF!+#REF!+#REF!+#REF!+#REF!+#REF!+#REF!+#REF!+#REF!+#REF!+#REF!+#REF!+#REF!+#REF!+#REF!+#REF!+#REF!+#REF!+#REF!+#REF!+#REF!+#REF!+#REF!+#REF!+#REF!+#REF!+#REF!+#REF!+#REF!+#REF!+#REF!+#REF!","v":{"$error":"#REF!"}},{"$f":"#REF!+#REF!+#REF!+#REF!+#REF!+#REF!+#REF!+#REF!+#REF!+#REF!+#REF!+#REF!+#REF!+#REF!+#REF!+#REF!+#REF!+#REF!+#REF!+#REF!+#REF!+#REF!+#REF!+#REF!+#REF!+#REF!+#REF!+#REF!+#REF!+#REF!+#REF!+#REF!+#REF!","v":{"$error":"#REF!"}},{"$f":"#REF!+#REF!+#REF!+#REF!+#REF!+#REF!+#REF!+#REF!+#REF!+#REF!+#REF!+#REF!+#REF!+#REF!+#REF!+#REF!+#REF!+#REF!+#REF!+#REF!+#REF!+#REF!+#REF!+#REF!+#REF!+#REF!+#REF!+#REF!+#REF!+#REF!+#REF!+#REF!+#REF!","v":{"$error":"#REF!"}},{"$f":"#REF!+#REF!+#REF!+#REF!+#REF!+#REF!+#REF!+#REF!+#REF!+#REF!+#REF!+#REF!+#REF!+#REF!+#REF!+#REF!+#REF!+#REF!+#REF!+#REF!+#REF!+#REF!+#REF!+#REF!+#REF!+#REF!+#REF!+#REF!+#REF!+#REF!+#REF!+#REF!+#REF!","v":{"$error":"#REF!"}},{"$f":"#REF!+#REF!+#REF!+#REF!+#REF!+#REF!+#REF!+#REF!+#REF!+#REF!+#REF!+#REF!+#REF!+#REF!+#REF!+#REF!+#REF!+#REF!+#REF!+#REF!+#REF!+#REF!+#REF!+#REF!+#REF!+#REF!+#REF!+#REF!+#REF!+#REF!+#REF!+#REF!+#REF!","v":{"$error":"#REF!"}},{"$f":"#REF!+#REF!+#REF!+#REF!+#REF!+#REF!+#REF!+#REF!+#REF!+#REF!+#REF!+#REF!+#REF!+#REF!+#REF!+#REF!+#REF!+#REF!+#REF!+#REF!+#REF!+#REF!+#REF!+#REF!+#REF!+#REF!+#REF!+#REF!+#REF!+#REF!+#REF!+#REF!+#REF!","v":{"$error":"#REF!"}}]
["N/A","N/A","N/A","N/A","N/A",null,null,null,null,null,null,null,null,null,null,null,null,null,null,null,null,null,null,null,null,null,null,null,null,12,null,null,null,null,null,null,null,null,null,null,null,null,null,null,null,{"$f":"AD89","v":12}]
[null,null,{"$f":"'5C1_NewType 2'!D46","v":27118},{"$f":"'5C1_NewType 2'!E46","v":0},{"$f":"'5C1_NewType 2'!F46","v":109463390.46831472},{"$f":"'5C1_NewType 2'!G46","v":20745.599999999999},{"$f":"'5C1_NewType 2'!H46","v":0},{"$f":"'5C1_NewType 2'!I46","v":10948236.062203983},{"$f":"'5C1_NewType 2'!J46","v":11863.8},{"$f":"'5C1_NewType 2'!K46","v":0},{"$f":"'5C1_NewType 2'!L46","v":1705088.4076266729},{"$f":"'5C1_NewType 2'!M46","v":3331.7},{"$f":"'5C1_NewType 2'!N46","v":0},{"$f":"'5C1_NewType 2'!O46","v":12362778.530196672},{"$f":"'5C1_NewType 2'!P46","v":555.26},{"$f":"'5C1_NewType 2'!Q46","v":0},{"$f":"'5C1_NewType 2'!R46","v":822372.94941528374},{"$f":"'5C1_NewType 2'!S46","v":135301872},{"$f":"'5C1_NewType 2'!#REF!+'5C1_NewType 2'!#REF!","v":{"$error":"#REF!"}},{"$f":"'5C1_NewType 2'!T46","v":0},{"$f":"'5C1_NewType 2'!U46","v":0},{"$f":"'5C1_NewType 2'!V46","v":0},{"$f":"'5C1_NewType 2'!W46","v":135301872},{"$f":"'5C1_NewType 2'!X46","v":-338256},{"$f":"'5C1_NewType 2'!Y46","v":134963616},{"$f":"'5C1_NewType 2'!Z46","v":0},{"$f":"'5C1_NewType 2'!AB46","v":146802839},{"$f":"'5C1_NewType 2'!AC46","v":0},{"$f":"'5C1_NewType 2'!AD46","v":146802839},{"$f":"'5C1_NewType 2'!AE46","v":12233586},{"$f":"'5C1_NewType 2'!AG46","v":147407982},{"$f":"'5C1_NewType 2'!AH46","v":0},{"$f":"'5C1_NewType 2'!AI46","v":197919327},{"$f":"'5C1_NewType 2'!AJ46","v":0},{"$f":"'5C1_NewType 2'!AK46","v":0},{"$f":"'5C1_NewType 2'!AL46","v":0},{"$f":"'5C1_NewType 2'!AM46","v":0},{"$f":"'5C1_NewType 2'!AN46","v":0},{"$f":"'5C1_NewType 2'!AO46","v":197919327},{"$f":"'5C1_NewType 2'!AP46","v":-494793},{"$f":"'5C1_NewType 2'!AQ46","v":197424534},{"$f":"'5C1_NewType 2'!AR46","v":0},{"$f":"'5C1_NewType 2'!AS46","v":197424534},{"$f":"'5C1_NewType 2'!AT46","v":0},{"$f":"'5C1_NewType 2'!AU46","v":197424534},{"$f":"'5C1_NewType 2'!AV46","v":16452062},{"$f":"'5C1_NewType 2'!AW46","v":344227373},{"$f":"'5C1_NewType 2'!AX46","v":28685648},{"$f":"'5C1_NewType 2'!#REF!","v":{"$error":"#REF!"}},{"$f":"'5C1_NewType 2'!#REF!","v":{"$error":"#REF!"}},{"$f":"'5C1_NewType 2'!#REF!","v":{"$error":"#REF!"}}]
[null,null,{"$f":"C85-C90","v":{"$error":"#REF!"}},0,{"$error":"#REF!"},{"$error":"#REF!"},0,{"$error":"#REF!"},{"$error":"#REF!"},0,{"$error":"#REF!"},{"$error":"#REF!"},0,{"$error":"#REF!"},{"$error":"#REF!"},0,{"$error":"#REF!"},{"$error":"#REF!"},{"$error":"#REF!"},{"$error":"#REF!"},{"$error":"#REF!"},{"$error":"#REF!"},{"$error":"#REF!"},{"$error":"#REF!"},{"$error":"#REF!"},{"$error":"#REF!"},{"$error":"#REF!"},{"$error":"#REF!"},{"$error":"#REF!"},{"$error":"#REF!"},{"$error":"#REF!"},0,{"$error":"#REF!"},{"$error":"#REF!"},{"$error":"#REF!"},{"$error":"#REF!"},{"$error":"#REF!"},{"$error":"#REF!"},{"$error":"#REF!"},{"$error":"#REF!"},{"$error":"#REF!"},{"$error":"#REF!"},{"$error":"#REF!"},{"$error":"#REF!"},{"$error":"#REF!"},{"$error":"#REF!"},{"$error":"#REF!"},{"$error":"#REF!"},{"$error":"#REF!"},{"$error":"#REF!"},{"$f":"AY85-AY90","v":{"$error":"#REF!"}}]

{"sheet":"LEA Summary","index":2,"n_rows":147,"n_cols":65,"rows_kept":147,"cut":false,"hidden":true,"merged":[[1,3,2,3],[1,8,1,9],[1,10,1,11],[1,22,2,22],[1,4,1,7],[1,17,2,17],[1,27,2,27],[1,35,2,35],[1,36,2,36],[1,31,2,31],[1,46,2,46],[1,33,2,33],[1,34,2,34],[1,37,2,37],[1,39,2,39],[1,40,2,40],[1,41,1,45],[1,28,2,28],[1,29,2,29],[0,0,2,2],[0,56,2,56],[1,32,2,32],[1,12,1,13],[1,14,1,15],[1,18,1,20],[1,21,2,21],[1,23,2,23],[1,24,2,24],[1,25,2,25],[1,26,2,26],[1,30,2,30],[1,49,2,49],[1,50,2,50],[1,16,2,16],[1,53,2,53],[1,51,2,51],[1,38,2,38],[1,48,2,48],[0,57,2,57],[1,54,2,54],[1,55,2,55],[1,52,2,52],[1,47,2,47],[1,63,2,63],[1,58,2,58],[1,59,2,59],[1,60,2,60],[1,61,2,61],[1,62,2,62]]}
["Table 1\nReconciliation",null,null,"MFP State Cost Allocation",null,null,null,null,null,null,null,null,null,null,null,null,null,null,null,null,null,null,null,null,null,null,null,null,null,null,null,null,null,null,null,null,null,null,null,"Local Revenue Representation (LRR)",null,null,null,null,null,null,null,null,null,null,null,null,null,null,null,null,"Total\nState Cost\nAllocation\nand LRR\n\n(Gross of\nAdmin Fees)","State Cost\nAllocation\nand LRR\nMonthly\nPayment"]
[null,null,null,"MFP Funded\nMembership\n\n(Per SIS)","Unweighted",null,null,null,"Economically Disadvantaged (ED)",null,"Career & Technical Units (CTE)",null,"Students with Disabilities (SWD)",null,"Gifted & Talented (GT)",null,"Total MFP\nState Cost\nAllocation\n\n(Levels 1, 2,\n& 3 with\nContinuation\nof Prior Year\nPay Raises)","Return to\nState\n\n(10%)","Mid-Year Adjustment for Students",null,null,"Total MFP\nState Cost\nAllocation\n+/- Mid-Year\nAdjustments","State\nAdmin\nFee\nto RSD\n\n1.75%","State Admin\nFee to the \nDept. of\nEducation\n\n0.25%","Total MFP\nState Cost\nAllocation\n+/- Mid-Year\nAdjustments\n- Admin Fee","Prior Years\nMFP Audit\nAdjustments\n\n(Includes\nFY2019-20\nand\nFY2020-21)","Salaries for\nForeign\nAssociate/\nEscadrille\nTeachers","Supplemental\nCourse\nAllocation","FY2019-20\nCertificated\nand Non-\nCertificated\nPay Raise","FY2021-22\nCertificated\nand Non-\nCertificated\nPay Raise","Total MFP\nState Cost\nAllocation\n+/- Mid-Yr Adjs\n- Admin Fee\n+/- Audit Adjs\n+ Monthly\nLevel 4","YTD\nState\nPayments","Balance \nDue","State\nCost\nAllocation\nMonthly\nPayment\n","Stipends\n for\nForeign\nAssociate/\nEscadrille\nTeachers","Career\nDevelopment\nFund\nAllocation","High Cost\nServices\nAllocation","Total MFP\nState Cost\nAllocation\n+/- Mid-Yr Adjs\n- Admin Fee\n+/- Audit Adjs\n+ Total Level 4","Total MFP\nState Cost\nAllocation\n+/- Mid-Yr Adjs\n- Admin Fee\n+/- Audit Adjs\n+ Total Level 4\n(Gross of\nAdmin Fee)","FY21-22\nLRR\nPer\nPupil\n(per\ncharter\nlaw)","Local\nRevenue\nRepresentation\n(LRR)","Mid-Year Adjustment for Students",null,null,null,null,"Total LRR\n+/- Mid-Year\nAdjustments","Admin\nFee to\nRSD\n\n1.75%","Admin Fee\nto the\nDept. of\nEducation\n\n0.25%","Total LRR\n+/- Mid-Year\nAdjustments\n- Admin Fee","Prior Years\nMFP Audit\nAdjustments\n\n(Includes\nFY2019-20\nand\nFY2020-21)","Total LRR\n+/- Mid-Year\nAdjustments\n- Admin Fee\n+/- Audit Adj.","Total LRR\n+/- Mid-Year\nAdjustments\n+/- Audit Adj.\n(Gross of\nAdmin Fee)","YTD\nPayments","Balance \nDue","LRR\nMonthly\nPayment\n",null,null,"State\nAdmin Fee\nto the \nDept. of\nEducation\n\nCurrent","State\nAdmin Fee\nto the \nDept. of\nEducation\n\nYTD Pmt","Balance Due","Local\nAdmin Fee\nto the \nDept. of\nEducation\n\nCurrent","Local\nAdmin Fee\nto the \nDept. of\nEducation\n\nYTD Pmt","Balance Due"]
[null,null,null,null,"Per Pupil","Unweighted\nState Cost\nAllocation","Per Pupil","Continuation\nof Prior Year\nPay Raises\nState Cost\nAllocation","Student Count\n\n(Per SIS)","State Cost\nAllocation","Student Count\n\n(Per SIS)","State Cost\nAllocation","Student Count\n\n(Per SER)","State Cost\nAllocation","Student Count\n\n(Per SER)","State Cost\nAllocation",null,null,"October\n2021\nMid-Year\nAdjustment\nfor Students","February\n2022\nMid-Year\nAdjustment\nfor Students","Total\nMid-Year\nAdjustment\nfor Students",null,null,null,null,null,null,null,null,null,null,null,null,null,null,null,null,null,null,null,null,"Change in\nFunded\nStudent\nCount Per\nOct. 2021\nMid-Year\nAdjustment","October\n2021\nMid-Year\nAdjustment","Change in\nFunded\nStudent\nCount Per\nFeb. 2022\nMid-Year\nAdjustment","February\n2022\nMid-Year\nAdjustment\n\n(Half the\nPer Pupil)","Total\nMid-Year\nAdjustment\nfor Students"]
[null,null,null,1,{"$f":"D4+1","v":2},3,4,5,6,7,8,9,10,11,12,13,{"$f":"P4+1","v":14},{"$f":"Q4+1","v":15},{"$f":"R4+1","v":16},17,18,19,20,21,22,23,24,25,null,null,{"$f":"AB4+1","v":26},27,28,29,{"$f":"AH4+1","v":30},31,32,{"$f":"AK4+1","v":33},{"$f":"AL4+1","v":34},35,36,37,38,39,40,41,42,43,44,45,46,47,48,49,50,51,52,53,54,55,56,57,58,59]
[null,null,null,null,null,null,null,null,null,null,null,null,null,null,null,null,null,null,null,null,null,null,null,null,null,null,null,null,null,null,null,null,null,null,null,null,null,null,null,null,null,null,null,null,null,null,null,null,null,null,null,null,"2A-1","2A-1",null,null,"2A-1","2A-2",null,null,null,"2A-1","f(x)","2A-2"]
[null,null,null,"Link in File",null,"Link in File",null,null,"Link in File","Link in File","Link in File","Link in File","Link in File","Link in File","Link in File","Link in File",null,null,"Link in File","Link in File","Link in File","Link in File",null,"Link in File","Link in File","Link in File","Link in File",null,null,null,"Link in File","Link in File","Link in File","Link in File","Link in File",null,null,"Link in File",null,null,"Link in File","Link in File","Link in File","Link in File","Link in File","Link in File","Link in File",null,"Link in File","Link in File","Link in File",null,"Link in File","Link in File","Link in File","Link in File","Formula","Formula","Value","Formula","Formula","Value","Formula","Formula"]
[1,1,"Acadia",{"$f":"'8_2.1.24 SIS BASE'!C7","v":8773},{"$f":"'2_State Distrib and Adjs'!AQ7","v":6353},{"$f":"'2_State Distrib and Adjs'!AP7","v":55731570},null,null,null,null,null,null,null,null,null,null,{"$f":"F7+H7+J7+L7+N7+P7","v":55731570},null,{"$f":"'2_State Distrib and Adjs'!AU7","v":0},{"$f":"'2_State Distrib and Adjs'!AV7","v":0},{"$f":"'2_State Distrib and Adjs'!AW7","v":0},{"$f":"Q7+U7","v":55731570},null,null,{"$f":"V7","v":55731570},{"$f":"'2_State Distrib and Adjs'!AR7","v":0},{"$f":"'2_State Distrib and Adjs'!AY7","v":0},{"$f":"'2_State Distrib and Adjs'!AZ7","v":260260},{"$f":"'2_State Distrib and Adjs'!BA7","v":1185188},{"$f":"'2_State Distrib and Adjs'!BB7","v":948151},{"$f":"'2_State Distrib and Adjs'!BD7","v":59902954},{"$f":"'2_State Distrib and Adjs'!BE7","v":0},{"$f":"'2_State Distrib and Adjs'!BF7","v":59902954},{"$f":"'2_State Distrib and Adjs'!BG7","v":4991913},{"$f":"'2_State Distrib and Adjs'!BH7","v":0},{"$f":"'2_State Distrib and Adjs'!BI7","v":188522},{"$f":"'2_State Distrib and Adjs'!BJ7","v":0},{"$f":"'2_State Distrib and Adjs'!BL7","v":60091476},{"$f":"AL7","v":60091476},null,{"$f":"-'New Type 2 Res Summary'!AG7-'5A3_OJJ'!P7","v":{"$error":"#REF!"}},{"$f":"-'New Type 2 Res Summary'!AH7","v":{"$error":"#REF!"}},{"$f":"-'New Type 2 Res Summary'!AI7","v":{"$error":"#REF!"}},{"$f":"-'New Type 2 Res Summary'!AJ7","v":{"$error":"#REF!"}},{"$f":"-'New Type 2 Res Summary'!AK7","v":{"$error":"#REF!"}},{"$f":"-'New Type 2 Res Summary'!AL7","v":{"$error":"#REF!"}},{"$f":"-'New Type 2 Res Summary'!AM7-'5A3_OJJ'!P7","v":{"$error":"#REF!"}},null,{"$f":"-'New Type 2 Res Summary'!AN7","v":{"$error":"#REF!"}},{"$f":"-'New Type 2 Res Summary'!AO7-'5A3_OJJ'!P7","v":{"$error":"#REF!"}},null,{"$f":"-'New Type 2 Res Summary'!AQ7-'5A3_OJJ'!P7","v":{"$error":"#REF!"}},{"$f":"'2A-1_EFT (Annual)'!AS7","v":-416192},{"$f":"'2A-1_EFT (Annual)'!#REF!+'2A-1_EFT (Annual)'!#REF!","v":{"$error":"#REF!"}},{"$f":"BA7-BB7","v":{"$error":"#REF!"}},{"$f":"'2A-2_EFT (Monthly)'!AS7","v":-34602},{"$f":"AM7+BA7","v":59675284},{"$f":"'2A-2_EFT (Monthly)'!AT7","v":4957311},null,null,null,{"$f":"'2A-2_EFT (Monthly)'!#REF!+'2A-2_EFT (Monthly)'!#REF!","v":{"$error":"#REF!"}},null,{"$f":"BJ7-BK7","v":{"$error":"#REF!"}}]
[2,2,"Allen",{"$f":"'8_2.1.24 SIS BASE'!C8","v":3702},{"$f":"'2_State Distrib and Adjs'!AQ8","v":7540},{"$f":"'2_State Distrib and Adjs'!AP8","v":27911597},null,null,null,null,null,null,null,null,null,null,{"$f":"F8+H8+J8+L8+N8+P8","v":27911597},null,{"$f":"'2_State Distrib and Adjs'!AU8","v":0},{"$f":"'2_State Distrib and Adjs'!AV8","v":0},{"$f":"'2_State Distrib and Adjs'!AW8","v":0},27911597,null,null,27911597,{"$f":"'2_State Distrib and Adjs'!AR8","v":0},{"$f":"'2_State Distrib and Adjs'!AY8","v":0},{"$f":"'2_State Distrib and Adjs'!AZ8","v":115500},{"$f":"'2_State Distrib and Adjs'!BA8","v":623741},{"$f":"'2_State Distrib and Adjs'!BB8","v":498993},{"$f":"'2_State Distrib and Adjs'!BD8","v":30085443},{"$f":"'2_State Distrib and Adjs'!BE8","v":0},{"$f":"'2_State Distrib and Adjs'!BF8","v":30085443},{"$f":"'2_State Distrib and Adjs'!BG8","v":2507120},{"$f":"'2_State Distrib and Adjs'!BH8","v":0},{"$f":"'2_State Distrib and Adjs'!BI8","v":115319},{"$f":"'2_State Distrib and Adjs'!BJ8","v":0},{"$f":"'2_State Distrib and Adjs'!BL8","v":30200762},{"$f":"AL8","v":30200762},null,{"$f":"-'New Type 2 Res Summary'!AG8-'5A3_OJJ'!P8","v":{"$error":"#REF!"}},{"$f":"-'New Type 2 Res Summary'!AH8","v":{"$error":"#REF!"}},{"$f":"-'New Type 2 Res Summary'!AI8","v":{"$error":"#REF!"}},{"$f":"-'New Type 2 Res Summary'!AJ8","v":{"$error":"#REF!"}},{"$f":"-'New Type 2 Res Summary'!AK8","v":{"$error":"#REF!"}},{"$f":"-'New Type 2 Res Summary'!AL8","v":{"$error":"#REF!"}},{"$f":"-'New Type 2 Res Summary'!AM8-'5A3_OJJ'!P8","v":{"$error":"#REF!"}},null,{"$f":"-'New Type 2 Res Summary'!AN8","v":{"$error":"#REF!"}},{"$f":"-'New Type 2 Res Summary'!AO8-'5A3_OJJ'!P8","v":{"$error":"#REF!"}},null,{"$f":"-'New Type 2 Res Summary'!AQ8-'5A3_OJJ'!P8","v":{"$error":"#REF!"}},{"$f":"'2A-1_EFT (Annual)'!AS8","v":-91854},{"$f":"'2A-1_EFT (Annual)'!#REF!+'2A-1_EFT (Annual)'!#REF!","v":{"$error":"#REF!"}},{"$f":"BA8-BB8","v":{"$error":"#REF!"}},{"$f":"'2A-2_EFT (Monthly)'!AS8","v":-7635},30108908,{"$f":"'2A-2_EFT (Monthly)'!AT8","v":2499485},null,null,null,{"$f":"'2A-2_EFT (Monthly)'!#REF!+'2A-2_EFT (Monthly)'!#REF!","v":{"$error":"#REF!"}},null,{"$f":"BJ8-BK8","v":{"$error":"#REF!"}}]
[3,3,"Ascension",{"$f":"'8_2.1.24 SIS BASE'!C9","v":23503},{"$f":"'2_State Distrib and Adjs'!AQ9","v":4848},{"$f":"'2_State Distrib and Adjs'!AP9","v":113947929},null,null,null,null,null,null,null,null,null,null,113947929,null,{"$f":"'2_State Distrib and Adjs'!AU9","v":0},{"$f":"'2_State Distrib and Adjs'!AV9","v":0},{"$f":"'2_State Distrib and Adjs'!AW9","v":0},113947929,null,null,113947929,{"$f":"'2_State Distrib and Adjs'!AR9","v":0},{"$f":"'2_State Distrib and Adjs'!AY9","v":0},{"$f":"'2_State Distrib and Adjs'!AZ9","v":761320},{"$f":"'2_State Distrib and Adjs'!BA9","v":3594441},{"$f":"'2_State Distrib and Adjs'!BB9","v":2875553},{"$f":"'2_State Distrib and Adjs'!BD9","v":126570904},{"$f":"'2_State Distrib and Adjs'!BE9","v":0},{"$f":"'2_State Distrib and Adjs'!BF9","v":126570904},{"$f":"'2_State Distrib and Adjs'!BG9","v":10547575},{"$f":"'2_State Distrib and Adjs'!BH9","v":0},{"$f":"'2_State Distrib and Adjs'!BI9","v":868142},{"$f":"'2_State Distrib and Adjs'!BJ9","v":0},{"$f":"'2_State Distrib and Adjs'!BL9","v":127439046},127439046,null,{"$f":"-'New Type 2 Res Summary'!AG9-'5A3_OJJ'!P9","v":{"$error":"#REF!"}},{"$f":"-'New Type 2 Res Summary'!AH9","v":{"$error":"#REF!"}},{"$f":"-'New Type 2 Res Summary'!AI9","v":{"$error":"#REF!"}},{"$f":"-'New Type 2 Res Summary'!AJ9","v":{"$error":"#REF!"}},{"$f":"-'New Type 2 Res Summary'!AK9","v":{"$error":"#REF!"}},{"$f":"-'New Type 2 Res Summary'!AL9","v":{"$error":"#REF!"}},{"$f":"-'New Type 2 Res Summary'!AM9-'5A3_OJJ'!P9","v":{"$error":"#REF!"}},null,{"$f":"-'New Type 2 Res Summary'!AN9","v":{"$error":"#REF!"}},{"$f":"-'New Type 2 Res Summary'!AO9-'5A3_OJJ'!P9","v":{"$error":"#REF!"}},null,{"$f":"-'New Type 2 Res Summary'!AQ9-'5A3_OJJ'!P9","v":{"$error":"#REF!"}},{"$f":"'2A-1_EFT (Annual)'!AS9","v":-1643928},{"$f":"'2A-1_EFT (Annual)'!#REF!+'2A-1_EFT (Annual)'!#REF!","v":{"$error":"#REF!"}},{"$error":"#REF!"},{"$f":"'2A-2_EFT (Monthly)'!AS9","v":-136653},125795118,{"$f":"'2A-2_EFT (Monthly)'!AT9","v":10410922},null,null,null,{"$f":"'2A-2_EFT (Monthly)'!#REF!+'2A-2_EFT (Monthly)'!#REF!","v":{"$error":"#REF!"}},null,{"$error":"#REF!"}]
[4,4,"Assumption",{"$f":"'8_2.1.24 SIS BASE'!C10","v":2613},{"$f":"'2_State Distrib and Adjs'!AQ10","v":6764},{"$f":"'2_State Distrib and Adjs'!AP10","v":17674731},null,null,null,null,null,null,null,null,null,null,17674731,null,{"$f":"'2_State Distrib and Adjs'!AU10","v":0},{"$f":"'2_State Distrib and Adjs'!AV10","v":0},{"$f":"'2_State Distrib and Adjs'!AW10","v":0},17674731,null,null,17674731,{"$f":"'2_State Distrib and Adjs'!AR10","v":0},{"$f":"'2_State Distrib and Adjs'!AY10","v":42000},{"$f":"'2_State Distrib and Adjs'!AZ10","v":80570},{"$f":"'2_State Distrib and Adjs'!BA10","v":411332},{"$f":"'2_State Distrib and Adjs'!BB10","v":329066},{"$f":"'2_State Distrib and Adjs'!BD10","v":19154698},{"$f":"'2_State Distrib and Adjs'!BE10","v":0},{"$f":"'2_State Distrib and Adjs'!BF10","v":19154698},{"$f":"'2_State Distrib and Adjs'!BG10","v":1596225},{"$f":"'2_State Distrib and Adjs'!BH10","v":0},{"$f":"'2_State Distrib and Adjs'!BI10","v":60009},{"$f":"'2_State Distrib and Adjs'!BJ10","v":0},{"$f":"'2_State Distrib and Adjs'!BL10","v":19214707},19214707,null,{"$f":"-'New Type 2 Res Summary'!AG10-'5A3_OJJ'!P10","v":{"$error":"#REF!"}},{"$f":"-'New Type 2 Res Summary'!AH10","v":{"$error":"#REF!"}},{"$f":"-'New Type 2 Res Summary'!AI10","v":{"$error":"#REF!"}},{"$f":"-'New Type 2 Res Summary'!AJ10","v":{"$error":"#REF!"}},{"$f":"-'New Type 2 Res Summary'!AK10","v":{"$error":"#REF!"}},{"$f":"-'New Type 2 Res Summary'!AL10","v":{"$error":"#REF!"}},{"$f":"-'New Type 2 Res Summary'!AM10-'5A3_OJJ'!P10","v":{"$error":"#REF!"}},null,{"$f":"-'New Type 2 Res Summary'!AN10","v":{"$error":"#REF!"}},{"$f":"-'New Type 2 Res Summary'!AO10-'5A3_OJJ'!P10","v":{"$error":"#REF!"}},null,{"$f":"-'New Type 2 Res Summary'!AQ10-'5A3_OJJ'!P10","v":{"$error":"#REF!"}},{"$f":"'2A-1_EFT (Annual)'!AS10","v":-263303},{"$f":"'2A-1_EFT (Annual)'!#REF!+'2A-1_EFT (Annual)'!#REF!","v":{"$error":"#REF!"}},{"$error":"#REF!"},{"$f":"'2A-2_EFT (Monthly)'!AS10","v":-21889},18951404,{"$f":"'2A-2_EFT (Monthly)'!AT10","v":1574336},null,null,null,{"$f":"'2A-2_EFT (Monthly)'!#REF!+'2A-2_EFT (Monthly)'!#REF!","v":{"$error":"#REF!"}},null,{"$error":"#REF!"}]
[5,5,"Avoyelles",{"$f":"'8_2.1.24 SIS BASE'!C11","v":4651},{"$f":"'2_State Distrib and Adjs'!AQ11","v":7032},{"$f":"'2_State Distrib and Adjs'!AP11","v":32707024},null,null,null,null,null,null,null,null,null,null,32707024,null,{"$f":"'2_State Distrib and Adjs'!AU11","v":0},{"$f":"'2_State Distrib and Adjs'!AV11","v":0},{"$f":"'2_State Distrib and Adjs'!AW11","v":0},32707024,null,null,32707024,{"$f":"'2_State Distrib and Adjs'!AR11","v":0},{"$f":"'2_State Distrib and Adjs'!AY11","v":0},{"$f":"'2_State Distrib and Adjs'!AZ11","v":150220},{"$f":"'2_State Distrib and Adjs'!BA11","v":577035},{"$f":"'2_State Distrib and Adjs'!BB11","v":461628},{"$f":"'2_State Distrib and Adjs'!BD11","v":34761460},{"$f":"'2_State Distrib and Adjs'!BE11","v":0},{"$f":"'2_State Distrib and Adjs'!BF11","v":34761460},{"$f":"'2_State Distrib and Adjs'!BG11","v":2896788},{"$f":"'2_State Distrib and Adjs'!BH11","v":0},{"$f":"'2_State Distrib and Adjs'!BI11","v":166652},{"$f":"'2_State Distrib and Adjs'!BJ11","v":0},{"$f":"'2_State Distrib and Adjs'!BL11","v":34928112},34928112,null,{"$f":"-'New Type 2 Res Summary'!AG11-'5A3_OJJ'!P11","v":{"$error":"#REF!"}},{"$f":"-'New Type 2 Res Summary'!AH11","v":{"$error":"#REF!"}},{"$f":"-'New Type 2 Res Summary'!AI11","v":{"$error":"#REF!"}},{"$f":"-'New Type 2 Res Summary'!AJ11","v":{"$error":"#REF!"}},{"$f":"-'New Type 2 Res Summary'!AK11","v":{"$error":"#REF!"}},{"$f":"-'New Type 2 Res Summary'!AL11","v":{"$error":"#REF!"}},{"$f":"-'New Type 2 Res Summary'!AM11-'5A3_OJJ'!P11","v":{"$error":"#REF!"}},null,{"$f":"-'New Type 2 Res Summary'!AN11","v":{"$error":"#REF!"}},{"$f":"-'New Type 2 Res Summary'!AO11-'5A3_OJJ'!P11","v":{"$error":"#REF!"}},null,{"$f":"-'New Type 2 Res Summary'!AQ11-'5A3_OJJ'!P11","v":{"$error":"#REF!"}},{"$f":"'2A-1_EFT (Annual)'!AS11","v":-176666},{"$f":"'2A-1_EFT (Annual)'!#REF!+'2A-1_EFT (Annual)'!#REF!","v":{"$error":"#REF!"}},{"$error":"#REF!"},{"$f":"'2A-2_EFT (Monthly)'!AS11","v":-14686},34751446,{"$f":"'2A-2_EFT (Monthly)'!AT11","v":2882102},null,null,null,{"$f":"'2A-2_EFT (Monthly)'!#REF!+'2A-2_EFT (Monthly)'!#REF!","v":{"$error":"#REF!"}},null,{"$error":"#REF!"}]
[6,6,"Beauregard",{"$f":"'8_2.1.24 SIS BASE'!C12","v":5519},{"$f":"'2_State Distrib and Adjs'!AQ12","v":6025},{"$f":"'2_State Distrib and Adjs'!AP12","v":33252944},null,null,null,null,null,null,null,null,null,null,33252944,null,{"$f":"'2_State Distrib and Adjs'!AU12","v":0},{"$f":"'2_State Distrib and Adjs'!AV12","v":0},{"$f":"'2_State Distrib and Adjs'!AW12","v":0},33252944,null,null,33252944,{"$f":"'2_State Distrib and Adjs'!AR12","v":0},{"$f":"'2_State Distrib and Adjs'!AY12","v":0},{"$f":"'2_State Distrib and Adjs'!AZ12","v":166950},{"$f":"'2_State Distrib and Adjs'!BA12","v":845226},{"$f":"'2_State Distrib and Adjs'!BB12","v":676180},{"$f":"'2_State Distrib and Adjs'!BD12","v":36209137},{"$f":"'2_State Distrib and Adjs'!BE12","v":0},{"$f":"'2_State Distrib and Adjs'!BF12","v":36209137},{"$f":"'2_State Distrib and Adjs'!BG12","v":3017428},{"$f":"'2_State Distrib and Adjs'!BH12","v":0},{"$f":"'2_State Distrib and Adjs'!BI12","v":68504},{"$f":"'2_State Distrib and Adjs'!BJ12","v":0},{"$f":"'2_State Distrib and Adjs'!BL12","v":36277641},36277641,null,{"$f":"-'New Type 2 Res Summary'!AG12-'5A3_OJJ'!P12","v":{"$error":"#REF!"}},{"$f":"-'New Type 2 Res Summary'!AH12","v":{"$error":"#REF!"}},{"$f":"-'New Type 2 Res Summary'!AI12","v":{"$error":"#REF!"}},{"$f":"-'New Type 2 Res Summary'!AJ12","v":{"$error":"#REF!"}},{"$f":"-'New Type 2 Res Summary'!AK12","v":{"$error":"#REF!"}},{"$f":"-'New Type 2 Res Summary'!AL12","v":{"$error":"#REF!"}},{"$f":"-'New Type 2 Res Summary'!AM12-'5A3_OJJ'!P12","v":{"$error":"#REF!"}},null,{"$f":"-'New Type 2 Res Summary'!AN12","v":{"$error":"#REF!"}},{"$f":"-'New Type 2 Res Summary'!AO12-'5A3_OJJ'!P12","v":{"$error":"#REF!"}},null,{"$f":"-'New Type 2 Res Summary'!AQ12-'5A3_OJJ'!P12","v":{"$error":"#REF!"}},{"$f":"'2A-1_EFT (Annual)'!AS12","v":-173882},{"$f":"'2A-1_EFT (Annual)'!#REF!+'2A-1_EFT (Annual)'!#REF!","v":{"$error":"#REF!"}},{"$error":"#REF!"},{"$f":"'2A-2_EFT (Monthly)'!AS12","v":-14457},36103759,{"$f":"'2A-2_EFT (Monthly)'!AT12","v":3002971},null,null,null,{"$f":"'2A-2_EFT (Monthly)'!#REF!+'2A-2_EFT (Monthly)'!#REF!","v":{"$error":"#REF!"}},null,{"$error":"#REF!"}]
[7,7,"Bienville",{"$f":"'8_2.1.24 SIS BASE'!C13","v":1762},{"$f":"'2_State Distrib and Adjs'!AQ13","v":4216},{"$f":"'2_State Distrib and Adjs'!AP13","v":7428628},null,null,null,null,null,null,null,null,null,null,7428628,null,{"$f":"'2_State Distrib and Adjs'!AU13","v":0},{"$f":"'2_State Distrib and Adjs'!AV13","v":0},{"$f":"'2_State Distrib and Adjs'!AW13","v":0},7428628,null,null,7428628,{"$f":"'2_State Distrib and Adjs'!AR13","v":0},{"$f":"'2_State Distrib and Adjs'!AY13","v":0},{"$f":"'2_State Distrib and Adjs'!AZ13","v":55230},{"$f":"'2_State Distrib and Adjs'!BA13","v":367969},{"$f":"'2_State Distrib and Adjs'!BB13","v":294375},{"$f":"'2_State Distrib and Adjs'!BD13","v":8698156},{"$f":"'2_State Distrib and Adjs'!BE13","v":0},{"$f":"'2_State Distrib and Adjs'!BF13","v":8698156},{"$f":"'2_State Distrib and Adjs'!BG13","v":724846},{"$f":"'2_State Distrib and Adjs'!BH13","v":0},{"$f":"'2_State Distrib and Adjs'!BI13","v":50068},{"$f":"'2_State Distrib and Adjs'!BJ13","v":0},{"$f":"'2_State Distrib and Adjs'!BL13","v":8748224},8748224,null,{"$f":"-'New Type 2 Res Summary'!AG13-'5A3_OJJ'!P13","v":{"$error":"#REF!"}},{"$f":"-'New Type 2 Res Summary'!AH13","v":{"$error":"#REF!"}},{"$f":"-'New Type 2 Res Summary'!AI13","v":{"$error":"#REF!"}},{"$f":"-'New Type 2 Res Summary'!AJ13","v":{"$error":"#REF!"}},{"$f":"-'New Type 2 Res Summary'!AK13","v":{"$error":"#REF!"}},{"$f":"-'New Type 2 Res Summary'!AL13","v":{"$error":"#REF!"}},{"$f":"-'New Type 2 Res Summary'!AM13-'5A3_OJJ'!P13","v":{"$error":"#REF!"}},null,{"$f":"-'New Type 2 Res Summary'!AN13","v":{"$error":"#REF!"}},{"$f":"-'New Type 2 Res Summary'!AO13-'5A3_OJJ'!P13","v":{"$error":"#REF!"}},null,{"$f":"-'New Type 2 Res Summary'!AQ13-'5A3_OJJ'!P13","v":{"$error":"#REF!"}},{"$f":"'2A-1_EFT (Annual)'!AS13","v":-352468},{"$f":"'2A-1_EFT (Annual)'!#REF!+'2A-1_EFT (Annual)'!#REF!","v":{"$error":"#REF!"}},{"$error":"#REF!"},{"$f":"'2A-2_EFT (Monthly)'!AS13","v":-29299},8395756,{"$f":"'2A-2_EFT (Monthly)'!AT13","v":695547},null,null,null,{"$f":"'2A-2_EFT (Monthly)'!#REF!+'2A-2_EFT (Monthly)'!#REF!","v":{"$error":"#REF!"}},null,{"$error":"#REF!"}]
[8,8,"Bossier",{"$f":"'8_2.1.24 SIS BASE'!C14","v":21764},{"$f":"'2_State Distrib and Adjs'!AQ14","v":6044},{"$f":"'2_State Distrib and Adjs'!AP14","v":131534359},null,null,null,null,null,null,null,null,null,null,131534359,null,{"$f":"'2_State Distrib and Adjs'!AU14","v":0},{"$f":"'2_State Distrib and Adjs'!AV14","v":0},{"$f":"'2_State Distrib and Adjs'!AW14","v":0},131534359,null,null,131534359,{"$f":"'2_State Distrib and Adjs'!AR14","v":0},{"$f":"'2_State Distrib and Adjs'!AY14","v":105000},{"$f":"'2_State Distrib and Adjs'!AZ14","v":681940},{"$f":"'2_State Distrib and Adjs'!BA14","v":3259729},{"$f":"'2_State Distrib and Adjs'!BB14","v":2607783},{"$f":"'2_State Distrib and Adjs'!BD14","v":143078405},{"$f":"'2_State Distrib and Adjs'!BE14","v":0},{"$f":"'2_State Distrib and Adjs'!BF14","v":143078405},{"$f":"'2_State Distrib and Adjs'!BG14","v":11923200},{"$f":"'2_State Distrib and Adjs'!BH14","v":0},{"$f":"'2_State Distrib and Adjs'!BI14","v":482603},{"$f":"'2_State Distrib and Adjs'!BJ14","v":0},{"$f":"'2_State Distrib and Adjs'!BL14","v":143561008},143561008,null,{"$f":"-'New Type 2 Res Summary'!AG14-'5A3_OJJ'!P14","v":{"$error":"#REF!"}},{"$f":"-'New Type 2 Res Summary'!AH14","v":{"$error":"#REF!"}},{"$f":"-'New Type 2 Res Summary'!AI14","v":{"$error":"#REF!"}},{"$f":"-'New Type 2 Res Summary'!AJ14","v":{"$error":"#REF!"}},{"$f":"-'New Type 2 Res Summary'!AK14","v":{"$error":"#REF!"}},{"$f":"-'New Type 2 Res Summary'!AL14","v":{"$error":"#REF!"}},{"$f":"-'New Type 2 Res Summary'!AM14-'5A3_OJJ'!P14","v":{"$error":"#REF!"}},null,{"$f":"-'New Type 2 Res Summary'!AN14","v":{"$error":"#REF!"}},{"$f":"-'New Type 2 Res Summary'!AO14-'5A3_OJJ'!P14","v":{"$error":"#REF!"}},null,{"$f":"-'New Type 2 Res Summary'!AQ14-'5A3_OJJ'!P14","v":{"$error":"#REF!"}},{"$f":"'2A-1_EFT (Annual)'!AS14","v":-766119},{"$f":"'2A-1_EFT (Annual)'!#REF!+'2A-1_EFT (Annual)'!#REF!","v":{"$error":"#REF!"}},{"$error":"#REF!"},{"$f":"'2A-2_EFT (Monthly)'!AS14","v":-63686},142794889,{"$f":"'2A-2_EFT (Monthly)'!AT14","v":11859514},null,null,null,{"$f":"'2A-2_EFT (Monthly)'!#REF!+'2A-2_EFT (Monthly)'!#REF!","v":{"$error":"#REF!"}},null,{"$error":"#REF!"}]
[9,9,"Caddo",{"$f":"'8_2.1.24 SIS BASE'!C15","v":32422},{"$f":"'2_State Distrib and Adjs'!AQ15","v":5399},{"$f":"'2_State Distrib and Adjs'!AP15","v":175060293},null,null,null,null,null,null,null,null,null,null,175060293,null,{"$f":"'2_State Distrib and Adjs'!AU15","v":0},{"$f":"'2_State Distrib and Adjs'!AV15","v":0},{"$f":"'2_State Distrib and Adjs'!AW15","v":0},175060293,null,null,175060293,{"$f":"'2_State Distrib and Adjs'!AR15","v":0},{"$f":"'2_State Distrib and Adjs'!AY15","v":231000},{"$f":"'2_State Distrib and Adjs'!AZ15","v":1046850},{"$f":"'2_State Distrib and Adjs'!BA15","v":4598674},{"$f":"'2_State Distrib and Adjs'!BB15","v":3678939},{"$f":"'2_State Distrib and Adjs'!BD15","v":191513767},{"$f":"'2_State Distrib and Adjs'!BE15","v":0},{"$f":"'2_State Distrib and Adjs'!BF15","v":191513767},{"$f":"'2_State Distrib and Adjs'!BG15","v":15959481},{"$f":"'2_State Distrib and Adjs'!BH15","v":0},{"$f":"'2_State Distrib and Adjs'!BI15","v":796746},{"$f":"'2_State Distrib and Adjs'!BJ15","v":0},{"$f":"'2_State Distrib and Adjs'!BL15","v":192310513},192310513,null,{"$f":"-'New Type 2 Res Summary'!AG15-'5A3_OJJ'!P15-'5B2_RSD LA'!AI7","v":{"$error":"#REF!"}},{"$f":"-'New Type 2 Res Summary'!AH15-'5B2_RSD LA'!AJ7","v":{"$error":"#REF!"}},{"$f":"-'New Type 2 Res Summary'!AI15-'5B2_RSD LA'!AK7","v":{"$error":"#REF!"}},{"$f":"-'New Type 2 Res Summary'!AJ15-'5B2_RSD LA'!AL7","v":{"$error":"#REF!"}},{"$f":"-'New Type 2 Res Summary'!AK15-'5B2_RSD LA'!AM7","v":{"$error":"#REF!"}},{"$f":"-'New Type 2 Res Summary'!AL15-'5B2_RSD LA'!AN7","v":{"$error":"#REF!"}},{"$f":"-'New Type 2 Res Summary'!AM15-'5A3_OJJ'!P15-'5B2_RSD LA'!AO7","v":{"$error":"#REF!"}},null,{"$f":"-'New Type 2 Res Summary'!AN15-'5B2_RSD LA'!AQ7","v":{"$error":"#REF!"}},{"$f":"-'New Type 2 Res Summary'!AO15-'5A3_OJJ'!P15-'5B2_RSD LA'!AS7","v":{"$error":"#REF!"}},null,{"$f":"-'New Type 2 Res Summary'!AQ15-'5A3_OJJ'!P15-'5B2_RSD LA'!AU7","v":{"$error":"#REF!"}},{"$f":"'2A-1_EFT (Annual)'!AS15","v":-9363507},{"$f":"'2A-1_EFT (Annual)'!#REF!+'2A-1_EFT (Annual)'!#REF!","v":{"$error":"#REF!"}},{"$error":"#REF!"},{"$f":"'2A-2_EFT (Monthly)'!AS15","v":-779768},182947006,{"$f":"'2A-2_EFT (Monthly)'!AT15","v":15179713},null,null,null,{"$f":"'2A-2_EFT (Monthly)'!#REF!+'2A-2_EFT (Monthly)'!#REF!","v":{"$error":"#REF!"}},null,{"$error":"#REF!"}]
[10,10,"Calcasieu",{"$f":"'8_2.1.24 SIS BASE'!C16","v":27438},{"$f":"'2_State Distrib and Adjs'!AQ16","v":4622},{"$f":"'2_State Distrib and Adjs'!AP16","v":126827803},null,null,null,null,null,null,null,null,null,null,126827803,null,{"$f":"'2_State Distrib and Adjs'!AU16","v":0},{"$f":"'2_State Distrib and Adjs'!AV16","v":0},{"$f":"'2_State Distrib and Adjs'!AW16","v":0},126827803,null,null,126827803,{"$f":"'2_State Distrib and Adjs'!AR16","v":0},{"$f":"'2_State Distrib and Adjs'!AY16","v":1029000},{"$f":"'2_State Distrib and Adjs'!AZ16","v":848540},{"$f":"'2_State Distrib and Adjs'!BA16","v":4715136},{"$f":"'2_State Distrib and Adjs'!BB16","v":3772109},{"$f":"'2_State Distrib and Adjs'!BD16","v":144265291},{"$f":"'2_State Distrib and Adjs'!BE16","v":0},{"$f":"'2_State Distrib and Adjs'!BF16","v":144265291},{"$f":"'2_State Distrib and Adjs'!BG16","v":12022108},{"$f":"'2_State Distrib and Adjs'!BH16","v":0},{"$f":"'2_State Distrib and Adjs'!BI16","v":678536},{"$f":"'2_State Distrib and Adjs'!BJ16","v":0},{"$f":"'2_State Distrib and Adjs'!BL16","v":144943827},144943827,null,{"$f":"-'New Type 2 Res Summary'!AG16-'5A3_OJJ'!P16","v":{"$error":"#REF!"}},{"$f":"-'New Type 2 Res Summary'!AH16","v":{"$error":"#REF!"}},{"$f":"-'New Type 2 Res Summary'!AI16","v":{"$error":"#REF!"}},{"$f":"-'New Type 2 Res Summary'!AJ16","v":{"$error":"#REF!"}},{"$f":"-'New Type 2 Res Summary'!AK16","v":{"$error":"#REF!"}},{"$f":"-'New Type 2 Res Summary'!AL16","v":{"$error":"#REF!"}},{"$f":"-'New Type 2 Res Summary'!AM16-'5A3_OJJ'!P16","v":{"$error":"#REF!"}},null,{"$f":"-'New Type 2 Res Summary'!AN16","v":{"$error":"#REF!"}},{"$f":"-'New Type 2 Res Summary'!AO16-'5A3_OJJ'!P16","v":{"$error":"#REF!"}},null,{"$f":"-'New Type 2 Res Summary'!AQ16-'5A3_OJJ'!P16","v":{"$error":"#REF!"}},{"$f":"'2A-1_EFT (Annual)'!AS16","v":-19398770},{"$f":"'2A-1_EFT (Annual)'!#REF!+'2A-1_EFT (Annual)'!#REF!","v":{"$error":"#REF!"}},{"$error":"#REF!"},{"$f":"'2A-2_EFT (Monthly)'!AS16","v":-1612536},125545057,{"$f":"'2A-2_EFT (Monthly)'!AT16","v":10409572},null,null,null,{"$f":"'2A-2_EFT (Monthly)'!#REF!+'2A-2_EFT (Monthly)'!#REF!","v":{"$error":"#REF!"}},null,{"$error":"#REF!"}]
[11,11,"Caldwell",{"$f":"'8_2.1.24 SIS BASE'!C17","v":1385},{"$f":"'2_State Distrib and Adjs'!AQ17","v":8234},{"$f":"'2_State Distrib and Adjs'!AP17","v":11404626},null,null,null,null,null,null,null,null,null,null,11404626,null,{"$f":"'2_State Distrib and Adjs'!AU17","v":0},{"$f":"'2_State Distrib and Adjs'!AV17","v":0},{"$f":"'2_State Distrib and Adjs'!AW17","v":0},11404626,null,null,11404626,{"$f":"'2_State Distrib and Adjs'!AR17","v":0},{"$f":"'2_State Distrib and Adjs'!AY17","v":0},{"$f":"'2_State Distrib and Adjs'!AZ17","v":43400},{"$f":"'2_State Distrib and Adjs'!BA17","v":259877},{"$f":"'2_State Distrib and Adjs'!BB17","v":207900},{"$f":"'2_State Distrib and Adjs'!BD17","v":12305617},{"$f":"'2_State Distrib and Adjs'!BE17","v":0},{"$f":"'2_State Distrib and Adjs'!BF17","v":12305617},{"$f":"'2_State Distrib and Adjs'!BG17","v":1025468},{"$f":"'2_State Distrib and Adjs'!BH17","v":0},{"$f":"'2_State Distrib and Adjs'!BI17","v":72119},{"$f":"'2_State Distrib and Adjs'!BJ17","v":0},{"$f":"'2_State Distrib and Adjs'!BL17","v":12377736},12377736,null,{"$f":"-'New Type 2 Res Summary'!AG17-'5A3_OJJ'!P17","v":{"$error":"#REF!"}},{"$f":"-'New Type 2 Res Summary'!AH17","v":{"$error":"#REF!"}},{"$f":"-'New Type 2 Res Summary'!AI17","v":{"$error":"#REF!"}},{"$f":"-'New Type 2 Res Summary'!AJ17","v":{"$error":"#REF!"}},{"$f":"-'New Type 2 Res Summary'!AK17","v":{"$error":"#REF!"}},{"$f":"-'New Type 2 Res Summary'!AL17","v":{"$error":"#REF!"}},{"$f":"-'New Type 2 Res Summary'!AM17-'5A3_OJJ'!P17","v":{"$error":"#REF!"}},null,{"$f":"-'New Type 2 Res Summary'!AN17","v":{"$error":"#REF!"}},{"$f":"-'New Type 2 Res Summary'!AO17-'5A3_OJJ'!P17","v":{"$error":"#REF!"}},null,{"$f":"-'New Type 2 Res Summary'!AQ17-'5A3_OJJ'!P17","v":{"$error":"#REF!"}},{"$f":"'2A-1_EFT (Annual)'!AS17","v":-76367},{"$f":"'2A-1_EFT (Annual)'!#REF!+'2A-1_EFT (Annual)'!#REF!","v":{"$error":"#REF!"}},{"$error":"#REF!"},{"$f":"'2A-2_EFT (Monthly)'!AS17","v":-6348},12301369,{"$f":"'2A-2_EFT (Monthly)'!AT17","v":1019120},null,null,null,{"$f":"'2A-2_EFT (Monthly)'!#REF!+'2A-2_EFT (Monthly)'!#REF!","v":{"$error":"#REF!"}},null,{"$error":"#REF!"}]
[12,12,"Cameron",{"$f":"'8_2.1.24 SIS BASE'!C18","v":1066},{"$f":"'2_State Distrib and Adjs'!AQ18","v":2817},{"$f":"'2_State Distrib and Adjs'!AP18","v":3002599},null,null,null,null,null,null,null,null,null,null,3002599,null,{"$f":"'2_State Distrib and Adjs'!AU18","v":0},{"$f":"'2_State Distrib and Adjs'!AV18","v":0},{"$f":"'2_State Distrib and Adjs'!AW18","v":0},3002599,null,null,3002599,{"$f":"'2_State Distrib and Adjs'!AR18","v":0},{"$f":"'2_State Distrib and Adjs'!AY18","v":0},{"$f":"'2_State Distrib and Adjs'!AZ18","v":35350},{"$f":"'2_State Distrib and Adjs'!BA18","v":256365},{"$f":"'2_State Distrib and Adjs'!BB18","v":205091},{"$f":"'2_State Distrib and Adjs'!BD18","v":3883952},{"$f":"'2_State Distrib and Adjs'!BE18","v":0},{"$f":"'2_State Distrib and Adjs'!BF18","v":3883952},{"$f":"'2_State Distrib and Adjs'!BG18","v":323663},{"$f":"'2_State Distrib and Adjs'!BH18","v":0},{"$f":"'2_State Distrib and Adjs'!BI18","v":25000},{"$f":"'2_State Distrib and Adjs'!BJ18","v":0},{"$f":"'2_State Distrib and Adjs'!BL18","v":3908952},3908952,null,{"$f":"-'New Type 2 Res Summary'!AG18-'5A3_OJJ'!P18","v":{"$error":"#REF!"}},{"$f":"-'New Type 2 Res Summary'!AH18","v":{"$error":"#REF!"}},{"$f":"-'New Type 2 Res Summary'!AI18","v":{"$error":"#REF!"}},{"$f":"-'New Type 2 Res Summary'!AJ18","v":{"$error":"#REF!"}},{"$f":"-'New Type 2 Res Summary'!AK18","v":{"$error":"#REF!"}},{"$f":"-'New Type 2 Res Summary'!AL18","v":{"$error":"#REF!"}},{"$f":"-'New Type 2 Res Summary'!AM18-'5A3_OJJ'!P18","v":{"$error":"#REF!"}},null,{"$f":"-'New Type 2 Res Summary'!AN18","v":{"$error":"#REF!"}},{"$f":"-'New Type 2 Res Summary'!AO18-'5A3_OJJ'!P18","v":{"$error":"#REF!"}},null,{"$f":"-'New Type 2 Res Summary'!AQ18-'5A3_OJJ'!P18","v":{"$error":"#REF!"}},{"$f":"'2A-1_EFT (Annual)'!AS18","v":-118388},{"$f":"'2A-1_EFT (Annual)'!#REF!+'2A-1_EFT (Annual)'!#REF!","v":{"$error":"#REF!"}},{"$error":"#REF!"},{"$f":"'2A-2_EFT (Monthly)'!AS18","v":-9841},3790564,{"$f":"'2A-2_EFT (Monthly)'!AT18","v":313822},null,null,null,{"$f":"'2A-2_EFT (Monthly)'!#REF!+'2A-2_EFT (Monthly)'!#REF!","v":{"$error":"#REF!"}},null,{"$error":"#REF!"}]
[13,13,"Catahoula",{"$f":"'8_2.1.24 SIS BASE'!C19","v":912},{"$f":"'2_State Distrib and Adjs'!AQ19","v":7417},{"$f":"'2_State Distrib and Adjs'!AP19","v":6764024},null,null,null,null,null,null,null,null,null,null,6764024,null,{"$f":"'2_State Distrib and Adjs'!AU19","v":0},{"$f":"'2_State Distrib and Adjs'!AV19","v":0},{"$f":"'2_State Distrib and Adjs'!AW19","v":0},6764024,null,null,6764024,{"$f":"'2_State Distrib and Adjs'!AR19","v":0},{"$f":"'2_State Distrib and Adjs'!AY19","v":0},{"$f":"'2_State Distrib and Adjs'!AZ19","v":27370},{"$f":"'2_State Distrib and Adjs'!BA19","v":184645},{"$f":"'2_State Distrib and Adjs'!BB19","v":147715},{"$f":"'2_State Distrib and Adjs'!BD19","v":7400721},{"$f":"'2_State Distrib and Adjs'!BE19","v":0},{"$f":"'2_State Distrib and Adjs'!BF19","v":7400721},{"$f":"'2_State Distrib and Adjs'!BG19","v":616727},{"$f":"'2_State Distrib and Adjs'!BH19","v":0},{"$f":"'2_State Distrib and Adjs'!BI19","v":25000},{"$f":"'2_State Distrib and Adjs'!BJ19","v":0},{"$f":"'2_State Distrib and Adjs'!BL19","v":7425721},7425721,null,{"$f":"-'New Type 2 Res Summary'!AG19-'5A3_OJJ'!P19","v":{"$error":"#REF!"}},{"$f":"-'New Type 2 Res Summary'!AH19","v":{"$error":"#REF!"}},{"$f":"-'New Type 2 Res Summary'!AI19","v":{"$error":"#REF!"}},{"$f":"-'New Type 2 Res Summary'!AJ19","v":{"$error":"#REF!"}},{"$f":"-'New Type 2 Res Summary'!AK19","v":{"$error":"#REF!"}},{"$f":"-'New Type 2 Res Summary'!AL19","v":{"$error":"#REF!"}},{"$f":"-'New Type 2 Res Summary'!AM19-'5A3_OJJ'!P19","v":{"$error":"#REF!"}},null,{"$f":"-'New Type 2 Res Summary'!AN19","v":{"$error":"#REF!"}},{"$f":"-'New Type 2 Res Summary'!AO19-'5A3_OJJ'!P19","v":{"$error":"#REF!"}},null,{"$f":"-'New Type 2 Res Summary'!AQ19-'5A3_OJJ'!P19","v":{"$error":"#REF!"}},{"$f":"'2A-1_EFT (Annual)'!AS19","v":-342849},{"$f":"'2A-1_EFT (Annual)'!#REF!+'2A-1_EFT (Annual)'!#REF!","v":{"$error":"#REF!"}},{"$error":"#REF!"},{"$f":"'2A-2_EFT (Monthly)'!AS19","v":-28500},7082872,{"$f":"'2A-2_EFT (Monthly)'!AT19","v":588227},null,null,null,{"$f":"'2A-2_EFT (Monthly)'!#REF!+'2A-2_EFT (Monthly)'!#REF!","v":{"$error":"#REF!"}},null,{"$error":"#REF!"}]
[14,14,"Claiborne",{"$f":"'8_2.1.24 SIS BASE'!C20","v":1529},{"$f":"'2_State Distrib and Adjs'!AQ20","v":7989},{"$f":"'2_State Distrib and Adjs'!AP20","v":12215561},null,null,null,null,null,null,null,null,null,null,12215561,null,{"$f":"'2_State Distrib and Adjs'!AU20","v":0},{"$f":"'2_State Distrib and Adjs'!AV20","v":0},{"$f":"'2_State Distrib and Adjs'!AW20","v":0},12215561,null,null,12215561,{"$f":"'2_State Distrib and Adjs'!AR20","v":0},{"$f":"'2_State Distrib and Adjs'!AY20","v":0},{"$f":"'2_State Distrib and Adjs'!AZ20","v":44800},{"$f":"'2_State Distrib and Adjs'!BA20","v":273706},{"$f":"'2_State Distrib and Adjs'!BB20","v":218966},{"$f":"'2_State Distrib and Adjs'!BD20","v":13163592},{"$f":"'2_State Distrib and Adjs'!BE20","v":0},{"$f":"'2_State Distrib and Adjs'!BF20","v":13163592},{"$f":"'2_State Distrib and Adjs'!BG20","v":1096966},{"$f":"'2_State Distrib and Adjs'!BH20","v":0},{"$f":"'2_State Distrib and Adjs'!BI20","v":31089},{"$f":"'2_State Distrib and Adjs'!BJ20","v":0},{"$f":"'2_State Distrib and Adjs'!BL20","v":13194681},13194681,null,{"$f":"-'New Type 2 Res Summary'!AG20-'5A3_OJJ'!P20","v":{"$error":"#REF!"}},{"$f":"-'New Type 2 Res Summary'!AH20","v":{"$error":"#REF!"}},{"$f":"-'New Type 2 Res Summary'!AI20","v":{"$error":"#REF!"}},{"$f":"-'New Type 2 Res Summary'!AJ20","v":{"$error":"#REF!"}},{"$f":"-'New Type 2 Res Summary'!AK20","v":{"$error":"#REF!"}},{"$f":"-'New Type 2 Res Summary'!AL20","v":{"$error":"#REF!"}},{"$f":"-'New Type 2 Res Summary'!AM20-'5A3_OJJ'!P20","v":{"$error":"#REF!"}},null,{"$f":"-'New Type 2 Res Summary'!AN20","v":{"$error":"#REF!"}},{"$f":"-'New Type 2 Res Summary'!AO20-'5A3_OJJ'!P20","v":{"$error":"#REF!"}},null,{"$f":"-'New Type 2 Res Summary'!AQ20-'5A3_OJJ'!P20","v":{"$error":"#REF!"}},{"$f":"'2A-1_EFT (Annual)'!AS20","v":-393198},{"$f":"'2A-1_EFT (Annual)'!#REF!+'2A-1_EFT (Annual)'!#REF!","v":{"$error":"#REF!"}},{"$error":"#REF!"},{"$f":"'2A-2_EFT (Monthly)'!AS20","v":-32685},12801483,{"$f":"'2A-2_EFT (Monthly)'!AT20","v":1064281},null,null,null,{"$f":"'2A-2_EFT (Monthly)'!#REF!+'2A-2_EFT (Monthly)'!#REF!","v":{"$error":"#REF!"}},null,{"$error":"#REF!"}]
[15,15,"Concordia",{"$f":"'8_2.1.24 SIS BASE'!C21","v":2825},{"$f":"'2_State Distrib and Adjs'!AQ21","v":7321},{"$f":"'2_State Distrib and Adjs'!AP21","v":20682514},null,null,null,null,null,null,null,null,null,null,20682514,null,{"$f":"'2_State Distrib and Adjs'!AU21","v":0},{"$f":"'2_State Distrib and Adjs'!AV21","v":0},{"$f":"'2_State Distrib and Adjs'!AW21","v":0},20682514,null,null,20682514,{"$f":"'2_State Distrib and Adjs'!AR21","v":0},{"$f":"'2_State Distrib and Adjs'!AY21","v":42000},{"$f":"'2_State Distrib and Adjs'!AZ21","v":87710},{"$f":"'2_State Distrib and Adjs'!BA21","v":515113},{"$f":"'2_State Distrib and Adjs'!BB21","v":412091},{"$f":"'2_State Distrib and Adjs'!BD21","v":22512099},{"$f":"'2_State Distrib and Adjs'!BE21","v":0},{"$f":"'2_State Distrib and Adjs'!BF21","v":22512099},{"$f":"'2_State Distrib and Adjs'!BG21","v":1876008},{"$f":"'2_State Distrib and Adjs'!BH21","v":0},{"$f":"'2_State Distrib and Adjs'!BI21","v":87302},{"$f":"'2_State Distrib and Adjs'!BJ21","v":0},{"$f":"'2_State Distrib and Adjs'!BL21","v":22599401},22599401,null,{"$f":"-'New Type 2 Res Summary'!AG21-'5A3_OJJ'!P21","v":{"$error":"#REF!"}},{"$f":"-'New Type 2 Res Summary'!AH21","v":{"$error":"#REF!"}},{"$f":"-'New Type 2 Res Summary'!AI21","v":{"$error":"#REF!"}},{"$f":"-'New Type 2 Res Summary'!AJ21","v":{"$error":"#REF!"}},{"$f":"-'New Type 2 Res Summary'!AK21","v":{"$error":"#REF!"}},{"$f":"-'New Type 2 Res Summary'!AL21","v":{"$error":"#REF!"}},{"$f":"-'New Type 2 Res Summary'!AM21-'5A3_OJJ'!P21","v":{"$error":"#REF!"}},null,{"$f":"-'New Type 2 Res Summary'!AN21","v":{"$error":"#REF!"}},{"$f":"-'New Type 2 Res Summary'!AO21-'5A3_OJJ'!P21","v":{"$error":"#REF!"}},null,{"$f":"-'New Type 2 Res Summary'!AQ21-'5A3_OJJ'!P21","v":{"$error":"#REF!"}},{"$f":"'2A-1_EFT (Annual)'!AS21","v":-1464471},{"$f":"'2A-1_EFT (Annual)'!#REF!+'2A-1_EFT (Annual)'!#REF!","v":{"$error":"#REF!"}},{"$error":"#REF!"},{"$f":"'2A-2_EFT (Monthly)'!AS21","v":-121735},21134930,{"$f":"'2A-2_EFT (Monthly)'!AT21","v":1754273},null,null,null,{"$f":"'2A-2_EFT (Monthly)'!#REF!+'2A-2_EFT (Monthly)'!#REF!","v":{"$error":"#REF!"}},null,{"$error":"#REF!"}]
[16,16,"DeSoto",{"$f":"'8_2.1.24 SIS BASE'!C22","v":4698},{"$f":"'2_State Distrib and Adjs'!AQ22","v":3085},{"$f":"'2_State Distrib and Adjs'!AP22","v":14494509},null,null,null,null,null,null,null,null,null,null,14494509,null,{"$f":"'2_State Distrib and Adjs'!AU22","v":0},{"$f":"'2_State Distrib and Adjs'!AV22","v":0},{"$f":"'2_State Distrib and Adjs'!AW22","v":0},14494509,null,null,14494509,{"$f":"'2_State Distrib and Adjs'!AR22","v":0},{"$f":"'2_State Distrib and Adjs'!AY22","v":0},{"$f":"'2_State Distrib and Adjs'!AZ22","v":153300},{"$f":"'2_State Distrib and Adjs'!BA22","v":785097},{"$f":"'2_State Distrib and Adjs'!BB22","v":628078},{"$f":"'2_State Distrib and Adjs'!BD22","v":17238629},{"$f":"'2_State Distrib and Adjs'!BE22","v":0},{"$f":"'2_State Distrib and Adjs'!BF22","v":17238629},{"$f":"'2_State Distrib and Adjs'!BG22","v":1436552},{"$f":"'2_State Distrib and Adjs'!BH22","v":0},{"$f":"'2_State Distrib and Adjs'!BI22","v":259738},{"$f":"'2_State Distrib and Adjs'!BJ22","v":0},{"$f":"'2_State Distrib and Adjs'!BL22","v":17498367},17498367,null,{"$f":"-'New Type 2 Res Summary'!AG22-'5A3_OJJ'!P22","v":{"$error":"#REF!"}},{"$f":"-'New Type 2 Res Summary'!AH22","v":{"$error":"#REF!"}},{"$f":"-'New Type 2 Res Summary'!AI22","v":{"$error":"#REF!"}},{"$f":"-'New Type 2 Res Summary'!AJ22","v":{"$error":"#REF!"}},{"$f":"-'New Type 2 Res Summary'!AK22","v":{"$error":"#REF!"}},{"$f":"-'New Type 2 Res Summary'!AL22","v":{"$error":"#REF!"}},{"$f":"-'New Type 2 Res Summary'!AM22-'5A3_OJJ'!P22","v":{"$error":"#REF!"}},null,{"$f":"-'New Type 2 Res Summary'!AN22","v":{"$error":"#REF!"}},{"$f":"-'New Type 2 Res Summary'!AO22-'5A3_OJJ'!P22","v":{"$error":"#REF!"}},null,{"$f":"-'New Type 2 Res Summary'!AQ22-'5A3_OJJ'!P22","v":{"$error":"#REF!"}},{"$f":"'2A-1_EFT (Annual)'!AS22","v":-636637},{"$f":"'2A-1_EFT (Annual)'!#REF!+'2A-1_EFT (Annual)'!#REF!","v":{"$error":"#REF!"}},{"$error":"#REF!"},{"$f":"'2A-2_EFT (Monthly)'!AS22","v":-52924},16861730,{"$f":"'2A-2_EFT (Monthly)'!AT22","v":1383628},null,null,null,{"$f":"'2A-2_EFT (Monthly)'!#REF!+'2A-2_EFT (Monthly)'!#REF!","v":{"$error":"#REF!"}},null,{"$error":"#REF!"}]
[17,17,"East Baton Rouge",{"$f":"'8_2.1.24 SIS BASE'!C23","v":38555},{"$f":"'2_State Distrib and Adjs'!AQ23","v":4427},{"$f":"'2_State Distrib and Adjs'!AP23","v":170678713},null,null,null,null,null,null,null,null,null,null,170678713,null,{"$f":"'2_State Distrib and Adjs'!AU23","v":0},{"$f":"'2_State Distrib and Adjs'!AV23","v":0},{"$f":"'2_State Distrib and Adjs'!AW23","v":0},170678713,null,null,170678713,{"$f":"'2_State Distrib and Adjs'!AR23","v":0},{"$f":"'2_State Distrib and Adjs'!AY23","v":609000},{"$f":"'2_State Distrib and Adjs'!AZ23","v":1151640},{"$f":"'2_State Distrib and Adjs'!BA23","v":6151176},{"$f":"'2_State Distrib and Adjs'!BB23","v":4920941},{"$f":"'2_State Distrib and Adjs'!BD23","v":192738234},{"$f":"'2_State Distrib and Adjs'!BE23","v":0},{"$f":"'2_State Distrib and Adjs'!BF23","v":192738234},{"$f":"'2_State Distrib and Adjs'!BG23","v":16061520},{"$f":"'2_State Distrib and Adjs'!BH23","v":0},{"$f":"'2_State Distrib and Adjs'!BI23","v":1770266},{"$f":"'2_State Distrib and Adjs'!BJ23","v":0},{"$f":"'2_State Distrib and Adjs'!BL23","v":194508500},194508500,null,{"$f":"-'New Type 2 Res Summary'!AG23-'5A3_OJJ'!P23-'5B2_RSD LA'!AI15","v":{"$error":"#REF!"}},{"$f":"-'New Type 2 Res Summary'!AH23-'5B2_RSD LA'!AJ15","v":{"$error":"#REF!"}},{"$f":"-'New Type 2 Res Summary'!AI23-'5B2_RSD LA'!AK15","v":{"$error":"#REF!"}},{"$f":"-'New Type 2 Res Summary'!AJ23-'5B2_RSD LA'!AL15","v":{"$error":"#REF!"}},{"$f":"-'New Type 2 Res Summary'!AK23-'5B2_RSD LA'!AM15","v":{"$error":"#REF!"}},{"$f":"-'New Type 2 Res Summary'!AL23-'5B2_RSD LA'!AN15","v":{"$error":"#REF!"}},{"$f":"-'New Type 2 Res Summary'!AM23-'5A3_OJJ'!P23-'5B2_RSD LA'!AO15","v":{"$error":"#REF!"}},{"$f":"-'5B2_RSD LA'!AP15","v":49114},{"$f":"-'New Type 2 Res Summary'!AN23-'5B2_RSD LA'!AQ15","v":{"$error":"#REF!"}},{"$f":"-'New Type 2 Res Summary'!AO23-'5A3_OJJ'!P23-'5B2_RSD LA'!AS15","v":{"$error":"#REF!"}},null,{"$f":"-'New Type 2 Res Summary'!AQ23-'5A3_OJJ'!P23-'5B2_RSD LA'!AU15","v":{"$error":"#REF!"}},{"$f":"'2A-1_EFT (Annual)'!AS23","v":-55521967},{"$f":"'2A-1_EFT (Annual)'!#REF!+'2A-1_EFT (Annual)'!#REF!","v":{"$error":"#REF!"}},{"$error":"#REF!"},{"$f":"'2A-2_EFT (Monthly)'!AS23","v":-4611742},138986533,{"$f":"'2A-2_EFT (Monthly)'!AT23","v":11449778},null,null,null,{"$f":"'2A-2_EFT (Monthly)'!#REF!+'2A-2_EFT (Monthly)'!#REF!","v":{"$error":"#REF!"}},null,{"$error":"#REF!"}]
[18,18,"East Carroll",{"$f":"'8_2.1.24 SIS BASE'!C24","v":729},{"$f":"'2_State Distrib and Adjs'!AQ24","v":7312},{"$f":"'2_State Distrib and Adjs'!AP24","v":5330236},null,null,null,null,null,null,null,null,null,null,5330236,null,{"$f":"'2_State Distrib and Adjs'!AU24","v":0},{"$f":"'2_State Distrib and Adjs'!AV24","v":0},{"$f":"'2_State Distrib and Adjs'!AW24","v":0},5330236,null,null,5330236,{"$f":"'2_State Distrib and Adjs'!AR24","v":0},{"$f":"'2_State Distrib and Adjs'!AY24","v":42000},{"$f":"'2_State Distrib and Adjs'!AZ24","v":22540},{"$f":"'2_State Distrib and Adjs'!BA24","v":131023},{"$f":"'2_State Distrib and Adjs'!BB24","v":104819},{"$f":"'2_State Distrib and Adjs'!BD24","v":5827150},{"$f":"'2_State Distrib and Adjs'!BE24","v":0},{"$f":"'2_State Distrib and Adjs'!BF24","v":5827150},{"$f":"'2_State Distrib and Adjs'!BG24","v":485596},{"$f":"'2_State Distrib and Adjs'!BH24","v":0},{"$f":"'2_State Distrib and Adjs'!BI24","v":35246},{"$f":"'2_State Distrib and Adjs'!BJ24","v":0},{"$f":"'2_State Distrib and Adjs'!BL24","v":5862396},5862396,null,{"$f":"-'New Type 2 Res Summary'!AG24-'5A3_OJJ'!P24","v":{"$error":"#REF!"}},{"$f":"-'New Type 2 Res Summary'!AH24","v":{"$error":"#REF!"}},{"$f":"-'New Type 2 Res Summary'!AI24","v":{"$error":"#REF!"}},{"$f":"-'New Type 2 Res Summary'!AJ24","v":{"$error":"#REF!"}},{"$f":"-'New Type 2 Res Summary'!AK24","v":{"$error":"#REF!"}},{"$f":"-'New Type 2 Res Summary'!AL24","v":{"$error":"#REF!"}},{"$f":"-'New Type 2 Res Summary'!AM24-'5A3_OJJ'!P24","v":{"$error":"#REF!"}},null,{"$f":"-'New Type 2 Res Summary'!AN24","v":{"$error":"#REF!"}},{"$f":"-'New Type 2 Res Summary'!AO24-'5A3_OJJ'!P24","v":{"$error":"#REF!"}},null,{"$f":"-'New Type 2 Res Summary'!AQ24-'5A3_OJJ'!P24","v":{"$error":"#REF!"}},{"$f":"'2A-1_EFT (Annual)'!AS24","v":-13146},{"$f":"'2A-1_EFT (Annual)'!#REF!+'2A-1_EFT (Annual)'!#REF!","v":{"$error":"#REF!"}},{"$error":"#REF!"},{"$f":"'2A-2_EFT (Monthly)'!AS24","v":-1094},5849250,{"$f":"'2A-2_EFT (Monthly)'!AT24","v":484502},null,null,null,{"$f":"'2A-2_EFT (Monthly)'!#REF!+'2A-2_EFT (Monthly)'!#REF!","v":{"$error":"#REF!"}},null,{"$error":"#REF!"}]
[19,19,"East Feliciana",{"$f":"'8_2.1.24 SIS BASE'!C25","v":1602},{"$f":"'2_State Distrib and Adjs'!AQ25","v":5375},{"$f":"'2_State Distrib and Adjs'!AP25","v":8610710},null,null,null,null,null,null,null,null,null,null,8610710,null,{"$f":"'2_State Distrib and Adjs'!AU25","v":0},{"$f":"'2_State Distrib and Adjs'!AV25","v":0},{"$f":"'2_State Distrib and Adjs'!AW25","v":0},8610710,null,null,8610710,{"$f":"'2_State Distrib and Adjs'!AR25","v":0},{"$f":"'2_State Distrib and Adjs'!AY25","v":0},{"$f":"'2_State Distrib and Adjs'!AZ25","v":53060},{"$f":"'2_State Distrib and Adjs'!BA25","v":230998},{"$f":"'2_State Distrib and Adjs'!BB25","v":184799},{"$f":"'2_State Distrib and Adjs'!BD25","v":9426063},{"$f":"'2_State Distrib and Adjs'!BE25","v":0},{"$f":"'2_State Distrib and Adjs'!BF25","v":9426063},{"$f":"'2_State Distrib and Adjs'!BG25","v":785505},{"$f":"'2_State Distrib and Adjs'!BH25","v":0},{"$f":"'2_State Distrib and Adjs'!BI25","v":30366},{"$f":"'2_State Distrib and Adjs'!BJ25","v":0},{"$f":"'2_State Distrib and Adjs'!BL25","v":9456429},9456429,null,{"$f":"-'New Type 2 Res Summary'!AG25-'5A3_OJJ'!P25","v":{"$error":"#REF!"}},{"$f":"-'New Type 2 Res Summary'!AH25","v":{"$error":"#REF!"}},{"$f":"-'New Type 2 Res Summary'!AI25","v":{"$error":"#REF!"}},{"$f":"-'New Type 2 Res Summary'!AJ25","v":{"$error":"#REF!"}},{"$f":"-'New Type 2 Res Summary'!AK25","v":{"$error":"#REF!"}},{"$f":"-'New Type 2 Res Summary'!AL25","v":{"$error":"#REF!"}},{"$f":"-'New Type 2 Res Summary'!AM25-'5A3_OJJ'!P25","v":{"$error":"#REF!"}},null,{"$f":"-'New Type 2 Res Summary'!AN25","v":{"$error":"#REF!"}},{"$f":"-'New Type 2 Res Summary'!AO25-'5A3_OJJ'!P25","v":{"$error":"#REF!"}},null,{"$f":"-'New Type 2 Res Summary'!AQ25-'5A3_OJJ'!P25","v":{"$error":"#REF!"}},{"$f":"'2A-1_EFT (Annual)'!AS25","v":-299623},{"$f":"'2A-1_EFT (Annual)'!#REF!+'2A-1_EFT (Annual)'!#REF!","v":{"$error":"#REF!"}},{"$error":"#REF!"},{"$f":"'2A-2_EFT (Monthly)'!AS25","v":-24907},9156806,{"$f":"'2A-2_EFT (Monthly)'!AT25","v":760598},null,null,null,{"$f":"'2A-2_EFT (Monthly)'!#REF!+'2A-2_EFT (Monthly)'!#REF!","v":{"$error":"#REF!"}},null,{"$error":"#REF!"}]
[20,20,"Evangeline",{"$f":"'8_2.1.24 SIS BASE'!C26","v":5197},{"$f":"'2_State Distrib and Adjs'!AQ26","v":7238},{"$f":"'2_State Distrib and Adjs'!AP26","v":37613479},null,null,null,null,null,null,null,null,null,null,37613479,null,{"$f":"'2_State Distrib and Adjs'!AU26","v":0},{"$f":"'2_State Distrib and Adjs'!AV26","v":0},{"$f":"'2_State Distrib and Adjs'!AW26","v":0},37613479,null,null,37613479,{"$f":"'2_State Distrib and Adjs'!AR26","v":0},{"$f":"'2_State Distrib and Adjs'!AY26","v":168000},{"$f":"'2_State Distrib and Adjs'!AZ26","v":164220},{"$f":"'2_State Distrib and Adjs'!BA26","v":867526},{"$f":"'2_State Distrib and Adjs'!BB26","v":694021},{"$f":"'2_State Distrib and Adjs'!BD26","v":40808536},{"$f":"'2_State Distrib and Adjs'!BE26","v":0},{"$f":"'2_State Distrib and Adjs'!BF26","v":40808536},{"$f":"'2_State Distrib and Adjs'!BG26","v":3400711},{"$f":"'2_State Distrib and Adjs'!BH26","v":0},{"$f":"'2_State Distrib and Adjs'!BI26","v":151288},{"$f":"'2_State Distrib and Adjs'!BJ26","v":0},{"$f":"'2_State Distrib and Adjs'!BL26","v":40959824},40959824,null,{"$f":"-'New Type 2 Res Summary'!AG26-'5A3_OJJ'!P26","v":{"$error":"#REF!"}},{"$f":"-'New Type 2 Res Summary'!AH26","v":{"$error":"#REF!"}},{"$f":"-'New Type 2 Res Summary'!AI26","v":{"$error":"#REF!"}},{"$f":"-'New Type 2 Res Summary'!AJ26","v":{"$error":"#REF!"}},{"$f":"-'New Type 2 Res Summary'!AK26","v":{"$error":"#REF!"}},{"$f":"-'New Type 2 Res Summary'!AL26","v":{"$error":"#REF!"}},{"$f":"-'New Type 2 Res Summary'!AM26-'5A3_OJJ'!P26","v":{"$error":"#REF!"}},null,{"$f":"-'New Type 2 Res Summary'!AN26","v":{"$error":"#REF!"}},{"$f":"-'New Type 2 Res Summary'!AO26-'5A3_OJJ'!P26","v":{"$error":"#REF!"}},null,{"$f":"-'New Type 2 Res Summary'!AQ26-'5A3_OJJ'!P26","v":{"$error":"#REF!"}},{"$f":"'2A-1_EFT (Annual)'!AS26","v":-135784},{"$f":"'2A-1_EFT (Annual)'!#REF!+'2A-1_EFT (Annual)'!#REF!","v":{"$error":"#REF!"}},{"$error":"#REF!"},{"$f":"'2A-2_EFT (Monthly)'!AS26","v":-11290},40824040,{"$f":"'2A-2_EFT (Monthly)'!AT26","v":3389421},null,null,null,{"$f":"'2A-2_EFT (Monthly)'!#REF!+'2A-2_EFT (Monthly)'!#REF!","v":{"$error":"#REF!"}},null,{"$error":"#REF!"}]
[21,21,"Franklin",{"$f":"'8_2.1.24 SIS BASE'!C27","v":2432},{"$f":"'2_State Distrib and Adjs'!AQ27","v":7490},{"$f":"'2_State Distrib and Adjs'!AP27","v":18216092},null,null,null,null,null,null,null,null,null,null,18216092,null,{"$f":"'2_State Distrib and Adjs'!AU27","v":0},{"$f":"'2_State Distrib and Adjs'!AV27","v":0},{"$f":"'2_State Distrib and Adjs'!AW27","v":0},18216092,null,null,18216092,{"$f":"'2_State Distrib and Adjs'!AR27","v":0},{"$f":"'2_State Distrib and Adjs'!AY27","v":0},{"$f":"'2_State Distrib and Adjs'!AZ27","v":76230},{"$f":"'2_State Distrib and Adjs'!BA27","v":450597},{"$f":"'2_State Distrib and Adjs'!BB27","v":360477},{"$f":"'2_State Distrib and Adjs'!BD27","v":19779292},{"$f":"'2_State Distrib and Adjs'!BE27","v":0},{"$f":"'2_State Distrib and Adjs'!BF27","v":19779292},{"$f":"'2_State Distrib and Adjs'!BG27","v":1648274},{"$f":"'2_State Distrib and Adjs'!BH27","v":0},{"$f":"'2_State Distrib and Adjs'!BI27","v":56033},{"$f":"'2_State Distrib and Adjs'!BJ27","v":0},{"$f":"'2_State Distrib and Adjs'!BL27","v":19835325},19835325,null,{"$f":"-'New Type 2 Res Summary'!AG27-'5A3_OJJ'!P27","v":{"$error":"#REF!"}},{"$f":"-'New Type 2 Res Summary'!AH27","v":{"$error":"#REF!"}},{"$f":"-'New Type 2 Res Summary'!AI27","v":{"$error":"#REF!"}},{"$f":"-'New Type 2 Res Summary'!AJ27","v":{"$error":"#REF!"}},{"$f":"-'New Type 2 Res Summary'!AK27","v":{"$error":"#REF!"}},{"$f":"-'New Type 2 Res Summary'!AL27","v":{"$error":"#REF!"}},{"$f":"-'New Type 2 Res Summary'!AM27-'5A3_OJJ'!P27","v":{"$error":"#REF!"}},null,{"$f":"-'New Type 2 Res Summary'!AN27","v":{"$error":"#REF!"}},{"$f":"-'New Type 2 Res Summary'!AO27-'5A3_OJJ'!P27","v":{"$error":"#REF!"}},null,{"$f":"-'New Type 2 Res Summary'!AQ27-'5A3_OJJ'!P27","v":{"$error":"#REF!"}},{"$f":"'2A-1_EFT (Annual)'!AS27","v":-136339},{"$f":"'2A-1_EFT (Annual)'!#REF!+'2A-1_EFT (Annual)'!#REF!","v":{"$error":"#REF!"}},{"$error":"#REF!"},{"$f":"'2A-2_EFT (Monthly)'!AS27","v":-11335},19698986,{"$f":"'2A-2_EFT (Monthly)'!AT27","v":1636939},null,null,null,{"$f":"'2A-2_EFT (Monthly)'!#REF!+'2A-2_EFT (Monthly)'!#REF!","v":{"$error":"#REF!"}},null,{"$error":"#REF!"}]
[22,22,"Grant",{"$f":"'8_2.1.24 SIS BASE'!C28","v":2657},{"$f":"'2_State Distrib and Adjs'!AQ28","v":8053},{"$f":"'2_State Distrib and Adjs'!AP28","v":21396724},null,null,null,null,null,null,null,null,null,null,21396724,null,{"$f":"'2_State Distrib and Adjs'!AU28","v":0},{"$f":"'2_State Distrib and Adjs'!AV28","v":0},{"$f":"'2_State Distrib and Adjs'!AW28","v":0},21396724,null,null,21396724,{"$f":"'2_State Distrib and Adjs'!AR28","v":0},{"$f":"'2_State Distrib and Adjs'!AY28","v":0},{"$f":"'2_State Distrib and Adjs'!AZ28","v":79100},{"$f":"'2_State Distrib and Adjs'!BA28","v":393644},{"$f":"'2_State Distrib and Adjs'!BB28","v":314915},{"$f":"'2_State Distrib and Adjs'!BD28","v":22774848},{"$f":"'2_State Distrib and Adjs'!BE28","v":0},{"$f":"'2_State Distrib and Adjs'!BF28","v":22774848},{"$f":"'2_State Distrib and Adjs'!BG28","v":1897904},{"$f":"'2_State Distrib and Adjs'!BH28","v":0},{"$f":"'2_State Distrib and Adjs'!BI28","v":63624},{"$f":"'2_State Distrib and Adjs'!BJ28","v":0},{"$f":"'2_State Distrib and Adjs'!BL28","v":22838472},22838472,null,{"$f":"-'New Type 2 Res Summary'!AG28-'5A3_OJJ'!P28","v":{"$error":"#REF!"}},{"$f":"-'New Type 2 Res Summary'!AH28","v":{"$error":"#REF!"}},{"$f":"-'New Type 2 Res Summary'!AI28","v":{"$error":"#REF!"}},{"$f":"-'New Type 2 Res Summary'!AJ28","v":{"$error":"#REF!"}},{"$f":"-'New Type 2 Res Summary'!AK28","v":{"$error":"#REF!"}},{"$f":"-'New Type 2 Res Summary'!AL28","v":{"$error":"#REF!"}},{"$f":"-'New Type 2 Res Summary'!AM28-'5A3_OJJ'!P28","v":{"$error":"#REF!"}},null,{"$f":"-'New Type 2 Res Summary'!AN28","v":{"$error":"#REF!"}},{"$f":"-'New Type 2 Res Summary'!AO28-'5A3_OJJ'!P28","v":{"$error":"#REF!"}},null,{"$f":"-'New Type 2 Res Summary'!AQ28-'5A3_OJJ'!P28","v":{"$error":"#REF!"}},{"$f":"'2A-1_EFT (Annual)'!AS28","v":-58735},{"$f":"'2A-1_EFT (Annual)'!#REF!+'2A-1_EFT (Annual)'!#REF!","v":{"$error":"#REF!"}},{"$error":"#REF!"},{"$f":"'2A-2_EFT (Monthly)'!AS28","v":-4884},22779737,{"$f":"'2A-2_EFT (Monthly)'!AT28","v":1893020},null,null,null,{"$f":"'2A-2_EFT (Monthly)'!#REF!+'2A-2_EFT (Monthly)'!#REF!","v":{"$error":"#REF!"}},null,{"$error":"#REF!"}]
[23,23,"Iberia",{"$f":"'8_2.1.24 SIS BASE'!C29","v":10645},{"$f":"'2_State Distrib and Adjs'!AQ29","v":6324},{"$f":"'2_State Distrib and Adjs'!AP29","v":67315293},null,null,null,null,null,null,null,null,null,null,67315293,null,{"$f":"'2_State Distrib and Adjs'!AU29","v":0},{"$f":"'2_State Distrib and Adjs'!AV29","v":0},{"$f":"'2_State Distrib and Adjs'!AW29","v":0},67315293,null,null,67315293,{"$f":"'2_State Distrib and Adjs'!AR29","v":0},{"$f":"'2_State Distrib and Adjs'!AY29","v":147000},{"$f":"'2_State Distrib and Adjs'!AZ29","v":321580},{"$f":"'2_State Distrib and Adjs'!BA29","v":1613265},{"$f":"'2_State Distrib and Adjs'!BB29","v":1290613},{"$f":"'2_State Distrib and Adjs'!BD29","v":73107649},{"$f":"'2_State Distrib and Adjs'!BE29","v":0},{"$f":"'2_State Distrib and Adjs'!BF29","v":73107649},{"$f":"'2_State Distrib and Adjs'!BG29","v":6092304},{"$f":"'2_State Distrib and Adjs'!BH29","v":0},{"$f":"'2_State Distrib and Adjs'!BI29","v":233348},{"$f":"'2_State Distrib and Adjs'!BJ29","v":0},{"$f":"'2_State Distrib and Adjs'!BL29","v":73340997},73340997,null,{"$f":"-'New Type 2 Res Summary'!AG29-'5A3_OJJ'!P29","v":{"$error":"#REF!"}},{"$f":"-'New Type 2 Res Summary'!AH29","v":{"$error":"#REF!"}},{"$f":"-'New Type 2 Res Summary'!AI29","v":{"$error":"#REF!"}},{"$f":"-'New Type 2 Res Summary'!AJ29","v":{"$error":"#REF!"}},{"$f":"-'New Type 2 Res Summary'!AK29","v":{"$error":"#REF!"}},{"$f":"-'New Type 2 Res Summary'!AL29","v":{"$error":"#REF!"}},{"$f":"-'New Type 2 Res Summary'!AM29-'5A3_OJJ'!P29","v":{"$error":"#REF!"}},null,{"$f":"-'New Type 2 Res Summary'!AN29","v":{"$error":"#REF!"}},{"$f":"-'New Type 2 Res Summary'!AO29-'5A3_OJJ'!P29","v":{"$error":"#REF!"}},null,{"$f":"-'New Type 2 Res Summary'!AQ29-'5A3_OJJ'!P29","v":{"$error":"#REF!"}},{"$f":"'2A-1_EFT (Annual)'!AS29","v":-1430784},{"$f":"'2A-1_EFT (Annual)'!#REF!+'2A-1_EFT (Annual)'!#REF!","v":{"$error":"#REF!"}},{"$error":"#REF!"},{"$f":"'2A-2_EFT (Monthly)'!AS29","v":-118939},71910213,{"$f":"'2A-2_EFT (Monthly)'!AT29","v":5973365},null,null,null,{"$f":"'2A-2_EFT (Monthly)'!#REF!+'2A-2_EFT (Monthly)'!#REF!","v":{"$error":"#REF!"}},null,{"$error":"#REF!"}]
[24,24,"Iberville",{"$f":"'8_2.1.24 SIS BASE'!C30","v":3730},{"$f":"'2_State Distrib and Adjs'!AQ30","v":2882},{"$f":"'2_State Distrib and Adjs'!AP30","v":10750409},null,null,null,null,null,null,null,null,null,null,10750409,null,{"$f":"'2_State Distrib and Adjs'!AU30","v":0},{"$f":"'2_State Distrib and Adjs'!AV30","v":0},{"$f":"'2_State Distrib and Adjs'!AW30","v":0},10750409,null,null,10750409,{"$f":"'2_State Distrib and Adjs'!AR30","v":0},{"$f":"'2_State Distrib and Adjs'!AY30","v":0},{"$f":"'2_State Distrib and Adjs'!AZ30","v":121310},{"$f":"'2_State Distrib and Adjs'!BA30","v":818950},{"$f":"'2_State Distrib and Adjs'!BB30","v":655160},{"$f":"'2_State Distrib and Adjs'!BD30","v":13574255},{"$f":"'2_State Distrib and Adjs'!BE30","v":0},{"$f":"'2_State Distrib and Adjs'!BF30","v":13574255},{"$f":"'2_State Distrib and Adjs'!BG30","v":1131188},{"$f":"'2_State Distrib and Adjs'!BH30","v":0},{"$f":"'2_State Distrib and Adjs'!BI30","v":63805},{"$f":"'2_State Distrib and Adjs'!BJ30","v":0},{"$f":"'2_State Distrib and Adjs'!BL30","v":13638060},13638060,null,{"$f":"-'New Type 2 Res Summary'!AG30-'5A3_OJJ'!P30","v":{"$error":"#REF!"}},{"$f":"-'New Type 2 Res Summary'!AH30","v":{"$error":"#REF!"}},{"$f":"-'New Type 2 Res Summary'!AI30","v":{"$error":"#REF!"}},{"$f":"-'New Type 2 Res Summary'!AJ30","v":{"$error":"#REF!"}},{"$f":"-'New Type 2 Res Summary'!AK30","v":{"$error":"#REF!"}},{"$f":"-'New Type 2 Res Summary'!AL30","v":{"$error":"#REF!"}},{"$f":"-'New Type 2 Res Summary'!AM30-'5A3_OJJ'!P30","v":{"$error":"#REF!"}},null,{"$f":"-'New Type 2 Res Summary'!AN30","v":{"$error":"#REF!"}},{"$f":"-'New Type 2 Res Summary'!AO30-'5A3_OJJ'!P30","v":{"$error":"#REF!"}},null,{"$f":"-'New Type 2 Res Summary'!AQ30-'5A3_OJJ'!P30","v":{"$error":"#REF!"}},{"$f":"'2A-1_EFT (Annual)'!AS30","v":-5625339},{"$f":"'2A-1_EFT (Annual)'!#REF!+'2A-1_EFT (Annual)'!#REF!","v":{"$error":"#REF!"}},{"$error":"#REF!"},{"$f":"'2A-2_EFT (Monthly)'!AS30","v":-467608},8012721,{"$f":"'2A-2_EFT (Monthly)'!AT30","v":663580},null,null,null,{"$f":"'2A-2_EFT (Monthly)'!#REF!+'2A-2_EFT (Monthly)'!#REF!","v":{"$error":"#REF!"}},null,{"$error":"#REF!"}]
[25,25,"Jackson",{"$f":"'8_2.1.24 SIS BASE'!C31","v":1962},{"$f":"'2_State Distrib and Adjs'!AQ31","v":6357},{"$f":"'2_State Distrib and Adjs'!AP31","v":12472514},null,null,null,null,null,null,null,null,null,null,12472514,null,{"$f":"'2_State Distrib and Adjs'!AU31","v":0},{"$f":"'2_State Distrib and Adjs'!AV31","v":0},{"$f":"'2_State Distrib and Adjs'!AW31","v":0},12472514,null,null,12472514,{"$f":"'2_State Distrib and Adjs'!AR31","v":0},{"$f":"'2_State Distrib and Adjs'!AY31","v":0},{"$f":"'2_State Distrib and Adjs'!AZ31","v":64750},{"$f":"'2_State Distrib and Adjs'!BA31","v":342997},{"$f":"'2_State Distrib and Adjs'!BB31","v":274397},{"$f":"'2_State Distrib and Adjs'!BD31","v":13669154},{"$f":"'2_State Distrib and Adjs'!BE31","v":0},{"$f":"'2_State Distrib and Adjs'!BF31","v":13669154},{"$f":"'2_State Distrib and Adjs'!BG31","v":1139096},{"$f":"'2_State Distrib and Adjs'!BH31","v":0},{"$f":"'2_State Distrib and Adjs'!BI31","v":62630},{"$f":"'2_State Distrib and Adjs'!BJ31","v":0},{"$f":"'2_State Distrib and Adjs'!BL31","v":13731784},13731784,null,{"$f":"-'New Type 2 Res Summary'!AG31-'5A3_OJJ'!P31","v":{"$error":"#REF!"}},{"$f":"-'New Type 2 Res Summary'!AH31","v":{"$error":"#REF!"}},{"$f":"-'New Type 2 Res Summary'!AI31","v":{"$error":"#REF!"}},{"$f":"-'New Type 2 Res Summary'!AJ31","v":{"$error":"#REF!"}},{"$f":"-'New Type 2 Res Summary'!AK31","v":{"$error":"#REF!"}},{"$f":"-'New Type 2 Res Summary'!AL31","v":{"$error":"#REF!"}},{"$f":"-'New Type 2 Res Summary'!AM31-'5A3_OJJ'!P31","v":{"$error":"#REF!"}},null,{"$f":"-'New Type 2 Res Summary'!AN31","v":{"$error":"#REF!"}},{"$f":"-'New Type 2 Res Summary'!AO31-'5A3_OJJ'!P31","v":{"$error":"#REF!"}},null,{"$f":"-'New Type 2 Res Summary'!AQ31-'5A3_OJJ'!P31","v":{"$error":"#REF!"}},{"$f":"'2A-1_EFT (Annual)'!AS31","v":-259549},{"$f":"'2A-1_EFT (Annual)'!#REF!+'2A-1_EFT (Annual)'!#REF!","v":{"$error":"#REF!"}},{"$error":"#REF!"},{"$f":"'2A-2_EFT (Monthly)'!AS31","v":-21575},13472235,{"$f":"'2A-2_EFT (Monthly)'!AT31","v":1117521},null,null,null,{"$f":"'2A-2_EFT (Monthly)'!#REF!+'2A-2_EFT (Monthly)'!#REF!","v":{"$error":"#REF!"}},null,{"$error":"#REF!"}]
[26,26,"Jefferson",{"$f":"'8_2.1.24 SIS BASE'!C32","v":46035},{"$f":"'2_State Distrib and Adjs'!AQ32","v":4974},{"$f":"'2_State Distrib and Adjs'!AP32","v":228980508},null,null,null,null,null,null,null,null,null,null,228980508,null,{"$f":"'2_State Distrib and Adjs'!AU32","v":0},{"$f":"'2_State Distrib and Adjs'!AV32","v":0},{"$f":"'2_State Distrib and Adjs'!AW32","v":0},228980508,null,null,228980508,{"$f":"'2_State Distrib and Adjs'!AR32","v":0},{"$f":"'2_State Distrib and Adjs'!AY32","v":504000},{"$f":"'2_State Distrib and Adjs'!AZ32","v":1382920},{"$f":"'2_State Distrib and Adjs'!BA32","v":6575351},{"$f":"'2_State Distrib and Adjs'!BB32","v":5260281},{"$f":"'2_State Distrib and Adjs'!BD32","v":252566088},{"$f":"'2_State Distrib and Adjs'!BE32","v":0},{"$f":"'2_State Distrib and Adjs'!BF32","v":252566088},{"$f":"'2_State Distrib and Adjs'!BG32","v":21047174},{"$f":"'2_State Distrib and Adjs'!BH32","v":0},{"$f":"'2_State Distrib and Adjs'!BI32","v":1348214},{"$f":"'2_State Distrib and Adjs'!BJ32","v":0},{"$f":"'2_State Distrib and Adjs'!BL32","v":253914302},253914302,null,{"$f":"-'New Type 2 Res Summary'!AG32-'5A3_OJJ'!P32","v":{"$error":"#REF!"}},{"$f":"-'New Type 2 Res Summary'!AH32","v":{"$error":"#REF!"}},{"$f":"-'New Type 2 Res Summary'!AI32","v":{"$error":"#REF!"}},{"$f":"-'New Type 2 Res Summary'!AJ32","v":{"$error":"#REF!"}},{"$f":"-'New Type 2 Res Summary'!AK32","v":{"$error":"#REF!"}},{"$f":"-'New Type 2 Res Summary'!AL32","v":{"$error":"#REF!"}},{"$f":"-'New Type 2 Res Summary'!AM32-'5A3_OJJ'!P32","v":{"$error":"#REF!"}},null,{"$f":"-'New Type 2 Res Summary'!AN32","v":{"$error":"#REF!"}},{"$f":"-'New Type 2 Res Summary'!AO32-'5A3_OJJ'!P32","v":{"$error":"#REF!"}},null,{"$f":"-'New Type 2 Res Summary'!AQ32-'5A3_OJJ'!P32","v":{"$error":"#REF!"}},{"$f":"'2A-1_EFT (Annual)'!AS32","v":-18937091},{"$f":"'2A-1_EFT (Annual)'!#REF!+'2A-1_EFT (Annual)'!#REF!","v":{"$error":"#REF!"}},{"$error":"#REF!"},{"$f":"'2A-2_EFT (Monthly)'!AS32","v":-1574155},234977211,{"$f":"'2A-2_EFT (Monthly)'!AT32","v":19473019},null,null,null,{"$f":"'2A-2_EFT (Monthly)'!#REF!+'2A-2_EFT (Monthly)'!#REF!","v":{"$error":"#REF!"}},null,{"$error":"#REF!"}]
[27,27,"Jefferson Davis",{"$f":"'8_2.1.24 SIS BASE'!C33","v":5092},{"$f":"'2_State Distrib and Adjs'!AQ33","v":6836},{"$f":"'2_State Distrib and Adjs'!AP33","v":34809541},null,null,null,null,null,null,null,null,null,null,34809541,null,{"$f":"'2_State Distrib and Adjs'!AU33","v":0},{"$f":"'2_State Distrib and Adjs'!AV33","v":0},{"$f":"'2_State Distrib and Adjs'!AW33","v":0},34809541,null,null,34809541,{"$f":"'2_State Distrib and Adjs'!AR33","v":0},{"$f":"'2_State Distrib and Adjs'!AY33","v":0},{"$f":"'2_State Distrib and Adjs'!AZ33","v":162330},{"$f":"'2_State Distrib and Adjs'!BA33","v":755816},{"$f":"'2_State Distrib and Adjs'!BB33","v":604652},{"$f":"'2_State Distrib and Adjs'!BD33","v":37466064},{"$f":"'2_State Distrib and Adjs'!BE33","v":0},{"$f":"'2_State Distrib and Adjs'!BF33","v":37466064},{"$f":"'2_State Distrib and Adjs'!BG33","v":3122172},{"$f":"'2_State Distrib and Adjs'!BH33","v":0},{"$f":"'2_State Distrib and Adjs'!BI33","v":116222},{"$f":"'2_State Distrib and Adjs'!BJ33","v":0},{"$f":"'2_State Distrib and Adjs'!BL33","v":37582286},37582286,null,{"$f":"-'New Type 2 Res Summary'!AG33-'5A3_OJJ'!P33","v":{"$error":"#REF!"}},{"$f":"-'New Type 2 Res Summary'!AH33","v":{"$error":"#REF!"}},{"$f":"-'New Type 2 Res Summary'!AI33","v":{"$error":"#REF!"}},{"$f":"-'New Type 2 Res Summary'!AJ33","v":{"$error":"#REF!"}},{"$f":"-'New Type 2 Res Summary'!AK33","v":{"$error":"#REF!"}},{"$f":"-'New Type 2 Res Summary'!AL33","v":{"$error":"#REF!"}},{"$f":"-'New Type 2 Res Summary'!AM33-'5A3_OJJ'!P33","v":{"$error":"#REF!"}},null,{"$f":"-'New Type 2 Res Summary'!AN33","v":{"$error":"#REF!"}},{"$f":"-'New Type 2 Res Summary'!AO33-'5A3_OJJ'!P33","v":{"$error":"#REF!"}},null,{"$f":"-'New Type 2 Res Summary'!AQ33-'5A3_OJJ'!P33","v":{"$error":"#REF!"}},{"$f":"'2A-1_EFT (Annual)'!AS33","v":-198783},{"$f":"'2A-1_EFT (Annual)'!#REF!+'2A-1_EFT (Annual)'!#REF!","v":{"$error":"#REF!"}},{"$error":"#REF!"},{"$f":"'2A-2_EFT (Monthly)'!AS33","v":-16527},37383503,{"$f":"'2A-2_EFT (Monthly)'!AT33","v":3105645},null,null,null,{"$f":"'2A-2_EFT (Monthly)'!#REF!+'2A-2_EFT (Monthly)'!#REF!","v":{"$error":"#REF!"}},null,{"$error":"#REF!"}]
[28,28,"Lafayette",{"$f":"'8_2.1.24 SIS BASE'!C34","v":29439},{"$f":"'2_State Distrib and Adjs'!AQ34","v":4760},{"$f":"'2_State Distrib and Adjs'!AP34","v":140136397},null,null,null,null,null,null,null,null,null,null,140136397,null,{"$f":"'2_State Distrib and Adjs'!AU34","v":0},{"$f":"'2_State Distrib and Adjs'!AV34","v":0},{"$f":"'2_State Distrib and Adjs'!AW34","v":0},140136397,null,null,140136397,{"$f":"'2_State Distrib and Adjs'!AR34","v":0},{"$f":"'2_State Distrib and Adjs'!AY34","v":525000},{"$f":"'2_State Distrib and Adjs'!AZ34","v":945000},{"$f":"'2_State Distrib and Adjs'!BA34","v":4116479},{"$f":"'2_State Distrib and Adjs'!BB34","v":3293183},{"$f":"'2_State Distrib and Adjs'!BD34","v":155190775},{"$f":"'2_State Distrib and Adjs'!BE34","v":0},{"$f":"'2_State Distrib and Adjs'!BF34","v":155190775},{"$f":"'2_State Distrib and Adjs'!BG34","v":12932565},{"$f":"'2_State Distrib and Adjs'!BH34","v":0},{"$f":"'2_State Distrib and Adjs'!BI34","v":879530},{"$f":"'2_State Distrib and Adjs'!BJ34","v":0},{"$f":"'2_State Distrib and Adjs'!BL34","v":156070305},156070305,null,{"$f":"-'New Type 2 Res Summary'!AG34-'5A3_OJJ'!P34","v":{"$error":"#REF!"}},{"$f":"-'New Type 2 Res Summary'!AH34","v":{"$error":"#REF!"}},{"$f":"-'New Type 2 Res Summary'!AI34","v":{"$error":"#REF!"}},{"$f":"-'New Type 2 Res Summary'!AJ34","v":{"$error":"#REF!"}},{"$f":"-'New Type 2 Res Summary'!AK34","v":{"$error":"#REF!"}},{"$f":"-'New Type 2 Res Summary'!AL34","v":{"$error":"#REF!"}},{"$f":"-'New Type 2 Res Summary'!AM34-'5A3_OJJ'!P34","v":{"$error":"#REF!"}},null,{"$f":"-'New Type 2 Res Summary'!AN34","v":{"$error":"#REF!"}},{"$f":"-'New Type 2 Res Summary'!AO34-'5A3_OJJ'!P34","v":{"$error":"#REF!"}},null,{"$f":"-'New Type 2 Res Summary'!AQ34-'5A3_OJJ'!P34","v":{"$error":"#REF!"}},{"$f":"'2A-1_EFT (Annual)'!AS34","v":-30549442},{"$f":"'2A-1_EFT (Annual)'!#REF!+'2A-1_EFT (Annual)'!#REF!","v":{"$error":"#REF!"}},{"$error":"#REF!"},{"$f":"'2A-2_EFT (Monthly)'!AS34","v":-2539433},125520863,{"$f":"'2A-2_EFT (Monthly)'!AT34","v":10393132},null,null,null,{"$f":"'2A-2_EFT (Monthly)'!#REF!+'2A-2_EFT (Monthly)'!#REF!","v":{"$error":"#REF!"}},null,{"$error":"#REF!"}]
[29,29,"Lafourche",{"$f":"'8_2.1.24 SIS BASE'!C35","v":13017},{"$f":"'2_State Distrib and Adjs'!AQ35","v":5639},{"$f":"'2_State Distrib and Adjs'!AP35","v":73398811},null,null,null,null,null,null,null,null,null,null,73398811,null,{"$f":"'2_State Distrib and Adjs'!AU35","v":0},{"$f":"'2_State Distrib and Adjs'!AV35","v":0},{"$f":"'2_State Distrib and Adjs'!AW35","v":0},73398811,null,null,73398811,{"$f":"'2_State Distrib and Adjs'!AR35","v":0},{"$f":"'2_State Distrib and Adjs'!AY35","v":210000},{"$f":"'2_State Distrib and Adjs'!AZ35","v":401310},{"$f":"'2_State Distrib and Adjs'!BA35","v":1828328},{"$f":"'2_State Distrib and Adjs'!BB35","v":1462661},{"$f":"'2_State Distrib and Adjs'!BD35","v":80043601},{"$f":"'2_State Distrib and Adjs'!BE35","v":0},{"$f":"'2_State Distrib and Adjs'!BF35","v":80043601},{"$f":"'2_State Distrib and Adjs'!BG35","v":6670300},{"$f":"'2_State Distrib and Adjs'!BH35","v":0},{"$f":"'2_State Distrib and Adjs'!BI35","v":411568},{"$f":"'2_State Distrib and Adjs'!BJ35","v":0},{"$f":"'2_State Distrib and Adjs'!BL35","v":80455169},80455169,null,{"$f":"-'New Type 2 Res Summary'!AG35-'5A3_OJJ'!P35","v":{"$error":"#REF!"}},{"$f":"-'New Type 2 Res Summary'!AH35","v":{"$error":"#REF!"}},{"$f":"-'New Type 2 Res Summary'!AI35","v":{"$error":"#REF!"}},{"$f":"-'New Type 2 Res Summary'!AJ35","v":{"$error":"#REF!"}},{"$f":"-'New Type 2 Res Summary'!AK35","v":{"$error":"#REF!"}},{"$f":"-'New Type 2 Res Summary'!AL35","v":{"$error":"#REF!"}},{"$f":"-'New Type 2 Res Summary'!AM35-'5A3_OJJ'!P35","v":{"$error":"#REF!"}},null,{"$f":"-'New Type 2 Res Summary'!AN35","v":{"$error":"#REF!"}},{"$f":"-'New Type 2 Res Summary'!AO35-'5A3_OJJ'!P35","v":{"$error":"#REF!"}},null,{"$f":"-'New Type 2 Res Summary'!AQ35-'5A3_OJJ'!P35","v":{"$error":"#REF!"}},{"$f":"'2A-1_EFT (Annual)'!AS35","v":-950809},{"$f":"'2A-1_EFT (Annual)'!#REF!+'2A-1_EFT (Annual)'!#REF!","v":{"$error":"#REF!"}},{"$error":"#REF!"},{"$f":"'2A-2_EFT (Monthly)'!AS35","v":-79040},79504360,{"$f":"'2A-2_EFT (Monthly)'!AT35","v":6591260},null,null,null,{"$f":"'2A-2_EFT (Monthly)'!#REF!+'2A-2_EFT (Monthly)'!#REF!","v":{"$error":"#REF!"}},null,{"$error":"#REF!"}]
[30,30,"LaSalle",{"$f":"'8_2.1.24 SIS BASE'!C36","v":2364},{"$f":"'2_State Distrib and Adjs'!AQ36","v":7080},{"$f":"'2_State Distrib and Adjs'!AP36","v":16735991},null,null,null,null,null,null,null,null,null,null,16735991,null,{"$f":"'2_State Distrib and Adjs'!AU36","v":0},{"$f":"'2_State Distrib and Adjs'!AV36","v":0},{"$f":"'2_State Distrib and Adjs'!AW36","v":0},16735991,null,null,16735991,{"$f":"'2_State Distrib and Adjs'!AR36","v":0},{"$f":"'2_State Distrib and Adjs'!AY36","v":0},{"$f":"'2_State Distrib and Adjs'!AZ36","v":71960},{"$f":"'2_State Distrib and Adjs'!BA36","v":360885},{"$f":"'2_State Distrib and Adjs'!BB36","v":288708},{"$f":"'2_State Distrib and Adjs'!BD36","v":17998873},{"$f":"'2_State Distrib and Adjs'!BE36","v":0},{"$f":"'2_State Distrib and Adjs'!BF36","v":17998873},{"$f":"'2_State Distrib and Adjs'!BG36","v":1499906},{"$f":"'2_State Distrib and Adjs'!BH36","v":0},{"$f":"'2_State Distrib and Adjs'!BI36","v":98870},{"$f":"'2_State Distrib and Adjs'!BJ36","v":0},{"$f":"'2_State Distrib and Adjs'!BL36","v":18097743},18097743,null,{"$f":"-'New Type 2 Res Summary'!AG36-'5A3_OJJ'!P36","v":{"$error":"#REF!"}},{"$f":"-'New Type 2 Res Summary'!AH36","v":{"$error":"#REF!"}},{"$f":"-'New Type 2 Res Summary'!AI36","v":{"$error":"#REF!"}},{"$f":"-'New Type 2 Res Summary'!AJ36","v":{"$error":"#REF!"}},{"$f":"-'New Type 2 Res Summary'!AK36","v":{"$error":"#REF!"}},{"$f":"-'New Type 2 Res Summary'!AL36","v":{"$error":"#REF!"}},{"$f":"-'New Type 2 Res Summary'!AM36-'5A3_OJJ'!P36","v":{"$error":"#REF!"}},null,{"$f":"-'New Type 2 Res Summary'!AN36","v":{"$error":"#REF!"}},{"$f":"-'New Type 2 Res Summary'!AO36-'5A3_OJJ'!P36","v":{"$error":"#REF!"}},null,{"$f":"-'New Type 2 Res Summary'!AQ36-'5A3_OJJ'!P36","v":{"$error":"#REF!"}},{"$f":"'2A-1_EFT (Annual)'!AS36","v":-114702},{"$f":"'2A-1_EFT (Annual)'!#REF!+'2A-1_EFT (Annual)'!#REF!","v":{"$error":"#REF!"}},{"$error":"#REF!"},{"$f":"'2A-2_EFT (Monthly)'!AS36","v":-9535},17983041,{"$f":"'2A-2_EFT (Monthly)'!AT36","v":1490371},null,null,null,{"$f":"'2A-2_EFT (Monthly)'!#REF!+'2A-2_EFT (Monthly)'!#REF!","v":{"$error":"#REF!"}},null,{"$error":"#REF!"}]
[31,31,"Lincoln",{"$f":"'8_2.1.24 SIS BASE'!C37","v":5629},{"$f":"'2_State Distrib and Adjs'!AQ37","v":5664},{"$f":"'2_State Distrib and Adjs'!AP37","v":31880112},null,null,null,null,null,null,null,null,null,null,31880112,null,{"$f":"'2_State Distrib and Adjs'!AU37","v":0},{"$f":"'2_State Distrib and Adjs'!AV37","v":0},{"$f":"'2_State Distrib and Adjs'!AW37","v":0},31880112,null,null,31880112,{"$f":"'2_State Distrib and Adjs'!AR37","v":0},{"$f":"'2_State Distrib and Adjs'!AY37","v":63000},{"$f":"'2_State Distrib and Adjs'!AZ37","v":174720},{"$f":"'2_State Distrib and Adjs'!BA37","v":945344},{"$f":"'2_State Distrib and Adjs'!BB37","v":756276},{"$f":"'2_State Distrib and Adjs'!BD37","v":35237469},{"$f":"'2_State Distrib and Adjs'!BE37","v":0},{"$f":"'2_State Distrib and Adjs'!BF37","v":35237469},{"$f":"'2_State Distrib and Adjs'!BG37","v":2936456},{"$f":"'2_State Distrib and Adjs'!BH37","v":0},{"$f":"'2_State Distrib and Adjs'!BI37","v":84953},{"$f":"'2_State Distrib and Adjs'!BJ37","v":0},{"$f":"'2_State Distrib and Adjs'!BL37","v":35322422},35322422,null,{"$f":"-'New Type 2 Res Summary'!AG37-'5A3_OJJ'!P37","v":{"$error":"#REF!"}},{"$f":"-'New Type 2 Res Summary'!AH37","v":{"$error":"#REF!"}},{"$f":"-'New Type 2 Res Summary'!AI37","v":{"$error":"#REF!"}},{"$f":"-'New Type 2 Res Summary'!AJ37","v":{"$error":"#REF!"}},{"$f":"-'New Type 2 Res Summary'!AK37","v":{"$error":"#REF!"}},{"$f":"-'New Type 2 Res Summary'!AL37","v":{"$error":"#REF!"}},{"$f":"-'New Type 2 Res Summary'!AM37-'5A3_OJJ'!P37","v":{"$error":"#REF!"}},null,{"$f":"-'New Type 2 Res Summary'!AN37","v":{"$error":"#REF!"}},{"$f":"-'New Type 2 Res Summary'!AO37-'5A3_OJJ'!P37","v":{"$error":"#REF!"}},null,{"$f":"-'New Type 2 Res Summary'!AQ37-'5A3_OJJ'!P37","v":{"$error":"#REF!"}},{"$f":"'2A-1_EFT (Annual)'!AS37","v":-4982221},{"$f":"'2A-1_EFT (Annual)'!#REF!+'2A-1_EFT (Annual)'!#REF!","v":{"$error":"#REF!"}},{"$error":"#REF!"},{"$f":"'2A-2_EFT (Monthly)'!AS37","v":-414150},30340201,{"$f":"'2A-2_EFT (Monthly)'!AT37","v":2522306},null,null,null,{"$f":"'2A-2_EFT (Monthly)'!#REF!+'2A-2_EFT (Monthly)'!#REF!","v":{"$error":"#REF!"}},null,{"$error":"#REF!"}]
[32,32,"Livingston",{"$f":"'8_2.1.24 SIS BASE'!C38","v":26411},{"$f":"'2_State Distrib and Adjs'!AQ38","v":6846},{"$f":"'2_State Distrib and Adjs'!AP38","v":180798340},null,null,null,null,null,null,null,null,null,null,180798340,null,{"$f":"'2_State Distrib and Adjs'!AU38","v":0},{"$f":"'2_State Distrib and Adjs'!AV38","v":0},{"$f":"'2_State Distrib and Adjs'!AW38","v":0},180798340,null,null,180798340,{"$f":"'2_State Distrib and Adjs'!AR38","v":0},{"$f":"'2_State Distrib and Adjs'!AY38","v":0},{"$f":"'2_State Distrib and Adjs'!AZ38","v":810250},{"$f":"'2_State Distrib and Adjs'!BA38","v":3721583},{"$f":"'2_State Distrib and Adjs'!BB38","v":2977266},{"$f":"'2_State Distrib and Adjs'!BD38","v":193889813},{"$f":"'2_State Distrib and Adjs'!BE38","v":0},{"$f":"'2_State Distrib and Adjs'!BF38","v":193889813},{"$f":"'2_State Distrib and Adjs'!BG38","v":16157484},{"$f":"'2_State Distrib and Adjs'!BH38","v":0},{"$f":"'2_State Distrib and Adjs'!BI38","v":1194758},{"$f":"'2_State Distrib and Adjs'!BJ38","v":0},{"$f":"'2_State Distrib and Adjs'!BL38","v":195084571},195084571,null,{"$f":"-'New Type 2 Res Summary'!AG38-'5A3_OJJ'!P38","v":{"$error":"#REF!"}},{"$f":"-'New Type 2 Res Summary'!AH38","v":{"$error":"#REF!"}},{"$f":"-'New Type 2 Res Summary'!AI38","v":{"$error":"#REF!"}},{"$f":"-'New Type 2 Res Summary'!AJ38","v":{"$error":"#REF!"}},{"$f":"-'New Type 2 Res Summary'!AK38","v":{"$error":"#REF!"}},{"$f":"-'New Type 2 Res Summary'!AL38","v":{"$error":"#REF!"}},{"$f":"-'New Type 2 Res Summary'!AM38-'5A3_OJJ'!P38","v":{"$error":"#REF!"}},null,{"$f":"-'New Type 2 Res Summary'!AN38","v":{"$error":"#REF!"}},{"$f":"-'New Type 2 Res Summary'!AO38-'5A3_OJJ'!P38","v":{"$error":"#REF!"}},null,{"$f":"-'New Type 2 Res Summary'!AQ38-'5A3_OJJ'!P38","v":{"$error":"#REF!"}},{"$f":"'2A-1_EFT (Annual)'!AS38","v":-1637563},{"$f":"'2A-1_EFT (Annual)'!#REF!+'2A-1_EFT (Annual)'!#REF!","v":{"$error":"#REF!"}},{"$error":"#REF!"},{"$f":"'2A-2_EFT (Monthly)'!AS38","v":-136125},193447008,{"$f":"'2A-2_EFT (Monthly)'!AT38","v":16021359},null,null,null,{"$f":"'2A-2_EFT (Monthly)'!#REF!+'2A-2_EFT (Monthly)'!#REF!","v":{"$error":"#REF!"}},null,{"$error":"#REF!"}]
[33,33,"Madison",{"$f":"'8_2.1.24 SIS BASE'!C39","v":1189},{"$f":"'2_State Distrib and Adjs'!AQ39","v":6964},{"$f":"'2_State Distrib and Adjs'!AP39","v":8279727},null,null,null,null,null,null,null,null,null,null,8279727,null,{"$f":"'2_State Distrib and Adjs'!AU39","v":0},{"$f":"'2_State Distrib and Adjs'!AV39","v":0},{"$f":"'2_State Distrib and Adjs'!AW39","v":0},{"$f":"Q39+U39","v":8279727},null,null,8279727,{"$f":"'2_State Distrib and Adjs'!AR39","v":0},{"$f":"'2_State Distrib and Adjs'!AY39","v":0},{"$f":"'2_State Distrib and Adjs'!AZ39","v":37870},{"$f":"'2_State Distrib and Adjs'!BA39","v":244788},{"$f":"'2_State Distrib and Adjs'!BB39","v":195830},{"$f":"'2_State Distrib and Adjs'!BD39","v":9125395},{"$f":"'2_State Distrib and Adjs'!BE39","v":0},{"$f":"'2_State Distrib and Adjs'!BF39","v":9125395},{"$f":"'2_State Distrib and Adjs'!BG39","v":760450},{"$f":"'2_State Distrib and Adjs'!BH39","v":0},{"$f":"'2_State Distrib and Adjs'!BI39","v":31089},{"$f":"'2_State Distrib and Adjs'!BJ39","v":0},{"$f":"'2_State Distrib and Adjs'!BL39","v":9156484},9156484,null,{"$f":"-'New Type 2 Res Summary'!AG39-'5A3_OJJ'!P39","v":{"$error":"#REF!"}},{"$f":"-'New Type 2 Res Summary'!AH39","v":{"$error":"#REF!"}},{"$f":"-'New Type 2 Res Summary'!AI39","v":{"$error":"#REF!"}},{"$f":"-'New Type 2 Res Summary'!AJ39","v":{"$error":"#REF!"}},{"$f":"-'New Type 2 Res Summary'!AK39","v":{"$error":"#REF!"}},{"$f":"-'New Type 2 Res Summary'!AL39","v":{"$error":"#REF!"}},{"$f":"-'New Type 2 Res Summary'!AM39-'5A3_OJJ'!P39","v":{"$error":"#REF!"}},null,{"$f":"-'New Type 2 Res Summary'!AN39","v":{"$error":"#REF!"}},{"$f":"-'New Type 2 Res Summary'!AO39-'5A3_OJJ'!P39","v":{"$error":"#REF!"}},null,{"$f":"-'New Type 2 Res Summary'!AQ39-'5A3_OJJ'!P39","v":{"$error":"#REF!"}},{"$f":"'2A-1_EFT (Annual)'!AS39","v":-157655},{"$f":"'2A-1_EFT (Annual)'!#REF!+'2A-1_EFT (Annual)'!#REF!","v":{"$error":"#REF!"}},{"$error":"#REF!"},{"$f":"'2A-2_EFT (Monthly)'!AS39","v":-13107},8998829,{"$f":"'2A-2_EFT (Monthly)'!AT39","v":747343},null,null,null,{"$f":"'2A-2_EFT (Monthly)'!#REF!+'2A-2_EFT (Monthly)'!#REF!","v":{"$error":"#REF!"}},null,{"$error":"#REF!"}]
[34,34,"Morehouse",{"$f":"'8_2.1.24 SIS BASE'!C40","v":3103},{"$f":"'2_State Distrib and Adjs'!AQ40","v":7222},{"$f":"'2_State Distrib and Adjs'!AP40","v":22410264},null,null,null,null,null,null,null,null,null,null,22410264,null,{"$f":"'2_State Distrib and Adjs'!AU40","v":0},{"$f":"'2_State Distrib and Adjs'!AV40","v":0},{"$f":"'2_State Distrib and Adjs'!AW40","v":0},22410264,null,null,22410264,{"$f":"'2_State Distrib and Adjs'!AR40","v":0},{"$f":"'2_State Distrib and Adjs'!AY40","v":0},{"$f":"'2_State Distrib and Adjs'!AZ40","v":95830},{"$f":"'2_State Distrib and Adjs'!BA40","v":493409},{"$f":"'2_State Distrib and Adjs'!BB40","v":394727},{"$f":"'2_State Distrib and Adjs'!BD40","v":24134342},{"$f":"'2_State Distrib and Adjs'!BE40","v":0},{"$f":"'2_State Distrib and Adjs'!BF40","v":24134342},{"$f":"'2_State Distrib and Adjs'!BG40","v":2011195},{"$f":"'2_State Distrib and Adjs'!BH40","v":0},{"$f":"'2_State Distrib and Adjs'!BI40","v":148938},{"$f":"'2_State Distrib and Adjs'!BJ40","v":0},{"$f":"'2_State Distrib and Adjs'!BL40","v":24283280},24283280,null,{"$f":"-'New Type 2 Res Summary'!AG40-'5A3_OJJ'!P40","v":{"$error":"#REF!"}},{"$f":"-'New Type 2 Res Summary'!AH40","v":{"$error":"#REF!"}},{"$f":"-'New Type 2 Res Summary'!AI40","v":{"$error":"#REF!"}},{"$f":"-'New Type 2 Res Summary'!AJ40","v":{"$error":"#REF!"}},{"$f":"-'New Type 2 Res Summary'!AK40","v":{"$error":"#REF!"}},{"$f":"-'New Type 2 Res Summary'!AL40","v":{"$error":"#REF!"}},{"$f":"-'New Type 2 Res Summary'!AM40-'5A3_OJJ'!P40","v":{"$error":"#REF!"}},null,{"$f":"-'New Type 2 Res Summary'!AN40","v":{"$error":"#REF!"}},{"$f":"-'New Type 2 Res Summary'!AO40-'5A3_OJJ'!P40","v":{"$error":"#REF!"}},null,{"$f":"-'New Type 2 Res Summary'!AQ40-'5A3_OJJ'!P40","v":{"$error":"#REF!"}},{"$f":"'2A-1_EFT (Annual)'!AS40","v":-299812},{"$f":"'2A-1_EFT (Annual)'!#REF!+'2A-1_EFT (Annual)'!#REF!","v":{"$error":"#REF!"}},{"$error":"#REF!"},{"$f":"'2A-2_EFT (Monthly)'!AS40","v":-24922},23983468,{"$f":"'2A-2_EFT (Monthly)'!AT40","v":1986273},null,null,null,{"$f":"'2A-2_EFT (Monthly)'!#REF!+'2A-2_EFT (Monthly)'!#REF!","v":{"$error":"#REF!"}},null,{"$error":"#REF!"}]
[35,35,"Natchitoches",{"$f":"'8_2.1.24 SIS BASE'!C41","v":4772},{"$f":"'2_State Distrib and Adjs'!AQ41","v":5399},{"$f":"'2_State Distrib and Adjs'!AP41","v":25764333},null,null,null,null,null,null,null,null,null,null,25764333,null,{"$f":"'2_State Distrib and Adjs'!AU41","v":0},{"$f":"'2_State Distrib and Adjs'!AV41","v":0},{"$f":"'2_State Distrib and Adjs'!AW41","v":0},25764333,null,null,25764333,{"$f":"'2_State Distrib and Adjs'!AR41","v":0},{"$f":"'2_State Distrib and Adjs'!AY41","v":0},{"$f":"'2_State Distrib and Adjs'!AZ41","v":154140},{"$f":"'2_State Distrib and Adjs'!BA41","v":723385},{"$f":"'2_State Distrib and Adjs'!BB41","v":578708},{"$f":"'2_State Distrib and Adjs'!BD41","v":28305644},{"$f":"'2_State Distrib and Adjs'!BE41","v":0},{"$f":"'2_State Distrib and Adjs'!BF41","v":28305644},{"$f":"'2_State Distrib and Adjs'!BG41","v":2358804},{"$f":"'2_State Distrib and Adjs'!BH41","v":0},{"$f":"'2_State Distrib and Adjs'!BI41","v":170086},{"$f":"'2_State Distrib and Adjs'!BJ41","v":0},{"$f":"'2_State Distrib and Adjs'!BL41","v":28475730},28475730,null,{"$f":"-'New Type 2 Res Summary'!AG41-'5A3_OJJ'!P41","v":{"$error":"#REF!"}},{"$f":"-'New Type 2 Res Summary'!AH41","v":{"$error":"#REF!"}},{"$f":"-'New Type 2 Res Summary'!AI41","v":{"$error":"#REF!"}},{"$f":"-'New Type 2 Res Summary'!AJ41","v":{"$error":"#REF!"}},{"$f":"-'New Type 2 Res Summary'!AK41","v":{"$error":"#REF!"}},{"$f":"-'New Type 2 Res Summary'!AL41","v":{"$error":"#REF!"}},{"$f":"-'New Type 2 Res Summary'!AM41-'5A3_OJJ'!P41","v":{"$error":"#REF!"}},null,{"$f":"-'New Type 2 Res Summary'!AN41","v":{"$error":"#REF!"}},{"$f":"-'New Type 2 Res Summary'!AO41-'5A3_OJJ'!P41","v":{"$error":"#REF!"}},null,{"$f":"-'New Type 2 Res Summary'!AQ41-'5A3_OJJ'!P41","v":{"$error":"#REF!"}},{"$f":"'2A-1_EFT (Annual)'!AS41","v":-178815},{"$f":"'2A-1_EFT (Annual)'!#REF!+'2A-1_EFT (Annual)'!#REF!","v":{"$error":"#REF!"}},{"$error":"#REF!"},{"$f":"'2A-2_EFT (Monthly)'!AS41","v":-14865},28296915,{"$f":"'2A-2_EFT (Monthly)'!AT41","v":2343939},null,null,null,{"$f":"'2A-2_EFT (Monthly)'!#REF!+'2A-2_EFT (Monthly)'!#REF!","v":{"$error":"#REF!"}},null,{"$error":"#REF!"}]
[36,36,"Orleans",{"$f":"'8_2.1.24 SIS BASE'!C42","v":42428},{"$f":"'2_State Distrib and Adjs'!AQ42","v":4374},{"$f":"'2_State Distrib and Adjs'!AP42","v":185583901},null,null,null,null,null,null,null,null,null,null,185583901,null,{"$f":"'2_State Distrib and Adjs'!AU42","v":0},{"$f":"'2_State Distrib and Adjs'!AV42","v":0},{"$f":"'2_State Distrib and Adjs'!AW42","v":0},185583901,null,null,185583901,{"$f":"'2_State Distrib and Adjs'!AR42","v":-90413},{"$f":"'2_State Distrib and Adjs'!AY42","v":399000},{"$f":"'2_State Distrib and Adjs'!AZ42","v":1378440},{"$f":"'2_State Distrib and Adjs'!BA42","v":6728071},{"$f":"'2_State Distrib and Adjs'!BB42","v":5382439},{"$f":"'2_State Distrib and Adjs'!BD42","v":209473545},{"$f":"'2_State Distrib and Adjs'!BE42","v":0},{"$f":"'2_State Distrib and Adjs'!BF42","v":209473545},{"$f":"'2_State Distrib and Adjs'!BG42","v":17456129},{"$f":"'2_State Distrib and Adjs'!BH42","v":0},{"$f":"'2_State Distrib and Adjs'!BI42","v":901631},{"$f":"'2_State Distrib and Adjs'!BJ42","v":0},{"$f":"'2_State Distrib and Adjs'!BL42","v":210375176},210375176,null,{"$f":"-'New Type 2 Res Summary'!AG42-'5A3_OJJ'!P42","v":{"$error":"#REF!"}},{"$f":"-'New Type 2 Res Summary'!AH42","v":{"$error":"#REF!"}},{"$f":"-'New Type 2 Res Summary'!AI42","v":{"$error":"#REF!"}},{"$f":"-'New Type 2 Res Summary'!AJ42","v":{"$error":"#REF!"}},{"$f":"-'New Type 2 Res Summary'!AK42","v":{"$error":"#REF!"}},{"$f":"-'New Type 2 Res Summary'!AL42","v":{"$error":"#REF!"}},{"$f":"-'New Type 2 Res Summary'!AM42-'5A3_OJJ'!P42","v":{"$error":"#REF!"}},null,{"$f":"-'New Type 2 Res Summary'!AN42","v":{"$error":"#REF!"}},{"$f":"-'New Type 2 Res Summary'!AO42-'5A3_OJJ'!P42","v":{"$error":"#REF!"}},null,{"$f":"-'New Type 2 Res Summary'!AQ42-'5A3_OJJ'!P42","v":{"$error":"#REF!"}},{"$f":"'2A-1_EFT (Annual)'!AS42","v":-16214580},{"$f":"'2A-1_EFT (Annual)'!#REF!+'2A-1_EFT (Annual)'!#REF!","v":{"$error":"#REF!"}},{"$error":"#REF!"},{"$f":"'2A-2_EFT (Monthly)'!AS42","v":-1347863},194160596,{"$f":"'2A-2_EFT (Monthly)'!AT42","v":16108266},null,null,null,{"$f":"'2A-2_EFT (Monthly)'!#REF!+'2A-2_EFT (Monthly)'!#REF!","v":{"$error":"#REF!"}},null,{"$error":"#REF!"}]
[37,37,"Ouachita",{"$f":"'8_2.1.24 SIS BASE'!C43","v":17246},{"$f":"'2_State Distrib and Adjs'!AQ43","v":6383},{"$f":"'2_State Distrib and Adjs'!AP43","v":110075984},null,null,null,null,null,null,null,null,null,null,110075984,null,{"$f":"'2_State Distrib and Adjs'!AU43","v":0},{"$f":"'2_State Distrib and Adjs'!AV43","v":0},{"$f":"'2_State Distrib and Adjs'!AW43","v":0},110075984,null,null,110075984,{"$f":"'2_State Distrib and Adjs'!AR43","v":0},{"$f":"'2_State Distrib and Adjs'!AY43","v":0},{"$f":"'2_State Distrib and Adjs'!AZ43","v":540050},{"$f":"'2_State Distrib and Adjs'!BA43","v":2557611},{"$f":"'2_State Distrib and Adjs'!BB43","v":2046090},{"$f":"'2_State Distrib and Adjs'!BD43","v":119056153},{"$f":"'2_State Distrib and Adjs'!BE43","v":0},{"$f":"'2_State Distrib and Adjs'!BF43","v":119056153},{"$f":"'2_State Distrib and Adjs'!BG43","v":9921346},{"$f":"'2_State Distrib and Adjs'!BH43","v":0},{"$f":"'2_State Distrib and Adjs'!BI43","v":223226},{"$f":"'2_State Distrib and Adjs'!BJ43","v":0},{"$f":"'2_State Distrib and Adjs'!BL43","v":119279379},119279379,null,{"$f":"-'New Type 2 Res Summary'!AG43-'5A3_OJJ'!P43","v":{"$error":"#REF!"}},{"$f":"-'New Type 2 Res Summary'!AH43","v":{"$error":"#REF!"}},{"$f":"-'New Type 2 Res Summary'!AI43","v":{"$error":"#REF!"}},{"$f":"-'New Type 2 Res Summary'!AJ43","v":{"$error":"#REF!"}},{"$f":"-'New Type 2 Res Summary'!AK43","v":{"$error":"#REF!"}},{"$f":"-'New Type 2 Res Summary'!AL43","v":{"$error":"#REF!"}},{"$f":"-'New Type 2 Res Summary'!AM43-'5A3_OJJ'!P43","v":{"$error":"#REF!"}},null,{"$f":"-'New Type 2 Res Summary'!AN43","v":{"$error":"#REF!"}},{"$f":"-'New Type 2 Res Summary'!AO43-'5A3_OJJ'!P43","v":{"$error":"#REF!"}},null,{"$f":"-'New Type 2 Res Summary'!AQ43-'5A3_OJJ'!P43","v":{"$error":"#REF!"}},{"$f":"'2A-1_EFT (Annual)'!AS43","v":-783462},{"$f":"'2A-1_EFT (Annual)'!#REF!+'2A-1_EFT (Annual)'!#REF!","v":{"$error":"#REF!"}},{"$error":"#REF!"},{"$f":"'2A-2_EFT (Monthly)'!AS43","v":-65131},118495917,{"$f":"'2A-2_EFT (Monthly)'!AT43","v":9856215},null,null,null,{"$f":"'2A-2_EFT (Monthly)'!#REF!+'2A-2_EFT (Monthly)'!#REF!","v":{"$error":"#REF!"}},null,{"$error":"#REF!"}]
[38,38,"Plaquemines",{"$f":"'8_2.1.24 SIS BASE'!C44","v":3525},{"$f":"'2_State Distrib and Adjs'!AQ44","v":2875},{"$f":"'2_State Distrib and Adjs'!AP44","v":10134499},null,null,null,null,null,null,null,null,null,null,10134499,null,{"$f":"'2_State Distrib and Adjs'!AU44","v":0},{"$f":"'2_State Distrib and Adjs'!AV44","v":0},{"$f":"'2_State Distrib and Adjs'!AW44","v":0},10134499,null,null,10134499,{"$f":"'2_State Distrib and Adjs'!AR44","v":0},{"$f":"'2_State Distrib and Adjs'!AY44","v":0},{"$f":"'2_State Distrib and Adjs'!AZ44","v":120470},{"$f":"'2_State Distrib and Adjs'!BA44","v":633142},{"$f":"'2_State Distrib and Adjs'!BB44","v":506513},{"$f":"'2_State Distrib and Adjs'!BD44","v":12344336},{"$f":"'2_State Distrib and Adjs'!BE44","v":0},{"$f":"'2_State Distrib and Adjs'!BF44","v":12344336},{"$f":"'2_State Distrib and Adjs'!BG44","v":1028695},{"$f":"'2_State Distrib and Adjs'!BH44","v":0},{"$f":"'2_State Distrib and Adjs'!BI44","v":64889},{"$f":"'2_State Distrib and Adjs'!BJ44","v":0},{"$f":"'2_State Distrib and Adjs'!BL44","v":12409225},12409225,null,{"$f":"-'New Type 2 Res Summary'!AG44-'5A3_OJJ'!P44","v":{"$error":"#REF!"}},{"$f":"-'New Type 2 Res Summary'!AH44","v":{"$error":"#REF!"}},{"$f":"-'New Type 2 Res Summary'!AI44","v":{"$error":"#REF!"}},{"$f":"-'New Type 2 Res Summary'!AJ44","v":{"$error":"#REF!"}},{"$f":"-'New Type 2 Res Summary'!AK44","v":{"$error":"#REF!"}},{"$f":"-'New Type 2 Res Summary'!AL44","v":{"$error":"#REF!"}},{"$f":"-'New Type 2 Res Summary'!AM44-'5A3_OJJ'!P44","v":{"$error":"#REF!"}},null,{"$f":"-'New Type 2 Res Summary'!AN44","v":{"$error":"#REF!"}},{"$f":"-'New Type 2 Res Summary'!AO44-'5A3_OJJ'!P44","v":{"$error":"#REF!"}},null,{"$f":"-'New Type 2 Res Summary'!AQ44-'5A3_OJJ'!P44","v":{"$error":"#REF!"}},{"$f":"'2A-1_EFT (Annual)'!AS44","v":-1345882},{"$f":"'2A-1_EFT (Annual)'!#REF!+'2A-1_EFT (Annual)'!#REF!","v":{"$error":"#REF!"}},{"$error":"#REF!"},{"$f":"'2A-2_EFT (Monthly)'!AS44","v":-111880},11063343,{"$f":"'2A-2_EFT (Monthly)'!AT44","v":916815},null,null,null,{"$f":"'2A-2_EFT (Monthly)'!#REF!+'2A-2_EFT (Monthly)'!#REF!","v":{"$error":"#REF!"}},null,{"$error":"#REF!"}]
[39,39,"Pointe Coupee",{"$f":"'8_2.1.24 SIS BASE'!C45","v":2237},{"$f":"'2_State Distrib and Adjs'!AQ45","v":4286},{"$f":"'2_State Distrib and Adjs'!AP45","v":9588610},null,null,null,null,null,null,null,null,null,null,9588610,null,{"$f":"'2_State Distrib and Adjs'!AU45","v":0},{"$f":"'2_State Distrib and Adjs'!AV45","v":0},{"$f":"'2_State Distrib and Adjs'!AW45","v":0},9588610,null,null,9588610,{"$f":"'2_State Distrib and Adjs'!AR45","v":0},{"$f":"'2_State Distrib and Adjs'!AY45","v":0},{"$f":"'2_State Distrib and Adjs'!AZ45","v":75950},{"$f":"'2_State Distrib and Adjs'!BA45","v":329378},{"$f":"'2_State Distrib and Adjs'!BB45","v":263502},{"$f":"'2_State Distrib and Adjs'!BD45","v":10751509},{"$f":"'2_State Distrib and Adjs'!BE45","v":0},{"$f":"'2_State Distrib and Adjs'!BF45","v":10751509},{"$f":"'2_State Distrib and Adjs'!BG45","v":895959},{"$f":"'2_State Distrib and Adjs'!BH45","v":0},{"$f":"'2_State Distrib and Adjs'!BI45","v":134117},{"$f":"'2_State Distrib and Adjs'!BJ45","v":0},{"$f":"'2_State Distrib and Adjs'!BL45","v":10885626},10885626,null,{"$f":"-'New Type 2 Res Summary'!AG45-'5A3_OJJ'!P45","v":{"$error":"#REF!"}},{"$f":"-'New Type 2 Res Summary'!AH45","v":{"$error":"#REF!"}},{"$f":"-'New Type 2 Res Summary'!AI45","v":{"$error":"#REF!"}},{"$f":"-'New Type 2 Res Summary'!AJ45","v":{"$error":"#REF!"}},{"$f":"-'New Type 2 Res Summary'!AK45","v":{"$error":"#REF!"}},{"$f":"-'New Type 2 Res Summary'!AL45","v":{"$error":"#REF!"}},{"$f":"-'New Type 2 Res Summary'!AM45-'5A3_OJJ'!P45","v":{"$error":"#REF!"}},null,{"$f":"-'New Type 2 Res Summary'!AN45","v":{"$error":"#REF!"}},{"$f":"-'New Type 2 Res Summary'!AO45-'5A3_OJJ'!P45","v":{"$error":"#REF!"}},null,{"$f":"-'New Type 2 Res Summary'!AQ45-'5A3_OJJ'!P45","v":{"$error":"#REF!"}},{"$f":"'2A-1_EFT (Annual)'!AS45","v":-338808},{"$f":"'2A-1_EFT (Annual)'!#REF!+'2A-1_EFT (Annual)'!#REF!","v":{"$error":"#REF!"}},{"$error":"#REF!"},{"$f":"'2A-2_EFT (Monthly)'!AS45","v":-28165},10546818,{"$f":"'2A-2_EFT (Monthly)'!AT45","v":867794},null,null,null,{"$f":"'2A-2_EFT (Monthly)'!#REF!+'2A-2_EFT (Monthly)'!#REF!","v":{"$error":"#REF!"}},null,{"$error":"#REF!"}]
[40,40,"Rapides",{"$f":"'8_2.1.24 SIS BASE'!C46","v":20610},{"$f":"'2_State Distrib and Adjs'!AQ46","v":6236},{"$f":"'2_State Distrib and Adjs'!AP46","v":128517692},null,null,null,null,null,null,null,null,null,null,128517692,null,{"$f":"'2_State Distrib and Adjs'!AU46","v":0},{"$f":"'2_State Distrib and Adjs'!AV46","v":0},{"$f":"'2_State Distrib and Adjs'!AW46","v":0},128517692,null,null,128517692,{"$f":"'2_State Distrib and Adjs'!AR46","v":0},{"$f":"'2_State Distrib and Adjs'!AY46","v":0},{"$f":"'2_State Distrib and Adjs'!AZ46","v":661570},{"$f":"'2_State Distrib and Adjs'!BA46","v":3164687},{"$f":"'2_State Distrib and Adjs'!BB46","v":2531750},{"$f":"'2_State Distrib and Adjs'!BD46","v":139622729},{"$f":"'2_State Distrib and Adjs'!BE46","v":0},{"$f":"'2_State Distrib and Adjs'!BF46","v":139622729},{"$f":"'2_State Distrib and Adjs'!BG46","v":11635227},{"$f":"'2_State Distrib and Adjs'!BH46","v":0},{"$f":"'2_State Distrib and Adjs'!BI46","v":590872},{"$f":"'2_State Distrib and Adjs'!BJ46","v":0},{"$f":"'2_State Distrib and Adjs'!BL46","v":140213601},140213601,null,{"$f":"-'New Type 2 Res Summary'!AG46-'5A3_OJJ'!P46","v":{"$error":"#REF!"}},{"$f":"-'New Type 2 Res Summary'!AH46","v":{"$error":"#REF!"}},{"$f":"-'New Type 2 Res Summary'!AI46","v":{"$error":"#REF!"}},{"$f":"-'New Type 2 Res Summary'!AJ46","v":{"$error":"#REF!"}},{"$f":"-'New Type 2 Res Summary'!AK46","v":{"$error":"#REF!"}},{"$f":"-'New Type 2 Res Summary'!AL46","v":{"$error":"#REF!"}},{"$f":"-'New Type 2 Res Summary'!AM46-'5A3_OJJ'!P46","v":{"$error":"#REF!"}},null,{"$f":"-'New Type 2 Res Summary'!AN46","v":{"$error":"#REF!"}},{"$f":"-'New Type 2 Res Summary'!AO46-'5A3_OJJ'!P46","v":{"$error":"#REF!"}},null,{"$f":"-'New Type 2 Res Summary'!AQ46-'5A3_OJJ'!P46","v":{"$error":"#REF!"}},{"$f":"'2A-1_EFT (Annual)'!AS46","v":-635351},{"$f":"'2A-1_EFT (Annual)'!#REF!+'2A-1_EFT (Annual)'!#REF!","v":{"$error":"#REF!"}},{"$error":"#REF!"},{"$f":"'2A-2_EFT (Monthly)'!AS46","v":-52819},139578250,{"$f":"'2A-2_EFT (Monthly)'!AT46","v":11582408},null,null,null,{"$f":"'2A-2_EFT (Monthly)'!#REF!+'2A-2_EFT (Monthly)'!#REF!","v":{"$error":"#REF!"}},null,{"$error":"#REF!"}]
[41,41,"Red River",{"$f":"'8_2.1.24 SIS BASE'!C47","v":1146},{"$f":"'2_State Distrib and Adjs'!AQ47","v":2719},{"$f":"'2_State Distrib and Adjs'!AP47","v":3115824},null,null,null,null,null,null,null,null,null,null,3115824,null,{"$f":"'2_State Distrib and Adjs'!AU47","v":0},{"$f":"'2_State Distrib and Adjs'!AV47","v":0},{"$f":"'2_State Distrib and Adjs'!AW47","v":0},3115824,null,null,3115824,{"$f":"'2_State Distrib and Adjs'!AR47","v":0},{"$f":"'2_State Distrib and Adjs'!AY47","v":0},{"$f":"'2_State Distrib and Adjs'!AZ47","v":38990},{"$f":"'2_State Distrib and Adjs'!BA47","v":229265},{"$f":"'2_State Distrib and Adjs'!BB47","v":183412},{"$f":"'2_State Distrib and Adjs'!BD47","v":3911387},{"$f":"'2_State Distrib and Adjs'!BE47","v":0},{"$f":"'2_State Distrib and Adjs'!BF47","v":3911387},{"$f":"'2_State Distrib and Adjs'!BG47","v":325949},{"$f":"'2_State Distrib and Adjs'!BH47","v":0},{"$f":"'2_State Distrib and Adjs'!BI47","v":46995},{"$f":"'2_State Distrib and Adjs'!BJ47","v":0},{"$f":"'2_State Distrib and Adjs'!BL47","v":3958382},3958382,null,{"$f":"-'New Type 2 Res Summary'!AG47-'5A3_OJJ'!P47","v":{"$error":"#REF!"}},{"$f":"-'New Type 2 Res Summary'!AH47","v":{"$error":"#REF!"}},{"$f":"-'New Type 2 Res Summary'!AI47","v":{"$error":"#REF!"}},{"$f":"-'New Type 2 Res Summary'!AJ47","v":{"$error":"#REF!"}},{"$f":"-'New Type 2 Res Summary'!AK47","v":{"$error":"#REF!"}},{"$f":"-'New Type 2 Res Summary'!AL47","v":{"$error":"#REF!"}},{"$f":"-'New Type 2 Res Summary'!AM47-'5A3_OJJ'!P47","v":{"$error":"#REF!"}},null,{"$f":"-'New Type 2 Res Summary'!AN47","v":{"$error":"#REF!"}},{"$f":"-'New Type 2 Res Summary'!AO47-'5A3_OJJ'!P47","v":{"$error":"#REF!"}},null,{"$f":"-'New Type 2 Res Summary'!AQ47-'5A3_OJJ'!P47","v":{"$error":"#REF!"}},{"$f":"'2A-1_EFT (Annual)'!AS47","v":-212986},{"$f":"'2A-1_EFT (Annual)'!#REF!+'2A-1_EFT (Annual)'!#REF!","v":{"$error":"#REF!"}},{"$error":"#REF!"},{"$f":"'2A-2_EFT (Monthly)'!AS47","v":-17704},3745396,{"$f":"'2A-2_EFT (Monthly)'!AT47","v":308245},null,null,null,{"$f":"'2A-2_EFT (Monthly)'!#REF!+'2A-2_EFT (Monthly)'!#REF!","v":{"$error":"#REF!"}},null,{"$error":"#REF!"}]
[42,42,"Richland",{"$f":"'8_2.1.24 SIS BASE'!C48","v":2665},{"$f":"'2_State Distrib and Adjs'!AQ48","v":6193},{"$f":"'2_State Distrib and Adjs'!AP48","v":16503408},null,null,null,null,null,null,null,null,null,null,16503408,null,{"$f":"'2_State Distrib and Adjs'!AU48","v":0},{"$f":"'2_State Distrib and Adjs'!AV48","v":0},{"$f":"'2_State Distrib and Adjs'!AW48","v":0},16503408,null,null,16503408,{"$f":"'2_State Distrib and Adjs'!AR48","v":0},{"$f":"'2_State Distrib and Adjs'!AY48","v":0},{"$f":"'2_State Distrib and Adjs'!AZ48","v":83300},{"$f":"'2_State Distrib and Adjs'!BA48","v":390957},{"$f":"'2_State Distrib and Adjs'!BB48","v":312767},{"$f":"'2_State Distrib and Adjs'!BD48","v":17876869},{"$f":"'2_State Distrib and Adjs'!BE48","v":0},{"$f":"'2_State Distrib and Adjs'!BF48","v":17876869},{"$f":"'2_State Distrib and Adjs'!BG48","v":1489739},{"$f":"'2_State Distrib and Adjs'!BH48","v":0},{"$f":"'2_State Distrib and Adjs'!BI48","v":82422},{"$f":"'2_State Distrib and Adjs'!BJ48","v":0},{"$f":"'2_State Distrib and Adjs'!BL48","v":17959291},17959291,null,{"$f":"-'New Type 2 Res Summary'!AG48-'5A3_OJJ'!P48","v":{"$error":"#REF!"}},{"$f":"-'New Type 2 Res Summary'!AH48","v":{"$error":"#REF!"}},{"$f":"-'New Type 2 Res Summary'!AI48","v":{"$error":"#REF!"}},{"$f":"-'New Type 2 Res Summary'!AJ48","v":{"$error":"#REF!"}},{"$f":"-'New Type 2 Res Summary'!AK48","v":{"$error":"#REF!"}},{"$f":"-'New Type 2 Res Summary'!AL48","v":{"$error":"#REF!"}},{"$f":"-'New Type 2 Res Summary'!AM48-'5A3_OJJ'!P48","v":{"$error":"#REF!"}},null,{"$f":"-'New Type 2 Res Summary'!AN48","v":{"$error":"#REF!"}},{"$f":"-'New Type 2 Res Summary'!AO48-'5A3_OJJ'!P48","v":{"$error":"#REF!"}},null,{"$f":"-'New Type 2 Res Summary'!AQ48-'5A3_OJJ'!P48","v":{"$error":"#REF!"}},{"$f":"'2A-1_EFT (Annual)'!AS48","v":-95841},{"$f":"'2A-1_EFT (Annual)'!#REF!+'2A-1_EFT (Annual)'!#REF!","v":{"$error":"#REF!"}},{"$error":"#REF!"},{"$f":"'2A-2_EFT (Monthly)'!AS48","v":-7969},17863450,{"$f":"'2A-2_EFT (Monthly)'!AT48","v":1481770},null,null,null,{"$f":"'2A-2_EFT (Monthly)'!#REF!+'2A-2_EFT (Monthly)'!#REF!","v":{"$error":"#REF!"}},null,{"$error":"#REF!"}]
[43,43,"Sabine",{"$f":"'8_2.1.24 SIS BASE'!C49","v":3561},{"$f":"'2_State Distrib and Adjs'!AQ49","v":5857},{"$f":"'2_State Distrib and Adjs'!AP49","v":20857017},null,null,null,null,null,null,null,null,null,null,20857017,null,{"$f":"'2_State Distrib and Adjs'!AU49","v":0},{"$f":"'2_State Distrib and Adjs'!AV49","v":0},{"$f":"'2_State Distrib and Adjs'!AW49","v":0},20857017,null,null,20857017,{"$f":"'2_State Distrib and Adjs'!AR49","v":0},{"$f":"'2_State Distrib and Adjs'!AY49","v":0},{"$f":"'2_State Distrib and Adjs'!AZ49","v":113330},{"$f":"'2_State Distrib and Adjs'!BA49","v":643230},{"$f":"'2_State Distrib and Adjs'!BB49","v":514585},{"$f":"'2_State Distrib and Adjs'!BD49","v":23093008},{"$f":"'2_State Distrib and Adjs'!BE49","v":0},{"$f":"'2_State Distrib and Adjs'!BF49","v":23093008},{"$f":"'2_State Distrib and Adjs'!BG49","v":1924417},{"$f":"'2_State Distrib and Adjs'!BH49","v":0},{"$f":"'2_State Distrib and Adjs'!BI49","v":141347},{"$f":"'2_State Distrib and Adjs'!BJ49","v":0},{"$f":"'2_State Distrib and Adjs'!BL49","v":23234355},23234355,null,{"$f":"-'New Type 2 Res Summary'!AG49-'5A3_OJJ'!P49","v":{"$error":"#REF!"}},{"$f":"-'New Type 2 Res Summary'!AH49","v":{"$error":"#REF!"}},{"$f":"-'New Type 2 Res Summary'!AI49","v":{"$error":"#REF!"}},{"$f":"-'New Type 2 Res Summary'!AJ49","v":{"$error":"#REF!"}},{"$f":"-'New Type 2 Res Summary'!AK49","v":{"$error":"#REF!"}},{"$f":"-'New Type 2 Res Summary'!AL49","v":{"$error":"#REF!"}},{"$f":"-'New Type 2 Res Summary'!AM49-'5A3_OJJ'!P49","v":{"$error":"#REF!"}},null,{"$f":"-'New Type 2 Res Summary'!AN49","v":{"$error":"#REF!"}},{"$f":"-'New Type 2 Res Summary'!AO49-'5A3_OJJ'!P49","v":{"$error":"#REF!"}},null,{"$f":"-'New Type 2 Res Summary'!AQ49-'5A3_OJJ'!P49","v":{"$error":"#REF!"}},{"$f":"'2A-1_EFT (Annual)'!AS49","v":-94259},{"$f":"'2A-1_EFT (Annual)'!#REF!+'2A-1_EFT (Annual)'!#REF!","v":{"$error":"#REF!"}},{"$error":"#REF!"},{"$f":"'2A-2_EFT (Monthly)'!AS49","v":-7837},23140096,{"$f":"'2A-2_EFT (Monthly)'!AT49","v":1916580},null,null,null,{"$f":"'2A-2_EFT (Monthly)'!#REF!+'2A-2_EFT (Monthly)'!#REF!","v":{"$error":"#REF!"}},null,{"$error":"#REF!"}]
[44,44,"St. Bernard",{"$f":"'8_2.1.24 SIS BASE'!C50","v":7354},{"$f":"'2_State Distrib and Adjs'!AQ50","v":5835},{"$f":"'2_State Distrib and Adjs'!AP50","v":42908867},null,null,null,null,null,null,null,null,null,null,42908867,null,{"$f":"'2_State Distrib and Adjs'!AU50","v":0},{"$f":"'2_State Distrib and Adjs'!AV50","v":0},{"$f":"'2_State Distrib and Adjs'!AW50","v":0},42908867,null,null,42908867,{"$f":"'2_State Distrib and Adjs'!AR50","v":0},{"$f":"'2_State Distrib and Adjs'!AY50","v":0},{"$f":"'2_State Distrib and Adjs'!AZ50","v":233380},{"$f":"'2_State Distrib and Adjs'!BA50","v":952987},{"$f":"'2_State Distrib and Adjs'!BB50","v":762389},{"$f":"'2_State Distrib and Adjs'!BD50","v":46287104},{"$f":"'2_State Distrib and Adjs'!BE50","v":0},{"$f":"'2_State Distrib and Adjs'!BF50","v":46287104},{"$f":"'2_State Distrib and Adjs'!BG50","v":3857259},{"$f":"'2_State Distrib and Adjs'!BH50","v":0},{"$f":"'2_State Distrib and Adjs'!BI50","v":345956},{"$f":"'2_State Distrib and Adjs'!BJ50","v":0},{"$f":"'2_State Distrib and Adjs'!BL50","v":46633060},46633060,null,{"$f":"-'New Type 2 Res Summary'!AG50-'5A3_OJJ'!P50","v":{"$error":"#REF!"}},{"$f":"-'New Type 2 Res Summary'!AH50","v":{"$error":"#REF!"}},{"$f":"-'New Type 2 Res Summary'!AI50","v":{"$error":"#REF!"}},{"$f":"-'New Type 2 Res Summary'!AJ50","v":{"$error":"#REF!"}},{"$f":"-'New Type 2 Res Summary'!AK50","v":{"$error":"#REF!"}},{"$f":"-'New Type 2 Res Summary'!AL50","v":{"$error":"#REF!"}},{"$f":"-'New Type 2 Res Summary'!AM50-'5A3_OJJ'!P50","v":{"$error":"#REF!"}},null,{"$f":"-'New Type 2 Res Summary'!AN50","v":{"$error":"#REF!"}},{"$f":"-'New Type 2 Res Summary'!AO50-'5A3_OJJ'!P50","v":{"$error":"#REF!"}},null,{"$f":"-'New Type 2 Res Summary'!AQ50-'5A3_OJJ'!P50","v":{"$error":"#REF!"}},{"$f":"'2A-1_EFT (Annual)'!AS50","v":-422114},{"$f":"'2A-1_EFT (Annual)'!#REF!+'2A-1_EFT (Annual)'!#REF!","v":{"$error":"#REF!"}},{"$error":"#REF!"},{"$f":"'2A-2_EFT (Monthly)'!AS50","v":-35089},46210946,{"$f":"'2A-2_EFT (Monthly)'!AT50","v":3822170},null,null,null,{"$f":"'2A-2_EFT (Monthly)'!#REF!+'2A-2_EFT (Monthly)'!#REF!","v":{"$error":"#REF!"}},null,{"$error":"#REF!"}]
[45,45,"St. Charles",{"$f":"'8_2.1.24 SIS BASE'!C51","v":8840},{"$f":"'2_State Distrib and Adjs'!AQ51","v":3026},{"$f":"'2_State Distrib and Adjs'!AP51","v":26746638},null,null,null,null,null,null,null,null,null,null,26746638,null,{"$f":"'2_State Distrib and Adjs'!AU51","v":0},{"$f":"'2_State Distrib and Adjs'!AV51","v":0},{"$f":"'2_State Distrib and Adjs'!AW51","v":0},26746638,null,null,26746638,{"$f":"'2_State Distrib and Adjs'!AR51","v":0},{"$f":"'2_State Distrib and Adjs'!AY51","v":0},{"$f":"'2_State Distrib and Adjs'!AZ51","v":292180},{"$f":"'2_State Distrib and Adjs'!BA51","v":1737148},{"$f":"'2_State Distrib and Adjs'!BB51","v":1389718},{"$f":"'2_State Distrib and Adjs'!BD51","v":32771407},{"$f":"'2_State Distrib and Adjs'!BE51","v":0},{"$f":"'2_State Distrib and Adjs'!BF51","v":32771407},{"$f":"'2_State Distrib and Adjs'!BG51","v":2730951},{"$f":"'2_State Distrib and Adjs'!BH51","v":0},{"$f":"'2_State Distrib and Adjs'!BI51","v":288296},{"$f":"'2_State Distrib and Adjs'!BJ51","v":0},{"$f":"'2_State Distrib and Adjs'!BL51","v":33059703},33059703,null,{"$f":"-'New Type 2 Res Summary'!AG51-'5A3_OJJ'!P51","v":{"$error":"#REF!"}},{"$f":"-'New Type 2 Res Summary'!AH51","v":{"$error":"#REF!"}},{"$f":"-'New Type 2 Res Summary'!AI51","v":{"$error":"#REF!"}},{"$f":"-'New Type 2 Res Summary'!AJ51","v":{"$error":"#REF!"}},{"$f":"-'New Type 2 Res Summary'!AK51","v":{"$error":"#REF!"}},{"$f":"-'New Type 2 Res Summary'!AL51","v":{"$error":"#REF!"}},{"$f":"-'New Type 2 Res Summary'!AM51-'5A3_OJJ'!P51","v":{"$error":"#REF!"}},null,{"$f":"-'New Type 2 Res Summary'!AN51","v":{"$error":"#REF!"}},{"$f":"-'New Type 2 Res Summary'!AO51-'5A3_OJJ'!P51","v":{"$error":"#REF!"}},null,{"$f":"-'New Type 2 Res Summary'!AQ51-'5A3_OJJ'!P51","v":{"$error":"#REF!"}},{"$f":"'2A-1_EFT (Annual)'!AS51","v":-1131770},{"$f":"'2A-1_EFT (Annual)'!#REF!+'2A-1_EFT (Annual)'!#REF!","v":{"$error":"#REF!"}},{"$error":"#REF!"},{"$f":"'2A-2_EFT (Monthly)'!AS51","v":-94079},31927933,{"$f":"'2A-2_EFT (Monthly)'!AT51","v":2636872},null,null,null,{"$f":"'2A-2_EFT (Monthly)'!#REF!+'2A-2_EFT (Monthly)'!#REF!","v":{"$error":"#REF!"}},null,{"$error":"#REF!"}]
[46,46,"St. Helena",{"$f":"'8_2.1.24 SIS BASE'!C52","v":996},{"$f":"'2_State Distrib and Adjs'!AQ52","v":8151},{"$f":"'2_State Distrib and Adjs'!AP52","v":8118249},null,null,null,null,null,null,null,null,null,null,8118249,null,{"$f":"'2_State Distrib and Adjs'!AU52","v":0},{"$f":"'2_State Distrib and Adjs'!AV52","v":0},{"$f":"'2_State Distrib and Adjs'!AW52","v":0},8118249,null,null,8118249,{"$f":"'2_State Distrib and Adjs'!AR52","v":0},{"$f":"'2_State Distrib and Adjs'!AY52","v":0},{"$f":"'2_State Distrib and Adjs'!AZ52","v":31780},{"$f":"'2_State Distrib and Adjs'!BA52","v":142067},{"$f":"'2_State Distrib and Adjs'!BB52","v":113653},{"$f":"'2_State Distrib and Adjs'!BD52","v":8618850},{"$f":"'2_State Distrib and Adjs'!BE52","v":0},{"$f":"'2_State Distrib and Adjs'!BF52","v":8618850},{"$f":"'2_State Distrib and Adjs'!BG52","v":718238},{"$f":"'2_State Distrib and Adjs'!BH52","v":0},{"$f":"'2_State Distrib and Adjs'!BI52","v":25000},{"$f":"'2_State Distrib and Adjs'!BJ52","v":0},{"$f":"'2_State Distrib and Adjs'!BL52","v":8643850},8643850,null,{"$f":"-'New Type 2 Res Summary'!AG52-'5A3_OJJ'!P52","v":{"$error":"#REF!"}},{"$f":"-'New Type 2 Res Summary'!AH52","v":{"$error":"#REF!"}},{"$f":"-'New Type 2 Res Summary'!AI52","v":{"$error":"#REF!"}},{"$f":"-'New Type 2 Res Summary'!AJ52","v":{"$error":"#REF!"}},{"$f":"-'New Type 2 Res Summary'!AK52","v":{"$error":"#REF!"}},{"$f":"-'New Type 2 Res Summary'!AL52","v":{"$error":"#REF!"}},{"$f":"-'New Type 2 Res Summary'!AM52-'5A3_OJJ'!P52","v":{"$error":"#REF!"}},null,{"$f":"-'New Type 2 Res Summary'!AN52","v":{"$error":"#REF!"}},{"$f":"-'New Type 2 Res Summary'!AO52-'5A3_OJJ'!P52","v":{"$error":"#REF!"}},null,{"$f":"-'New Type 2 Res Summary'!AQ52-'5A3_OJJ'!P52","v":{"$error":"#REF!"}},{"$f":"'2A-1_EFT (Annual)'!AS52","v":-147330},{"$f":"'2A-1_EFT (Annual)'!#REF!+'2A-1_EFT (Annual)'!#REF!","v":{"$error":"#REF!"}},{"$error":"#REF!"},{"$f":"'2A-2_EFT (Monthly)'!AS52","v":-12247},8496520,{"$f":"'2A-2_EFT (Monthly)'!AT52","v":705991},null,null,null,{"$f":"'2A-2_EFT (Monthly)'!#REF!+'2A-2_EFT (Monthly)'!#REF!","v":{"$error":"#REF!"}},null,{"$error":"#REF!"}]
[47,47,"St. James",{"$f":"'8_2.1.24 SIS BASE'!C53","v":3115},{"$f":"'2_State Distrib and Adjs'!AQ53","v":3905},{"$f":"'2_State Distrib and Adjs'!AP53","v":12163017},null,null,null,null,null,null,null,null,null,null,12163017,null,{"$f":"'2_State Distrib and Adjs'!AU53","v":0},{"$f":"'2_State Distrib and Adjs'!AV53","v":0},{"$f":"'2_State Distrib and Adjs'!AW53","v":0},12163017,null,null,12163017,{"$f":"'2_State Distrib and Adjs'!AR53","v":0},{"$f":"'2_State Distrib and Adjs'!AY53","v":0},{"$f":"'2_State Distrib and Adjs'!AZ53","v":106610},{"$f":"'2_State Distrib and Adjs'!BA53","v":522737},{"$f":"'2_State Distrib and Adjs'!BB53","v":418190},{"$f":"'2_State Distrib and Adjs'!BD53","v":13994662},{"$f":"'2_State Distrib and Adjs'!BE53","v":0},{"$f":"'2_State Distrib and Adjs'!BF53","v":13994662},{"$f":"'2_State Distrib and Adjs'!BG53","v":1166222},{"$f":"'2_State Distrib and Adjs'!BH53","v":0},{"$f":"'2_State Distrib and Adjs'!BI53","v":167375},{"$f":"'2_State Distrib and Adjs'!BJ53","v":0},{"$f":"'2_State Distrib and Adjs'!BL53","v":14162037},14162037,null,{"$f":"-'New Type 2 Res Summary'!AG53-'5A3_OJJ'!P53","v":{"$error":"#REF!"}},{"$f":"-'New Type 2 Res Summary'!AH53","v":{"$error":"#REF!"}},{"$f":"-'New Type 2 Res Summary'!AI53","v":{"$error":"#REF!"}},{"$f":"-'New Type 2 Res Summary'!AJ53","v":{"$error":"#REF!"}},{"$f":"-'New Type 2 Res Summary'!AK53","v":{"$error":"#REF!"}},{"$f":"-'New Type 2 Res Summary'!AL53","v":{"$error":"#REF!"}},{"$f":"-'New Type 2 Res Summary'!AM53-'5A3_OJJ'!P53","v":{"$error":"#REF!"}},null,{"$f":"-'New Type 2 Res Summary'!AN53","v":{"$error":"#REF!"}},{"$f":"-'New Type 2 Res Summary'!AO53-'5A3_OJJ'!P53","v":{"$error":"#REF!"}},null,{"$f":"-'New Type 2 Res Summary'!AQ53-'5A3_OJJ'!P53","v":{"$error":"#REF!"}},{"$f":"'2A-1_EFT (Annual)'!AS53","v":-119289},{"$f":"'2A-1_EFT (Annual)'!#REF!+'2A-1_EFT (Annual)'!#REF!","v":{"$error":"#REF!"}},{"$error":"#REF!"},{"$f":"'2A-2_EFT (Monthly)'!AS53","v":-9916},14042748,{"$f":"'2A-2_EFT (Monthly)'!AT53","v":1156306},null,null,null,{"$f":"'2A-2_EFT (Monthly)'!#REF!+'2A-2_EFT (Monthly)'!#REF!","v":{"$error":"#REF!"}},null,{"$error":"#REF!"}]
[48,48,"St. John the Baptist",{"$f":"'8_2.1.24 SIS BASE'!C54","v":4945},{"$f":"'2_State Distrib and Adjs'!AQ54","v":4425},{"$f":"'2_State Distrib and Adjs'!AP54","v":21883786},null,null,null,null,null,null,null,null,null,null,21883786,null,{"$f":"'2_State Distrib and Adjs'!AU54","v":0},{"$f":"'2_State Distrib and Adjs'!AV54","v":0},{"$f":"'2_State Distrib and Adjs'!AW54","v":0},21883786,null,null,21883786,{"$f":"'2_State Distrib and Adjs'!AR54","v":0},{"$f":"'2_State Distrib and Adjs'!AY54","v":0},{"$f":"'2_State Distrib and Adjs'!AZ54","v":155260},{"$f":"'2_State Distrib and Adjs'!BA54","v":811106},{"$f":"'2_State Distrib and Adjs'!BB54","v":648885},{"$f":"'2_State Distrib and Adjs'!BD54","v":24715698},{"$f":"'2_State Distrib and Adjs'!BE54","v":0},{"$f":"'2_State Distrib and Adjs'!BF54","v":24715698},{"$f":"'2_State Distrib and Adjs'!BG54","v":2059642},{"$f":"'2_State Distrib and Adjs'!BH54","v":0},{"$f":"'2_State Distrib and Adjs'!BI54","v":199548},{"$f":"'2_State Distrib and Adjs'!BJ54","v":0},{"$f":"'2_State Distrib and Adjs'!BL54","v":24915246},24915246,null,{"$f":"-'New Type 2 Res Summary'!AG54-'5A3_OJJ'!P54","v":{"$error":"#REF!"}},{"$f":"-'New Type 2 Res Summary'!AH54","v":{"$error":"#REF!"}},{"$f":"-'New Type 2 Res Summary'!AI54","v":{"$error":"#REF!"}},{"$f":"-'New Type 2 Res Summary'!AJ54","v":{"$error":"#REF!"}},{"$f":"-'New Type 2 Res Summary'!AK54","v":{"$error":"#REF!"}},{"$f":"-'New Type 2 Res Summary'!AL54","v":{"$error":"#REF!"}},{"$f":"-'New Type 2 Res Summary'!AM54-'5A3_OJJ'!P54","v":{"$error":"#REF!"}},null,{"$f":"-'New Type 2 Res Summary'!AN54","v":{"$error":"#REF!"}},{"$f":"-'New Type 2 Res Summary'!AO54-'5A3_OJJ'!P54","v":{"$error":"#REF!"}},null,{"$f":"-'New Type 2 Res Summary'!AQ54-'5A3_OJJ'!P54","v":{"$error":"#REF!"}},{"$f":"'2A-1_EFT (Annual)'!AS54","v":-524803},{"$f":"'2A-1_EFT (Annual)'!#REF!+'2A-1_EFT (Annual)'!#REF!","v":{"$error":"#REF!"}},{"$error":"#REF!"},{"$f":"'2A-2_EFT (Monthly)'!AS54","v":-43625},24390443,{"$f":"'2A-2_EFT (Monthly)'!AT54","v":2016017},null,null,null,{"$f":"'2A-2_EFT (Monthly)'!#REF!+'2A-2_EFT (Monthly)'!#REF!","v":{"$error":"#REF!"}},null,{"$error":"#REF!"}]
[49,49,"St. Landry",{"$f":"'8_2.1.24 SIS BASE'!C55","v":10983},{"$f":"'2_State Distrib and Adjs'!AQ55","v":6228},{"$f":"'2_State Distrib and Adjs'!AP55","v":68403378},null,null,null,null,null,null,null,null,null,null,68403378,null,{"$f":"'2_State Distrib and Adjs'!AU55","v":0},{"$f":"'2_State Distrib and Adjs'!AV55","v":0},{"$f":"'2_State Distrib and Adjs'!AW55","v":0},68403378,null,null,68403378,{"$f":"'2_State Distrib and Adjs'!AR55","v":0},{"$f":"'2_State Distrib and Adjs'!AY55","v":168000},{"$f":"'2_State Distrib and Adjs'!AZ55","v":356580},{"$f":"'2_State Distrib and Adjs'!BA55","v":1771896},{"$f":"'2_State Distrib and Adjs'!BB55","v":1417517},{"$f":"'2_State Distrib and Adjs'!BD55","v":74775215},{"$f":"'2_State Distrib and Adjs'!BE55","v":0},{"$f":"'2_State Distrib and Adjs'!BF55","v":74775215},{"$f":"'2_State Distrib and Adjs'!BG55","v":6231268},{"$f":"'2_State Distrib and Adjs'!BH55","v":0},{"$f":"'2_State Distrib and Adjs'!BI55","v":523452},{"$f":"'2_State Distrib and Adjs'!BJ55","v":0},{"$f":"'2_State Distrib and Adjs'!BL55","v":75298667},75298667,null,{"$f":"-'New Type 2 Res Summary'!AG55-'5A3_OJJ'!P55","v":{"$error":"#REF!"}},{"$f":"-'New Type 2 Res Summary'!AH55","v":{"$error":"#REF!"}},{"$f":"-'New Type 2 Res Summary'!AI55","v":{"$error":"#REF!"}},{"$f":"-'New Type 2 Res Summary'!AJ55","v":{"$error":"#REF!"}},{"$f":"-'New Type 2 Res Summary'!AK55","v":{"$error":"#REF!"}},{"$f":"-'New Type 2 Res Summary'!AL55","v":{"$error":"#REF!"}},{"$f":"-'New Type 2 Res Summary'!AM55-'5A3_OJJ'!P55","v":{"$error":"#REF!"}},null,{"$f":"-'New Type 2 Res Summary'!AN55","v":{"$error":"#REF!"}},{"$f":"-'New Type 2 Res Summary'!AO55-'5A3_OJJ'!P55","v":{"$error":"#REF!"}},null,{"$f":"-'New Type 2 Res Summary'!AQ55-'5A3_OJJ'!P55","v":{"$error":"#REF!"}},{"$f":"'2A-1_EFT (Annual)'!AS55","v":-3911212},{"$f":"'2A-1_EFT (Annual)'!#REF!+'2A-1_EFT (Annual)'!#REF!","v":{"$error":"#REF!"}},{"$error":"#REF!"},{"$f":"'2A-2_EFT (Monthly)'!AS55","v":-325128},71387455,{"$f":"'2A-2_EFT (Monthly)'!AT55","v":5906140},null,null,null,{"$f":"'2A-2_EFT (Monthly)'!#REF!+'2A-2_EFT (Monthly)'!#REF!","v":{"$error":"#REF!"}},null,{"$error":"#REF!"}]
[50,50,"St. Martin",{"$f":"'8_2.1.24 SIS BASE'!C56","v":6613},{"$f":"'2_State Distrib and Adjs'!AQ56","v":6046},{"$f":"'2_State Distrib and Adjs'!AP56","v":39980342},null,null,null,null,null,null,null,null,null,null,39980342,null,{"$f":"'2_State Distrib and Adjs'!AU56","v":0},{"$f":"'2_State Distrib and Adjs'!AV56","v":0},{"$f":"'2_State Distrib and Adjs'!AW56","v":0},39980342,null,null,39980342,{"$f":"'2_State Distrib and Adjs'!AR56","v":0},{"$f":"'2_State Distrib and Adjs'!AY56","v":210000},{"$f":"'2_State Distrib and Adjs'!AZ56","v":207760},{"$f":"'2_State Distrib and Adjs'!BA56","v":958446},{"$f":"'2_State Distrib and Adjs'!BB56","v":766757},{"$f":"'2_State Distrib and Adjs'!BD56","v":43560974},{"$f":"'2_State Distrib and Adjs'!BE56","v":0},{"$f":"'2_State Distrib and Adjs'!BF56","v":43560974},{"$f":"'2_State Distrib and Adjs'!BG56","v":3630081},{"$f":"'2_State Distrib and Adjs'!BH56","v":0},{"$f":"'2_State Distrib and Adjs'!BI56","v":178039},{"$f":"'2_State Distrib and Adjs'!BJ56","v":0},{"$f":"'2_State Distrib and Adjs'!BL56","v":43739013},43739013,null,{"$f":"-'New Type 2 Res Summary'!AG56-'5A3_OJJ'!P56","v":{"$error":"#REF!"}},{"$f":"-'New Type 2 Res Summary'!AH56","v":{"$error":"#REF!"}},{"$f":"-'New Type 2 Res Summary'!AI56","v":{"$error":"#REF!"}},{"$f":"-'New Type 2 Res Summary'!AJ56","v":{"$error":"#REF!"}},{"$f":"-'New Type 2 Res Summary'!AK56","v":{"$error":"#REF!"}},{"$f":"-'New Type 2 Res Summary'!AL56","v":{"$error":"#REF!"}},{"$f":"-'New Type 2 Res Summary'!AM56-'5A3_OJJ'!P56","v":{"$error":"#REF!"}},null,{"$f":"-'New Type 2 Res Summary'!AN56","v":{"$error":"#REF!"}},{"$f":"-'New Type 2 Res Summary'!AO56-'5A3_OJJ'!P56","v":{"$error":"#REF!"}},null,{"$f":"-'New Type 2 Res Summary'!AQ56-'5A3_OJJ'!P56","v":{"$error":"#REF!"}},{"$f":"'2A-1_EFT (Annual)'!AS56","v":-1550210},{"$f":"'2A-1_EFT (Annual)'!#REF!+'2A-1_EFT (Annual)'!#REF!","v":{"$error":"#REF!"}},{"$error":"#REF!"},{"$f":"'2A-2_EFT (Monthly)'!AS56","v":-128863},42188803,{"$f":"'2A-2_EFT (Monthly)'!AT56","v":3501218},null,null,null,{"$f":"'2A-2_EFT (Monthly)'!#REF!+'2A-2_EFT (Monthly)'!#REF!","v":{"$error":"#REF!"}},null,{"$error":"#REF!"}]
[51,51,"St. Mary",{"$f":"'8_2.1.24 SIS BASE'!C57","v":7256},{"$f":"'2_State Distrib and Adjs'!AQ57","v":6189},{"$f":"'2_State Distrib and Adjs'!AP57","v":44907502},null,null,null,null,null,null,null,null,null,null,44907502,null,{"$f":"'2_State Distrib and Adjs'!AU57","v":0},{"$f":"'2_State Distrib and Adjs'!AV57","v":0},{"$f":"'2_State Distrib and Adjs'!AW57","v":0},44907502,null,null,44907502,{"$f":"'2_State Distrib and Adjs'!AR57","v":0},{"$f":"'2_State Distrib and Adjs'!AY57","v":0},{"$f":"'2_State Distrib and Adjs'!AZ57","v":235970},{"$f":"'2_State Distrib and Adjs'!BA57","v":1171953},{"$f":"'2_State Distrib and Adjs'!BB57","v":937563},{"$f":"'2_State Distrib and Adjs'!BD57","v":49010918},{"$f":"'2_State Distrib and Adjs'!BE57","v":0},{"$f":"'2_State Distrib and Adjs'!BF57","v":49010918},{"$f":"'2_State Distrib and Adjs'!BG57","v":4084243},{"$f":"'2_State Distrib and Adjs'!BH57","v":0},{"$f":"'2_State Distrib and Adjs'!BI57","v":326435},{"$f":"'2_State Distrib and Adjs'!BJ57","v":0},{"$f":"'2_State Distrib and Adjs'!BL57","v":49337353},49337353,null,{"$f":"-'New Type 2 Res Summary'!AG57-'5A3_OJJ'!P57","v":{"$error":"#REF!"}},{"$f":"-'New Type 2 Res Summary'!AH57","v":{"$error":"#REF!"}},{"$f":"-'New Type 2 Res Summary'!AI57","v":{"$error":"#REF!"}},{"$f":"-'New Type 2 Res Summary'!AJ57","v":{"$error":"#REF!"}},{"$f":"-'New Type 2 Res Summary'!AK57","v":{"$error":"#REF!"}},{"$f":"-'New Type 2 Res Summary'!AL57","v":{"$error":"#REF!"}},{"$f":"-'New Type 2 Res Summary'!AM57-'5A3_OJJ'!P57","v":{"$error":"#REF!"}},null,{"$f":"-'New Type 2 Res Summary'!AN57","v":{"$error":"#REF!"}},{"$f":"-'New Type 2 Res Summary'!AO57-'5A3_OJJ'!P57","v":{"$error":"#REF!"}},null,{"$f":"-'New Type 2 Res Summary'!AQ57-'5A3_OJJ'!P57","v":{"$error":"#REF!"}},{"$f":"'2A-1_EFT (Annual)'!AS57","v":-412776},{"$f":"'2A-1_EFT (Annual)'!#REF!+'2A-1_EFT (Annual)'!#REF!","v":{"$error":"#REF!"}},{"$error":"#REF!"},{"$f":"'2A-2_EFT (Monthly)'!AS57","v":-34314},48924577,{"$f":"'2A-2_EFT (Monthly)'!AT57","v":4049929},null,null,null,{"$f":"'2A-2_EFT (Monthly)'!#REF!+'2A-2_EFT (Monthly)'!#REF!","v":{"$error":"#REF!"}},null,{"$error":"#REF!"}]
[52,52,"St. Tammany",{"$f":"'8_2.1.24 SIS BASE'!C58","v":35725},{"$f":"'2_State Distrib and Adjs'!AQ58","v":5537},{"$f":"'2_State Distrib and Adjs'!AP58","v":197798290},null,null,null,null,null,null,null,null,null,null,197798290,null,{"$f":"'2_State Distrib and Adjs'!AU58","v":0},{"$f":"'2_State Distrib and Adjs'!AV58","v":0},{"$f":"'2_State Distrib and Adjs'!AW58","v":0},197798290,null,null,197798290,{"$f":"'2_State Distrib and Adjs'!AR58","v":0},{"$f":"'2_State Distrib and Adjs'!AY58","v":0},{"$f":"'2_State Distrib and Adjs'!AZ58","v":1153040},{"$f":"'2_State Distrib and Adjs'!BA58","v":5977011},{"$f":"'2_State Distrib and Adjs'!BB58","v":4781608},{"$f":"'2_State Distrib and Adjs'!BD58","v":218675464},{"$f":"'2_State Distrib and Adjs'!BE58","v":0},{"$f":"'2_State Distrib and Adjs'!BF58","v":218675464},{"$f":"'2_State Distrib and Adjs'!BG58","v":18222955},{"$f":"'2_State Distrib and Adjs'!BH58","v":0},{"$f":"'2_State Distrib and Adjs'!BI58","v":887302},{"$f":"'2_State Distrib and Adjs'!BJ58","v":0},{"$f":"'2_State Distrib and Adjs'!BL58","v":219562766},219562766,null,{"$f":"-'New Type 2 Res Summary'!AG58-'5A3_OJJ'!P58","v":{"$error":"#REF!"}},{"$f":"-'New Type 2 Res Summary'!AH58","v":{"$error":"#REF!"}},{"$f":"-'New Type 2 Res Summary'!AI58","v":{"$error":"#REF!"}},{"$f":"-'New Type 2 Res Summary'!AJ58","v":{"$error":"#REF!"}},{"$f":"-'New Type 2 Res Summary'!AK58","v":{"$error":"#REF!"}},{"$f":"-'New Type 2 Res Summary'!AL58","v":{"$error":"#REF!"}},{"$f":"-'New Type 2 Res Summary'!AM58-'5A3_OJJ'!P58","v":{"$error":"#REF!"}},null,{"$f":"-'New Type 2 Res Summary'!AN58","v":{"$error":"#REF!"}},{"$f":"-'New Type 2 Res Summary'!AO58-'5A3_OJJ'!P58","v":{"$error":"#REF!"}},null,{"$f":"-'New Type 2 Res Summary'!AQ58-'5A3_OJJ'!P58","v":{"$error":"#REF!"}},{"$f":"'2A-1_EFT (Annual)'!AS58","v":-5509101},{"$f":"'2A-1_EFT (Annual)'!#REF!+'2A-1_EFT (Annual)'!#REF!","v":{"$error":"#REF!"}},{"$error":"#REF!"},{"$f":"'2A-2_EFT (Monthly)'!AS58","v":-457949},214053665,{"$f":"'2A-2_EFT (Monthly)'!AT58","v":17765006},null,null,null,{"$f":"'2A-2_EFT (Monthly)'!#REF!+'2A-2_EFT (Monthly)'!#REF!","v":{"$error":"#REF!"}},null,{"$error":"#REF!"}]
[53,53,"Tangipahoa",{"$f":"'8_2.1.24 SIS BASE'!C59","v":18656},{"$f":"'2_State Distrib and Adjs'!AQ59","v":6527},{"$f":"'2_State Distrib and Adjs'!AP59","v":121760272},null,null,null,null,null,null,null,null,null,null,121760272,null,{"$f":"'2_State Distrib and Adjs'!AU59","v":0},{"$f":"'2_State Distrib and Adjs'!AV59","v":0},{"$f":"'2_State Distrib and Adjs'!AW59","v":0},121760272,null,null,121760272,{"$f":"'2_State Distrib and Adjs'!AR59","v":0},{"$f":"'2_State Distrib and Adjs'!AY59","v":0},{"$f":"'2_State Distrib and Adjs'!AZ59","v":595140},{"$f":"'2_State Distrib and Adjs'!BA59","v":2835068},{"$f":"'2_State Distrib and Adjs'!BB59","v":2268053},{"$f":"'2_State Distrib and Adjs'!BD59","v":131711132},{"$f":"'2_State Distrib and Adjs'!BE59","v":0},{"$f":"'2_State Distrib and Adjs'!BF59","v":131711132},{"$f":"'2_State Distrib and Adjs'!BG59","v":10975928},{"$f":"'2_State Distrib and Adjs'!BH59","v":0},{"$f":"'2_State Distrib and Adjs'!BI59","v":806507},{"$f":"'2_State Distrib and Adjs'!BJ59","v":0},{"$f":"'2_State Distrib and Adjs'!BL59","v":132517639},132517639,null,{"$f":"-'New Type 2 Res Summary'!AG59-'5A3_OJJ'!P59","v":{"$error":"#REF!"}},{"$f":"-'New Type 2 Res Summary'!AH59","v":{"$error":"#REF!"}},{"$f":"-'New Type 2 Res Summary'!AI59","v":{"$error":"#REF!"}},{"$f":"-'New Type 2 Res Summary'!AJ59","v":{"$error":"#REF!"}},{"$f":"-'New Type 2 Res Summary'!AK59","v":{"$error":"#REF!"}},{"$f":"-'New Type 2 Res Summary'!AL59","v":{"$error":"#REF!"}},{"$f":"-'New Type 2 Res Summary'!AM59-'5A3_OJJ'!P59","v":{"$error":"#REF!"}},null,{"$f":"-'New Type 2 Res Summary'!AN59","v":{"$error":"#REF!"}},{"$f":"-'New Type 2 Res Summary'!AO59-'5A3_OJJ'!P59","v":{"$error":"#REF!"}},null,{"$f":"-'New Type 2 Res Summary'!AQ59-'5A3_OJJ'!P59","v":{"$error":"#REF!"}},{"$f":"'2A-1_EFT (Annual)'!AS59","v":-1409865},{"$f":"'2A-1_EFT (Annual)'!#REF!+'2A-1_EFT (Annual)'!#REF!","v":{"$error":"#REF!"}},{"$error":"#REF!"},{"$f":"'2A-2_EFT (Monthly)'!AS59","v":-117197},131107774,{"$f":"'2A-2_EFT (Monthly)'!AT59","v":10858731},null,null,null,{"$f":"'2A-2_EFT (Monthly)'!#REF!+'2A-2_EFT (Monthly)'!#REF!","v":{"$error":"#REF!"}},null,{"$error":"#REF!"}]
[54,54,"Tensas",{"$f":"'8_2.1.24 SIS BASE'!C60","v":318},{"$f":"'2_State Distrib and Adjs'!AQ60","v":6038},{"$f":"'2_State Distrib and Adjs'!AP60","v":1920141},null,null,null,null,null,null,null,null,null,null,1920141,null,{"$f":"'2_State Distrib and Adjs'!AU60","v":0},{"$f":"'2_State Distrib and Adjs'!AV60","v":0},{"$f":"'2_State Distrib and Adjs'!AW60","v":0},1920141,null,null,1920141,{"$f":"'2_State Distrib and Adjs'!AR60","v":0},{"$f":"'2_State Distrib and Adjs'!AY60","v":0},{"$f":"'2_State Distrib and Adjs'!AZ60","v":8610},{"$f":"'2_State Distrib and Adjs'!BA60","v":66326},{"$f":"'2_State Distrib and Adjs'!BB60","v":53061},{"$f":"'2_State Distrib and Adjs'!BD60","v":2147627},{"$f":"'2_State Distrib and Adjs'!BE60","v":0},{"$f":"'2_State Distrib and Adjs'!BF60","v":2147627},{"$f":"'2_State Distrib and Adjs'!BG60","v":178969},{"$f":"'2_State Distrib and Adjs'!BH60","v":0},{"$f":"'2_State Distrib and Adjs'!BI60","v":25000},{"$f":"'2_State Distrib and Adjs'!BJ60","v":0},{"$f":"'2_State Distrib and Adjs'!BL60","v":2172627},2172627,null,{"$f":"-'New Type 2 Res Summary'!AG60-'5A3_OJJ'!P60","v":{"$error":"#REF!"}},{"$f":"-'New Type 2 Res Summary'!AH60","v":{"$error":"#REF!"}},{"$f":"-'New Type 2 Res Summary'!AI60","v":{"$error":"#REF!"}},{"$f":"-'New Type 2 Res Summary'!AJ60","v":{"$error":"#REF!"}},{"$f":"-'New Type 2 Res Summary'!AK60","v":{"$error":"#REF!"}},{"$f":"-'New Type 2 Res Summary'!AL60","v":{"$error":"#REF!"}},{"$f":"-'New Type 2 Res Summary'!AM60-'5A3_OJJ'!P60","v":{"$error":"#REF!"}},null,{"$f":"-'New Type 2 Res Summary'!AN60","v":{"$error":"#REF!"}},{"$f":"-'New Type 2 Res Summary'!AO60-'5A3_OJJ'!P60","v":{"$error":"#REF!"}},null,{"$f":"-'New Type 2 Res Summary'!AQ60-'5A3_OJJ'!P60","v":{"$error":"#REF!"}},{"$f":"'2A-1_EFT (Annual)'!AS60","v":-308963},{"$f":"'2A-1_EFT (Annual)'!#REF!+'2A-1_EFT (Annual)'!#REF!","v":{"$error":"#REF!"}},{"$error":"#REF!"},{"$f":"'2A-2_EFT (Monthly)'!AS60","v":-25684},1863664,{"$f":"'2A-2_EFT (Monthly)'!AT60","v":153285},null,null,null,{"$f":"'2A-2_EFT (Monthly)'!#REF!+'2A-2_EFT (Monthly)'!#REF!","v":{"$error":"#REF!"}},null,{"$error":"#REF!"}]
[55,55,"Terrebonne",{"$f":"'8_2.1.24 SIS BASE'!C61","v":14288},{"$f":"'2_State Distrib and Adjs'!AQ61","v":5418},{"$f":"'2_State Distrib and Adjs'!AP61","v":77408420},null,null,null,null,null,null,null,null,null,null,77408420,null,{"$f":"'2_State Distrib and Adjs'!AU61","v":0},{"$f":"'2_State Distrib and Adjs'!AV61","v":0},{"$f":"'2_State Distrib and Adjs'!AW61","v":0},77408420,null,null,77408420,{"$f":"'2_State Distrib and Adjs'!AR61","v":0},{"$f":"'2_State Distrib and Adjs'!AY61","v":0},{"$f":"'2_State Distrib and Adjs'!AZ61","v":454440},{"$f":"'2_State Distrib and Adjs'!BA61","v":1997413},{"$f":"'2_State Distrib and Adjs'!BB61","v":1597930},{"$f":"'2_State Distrib and Adjs'!BD61","v":84454323},{"$f":"'2_State Distrib and Adjs'!BE61","v":0},{"$f":"'2_State Distrib and Adjs'!BF61","v":84454323},{"$f":"'2_State Distrib and Adjs'!BG61","v":7037860},{"$f":"'2_State Distrib and Adjs'!BH61","v":0},{"$f":"'2_State Distrib and Adjs'!BI61","v":274559},{"$f":"'2_State Distrib and Adjs'!BJ61","v":0},{"$f":"'2_State Distrib and Adjs'!BL61","v":84728882},84728882,null,{"$f":"-'New Type 2 Res Summary'!AG61-'5A3_OJJ'!P61","v":{"$error":"#REF!"}},{"$f":"-'New Type 2 Res Summary'!AH61","v":{"$error":"#REF!"}},{"$f":"-'New Type 2 Res Summary'!AI61","v":{"$error":"#REF!"}},{"$f":"-'New Type 2 Res Summary'!AJ61","v":{"$error":"#REF!"}},{"$f":"-'New Type 2 Res Summary'!AK61","v":{"$error":"#REF!"}},{"$f":"-'New Type 2 Res Summary'!AL61","v":{"$error":"#REF!"}},{"$f":"-'New Type 2 Res Summary'!AM61-'5A3_OJJ'!P61","v":{"$error":"#REF!"}},null,{"$f":"-'New Type 2 Res Summary'!AN61","v":{"$error":"#REF!"}},{"$f":"-'New Type 2 Res Summary'!AO61-'5A3_OJJ'!P61","v":{"$error":"#REF!"}},null,{"$f":"-'New Type 2 Res Summary'!AQ61-'5A3_OJJ'!P61","v":{"$error":"#REF!"}},{"$f":"'2A-1_EFT (Annual)'!AS61","v":-1439508},{"$f":"'2A-1_EFT (Annual)'!#REF!+'2A-1_EFT (Annual)'!#REF!","v":{"$error":"#REF!"}},{"$error":"#REF!"},{"$f":"'2A-2_EFT (Monthly)'!AS61","v":-119665},83289374,{"$f":"'2A-2_EFT (Monthly)'!AT61","v":6918195},null,null,null,{"$f":"'2A-2_EFT (Monthly)'!#REF!+'2A-2_EFT (Monthly)'!#REF!","v":{"$error":"#REF!"}},null,{"$error":"#REF!"}]
[56,56,"Union",{"$f":"'8_2.1.24 SIS BASE'!C62","v":1615},{"$f":"'2_State Distrib and Adjs'!AQ62","v":7103},{"$f":"'2_State Distrib and Adjs'!AP62","v":11470959},null,null,null,null,null,null,null,null,null,null,11470959,null,{"$f":"'2_State Distrib and Adjs'!AU62","v":0},{"$f":"'2_State Distrib and Adjs'!AV62","v":0},{"$f":"'2_State Distrib and Adjs'!AW62","v":0},11470959,null,null,11470959,{"$f":"'2_State Distrib and Adjs'!AR62","v":0},{"$f":"'2_State Distrib and Adjs'!AY62","v":0},{"$f":"'2_State Distrib and Adjs'!AZ62","v":51100},{"$f":"'2_State Distrib and Adjs'!BA62","v":267981},{"$f":"'2_State Distrib and Adjs'!BB62","v":214386},{"$f":"'2_State Distrib and Adjs'!BD62","v":12406397},{"$f":"'2_State Distrib and Adjs'!BE62","v":0},{"$f":"'2_State Distrib and Adjs'!BF62","v":12406397},{"$f":"'2_State Distrib and Adjs'!BG62","v":1033866},{"$f":"'2_State Distrib and Adjs'!BH62","v":0},{"$f":"'2_State Distrib and Adjs'!BI62","v":38138},{"$f":"'2_State Distrib and Adjs'!BJ62","v":0},{"$f":"'2_State Distrib and Adjs'!BL62","v":12444535},12444535,null,{"$f":"-'New Type 2 Res Summary'!AG62-'5A3_OJJ'!P62","v":{"$error":"#REF!"}},{"$f":"-'New Type 2 Res Summary'!AH62","v":{"$error":"#REF!"}},{"$f":"-'New Type 2 Res Summary'!AI62","v":{"$error":"#REF!"}},{"$f":"-'New Type 2 Res Summary'!AJ62","v":{"$error":"#REF!"}},{"$f":"-'New Type 2 Res Summary'!AK62","v":{"$error":"#REF!"}},{"$f":"-'New Type 2 Res Summary'!AL62","v":{"$error":"#REF!"}},{"$f":"-'New Type 2 Res Summary'!AM62-'5A3_OJJ'!P62","v":{"$error":"#REF!"}},null,{"$f":"-'New Type 2 Res Summary'!AN62","v":{"$error":"#REF!"}},{"$f":"-'New Type 2 Res Summary'!AO62-'5A3_OJJ'!P62","v":{"$error":"#REF!"}},null,{"$f":"-'New Type 2 Res Summary'!AQ62-'5A3_OJJ'!P62","v":{"$error":"#REF!"}},{"$f":"'2A-1_EFT (Annual)'!AS62","v":-6543062},{"$f":"'2A-1_EFT (Annual)'!#REF!+'2A-1_EFT (Annual)'!#REF!","v":{"$error":"#REF!"}},{"$error":"#REF!"},{"$f":"'2A-2_EFT (Monthly)'!AS62","v":-543892},5901473,{"$f":"'2A-2_EFT (Monthly)'!AT62","v":489974},null,null,null,{"$f":"'2A-2_EFT (Monthly)'!#REF!+'2A-2_EFT (Monthly)'!#REF!","v":{"$error":"#REF!"}},null,{"$error":"#REF!"}]
[57,57,"Vermilion",{"$f":"'8_2.1.24 SIS BASE'!C63","v":8927},{"$f":"'2_State Distrib and Adjs'!AQ63","v":6596},{"$f":"'2_State Distrib and Adjs'!AP63","v":58884746},null,null,null,null,null,null,null,null,null,null,58884746,null,{"$f":"'2_State Distrib and Adjs'!AU63","v":0},{"$f":"'2_State Distrib and Adjs'!AV63","v":0},{"$f":"'2_State Distrib and Adjs'!AW63","v":0},58884746,null,null,58884746,{"$f":"'2_State Distrib and Adjs'!AR63","v":0},{"$f":"'2_State Distrib and Adjs'!AY63","v":168000},{"$f":"'2_State Distrib and Adjs'!AZ63","v":275590},{"$f":"'2_State Distrib and Adjs'!BA63","v":1252485},{"$f":"'2_State Distrib and Adjs'!BB63","v":1001988},{"$f":"'2_State Distrib and Adjs'!BD63","v":63461537},{"$f":"'2_State Distrib and Adjs'!BE63","v":0},{"$f":"'2_State Distrib and Adjs'!BF63","v":63461537},{"$f":"'2_State Distrib and Adjs'!BG63","v":5288461},{"$f":"'2_State Distrib and Adjs'!BH63","v":0},{"$f":"'2_State Distrib and Adjs'!BI63","v":169724},{"$f":"'2_State Distrib and Adjs'!BJ63","v":0},{"$f":"'2_State Distrib and Adjs'!BL63","v":63631261},63631261,null,{"$f":"-'New Type 2 Res Summary'!AG63-'5A3_OJJ'!P63","v":{"$error":"#REF!"}},{"$f":"-'New Type 2 Res Summary'!AH63","v":{"$error":"#REF!"}},{"$f":"-'New Type 2 Res Summary'!AI63","v":{"$error":"#REF!"}},{"$f":"-'New Type 2 Res Summary'!AJ63","v":{"$error":"#REF!"}},{"$f":"-'New Type 2 Res Summary'!AK63","v":{"$error":"#REF!"}},{"$f":"-'New Type 2 Res Summary'!AL63","v":{"$error":"#REF!"}},{"$f":"-'New Type 2 Res Summary'!AM63-'5A3_OJJ'!P63","v":{"$error":"#REF!"}},null,{"$f":"-'New Type 2 Res Summary'!AN63","v":{"$error":"#REF!"}},{"$f":"-'New Type 2 Res Summary'!AO63-'5A3_OJJ'!P63","v":{"$error":"#REF!"}},null,{"$f":"-'New Type 2 Res Summary'!AQ63-'5A3_OJJ'!P63","v":{"$error":"#REF!"}},{"$f":"'2A-1_EFT (Annual)'!AS63","v":-3063593},{"$f":"'2A-1_EFT (Annual)'!#REF!+'2A-1_EFT (Annual)'!#REF!","v":{"$error":"#REF!"}},{"$error":"#REF!"},{"$f":"'2A-2_EFT (Monthly)'!AS63","v":-254663},60567668,{"$f":"'2A-2_EFT (Monthly)'!AT63","v":5033798},null,null,null,{"$f":"'2A-2_EFT (Monthly)'!#REF!+'2A-2_EFT (Monthly)'!#REF!","v":{"$error":"#REF!"}},null,{"$error":"#REF!"}]
[58,58,"Vernon",{"$f":"'8_2.1.24 SIS BASE'!C64","v":7551},{"$f":"'2_State Distrib and Adjs'!AQ64","v":6917},{"$f":"'2_State Distrib and Adjs'!AP64","v":52228786},null,null,null,null,null,null,null,null,null,null,52228786,null,{"$f":"'2_State Distrib and Adjs'!AU64","v":0},{"$f":"'2_State Distrib and Adjs'!AV64","v":0},{"$f":"'2_State Distrib and Adjs'!AW64","v":0},52228786,null,null,52228786,{"$f":"'2_State Distrib and Adjs'!AR64","v":0},{"$f":"'2_State Distrib and Adjs'!AY64","v":0},{"$f":"'2_State Distrib and Adjs'!AZ64","v":218610},{"$f":"'2_State Distrib and Adjs'!BA64","v":1062628},{"$f":"'2_State Distrib and Adjs'!BB64","v":850101},{"$f":"'2_State Distrib and Adjs'!BD64","v":55954066},{"$f":"'2_State Distrib and Adjs'!BE64","v":0},{"$f":"'2_State Distrib and Adjs'!BF64","v":55954066},{"$f":"'2_State Distrib and Adjs'!BG64","v":4662839},{"$f":"'2_State Distrib and Adjs'!BH64","v":0},{"$f":"'2_State Distrib and Adjs'!BI64","v":66878},{"$f":"'2_State Distrib and Adjs'!BJ64","v":0},{"$f":"'2_State Distrib and Adjs'!BL64","v":56020944},56020944,null,{"$f":"-'New Type 2 Res Summary'!AG64-'5A3_OJJ'!P64","v":{"$error":"#REF!"}},{"$f":"-'New Type 2 Res Summary'!AH64","v":{"$error":"#REF!"}},{"$f":"-'New Type 2 Res Summary'!AI64","v":{"$error":"#REF!"}},{"$f":"-'New Type 2 Res Summary'!AJ64","v":{"$error":"#REF!"}},{"$f":"-'New Type 2 Res Summary'!AK64","v":{"$error":"#REF!"}},{"$f":"-'New Type 2 Res Summary'!AL64","v":{"$error":"#REF!"}},{"$f":"-'New Type 2 Res Summary'!AM64-'5A3_OJJ'!P64","v":{"$error":"#REF!"}},null,{"$f":"-'New Type 2 Res Summary'!AN64","v":{"$error":"#REF!"}},{"$f":"-'New Type 2 Res Summary'!AO64-'5A3_OJJ'!P64","v":{"$error":"#REF!"}},null,{"$f":"-'New Type 2 Res Summary'!AQ64-'5A3_OJJ'!P64","v":{"$error":"#REF!"}},{"$f":"'2A-1_EFT (Annual)'!AS64","v":-166982},{"$f":"'2A-1_EFT (Annual)'!#REF!+'2A-1_EFT (Annual)'!#REF!","v":{"$error":"#REF!"}},{"$error":"#REF!"},{"$f":"'2A-2_EFT (Monthly)'!AS64","v":-13880},55853962,{"$f":"'2A-2_EFT (Monthly)'!AT64","v":4648959},null,null,null,{"$f":"'2A-2_EFT (Monthly)'!#REF!+'2A-2_EFT (Monthly)'!#REF!","v":{"$error":"#REF!"}},null,{"$error":"#REF!"}]
[59,59,"Washington",{"$f":"'8_2.1.24 SIS BASE'!C65","v":4378},{"$f":"'2_State Distrib and Adjs'!AQ65","v":7903},{"$f":"'2_State Distrib and Adjs'!AP65","v":34598907},null,null,null,null,null,null,null,null,null,null,34598907,null,{"$f":"'2_State Distrib and Adjs'!AU65","v":0},{"$f":"'2_State Distrib and Adjs'!AV65","v":0},{"$f":"'2_State Distrib and Adjs'!AW65","v":0},34598907,null,null,34598907,{"$f":"'2_State Distrib and Adjs'!AR65","v":0},{"$f":"'2_State Distrib and Adjs'!AY65","v":0},{"$f":"'2_State Distrib and Adjs'!AZ65","v":138530},{"$f":"'2_State Distrib and Adjs'!BA65","v":708221},{"$f":"'2_State Distrib and Adjs'!BB65","v":566576},{"$f":"'2_State Distrib and Adjs'!BD65","v":37074567},{"$f":"'2_State Distrib and Adjs'!BE65","v":0},{"$f":"'2_State Distrib and Adjs'!BF65","v":37074567},{"$f":"'2_State Distrib and Adjs'!BG65","v":3089547},{"$f":"'2_State Distrib and Adjs'!BH65","v":0},{"$f":"'2_State Distrib and Adjs'!BI65","v":117126},{"$f":"'2_State Distrib and Adjs'!BJ65","v":0},{"$f":"'2_State Distrib and Adjs'!BL65","v":37191693},37191693,null,{"$f":"-'New Type 2 Res Summary'!AG65-'5A3_OJJ'!P65","v":{"$error":"#REF!"}},{"$f":"-'New Type 2 Res Summary'!AH65","v":{"$error":"#REF!"}},{"$f":"-'New Type 2 Res Summary'!AI65","v":{"$error":"#REF!"}},{"$f":"-'New Type 2 Res Summary'!AJ65","v":{"$error":"#REF!"}},{"$f":"-'New Type 2 Res Summary'!AK65","v":{"$error":"#REF!"}},{"$f":"-'New Type 2 Res Summary'!AL65","v":{"$error":"#REF!"}},{"$f":"-'New Type 2 Res Summary'!AM65-'5A3_OJJ'!P65","v":{"$error":"#REF!"}},null,{"$f":"-'New Type 2 Res Summary'!AN65","v":{"$error":"#REF!"}},{"$f":"-'New Type 2 Res Summary'!AO65-'5A3_OJJ'!P65","v":{"$error":"#REF!"}},null,{"$f":"-'New Type 2 Res Summary'!AQ65-'5A3_OJJ'!P65","v":{"$error":"#REF!"}},{"$f":"'2A-1_EFT (Annual)'!AS65","v":-124250},{"$f":"'2A-1_EFT (Annual)'!#REF!+'2A-1_EFT (Annual)'!#REF!","v":{"$error":"#REF!"}},{"$error":"#REF!"},{"$f":"'2A-2_EFT (Monthly)'!AS65","v":-10329},37067443,{"$f":"'2A-2_EFT (Monthly)'!AT65","v":3079218},null,null,null,{"$f":"'2A-2_EFT (Monthly)'!#REF!+'2A-2_EFT (Monthly)'!#REF!","v":{"$error":"#REF!"}},null,{"$error":"#REF!"}]
[60,60,"Webster",{"$f":"'8_2.1.24 SIS BASE'!C66","v":4914},{"$f":"'2_State Distrib and Adjs'!AQ66","v":6482},{"$f":"'2_State Distrib and Adjs'!AP66","v":31851040},null,null,null,null,null,null,null,null,null,null,31851040,null,{"$f":"'2_State Distrib and Adjs'!AU66","v":0},{"$f":"'2_State Distrib and Adjs'!AV66","v":0},{"$f":"'2_State Distrib and Adjs'!AW66","v":0},31851040,null,null,31851040,{"$f":"'2_State Distrib and Adjs'!AR66","v":0},{"$f":"'2_State Distrib and Adjs'!AY66","v":0},{"$f":"'2_State Distrib and Adjs'!AZ66","v":165480},{"$f":"'2_State Distrib and Adjs'!BA66","v":726756},{"$f":"'2_State Distrib and Adjs'!BB66","v":581405},{"$f":"'2_State Distrib and Adjs'!BD66","v":34414815},{"$f":"'2_State Distrib and Adjs'!BE66","v":0},{"$f":"'2_State Distrib and Adjs'!BF66","v":34414815},{"$f":"'2_State Distrib and Adjs'!BG66","v":2867901},{"$f":"'2_State Distrib and Adjs'!BH66","v":0},{"$f":"'2_State Distrib and Adjs'!BI66","v":124356},{"$f":"'2_State Distrib and Adjs'!BJ66","v":0},{"$f":"'2_State Distrib and Adjs'!BL66","v":34539171},34539171,null,{"$f":"-'New Type 2 Res Summary'!AG66-'5A3_OJJ'!P66","v":{"$error":"#REF!"}},{"$f":"-'New Type 2 Res Summary'!AH66","v":{"$error":"#REF!"}},{"$f":"-'New Type 2 Res Summary'!AI66","v":{"$error":"#REF!"}},{"$f":"-'New Type 2 Res Summary'!AJ66","v":{"$error":"#REF!"}},{"$f":"-'New Type 2 Res Summary'!AK66","v":{"$error":"#REF!"}},{"$f":"-'New Type 2 Res Summary'!AL66","v":{"$error":"#REF!"}},{"$f":"-'New Type 2 Res Summary'!AM66-'5A3_OJJ'!P66","v":{"$error":"#REF!"}},null,{"$f":"-'New Type 2 Res Summary'!AN66","v":{"$error":"#REF!"}},{"$f":"-'New Type 2 Res Summary'!AO66-'5A3_OJJ'!P66","v":{"$error":"#REF!"}},null,{"$f":"-'New Type 2 Res Summary'!AQ66-'5A3_OJJ'!P66","v":{"$error":"#REF!"}},{"$f":"'2A-1_EFT (Annual)'!AS66","v":-126990},{"$f":"'2A-1_EFT (Annual)'!#REF!+'2A-1_EFT (Annual)'!#REF!","v":{"$error":"#REF!"}},{"$error":"#REF!"},{"$f":"'2A-2_EFT (Monthly)'!AS66","v":-10557},34412181,{"$f":"'2A-2_EFT (Monthly)'!AT66","v":2857344},null,null,null,{"$f":"'2A-2_EFT (Monthly)'!#REF!+'2A-2_EFT (Monthly)'!#REF!","v":{"$error":"#REF!"}},null,{"$error":"#REF!"}]
[61,61,"West Baton Rouge",{"$f":"'8_2.1.24 SIS BASE'!C67","v":3948},{"$f":"'2_State Distrib and Adjs'!AQ67","v":3839},{"$f":"'2_State Distrib and Adjs'!AP67","v":15157604},null,null,null,null,null,null,null,null,null,null,15157604,null,{"$f":"'2_State Distrib and Adjs'!AU67","v":0},{"$f":"'2_State Distrib and Adjs'!AV67","v":0},{"$f":"'2_State Distrib and Adjs'!AW67","v":0},15157604,null,null,15157604,{"$f":"'2_State Distrib and Adjs'!AR67","v":0},{"$f":"'2_State Distrib and Adjs'!AY67","v":0},{"$f":"'2_State Distrib and Adjs'!AZ67","v":123690},{"$f":"'2_State Distrib and Adjs'!BA67","v":708417},{"$f":"'2_State Distrib and Adjs'!BB67","v":566733},{"$f":"'2_State Distrib and Adjs'!BD67","v":17619069},{"$f":"'2_State Distrib and Adjs'!BE67","v":0},{"$f":"'2_State Distrib and Adjs'!BF67","v":17619069},{"$f":"'2_State Distrib and Adjs'!BG67","v":1468256},{"$f":"'2_State Distrib and Adjs'!BH67","v":0},{"$f":"'2_State Distrib and Adjs'!BI67","v":126706},{"$f":"'2_State Distrib and Adjs'!BJ67","v":0},{"$f":"'2_State Distrib and Adjs'!BL67","v":17745775},17745775,null,{"$f":"-'New Type 2 Res Summary'!AG67-'5A3_OJJ'!P67","v":{"$error":"#REF!"}},{"$f":"-'New Type 2 Res Summary'!AH67","v":{"$error":"#REF!"}},{"$f":"-'New Type 2 Res Summary'!AI67","v":{"$error":"#REF!"}},{"$f":"-'New Type 2 Res Summary'!AJ67","v":{"$error":"#REF!"}},{"$f":"-'New Type 2 Res Summary'!AK67","v":{"$error":"#REF!"}},{"$f":"-'New Type 2 Res Summary'!AL67","v":{"$error":"#REF!"}},{"$f":"-'New Type 2 Res Summary'!AM67-'5A3_OJJ'!P67","v":{"$error":"#REF!"}},null,{"$f":"-'New Type 2 Res Summary'!AN67","v":{"$error":"#REF!"}},{"$f":"-'New Type 2 Res Summary'!AO67-'5A3_OJJ'!P67","v":{"$error":"#REF!"}},null,{"$f":"-'New Type 2 Res Summary'!AQ67-'5A3_OJJ'!P67","v":{"$error":"#REF!"}},{"$f":"'2A-1_EFT (Annual)'!AS67","v":-1606158},{"$f":"'2A-1_EFT (Annual)'!#REF!+'2A-1_EFT (Annual)'!#REF!","v":{"$error":"#REF!"}},{"$error":"#REF!"},{"$f":"'2A-2_EFT (Monthly)'!AS67","v":-133514},16139617,{"$f":"'2A-2_EFT (Monthly)'!AT67","v":1334742},null,null,null,{"$f":"'2A-2_EFT (Monthly)'!#REF!+'2A-2_EFT (Monthly)'!#REF!","v":{"$error":"#REF!"}},null,{"$error":"#REF!"}]
[62,62,"West Carroll",{"$f":"'8_2.1.24 SIS BASE'!C68","v":1484},{"$f":"'2_State Distrib and Adjs'!AQ68","v":7309},{"$f":"'2_State Distrib and Adjs'!AP68","v":10846298},null,null,null,null,null,null,null,null,null,null,10846298,null,{"$f":"'2_State Distrib and Adjs'!AU68","v":0},{"$f":"'2_State Distrib and Adjs'!AV68","v":0},{"$f":"'2_State Distrib and Adjs'!AW68","v":0},10846298,null,null,10846298,{"$f":"'2_State Distrib and Adjs'!AR68","v":0},{"$f":"'2_State Distrib and Adjs'!AY68","v":0},{"$f":"'2_State Distrib and Adjs'!AZ68","v":48790},{"$f":"'2_State Distrib and Adjs'!BA68","v":167706},{"$f":"'2_State Distrib and Adjs'!BB68","v":134165},{"$f":"'2_State Distrib and Adjs'!BD68","v":11448519},{"$f":"'2_State Distrib and Adjs'!BE68","v":0},{"$f":"'2_State Distrib and Adjs'!BF68","v":11448519},{"$f":"'2_State Distrib and Adjs'!BG68","v":954043},{"$f":"'2_State Distrib and Adjs'!BH68","v":0},{"$f":"'2_State Distrib and Adjs'!BI68","v":41211},{"$f":"'2_State Distrib and Adjs'!BJ68","v":0},{"$f":"'2_State Distrib and Adjs'!BL68","v":11489730},11489730,null,{"$f":"-'New Type 2 Res Summary'!AG68-'5A3_OJJ'!P68","v":{"$error":"#REF!"}},{"$f":"-'New Type 2 Res Summary'!AH68","v":{"$error":"#REF!"}},{"$f":"-'New Type 2 Res Summary'!AI68","v":{"$error":"#REF!"}},{"$f":"-'New Type 2 Res Summary'!AJ68","v":{"$error":"#REF!"}},{"$f":"-'New Type 2 Res Summary'!AK68","v":{"$error":"#REF!"}},{"$f":"-'New Type 2 Res Summary'!AL68","v":{"$error":"#REF!"}},{"$f":"-'New Type 2 Res Summary'!AM68-'5A3_OJJ'!P68","v":{"$error":"#REF!"}},null,{"$f":"-'New Type 2 Res Summary'!AN68","v":{"$error":"#REF!"}},{"$f":"-'New Type 2 Res Summary'!AO68-'5A3_OJJ'!P68","v":{"$error":"#REF!"}},null,{"$f":"-'New Type 2 Res Summary'!AQ68-'5A3_OJJ'!P68","v":{"$error":"#REF!"}},{"$f":"'2A-1_EFT (Annual)'!AS68","v":-62962},{"$f":"'2A-1_EFT (Annual)'!#REF!+'2A-1_EFT (Annual)'!#REF!","v":{"$error":"#REF!"}},{"$error":"#REF!"},{"$f":"'2A-2_EFT (Monthly)'!AS68","v":-5234},11426768,{"$f":"'2A-2_EFT (Monthly)'!AT68","v":948809},null,null,null,{"$f":"'2A-2_EFT (Monthly)'!#REF!+'2A-2_EFT (Monthly)'!#REF!","v":{"$error":"#REF!"}},null,{"$error":"#REF!"}]
[63,63,"West Feliciana",{"$f":"'8_2.1.24 SIS BASE'!C69","v":2077},{"$f":"'2_State Distrib and Adjs'!AQ69","v":4511},{"$f":"'2_State Distrib and Adjs'!AP69","v":9369017},null,null,null,null,null,null,null,null,null,null,9369017,null,{"$f":"'2_State Distrib and Adjs'!AU69","v":0},{"$f":"'2_State Distrib and Adjs'!AV69","v":0},{"$f":"'2_State Distrib and Adjs'!AW69","v":0},9369017,null,null,9369017,{"$f":"'2_State Distrib and Adjs'!AR69","v":0},{"$f":"'2_State Distrib and Adjs'!AY69","v":0},{"$f":"'2_State Distrib and Adjs'!AZ69","v":63700},{"$f":"'2_State Distrib and Adjs'!BA69","v":379234},{"$f":"'2_State Distrib and Adjs'!BB69","v":303386},{"$f":"'2_State Distrib and Adjs'!BD69","v":10684187},{"$f":"'2_State Distrib and Adjs'!BE69","v":0},{"$f":"'2_State Distrib and Adjs'!BF69","v":10684187},{"$f":"'2_State Distrib and Adjs'!BG69","v":890349},{"$f":"'2_State Distrib and Adjs'!BH69","v":0},{"$f":"'2_State Distrib and Adjs'!BI69","v":49887},{"$f":"'2_State Distrib and Adjs'!BJ69","v":0},{"$f":"'2_State Distrib and Adjs'!BL69","v":10734074},10734074,null,{"$f":"-'New Type 2 Res Summary'!AG69-'5A3_OJJ'!P69","v":{"$error":"#REF!"}},{"$f":"-'New Type 2 Res Summary'!AH69","v":{"$error":"#REF!"}},{"$f":"-'New Type 2 Res Summary'!AI69","v":{"$error":"#REF!"}},{"$f":"-'New Type 2 Res Summary'!AJ69","v":{"$error":"#REF!"}},{"$f":"-'New Type 2 Res Summary'!AK69","v":{"$error":"#REF!"}},{"$f":"-'New Type 2 Res Summary'!AL69","v":{"$error":"#REF!"}},{"$f":"-'New Type 2 Res Summary'!AM69-'5A3_OJJ'!P69","v":{"$error":"#REF!"}},null,{"$f":"-'New Type 2 Res Summary'!AN69","v":{"$error":"#REF!"}},{"$f":"-'New Type 2 Res Summary'!AO69-'5A3_OJJ'!P69","v":{"$error":"#REF!"}},null,{"$f":"-'New Type 2 Res Summary'!AQ69-'5A3_OJJ'!P69","v":{"$error":"#REF!"}},{"$f":"'2A-1_EFT (Annual)'!AS69","v":-243447},{"$f":"'2A-1_EFT (Annual)'!#REF!+'2A-1_EFT (Annual)'!#REF!","v":{"$error":"#REF!"}},{"$error":"#REF!"},{"$f":"'2A-2_EFT (Monthly)'!AS69","v":-20237},10490627,{"$f":"'2A-2_EFT (Monthly)'!AT69","v":870112},null,null,null,{"$f":"'2A-2_EFT (Monthly)'!#REF!+'2A-2_EFT (Monthly)'!#REF!","v":{"$error":"#REF!"}},null,{"$error":"#REF!"}]
[64,64,"Winn",{"$f":"'8_2.1.24 SIS BASE'!C70","v":1717},{"$f":"'2_State Distrib and Adjs'!AQ70","v":7087},{"$f":"'2_State Distrib and Adjs'!AP70","v":12168087},null,null,null,null,null,null,null,null,null,null,12168087,null,{"$f":"'2_State Distrib and Adjs'!AU70","v":0},{"$f":"'2_State Distrib and Adjs'!AV70","v":0},{"$f":"'2_State Distrib and Adjs'!AW70","v":0},12168087,null,null,12168087,{"$f":"'2_State Distrib and Adjs'!AR70","v":0},{"$f":"'2_State Distrib and Adjs'!AY70","v":0},{"$f":"'2_State Distrib and Adjs'!AZ70","v":57050},{"$f":"'2_State Distrib and Adjs'!BA70","v":260125},{"$f":"'2_State Distrib and Adjs'!BB70","v":208101},{"$f":"'2_State Distrib and Adjs'!BD70","v":13083552},{"$f":"'2_State Distrib and Adjs'!BE70","v":0},{"$f":"'2_State Distrib and Adjs'!BF70","v":13083552},{"$f":"'2_State Distrib and Adjs'!BG70","v":1090296},{"$f":"'2_State Distrib and Adjs'!BH70","v":0},{"$f":"'2_State Distrib and Adjs'!BI70","v":76638},{"$f":"'2_State Distrib and Adjs'!BJ70","v":0},{"$f":"'2_State Distrib and Adjs'!BL70","v":13160190},13160190,null,{"$f":"-'New Type 2 Res Summary'!AG70-'5A3_OJJ'!P70","v":{"$error":"#REF!"}},{"$f":"-'New Type 2 Res Summary'!AH70","v":{"$error":"#REF!"}},{"$f":"-'New Type 2 Res Summary'!AI70","v":{"$error":"#REF!"}},{"$f":"-'New Type 2 Res Summary'!AJ70","v":{"$error":"#REF!"}},{"$f":"-'New Type 2 Res Summary'!AK70","v":{"$error":"#REF!"}},{"$f":"-'New Type 2 Res Summary'!AL70","v":{"$error":"#REF!"}},{"$f":"-'New Type 2 Res Summary'!AM70-'5A3_OJJ'!P70","v":{"$error":"#REF!"}},null,{"$f":"-'New Type 2 Res Summary'!AN70","v":{"$error":"#REF!"}},{"$f":"-'New Type 2 Res Summary'!AO70-'5A3_OJJ'!P70","v":{"$error":"#REF!"}},null,{"$f":"-'New Type 2 Res Summary'!AQ70-'5A3_OJJ'!P70","v":{"$error":"#REF!"}},{"$f":"'2A-1_EFT (Annual)'!AS70","v":-51761},{"$f":"'2A-1_EFT (Annual)'!#REF!+'2A-1_EFT (Annual)'!#REF!","v":{"$error":"#REF!"}},{"$error":"#REF!"},{"$f":"'2A-2_EFT (Monthly)'!AS70","v":-4303},13108429,{"$f":"'2A-2_EFT (Monthly)'!AT70","v":1085993},null,null,null,{"$f":"'2A-2_EFT (Monthly)'!#REF!+'2A-2_EFT (Monthly)'!#REF!","v":{"$error":"#REF!"}},null,{"$error":"#REF!"}]
[65,65,"City of Monroe",{"$f":"'8_2.1.24 SIS BASE'!C71","v":7890},{"$f":"'2_State Distrib and Adjs'!AQ71","v":6150},{"$f":"'2_State Distrib and Adjs'!AP71","v":48524241},null,null,null,null,null,null,null,null,null,null,48524241,null,{"$f":"'2_State Distrib and Adjs'!AU71","v":0},{"$f":"'2_State Distrib and Adjs'!AV71","v":0},{"$f":"'2_State Distrib and Adjs'!AW71","v":0},{"$f":"Q71+U71","v":48524241},null,null,{"$f":"V71","v":48524241},{"$f":"'2_State Distrib and Adjs'!AR71","v":0},{"$f":"'2_State Distrib and Adjs'!AY71","v":0},{"$f":"'2_State Distrib and Adjs'!AZ71","v":243740},{"$f":"'2_State Distrib and Adjs'!BA71","v":1279270},{"$f":"'2_State Distrib and Adjs'!BB71","v":1023415},{"$f":"'2_State Distrib and Adjs'!BD71","v":52989570},{"$f":"'2_State Distrib and Adjs'!BE71","v":0},{"$f":"'2_State Distrib and Adjs'!BF71","v":52989570},{"$f":"'2_State Distrib and Adjs'!BG71","v":4415798},{"$f":"'2_State Distrib and Adjs'!BH71","v":0},{"$f":"'2_State Distrib and Adjs'!BI71","v":137912},{"$f":"'2_State Distrib and Adjs'!BJ71","v":0},{"$f":"'2_State Distrib and Adjs'!BL71","v":53127482},53127482,null,{"$f":"-'New Type 2 Res Summary'!AG71-'5A3_OJJ'!P71","v":{"$error":"#REF!"}},{"$f":"-'New Type 2 Res Summary'!AH71","v":{"$error":"#REF!"}},{"$f":"-'New Type 2 Res Summary'!AI71","v":{"$error":"#REF!"}},{"$f":"-'New Type 2 Res Summary'!AJ71","v":{"$error":"#REF!"}},{"$f":"-'New Type 2 Res Summary'!AK71","v":{"$error":"#REF!"}},{"$f":"-'New Type 2 Res Summary'!AL71","v":{"$error":"#REF!"}},{"$f":"-'New Type 2 Res Summary'!AM71-'5A3_OJJ'!P71","v":{"$error":"#REF!"}},null,{"$f":"-'New Type 2 Res Summary'!AN71","v":{"$error":"#REF!"}},{"$f":"-'New Type 2 Res Summary'!AO71-'5A3_OJJ'!P71","v":{"$error":"#REF!"}},null,{"$f":"-'New Type 2 Res Summary'!AQ71-'5A3_OJJ'!P71","v":{"$error":"#REF!"}},{"$f":"'2A-1_EFT (Annual)'!AS71","v":-727066},{"$f":"'2A-1_EFT (Annual)'!#REF!+'2A-1_EFT (Annual)'!#REF!","v":{"$error":"#REF!"}},{"$error":"#REF!"},{"$f":"'2A-2_EFT (Monthly)'!AS71","v":-60441},{"$f":"AM71+BA71","v":52400416},{"$f":"'2A-2_EFT (Monthly)'!AT71","v":4355357},null,null,null,{"$f":"'2A-2_EFT (Monthly)'!#REF!+'2A-2_EFT (Monthly)'!#REF!","v":{"$error":"#REF!"}},null,{"$error":"#REF!"}]
[66,66,"City of Bogalusa",{"$f":"'8_2.1.24 SIS BASE'!C72","v":1833},{"$f":"'2_State Distrib and Adjs'!AQ72","v":7077},{"$f":"'2_State Distrib and Adjs'!AP72","v":12971896},null,null,null,null,null,null,null,null,null,null,{"$f":"F72+H72+J72+L72+N72+P72","v":12971896},null,{"$f":"'2_State Distrib and Adjs'!AU72","v":0},{"$f":"'2_State Distrib and Adjs'!AV72","v":0},{"$f":"'2_State Distrib and Adjs'!AW72","v":0},12971896,null,null,{"$f":"V72","v":12971896},{"$f":"'2_State Distrib and Adjs'!AR72","v":0},{"$f":"'2_State Distrib and Adjs'!AY72","v":0},{"$f":"'2_State Distrib and Adjs'!AZ72","v":49980},{"$f":"'2_State Distrib and Adjs'!BA72","v":318447},{"$f":"'2_State Distrib and Adjs'!BB72","v":254757},{"$f":"'2_State Distrib and Adjs'!BD72","v":14072750},{"$f":"'2_State Distrib and Adjs'!BE72","v":0},{"$f":"'2_State Distrib and Adjs'!BF72","v":14072750},{"$f":"'2_State Distrib and Adjs'!BG72","v":1172729},{"$f":"'2_State Distrib and Adjs'!BH72","v":0},{"$f":"'2_State Distrib and Adjs'!BI72","v":73204},{"$f":"'2_State Distrib and Adjs'!BJ72","v":0},{"$f":"'2_State Distrib and Adjs'!BL72","v":14145954},{"$f":"AL72","v":14145954},null,{"$f":"-'New Type 2 Res Summary'!AG72-'5A3_OJJ'!P72","v":{"$error":"#REF!"}},{"$f":"-'New Type 2 Res Summary'!AH72","v":{"$error":"#REF!"}},{"$f":"-'New Type 2 Res Summary'!AI72","v":{"$error":"#REF!"}},{"$f":"-'New Type 2 Res Summary'!AJ72","v":{"$error":"#REF!"}},{"$f":"-'New Type 2 Res Summary'!AK72","v":{"$error":"#REF!"}},{"$f":"-'New Type 2 Res Summary'!AL72","v":{"$error":"#REF!"}},{"$f":"-'New Type 2 Res Summary'!AM72-'5A3_OJJ'!P72","v":{"$error":"#REF!"}},null,{"$f":"-'New Type 2 Res Summary'!AN72","v":{"$error":"#REF!"}},{"$f":"-'New Type 2 Res Summary'!AO72-'5A3_OJJ'!P72","v":{"$error":"#REF!"}},null,{"$f":"-'New Type 2 Res Summary'!AQ72-'5A3_OJJ'!P72","v":{"$error":"#REF!"}},{"$f":"'2A-1_EFT (Annual)'!AS72","v":-244818},{"$f":"'2A-1_EFT (Annual)'!#REF!+'2A-1_EFT (Annual)'!#REF!","v":{"$error":"#REF!"}},{"$f":"BA72-BB72","v":{"$error":"#REF!"}},{"$f":"'2A-2_EFT (Monthly)'!AS72","v":-20351},{"$f":"AM72+BA72","v":13901136},{"$f":"'2A-2_EFT (Monthly)'!AT72","v":1152378},null,null,null,{"$f":"'2A-2_EFT (Monthly)'!#REF!+'2A-2_EFT (Monthly)'!#REF!","v":{"$error":"#REF!"}},null,{"$f":"BJ72-BK72","v":{"$error":"#REF!"}}]
[67,67,"Zachary Community",{"$f":"'8_2.1.24 SIS BASE'!C73","v":5396},{"$f":"'2_State Distrib and Adjs'!AQ73","v":6544},{"$f":"'2_State Distrib and Adjs'!AP73","v":35312907},null,null,null,null,null,null,null,null,null,null,{"$f":"F73+H73+J73+L73+N73+P73","v":35312907},null,{"$f":"'2_State Distrib and Adjs'!AU73","v":0},{"$f":"'2_State Distrib and Adjs'!AV73","v":0},{"$f":"'2_State Distrib and Adjs'!AW73","v":0},35312907,null,null,{"$f":"V73","v":35312907},{"$f":"'2_State Distrib and Adjs'!AR73","v":0},{"$f":"'2_State Distrib and Adjs'!AY73","v":0},{"$f":"'2_State Distrib and Adjs'!AZ73","v":177520},{"$f":"'2_State Distrib and Adjs'!BA73","v":657408},{"$f":"'2_State Distrib and Adjs'!BB73","v":525926},{"$f":"'2_State Distrib and Adjs'!BD73","v":37659873},{"$f":"'2_State Distrib and Adjs'!BE73","v":0},{"$f":"'2_State Distrib and Adjs'!BF73","v":37659873},{"$f":"'2_State Distrib and Adjs'!BG73","v":3138323},{"$f":"'2_State Distrib and Adjs'!BH73","v":0},{"$f":"'2_State Distrib and Adjs'!BI73","v":92002},{"$f":"'2_State Distrib and Adjs'!BJ73","v":0},{"$f":"'2_State Distrib and Adjs'!BL73","v":37751875},{"$f":"AL73","v":37751875},null,{"$f":"-'New Type 2 Res Summary'!AG73-'5A3_OJJ'!P73","v":{"$error":"#REF!"}},{"$f":"-'New Type 2 Res Summary'!AH73","v":{"$error":"#REF!"}},{"$f":"-'New Type 2 Res Summary'!AI73","v":{"$error":"#REF!"}},{"$f":"-'New Type 2 Res Summary'!AJ73","v":{"$error":"#REF!"}},{"$f":"-'New Type 2 Res Summary'!AK73","v":{"$error":"#REF!"}},{"$f":"-'New Type 2 Res Summary'!AL73","v":{"$error":"#REF!"}},{"$f":"-'New Type 2 Res Summary'!AM73-'5A3_OJJ'!P73","v":{"$error":"#REF!"}},null,{"$f":"-'New Type 2 Res Summary'!AN73","v":{"$error":"#REF!"}},{"$f":"-'New Type 2 Res Summary'!AO73-'5A3_OJJ'!P73","v":{"$error":"#REF!"}},null,{"$f":"-'New Type 2 Res Summary'!AQ73-'5A3_OJJ'!P73","v":{"$error":"#REF!"}},{"$f":"'2A-1_EFT (Annual)'!AS73","v":-641480},{"$f":"'2A-1_EFT (Annual)'!#REF!+'2A-1_EFT (Annual)'!#REF!","v":{"$error":"#REF!"}},{"$f":"BA73-BB73","v":{"$error":"#REF!"}},{"$f":"'2A-2_EFT (Monthly)'!AS73","v":-53324},{"$f":"AM73+BA73","v":37110395},{"$f":"'2A-2_EFT (Monthly)'!AT73","v":3084999},null,null,null,{"$f":"'2A-2_EFT (Monthly)'!#REF!+'2A-2_EFT (Monthly)'!#REF!","v":{"$error":"#REF!"}},null,{"$f":"BJ73-BK73","v":{"$error":"#REF!"}}]
[68,68,"City of Baker",{"$f":"'8_2.1.24 SIS BASE'!C74","v":922},{"$f":"'2_State Distrib and Adjs'!AQ74","v":7377},{"$f":"'2_State Distrib and Adjs'!AP74","v":6801314},null,null,null,null,null,null,null,null,null,null,{"$f":"F74+H74+J74+L74+N74+P74","v":6801314},null,{"$f":"'2_State Distrib and Adjs'!AU74","v":0},{"$f":"'2_State Distrib and Adjs'!AV74","v":0},{"$f":"'2_State Distrib and Adjs'!AW74","v":0},6801314,null,null,{"$f":"V74","v":6801314},{"$f":"'2_State Distrib and Adjs'!AR74","v":0},{"$f":"'2_State Distrib and Adjs'!AY74","v":0},{"$f":"'2_State Distrib and Adjs'!AZ74","v":31990},{"$f":"'2_State Distrib and Adjs'!BA74","v":123192},{"$f":"'2_State Distrib and Adjs'!BB74","v":98554},{"$f":"'2_State Distrib and Adjs'!BD74","v":7239839},{"$f":"'2_State Distrib and Adjs'!BE74","v":0},{"$f":"'2_State Distrib and Adjs'!BF74","v":7239839},{"$f":"'2_State Distrib and Adjs'!BG74","v":603320},{"$f":"'2_State Distrib and Adjs'!BH74","v":0},{"$f":"'2_State Distrib and Adjs'!BI74","v":25000},{"$f":"'2_State Distrib and Adjs'!BJ74","v":0},{"$f":"'2_State Distrib and Adjs'!BL74","v":7264839},{"$f":"AL74","v":7264839},null,{"$f":"-'New Type 2 Res Summary'!AG74-'5A3_OJJ'!P74","v":{"$error":"#REF!"}},{"$f":"-'New Type 2 Res Summary'!AH74","v":{"$error":"#REF!"}},{"$f":"-'New Type 2 Res Summary'!AI74","v":{"$error":"#REF!"}},{"$f":"-'New Type 2 Res Summary'!AJ74","v":{"$error":"#REF!"}},{"$f":"-'New Type 2 Res Summary'!AK74","v":{"$error":"#REF!"}},{"$f":"-'New Type 2 Res Summary'!AL74","v":{"$error":"#REF!"}},{"$f":"-'New Type 2 Res Summary'!AM74-'5A3_OJJ'!P74","v":{"$error":"#REF!"}},null,{"$f":"-'New Type 2 Res Summary'!AN74","v":{"$error":"#REF!"}},{"$f":"-'New Type 2 Res Summary'!AO74-'5A3_OJJ'!P74","v":{"$error":"#REF!"}},null,{"$f":"-'New Type 2 Res Summary'!AQ74-'5A3_OJJ'!P74","v":{"$error":"#REF!"}},{"$f":"'2A-1_EFT (Annual)'!AS74","v":-2965410},{"$f":"'2A-1_EFT (Annual)'!#REF!+'2A-1_EFT (Annual)'!#REF!","v":{"$error":"#REF!"}},{"$f":"BA74-BB74","v":{"$error":"#REF!"}},{"$f":"'2A-2_EFT (Monthly)'!AS74","v":-246500},{"$f":"AM74+BA74","v":4299429},{"$f":"'2A-2_EFT (Monthly)'!AT74","v":356820},null,null,null,{"$f":"'2A-2_EFT (Monthly)'!#REF!+'2A-2_EFT (Monthly)'!#REF!","v":{"$error":"#REF!"}},null,{"$f":"BJ74-BK74","v":{"$error":"#REF!"}}]
[69,69,"Central Community",{"$f":"'8_2.1.24 SIS BASE'!C75","v":4580},{"$f":"'2_State Distrib and Adjs'!AQ75","v":6974},{"$f":"'2_State Distrib and Adjs'!AP75","v":31939249},null,null,null,null,null,null,null,null,null,null,{"$f":"F75+H75+J75+L75+N75+P75","v":31939249},null,{"$f":"'2_State Distrib and Adjs'!AU75","v":0},{"$f":"'2_State Distrib and Adjs'!AV75","v":0},{"$f":"'2_State Distrib and Adjs'!AW75","v":0},31939249,null,null,{"$f":"V75","v":31939249},{"$f":"'2_State Distrib and Adjs'!AR75","v":0},{"$f":"'2_State Distrib and Adjs'!AY75","v":0},{"$f":"'2_State Distrib and Adjs'!AZ75","v":156940},{"$f":"'2_State Distrib and Adjs'!BA75","v":541061},{"$f":"'2_State Distrib and Adjs'!BB75","v":432848},{"$f":"'2_State Distrib and Adjs'!BD75","v":33881688},{"$f":"'2_State Distrib and Adjs'!BE75","v":0},{"$f":"'2_State Distrib and Adjs'!BF75","v":33881688},{"$f":"'2_State Distrib and Adjs'!BG75","v":2823474},{"$f":"'2_State Distrib and Adjs'!BH75","v":0},{"$f":"'2_State Distrib and Adjs'!BI75","v":283055},{"$f":"'2_State Distrib and Adjs'!BJ75","v":0},{"$f":"'2_State Distrib and Adjs'!BL75","v":34164743},{"$f":"AL75","v":34164743},null,{"$f":"-'New Type 2 Res Summary'!AG75-'5A3_OJJ'!P75","v":{"$error":"#REF!"}},{"$f":"-'New Type 2 Res Summary'!AH75","v":{"$error":"#REF!"}},{"$f":"-'New Type 2 Res Summary'!AI75","v":{"$error":"#REF!"}},{"$f":"-'New Type 2 Res Summary'!AJ75","v":{"$error":"#REF!"}},{"$f":"-'New Type 2 Res Summary'!AK75","v":{"$error":"#REF!"}},{"$f":"-'New Type 2 Res Summary'!AL75","v":{"$error":"#REF!"}},{"$f":"-'New Type 2 Res Summary'!AM75-'5A3_OJJ'!P75","v":{"$error":"#REF!"}},null,{"$f":"-'New Type 2 Res Summary'!AN75","v":{"$error":"#REF!"}},{"$f":"-'New Type 2 Res Summary'!AO75-'5A3_OJJ'!P75","v":{"$error":"#REF!"}},null,{"$f":"-'New Type 2 Res Summary'!AQ75-'5A3_OJJ'!P75","v":{"$error":"#REF!"}},{"$f":"'2A-1_EFT (Annual)'!AS75","v":-688867},{"$f":"'2A-1_EFT (Annual)'!#REF!+'2A-1_EFT (Annual)'!#REF!","v":{"$error":"#REF!"}},{"$f":"BA75-BB75","v":{"$error":"#REF!"}},{"$f":"'2A-2_EFT (Monthly)'!AS75","v":-57264},{"$f":"AM75+BA75","v":33475876},{"$f":"'2A-2_EFT (Monthly)'!AT75","v":2766210},null,null,null,{"$f":"'2A-2_EFT (Monthly)'!#REF!+'2A-2_EFT (Monthly)'!#REF!","v":{"$error":"#REF!"}},null,{"$f":"BJ75-BK75","v":{"$error":"#REF!"}}]
[null,null,"Total City/Parish",{"$f":"SUM(D7:D75)","v":618861},null,{"$f":"SUM(F7:F75)","v":3426719793},null,{"$f":"SUM(H7:H75)","v":0},0,0,0,0,0,0,0,{"$f":"SUM(P7:P75)","v":0},3426719793,0,0,0,0,3426719793,0,0,3426719793,-90413,4662000,19495630,{"$f":"SUM(AC7:AC75)","v":95292248},76233775,3765251409,0,3765251409,313770951,0,18580988,0,{"$f":"SUM(AL7:AL75)","v":3783832397},{"$f":"SUM(AM7:AM75)","v":3783832397},null,{"$f":"SUM(AO7:AO75)","v":{"$error":"#REF!"}},{"$error":"#REF!"},{"$error":"#REF!"},{"$error":"#REF!"},{"$error":"#REF!"},{"$error":"#REF!"},{"$error":"#REF!"},49114,{"$error":"#REF!"},{"$error":"#REF!"},0,{"$error":"#REF!"},-211031714,{"$error":"#REF!"},{"$error":"#REF!"},-17540090,3572800683,296230861,{"$f":"SUM(BG7:BG75)","v":0},0,0,{"$error":"#REF!"},0,{"$error":"#REF!"}]
[]
[341001,341001,"D'Arbonne Woods ",{"$f":"#REF!","v":{"$error":"#REF!"}},null,{"$f":"#REF!","v":{"$error":"#REF!"}},null,null,{"$f":"#REF!","v":{"$error":"#REF!"}},{"$f":"#REF!","v":{"$error":"#REF!"}},{"$f":"#REF!","v":{"$error":"#REF!"}},{"$f":"#REF!","v":{"$error":"#REF!"}},{"$f":"#REF!","v":{"$error":"#REF!"}},{"$f":"#REF!","v":{"$error":"#REF!"}},{"$f":"#REF!","v":{"$error":"#REF!"}},{"$f":"#REF!","v":{"$error":"#REF!"}},{"$f":"F78+H78+J78+L78+N78+P78","v":{"$error":"#REF!"}},null,{"$f":"#REF!","v":{"$error":"#REF!"}},{"$f":"#REF!","v":{"$error":"#REF!"}},{"$f":"#REF!","v":{"$error":"#REF!"}},{"$f":"#REF!","v":{"$error":"#REF!"}},null,{"$f":"#REF!","v":{"$error":"#REF!"}},{"$f":"#REF!","v":{"$error":"#REF!"}},{"$f":"#REF!","v":{"$error":"#REF!"}},{"$f":"#REF!","v":{"$error":"#REF!"}},{"$f":"#REF!","v":{"$error":"#REF!"}},{"$f":"#REF!","v":{"$error":"#REF!"}},{"$f":"#REF!","v":{"$error":"#REF!"}},{"$f":"#REF!","v":{"$error":"#REF!"}},{"$f":"#REF!","v":{"$error":"#REF!"}},{"$f":"#REF!","v":{"$error":"#REF!"}},{"$f":"#REF!","v":{"$error":"#REF!"}},{"$f":"#REF!","v":{"$error":"#REF!"}},{"$f":"#REF!","v":{"$error":"#REF!"}},{"$f":"#REF!","v":{"$error":"#REF!"}},{"$f":"#REF!","v":{"$error":"#REF!"}},{"$f":"AL78-X78","v":{"$error":"#REF!"}},null,{"$f":"#REF!","v":{"$error":"#REF!"}},{"$f":"#REF!","v":{"$error":"#REF!"}},{"$f":"#REF!","v":{"$error":"#REF!"}},{"$f":"#REF!","v":{"$error":"#REF!"}},{"$f":"#REF!","v":{"$error":"#REF!"}},{"$f":"#REF!","v":{"$error":"#REF!"}},{"$f":"#REF!","v":{"$error":"#REF!"}},null,{"$f":"#REF!","v":{"$error":"#REF!"}},{"$f":"#REF!","v":{"$error":"#REF!"}},{"$f":"#REF!","v":{"$error":"#REF!"}},{"$f":"#REF!","v":{"$error":"#REF!"}},{"$f":"#REF!-AW78","v":{"$error":"#REF!"}},{"$f":"#REF!","v":{"$error":"#REF!"}},{"$f":"#REF!","v":{"$error":"#REF!"}},{"$f":"#REF!","v":{"$error":"#REF!"}},{"$f":"AM78+BA78","v":{"$error":"#REF!"}},{"$f":"AH78+BD78","v":{"$error":"#REF!"}},{"$f":"-X78","v":{"$error":"#REF!"}},{"$f":"VLOOKUP($A78,'5C1_NewType 2'!$A$7:$AX$46,COLUMN('5C1_NewType 2'!#REF!),FALSE)","v":{"$error":"#REF!"}},{"$f":"BG78-BH78","v":{"$error":"#REF!"}},{"$f":"-AW78","v":{"$error":"#REF!"}},{"$f":"#REF!","v":{"$error":"#REF!"}},{"$f":"BJ78-BK78","v":{"$error":"#REF!"}}]
[343001,343001,"Madison Prep",{"$f":"#REF!","v":{"$error":"#REF!"}},null,{"$f":"#REF!","v":{"$error":"#REF!"}},null,null,{"$f":"#REF!","v":{"$error":"#REF!"}},{"$f":"#REF!","v":{"$error":"#REF!"}},{"$f":"#REF!","v":{"$error":"#REF!"}},{"$f":"#REF!","v":{"$error":"#REF!"}},{"$f":"#REF!","v":{"$error":"#REF!"}},{"$f":"#REF!","v":{"$error":"#REF!"}},{"$f":"#REF!","v":{"$error":"#REF!"}},{"$f":"#REF!","v":{"$error":"#REF!"}},{"$error":"#REF!"},null,{"$f":"#REF!","v":{"$error":"#REF!"}},{"$f":"#REF!","v":{"$error":"#REF!"}},{"$f":"#REF!","v":{"$error":"#REF!"}},{"$f":"#REF!","v":{"$error":"#REF!"}},null,{"$f":"#REF!","v":{"$error":"#REF!"}},{"$f":"#REF!","v":{"$error":"#REF!"}},{"$f":"#REF!","v":{"$error":"#REF!"}},{"$f":"#REF!","v":{"$error":"#REF!"}},{"$f":"#REF!","v":{"$error":"#REF!"}},{"$f":"#REF!","v":{"$error":"#REF!"}},{"$f":"#REF!","v":{"$error":"#REF!"}},{"$f":"#REF!","v":{"$error":"#REF!"}},{"$f":"#REF!","v":{"$error":"#REF!"}},{"$f":"#REF!","v":{"$error":"#REF!"}},{"$f":"#REF!","v":{"$error":"#REF!"}},{"$f":"#REF!","v":{"$error":"#REF!"}},{"$f":"#REF!","v":{"$error":"#REF!"}},{"$f":"#REF!","v":{"$error":"#REF!"}},{"$f":"#REF!","v":{"$error":"#REF!"}},{"$error":"#REF!"},null,{"$f":"#REF!","v":{"$error":"#REF!"}},{"$f":"#REF!","v":{"$error":"#REF!"}},{"$f":"#REF!","v":{"$error":"#REF!"}},{"$f":"#REF!","v":{"$error":"#REF!"}},{"$f":"#REF!","v":{"$error":"#REF!"}},{"$f":"#REF!","v":{"$error":"#REF!"}},{"$f":"#REF!","v":{"$error":"#REF!"}},null,{"$f":"#REF!","v":{"$error":"#REF!"}},{"$f":"#REF!","v":{"$error":"#REF!"}},{"$f":"#REF!","v":{"$error":"#REF!"}},{"$f":"#REF!","v":{"$error":"#REF!"}},{"$f":"#REF!-AW79","v":{"$error":"#REF!"}},{"$f":"#REF!","v":{"$error":"#REF!"}},{"$f":"#REF!","v":{"$error":"#REF!"}},{"$f":"#REF!","v":{"$error":"#REF!"}},{"$error":"#REF!"},{"$error":"#REF!"},{"$error":"#REF!"},{"$f":"VLOOKUP($A79,'5C1_NewType 2'!$A$7:$AX$46,COLUMN('5C1_NewType 2'!#REF!),FALSE)","v":{"$error":"#REF!"}},{"$error":"#REF!"},{"$error":"#REF!"},{"$f":"#REF!","v":{"$error":"#REF!"}},{"$error":"#REF!"}]
[344001,344001,"Int'l High School of N. O. ",{"$f":"#REF!","v":{"$error":"#REF!"}},null,{"$f":"#REF!","v":{"$error":"#REF!"}},null,null,{"$f":"#REF!","v":{"$error":"#REF!"}},{"$f":"#REF!","v":{"$error":"#REF!"}},{"$f":"#REF!","v":{"$error":"#REF!"}},{"$f":"#REF!","v":{"$error":"#REF!"}},{"$f":"#REF!","v":{"$error":"#REF!"}},{"$f":"#REF!","v":{"$error":"#REF!"}},{"$f":"#REF!","v":{"$error":"#REF!"}},{"$f":"#REF!","v":{"$error":"#REF!"}},{"$error":"#REF!"},null,{"$f":"#REF!","v":{"$error":"#REF!"}},{"$f":"#REF!","v":{"$error":"#REF!"}},{"$f":"#REF!","v":{"$error":"#REF!"}},{"$f":"#REF!","v":{"$error":"#REF!"}},null,{"$f":"#REF!","v":{"$error":"#REF!"}},{"$f":"#REF!","v":{"$error":"#REF!"}},{"$f":"#REF!","v":{"$error":"#REF!"}},{"$f":"#REF!","v":{"$error":"#REF!"}},{"$f":"#REF!","v":{"$error":"#REF!"}},{"$f":"#REF!","v":{"$error":"#REF!"}},{"$f":"#REF!","v":{"$error":"#REF!"}},{"$f":"#REF!","v":{"$error":"#REF!"}},{"$f":"#REF!","v":{"$error":"#REF!"}},{"$f":"#REF!","v":{"$error":"#REF!"}},{"$f":"#REF!","v":{"$error":"#REF!"}},{"$f":"#REF!","v":{"$error":"#REF!"}},{"$f":"#REF!","v":{"$error":"#REF!"}},{"$f":"#REF!","v":{"$error":"#REF!"}},{"$f":"#REF!","v":{"$error":"#REF!"}},{"$error":"#REF!"},null,{"$f":"#REF!","v":{"$error":"#REF!"}},{"$f":"#REF!","v":{"$error":"#REF!"}},{"$f":"#REF!","v":{"$error":"#REF!"}},{"$f":"#REF!","v":{"$error":"#REF!"}},{"$f":"#REF!","v":{"$error":"#REF!"}},{"$f":"#REF!","v":{"$error":"#REF!"}},{"$f":"#REF!","v":{"$error":"#REF!"}},null,{"$f":"#REF!","v":{"$error":"#REF!"}},{"$f":"#REF!","v":{"$error":"#REF!"}},{"$f":"#REF!","v":{"$error":"#REF!"}},{"$f":"#REF!","v":{"$error":"#REF!"}},{"$f":"#REF!-AW80","v":{"$error":"#REF!"}},{"$f":"#REF!","v":{"$error":"#REF!"}},{"$f":"#REF!","v":{"$error":"#REF!"}},{"$f":"#REF!","v":{"$error":"#REF!"}},{"$error":"#REF!"},{"$error":"#REF!"},{"$error":"#REF!"},{"$f":"VLOOKUP($A80,'5C1_NewType 2'!$A$7:$AX$46,COLUMN('5C1_NewType 2'!#REF!),FALSE)","v":{"$error":"#REF!"}},{"$error":"#REF!"},{"$error":"#REF!"},{"$f":"#REF!","v":{"$error":"#REF!"}},{"$error":"#REF!"}]
[345001,345001,"University View Academy (90%)",{"$f":"#REF!","v":{"$error":"#REF!"}},null,{"$f":"#REF!","v":{"$error":"#REF!"}},null,null,{"$f":"#REF!","v":{"$error":"#REF!"}},{"$f":"#REF!","v":{"$error":"#REF!"}},{"$f":"#REF!","v":{"$error":"#REF!"}},{"$f":"#REF!","v":{"$error":"#REF!"}},{"$f":"#REF!","v":{"$error":"#REF!"}},{"$f":"#REF!","v":{"$error":"#REF!"}},{"$f":"#REF!","v":{"$error":"#REF!"}},{"$f":"#REF!","v":{"$error":"#REF!"}},{"$error":"#REF!"},{"$f":"#REF!","v":{"$error":"#REF!"}},{"$f":"#REF!","v":{"$error":"#REF!"}},{"$f":"#REF!","v":{"$error":"#REF!"}},{"$f":"#REF!","v":{"$error":"#REF!"}},{"$f":"#REF!","v":{"$error":"#REF!"}},null,{"$f":"#REF!","v":{"$error":"#REF!"}},{"$f":"#REF!","v":{"$error":"#REF!"}},{"$f":"#REF!","v":{"$error":"#REF!"}},{"$f":"#REF!","v":{"$error":"#REF!"}},{"$f":"#REF!","v":{"$error":"#REF!"}},{"$f":"#REF!","v":{"$error":"#REF!"}},{"$f":"#REF!","v":{"$error":"#REF!"}},{"$f":"#REF!","v":{"$error":"#REF!"}},{"$f":"#REF!","v":{"$error":"#REF!"}},{"$f":"#REF!","v":{"$error":"#REF!"}},{"$f":"#REF!","v":{"$error":"#REF!"}},{"$f":"#REF!","v":{"$error":"#REF!"}},{"$f":"#REF!","v":{"$error":"#REF!"}},{"$f":"#REF!","v":{"$error":"#REF!"}},{"$f":"#REF!","v":{"$error":"#REF!"}},{"$error":"#REF!"},null,{"$f":"#REF!","v":{"$error":"#REF!"}},{"$f":"#REF!","v":{"$error":"#REF!"}},{"$f":"#REF!","v":{"$error":"#REF!"}},{"$f":"#REF!","v":{"$error":"#REF!"}},{"$f":"#REF!","v":{"$error":"#REF!"}},{"$f":"#REF!","v":{"$error":"#REF!"}},{"$f":"#REF!","v":{"$error":"#REF!"}},null,{"$f":"#REF!","v":{"$error":"#REF!"}},{"$f":"#REF!","v":{"$error":"#REF!"}},{"$f":"#REF!","v":{"$error":"#REF!"}},{"$f":"#REF!","v":{"$error":"#REF!"}},{"$f":"#REF!-AW81","v":{"$error":"#REF!"}},{"$f":"#REF!","v":{"$error":"#REF!"}},{"$f":"#REF!","v":{"$error":"#REF!"}},{"$f":"#REF!","v":{"$error":"#REF!"}},{"$error":"#REF!"},{"$error":"#REF!"},{"$error":"#REF!"},{"$f":"VLOOKUP($A81,'5C1_NewType 2'!$A$7:$AX$46,COLUMN('5C1_NewType 2'!#REF!),FALSE)","v":{"$error":"#REF!"}},{"$error":"#REF!"},{"$error":"#REF!"},{"$f":"#REF!","v":{"$error":"#REF!"}},{"$error":"#REF!"}]
[346001,346001,"Lake Charles Charter Academy ",{"$f":"#REF!","v":{"$error":"#REF!"}},null,{"$f":"#REF!","v":{"$error":"#REF!"}},null,null,{"$f":"#REF!","v":{"$error":"#REF!"}},{"$f":"#REF!","v":{"$error":"#REF!"}},{"$f":"#REF!","v":{"$error":"#REF!"}},{"$f":"#REF!","v":{"$error":"#REF!"}},{"$f":"#REF!","v":{"$error":"#REF!"}},{"$f":"#REF!","v":{"$error":"#REF!"}},{"$f":"#REF!","v":{"$error":"#REF!"}},{"$f":"#REF!","v":{"$error":"#REF!"}},{"$error":"#REF!"},null,{"$f":"#REF!","v":{"$error":"#REF!"}},{"$f":"#REF!","v":{"$error":"#REF!"}},{"$f":"#REF!","v":{"$error":"#REF!"}},{"$f":"#REF!","v":{"$error":"#REF!"}},null,{"$f":"#REF!","v":{"$error":"#REF!"}},{"$f":"#REF!","v":{"$error":"#REF!"}},{"$f":"#REF!","v":{"$error":"#REF!"}},{"$f":"#REF!","v":{"$error":"#REF!"}},{"$f":"#REF!","v":{"$error":"#REF!"}},{"$f":"#REF!","v":{"$error":"#REF!"}},{"$f":"#REF!","v":{"$error":"#REF!"}},{"$f":"#REF!","v":{"$error":"#REF!"}},{"$f":"#REF!","v":{"$error":"#REF!"}},{"$f":"#REF!","v":{"$error":"#REF!"}},{"$f":"#REF!","v":{"$error":"#REF!"}},{"$f":"#REF!","v":{"$error":"#REF!"}},{"$f":"#REF!","v":{"$error":"#REF!"}},{"$f":"#REF!","v":{"$error":"#REF!"}},{"$f":"#REF!","v":{"$error":"#REF!"}},{"$error":"#REF!"},null,{"$f":"#REF!","v":{"$error":"#REF!"}},{"$f":"#REF!","v":{"$error":"#REF!"}},{"$f":"#REF!","v":{"$error":"#REF!"}},{"$f":"#REF!","v":{"$error":"#REF!"}},{"$f":"#REF!","v":{"$error":"#REF!"}},{"$f":"#REF!","v":{"$error":"#REF!"}},{"$f":"#REF!","v":{"$error":"#REF!"}},null,{"$f":"#REF!","v":{"$error":"#REF!"}},{"$f":"#REF!","v":{"$error":"#REF!"}},{"$f":"#REF!","v":{"$error":"#REF!"}},{"$f":"#REF!","v":{"$error":"#REF!"}},{"$f":"#REF!-AW82","v":{"$error":"#REF!"}},{"$f":"#REF!","v":{"$error":"#REF!"}},{"$f":"#REF!","v":{"$error":"#REF!"}},{"$f":"#REF!","v":{"$error":"#REF!"}},{"$error":"#REF!"},{"$error":"#REF!"},{"$error":"#REF!"},{"$f":"VLOOKUP($A82,'5C1_NewType 2'!$A$7:$AX$46,COLUMN('5C1_NewType 2'!#REF!),FALSE)","v":{"$error":"#REF!"}},{"$error":"#REF!"},{"$error":"#REF!"},{"$f":"#REF!","v":{"$error":"#REF!"}},{"$error":"#REF!"}]
[347001,347001,"Lycee Francois de la Nouvelle Orleans ",{"$f":"#REF!","v":{"$error":"#REF!"}},null,{"$f":"#REF!","v":{"$error":"#REF!"}},null,null,{"$f":"#REF!","v":{"$error":"#REF!"}},{"$f":"#REF!","v":{"$error":"#REF!"}},{"$f":"#REF!","v":{"$error":"#REF!"}},{"$f":"#REF!","v":{"$error":"#REF!"}},{"$f":"#REF!","v":{"$error":"#REF!"}},{"$f":"#REF!","v":{"$error":"#REF!"}},{"$f":"#REF!","v":{"$error":"#REF!"}},{"$f":"#REF!","v":{"$error":"#REF!"}},{"$error":"#REF!"},null,{"$f":"#REF!","v":{"$error":"#REF!"}},{"$f":"#REF!","v":{"$error":"#REF!"}},{"$f":"#REF!","v":{"$error":"#REF!"}},{"$f":"#REF!","v":{"$error":"#REF!"}},null,{"$f":"#REF!","v":{"$error":"#REF!"}},{"$f":"#REF!","v":{"$error":"#REF!"}},{"$f":"#REF!","v":{"$error":"#REF!"}},{"$f":"#REF!","v":{"$error":"#REF!"}},{"$f":"#REF!","v":{"$error":"#REF!"}},{"$f":"#REF!","v":{"$error":"#REF!"}},{"$f":"#REF!","v":{"$error":"#REF!"}},{"$f":"#REF!","v":{"$error":"#REF!"}},{"$f":"#REF!","v":{"$error":"#REF!"}},{"$f":"#REF!","v":{"$error":"#REF!"}},{"$f":"#REF!","v":{"$error":"#REF!"}},{"$f":"#REF!","v":{"$error":"#REF!"}},{"$f":"#REF!","v":{"$error":"#REF!"}},{"$f":"#REF!","v":{"$error":"#REF!"}},{"$f":"#REF!","v":{"$error":"#REF!"}},{"$error":"#REF!"},null,{"$f":"#REF!","v":{"$error":"#REF!"}},{"$f":"#REF!","v":{"$error":"#REF!"}},{"$f":"#REF!","v":{"$error":"#REF!"}},{"$f":"#REF!","v":{"$error":"#REF!"}},{"$f":"#REF!","v":{"$error":"#REF!"}},{"$f":"#REF!","v":{"$error":"#REF!"}},{"$f":"#REF!","v":{"$error":"#REF!"}},null,{"$f":"#REF!","v":{"$error":"#REF!"}},{"$f":"#REF!","v":{"$error":"#REF!"}},{"$f":"#REF!","v":{"$error":"#REF!"}},{"$f":"#REF!","v":{"$error":"#REF!"}},{"$f":"#REF!-AW83","v":{"$error":"#REF!"}},{"$f":"#REF!","v":{"$error":"#REF!"}},{"$f":"#REF!","v":{"$error":"#REF!"}},{"$f":"#REF!","v":{"$error":"#REF!"}},{"$error":"#REF!"},{"$error":"#REF!"},{"$error":"#REF!"},{"$f":"VLOOKUP($A83,'5C1_NewType 2'!$A$7:$AX$46,COLUMN('5C1_NewType 2'!#REF!),FALSE)","v":{"$error":"#REF!"}},{"$error":"#REF!"},{"$error":"#REF!"},{"$f":"#REF!","v":{"$error":"#REF!"}},{"$error":"#REF!"}]
[348001,348001,"New Orleans Military/Maritime Academy ",{"$f":"#REF!","v":{"$error":"#REF!"}},null,{"$f":"#REF!","v":{"$error":"#REF!"}},null,null,{"$f":"#REF!","v":{"$error":"#REF!"}},{"$f":"#REF!","v":{"$error":"#REF!"}},{"$f":"#REF!","v":{"$error":"#REF!"}},{"$f":"#REF!","v":{"$error":"#REF!"}},{"$f":"#REF!","v":{"$error":"#REF!"}},{"$f":"#REF!","v":{"$error":"#REF!"}},{"$f":"#REF!","v":{"$error":"#REF!"}},{"$f":"#REF!","v":{"$error":"#REF!"}},{"$error":"#REF!"},null,{"$f":"#REF!","v":{"$error":"#REF!"}},{"$f":"#REF!","v":{"$error":"#REF!"}},{"$f":"#REF!","v":{"$error":"#REF!"}},{"$f":"#REF!","v":{"$error":"#REF!"}},null,{"$f":"#REF!","v":{"$error":"#REF!"}},{"$f":"#REF!","v":{"$error":"#REF!"}},{"$f":"#REF!","v":{"$error":"#REF!"}},{"$f":"#REF!","v":{"$error":"#REF!"}},{"$f":"#REF!","v":{"$error":"#REF!"}},{"$f":"#REF!","v":{"$error":"#REF!"}},{"$f":"#REF!","v":{"$error":"#REF!"}},{"$f":"#REF!","v":{"$error":"#REF!"}},{"$f":"#REF!","v":{"$error":"#REF!"}},{"$f":"#REF!","v":{"$error":"#REF!"}},{"$f":"#REF!","v":{"$error":"#REF!"}},{"$f":"#REF!","v":{"$error":"#REF!"}},{"$f":"#REF!","v":{"$error":"#REF!"}},{"$f":"#REF!","v":{"$error":"#REF!"}},{"$f":"#REF!","v":{"$error":"#REF!"}},{"$error":"#REF!"},null,{"$f":"#REF!","v":{"$error":"#REF!"}},{"$f":"#REF!","v":{"$error":"#REF!"}},{"$f":"#REF!","v":{"$error":"#REF!"}},{"$f":"#REF!","v":{"$error":"#REF!"}},{"$f":"#REF!","v":{"$error":"#REF!"}},{"$f":"#REF!","v":{"$error":"#REF!"}},{"$f":"#REF!","v":{"$error":"#REF!"}},null,{"$f":"#REF!","v":{"$error":"#REF!"}},{"$f":"#REF!","v":{"$error":"#REF!"}},{"$f":"#REF!","v":{"$error":"#REF!"}},{"$f":"#REF!","v":{"$error":"#REF!"}},{"$f":"#REF!-AW84","v":{"$error":"#REF!"}},{"$f":"#REF!","v":{"$error":"#REF!"}},{"$f":"#REF!","v":{"$error":"#REF!"}},{"$f":"#REF!","v":{"$error":"#REF!"}},{"$error":"#REF!"},{"$error":"#REF!"},{"$error":"#REF!"},{"$f":"VLOOKUP($A84,'5C1_NewType 2'!$A$7:$AX$46,COLUMN('5C1_NewType 2'!#REF!),FALSE)","v":{"$error":"#REF!"}},{"$error":"#REF!"},{"$error":"#REF!"},{"$f":"#REF!","v":{"$error":"#REF!"}},{"$error":"#REF!"}]
["3C4001","3C4001","Williams Scholar Academy",{"$f":"#REF!","v":{"$error":"#REF!"}},null,{"$f":"#REF!","v":{"$error":"#REF!"}},null,null,{"$f":"#REF!","v":{"$error":"#REF!"}},{"$f":"#REF!","v":{"$error":"#REF!"}},{"$f":"#REF!","v":{"$error":"#REF!"}},{"$f":"#REF!","v":{"$error":"#REF!"}},{"$f":"#REF!","v":{"$error":"#REF!"}},{"$f":"#REF!","v":{"$error":"#REF!"}},{"$f":"#REF!","v":{"$error":"#REF!"}},{"$f":"#REF!","v":{"$error":"#REF!"}},{"$f":"F85+H85+J85+L85+N85+P85","v":{"$error":"#REF!"}},null,{"$f":"#REF!","v":{"$error":"#REF!"}},{"$f":"#REF!","v":{"$error":"#REF!"}},{"$f":"#REF!","v":{"$error":"#REF!"}},{"$f":"#REF!","v":{"$error":"#REF!"}},null,{"$f":"#REF!","v":{"$error":"#REF!"}},{"$f":"#REF!","v":{"$error":"#REF!"}},{"$f":"#REF!","v":{"$error":"#REF!"}},{"$f":"#REF!","v":{"$error":"#REF!"}},{"$f":"#REF!","v":{"$error":"#REF!"}},{"$f":"#REF!","v":{"$error":"#REF!"}},{"$f":"#REF!","v":{"$error":"#REF!"}},{"$f":"#REF!","v":{"$error":"#REF!"}},{"$f":"#REF!","v":{"$error":"#REF!"}},{"$f":"#REF!","v":{"$error":"#REF!"}},{"$f":"#REF!","v":{"$error":"#REF!"}},{"$f":"#REF!","v":{"$error":"#REF!"}},{"$f":"#REF!","v":{"$error":"#REF!"}},{"$f":"#REF!","v":{"$error":"#REF!"}},{"$f":"#REF!","v":{"$error":"#REF!"}},{"$error":"#REF!"},null,{"$f":"#REF!","v":{"$error":"#REF!"}},{"$f":"#REF!","v":{"$error":"#REF!"}},{"$f":"#REF!","v":{"$error":"#REF!"}},{"$f":"#REF!","v":{"$error":"#REF!"}},{"$f":"#REF!","v":{"$error":"#REF!"}},{"$f":"#REF!","v":{"$error":"#REF!"}},{"$f":"#REF!","v":{"$error":"#REF!"}},null,{"$f":"#REF!","v":{"$error":"#REF!"}},{"$f":"#REF!","v":{"$error":"#REF!"}},{"$f":"#REF!","v":{"$error":"#REF!"}},{"$f":"#REF!","v":{"$error":"#REF!"}},{"$f":"#REF!-AW85","v":{"$error":"#REF!"}},{"$f":"#REF!","v":{"$error":"#REF!"}},{"$f":"#REF!","v":{"$error":"#REF!"}},{"$f":"#REF!","v":{"$error":"#REF!"}},{"$f":"AM85+BA85","v":{"$error":"#REF!"}},{"$error":"#REF!"},{"$error":"#REF!"},{"$f":"VLOOKUP($A85,'5C1_NewType 2'!$A$7:$AX$46,COLUMN('5C1_NewType 2'!#REF!),FALSE)","v":{"$error":"#REF!"}},{"$f":"BG85-BH85","v":{"$error":"#REF!"}},{"$f":"-AW85","v":{"$error":"#REF!"}},{"$f":"#REF!","v":{"$error":"#REF!"}},{"$f":"BJ85-BK85","v":{"$error":"#REF!"}}]
["3C5001","3C5001","St Landry Charter School",{"$f":"#REF!","v":{"$error":"#REF!"}},null,{"$f":"#REF!","v":{"$error":"#REF!"}},null,null,{"$f":"#REF!","v":{"$error":"#REF!"}},{"$f":"#REF!","v":{"$error":"#REF!"}},{"$f":"#REF!","v":{"$error":"#REF!"}},{"$f":"#REF!","v":{"$error":"#REF!"}},{"$f":"#REF!","v":{"$error":"#REF!"}},{"$f":"#REF!","v":{"$error":"#REF!"}},{"$f":"#REF!","v":{"$error":"#REF!"}},{"$f":"#REF!","v":{"$error":"#REF!"}},{"$error":"#REF!"},null,{"$f":"#REF!","v":{"$error":"#REF!"}},{"$f":"#REF!","v":{"$error":"#REF!"}},{"$f":"#REF!","v":{"$error":"#REF!"}},{"$f":"#REF!","v":{"$error":"#REF!"}},null,{"$f":"#REF!","v":{"$error":"#REF!"}},{"$f":"#REF!","v":{"$error":"#REF!"}},{"$f":"#REF!","v":{"$error":"#REF!"}},{"$f":"#REF!","v":{"$error":"#REF!"}},{"$f":"#REF!","v":{"$error":"#REF!"}},{"$f":"#REF!","v":{"$error":"#REF!"}},{"$f":"#REF!","v":{"$error":"#REF!"}},{"$f":"#REF!","v":{"$error":"#REF!"}},{"$f":"#REF!","v":{"$error":"#REF!"}},{"$f":"#REF!","v":{"$error":"#REF!"}},{"$f":"#REF!","v":{"$error":"#REF!"}},{"$f":"#REF!","v":{"$error":"#REF!"}},{"$f":"#REF!","v":{"$error":"#REF!"}},{"$f":"#REF!","v":{"$error":"#REF!"}},{"$f":"#REF!","v":{"$error":"#REF!"}},{"$error":"#REF!"},null,{"$f":"#REF!","v":{"$error":"#REF!"}},{"$f":"#REF!","v":{"$error":"#REF!"}},{"$f":"#REF!","v":{"$error":"#REF!"}},{"$f":"#REF!","v":{"$error":"#REF!"}},{"$f":"#REF!","v":{"$error":"#REF!"}},{"$f":"#REF!","v":{"$error":"#REF!"}},{"$f":"#REF!","v":{"$error":"#REF!"}},null,{"$f":"#REF!","v":{"$error":"#REF!"}},{"$f":"#REF!","v":{"$error":"#REF!"}},{"$f":"#REF!","v":{"$error":"#REF!"}},{"$f":"#REF!","v":{"$error":"#REF!"}},{"$f":"#REF!-AW86","v":{"$error":"#REF!"}},{"$f":"#REF!","v":{"$error":"#REF!"}},{"$f":"#REF!","v":{"$error":"#REF!"}},{"$f":"#REF!","v":{"$error":"#REF!"}},{"$error":"#REF!"},{"$error":"#REF!"},{"$error":"#REF!"},{"$f":"VLOOKUP($A86,'5C1_NewType 2'!$A$7:$AX$46,COLUMN('5C1_NewType 2'!#REF!),FALSE)","v":{"$error":"#REF!"}},{"$error":"#REF!"},{"$error":"#REF!"},{"$f":"#REF!","v":{"$error":"#REF!"}},{"$error":"#REF!"}]
["W18001","W18001","Noble Minds Institute",{"$f":"#REF!","v":{"$error":"#REF!"}},null,{"$f":"#REF!","v":{"$error":"#REF!"}},null,null,{"$f":"#REF!","v":{"$error":"#REF!"}},{"$f":"#REF!","v":{"$error":"#REF!"}},{"$f":"#REF!","v":{"$error":"#REF!"}},{"$f":"#REF!","v":{"$error":"#REF!"}},{"$f":"#REF!","v":{"$error":"#REF!"}},{"$f":"#REF!","v":{"$error":"#REF!"}},{"$f":"#REF!","v":{"$error":"#REF!"}},{"$f":"#REF!","v":{"$error":"#REF!"}},{"$f":"F87+H87+J87+L87+N87+P87","v":{"$error":"#REF!"}},null,{"$f":"#REF!","v":{"$error":"#REF!"}},{"$f":"#REF!","v":{"$error":"#REF!"}},{"$f":"#REF!","v":{"$error":"#REF!"}},{"$f":"#REF!","v":{"$error":"#REF!"}},null,{"$f":"#REF!","v":{"$error":"#REF!"}},{"$f":"#REF!","v":{"$error":"#REF!"}},{"$f":"#REF!","v":{"$error":"#REF!"}},{"$f":"#REF!","v":{"$error":"#REF!"}},{"$f":"#REF!","v":{"$error":"#REF!"}},{"$f":"#REF!","v":{"$error":"#REF!"}},{"$f":"#REF!","v":{"$error":"#REF!"}},{"$f":"#REF!","v":{"$error":"#REF!"}},{"$f":"#REF!","v":{"$error":"#REF!"}},{"$f":"#REF!","v":{"$error":"#REF!"}},{"$f":"#REF!","v":{"$error":"#REF!"}},{"$f":"#REF!","v":{"$error":"#REF!"}},{"$f":"#REF!","v":{"$error":"#REF!"}},{"$f":"#REF!","v":{"$error":"#REF!"}},{"$f":"#REF!","v":{"$error":"#REF!"}},{"$error":"#REF!"},null,{"$f":"#REF!","v":{"$error":"#REF!"}},{"$f":"#REF!","v":{"$error":"#REF!"}},{"$f":"#REF!","v":{"$error":"#REF!"}},{"$f":"#REF!","v":{"$error":"#REF!"}},{"$f":"#REF!","v":{"$error":"#REF!"}},{"$f":"#REF!","v":{"$error":"#REF!"}},{"$f":"#REF!","v":{"$error":"#REF!"}},null,{"$f":"#REF!","v":{"$error":"#REF!"}},{"$f":"#REF!","v":{"$error":"#REF!"}},{"$f":"#REF!","v":{"$error":"#REF!"}},{"$f":"#REF!","v":{"$error":"#REF!"}},{"$f":"#REF!-AW87","v":{"$error":"#REF!"}},{"$f":"#REF!","v":{"$error":"#REF!"}},{"$f":"#REF!","v":{"$error":"#REF!"}},{"$f":"#REF!","v":{"$error":"#REF!"}},{"$f":"AM87+BA87","v":{"$error":"#REF!"}},{"$error":"#REF!"},{"$error":"#REF!"},{"$f":"VLOOKUP($A87,'5C1_NewType 2'!$A$7:$AX$46,COLUMN('5C1_NewType 2'!#REF!),FALSE)","v":{"$error":"#REF!"}},{"$f":"BG87-BH87","v":{"$error":"#REF!"}},{"$f":"-AW87","v":{"$error":"#REF!"}},{"$f":"#REF!","v":{"$error":"#REF!"}},{"$f":"BJ87-BK87","v":{"$error":"#REF!"}}]
["W1A001","3A1001","JCFA - East",{"$f":"#REF!","v":{"$error":"#REF!"}},null,{"$f":"#REF!","v":{"$error":"#REF!"}},null,null,{"$f":"#REF!","v":{"$error":"#REF!"}},{"$f":"#REF!","v":{"$error":"#REF!"}},{"$f":"#REF!","v":{"$error":"#REF!"}},{"$f":"#REF!","v":{"$error":"#REF!"}},{"$f":"#REF!","v":{"$error":"#REF!"}},{"$f":"#REF!","v":{"$error":"#REF!"}},{"$f":"#REF!","v":{"$error":"#REF!"}},{"$f":"#REF!","v":{"$error":"#REF!"}},{"$error":"#REF!"},null,{"$f":"#REF!","v":{"$error":"#REF!"}},{"$f":"#REF!","v":{"$error":"#REF!"}},{"$f":"#REF!","v":{"$error":"#REF!"}},{"$f":"#REF!","v":{"$error":"#REF!"}},null,{"$f":"#REF!","v":{"$error":"#REF!"}},{"$f":"#REF!","v":{"$error":"#REF!"}},{"$f":"#REF!","v":{"$error":"#REF!"}},{"$f":"#REF!","v":{"$error":"#REF!"}},{"$f":"#REF!","v":{"$error":"#REF!"}},{"$f":"#REF!","v":{"$error":"#REF!"}},{"$f":"#REF!","v":{"$error":"#REF!"}},{"$f":"#REF!","v":{"$error":"#REF!"}},{"$f":"#REF!","v":{"$error":"#REF!"}},{"$f":"#REF!","v":{"$error":"#REF!"}},{"$f":"#REF!","v":{"$error":"#REF!"}},{"$f":"#REF!","v":{"$error":"#REF!"}},{"$f":"#REF!","v":{"$error":"#REF!"}},{"$f":"#REF!","v":{"$error":"#REF!"}},{"$f":"#REF!","v":{"$error":"#REF!"}},{"$error":"#REF!"},null,{"$f":"#REF!","v":{"$error":"#REF!"}},{"$f":"#REF!","v":{"$error":"#REF!"}},{"$f":"#REF!","v":{"$error":"#REF!"}},{"$f":"#REF!","v":{"$error":"#REF!"}},{"$f":"#REF!","v":{"$error":"#REF!"}},{"$f":"#REF!","v":{"$error":"#REF!"}},{"$f":"#REF!","v":{"$error":"#REF!"}},null,{"$f":"#REF!","v":{"$error":"#REF!"}},{"$f":"#REF!","v":{"$error":"#REF!"}},{"$f":"#REF!","v":{"$error":"#REF!"}},{"$f":"#REF!","v":{"$error":"#REF!"}},{"$f":"#REF!-AW88","v":{"$error":"#REF!"}},{"$f":"#REF!","v":{"$error":"#REF!"}},{"$f":"#REF!","v":{"$error":"#REF!"}},{"$f":"#REF!","v":{"$error":"#REF!"}},{"$error":"#REF!"},{"$error":"#REF!"},{"$error":"#REF!"},{"$f":"VLOOKUP($A88,'5C1_NewType 2'!$A$7:$AX$46,COLUMN('5C1_NewType 2'!#REF!),FALSE)","v":{"$error":"#REF!"}},{"$error":"#REF!"},{"$error":"#REF!"},{"$f":"#REF!","v":{"$error":"#REF!"}},{"$error":"#REF!"}]
["W1B001","3B1001","Advantage Charter Academy",{"$f":"#REF!","v":{"$error":"#REF!"}},null,{"$f":"#REF!","v":{"$error":"#REF!"}},null,null,{"$f":"#REF!","v":{"$error":"#REF!"}},{"$f":"#REF!","v":{"$error":"#REF!"}},{"$f":"#REF!","v":{"$error":"#REF!"}},{"$f":"#REF!","v":{"$error":"#REF!"}},{"$f":"#REF!","v":{"$error":"#REF!"}},{"$f":"#REF!","v":{"$error":"#REF!"}},{"$f":"#REF!","v":{"$error":"#REF!"}},{"$f":"#REF!","v":{"$error":"#REF!"}},{"$error":"#REF!"},null,{"$f":"#REF!","v":{"$error":"#REF!"}},{"$f":"#REF!","v":{"$error":"#REF!"}},{"$f":"#REF!","v":{"$error":"#REF!"}},{"$f":"#REF!","v":{"$error":"#REF!"}},null,{"$f":"#REF!","v":{"$error":"#REF!"}},{"$f":"#REF!","v":{"$error":"#REF!"}},{"$f":"#REF!","v":{"$error":"#REF!"}},{"$f":"#REF!","v":{"$error":"#REF!"}},{"$f":"#REF!","v":{"$error":"#REF!"}},{"$f":"#REF!","v":{"$error":"#REF!"}},{"$f":"#REF!","v":{"$error":"#REF!"}},{"$f":"#REF!","v":{"$error":"#REF!"}},{"$f":"#REF!","v":{"$error":"#REF!"}},{"$f":"#REF!","v":{"$error":"#REF!"}},{"$f":"#REF!","v":{"$error":"#REF!"}},{"$f":"#REF!","v":{"$error":"#REF!"}},{"$f":"#REF!","v":{"$error":"#REF!"}},{"$f":"#REF!","v":{"$error":"#REF!"}},{"$f":"#REF!","v":{"$error":"#REF!"}},{"$error":"#REF!"},null,{"$f":"#REF!","v":{"$error":"#REF!"}},{"$f":"#REF!","v":{"$error":"#REF!"}},{"$f":"#REF!","v":{"$error":"#REF!"}},{"$f":"#REF!","v":{"$error":"#REF!"}},{"$f":"#REF!","v":{"$error":"#REF!"}},{"$f":"#REF!","v":{"$error":"#REF!"}},{"$f":"#REF!","v":{"$error":"#REF!"}},null,{"$f":"#REF!","v":{"$error":"#REF!"}},{"$f":"#REF!","v":{"$error":"#REF!"}},{"$f":"#REF!","v":{"$error":"#REF!"}},{"$f":"#REF!","v":{"$error":"#REF!"}},{"$f":"#REF!-AW89","v":{"$error":"#REF!"}},{"$f":"#REF!","v":{"$error":"#REF!"}},{"$f":"#REF!","v":{"$error":"#REF!"}},{"$f":"#REF!","v":{"$error":"#REF!"}},{"$error":"#REF!"},{"$error":"#REF!"},{"$error":"#REF!"},{"$f":"VLOOKUP($A89,'5C1_NewType 2'!$A$7:$AX$46,COLUMN('5C1_NewType 2'!#REF!),FALSE)","v":{"$error":"#REF!"}},{"$error":"#REF!"},{"$error":"#REF!"},{"$f":"#REF!","v":{"$error":"#REF!"}},{"$error":"#REF!"}]
["W1D001","W1D001","JCFA - Lafayette",{"$f":"#REF!","v":{"$error":"#REF!"}},null,{"$f":"#REF!","v":{"$error":"#REF!"}},null,null,{"$f":"#REF!","v":{"$error":"#REF!"}},{"$f":"#REF!","v":{"$error":"#REF!"}},{"$f":"#REF!","v":{"$error":"#REF!"}},{"$f":"#REF!","v":{"$error":"#REF!"}},{"$f":"#REF!","v":{"$error":"#REF!"}},{"$f":"#REF!","v":{"$error":"#REF!"}},{"$f":"#REF!","v":{"$error":"#REF!"}},{"$f":"#REF!","v":{"$error":"#REF!"}},{"$error":"#REF!"},null,{"$f":"#REF!","v":{"$error":"#REF!"}},{"$f":"#REF!","v":{"$error":"#REF!"}},{"$f":"#REF!","v":{"$error":"#REF!"}},{"$f":"#REF!","v":{"$error":"#REF!"}},null,{"$f":"#REF!","v":{"$error":"#REF!"}},{"$f":"#REF!","v":{"$error":"#REF!"}},{"$f":"#REF!","v":{"$error":"#REF!"}},{"$f":"#REF!","v":{"$error":"#REF!"}},{"$f":"#REF!","v":{"$error":"#REF!"}},{"$f":"#REF!","v":{"$error":"#REF!"}},{"$f":"#REF!","v":{"$error":"#REF!"}},{"$f":"#REF!","v":{"$error":"#REF!"}},{"$f":"#REF!","v":{"$error":"#REF!"}},{"$f":"#REF!","v":{"$error":"#REF!"}},{"$f":"#REF!","v":{"$error":"#REF!"}},{"$f":"#REF!","v":{"$error":"#REF!"}},{"$f":"#REF!","v":{"$error":"#REF!"}},{"$f":"#REF!","v":{"$error":"#REF!"}},{"$f":"#REF!","v":{"$error":"#REF!"}},{"$error":"#REF!"},null,{"$f":"#REF!","v":{"$error":"#REF!"}},{"$f":"#REF!","v":{"$error":"#REF!"}},{"$f":"#REF!","v":{"$error":"#REF!"}},{"$f":"#REF!","v":{"$error":"#REF!"}},{"$f":"#REF!","v":{"$error":"#REF!"}},{"$f":"#REF!","v":{"$error":"#REF!"}},{"$f":"#REF!","v":{"$error":"#REF!"}},null,{"$f":"#REF!","v":{"$error":"#REF!"}},{"$f":"#REF!","v":{"$error":"#REF!"}},{"$f":"#REF!","v":{"$error":"#REF!"}},{"$f":"#REF!","v":{"$error":"#REF!"}},{"$f":"#REF!-AW90","v":{"$error":"#REF!"}},{"$f":"#REF!","v":{"$error":"#REF!"}},{"$f":"#REF!","v":{"$error":"#REF!"}},{"$f":"#REF!","v":{"$error":"#REF!"}},{"$error":"#REF!"},{"$error":"#REF!"},{"$error":"#REF!"},{"$f":"VLOOKUP($A90,'5C1_NewType 2'!$A$7:$AX$46,COLUMN('5C1_NewType 2'!#REF!),FALSE)","v":{"$error":"#REF!"}},{"$error":"#REF!"},{"$error":"#REF!"},{"$f":"#REF!","v":{"$error":"#REF!"}},{"$error":"#REF!"}]
["W2B001","3B1002","Willow Charter Academy",{"$f":"#REF!","v":{"$error":"#REF!"}},null,{"$f":"#REF!","v":{"$error":"#REF!"}},null,null,{"$f":"#REF!","v":{"$error":"#REF!"}},{"$f":"#REF!","v":{"$error":"#REF!"}},{"$f":"#REF!","v":{"$error":"#REF!"}},{"$f":"#REF!","v":{"$error":"#REF!"}},{"$f":"#REF!","v":{"$error":"#REF!"}},{"$f":"#REF!","v":{"$error":"#REF!"}},{"$f":"#REF!","v":{"$error":"#REF!"}},{"$f":"#REF!","v":{"$error":"#REF!"}},{"$error":"#REF!"},null,{"$f":"#REF!","v":{"$error":"#REF!"}},{"$f":"#REF!","v":{"$error":"#REF!"}},{"$f":"#REF!","v":{"$error":"#REF!"}},{"$f":"#REF!","v":{"$error":"#REF!"}},null,{"$f":"#REF!","v":{"$error":"#REF!"}},{"$f":"#REF!","v":{"$error":"#REF!"}},{"$f":"#REF!","v":{"$error":"#REF!"}},{"$f":"#REF!","v":{"$error":"#REF!"}},{"$f":"#REF!","v":{"$error":"#REF!"}},{"$f":"#REF!","v":{"$error":"#REF!"}},{"$f":"#REF!","v":{"$error":"#REF!"}},{"$f":"#REF!","v":{"$error":"#REF!"}},{"$f":"#REF!","v":{"$error":"#REF!"}},{"$f":"#REF!","v":{"$error":"#REF!"}},{"$f":"#REF!","v":{"$error":"#REF!"}},{"$f":"#REF!","v":{"$error":"#REF!"}},{"$f":"#REF!","v":{"$error":"#REF!"}},{"$f":"#REF!","v":{"$error":"#REF!"}},{"$f":"#REF!","v":{"$error":"#REF!"}},{"$error":"#REF!"},null,{"$f":"#REF!","v":{"$error":"#REF!"}},{"$f":"#REF!","v":{"$error":"#REF!"}},{"$f":"#REF!","v":{"$error":"#REF!"}},{"$f":"#REF!","v":{"$error":"#REF!"}},{"$f":"#REF!","v":{"$error":"#REF!"}},{"$f":"#REF!","v":{"$error":"#REF!"}},{"$f":"#REF!","v":{"$error":"#REF!"}},null,{"$f":"#REF!","v":{"$error":"#REF!"}},{"$f":"#REF!","v":{"$error":"#REF!"}},{"$f":"#REF!","v":{"$error":"#REF!"}},{"$f":"#REF!","v":{"$error":"#REF!"}},{"$f":"#REF!-AW91","v":{"$error":"#REF!"}},{"$f":"#REF!","v":{"$error":"#REF!"}},{"$f":"#REF!","v":{"$error":"#REF!"}},{"$f":"#REF!","v":{"$error":"#REF!"}},{"$error":"#REF!"},{"$error":"#REF!"},{"$error":"#REF!"},{"$f":"VLOOKUP($A91,'5C1_NewType 2'!$A$7:$AX$46,COLUMN('5C1_NewType 2'!#REF!),FALSE)","v":{"$error":"#REF!"}},{"$error":"#REF!"},{"$error":"#REF!"},{"$f":"#REF!","v":{"$error":"#REF!"}},{"$error":"#REF!"}]
["W33001","W33001","Lincoln Prep School",{"$f":"#REF!","v":{"$error":"#REF!"}},null,{"$f":"#REF!","v":{"$error":"#REF!"}},null,null,{"$f":"#REF!","v":{"$error":"#REF!"}},{"$f":"#REF!","v":{"$error":"#REF!"}},{"$f":"#REF!","v":{"$error":"#REF!"}},{"$f":"#REF!","v":{"$error":"#REF!"}},{"$f":"#REF!","v":{"$error":"#REF!"}},{"$f":"#REF!","v":{"$error":"#REF!"}},{"$f":"#REF!","v":{"$error":"#REF!"}},{"$f":"#REF!","v":{"$error":"#REF!"}},{"$error":"#REF!"},null,{"$f":"#REF!","v":{"$error":"#REF!"}},{"$f":"#REF!","v":{"$error":"#REF!"}},{"$f":"#REF!","v":{"$error":"#REF!"}},{"$f":"#REF!","v":{"$error":"#REF!"}},null,{"$f":"#REF!","v":{"$error":"#REF!"}},{"$f":"#REF!","v":{"$error":"#REF!"}},{"$f":"#REF!","v":{"$error":"#REF!"}},{"$f":"#REF!","v":{"$error":"#REF!"}},{"$f":"#REF!","v":{"$error":"#REF!"}},{"$f":"#REF!","v":{"$error":"#REF!"}},{"$f":"#REF!","v":{"$error":"#REF!"}},{"$f":"#REF!","v":{"$error":"#REF!"}},{"$f":"#REF!","v":{"$error":"#REF!"}},{"$f":"#REF!","v":{"$error":"#REF!"}},{"$f":"#REF!","v":{"$error":"#REF!"}},{"$f":"#REF!","v":{"$error":"#REF!"}},{"$f":"#REF!","v":{"$error":"#REF!"}},{"$f":"#REF!","v":{"$error":"#REF!"}},{"$f":"#REF!","v":{"$error":"#REF!"}},{"$error":"#REF!"},null,{"$f":"#REF!","v":{"$error":"#REF!"}},{"$f":"#REF!","v":{"$error":"#REF!"}},{"$f":"#REF!","v":{"$error":"#REF!"}},{"$f":"#REF!","v":{"$error":"#REF!"}},{"$f":"#REF!","v":{"$error":"#REF!"}},{"$f":"#REF!","v":{"$error":"#REF!"}},{"$f":"#REF!","v":{"$error":"#REF!"}},null,{"$f":"#REF!","v":{"$error":"#REF!"}},{"$f":"#REF!","v":{"$error":"#REF!"}},{"$f":"#REF!","v":{"$error":"#REF!"}},{"$f":"#REF!","v":{"$error":"#REF!"}},{"$f":"#REF!-AW92","v":{"$error":"#REF!"}},{"$f":"#REF!","v":{"$error":"#REF!"}},{"$f":"#REF!","v":{"$error":"#REF!"}},{"$f":"#REF!","v":{"$error":"#REF!"}},{"$error":"#REF!"},{"$error":"#REF!"},{"$error":"#REF!"},{"$f":"VLOOKUP($A92,'5C1_NewType 2'!$A$7:$AX$46,COLUMN('5C1_NewType 2'!#REF!),FALSE)","v":{"$error":"#REF!"}},{"$error":"#REF!"},{"$error":"#REF!"},{"$f":"#REF!","v":{"$error":"#REF!"}},{"$error":"#REF!"}]
["W3B001","3A3002","Iberville Charter Academy",{"$f":"#REF!","v":{"$error":"#REF!"}},null,{"$f":"#REF!","v":{"$error":"#REF!"}},null,null,{"$f":"#REF!","v":{"$error":"#REF!"}},{"$f":"#REF!","v":{"$error":"#REF!"}},{"$f":"#REF!","v":{"$error":"#REF!"}},{"$f":"#REF!","v":{"$error":"#REF!"}},{"$f":"#REF!","v":{"$error":"#REF!"}},{"$f":"#REF!","v":{"$error":"#REF!"}},{"$f":"#REF!","v":{"$error":"#REF!"}},{"$f":"#REF!","v":{"$error":"#REF!"}},{"$error":"#REF!"},null,{"$f":"#REF!","v":{"$error":"#REF!"}},{"$f":"#REF!","v":{"$error":"#REF!"}},{"$f":"#REF!","v":{"$error":"#REF!"}},{"$f":"#REF!","v":{"$error":"#REF!"}},null,{"$f":"#REF!","v":{"$error":"#REF!"}},{"$f":"#REF!","v":{"$error":"#REF!"}},{"$f":"#REF!","v":{"$error":"#REF!"}},{"$f":"#REF!","v":{"$error":"#REF!"}},{"$f":"#REF!","v":{"$error":"#REF!"}},{"$f":"#REF!","v":{"$error":"#REF!"}},{"$f":"#REF!","v":{"$error":"#REF!"}},{"$f":"#REF!","v":{"$error":"#REF!"}},{"$f":"#REF!","v":{"$error":"#REF!"}},{"$f":"#REF!","v":{"$error":"#REF!"}},{"$f":"#REF!","v":{"$error":"#REF!"}},{"$f":"#REF!","v":{"$error":"#REF!"}},{"$f":"#REF!","v":{"$error":"#REF!"}},{"$f":"#REF!","v":{"$error":"#REF!"}},{"$f":"#REF!","v":{"$error":"#REF!"}},{"$error":"#REF!"},null,{"$f":"#REF!","v":{"$error":"#REF!"}},{"$f":"#REF!","v":{"$error":"#REF!"}},{"$f":"#REF!","v":{"$error":"#REF!"}},{"$f":"#REF!","v":{"$error":"#REF!"}},{"$f":"#REF!","v":{"$error":"#REF!"}},{"$f":"#REF!","v":{"$error":"#REF!"}},{"$f":"#REF!","v":{"$error":"#REF!"}},null,{"$f":"#REF!","v":{"$error":"#REF!"}},{"$f":"#REF!","v":{"$error":"#REF!"}},{"$f":"#REF!","v":{"$error":"#REF!"}},{"$f":"#REF!","v":{"$error":"#REF!"}},{"$f":"#REF!-AW93","v":{"$error":"#REF!"}},{"$f":"#REF!","v":{"$error":"#REF!"}},{"$f":"#REF!","v":{"$error":"#REF!"}},{"$f":"#REF!","v":{"$error":"#REF!"}},{"$error":"#REF!"},{"$error":"#REF!"},{"$error":"#REF!"},{"$f":"VLOOKUP($A93,'5C1_NewType 2'!$A$7:$AX$46,COLUMN('5C1_NewType 2'!#REF!),FALSE)","v":{"$error":"#REF!"}},{"$error":"#REF!"},{"$error":"#REF!"},{"$f":"#REF!","v":{"$error":"#REF!"}},{"$error":"#REF!"}]
["W4A001","3A4001","Delta Charter School ",{"$f":"#REF!","v":{"$error":"#REF!"}},null,{"$f":"#REF!","v":{"$error":"#REF!"}},null,null,{"$f":"#REF!","v":{"$error":"#REF!"}},{"$f":"#REF!","v":{"$error":"#REF!"}},{"$f":"#REF!","v":{"$error":"#REF!"}},{"$f":"#REF!","v":{"$error":"#REF!"}},{"$f":"#REF!","v":{"$error":"#REF!"}},{"$f":"#REF!","v":{"$error":"#REF!"}},{"$f":"#REF!","v":{"$error":"#REF!"}},{"$f":"#REF!","v":{"$error":"#REF!"}},{"$error":"#REF!"},null,{"$f":"#REF!","v":{"$error":"#REF!"}},{"$f":"#REF!","v":{"$error":"#REF!"}},{"$f":"#REF!","v":{"$error":"#REF!"}},{"$f":"#REF!","v":{"$error":"#REF!"}},null,{"$f":"#REF!","v":{"$error":"#REF!"}},{"$f":"#REF!","v":{"$error":"#REF!"}},{"$f":"#REF!","v":{"$error":"#REF!"}},{"$f":"#REF!","v":{"$error":"#REF!"}},{"$f":"#REF!","v":{"$error":"#REF!"}},{"$f":"#REF!","v":{"$error":"#REF!"}},{"$f":"#REF!","v":{"$error":"#REF!"}},{"$f":"#REF!","v":{"$error":"#REF!"}},{"$f":"#REF!","v":{"$error":"#REF!"}},{"$f":"#REF!","v":{"$error":"#REF!"}},{"$f":"#REF!","v":{"$error":"#REF!"}},{"$f":"#REF!","v":{"$error":"#REF!"}},{"$f":"#REF!","v":{"$error":"#REF!"}},{"$f":"#REF!","v":{"$error":"#REF!"}},{"$f":"#REF!","v":{"$error":"#REF!"}},{"$error":"#REF!"},null,{"$f":"#REF!","v":{"$error":"#REF!"}},{"$f":"#REF!","v":{"$error":"#REF!"}},{"$f":"#REF!","v":{"$error":"#REF!"}},{"$f":"#REF!","v":{"$error":"#REF!"}},{"$f":"#REF!","v":{"$error":"#REF!"}},{"$f":"#REF!","v":{"$error":"#REF!"}},{"$f":"#REF!","v":{"$error":"#REF!"}},null,{"$f":"#REF!","v":{"$error":"#REF!"}},{"$f":"#REF!","v":{"$error":"#REF!"}},{"$f":"#REF!","v":{"$error":"#REF!"}},{"$f":"#REF!","v":{"$error":"#REF!"}},{"$f":"#REF!-AW94","v":{"$error":"#REF!"}},{"$f":"#REF!","v":{"$error":"#REF!"}},{"$f":"#REF!","v":{"$error":"#REF!"}},{"$f":"#REF!","v":{"$error":"#REF!"}},{"$error":"#REF!"},{"$error":"#REF!"},{"$error":"#REF!"},{"$f":"VLOOKUP($A94,'5C1_NewType 2'!$A$7:$AX$46,COLUMN('5C1_NewType 2'!#REF!),FALSE)","v":{"$error":"#REF!"}},{"$error":"#REF!"},{"$error":"#REF!"},{"$f":"#REF!","v":{"$error":"#REF!"}},{"$error":"#REF!"}]
["W4B001",328002,"Lake Charles College Prep",{"$f":"#REF!","v":{"$error":"#REF!"}},null,{"$f":"#REF!","v":{"$error":"#REF!"}},null,null,{"$f":"#REF!","v":{"$error":"#REF!"}},{"$f":"#REF!","v":{"$error":"#REF!"}},{"$f":"#REF!","v":{"$error":"#REF!"}},{"$f":"#REF!","v":{"$error":"#REF!"}},{"$f":"#REF!","v":{"$error":"#REF!"}},{"$f":"#REF!","v":{"$error":"#REF!"}},{"$f":"#REF!","v":{"$error":"#REF!"}},{"$f":"#REF!","v":{"$error":"#REF!"}},{"$error":"#REF!"},null,{"$f":"#REF!","v":{"$error":"#REF!"}},{"$f":"#REF!","v":{"$error":"#REF!"}},{"$f":"#REF!","v":{"$error":"#REF!"}},{"$f":"#REF!","v":{"$error":"#REF!"}},null,{"$f":"#REF!","v":{"$error":"#REF!"}},{"$f":"#REF!","v":{"$error":"#REF!"}},{"$f":"#REF!","v":{"$error":"#REF!"}},{"$f":"#REF!","v":{"$error":"#REF!"}},{"$f":"#REF!","v":{"$error":"#REF!"}},{"$f":"#REF!","v":{"$error":"#REF!"}},{"$f":"#REF!","v":{"$error":"#REF!"}},{"$f":"#REF!","v":{"$error":"#REF!"}},{"$f":"#REF!","v":{"$error":"#REF!"}},{"$f":"#REF!","v":{"$error":"#REF!"}},{"$f":"#REF!","v":{"$error":"#REF!"}},{"$f":"#REF!","v":{"$error":"#REF!"}},{"$f":"#REF!","v":{"$error":"#REF!"}},{"$f":"#REF!","v":{"$error":"#REF!"}},{"$f":"#REF!","v":{"$error":"#REF!"}},{"$error":"#REF!"},null,{"$f":"#REF!","v":{"$error":"#REF!"}},{"$f":"#REF!","v":{"$error":"#REF!"}},{"$f":"#REF!","v":{"$error":"#REF!"}},{"$f":"#REF!","v":{"$error":"#REF!"}},{"$f":"#REF!","v":{"$error":"#REF!"}},{"$f":"#REF!","v":{"$error":"#REF!"}},{"$f":"#REF!","v":{"$error":"#REF!"}},null,{"$f":"#REF!","v":{"$error":"#REF!"}},{"$f":"#REF!","v":{"$error":"#REF!"}},{"$f":"#REF!","v":{"$error":"#REF!"}},{"$f":"#REF!","v":{"$error":"#REF!"}},{"$f":"#REF!-AW95","v":{"$error":"#REF!"}},{"$f":"#REF!","v":{"$error":"#REF!"}},{"$f":"#REF!","v":{"$error":"#REF!"}},{"$f":"#REF!","v":{"$error":"#REF!"}},{"$error":"#REF!"},{"$error":"#REF!"},{"$error":"#REF!"},{"$f":"VLOOKUP($A95,'5C1_NewType 2'!$A$7:$AX$46,COLUMN('5C1_NewType 2'!#REF!),FALSE)","v":{"$error":"#REF!"}},{"$error":"#REF!"},{"$error":"#REF!"},{"$f":"#REF!","v":{"$error":"#REF!"}},{"$error":"#REF!"}]
["W5B001","3B5001","Northeast Claiborne Charter",{"$f":"#REF!","v":{"$error":"#REF!"}},null,{"$f":"#REF!","v":{"$error":"#REF!"}},null,null,{"$f":"#REF!","v":{"$error":"#REF!"}},{"$f":"#REF!","v":{"$error":"#REF!"}},{"$f":"#REF!","v":{"$error":"#REF!"}},{"$f":"#REF!","v":{"$error":"#REF!"}},{"$f":"#REF!","v":{"$error":"#REF!"}},{"$f":"#REF!","v":{"$error":"#REF!"}},{"$f":"#REF!","v":{"$error":"#REF!"}},{"$f":"#REF!","v":{"$error":"#REF!"}},{"$error":"#REF!"},null,{"$f":"#REF!","v":{"$error":"#REF!"}},{"$f":"#REF!","v":{"$error":"#REF!"}},{"$f":"#REF!","v":{"$error":"#REF!"}},{"$f":"#REF!","v":{"$error":"#REF!"}},null,{"$f":"#REF!","v":{"$error":"#REF!"}},{"$f":"#REF!","v":{"$error":"#REF!"}},{"$f":"#REF!","v":{"$error":"#REF!"}},{"$f":"#REF!","v":{"$error":"#REF!"}},{"$f":"#REF!","v":{"$error":"#REF!"}},{"$f":"#REF!","v":{"$error":"#REF!"}},{"$f":"#REF!","v":{"$error":"#REF!"}},{"$f":"#REF!","v":{"$error":"#REF!"}},{"$f":"#REF!","v":{"$error":"#REF!"}},{"$f":"#REF!","v":{"$error":"#REF!"}},{"$f":"#REF!","v":{"$error":"#REF!"}},{"$f":"#REF!","v":{"$error":"#REF!"}},{"$f":"#REF!","v":{"$error":"#REF!"}},{"$f":"#REF!","v":{"$error":"#REF!"}},{"$f":"#REF!","v":{"$error":"#REF!"}},{"$error":"#REF!"},null,{"$f":"#REF!","v":{"$error":"#REF!"}},{"$f":"#REF!","v":{"$error":"#REF!"}},{"$f":"#REF!","v":{"$error":"#REF!"}},{"$f":"#REF!","v":{"$error":"#REF!"}},{"$f":"#REF!","v":{"$error":"#REF!"}},{"$f":"#REF!","v":{"$error":"#REF!"}},{"$f":"#REF!","v":{"$error":"#REF!"}},null,{"$f":"#REF!","v":{"$error":"#REF!"}},{"$f":"#REF!","v":{"$error":"#REF!"}},{"$f":"#REF!","v":{"$error":"#REF!"}},{"$f":"#REF!","v":{"$error":"#REF!"}},{"$f":"#REF!-AW96","v":{"$error":"#REF!"}},{"$f":"#REF!","v":{"$error":"#REF!"}},{"$f":"#REF!","v":{"$error":"#REF!"}},{"$f":"#REF!","v":{"$error":"#REF!"}},{"$error":"#REF!"},{"$error":"#REF!"},{"$error":"#REF!"},{"$f":"VLOOKUP($A96,'5C1_NewType 2'!$A$7:$AX$46,COLUMN('5C1_NewType 2'!#REF!),FALSE)","v":{"$error":"#REF!"}},{"$error":"#REF!"},{"$error":"#REF!"},{"$f":"#REF!","v":{"$error":"#REF!"}},{"$error":"#REF!"}]
["W6B001","3B6001","Acadiana Renaissance",{"$f":"#REF!","v":{"$error":"#REF!"}},null,{"$f":"#REF!","v":{"$error":"#REF!"}},null,null,{"$f":"#REF!","v":{"$error":"#REF!"}},{"$f":"#REF!","v":{"$error":"#REF!"}},{"$f":"#REF!","v":{"$error":"#REF!"}},{"$f":"#REF!","v":{"$error":"#REF!"}},{"$f":"#REF!","v":{"$error":"#REF!"}},{"$f":"#REF!","v":{"$error":"#REF!"}},{"$f":"#REF!","v":{"$error":"#REF!"}},{"$f":"#REF!","v":{"$error":"#REF!"}},{"$error":"#REF!"},null,{"$f":"#REF!","v":{"$error":"#REF!"}},{"$f":"#REF!","v":{"$error":"#REF!"}},{"$f":"#REF!","v":{"$error":"#REF!"}},{"$f":"#REF!","v":{"$error":"#REF!"}},null,{"$f":"#REF!","v":{"$error":"#REF!"}},{"$f":"#REF!","v":{"$error":"#REF!"}},{"$f":"#REF!","v":{"$error":"#REF!"}},{"$f":"#REF!","v":{"$error":"#REF!"}},{"$f":"#REF!","v":{"$error":"#REF!"}},{"$f":"#REF!","v":{"$error":"#REF!"}},{"$f":"#REF!","v":{"$error":"#REF!"}},{"$f":"#REF!","v":{"$error":"#REF!"}},{"$f":"#REF!","v":{"$error":"#REF!"}},{"$f":"#REF!","v":{"$error":"#REF!"}},{"$f":"#REF!","v":{"$error":"#REF!"}},{"$f":"#REF!","v":{"$error":"#REF!"}},{"$f":"#REF!","v":{"$error":"#REF!"}},{"$f":"#REF!","v":{"$error":"#REF!"}},{"$f":"#REF!","v":{"$error":"#REF!"}},{"$error":"#REF!"},null,{"$f":"#REF!","v":{"$error":"#REF!"}},{"$f":"#REF!","v":{"$error":"#REF!"}},{"$f":"#REF!","v":{"$error":"#REF!"}},{"$f":"#REF!","v":{"$error":"#REF!"}},{"$f":"#REF!","v":{"$error":"#REF!"}},{"$f":"#REF!","v":{"$error":"#REF!"}},{"$f":"#REF!","v":{"$error":"#REF!"}},null,{"$f":"#REF!","v":{"$error":"#REF!"}},{"$f":"#REF!","v":{"$error":"#REF!"}},{"$f":"#REF!","v":{"$error":"#REF!"}},{"$f":"#REF!","v":{"$error":"#REF!"}},{"$f":"#REF!-AW97","v":{"$error":"#REF!"}},{"$f":"#REF!","v":{"$error":"#REF!"}},{"$f":"#REF!","v":{"$error":"#REF!"}},{"$f":"#REF!","v":{"$error":"#REF!"}},{"$error":"#REF!"},{"$error":"#REF!"},{"$error":"#REF!"},{"$f":"VLOOKUP($A97,'5C1_NewType 2'!$A$7:$AX$46,COLUMN('5C1_NewType 2'!#REF!),FALSE)","v":{"$error":"#REF!"}},{"$error":"#REF!"},{"$error":"#REF!"},{"$f":"#REF!","v":{"$error":"#REF!"}},{"$error":"#REF!"}]
["W7A001","3A7001","Louisiana Key Academy ",{"$f":"#REF!","v":{"$error":"#REF!"}},null,{"$f":"#REF!","v":{"$error":"#REF!"}},null,null,{"$f":"#REF!","v":{"$error":"#REF!"}},{"$f":"#REF!","v":{"$error":"#REF!"}},{"$f":"#REF!","v":{"$error":"#REF!"}},{"$f":"#REF!","v":{"$error":"#REF!"}},{"$f":"#REF!","v":{"$error":"#REF!"}},{"$f":"#REF!","v":{"$error":"#REF!"}},{"$f":"#REF!","v":{"$error":"#REF!"}},{"$f":"#REF!","v":{"$error":"#REF!"}},{"$error":"#REF!"},null,{"$f":"#REF!","v":{"$error":"#REF!"}},{"$f":"#REF!","v":{"$error":"#REF!"}},{"$f":"#REF!","v":{"$error":"#REF!"}},{"$f":"#REF!","v":{"$error":"#REF!"}},null,{"$f":"#REF!","v":{"$error":"#REF!"}},{"$f":"#REF!","v":{"$error":"#REF!"}},{"$f":"#REF!","v":{"$error":"#REF!"}},{"$f":"#REF!","v":{"$error":"#REF!"}},{"$f":"#REF!","v":{"$error":"#REF!"}},{"$f":"#REF!","v":{"$error":"#REF!"}},{"$f":"#REF!","v":{"$error":"#REF!"}},{"$f":"#REF!","v":{"$error":"#REF!"}},{"$f":"#REF!","v":{"$error":"#REF!"}},{"$f":"#REF!","v":{"$error":"#REF!"}},{"$f":"#REF!","v":{"$error":"#REF!"}},{"$f":"#REF!","v":{"$error":"#REF!"}},{"$f":"#REF!","v":{"$error":"#REF!"}},{"$f":"#REF!","v":{"$error":"#REF!"}},{"$f":"#REF!","v":{"$error":"#REF!"}},{"$error":"#REF!"},null,{"$f":"#REF!","v":{"$error":"#REF!"}},{"$f":"#REF!","v":{"$error":"#REF!"}},{"$f":"#REF!","v":{"$error":"#REF!"}},{"$f":"#REF!","v":{"$error":"#REF!"}},{"$f":"#REF!","v":{"$error":"#REF!"}},{"$f":"#REF!","v":{"$error":"#REF!"}},{"$f":"#REF!","v":{"$error":"#REF!"}},null,{"$f":"#REF!","v":{"$error":"#REF!"}},{"$f":"#REF!","v":{"$error":"#REF!"}},{"$f":"#REF!","v":{"$error":"#REF!"}},{"$f":"#REF!","v":{"$error":"#REF!"}},{"$f":"#REF!-AW98","v":{"$error":"#REF!"}},{"$f":"#REF!","v":{"$error":"#REF!"}},{"$f":"#REF!","v":{"$error":"#REF!"}},{"$f":"#REF!","v":{"$error":"#REF!"}},{"$error":"#REF!"},{"$error":"#REF!"},{"$error":"#REF!"},{"$f":"VLOOKUP($A98,'5C1_NewType 2'!$A$7:$AX$46,COLUMN('5C1_NewType 2'!#REF!),FALSE)","v":{"$error":"#REF!"}},{"$error":"#REF!"},{"$error":"#REF!"},{"$f":"#REF!","v":{"$error":"#REF!"}},{"$error":"#REF!"}]
["W7B001","3B6002","Lafayette Renaissance",{"$f":"#REF!","v":{"$error":"#REF!"}},null,{"$f":"#REF!","v":{"$error":"#REF!"}},null,null,{"$f":"#REF!","v":{"$error":"#REF!"}},{"$f":"#REF!","v":{"$error":"#REF!"}},{"$f":"#REF!","v":{"$error":"#REF!"}},{"$f":"#REF!","v":{"$error":"#REF!"}},{"$f":"#REF!","v":{"$error":"#REF!"}},{"$f":"#REF!","v":{"$error":"#REF!"}},{"$f":"#REF!","v":{"$error":"#REF!"}},{"$f":"#REF!","v":{"$error":"#REF!"}},{"$error":"#REF!"},null,{"$f":"#REF!","v":{"$error":"#REF!"}},{"$f":"#REF!","v":{"$error":"#REF!"}},{"$f":"#REF!","v":{"$error":"#REF!"}},{"$f":"#REF!","v":{"$error":"#REF!"}},null,{"$f":"#REF!","v":{"$error":"#REF!"}},{"$f":"#REF!","v":{"$error":"#REF!"}},{"$f":"#REF!","v":{"$error":"#REF!"}},{"$f":"#REF!","v":{"$error":"#REF!"}},{"$f":"#REF!","v":{"$error":"#REF!"}},{"$f":"#REF!","v":{"$error":"#REF!"}},{"$f":"#REF!","v":{"$error":"#REF!"}},{"$f":"#REF!","v":{"$error":"#REF!"}},{"$f":"#REF!","v":{"$error":"#REF!"}},{"$f":"#REF!","v":{"$error":"#REF!"}},{"$f":"#REF!","v":{"$error":"#REF!"}},{"$f":"#REF!","v":{"$error":"#REF!"}},{"$f":"#REF!","v":{"$error":"#REF!"}},{"$f":"#REF!","v":{"$error":"#REF!"}},{"$f":"#REF!","v":{"$error":"#REF!"}},{"$error":"#REF!"},null,{"$f":"#REF!","v":{"$error":"#REF!"}},{"$f":"#REF!","v":{"$error":"#REF!"}},{"$f":"#REF!","v":{"$error":"#REF!"}},{"$f":"#REF!","v":{"$error":"#REF!"}},{"$f":"#REF!","v":{"$error":"#REF!"}},{"$f":"#REF!","v":{"$error":"#REF!"}},{"$f":"#REF!","v":{"$error":"#REF!"}},null,{"$f":"#REF!","v":{"$error":"#REF!"}},{"$f":"#REF!","v":{"$error":"#REF!"}},{"$f":"#REF!","v":{"$error":"#REF!"}},{"$f":"#REF!","v":{"$error":"#REF!"}},{"$f":"#REF!-AW99","v":{"$error":"#REF!"}},{"$f":"#REF!","v":{"$error":"#REF!"}},{"$f":"#REF!","v":{"$error":"#REF!"}},{"$f":"#REF!","v":{"$error":"#REF!"}},{"$error":"#REF!"},{"$error":"#REF!"},{"$error":"#REF!"},{"$f":"VLOOKUP($A99,'5C1_NewType 2'!$A$7:$AX$46,COLUMN('5C1_NewType 2'!#REF!),FALSE)","v":{"$error":"#REF!"}},{"$error":"#REF!"},{"$error":"#REF!"},{"$f":"#REF!","v":{"$error":"#REF!"}},{"$error":"#REF!"}]
["W8A001","3A8001","Impact Charter",{"$f":"#REF!","v":{"$error":"#REF!"}},null,{"$f":"#REF!","v":{"$error":"#REF!"}},null,null,{"$f":"#REF!","v":{"$error":"#REF!"}},{"$f":"#REF!","v":{"$error":"#REF!"}},{"$f":"#REF!","v":{"$error":"#REF!"}},{"$f":"#REF!","v":{"$error":"#REF!"}},{"$f":"#REF!","v":{"$error":"#REF!"}},{"$f":"#REF!","v":{"$error":"#REF!"}},{"$f":"#REF!","v":{"$error":"#REF!"}},{"$f":"#REF!","v":{"$error":"#REF!"}},{"$error":"#REF!"},null,{"$f":"#REF!","v":{"$error":"#REF!"}},{"$f":"#REF!","v":{"$error":"#REF!"}},{"$f":"#REF!","v":{"$error":"#REF!"}},{"$f":"#REF!","v":{"$error":"#REF!"}},null,{"$f":"#REF!","v":{"$error":"#REF!"}},{"$f":"#REF!","v":{"$error":"#REF!"}},{"$f":"#REF!","v":{"$error":"#REF!"}},{"$f":"#REF!","v":{"$error":"#REF!"}},{"$f":"#REF!","v":{"$error":"#REF!"}},{"$f":"#REF!","v":{"$error":"#REF!"}},{"$f":"#REF!","v":{"$error":"#REF!"}},{"$f":"#REF!","v":{"$error":"#REF!"}},{"$f":"#REF!","v":{"$error":"#REF!"}},{"$f":"#REF!","v":{"$error":"#REF!"}},{"$f":"#REF!","v":{"$error":"#REF!"}},{"$f":"#REF!","v":{"$error":"#REF!"}},{"$f":"#REF!","v":{"$error":"#REF!"}},{"$f":"#REF!","v":{"$error":"#REF!"}},{"$f":"#REF!","v":{"$error":"#REF!"}},{"$error":"#REF!"},null,{"$f":"#REF!","v":{"$error":"#REF!"}},{"$f":"#REF!","v":{"$error":"#REF!"}},{"$f":"#REF!","v":{"$error":"#REF!"}},{"$f":"#REF!","v":{"$error":"#REF!"}},{"$f":"#REF!","v":{"$error":"#REF!"}},{"$f":"#REF!","v":{"$error":"#REF!"}},{"$f":"#REF!","v":{"$error":"#REF!"}},null,{"$f":"#REF!","v":{"$error":"#REF!"}},{"$f":"#REF!","v":{"$error":"#REF!"}},{"$f":"#REF!","v":{"$error":"#REF!"}},{"$f":"#REF!","v":{"$error":"#REF!"}},{"$f":"#REF!-AW100","v":{"$error":"#REF!"}},{"$f":"#REF!","v":{"$error":"#REF!"}},{"$f":"#REF!","v":{"$error":"#REF!"}},{"$f":"#REF!","v":{"$error":"#REF!"}},{"$error":"#REF!"},{"$error":"#REF!"},{"$error":"#REF!"},{"$f":"VLOOKUP($A100,'5C1_NewType 2'!$A$7:$AX$46,COLUMN('5C1_NewType 2'!#REF!),FALSE)","v":{"$error":"#REF!"}},{"$error":"#REF!"},{"$error":"#REF!"},{"$f":"#REF!","v":{"$error":"#REF!"}},{"$error":"#REF!"}]
["WAG001",343002,"Louisiana Virtual Charter Academy (90%)",{"$f":"#REF!","v":{"$error":"#REF!"}},null,{"$f":"#REF!","v":{"$error":"#REF!"}},null,null,{"$f":"#REF!","v":{"$error":"#REF!"}},{"$f":"#REF!","v":{"$error":"#REF!"}},{"$f":"#REF!","v":{"$error":"#REF!"}},{"$f":"#REF!","v":{"$error":"#REF!"}},{"$f":"#REF!","v":{"$error":"#REF!"}},{"$f":"#REF!","v":{"$error":"#REF!"}},{"$f":"#REF!","v":{"$error":"#REF!"}},{"$f":"#REF!","v":{"$error":"#REF!"}},{"$error":"#REF!"},{"$f":"#REF!","v":{"$error":"#REF!"}},{"$f":"#REF!","v":{"$error":"#REF!"}},{"$f":"#REF!","v":{"$error":"#REF!"}},{"$f":"#REF!","v":{"$error":"#REF!"}},{"$f":"#REF!","v":{"$error":"#REF!"}},null,{"$f":"#REF!","v":{"$error":"#REF!"}},{"$f":"#REF!","v":{"$error":"#REF!"}},{"$f":"#REF!","v":{"$error":"#REF!"}},{"$f":"#REF!","v":{"$error":"#REF!"}},{"$f":"#REF!","v":{"$error":"#REF!"}},{"$f":"#REF!","v":{"$error":"#REF!"}},{"$f":"#REF!","v":{"$error":"#REF!"}},{"$f":"#REF!","v":{"$error":"#REF!"}},{"$f":"#REF!","v":{"$error":"#REF!"}},{"$f":"#REF!","v":{"$error":"#REF!"}},{"$f":"#REF!","v":{"$error":"#REF!"}},{"$f":"#REF!","v":{"$error":"#REF!"}},{"$f":"#REF!","v":{"$error":"#REF!"}},{"$f":"#REF!","v":{"$error":"#REF!"}},{"$f":"#REF!","v":{"$error":"#REF!"}},{"$error":"#REF!"},null,{"$f":"#REF!","v":{"$error":"#REF!"}},{"$f":"#REF!","v":{"$error":"#REF!"}},{"$f":"#REF!","v":{"$error":"#REF!"}},{"$f":"#REF!","v":{"$error":"#REF!"}},{"$f":"#REF!","v":{"$error":"#REF!"}},{"$f":"#REF!","v":{"$error":"#REF!"}},{"$f":"#REF!","v":{"$error":"#REF!"}},null,{"$f":"#REF!","v":{"$error":"#REF!"}},{"$f":"#REF!","v":{"$error":"#REF!"}},{"$f":"#REF!","v":{"$error":"#REF!"}},{"$f":"#REF!","v":{"$error":"#REF!"}},{"$f":"#REF!-AW101","v":{"$error":"#REF!"}},{"$f":"#REF!","v":{"$error":"#REF!"}},{"$f":"#REF!","v":{"$error":"#REF!"}},{"$f":"#REF!","v":{"$error":"#REF!"}},{"$error":"#REF!"},{"$error":"#REF!"},{"$error":"#REF!"},{"$f":"VLOOKUP($A101,'5C1_NewType 2'!$A$7:$AX$46,COLUMN('5C1_NewType 2'!#REF!),FALSE)","v":{"$error":"#REF!"}},{"$error":"#REF!"},{"$error":"#REF!"},{"$f":"#REF!","v":{"$error":"#REF!"}},{"$error":"#REF!"}]
["WAK001",328001,"Southwest LA Charter School ",{"$f":"#REF!","v":{"$error":"#REF!"}},null,{"$f":"#REF!","v":{"$error":"#REF!"}},null,null,{"$f":"#REF!","v":{"$error":"#REF!"}},{"$f":"#REF!","v":{"$error":"#REF!"}},{"$f":"#REF!","v":{"$error":"#REF!"}},{"$f":"#REF!","v":{"$error":"#REF!"}},{"$f":"#REF!","v":{"$error":"#REF!"}},{"$f":"#REF!","v":{"$error":"#REF!"}},{"$f":"#REF!","v":{"$error":"#REF!"}},{"$f":"#REF!","v":{"$error":"#REF!"}},{"$error":"#REF!"},null,{"$f":"#REF!","v":{"$error":"#REF!"}},{"$f":"#REF!","v":{"$error":"#REF!"}},{"$f":"#REF!","v":{"$error":"#REF!"}},{"$f":"#REF!","v":{"$error":"#REF!"}},null,{"$f":"#REF!","v":{"$error":"#REF!"}},{"$f":"#REF!","v":{"$error":"#REF!"}},{"$f":"#REF!","v":{"$error":"#REF!"}},{"$f":"#REF!","v":{"$error":"#REF!"}},{"$f":"#REF!","v":{"$error":"#REF!"}},{"$f":"#REF!","v":{"$error":"#REF!"}},{"$f":"#REF!","v":{"$error":"#REF!"}},{"$f":"#REF!","v":{"$error":"#REF!"}},{"$f":"#REF!","v":{"$error":"#REF!"}},{"$f":"#REF!","v":{"$error":"#REF!"}},{"$f":"#REF!","v":{"$error":"#REF!"}},{"$f":"#REF!","v":{"$error":"#REF!"}},{"$f":"#REF!","v":{"$error":"#REF!"}},{"$f":"#REF!","v":{"$error":"#REF!"}},{"$f":"#REF!","v":{"$error":"#REF!"}},{"$error":"#REF!"},null,{"$f":"#REF!","v":{"$error":"#REF!"}},{"$f":"#REF!","v":{"$error":"#REF!"}},{"$f":"#REF!","v":{"$error":"#REF!"}},{"$f":"#REF!","v":{"$error":"#REF!"}},{"$f":"#REF!","v":{"$error":"#REF!"}},{"$f":"#REF!","v":{"$error":"#REF!"}},{"$f":"#REF!","v":{"$error":"#REF!"}},null,{"$f":"#REF!","v":{"$error":"#REF!"}},{"$f":"#REF!","v":{"$error":"#REF!"}},{"$f":"#REF!","v":{"$error":"#REF!"}},{"$f":"#REF!","v":{"$error":"#REF!"}},{"$f":"#REF!-AW102","v":{"$error":"#REF!"}},{"$f":"#REF!","v":{"$error":"#REF!"}},{"$f":"#REF!","v":{"$error":"#REF!"}},{"$f":"#REF!","v":{"$error":"#REF!"}},{"$error":"#REF!"},{"$error":"#REF!"},{"$error":"#REF!"},{"$f":"VLOOKUP($A102,'5C1_NewType 2'!$A$7:$AX$46,COLUMN('5C1_NewType 2'!#REF!),FALSE)","v":{"$error":"#REF!"}},{"$error":"#REF!"},{"$error":"#REF!"},{"$f":"#REF!","v":{"$error":"#REF!"}},{"$error":"#REF!"}]
["WAL001",349001,"J. S. Clark Leadership Academy ",{"$f":"#REF!","v":{"$error":"#REF!"}},null,{"$f":"#REF!","v":{"$error":"#REF!"}},null,null,{"$f":"#REF!","v":{"$error":"#REF!"}},{"$f":"#REF!","v":{"$error":"#REF!"}},{"$f":"#REF!","v":{"$error":"#REF!"}},{"$f":"#REF!","v":{"$error":"#REF!"}},{"$f":"#REF!","v":{"$error":"#REF!"}},{"$f":"#REF!","v":{"$error":"#REF!"}},{"$f":"#REF!","v":{"$error":"#REF!"}},{"$f":"#REF!","v":{"$error":"#REF!"}},{"$error":"#REF!"},null,{"$f":"#REF!","v":{"$error":"#REF!"}},{"$f":"#REF!","v":{"$error":"#REF!"}},{"$f":"#REF!","v":{"$error":"#REF!"}},{"$f":"#REF!","v":{"$error":"#REF!"}},null,{"$f":"#REF!","v":{"$error":"#REF!"}},{"$f":"#REF!","v":{"$error":"#REF!"}},{"$f":"#REF!","v":{"$error":"#REF!"}},{"$f":"#REF!","v":{"$error":"#REF!"}},{"$f":"#REF!","v":{"$error":"#REF!"}},{"$f":"#REF!","v":{"$error":"#REF!"}},{"$f":"#REF!","v":{"$error":"#REF!"}},{"$f":"#REF!","v":{"$error":"#REF!"}},{"$f":"#REF!","v":{"$error":"#REF!"}},{"$f":"#REF!","v":{"$error":"#REF!"}},{"$f":"#REF!","v":{"$error":"#REF!"}},{"$f":"#REF!","v":{"$error":"#REF!"}},{"$f":"#REF!","v":{"$error":"#REF!"}},{"$f":"#REF!","v":{"$error":"#REF!"}},{"$f":"#REF!","v":{"$error":"#REF!"}},{"$error":"#REF!"},null,{"$f":"#REF!","v":{"$error":"#REF!"}},{"$f":"#REF!","v":{"$error":"#REF!"}},{"$f":"#REF!","v":{"$error":"#REF!"}},{"$f":"#REF!","v":{"$error":"#REF!"}},{"$f":"#REF!","v":{"$error":"#REF!"}},{"$f":"#REF!","v":{"$error":"#REF!"}},{"$f":"#REF!","v":{"$error":"#REF!"}},null,{"$f":"#REF!","v":{"$error":"#REF!"}},{"$f":"#REF!","v":{"$error":"#REF!"}},{"$f":"#REF!","v":{"$error":"#REF!"}},{"$f":"#REF!","v":{"$error":"#REF!"}},{"$f":"#REF!-AW103","v":{"$error":"#REF!"}},{"$f":"#REF!","v":{"$error":"#REF!"}},{"$f":"#REF!","v":{"$error":"#REF!"}},{"$f":"#REF!","v":{"$error":"#REF!"}},{"$error":"#REF!"},{"$error":"#REF!"},{"$error":"#REF!"},{"$f":"VLOOKUP($A103,'5C1_NewType 2'!$A$7:$AX$46,COLUMN('5C1_NewType 2'!#REF!),FALSE)","v":{"$error":"#REF!"}},{"$error":"#REF!"},{"$error":"#REF!"},{"$f":"#REF!","v":{"$error":"#REF!"}},{"$error":"#REF!"}]
["WAU001","WAU001","GEO Prep Academy",{"$f":"#REF!","v":{"$error":"#REF!"}},null,{"$f":"#REF!","v":{"$error":"#REF!"}},null,null,{"$f":"#REF!","v":{"$error":"#REF!"}},{"$f":"#REF!","v":{"$error":"#REF!"}},{"$f":"#REF!","v":{"$error":"#REF!"}},{"$f":"#REF!","v":{"$error":"#REF!"}},{"$f":"#REF!","v":{"$error":"#REF!"}},{"$f":"#REF!","v":{"$error":"#REF!"}},{"$f":"#REF!","v":{"$error":"#REF!"}},{"$f":"#REF!","v":{"$error":"#REF!"}},{"$error":"#REF!"},null,{"$f":"#REF!","v":{"$error":"#REF!"}},{"$f":"#REF!","v":{"$error":"#REF!"}},{"$f":"#REF!","v":{"$error":"#REF!"}},{"$f":"#REF!","v":{"$error":"#REF!"}},null,{"$f":"#REF!","v":{"$error":"#REF!"}},{"$f":"#REF!","v":{"$error":"#REF!"}},{"$f":"#REF!","v":{"$error":"#REF!"}},{"$f":"#REF!","v":{"$error":"#REF!"}},{"$f":"#REF!","v":{"$error":"#REF!"}},{"$f":"#REF!","v":{"$error":"#REF!"}},{"$f":"#REF!","v":{"$error":"#REF!"}},{"$f":"#REF!","v":{"$error":"#REF!"}},{"$f":"#REF!","v":{"$error":"#REF!"}},{"$f":"#REF!","v":{"$error":"#REF!"}},{"$f":"#REF!","v":{"$error":"#REF!"}},{"$f":"#REF!","v":{"$error":"#REF!"}},{"$f":"#REF!","v":{"$error":"#REF!"}},{"$f":"#REF!","v":{"$error":"#REF!"}},{"$f":"#REF!","v":{"$error":"#REF!"}},{"$error":"#REF!"},null,{"$f":"#REF!","v":{"$error":"#REF!"}},{"$f":"#REF!","v":{"$error":"#REF!"}},{"$f":"#REF!","v":{"$error":"#REF!"}},{"$f":"#REF!","v":{"$error":"#REF!"}},{"$f":"#REF!","v":{"$error":"#REF!"}},{"$f":"#REF!","v":{"$error":"#REF!"}},{"$f":"#REF!","v":{"$error":"#REF!"}},null,{"$f":"#REF!","v":{"$error":"#REF!"}},{"$f":"#REF!","v":{"$error":"#REF!"}},{"$f":"#REF!","v":{"$error":"#REF!"}},{"$f":"#REF!","v":{"$error":"#REF!"}},{"$f":"#REF!-AW104","v":{"$error":"#REF!"}},{"$f":"#REF!","v":{"$error":"#REF!"}},{"$f":"#REF!","v":{"$error":"#REF!"}},{"$f":"#REF!","v":{"$error":"#REF!"}},{"$error":"#REF!"},{"$error":"#REF!"},{"$error":"#REF!"},{"$f":"VLOOKUP($A104,'5C1_NewType 2'!$A$7:$AX$46,COLUMN('5C1_NewType 2'!#REF!),FALSE)","v":{"$error":"#REF!"}},{"$error":"#REF!"},{"$error":"#REF!"},{"$f":"#REF!","v":{"$error":"#REF!"}},{"$error":"#REF!"}]
["WBQ001","WBQ001","New Harmony High School",{"$f":"#REF!","v":{"$error":"#REF!"}},null,{"$f":"#REF!","v":{"$error":"#REF!"}},null,null,{"$f":"#REF!","v":{"$error":"#REF!"}},{"$f":"#REF!","v":{"$error":"#REF!"}},{"$f":"#REF!","v":{"$error":"#REF!"}},{"$f":"#REF!","v":{"$error":"#REF!"}},{"$f":"#REF!","v":{"$error":"#REF!"}},{"$f":"#REF!","v":{"$error":"#REF!"}},{"$f":"#REF!","v":{"$error":"#REF!"}},{"$f":"#REF!","v":{"$error":"#REF!"}},{"$error":"#REF!"},null,{"$f":"#REF!","v":{"$error":"#REF!"}},{"$f":"#REF!","v":{"$error":"#REF!"}},{"$f":"#REF!","v":{"$error":"#REF!"}},{"$f":"#REF!","v":{"$error":"#REF!"}},null,{"$f":"#REF!","v":{"$error":"#REF!"}},{"$f":"#REF!","v":{"$error":"#REF!"}},{"$f":"#REF!","v":{"$error":"#REF!"}},{"$f":"#REF!","v":{"$error":"#REF!"}},{"$f":"#REF!","v":{"$error":"#REF!"}},{"$f":"#REF!","v":{"$error":"#REF!"}},{"$f":"#REF!","v":{"$error":"#REF!"}},{"$f":"#REF!","v":{"$error":"#REF!"}},{"$f":"#REF!","v":{"$error":"#REF!"}},{"$f":"#REF!","v":{"$error":"#REF!"}},{"$f":"#REF!","v":{"$error":"#REF!"}},{"$f":"#REF!","v":{"$error":"#REF!"}},{"$f":"#REF!","v":{"$error":"#REF!"}},{"$f":"#REF!","v":{"$error":"#REF!"}},{"$f":"#REF!","v":{"$error":"#REF!"}},{"$error":"#REF!"},null,{"$f":"#REF!","v":{"$error":"#REF!"}},{"$f":"#REF!","v":{"$error":"#REF!"}},{"$f":"#REF!","v":{"$error":"#REF!"}},{"$f":"#REF!","v":{"$error":"#REF!"}},{"$f":"#REF!","v":{"$error":"#REF!"}},{"$f":"#REF!","v":{"$error":"#REF!"}},{"$f":"#REF!","v":{"$error":"#REF!"}},null,{"$f":"#REF!","v":{"$error":"#REF!"}},{"$f":"#REF!","v":{"$error":"#REF!"}},{"$f":"#REF!","v":{"$error":"#REF!"}},{"$f":"#REF!","v":{"$error":"#REF!"}},{"$f":"#REF!-AW105","v":{"$error":"#REF!"}},{"$f":"#REF!","v":{"$error":"#REF!"}},{"$f":"#REF!","v":{"$error":"#REF!"}},{"$f":"#REF!","v":{"$error":"#REF!"}},{"$error":"#REF!"},{"$error":"#REF!"},{"$error":"#REF!"},{"$f":"VLOOKUP($A105,'5C1_NewType 2'!$A$7:$AX$46,COLUMN('5C1_NewType 2'!#REF!),FALSE)","v":{"$error":"#REF!"}},{"$error":"#REF!"},{"$error":"#REF!"},{"$f":"#REF!","v":{"$error":"#REF!"}},{"$error":"#REF!"}]
["WBR001","WBR001","Athlos Academy of Jefferson Parish",{"$f":"#REF!","v":{"$error":"#REF!"}},null,{"$f":"#REF!","v":{"$error":"#REF!"}},null,null,{"$f":"#REF!","v":{"$error":"#REF!"}},{"$f":"#REF!","v":{"$error":"#REF!"}},{"$f":"#REF!","v":{"$error":"#REF!"}},{"$f":"#REF!","v":{"$error":"#REF!"}},{"$f":"#REF!","v":{"$error":"#REF!"}},{"$f":"#REF!","v":{"$error":"#REF!"}},{"$f":"#REF!","v":{"$error":"#REF!"}},{"$f":"#REF!","v":{"$error":"#REF!"}},{"$error":"#REF!"},null,{"$f":"#REF!","v":{"$error":"#REF!"}},{"$f":"#REF!","v":{"$error":"#REF!"}},{"$f":"#REF!","v":{"$error":"#REF!"}},{"$f":"#REF!","v":{"$error":"#REF!"}},null,{"$f":"#REF!","v":{"$error":"#REF!"}},{"$f":"#REF!","v":{"$error":"#REF!"}},{"$f":"#REF!","v":{"$error":"#REF!"}},{"$f":"#REF!","v":{"$error":"#REF!"}},{"$f":"#REF!","v":{"$error":"#REF!"}},{"$f":"#REF!","v":{"$error":"#REF!"}},{"$f":"#REF!","v":{"$error":"#REF!"}},{"$f":"#REF!","v":{"$error":"#REF!"}},{"$f":"#REF!","v":{"$error":"#REF!"}},{"$f":"#REF!","v":{"$error":"#REF!"}},{"$f":"#REF!","v":{"$error":"#REF!"}},{"$f":"#REF!","v":{"$error":"#REF!"}},{"$f":"#REF!","v":{"$error":"#REF!"}},{"$f":"#REF!","v":{"$error":"#REF!"}},{"$f":"#REF!","v":{"$error":"#REF!"}},{"$error":"#REF!"},null,{"$f":"#REF!","v":{"$error":"#REF!"}},{"$f":"#REF!","v":{"$error":"#REF!"}},{"$f":"#REF!","v":{"$error":"#REF!"}},{"$f":"#REF!","v":{"$error":"#REF!"}},{"$f":"#REF!","v":{"$error":"#REF!"}},{"$f":"#REF!","v":{"$error":"#REF!"}},{"$f":"#REF!","v":{"$error":"#REF!"}},null,{"$f":"#REF!","v":{"$error":"#REF!"}},{"$f":"#REF!","v":{"$error":"#REF!"}},{"$f":"#REF!","v":{"$error":"#REF!"}},{"$f":"#REF!","v":{"$error":"#REF!"}},{"$f":"#REF!-AW106","v":{"$error":"#REF!"}},{"$f":"#REF!","v":{"$error":"#REF!"}},{"$f":"#REF!","v":{"$error":"#REF!"}},{"$f":"#REF!","v":{"$error":"#REF!"}},{"$error":"#REF!"},{"$error":"#REF!"},{"$error":"#REF!"},{"$f":"VLOOKUP($A106,'5C1_NewType 2'!$A$7:$AX$46,COLUMN('5C1_NewType 2'!#REF!),FALSE)","v":{"$error":"#REF!"}},{"$error":"#REF!"},{"$error":"#REF!"},{"$f":"#REF!","v":{"$error":"#REF!"}},{"$error":"#REF!"}]
["WBX001","WBX001","GEO Next Generation HS ",{"$f":"#REF!","v":{"$error":"#REF!"}},null,{"$f":"#REF!","v":{"$error":"#REF!"}},null,null,{"$f":"#REF!","v":{"$error":"#REF!"}},{"$f":"#REF!","v":{"$error":"#REF!"}},{"$f":"#REF!","v":{"$error":"#REF!"}},{"$f":"#REF!","v":{"$error":"#REF!"}},{"$f":"#REF!","v":{"$error":"#REF!"}},{"$f":"#REF!","v":{"$error":"#REF!"}},{"$f":"#REF!","v":{"$error":"#REF!"}},{"$f":"#REF!","v":{"$error":"#REF!"}},{"$error":"#REF!"},null,{"$f":"#REF!","v":{"$error":"#REF!"}},{"$f":"#REF!","v":{"$error":"#REF!"}},{"$f":"#REF!","v":{"$error":"#REF!"}},{"$f":"#REF!","v":{"$error":"#REF!"}},null,{"$f":"#REF!","v":{"$error":"#REF!"}},{"$f":"#REF!","v":{"$error":"#REF!"}},{"$f":"#REF!","v":{"$error":"#REF!"}},{"$f":"#REF!","v":{"$error":"#REF!"}},{"$f":"#REF!","v":{"$error":"#REF!"}},{"$f":"#REF!","v":{"$error":"#REF!"}},{"$f":"#REF!","v":{"$error":"#REF!"}},{"$f":"#REF!","v":{"$error":"#REF!"}},{"$f":"#REF!","v":{"$error":"#REF!"}},{"$f":"#REF!","v":{"$error":"#REF!"}},{"$f":"#REF!","v":{"$error":"#REF!"}},{"$f":"#REF!","v":{"$error":"#REF!"}},{"$f":"#REF!","v":{"$error":"#REF!"}},{"$f":"#REF!","v":{"$error":"#REF!"}},{"$f":"#REF!","v":{"$error":"#REF!"}},{"$error":"#REF!"},null,{"$f":"#REF!","v":{"$error":"#REF!"}},{"$f":"#REF!","v":{"$error":"#REF!"}},{"$f":"#REF!","v":{"$error":"#REF!"}},{"$f":"#REF!","v":{"$error":"#REF!"}},{"$f":"#REF!","v":{"$error":"#REF!"}},{"$f":"#REF!","v":{"$error":"#REF!"}},{"$f":"#REF!","v":{"$error":"#REF!"}},null,{"$f":"#REF!","v":{"$error":"#REF!"}},{"$f":"#REF!","v":{"$error":"#REF!"}},{"$f":"#REF!","v":{"$error":"#REF!"}},{"$f":"#REF!","v":{"$error":"#REF!"}},{"$f":"#REF!-AW107","v":{"$error":"#REF!"}},{"$f":"#REF!","v":{"$error":"#REF!"}},{"$f":"#REF!","v":{"$error":"#REF!"}},{"$f":"#REF!","v":{"$error":"#REF!"}},{"$error":"#REF!"},{"$error":"#REF!"},{"$error":"#REF!"},{"$f":"VLOOKUP($A107,'5C1_NewType 2'!$A$7:$AX$46,COLUMN('5C1_NewType 2'!#REF!),FALSE)","v":{"$error":"#REF!"}},{"$error":"#REF!"},{"$error":"#REF!"},{"$f":"#REF!","v":{"$error":"#REF!"}},{"$error":"#REF!"}]
["WBY001","WBY001","Red River Charter Academy",{"$f":"#REF!","v":{"$error":"#REF!"}},null,{"$f":"#REF!","v":{"$error":"#REF!"}},null,null,{"$f":"#REF!","v":{"$error":"#REF!"}},{"$f":"#REF!","v":{"$error":"#REF!"}},{"$f":"#REF!","v":{"$error":"#REF!"}},{"$f":"#REF!","v":{"$error":"#REF!"}},{"$f":"#REF!","v":{"$error":"#REF!"}},{"$f":"#REF!","v":{"$error":"#REF!"}},{"$f":"#REF!","v":{"$error":"#REF!"}},{"$f":"#REF!","v":{"$error":"#REF!"}},{"$error":"#REF!"},null,{"$f":"#REF!","v":{"$error":"#REF!"}},{"$f":"#REF!","v":{"$error":"#REF!"}},{"$f":"#REF!","v":{"$error":"#REF!"}},{"$f":"#REF!","v":{"$error":"#REF!"}},null,{"$f":"#REF!","v":{"$error":"#REF!"}},{"$f":"#REF!","v":{"$error":"#REF!"}},{"$f":"#REF!","v":{"$error":"#REF!"}},{"$f":"#REF!","v":{"$error":"#REF!"}},{"$f":"#REF!","v":{"$error":"#REF!"}},{"$f":"#REF!","v":{"$error":"#REF!"}},{"$f":"#REF!","v":{"$error":"#REF!"}},{"$f":"#REF!","v":{"$error":"#REF!"}},{"$f":"#REF!","v":{"$error":"#REF!"}},{"$f":"#REF!","v":{"$error":"#REF!"}},{"$f":"#REF!","v":{"$error":"#REF!"}},{"$f":"#REF!","v":{"$error":"#REF!"}},{"$f":"#REF!","v":{"$error":"#REF!"}},{"$f":"#REF!","v":{"$error":"#REF!"}},{"$f":"#REF!","v":{"$error":"#REF!"}},{"$error":"#REF!"},null,{"$f":"#REF!","v":{"$error":"#REF!"}},{"$f":"#REF!","v":{"$error":"#REF!"}},{"$f":"#REF!","v":{"$error":"#REF!"}},{"$f":"#REF!","v":{"$error":"#REF!"}},{"$f":"#REF!","v":{"$error":"#REF!"}},{"$f":"#REF!","v":{"$error":"#REF!"}},{"$f":"#REF!","v":{"$error":"#REF!"}},null,{"$f":"#REF!","v":{"$error":"#REF!"}},{"$f":"#REF!","v":{"$error":"#REF!"}},{"$f":"#REF!","v":{"$error":"#REF!"}},{"$f":"#REF!","v":{"$error":"#REF!"}},{"$f":"#REF!-AW108","v":{"$error":"#REF!"}},{"$f":"#REF!","v":{"$error":"#REF!"}},{"$f":"#REF!","v":{"$error":"#REF!"}},{"$f":"#REF!","v":{"$error":"#REF!"}},{"$error":"#REF!"},{"$error":"#REF!"},{"$error":"#REF!"},{"$f":"VLOOKUP($A108,'5C1_NewType 2'!$A$7:$AX$46,COLUMN('5C1_NewType 2'!#REF!),FALSE)","v":{"$error":"#REF!"}},{"$error":"#REF!"},{"$error":"#REF!"},{"$f":"#REF!","v":{"$error":"#REF!"}},{"$error":"#REF!"}]
["WJ5001","WJ5001","Collegiate Academies",{"$f":"#REF!","v":{"$error":"#REF!"}},null,{"$f":"#REF!","v":{"$error":"#REF!"}},null,null,{"$f":"#REF!","v":{"$error":"#REF!"}},{"$f":"#REF!","v":{"$error":"#REF!"}},{"$f":"#REF!","v":{"$error":"#REF!"}},{"$f":"#REF!","v":{"$error":"#REF!"}},{"$f":"#REF!","v":{"$error":"#REF!"}},{"$f":"#REF!","v":{"$error":"#REF!"}},{"$f":"#REF!","v":{"$error":"#REF!"}},{"$f":"#REF!","v":{"$error":"#REF!"}},{"$error":"#REF!"},null,{"$f":"#REF!","v":{"$error":"#REF!"}},{"$f":"#REF!","v":{"$error":"#REF!"}},{"$f":"#REF!","v":{"$error":"#REF!"}},{"$f":"#REF!","v":{"$error":"#REF!"}},null,{"$f":"#REF!","v":{"$error":"#REF!"}},{"$f":"#REF!","v":{"$error":"#REF!"}},{"$f":"#REF!","v":{"$error":"#REF!"}},{"$f":"#REF!","v":{"$error":"#REF!"}},{"$f":"#REF!","v":{"$error":"#REF!"}},{"$f":"#REF!","v":{"$error":"#REF!"}},{"$f":"#REF!","v":{"$error":"#REF!"}},{"$f":"#REF!","v":{"$error":"#REF!"}},{"$f":"#REF!","v":{"$error":"#REF!"}},{"$f":"#REF!","v":{"$error":"#REF!"}},{"$f":"#REF!","v":{"$error":"#REF!"}},{"$f":"#REF!","v":{"$error":"#REF!"}},{"$f":"#REF!","v":{"$error":"#REF!"}},{"$f":"#REF!","v":{"$error":"#REF!"}},{"$f":"#REF!","v":{"$error":"#REF!"}},{"$error":"#REF!"},null,{"$f":"#REF!","v":{"$error":"#REF!"}},{"$f":"#REF!","v":{"$error":"#REF!"}},{"$f":"#REF!","v":{"$error":"#REF!"}},{"$f":"#REF!","v":{"$error":"#REF!"}},{"$f":"#REF!","v":{"$error":"#REF!"}},{"$f":"#REF!","v":{"$error":"#REF!"}},{"$f":"#REF!","v":{"$error":"#REF!"}},null,{"$f":"#REF!","v":{"$error":"#REF!"}},{"$f":"#REF!","v":{"$error":"#REF!"}},{"$f":"#REF!","v":{"$error":"#REF!"}},{"$f":"#REF!","v":{"$error":"#REF!"}},{"$f":"#REF!-AW109","v":{"$error":"#REF!"}},{"$f":"#REF!","v":{"$error":"#REF!"}},{"$f":"#REF!","v":{"$error":"#REF!"}},{"$f":"#REF!","v":{"$error":"#REF!"}},{"$error":"#REF!"},{"$error":"#REF!"},{"$error":"#REF!"},{"$f":"VLOOKUP($A109,'5C1_NewType 2'!$A$7:$AX$46,COLUMN('5C1_NewType 2'!#REF!),FALSE)","v":{"$error":"#REF!"}},{"$error":"#REF!"},{"$error":"#REF!"},{"$f":"#REF!","v":{"$error":"#REF!"}},{"$error":"#REF!"}]
["WZ8001","3A3001","GEO Prep Mid-City of Great BR",{"$f":"#REF!","v":{"$error":"#REF!"}},null,{"$f":"#REF!","v":{"$error":"#REF!"}},null,null,{"$f":"#REF!","v":{"$error":"#REF!"}},{"$f":"#REF!","v":{"$error":"#REF!"}},{"$f":"#REF!","v":{"$error":"#REF!"}},{"$f":"#REF!","v":{"$error":"#REF!"}},{"$f":"#REF!","v":{"$error":"#REF!"}},{"$f":"#REF!","v":{"$error":"#REF!"}},{"$f":"#REF!","v":{"$error":"#REF!"}},{"$f":"#REF!","v":{"$error":"#REF!"}},{"$error":"#REF!"},null,{"$f":"#REF!","v":{"$error":"#REF!"}},{"$f":"#REF!","v":{"$error":"#REF!"}},{"$f":"#REF!","v":{"$error":"#REF!"}},{"$f":"#REF!","v":{"$error":"#REF!"}},null,{"$f":"#REF!","v":{"$error":"#REF!"}},{"$f":"#REF!","v":{"$error":"#REF!"}},{"$f":"#REF!","v":{"$error":"#REF!"}},{"$f":"#REF!","v":{"$error":"#REF!"}},{"$f":"#REF!","v":{"$error":"#REF!"}},{"$f":"#REF!","v":{"$error":"#REF!"}},{"$f":"#REF!","v":{"$error":"#REF!"}},{"$f":"#REF!","v":{"$error":"#REF!"}},{"$f":"#REF!","v":{"$error":"#REF!"}},{"$f":"#REF!","v":{"$error":"#REF!"}},{"$f":"#REF!","v":{"$error":"#REF!"}},{"$f":"#REF!","v":{"$error":"#REF!"}},{"$f":"#REF!","v":{"$error":"#REF!"}},{"$f":"#REF!","v":{"$error":"#REF!"}},{"$f":"#REF!","v":{"$error":"#REF!"}},{"$error":"#REF!"},null,{"$f":"#REF!","v":{"$error":"#REF!"}},{"$f":"#REF!","v":{"$error":"#REF!"}},{"$f":"#REF!","v":{"$error":"#REF!"}},{"$f":"#REF!","v":{"$error":"#REF!"}},{"$f":"#REF!","v":{"$error":"#REF!"}},{"$f":"#REF!","v":{"$error":"#REF!"}},{"$f":"#REF!","v":{"$error":"#REF!"}},null,{"$f":"#REF!","v":{"$error":"#REF!"}},{"$f":"#REF!","v":{"$error":"#REF!"}},{"$f":"#REF!","v":{"$error":"#REF!"}},{"$f":"#REF!","v":{"$error":"#REF!"}},{"$f":"#REF!-AW110","v":{"$error":"#REF!"}},{"$f":"#REF!","v":{"$error":"#REF!"}},{"$f":"#REF!","v":{"$error":"#REF!"}},{"$f":"#REF!","v":{"$error":"#REF!"}},{"$error":"#REF!"},{"$error":"#REF!"},{"$error":"#REF!"},{"$f":"VLOOKUP($A110,'5C1_NewType 2'!$A$7:$AX$46,COLUMN('5C1_NewType 2'!#REF!),FALSE)","v":{"$error":"#REF!"}},{"$error":"#REF!"},{"$error":"#REF!"},{"$f":"#REF!","v":{"$error":"#REF!"}},{"$error":"#REF!"}]
[null,null,"Total New Type 2 Charter Schools",{"$f":"SUM(D78:D110)","v":{"$error":"#REF!"}},null,{"$f":"SUM(F78:F110)","v":{"$error":"#REF!"}},null,{"$f":"SUM(H78:H110)","v":0},{"$error":"#REF!"},{"$error":"#REF!"},{"$error":"#REF!"},{"$error":"#REF!"},{"$error":"#REF!"},{"$error":"#REF!"},{"$error":"#REF!"},{"$error":"#REF!"},{"$error":"#REF!"},{"$error":"#REF!"},{"$error":"#REF!"},{"$error":"#REF!"},{"$error":"#REF!"},{"$error":"#REF!"},0,{"$error":"#REF!"},{"$error":"#REF!"},{"$error":"#REF!"},{"$error":"#REF!"},{"$error":"#REF!"},{"$error":"#REF!"},{"$error":"#REF!"},{"$error":"#REF!"},{"$error":"#REF!"},{"$error":"#REF!"},{"$error":"#REF!"},{"$error":"#REF!"},{"$error":"#REF!"},{"$error":"#REF!"},{"$f":"SUM(AL78:AL110)","v":{"$error":"#REF!"}},{"$f":"SUM(AM78:AM110)","v":{"$error":"#REF!"}},null,{"$f":"SUM(AO78:AO110)","v":{"$error":"#REF!"}},{"$error":"#REF!"},{"$error":"#REF!"},{"$error":"#REF!"},{"$error":"#REF!"},{"$error":"#REF!"},{"$error":"#REF!"},0,{"$error":"#REF!"},{"$error":"#REF!"},{"$error":"#REF!"},{"$error":"#REF!"},{"$error":"#REF!"},{"$error":"#REF!"},{"$error":"#REF!"},{"$error":"#REF!"},{"$error":"#REF!"},{"$error":"#REF!"},{"$error":"#REF!"},{"$error":"#REF!"},{"$error":"#REF!"},{"$error":"#REF!"},{"$error":"#REF!"},{"$error":"#REF!"}]
[]
[396211,"WX1001","Linwood Public Charter (RSD Operated)",{"$f":"'5B2_RSD LA'!D7","v":991},{"$f":"'5B2_RSD LA'!E7","v":4656.7590826723699},{"$f":"'5B2_RSD LA'!F7","v":4614848.2509283181},{"$f":"'5B2_RSD LA'!G7","v":744.76},{"$f":"'5B2_RSD LA'!H7","v":738057.16},null,null,null,null,null,null,null,null,{"$f":"F113+H113+J113+L113+N113+P113","v":5352905.4109283183},null,{"$f":"'5B2_RSD LA'!J7","v":0},{"$f":"'5B2_RSD LA'!K7","v":0},{"$f":"'5B2_RSD LA'!L7","v":0},{"$f":"'5B2_RSD LA'!M7","v":5352905},{"$f":"'5B2_RSD LA'!N7","v":0},{"$f":"'5B2_RSD LA'!O7","v":0},{"$f":"'5B2_RSD LA'!Q7","v":5352905},{"$f":"'5B2_RSD LA'!R7","v":0},{"$f":"'5B2_RSD LA'!T7","v":0},{"$f":"'5B2_RSD LA'!U7","v":16940},{"$f":"'5B2_RSD LA'!V7","v":143322},{"$f":"'5B2_RSD LA'!W7","v":114657},{"$f":"'5B2_RSD LA'!Y7","v":5842807},{"$f":"'5B2_RSD LA'!Z7","v":0},{"$f":"'5B2_RSD LA'!AA7","v":5842807},{"$f":"'5B2_RSD LA'!AB7","v":486901},{"$f":"'5B2_RSD LA'!AC7","v":0},{"$f":"'5B2_RSD LA'!AD7","v":0},{"$f":"'5B2_RSD LA'!AE7","v":0},{"$f":"'5B2_RSD LA'!AG7","v":5842807},{"$f":"AL113-W113-X113","v":5842807},{"$f":"'5B2_RSD LA'!AH7","v":6799},{"$f":"'5B2_RSD LA'!AI7","v":6737809},{"$f":"'5B2_RSD LA'!AJ7","v":0},{"$f":"'5B2_RSD LA'!AK7","v":0},{"$f":"'5B2_RSD LA'!AL7","v":0},{"$f":"'5B2_RSD LA'!AM7","v":0},{"$f":"'5B2_RSD LA'!AN7","v":0},{"$f":"'5B2_RSD LA'!AO7","v":6737809},{"$f":"'5B2_RSD LA'!AP7","v":0},{"$f":"'5B2_RSD LA'!AQ7","v":0},{"$f":"'5B2_RSD LA'!AS7","v":6737809},{"$f":"'5B2_RSD LA'!AT7","v":0},{"$f":"'5B2_RSD LA'!$AU$7","v":6737809},{"$f":"'5B2_RSD LA'!$AU$7-AV113-AW113","v":6737809},{"$f":"'5B2_RSD LA'!AV7","v":0},{"$f":"'5B2_RSD LA'!AW7","v":6737809},{"$f":"'5B2_RSD LA'!AX7","v":561484},{"$f":"AM113+BA113","v":12580616},{"$f":"AH113+BD113","v":1048385},{"$f":"-W120","v":{"$error":"#REF!"}},125292,{"$f":"BG113-BH113","v":{"$error":"#REF!"}},{"$f":"-AV120","v":{"$error":"#REF!"}},197714,{"$f":"BJ113-BK113","v":{"$error":"#REF!"}},"1.75 to RSD"]
["WA7001","W9B001","Capitol High School (RSD Operated)",{"$f":"'5B2_RSD LA'!D8","v":300},{"$f":"'5B2_RSD LA'!E8","v":3630.0147926986497},{"$f":"'5B2_RSD LA'!F8","v":1089004.4378095949},{"$f":"'5B2_RSD LA'!G8","v":801.48},{"$f":"'5B2_RSD LA'!H8","v":240444},null,null,null,null,null,null,null,null,1329448.4378095949,null,{"$f":"'5B2_RSD LA'!J8","v":0},{"$f":"'5B2_RSD LA'!K8","v":0},{"$f":"'5B2_RSD LA'!L8","v":0},{"$f":"'5B2_RSD LA'!M8","v":1329448},{"$f":"'5B2_RSD LA'!N8","v":0},{"$f":"'5B2_RSD LA'!O8","v":0},{"$f":"'5B2_RSD LA'!Q8","v":1329448},{"$f":"'5B2_RSD LA'!R8","v":0},{"$f":"'5B2_RSD LA'!T8","v":0},{"$f":"'5B2_RSD LA'!U8","v":5250},{"$f":"'5B2_RSD LA'!V8","v":37971},{"$f":"'5B2_RSD LA'!W8","v":30379},{"$f":"'5B2_RSD LA'!Y8","v":1460004},{"$f":"'5B2_RSD LA'!Z8","v":0},{"$f":"'5B2_RSD LA'!AA8","v":1460004},{"$f":"'5B2_RSD LA'!AB8","v":121667},{"$f":"'5B2_RSD LA'!AC8","v":0},{"$f":"'5B2_RSD LA'!AD8","v":0},{"$f":"'5B2_RSD LA'!AE8","v":0},{"$f":"'5B2_RSD LA'!AG8","v":1460004},1460004,{"$f":"'5B2_RSD LA'!AH8","v":8716},{"$f":"'5B2_RSD LA'!AI8","v":2614800},{"$f":"'5B2_RSD LA'!AJ8","v":0},{"$f":"'5B2_RSD LA'!AK8","v":0},{"$f":"'5B2_RSD LA'!AL8","v":0},{"$f":"'5B2_RSD LA'!AM8","v":0},{"$f":"'5B2_RSD LA'!AN8","v":0},{"$f":"'5B2_RSD LA'!AO8","v":2614800},{"$f":"'5B2_RSD LA'!AP8","v":0},{"$f":"'5B2_RSD LA'!AQ8","v":0},{"$f":"'5B2_RSD LA'!AS8","v":2614800},{"$f":"'5B2_RSD LA'!AT8","v":0},{"$f":"'5B2_RSD LA'!$AU$8","v":2614800},{"$f":"'5B2_RSD LA'!$AU8-AV114-AW114","v":2614800},{"$f":"'5B2_RSD LA'!AV8","v":0},{"$f":"'5B2_RSD LA'!AW8","v":2614800},{"$f":"'5B2_RSD LA'!AX8","v":217900},4074804,339567]
["WAO001","3AP003","Celerity Dalton Charter School",{"$f":"'5B2_RSD LA'!D11","v":161},{"$f":"'5B2_RSD LA'!E11","v":3630.0147926986497},{"$f":"'5B2_RSD LA'!F11","v":584432.38162448257},{"$f":"'5B2_RSD LA'!G11","v":801.48},{"$f":"'5B2_RSD LA'!H11","v":129038.28},null,null,null,null,null,null,null,null,713470.6616244826,null,{"$f":"'5B2_RSD LA'!J11","v":0},{"$f":"'5B2_RSD LA'!K11","v":0},{"$f":"'5B2_RSD LA'!L11","v":0},{"$f":"'5B2_RSD LA'!M11","v":713471},{"$f":"'5B2_RSD LA'!N11","v":-12486},{"$f":"'5B2_RSD LA'!O11","v":-1784},{"$f":"'5B2_RSD LA'!Q11","v":699201},{"$f":"'5B2_RSD LA'!R11","v":0},{"$f":"'5B2_RSD LA'!T11","v":0},{"$f":"'5B2_RSD LA'!U11","v":0},{"$f":"'5B2_RSD LA'!V11","v":31135},{"$f":"'5B2_RSD LA'!W11","v":24908},{"$f":"'5B2_RSD LA'!Y11","v":801947},{"$f":"'5B2_RSD LA'!Z11","v":0},{"$f":"'5B2_RSD LA'!AA11","v":801947},{"$f":"'5B2_RSD LA'!AB11","v":66829},{"$f":"'5B2_RSD LA'!AC11","v":0},{"$f":"'5B2_RSD LA'!AD11","v":0},{"$f":"'5B2_RSD LA'!AE11","v":0},{"$f":"'5B2_RSD LA'!AG11","v":801947},816217,{"$f":"'5B2_RSD LA'!AH11","v":8716},{"$f":"'5B2_RSD LA'!AI11","v":1403276},{"$f":"'5B2_RSD LA'!AJ11","v":0},{"$f":"'5B2_RSD LA'!AK11","v":0},{"$f":"'5B2_RSD LA'!AL11","v":0},{"$f":"'5B2_RSD LA'!AM11","v":0},{"$f":"'5B2_RSD LA'!AN11","v":0},{"$f":"'5B2_RSD LA'!AO11","v":1403276},{"$f":"'5B2_RSD LA'!AP11","v":-24557},{"$f":"'5B2_RSD LA'!AQ11","v":-3508},{"$f":"'5B2_RSD LA'!AS11","v":1375211},{"$f":"'5B2_RSD LA'!AT11","v":0},{"$f":"'5B2_RSD LA'!$AU$11","v":1375211},{"$f":"'5B2_RSD LA'!$AU11-AV115-AW115","v":1403276},{"$f":"'5B2_RSD LA'!AV11","v":0},{"$f":"'5B2_RSD LA'!AW11","v":1375211},{"$f":"'5B2_RSD LA'!AX11","v":114601},2219493,181430,{"$f":"-X115","v":1784},2480,{"$f":"BG115-BH115","v":-696},{"$f":"-AW115","v":3508},3914,{"$f":"BJ115-BK115","v":-406}]
["WAP001","3AP001","Celerity Lanier Charter School",{"$f":"'5B2_RSD LA'!D12","v":161},{"$f":"'5B2_RSD LA'!E12","v":3630.0147926986497},{"$f":"'5B2_RSD LA'!F12","v":584432.38162448257},{"$f":"'5B2_RSD LA'!G12","v":801.48},{"$f":"'5B2_RSD LA'!H12","v":129038.28},null,null,null,null,null,null,null,null,713470.6616244826,null,{"$f":"'5B2_RSD LA'!J12","v":0},{"$f":"'5B2_RSD LA'!K12","v":0},{"$f":"'5B2_RSD LA'!L12","v":0},{"$f":"'5B2_RSD LA'!M12","v":713471},{"$f":"'5B2_RSD LA'!N12","v":-12486},{"$f":"'5B2_RSD LA'!O12","v":-1784},{"$f":"'5B2_RSD LA'!Q12","v":699201},{"$f":"'5B2_RSD LA'!R12","v":0},{"$f":"'5B2_RSD LA'!T12","v":0},{"$f":"'5B2_RSD LA'!U12","v":0},{"$f":"'5B2_RSD LA'!V12","v":50034},{"$f":"'5B2_RSD LA'!W12","v":40027},{"$f":"'5B2_RSD LA'!Y12","v":864312},{"$f":"'5B2_RSD LA'!Z12","v":0},{"$f":"'5B2_RSD LA'!AA12","v":864312},{"$f":"'5B2_RSD LA'!AB12","v":72026},{"$f":"'5B2_RSD LA'!AC12","v":0},{"$f":"'5B2_RSD LA'!AD12","v":0},{"$f":"'5B2_RSD LA'!AE12","v":0},{"$f":"'5B2_RSD LA'!AG12","v":864312},878582,{"$f":"'5B2_RSD LA'!AH12","v":8716},{"$f":"'5B2_RSD LA'!AI12","v":1403276},{"$f":"'5B2_RSD LA'!AJ12","v":0},{"$f":"'5B2_RSD LA'!AK12","v":0},{"$f":"'5B2_RSD LA'!AL12","v":0},{"$f":"'5B2_RSD LA'!AM12","v":0},{"$f":"'5B2_RSD LA'!AN12","v":0},{"$f":"'5B2_RSD LA'!AO12","v":1403276},{"$f":"'5B2_RSD LA'!AP12","v":-24557},{"$f":"'5B2_RSD LA'!AQ12","v":-3508},{"$f":"'5B2_RSD LA'!AS12","v":1375211},{"$f":"'5B2_RSD LA'!AT12","v":0},{"$f":"'5B2_RSD LA'!$AU$12","v":1375211},{"$f":"'5B2_RSD LA'!$AU12-AV116-AW116","v":1403276},{"$f":"'5B2_RSD LA'!AV12","v":0},{"$f":"'5B2_RSD LA'!AW12","v":1375211},{"$f":"'5B2_RSD LA'!AX12","v":114601},2281858,186627,{"$f":"-X116","v":1784},2733,{"$f":"BG116-BH116","v":-949},{"$f":"-AW116","v":3508},4312,{"$f":"BJ116-BK116","v":-804}]
["WAV001","WAV001","Democracy Prep",{"$f":"'5B2_RSD LA'!#REF!","v":{"$error":"#REF!"}},{"$f":"'5B2_RSD LA'!#REF!","v":{"$error":"#REF!"}},{"$f":"'5B2_RSD LA'!#REF!","v":{"$error":"#REF!"}},{"$f":"'5B2_RSD LA'!#REF!","v":{"$error":"#REF!"}},{"$f":"'5B2_RSD LA'!#REF!","v":{"$error":"#REF!"}},null,null,null,null,null,null,null,null,{"$error":"#REF!"},null,{"$f":"'5B2_RSD LA'!#REF!","v":{"$error":"#REF!"}},{"$f":"'5B2_RSD LA'!#REF!","v":{"$error":"#REF!"}},{"$f":"'5B2_RSD LA'!#REF!","v":{"$error":"#REF!"}},{"$f":"'5B2_RSD LA'!#REF!","v":{"$error":"#REF!"}},{"$f":"'5B2_RSD LA'!#REF!","v":{"$error":"#REF!"}},{"$f":"'5B2_RSD LA'!#REF!","v":{"$error":"#REF!"}},{"$f":"'5B2_RSD LA'!#REF!","v":{"$error":"#REF!"}},{"$f":"'5B2_RSD LA'!#REF!","v":{"$error":"#REF!"}},{"$f":"'5B2_RSD LA'!#REF!","v":{"$error":"#REF!"}},{"$f":"'5B2_RSD LA'!#REF!","v":{"$error":"#REF!"}},{"$f":"'5B2_RSD LA'!#REF!","v":{"$error":"#REF!"}},{"$f":"'5B2_RSD LA'!#REF!","v":{"$error":"#REF!"}},{"$f":"'5B2_RSD LA'!#REF!","v":{"$error":"#REF!"}},{"$f":"'5B2_RSD LA'!#REF!","v":{"$error":"#REF!"}},{"$f":"'5B2_RSD LA'!#REF!","v":{"$error":"#REF!"}},{"$f":"'5B2_RSD LA'!#REF!","v":{"$error":"#REF!"}},{"$f":"'5B2_RSD LA'!#REF!","v":{"$error":"#REF!"}},{"$f":"'5B2_RSD LA'!#REF!","v":{"$error":"#REF!"}},{"$f":"'5B2_RSD LA'!#REF!","v":{"$error":"#REF!"}},{"$f":"'5B2_RSD LA'!#REF!","v":{"$error":"#REF!"}},{"$error":"#REF!"},{"$f":"'5B2_RSD LA'!#REF!","v":{"$error":"#REF!"}},{"$f":"'5B2_RSD LA'!#REF!","v":{"$error":"#REF!"}},{"$f":"'5B2_RSD LA'!#REF!","v":{"$error":"#REF!"}},{"$f":"'5B2_RSD LA'!#REF!","v":{"$error":"#REF!"}},{"$f":"'5B2_RSD LA'!#REF!","v":{"$error":"#REF!"}},{"$f":"'5B2_RSD LA'!#REF!","v":{"$error":"#REF!"}},{"$f":"'5B2_RSD LA'!#REF!","v":{"$error":"#REF!"}},{"$f":"'5B2_RSD LA'!#REF!","v":{"$error":"#REF!"}},{"$f":"'5B2_RSD LA'!#REF!","v":{"$error":"#REF!"}},{"$f":"'5B2_RSD LA'!#REF!","v":{"$error":"#REF!"}},{"$f":"'5B2_RSD LA'!#REF!","v":{"$error":"#REF!"}},{"$f":"'5B2_RSD LA'!#REF!","v":{"$error":"#REF!"}},{"$f":"'5B2_RSD LA'!#REF!","v":{"$error":"#REF!"}},{"$f":"'5B2_RSD LA'!#REF!-AV117-AW117","v":{"$error":"#REF!"}},{"$f":"'5B2_RSD LA'!#REF!","v":{"$error":"#REF!"}},{"$f":"'5B2_RSD LA'!#REF!","v":{"$error":"#REF!"}},{"$f":"'5B2_RSD LA'!#REF!","v":{"$error":"#REF!"}},{"$error":"#REF!"},{"$error":"#REF!"},{"$f":"-X117","v":{"$error":"#REF!"}},5761,{"$f":"BG117-BH117","v":{"$error":"#REF!"}},{"$f":"-AW117","v":{"$error":"#REF!"}},9092,{"$f":"BJ117-BK117","v":{"$error":"#REF!"}}]
["WB2001",389002,"Kenilworth Middle",{"$f":"'5B2_RSD LA'!#REF!","v":{"$error":"#REF!"}},{"$f":"'5B2_RSD LA'!#REF!","v":{"$error":"#REF!"}},{"$f":"'5B2_RSD LA'!#REF!","v":{"$error":"#REF!"}},{"$f":"'5B2_RSD LA'!#REF!","v":{"$error":"#REF!"}},{"$f":"'5B2_RSD LA'!#REF!","v":{"$error":"#REF!"}},null,null,null,null,null,null,null,null,{"$error":"#REF!"},null,{"$f":"'5B2_RSD LA'!#REF!","v":{"$error":"#REF!"}},{"$f":"'5B2_RSD LA'!#REF!","v":{"$error":"#REF!"}},{"$f":"'5B2_RSD LA'!#REF!","v":{"$error":"#REF!"}},{"$f":"'5B2_RSD LA'!#REF!","v":{"$error":"#REF!"}},{"$f":"'5B2_RSD LA'!#REF!","v":{"$error":"#REF!"}},{"$f":"'5B2_RSD LA'!#REF!","v":{"$error":"#REF!"}},{"$f":"'5B2_RSD LA'!#REF!","v":{"$error":"#REF!"}},{"$f":"'5B2_RSD LA'!#REF!","v":{"$error":"#REF!"}},{"$f":"'5B2_RSD LA'!#REF!","v":{"$error":"#REF!"}},{"$f":"'5B2_RSD LA'!#REF!","v":{"$error":"#REF!"}},{"$f":"'5B2_RSD LA'!#REF!","v":{"$error":"#REF!"}},{"$f":"'5B2_RSD LA'!#REF!","v":{"$error":"#REF!"}},{"$f":"'5B2_RSD LA'!#REF!","v":{"$error":"#REF!"}},{"$f":"'5B2_RSD LA'!#REF!","v":{"$error":"#REF!"}},{"$f":"'5B2_RSD LA'!#REF!","v":{"$error":"#REF!"}},{"$f":"'5B2_RSD LA'!#REF!","v":{"$error":"#REF!"}},{"$f":"'5B2_RSD LA'!#REF!","v":{"$error":"#REF!"}},{"$f":"'5B2_RSD LA'!#REF!","v":{"$error":"#REF!"}},{"$f":"'5B2_RSD LA'!#REF!","v":{"$error":"#REF!"}},{"$f":"'5B2_RSD LA'!#REF!","v":{"$error":"#REF!"}},{"$error":"#REF!"},{"$f":"'5B2_RSD LA'!#REF!","v":{"$error":"#REF!"}},{"$f":"'5B2_RSD LA'!#REF!","v":{"$error":"#REF!"}},{"$f":"'5B2_RSD LA'!#REF!","v":{"$error":"#REF!"}},{"$f":"'5B2_RSD LA'!#REF!","v":{"$error":"#REF!"}},{"$f":"'5B2_RSD LA'!#REF!","v":{"$error":"#REF!"}},{"$f":"'5B2_RSD LA'!#REF!","v":{"$error":"#REF!"}},{"$f":"'5B2_RSD LA'!#REF!","v":{"$error":"#REF!"}},{"$f":"'5B2_RSD LA'!#REF!","v":{"$error":"#REF!"}},{"$f":"'5B2_RSD LA'!#REF!","v":{"$error":"#REF!"}},{"$f":"'5B2_RSD LA'!#REF!","v":{"$error":"#REF!"}},{"$f":"'5B2_RSD LA'!#REF!","v":{"$error":"#REF!"}},{"$f":"'5B2_RSD LA'!#REF!","v":{"$error":"#REF!"}},{"$f":"'5B2_RSD LA'!#REF!","v":{"$error":"#REF!"}},{"$f":"'5B2_RSD LA'!#REF!-AV118-AW118","v":{"$error":"#REF!"}},{"$f":"'5B2_RSD LA'!#REF!","v":{"$error":"#REF!"}},{"$f":"'5B2_RSD LA'!#REF!","v":{"$error":"#REF!"}},{"$f":"'5B2_RSD LA'!#REF!","v":{"$error":"#REF!"}},{"$error":"#REF!"},{"$error":"#REF!"},{"$f":"-X118","v":{"$error":"#REF!"}},4269,{"$f":"BG118-BH118","v":{"$error":"#REF!"}},{"$f":"-AW118","v":{"$error":"#REF!"}},6737,{"$f":"BJ118-BK118","v":{"$error":"#REF!"}}]
["WYA001","3AP004","Celerity Glen Oaks",{"$f":"'5B2_RSD LA'!#REF!","v":{"$error":"#REF!"}},{"$f":"'5B2_RSD LA'!#REF!","v":{"$error":"#REF!"}},{"$f":"'5B2_RSD LA'!#REF!","v":{"$error":"#REF!"}},{"$f":"'5B2_RSD LA'!#REF!","v":{"$error":"#REF!"}},{"$f":"'5B2_RSD LA'!#REF!","v":{"$error":"#REF!"}},null,null,null,null,null,null,null,null,{"$error":"#REF!"},null,{"$f":"'5B2_RSD LA'!#REF!","v":{"$error":"#REF!"}},{"$f":"'5B2_RSD LA'!#REF!","v":{"$error":"#REF!"}},{"$f":"'5B2_RSD LA'!#REF!","v":{"$error":"#REF!"}},{"$f":"'5B2_RSD LA'!#REF!","v":{"$error":"#REF!"}},{"$f":"'5B2_RSD LA'!#REF!","v":{"$error":"#REF!"}},{"$f":"'5B2_RSD LA'!#REF!","v":{"$error":"#REF!"}},{"$f":"'5B2_RSD LA'!#REF!","v":{"$error":"#REF!"}},{"$f":"'5B2_RSD LA'!#REF!","v":{"$error":"#REF!"}},{"$f":"'5B2_RSD LA'!#REF!","v":{"$error":"#REF!"}},{"$f":"'5B2_RSD LA'!#REF!","v":{"$error":"#REF!"}},{"$f":"'5B2_RSD LA'!#REF!","v":{"$error":"#REF!"}},{"$f":"'5B2_RSD LA'!#REF!","v":{"$error":"#REF!"}},{"$f":"'5B2_RSD LA'!#REF!","v":{"$error":"#REF!"}},{"$f":"'5B2_RSD LA'!#REF!","v":{"$error":"#REF!"}},{"$f":"'5B2_RSD LA'!#REF!","v":{"$error":"#REF!"}},{"$f":"'5B2_RSD LA'!#REF!","v":{"$error":"#REF!"}},{"$f":"'5B2_RSD LA'!#REF!","v":{"$error":"#REF!"}},{"$f":"'5B2_RSD LA'!#REF!","v":{"$error":"#REF!"}},{"$f":"'5B2_RSD LA'!#REF!","v":{"$error":"#REF!"}},{"$f":"'5B2_RSD LA'!#REF!","v":{"$error":"#REF!"}},{"$error":"#REF!"},{"$f":"'5B2_RSD LA'!#REF!","v":{"$error":"#REF!"}},{"$f":"'5B2_RSD LA'!#REF!","v":{"$error":"#REF!"}},{"$f":"'5B2_RSD LA'!#REF!","v":{"$error":"#REF!"}},{"$f":"'5B2_RSD LA'!#REF!","v":{"$error":"#REF!"}},{"$f":"'5B2_RSD LA'!#REF!","v":{"$error":"#REF!"}},{"$f":"'5B2_RSD LA'!#REF!","v":{"$error":"#REF!"}},{"$f":"'5B2_RSD LA'!#REF!","v":{"$error":"#REF!"}},{"$f":"'5B2_RSD LA'!#REF!","v":{"$error":"#REF!"}},{"$f":"'5B2_RSD LA'!#REF!","v":{"$error":"#REF!"}},{"$f":"'5B2_RSD LA'!#REF!","v":{"$error":"#REF!"}},{"$f":"'5B2_RSD LA'!#REF!","v":{"$error":"#REF!"}},{"$f":"'5B2_RSD LA'!#REF!","v":{"$error":"#REF!"}},{"$f":"'5B2_RSD LA'!#REF!","v":{"$error":"#REF!"}},{"$f":"'5B2_RSD LA'!#REF!-AV119-AW119","v":{"$error":"#REF!"}},{"$f":"'5B2_RSD LA'!#REF!","v":{"$error":"#REF!"}},{"$f":"'5B2_RSD LA'!#REF!","v":{"$error":"#REF!"}},{"$f":"'5B2_RSD LA'!#REF!","v":{"$error":"#REF!"}},{"$error":"#REF!"},{"$error":"#REF!"},{"$f":"-X119","v":{"$error":"#REF!"}},2656,{"$f":"BG119-BH119","v":{"$error":"#REF!"}},{"$f":"-AW119","v":{"$error":"#REF!"}},4191,{"$f":"BJ119-BK119","v":{"$error":"#REF!"}}]
[null,null,"Total Type 5 Charters - LA",{"$f":"SUM(D113:D119)","v":{"$error":"#REF!"}},null,{"$f":"SUM(F113:F119)","v":{"$error":"#REF!"}},null,{"$f":"SUM(H113:H119)","v":{"$error":"#REF!"}},0,0,0,0,0,0,0,0,{"$error":"#REF!"},0,{"$error":"#REF!"},{"$error":"#REF!"},{"$error":"#REF!"},{"$error":"#REF!"},{"$error":"#REF!"},{"$error":"#REF!"},{"$error":"#REF!"},{"$error":"#REF!"},{"$error":"#REF!"},{"$error":"#REF!"},{"$f":"SUM(AC113:AC119)","v":{"$error":"#REF!"}},{"$error":"#REF!"},{"$error":"#REF!"},{"$error":"#REF!"},{"$error":"#REF!"},{"$error":"#REF!"},{"$error":"#REF!"},{"$error":"#REF!"},{"$error":"#REF!"},{"$error":"#REF!"},{"$error":"#REF!"},null,{"$f":"SUM(AO113:AO119)","v":{"$error":"#REF!"}},{"$error":"#REF!"},{"$error":"#REF!"},{"$error":"#REF!"},{"$error":"#REF!"},{"$error":"#REF!"},{"$error":"#REF!"},{"$error":"#REF!"},{"$error":"#REF!"},{"$error":"#REF!"},{"$error":"#REF!"},{"$error":"#REF!"},{"$error":"#REF!"},{"$error":"#REF!"},{"$error":"#REF!"},{"$error":"#REF!"},{"$error":"#REF!"},{"$error":"#REF!"},{"$error":"#REF!"},143191,{"$error":"#REF!"},{"$error":"#REF!"},225960,{"$error":"#REF!"}]
[]
[null,null,"Total Table 3",{"$f":"D76+D111+D120","v":{"$error":"#REF!"}},null,{"$f":"F76+F111+F120","v":{"$error":"#REF!"}},null,{"$f":"H76+H111+H120","v":{"$error":"#REF!"}},{"$error":"#REF!"},{"$error":"#REF!"},{"$error":"#REF!"},{"$error":"#REF!"},{"$error":"#REF!"},{"$error":"#REF!"},{"$error":"#REF!"},{"$error":"#REF!"},{"$error":"#REF!"},{"$error":"#REF!"},{"$error":"#REF!"},{"$error":"#REF!"},{"$error":"#REF!"},{"$error":"#REF!"},{"$error":"#REF!"},{"$error":"#REF!"},{"$error":"#REF!"},{"$error":"#REF!"},{"$error":"#REF!"},{"$error":"#REF!"},{"$error":"#REF!"},{"$error":"#REF!"},{"$error":"#REF!"},{"$error":"#REF!"},{"$error":"#REF!"},{"$error":"#REF!"},{"$error":"#REF!"},{"$error":"#REF!"},{"$error":"#REF!"},{"$f":"AL76+AL111+AL120","v":{"$error":"#REF!"}},{"$f":"AM76+AM111+AM120","v":{"$error":"#REF!"}},null,{"$f":"AO76+AO111+AO120","v":{"$error":"#REF!"}},{"$error":"#REF!"},{"$error":"#REF!"},{"$error":"#REF!"},{"$error":"#REF!"},{"$error":"#REF!"},{"$error":"#REF!"},{"$error":"#REF!"},{"$error":"#REF!"},{"$error":"#REF!"},{"$error":"#REF!"},{"$error":"#REF!"},{"$error":"#REF!"},{"$error":"#REF!"},{"$error":"#REF!"},{"$error":"#REF!"},{"$error":"#REF!"},{"$error":"#REF!"}]
[]
[318,318001,"LSU Lab School",{"$f":"'5A1_Labs'!$C$7","v":1461},{"$f":"'5A1_Labs'!$D$7","v":4808.754084038811},{"$f":"'5A1_Labs'!$E$7","v":7025589.7167807026},{"$f":"'5A1_Labs'!$F$7","v":605.97},{"$f":"'5A1_Labs'!$G$7","v":885322.17},null,null,null,null,null,null,null,null,{"$f":"F124+H124+J124+L124+N124+P124","v":7910911.8867807025},null,{"$f":"'5A1_Labs'!$I$7","v":0},{"$f":"'5A1_Labs'!$J$7","v":0},{"$f":"'5A1_Labs'!$K$7","v":0},{"$f":"'5A1_Labs'!$L$7","v":7910912},null,null,{"$f":"V124","v":7910912},{"$f":"'5A1_Labs'!$M$7","v":0},{"$f":"'5A1_Labs'!$O$7","v":0},{"$f":"'5A1_Labs'!$P$7","v":49420},{"$f":"'5A1_Labs'!Q$7","v":178175},{"$f":"'5A1_Labs'!R$7","v":142539},{"$f":"'5A1_Labs'!$T$7","v":8548309},{"$f":"'5A1_Labs'!$U$7","v":0},{"$f":"'5A1_Labs'!$V$7","v":8548309},{"$f":"'5A1_Labs'!$W$7","v":712359},{"$f":"'5A1_Labs'!$X$7","v":0},{"$f":"'5A1_Labs'!$Y$7","v":16448},{"$f":"'5A1_Labs'!$Z$7","v":0},{"$f":"'5A1_Labs'!$AB$7","v":8564757},{"$f":"AL124","v":8564757},null,null,null,null,null,null,null,null,null,null,null,null,null,null,null,null,null,{"$f":"AM124+BA124","v":8564757},{"$f":"AH124+BD124","v":712359}]
[319,319001,"Southern Lab School",{"$f":"'5A1_Labs'!$C$8","v":740},{"$f":"'5A1_Labs'!$D$8","v":4808.754084038811},{"$f":"'5A1_Labs'!$E$8","v":3558478.0221887203},{"$f":"'5A1_Labs'!$F$8","v":699.9},{"$f":"'5A1_Labs'!$G$8","v":517926},null,null,null,null,null,null,null,null,4076404.0221887203,null,{"$f":"'5A1_Labs'!$I$8","v":0},{"$f":"'5A1_Labs'!$J$8","v":0},{"$f":"'5A1_Labs'!$K$8","v":0},{"$f":"'5A1_Labs'!$L$8","v":4076404},null,null,{"$f":"V125","v":4076404},{"$f":"'5A1_Labs'!$M$8","v":0},{"$f":"'5A1_Labs'!$O$8","v":0},{"$f":"'5A1_Labs'!$P$8","v":28350},{"$f":"'5A1_Labs'!Q$8","v":42884},{"$f":"'5A1_Labs'!R$8","v":34308},{"$f":"'5A1_Labs'!$T$8","v":4246272},{"$f":"'5A1_Labs'!$U$8","v":0},{"$f":"'5A1_Labs'!$V$8","v":4246272},{"$f":"'5A1_Labs'!$W$8","v":353856},{"$f":"'5A1_Labs'!$X$8","v":0},{"$f":"'5A1_Labs'!$Y$8","v":10000},{"$f":"'5A1_Labs'!$Z$8","v":0},{"$f":"'5A1_Labs'!$AB$8","v":4256272},4256272,null,null,null,null,null,null,null,null,null,null,null,null,null,null,null,null,null,4256272,353856]
[302006,302,"LA School for Math, Science and the Arts",{"$f":"'5A5_LSMSA'!$C$87","v":266},null,{"$f":"'5A5_LSMSA'!$E$87","v":2552348},null,null,null,null,null,null,null,null,null,null,2552348,null,{"$f":"'5A5_LSMSA'!$F$87","v":0},{"$f":"'5A5_LSMSA'!$G$87","v":0},{"$f":"'5A5_LSMSA'!$H$87","v":0},{"$f":"'5A5_LSMSA'!$I$87","v":2552348},null,null,{"$f":"'5A5_LSMSA'!$I$87","v":2552348},{"$f":"'5A5_LSMSA'!$J$87","v":0},{"$f":"'5A5_LSMSA'!$K$78","v":0},{"$f":"'5A5_LSMSA'!$K$82","v":18690},{"$f":"'5A5_LSMSA'!$K$84","v":80574},{"$f":"'5A5_LSMSA'!$K$85","v":64461},{"$f":"'5A5_LSMSA'!$K$87","v":2836937},{"$f":"'5A5_LSMSA'!$L$87","v":0},{"$f":"'5A5_LSMSA'!$M$87","v":2836937},{"$f":"'5A5_LSMSA'!$N$87","v":236416},{"$f":"'5A5_LSMSA'!$O$79","v":0},{"$f":"'5A5_LSMSA'!$O$80","v":10000},{"$f":"'5A5_LSMSA'!$O$81","v":0},{"$f":"'5A5_LSMSA'!$O$87","v":2846937},2846937,null,null,null,null,null,null,null,null,null,null,null,null,null,null,null,null,null,2846937,236416]
[334001,334,"New Orleans Center for Creative Arts",{"$f":"#REF!","v":{"$error":"#REF!"}},null,{"$f":"#REF!","v":{"$error":"#REF!"}},null,null,null,null,null,null,null,null,null,null,{"$error":"#REF!"},null,{"$f":"#REF!","v":{"$error":"#REF!"}},{"$f":"#REF!","v":{"$error":"#REF!"}},{"$f":"#REF!","v":{"$error":"#REF!"}},{"$f":"#REF!","v":{"$error":"#REF!"}},null,null,{"$f":"#REF!","v":{"$error":"#REF!"}},{"$f":"#REF!","v":{"$error":"#REF!"}},{"$f":"#REF!","v":{"$error":"#REF!"}},{"$f":"#REF!","v":{"$error":"#REF!"}},{"$f":"#REF!","v":{"$error":"#REF!"}},{"$f":"#REF!","v":{"$error":"#REF!"}},{"$f":"#REF!","v":{"$error":"#REF!"}},{"$f":"#REF!","v":{"$error":"#REF!"}},{"$f":"#REF!","v":{"$error":"#REF!"}},{"$f":"#REF!","v":{"$error":"#REF!"}},{"$f":"#REF!","v":{"$error":"#REF!"}},{"$f":"#REF!","v":{"$error":"#REF!"}},{"$f":"#REF!","v":{"$error":"#REF!"}},{"$f":"#REF!","v":{"$error":"#REF!"}},{"$error":"#REF!"},null,null,null,null,null,null,null,null,null,null,null,null,null,null,null,null,null,{"$error":"#REF!"},{"$error":"#REF!"}]
["3C1001","3C1","Thrive",{"$f":"'5A6_Thrive'!$C$87","v":180},null,{"$f":"'5A6_Thrive'!$E$87","v":1679449},null,null,null,null,null,null,null,null,null,null,1679449,null,{"$f":"'5A6_Thrive'!$F$87","v":0},{"$f":"'5A6_Thrive'!$G$87","v":0},{"$f":"'5A6_Thrive'!$H$87","v":0},{"$f":"'5A6_Thrive'!$I$87","v":1679449},null,null,{"$f":"'5A6_Thrive'!$I$87","v":1679449},{"$f":"'5A6_Thrive'!$J$87","v":0},{"$f":"'5A6_Thrive'!$K$78","v":0},{"$f":"'5A6_Thrive'!$K$82","v":12600},{"$f":"'5A6_Thrive'!$K$84","v":71243},{"$f":"'5A6_Thrive'!$K$85","v":56994},{"$f":"'5A6_Thrive'!$K$87","v":1927150},{"$f":"'5A6_Thrive'!$L$87","v":0},{"$f":"'5A6_Thrive'!$M$87","v":1927150},{"$f":"'5A6_Thrive'!$N$87","v":160596},{"$f":"'5A6_Thrive'!$O$79","v":0},{"$f":"'5A6_Thrive'!$O$80","v":10000},{"$f":"'5A6_Thrive'!$O$81","v":0},{"$f":"'5A6_Thrive'!$O$87","v":1937150},1937150,null,null,null,null,null,null,null,null,null,null,null,null,null,null,null,null,null,1937150,160596]
["A02","A02","Office of Juvenile Justice",{"$f":"'5A3_OJJ'!$C$87","v":232.31844400000008},null,{"$f":"'5A3_OJJ'!$G$76","v":1988225},null,null,null,null,null,null,null,null,null,null,1988225,null,null,null,null,{"$f":"Q129","v":1988225},null,null,{"$f":"V129","v":1988225},null,{"$f":"'5A3_OJJ'!$G$78","v":0},{"$f":"'5A3_OJJ'!$G$82","v":16520},{"$f":"'5A3_OJJ'!$G$84","v":49848},{"$f":"'5A3_OJJ'!$G$85","v":39878},{"$f":"'5A3_OJJ'!$G$87","v":2169243},{"$f":"'5A3_OJJ'!$H$87","v":0},{"$f":"'5A3_OJJ'!$I$87","v":2169243},{"$f":"'5A3_OJJ'!$J$87","v":180777},{"$f":"'5A3_OJJ'!$K$79","v":0},{"$f":"'5A3_OJJ'!$K$80","v":21690},{"$f":"'5A3_OJJ'!$K$81","v":0},{"$f":"'5A3_OJJ'!$K$87","v":2190933},2190933,null,{"$f":"'5A3_OJJ'!$P$87","v":953226},null,null,null,null,null,{"$f":"'5A3_OJJ'!$P$87","v":953226},null,null,{"$f":"'5A3_OJJ'!$P$87","v":953226},null,{"$f":"'5A3_OJJ'!$P$87","v":953226},{"$f":"'5A3_OJJ'!$P$87","v":953226},{"$f":"'5A3_OJJ'!$Q$87","v":0},{"$f":"'5A3_OJJ'!$R$87","v":953226},{"$f":"'5A3_OJJ'!$S$87","v":79442},3144159,260219]
[null,null,"Total Lab & State Approved Schools",{"$f":"SUM(D124:D129)","v":{"$error":"#REF!"}},null,{"$f":"SUM(F124:F129)","v":{"$error":"#REF!"}},null,{"$f":"SUM(H124:H129)","v":1403248.17},0,0,0,0,0,0,0,0,{"$error":"#REF!"},0,{"$f":"SUM(S124:S129)","v":{"$error":"#REF!"}},{"$error":"#REF!"},{"$error":"#REF!"},{"$error":"#REF!"},0,0,{"$error":"#REF!"},{"$error":"#REF!"},{"$error":"#REF!"},{"$error":"#REF!"},{"$error":"#REF!"},{"$f":"SUM(AD124:AD129)","v":{"$error":"#REF!"}},{"$error":"#REF!"},{"$error":"#REF!"},{"$error":"#REF!"},{"$error":"#REF!"},{"$error":"#REF!"},{"$error":"#REF!"},{"$error":"#REF!"},{"$f":"SUM(AL124:AL129)","v":{"$error":"#REF!"}},{"$f":"SUM(AM124:AM129)","v":{"$error":"#REF!"}},null,{"$f":"SUM(AO124:AO129)","v":953226},0,0,0,0,0,953226,0,0,953226,0,{"$f":"SUM(AZ124:AZ129)","v":953226},953226,0,953226,79442,{"$error":"#REF!"},{"$error":"#REF!"},{"$f":"SUM(BG124:BG129)","v":0},0,0,0,0,0]
[]
[321001,321001,"New Vision Learning",{"$f":"#REF!","v":{"$error":"#REF!"}},null,{"$f":"#REF!","v":{"$error":"#REF!"}},{"$f":"#REF!","v":{"$error":"#REF!"}},{"$f":"#REF!","v":{"$error":"#REF!"}},{"$f":"#REF!","v":{"$error":"#REF!"}},{"$f":"#REF!","v":{"$error":"#REF!"}},{"$f":"#REF!","v":{"$error":"#REF!"}},{"$f":"#REF!","v":{"$error":"#REF!"}},{"$f":"#REF!","v":{"$error":"#REF!"}},{"$f":"#REF!","v":{"$error":"#REF!"}},{"$f":"#REF!","v":{"$error":"#REF!"}},{"$f":"#REF!","v":{"$error":"#REF!"}},{"$f":"F132+H132+J132+L132+N132+P132","v":{"$error":"#REF!"}},null,{"$f":"#REF!","v":{"$error":"#REF!"}},{"$f":"#REF!","v":{"$error":"#REF!"}},{"$f":"#REF!","v":{"$error":"#REF!"}},{"$f":"#REF!","v":{"$error":"#REF!"}},null,{"$f":"#REF!","v":{"$error":"#REF!"}},{"$f":"#REF!","v":{"$error":"#REF!"}},{"$f":"#REF!","v":{"$error":"#REF!"}},{"$f":"#REF!","v":{"$error":"#REF!"}},{"$f":"#REF!","v":{"$error":"#REF!"}},{"$f":"#REF!","v":{"$error":"#REF!"}},{"$f":"#REF!","v":{"$error":"#REF!"}},{"$f":"#REF!","v":{"$error":"#REF!"}},{"$f":"#REF!","v":{"$error":"#REF!"}},{"$f":"#REF!","v":{"$error":"#REF!"}},{"$f":"#REF!","v":{"$error":"#REF!"}},{"$f":"#REF!","v":{"$error":"#REF!"}},{"$f":"#REF!","v":{"$error":"#REF!"}},{"$f":"#REF!","v":{"$error":"#REF!"}},{"$f":"#REF!","v":{"$error":"#REF!"}},{"$f":"AL132-X132","v":{"$error":"#REF!"}},null,null,null,null,null,null,null,null,null,null,null,null,null,null,null,null,null,{"$f":"AM132+BA132","v":{"$error":"#REF!"}},{"$f":"AH132+BD132","v":{"$error":"#REF!"}},{"$f":"-X132","v":{"$error":"#REF!"}},{"$f":"VLOOKUP($A132,'5A2_Legacy Type 2'!$A$7:$AH$14,COLUMN('5A2_Legacy Type 2'!#REF!),FALSE)","v":{"$error":"#REF!"}},{"$f":"BG132-BH132","v":{"$error":"#REF!"}}]
[329001,329001,"Glencoe Charter School",{"$f":"#REF!","v":{"$error":"#REF!"}},null,{"$f":"#REF!","v":{"$error":"#REF!"}},{"$f":"#REF!","v":{"$error":"#REF!"}},{"$f":"#REF!","v":{"$error":"#REF!"}},{"$f":"#REF!","v":{"$error":"#REF!"}},{"$f":"#REF!","v":{"$error":"#REF!"}},{"$f":"#REF!","v":{"$error":"#REF!"}},{"$f":"#REF!","v":{"$error":"#REF!"}},{"$f":"#REF!","v":{"$error":"#REF!"}},{"$f":"#REF!","v":{"$error":"#REF!"}},{"$f":"#REF!","v":{"$error":"#REF!"}},{"$f":"#REF!","v":{"$error":"#REF!"}},{"$error":"#REF!"},null,{"$f":"#REF!","v":{"$error":"#REF!"}},{"$f":"#REF!","v":{"$error":"#REF!"}},{"$f":"#REF!","v":{"$error":"#REF!"}},{"$f":"#REF!","v":{"$error":"#REF!"}},null,{"$f":"#REF!","v":{"$error":"#REF!"}},{"$f":"#REF!","v":{"$error":"#REF!"}},{"$f":"#REF!","v":{"$error":"#REF!"}},{"$f":"#REF!","v":{"$error":"#REF!"}},{"$f":"#REF!","v":{"$error":"#REF!"}},{"$f":"#REF!","v":{"$error":"#REF!"}},{"$f":"#REF!","v":{"$error":"#REF!"}},{"$f":"#REF!","v":{"$error":"#REF!"}},{"$f":"#REF!","v":{"$error":"#REF!"}},{"$f":"#REF!","v":{"$error":"#REF!"}},{"$f":"#REF!","v":{"$error":"#REF!"}},{"$f":"#REF!","v":{"$error":"#REF!"}},{"$f":"#REF!","v":{"$error":"#REF!"}},{"$f":"#REF!","v":{"$error":"#REF!"}},{"$f":"#REF!","v":{"$error":"#REF!"}},{"$error":"#REF!"},null,null,null,null,null,null,null,null,null,null,null,null,null,null,null,null,null,{"$error":"#REF!"},{"$error":"#REF!"},{"$error":"#REF!"},{"$f":"VLOOKUP($A133,'5A2_Legacy Type 2'!$A$7:$AH$14,COLUMN('5A2_Legacy Type 2'!#REF!),FALSE)","v":{"$error":"#REF!"}},{"$f":"BG133-BH133","v":{"$error":"#REF!"}}]
[331001,331001,"International School of LA",{"$f":"#REF!","v":{"$error":"#REF!"}},null,{"$f":"#REF!","v":{"$error":"#REF!"}},{"$f":"#REF!","v":{"$error":"#REF!"}},{"$f":"#REF!","v":{"$error":"#REF!"}},{"$f":"#REF!","v":{"$error":"#REF!"}},{"$f":"#REF!","v":{"$error":"#REF!"}},{"$f":"#REF!","v":{"$error":"#REF!"}},{"$f":"#REF!","v":{"$error":"#REF!"}},{"$f":"#REF!","v":{"$error":"#REF!"}},{"$f":"#REF!","v":{"$error":"#REF!"}},{"$f":"#REF!","v":{"$error":"#REF!"}},{"$f":"#REF!","v":{"$error":"#REF!"}},{"$error":"#REF!"},null,{"$f":"#REF!","v":{"$error":"#REF!"}},{"$f":"#REF!","v":{"$error":"#REF!"}},{"$f":"#REF!","v":{"$error":"#REF!"}},{"$f":"#REF!","v":{"$error":"#REF!"}},null,{"$f":"#REF!","v":{"$error":"#REF!"}},{"$f":"#REF!","v":{"$error":"#REF!"}},{"$f":"#REF!","v":{"$error":"#REF!"}},{"$f":"#REF!","v":{"$error":"#REF!"}},{"$f":"#REF!","v":{"$error":"#REF!"}},{"$f":"#REF!","v":{"$error":"#REF!"}},{"$f":"#REF!","v":{"$error":"#REF!"}},{"$f":"#REF!","v":{"$error":"#REF!"}},{"$f":"#REF!","v":{"$error":"#REF!"}},{"$f":"#REF!","v":{"$error":"#REF!"}},{"$f":"#REF!","v":{"$error":"#REF!"}},{"$f":"#REF!","v":{"$error":"#REF!"}},{"$f":"#REF!","v":{"$error":"#REF!"}},{"$f":"#REF!","v":{"$error":"#REF!"}},{"$f":"#REF!","v":{"$error":"#REF!"}},{"$error":"#REF!"},null,null,null,null,null,null,null,null,null,null,null,null,null,null,null,null,null,{"$error":"#REF!"},{"$error":"#REF!"},{"$error":"#REF!"},{"$f":"VLOOKUP($A134,'5A2_Legacy Type 2'!$A$7:$AH$14,COLUMN('5A2_Legacy Type 2'!#REF!),FALSE)","v":{"$error":"#REF!"}},{"$error":"#REF!"}]
[333001,333001,"Avoyelles Public Charter",{"$f":"#REF!","v":{"$error":"#REF!"}},null,{"$f":"#REF!","v":{"$error":"#REF!"}},{"$f":"#REF!","v":{"$error":"#REF!"}},{"$f":"#REF!","v":{"$error":"#REF!"}},{"$f":"#REF!","v":{"$error":"#REF!"}},{"$f":"#REF!","v":{"$error":"#REF!"}},{"$f":"#REF!","v":{"$error":"#REF!"}},{"$f":"#REF!","v":{"$error":"#REF!"}},{"$f":"#REF!","v":{"$error":"#REF!"}},{"$f":"#REF!","v":{"$error":"#REF!"}},{"$f":"#REF!","v":{"$error":"#REF!"}},{"$f":"#REF!","v":{"$error":"#REF!"}},{"$error":"#REF!"},null,{"$f":"#REF!","v":{"$error":"#REF!"}},{"$f":"#REF!","v":{"$error":"#REF!"}},{"$f":"#REF!","v":{"$error":"#REF!"}},{"$f":"#REF!","v":{"$error":"#REF!"}},null,{"$f":"#REF!","v":{"$error":"#REF!"}},{"$f":"#REF!","v":{"$error":"#REF!"}},{"$f":"#REF!","v":{"$error":"#REF!"}},{"$f":"#REF!","v":{"$error":"#REF!"}},{"$f":"#REF!","v":{"$error":"#REF!"}},{"$f":"#REF!","v":{"$error":"#REF!"}},{"$f":"#REF!","v":{"$error":"#REF!"}},{"$f":"#REF!","v":{"$error":"#REF!"}},{"$f":"#REF!","v":{"$error":"#REF!"}},{"$f":"#REF!","v":{"$error":"#REF!"}},{"$f":"#REF!","v":{"$error":"#REF!"}},{"$f":"#REF!","v":{"$error":"#REF!"}},{"$f":"#REF!","v":{"$error":"#REF!"}},{"$f":"#REF!","v":{"$error":"#REF!"}},{"$f":"#REF!","v":{"$error":"#REF!"}},{"$error":"#REF!"},null,null,null,null,null,null,null,null,null,null,null,null,null,null,null,null,null,{"$error":"#REF!"},{"$error":"#REF!"},{"$error":"#REF!"},{"$f":"VLOOKUP($A135,'5A2_Legacy Type 2'!$A$7:$AH$14,COLUMN('5A2_Legacy Type 2'!#REF!),FALSE)","v":{"$error":"#REF!"}},{"$error":"#REF!"}]
[336001,336001,"Delhi Charter School",{"$f":"#REF!","v":{"$error":"#REF!"}},null,{"$f":"#REF!","v":{"$error":"#REF!"}},{"$f":"#REF!","v":{"$error":"#REF!"}},{"$f":"#REF!","v":{"$error":"#REF!"}},{"$f":"#REF!","v":{"$error":"#REF!"}},{"$f":"#REF!","v":{"$error":"#REF!"}},{"$f":"#REF!","v":{"$error":"#REF!"}},{"$f":"#REF!","v":{"$error":"#REF!"}},{"$f":"#REF!","v":{"$error":"#REF!"}},{"$f":"#REF!","v":{"$error":"#REF!"}},{"$f":"#REF!","v":{"$error":"#REF!"}},{"$f":"#REF!","v":{"$error":"#REF!"}},{"$error":"#REF!"},null,{"$f":"#REF!","v":{"$error":"#REF!"}},{"$f":"#REF!","v":{"$error":"#REF!"}},{"$f":"#REF!","v":{"$error":"#REF!"}},{"$f":"#REF!","v":{"$error":"#REF!"}},null,{"$f":"#REF!","v":{"$error":"#REF!"}},{"$f":"#REF!","v":{"$error":"#REF!"}},{"$f":"#REF!","v":{"$error":"#REF!"}},{"$f":"#REF!","v":{"$error":"#REF!"}},{"$f":"#REF!","v":{"$error":"#REF!"}},{"$f":"#REF!","v":{"$error":"#REF!"}},{"$f":"#REF!","v":{"$error":"#REF!"}},{"$f":"#REF!","v":{"$error":"#REF!"}},{"$f":"#REF!","v":{"$error":"#REF!"}},{"$f":"#REF!","v":{"$error":"#REF!"}},{"$f":"#REF!","v":{"$error":"#REF!"}},{"$f":"#REF!","v":{"$error":"#REF!"}},{"$f":"#REF!","v":{"$error":"#REF!"}},{"$f":"#REF!","v":{"$error":"#REF!"}},{"$f":"#REF!","v":{"$error":"#REF!"}},{"$error":"#REF!"},null,null,null,null,null,null,null,null,null,null,null,null,null,null,null,null,null,{"$error":"#REF!"},{"$error":"#REF!"},{"$error":"#REF!"},{"$f":"VLOOKUP($A136,'5A2_Legacy Type 2'!$A$7:$AH$14,COLUMN('5A2_Legacy Type 2'!#REF!),FALSE)","v":{"$error":"#REF!"}},{"$error":"#REF!"}]
[337001,337001,"Belle Chasse Academy",{"$f":"#REF!","v":{"$error":"#REF!"}},null,{"$f":"#REF!","v":{"$error":"#REF!"}},{"$f":"#REF!","v":{"$error":"#REF!"}},{"$f":"#REF!","v":{"$error":"#REF!"}},{"$f":"#REF!","v":{"$error":"#REF!"}},{"$f":"#REF!","v":{"$error":"#REF!"}},{"$f":"#REF!","v":{"$error":"#REF!"}},{"$f":"#REF!","v":{"$error":"#REF!"}},{"$f":"#REF!","v":{"$error":"#REF!"}},{"$f":"#REF!","v":{"$error":"#REF!"}},{"$f":"#REF!","v":{"$error":"#REF!"}},{"$f":"#REF!","v":{"$error":"#REF!"}},{"$error":"#REF!"},null,{"$f":"#REF!","v":{"$error":"#REF!"}},{"$f":"#REF!","v":{"$error":"#REF!"}},{"$f":"#REF!","v":{"$error":"#REF!"}},{"$f":"#REF!","v":{"$error":"#REF!"}},null,{"$f":"#REF!","v":{"$error":"#REF!"}},{"$f":"#REF!","v":{"$error":"#REF!"}},{"$f":"#REF!","v":{"$error":"#REF!"}},{"$f":"#REF!","v":{"$error":"#REF!"}},{"$f":"#REF!","v":{"$error":"#REF!"}},{"$f":"#REF!","v":{"$error":"#REF!"}},{"$f":"#REF!","v":{"$error":"#REF!"}},{"$f":"#REF!","v":{"$error":"#REF!"}},{"$f":"#REF!","v":{"$error":"#REF!"}},{"$f":"#REF!","v":{"$error":"#REF!"}},{"$f":"#REF!","v":{"$error":"#REF!"}},{"$f":"#REF!","v":{"$error":"#REF!"}},{"$f":"#REF!","v":{"$error":"#REF!"}},{"$f":"#REF!","v":{"$error":"#REF!"}},{"$f":"#REF!","v":{"$error":"#REF!"}},{"$error":"#REF!"},null,null,null,null,null,null,null,null,null,null,null,null,null,null,null,null,null,{"$error":"#REF!"},{"$error":"#REF!"},{"$error":"#REF!"},{"$f":"VLOOKUP($A137,'5A2_Legacy Type 2'!$A$7:$AH$14,COLUMN('5A2_Legacy Type 2'!#REF!),FALSE)","v":{"$error":"#REF!"}},{"$error":"#REF!"}]
[340001,340001,"The MAX",{"$f":"#REF!","v":{"$error":"#REF!"}},null,{"$f":"#REF!","v":{"$error":"#REF!"}},{"$f":"#REF!","v":{"$error":"#REF!"}},{"$f":"#REF!","v":{"$error":"#REF!"}},{"$f":"#REF!","v":{"$error":"#REF!"}},{"$f":"#REF!","v":{"$error":"#REF!"}},{"$f":"#REF!","v":{"$error":"#REF!"}},{"$f":"#REF!","v":{"$error":"#REF!"}},{"$f":"#REF!","v":{"$error":"#REF!"}},{"$f":"#REF!","v":{"$error":"#REF!"}},{"$f":"#REF!","v":{"$error":"#REF!"}},{"$f":"#REF!","v":{"$error":"#REF!"}},{"$error":"#REF!"},null,{"$f":"#REF!","v":{"$error":"#REF!"}},{"$f":"#REF!","v":{"$error":"#REF!"}},{"$f":"#REF!","v":{"$error":"#REF!"}},{"$f":"#REF!","v":{"$error":"#REF!"}},null,{"$f":"#REF!","v":{"$error":"#REF!"}},{"$f":"#REF!","v":{"$error":"#REF!"}},{"$f":"#REF!","v":{"$error":"#REF!"}},{"$f":"#REF!","v":{"$error":"#REF!"}},{"$f":"#REF!","v":{"$error":"#REF!"}},{"$f":"#REF!","v":{"$error":"#REF!"}},{"$f":"#REF!","v":{"$error":"#REF!"}},{"$f":"#REF!","v":{"$error":"#REF!"}},{"$f":"#REF!","v":{"$error":"#REF!"}},{"$f":"#REF!","v":{"$error":"#REF!"}},{"$f":"#REF!","v":{"$error":"#REF!"}},{"$f":"#REF!","v":{"$error":"#REF!"}},{"$f":"#REF!","v":{"$error":"#REF!"}},{"$f":"#REF!","v":{"$error":"#REF!"}},{"$f":"#REF!","v":{"$error":"#REF!"}},{"$error":"#REF!"},null,null,null,null,null,null,null,null,null,null,null,null,null,null,null,null,null,{"$error":"#REF!"},{"$error":"#REF!"},{"$error":"#REF!"},{"$f":"VLOOKUP($A138,'5A2_Legacy Type 2'!$A$7:$AH$14,COLUMN('5A2_Legacy Type 2'!#REF!),FALSE)","v":{"$error":"#REF!"}},{"$error":"#REF!"}]
[null,null,"Total Legacy Type 2 Charter Schools",{"$f":"SUM(D132:D138)","v":{"$error":"#REF!"}},null,{"$f":"SUM(F132:F138)","v":{"$error":"#REF!"}},null,{"$f":"SUM(H132:H138)","v":{"$error":"#REF!"}},{"$error":"#REF!"},{"$error":"#REF!"},{"$error":"#REF!"},{"$error":"#REF!"},{"$error":"#REF!"},{"$error":"#REF!"},{"$error":"#REF!"},{"$f":"SUM(P132:P138)","v":{"$error":"#REF!"}},{"$error":"#REF!"},0,{"$error":"#REF!"},{"$error":"#REF!"},{"$error":"#REF!"},{"$error":"#REF!"},0,{"$error":"#REF!"},{"$error":"#REF!"},{"$error":"#REF!"},{"$error":"#REF!"},{"$f":"SUM(AB132:AB138)","v":{"$error":"#REF!"}},{"$f":"SUM(AC132:AC138)","v":{"$error":"#REF!"}},{"$f":"SUM(AD132:AD138)","v":{"$error":"#REF!"}},{"$error":"#REF!"},{"$error":"#REF!"},{"$error":"#REF!"},{"$error":"#REF!"},{"$error":"#REF!"},{"$f":"SUM(AJ132:AJ138)","v":{"$error":"#REF!"}},{"$f":"SUM(AK132:AK138)","v":{"$error":"#REF!"}},{"$f":"SUM(AL132:AL138)","v":{"$error":"#REF!"}},{"$f":"SUM(AM132:AM138)","v":{"$error":"#REF!"}},null,0,0,0,0,0,0,0,0,0,0,0,{"$f":"SUM(AZ132:AZ138)","v":0},0,0,0,0,{"$f":"SUM(BE132:BE138)","v":{"$error":"#REF!"}},{"$error":"#REF!"},{"$error":"#REF!"},{"$error":"#REF!"},{"$error":"#REF!"},0,0,0]
[]
[null,null,"Total Statewide",{"$f":"D122+D130+D139","v":{"$error":"#REF!"}},null,{"$f":"F122+F130+F139","v":{"$error":"#REF!"}},null,{"$f":"H122+H130+H139","v":{"$error":"#REF!"}},{"$error":"#REF!"},{"$error":"#REF!"},{"$error":"#REF!"},{"$error":"#REF!"},{"$error":"#REF!"},{"$error":"#REF!"},{"$error":"#REF!"},{"$f":"P122+P130+P139","v":{"$error":"#REF!"}},{"$error":"#REF!"},{"$error":"#REF!"},{"$error":"#REF!"},{"$error":"#REF!"},{"$error":"#REF!"},{"$error":"#REF!"},{"$error":"#REF!"},{"$error":"#REF!"},{"$error":"#REF!"},{"$error":"#REF!"},{"$error":"#REF!"},{"$error":"#REF!"},{"$error":"#REF!"},{"$error":"#REF!"},{"$error":"#REF!"},{"$error":"#REF!"},{"$error":"#REF!"},{"$error":"#REF!"},{"$error":"#REF!"},{"$error":"#REF!"},{"$error":"#REF!"},{"$error":"#REF!"},{"$error":"#REF!"},null,{"$f":"AO122+AO130+AO139","v":{"$error":"#REF!"}},{"$error":"#REF!"},{"$error":"#REF!"},{"$error":"#REF!"},{"$error":"#REF!"},{"$error":"#REF!"},{"$error":"#REF!"},{"$error":"#REF!"},{"$error":"#REF!"},{"$error":"#REF!"},{"$error":"#REF!"},{"$error":"#REF!"},{"$error":"#REF!"},{"$error":"#REF!"},{"$error":"#REF!"},{"$error":"#REF!"},{"$error":"#REF!"},{"$error":"#REF!"},{"$f":"BG76+BG130+BG139+BG111+BG120","v":{"$error":"#REF!"}},{"$error":"#REF!"},{"$error":"#REF!"},{"$error":"#REF!"},{"$error":"#REF!"},{"$error":"#REF!"}]
[null,null,null,null,null,null,null,null,null,null,null,null,null,null,null,null,"Rounding Diff",null,null,null,null,"Rounding Diff",null,null,null,null,null,null,null,null,null,"App Ctrl",null,"Rounding Diff",null,null,null,null,null,null,null,null,null,null,null,null,null,null,null,null,"Audit Summary",null,null,"Statewide YTD until April:",null,null,null,null,null,"App Ctrl",null,null,"App Ctrl"]
[null,null,null,{"$f":"#REF!","v":{"$error":"#REF!"}},null,null,null,null,null,null,null,null,null,null,null,null,{"$f":"#REF!+#REF!","v":{"$error":"#REF!"}},{"$f":"#REF!","v":{"$error":"#REF!"}},{"$f":"#REF!","v":{"$error":"#REF!"}},{"$f":"#REF!","v":{"$error":"#REF!"}},{"$f":"#REF!","v":{"$error":"#REF!"}},{"$f":"F141+H141+J141+L141+N141+P141+U141","v":{"$error":"#REF!"}},null,{"$f":"BG141-BG113","v":{"$error":"#REF!"}},{"$f":"V141+W141+X141","v":{"$error":"#REF!"}},{"$f":"#REF!","v":{"$error":"#REF!"}},{"$f":"#REF!","v":{"$error":"#REF!"}},{"$f":"#REF!","v":{"$error":"#REF!"}},{"$f":"#REF!","v":{"$error":"#REF!"}},{"$f":"#REF!","v":{"$error":"#REF!"}},{"$f":"V141+W141+X141+Z141+AA141+AB141+AC141+AD141","v":{"$error":"#REF!"}},null,{"$f":"AE141-AF141","v":{"$error":"#REF!"}},{"$f":"ROUND(AG141/$AH$147,0)","v":{"$error":"#REF!"}},{"$f":"#REF!","v":{"$error":"#REF!"}},{"$f":"#REF!","v":{"$error":"#REF!"}},{"$f":"#REF!","v":{"$error":"#REF!"}},{"$f":"AE141+AI141+AJ141+AK141","v":{"$error":"#REF!"}},{"$f":"#REF!","v":{"$error":"#REF!"}},null,null,null,null,null,null,null,null,null,null,null,{"$f":"[1]LEA_Summary!$O$139","v":-65205},null,null,null,null,null,{"$f":"AM141","v":{"$error":"#REF!"}},{"$f":"AH141+BD141","v":{"$error":"#REF!"}},{"$f":"-W141+-X141","v":{"$error":"#REF!"}}]
[null,null,"Reconcile",{"$f":"D143-D122","v":{"$error":"#REF!"}},{"$f":"D143-D122+D85+D86","v":{"$error":"#REF!"}},"1st Yr Adj",null,null,null,null,null,null,null,null,null,null,{"$f":"Q143-Q141","v":{"$error":"#REF!"}},{"$f":"R143-Q122-R122","v":{"$error":"#REF!"}},{"$f":"S143-S141","v":{"$error":"#REF!"}},{"$f":"T143-T141","v":{"$error":"#REF!"}},{"$f":"U143-U141","v":{"$error":"#REF!"}},{"$f":"V143-V141","v":{"$error":"#REF!"}},null,{"$f":"X143+X141","v":{"$error":"#REF!"}},{"$f":"Y143-Y141","v":{"$error":"#REF!"}},{"$f":"Z143-Z141","v":{"$error":"#REF!"}},{"$error":"#REF!"},{"$f":"AB143-AB141","v":{"$error":"#REF!"}},{"$f":"AC143-AC141","v":{"$error":"#REF!"}},{"$error":"#REF!"},{"$f":"AE143-AE141","v":{"$error":"#REF!"}},{"$f":"AF143-AF141","v":{"$error":"#REF!"}},{"$error":"#REF!"},{"$f":"AH143-AH141","v":{"$error":"#REF!"}},{"$error":"#REF!"},{"$error":"#REF!"},{"$error":"#REF!"},{"$error":"#REF!"},{"$f":"AM143-AM141","v":{"$error":"#REF!"}},{"$f":"AM143-AM141+AM85+AM86-#REF!-AJ85","v":{"$error":"#REF!"}},"1st Yr Adj",null,null,null,null,null,null,null,null,null,{"$f":"AY143-AY141","v":{"$error":"#REF!"}},null,null,{"$f":"BB143-BB141","v":{"$error":"#REF!"}},{"$f":"BC141-BL76","v":{"$error":"#REF!"}},null,{"$f":"BE143-BE141","v":{"$error":"#REF!"}},{"$f":"BF143-BF141","v":{"$error":"#REF!"}},{"$f":"BG143-BG141","v":{"$error":"#REF!"}},{"$f":"BH143-BH141","v":{"$error":"#REF!"}},null,null,{"$f":"BK143-BK120-BK111","v":{"$error":"#REF!"}}]
[null,null,null,{"$f":"'8_2.1.24 SIS BASE'!BI76","v":653814},{"$f":"D145-D141+D129+D85+D86","v":{"$error":"#REF!"}},"1st Yr Adj",null,null,null,null,null,null,null,null,null,"1st Yr Adj",{"$f":"Q143-Q141+Q85+Q86-#REF!","v":{"$error":"#REF!"}},{"$f":"R143-Q122-R122+Q85+Q86","v":{"$error":"#REF!"}},null,null,null,null,null,null,null,{"$f":"[1]LEA_Summary!$I$139","v":-2048105},null,null,null,null,null,null,null,null,null,null,null,null,{"$f":"AL141-X141-W141","v":{"$error":"#REF!"}}]
[null,null,"Reconcile 2",{"$f":"D145-D141+D129","v":{"$error":"#REF!"}},"OJJ Rounding",null,null,null,null,null,null,null,null,null,null,null,null,"Rounding Diff",null,null,null,null,null,null,null,{"$f":"Z145-Z141","v":{"$error":"#REF!"}},null,null,null,null,null,null,null,null,null,null,null,null,{"$f":"AM145-AM141","v":{"$error":"#REF!"}}]
[null,null,null,null,null,null,null,null,null,null,null,null,null,null,null,null,null,null,null,null,null,null,null,null,null,null,null,null,null,null,null,null,null,12]

{"sheet":"Track Changes Proj 23-24 Sim","index":3,"n_rows":198,"n_cols":13,"rows_kept":198,"cut":false,"hidden":true,"merged":[]}
[]
[]
[]
[]
[]
[null,null,"2023-24 Projected MFP March 2023 Approved BESE version"]
[null,null,"Changes for final July 2023 version from March 2023 Approved BESE version"]
["Order ","Actions ","Changes/Updates","Source","Data Status","Date","Action Status","Completed By","Date","Name of Files to Link/Vlookup","File Names/Addresses","Issues/Comments"]
[]
[null,"SAVE 22-23 MARCH BL FILE AS 23-24  BL CONTINUATION ",null,"All corrections found by Denise and all tabs the same as the FY2023-24 March 2023 budget letter are in this file. So this file WAS the start of all clean-up for files to be sent to legislature."]
[]
[null,null,"Table 7 - New Tax Data "]
[null,"INSERT","2021 Net Assessed Property Values","SSFS","Data Ready","3.12.23","complete","MLB","3.13.23","Tax Commission Breakout without Lafourche ",null,"Used Prior Year Lafourche data"]
["To DO","INSERT","Update Lafourche Tax Data","SSFS","Data Ready","6.5.23","complete","MLB","6.16.23","Update Tax Commission report received"]
[null,"INSERT","2021 -22 Property Taxes","SSFS","Data Ready","3.12.23","complete","MLB","3.13.23","Table 7_Access Database"]
[null,"INSERT","2021-22 Sales Taxes","SSFS","Data Ready","3.12.23","complete","MLB","3.13.23","Table 7_Access Database"]
[null,"INSERT","Cameron - Table 7 Computed 2021-22 Sales Tax Base - must be inserted into Table 7 ","SSFS","Calc Needed",null,"complete","BS","3.13.23","Sales tax rates from La Dept of Revenue - calculate base in the file to link/insert to Table 7 "]
[null,"INSERT","Other Revenues","SSFS","Data Ready","3.12.23","complete","MLB","3.13.23"]
[null,"INSERT","Monroe/Quachita","SSFS","Data Ready","3.12.23","complete","BS","3.13.23"]
[null,"INSERT","Washington/Bogalusa","SSFS","Data Ready","3.12.23","complete","BS","3.13.23"]
[null,"INSERT","EBR/Baker/Central/Zachary","SSFS","Data Ready","3.12.23","complete","BS","3.13.23"]
["To DO","INSERT","Enter AFR Audit Adjustments as of 9.19.23","SSFS","Data Ready","6.19.23","complete","BS","6.22.23"]
[]
[null,null,"Table 8 Base Student Count"]
[null,"INSERT","Update to 2.1.23 Base Student Count","SSFS","Data Ready","3.12.23","complete","MLB","3.13.23","2.1.23 count used in March 2023 MYA"]
[]
[]
[null,null,"Per Pupil Summary tab"]
[null,"No Change","Col 1 - 13  - Charter Per Pupil - Final March 2023 - Placeholder","SSFS","Data Ready","3.12.23","complete","MLB","3.10.23","Final Charter Per Pupil - March 2023",null,null,"Rounding?"]
[null,"Auto Update","Col 14 -  17 auto update from within BL Table  2 and Table 3, Level 1 & 2 ","SSFS","Data Ready","3.12.23","complete",null,null,"23-24 BL Table 2 and Table 3, Level 1 & 2"]
["To DO",null,"Col 1 - 13  - Charter Per Pupil - Initial July 2023 - Placeholder ","SSFS","Data Ready",null,"complete","BS","6.22.23","Initial Charter Per Pupil - July2023"]
["To DO",null,"Col 14 -  17 auto update from within BL Table  2 and Table 3, Level 1 & 2 ","SSFS","Data Ready",null,"complete","BS","6.22.24","23-24 BL Table 2 and Table 3, Level 1 & 2"]
[]
[null,null,"Table 2"]
[null,null,"Add ONLY Charter schools in 2nd year of operation ","SSFS","Data Ready",null,"complete","MLB ","7.6.23","GEO Prep Baker, LA Key Northshore"]
[]
[null,null,"Table 2A-1"]
[null,null,"Add New Charter schools in 1st year of operation ","SSFS","Data Ready",null,"complete","MLB ","6.26.23","Discovery, Kenilworth, LA Key Caddo"]
[null,null,"MAKE SURE ADDED CHARTERS ARE NEGATIVE NUMBERS"]
[]
[null,null,"Table 2A-2"]
[null,null,"Add New Charter schools in 1st year of operation ","SSFS","Data Ready",null,"complete","MLB ","6.26.23","Discovery, Kenilworth, LA Key Caddo"]
[null,null,"MAKE SURE ADDED CHARTERS ARE NEGATIVE NUMBERS"]
[]
[null,null,"Table 3, Level 1 - Student/Unit Counts in Level 1"]
[null,"INSERT","Base Count 2.1.23","AAA","Data Ready","3.12.23","complete","MLB","3.13.23","Tab - Table 8  SIS 2.1.23 BASE"]
[null,"INSERT","Economically Disadvantaged Count 2.1.23","AAA","Data Ready","3.12.23","complete","MLB","3.13.23","Tab - Table 8 SIS 2.1.23 ED count used in March 2023 MYA"]
[null,"INSERT","CTE Unit Count Jan 2023 CLASS course collection","AAA","Data Ready","3.12.23","complete","MLB","3.13.23","Tab - Table 8 SIS 10.1.22 CTE "]
[null,"INSERT","SWD Count","AAA","NOT Available","3.12.23","complete","MLB","3.13.23","Placeholder - use 2.1.22 count used in 22-23 July BL"]
[null,"INSERT","GT Count","AAA","NOT Available","3.12.23","complete","MLB","3.13.23","Placeholder - use 2.1.22 count used in 22-23 July BL"]
["To DO","INSERT","SWD Count","AAA","Data Ready","6.5.23","complete","MLB","5.31.23","Tab - Table 8 SIS 2.1.23 SWD "]
["To DO","INSERT","GT Count","AAA","Data Ready","6.5.23","complete","MLB","5.31.23","Tab - Table 8 SIS 2.1.23 GT"]
[]
[]
[null,null,"Table 3, Level 1 - 65/35% Split"]
[null,"CALCULATE","Update 65/35 split - March version","SSFS",null,null,"complete","BS","3.113.23","TABLE 6"]
[null,"AFTER STUDENT AND TAX DATA INSERTED"]
["To DO","CALCULATE","Update 65/35 split - July version","SSFS",null,null,"complete","BS","6.22.23","TABLE 6"]
[]
[]
[null,null,"Table 3, Level 2 - Column 17 - Tax Incrementing Financing (TIF) "]
["To DO","INSERT","Livingston TIF Amount","SSFS","Data Ready","6.5.23","complete","mlb","6.16.23","AFR KPC 0000900 entered as subtraction ","J:\\mf\\EFS\\MFPAdm\\MFP Budget Letter\\2023-2024\\TIF"]
[]
[]
[]
[null,null,"Lab Schools"]
[null,"INSERT","Base Count 2.1.23","AAA","Data Ready","3.12.23","complete","MLB","3.13.23","Tab - Table 8  SIS 2.1.23 BASE"]
[null,"Auto Update","Per Pupils for Lab Schools","SSFS","Data Ready","3.12.23","complete",null,null,"Per Pupil Summary column 15"]
["To DO","Auto Update","Per Pupils for Lab Schools","SSFS","PENDING",null,null,null,null,"Per Pupil Summary column 15"]
[]
[]
[null,null,"Legacy Type 2 Charter Schools"]
[null,"INSERT","Base Count 2.1.23","AAA","Data Ready","3.12.23","complete","MLB","3.13.23","Tab - Table 8  SIS 2.1.23 BASE"]
[null,"INSERT","Economically Disadvantaged Count 2.1.23","AAA","Data Ready","3.12.23","complete","MLB","3.13.23","Tab - Table 8 SIS 2.1.23 ED count used in March 2023 MYA"]
[null,"INSERT","CTE Unit Count Jan 2023 CLASS course collection","AAA","Data Ready","3.12.23","complete","MLB","3.13.23","Tab - Table 8 SIS 10.1.22 CTE "]
[null,"INSERT","SWD Count","AAA","NOT Available","3.12.23","complete","MLB","3.13.23","Placeholder - use 2.1.22 count used in 22-23 July BL"]
[null,"INSERT","GT Count","AAA","NOT Available","3.12.23","complete","MLB","3.13.23","Placeholder - use 2.1.22 count used in 22-23 July BL"]
[null,"Auto Update","Per Pupils for State and LRR for Legacy ","SSFS","Data Ready","3.12.23","complete",null,null,"Per Pupil Summary column 7,8,9,10, 11 or 12 +13","(source: Final Charter Per Pupil)"]
["To DO","Auto Update","Per Pupils for State and LRR for Legacy ","SSFS","PENDING",null,null,null,null,"Per Pupil Summary column 7,8,9,10, 11 or 12 +13","(source: Final Charter Per Pupil)"]
["To DO","INSERT","SWD Count","AAA","Data Ready","6.5.23","complete","MLB","6.13.23","Tab - Table 8 SIS 2.1.23 SWD "]
["To DO","INSERT","GT Count","AAA","Data Ready","6.5.23","complete","MLB","6.13.23","Tab - Table 8 SIS 2.1.23 GT"]
[]
[null,null,"Office of Juvenile Justice (OJJ)"]
[null,"INSERT","Avg Daily Membership (ADM) ","AAA","Data Ready","3.12.23","complete",null,null,"Placeholder","Used ADM from March 2023 BL"]
[null,"Auto Update","Level 1, 2 and 3 Per Pupil, Table 3 ","AAA","Data Ready","3.12.23","complete",null,null,"Auto updates once Level 1, 2 and 3 updated"]
["To DO","Auto Update","Level 1, 2 and 3 Per Pupil, Table 3 ","AAA",null,null,"complete",null,null,"Auto updates once Level 1, 2 and 3 updated"]
[]
[null,null,"State Schools - NOCCA, LSMSA, Thrive, SSD"]
[null,"INSERT","Base Count 2.1.23","AAA","Data Ready","3.12.23","complete","MLB","3.13.23","Table 8 "]
[null,"Auto Update","State and Local Per Pupils for State Schools","SSFS","Data Ready","3.12.23",null,null,null,"Per Pupil Summary column 17"]
[]
[]
[null,null,"RSD Operated Schools and Type 5 Charters"]
[null,"INSERT","Base Count 2.1.23","SSFS","Data Ready","3.12.23","complete","MLB","3.13.23","RSD Operated and Type 5 tab within the 2.1.23 Student Count file used in March 2023 MYA "]
[null,"Auto Update","Per Pupils for RSD Operated & Type 5 Charter Schools ","SSFS","Data Ready","3.12.23",null,null,null,"Per Pupil Summary column 15"]
["To DO","INSERT","Type 5 Charter Schools - Remove Democracy Prep","SSFS","Data Ready","6.5.23","complete","MLB","6.13.23","See email from Pam Schooler","J:\\mf\\EFS\\MFPAdm\\MFP Budget Letter\\2023-2024\\Type 2s","Type 5 schools in 23-24 = Dalton, Lanier, Glenn Oaks"]
["To DO","INSERT","Type 5 Charter Schools - Remove Kenilworth ","SSFS","Data Ready","6.5.23","complete","MLB","6.13.23","See email from Pam Schooler","J:\\mf\\EFS\\MFPAdm\\MFP Budget Letter\\2023-2024\\Type 2s"]
["To DO","INSERT","RSD Operated - Remove Capital High","SSFS","Data Ready","6.5.23","complete","MLB","6.13.23","See email from Pam Schooler","J:\\mf\\EFS\\MFPAdm\\MFP Budget Letter\\2023-2024\\Type 2s","RSD Operate in 23-24 - Linwood and Democracy Prep"]
["To DO","INSERT","RSD Operated - Add Prescott","SSFS","Data Ready","6.5.23","complete","MLB","6.13.23","See email from Pam Schooler","J:\\mf\\EFS\\MFPAdm\\MFP Budget Letter\\2023-2024\\Type 2s"]
[]
[]
[null,null,"New Type 2 Charter Schools"]
[null,"INSERT","Base Count 2.1.23","AAA","Data Ready","3.12.23","complete","MLB","3.13.23","Table 8 "]
[null,"INSERT","Economically Disadvantaged Count 2.1.23","AAA","Data Ready","3.12.23","complete","MLB","3.13.23","2.1.23 count used in March 2023 MYA"]
[null,"INSERT","CTE Unit Count Jan 2023 CLASS course collection","AAA","Data Ready","3.12.23","complete","MLB","3.13.23"]
[null,"INSERT","SWD Count","AAA","NOT Available","3.12.23","complete","MLB","2023-04-01","Placeholder - use 2.1.22 count used in 23-24 July BL"]
[null,"INSERT","GT Count","AAA","NOT Available","3.12.23","complete","MLB","2023-05-01","Placeholder - use 2.1.22 count used in 23-24 July BL"]
[null,"Auto Update","Per Pupils for Legacy T2 schools ","SSFS","Data Ready","3.12.23",null,null,null,"Per Pupil Summary columns 6,7,8,9,10 plus 11 or 12","(source: Final Charter Per Pupil)"]
["To DO","INSERT","SWD Count","AAA","Data Ready","6.5.23","complete","MLB","5.31.23","Tab - Table 8 SIS 2.1.23 SWD "]
["To DO","INSERT","GT Count","AAA","Data Ready","6.5.23","complete","MLB","5.31.23","Tab - Table 8 SIS 2.1.23 GT"]
[null,null,"Row for each New Level 4 "]
["To DO","DELETE","William Scholar  - Remove Tab-  School Closed in 22-23  ",null,null,null,"complete","MLB","6.13.23","Should the Tab be hidden or deleted?"]
["To DO","INSERT","Add Kenilworth, New school",null,null,null,"complete","MLB","6.13.23"]
["To DO","INSERT","Add La Key Academy in Caddo - New School",null,null,null,"complete","MLB","6.13.23"]
["To DO","INSERT","Add Discovery - New School",null,null,null,"complete","MLB","6.13.23"]
[]
[]
[]
[]
[null,null,"New Type 2 Charter Schools Summary"]
["To DO","INSERT","Row for each new charter school",null,null,null,"complete","MLB","6.13.23"]
[]
[null,null,"Delete Closed Charter Schools"]
["To DO","INSERT","William Scholar",null,null,null,"complete","BS","6.22.23"]
[]
[null,null,"Table 4, Level 4"]
["To DO","INSERT","Add Mildred Osborne - new OPSB school",null,null,null,"complete","MLB","6.13.23"]
["To DO","INSERT","Close 5 OPSB schools",null,null,null,"complete","MLB","6.13.23"]
[null,"No change","IAT Salary - March 2023 BL data","SSFS/Int Lang","Data Ready","3.12.23","Complete","in 22-23 March BL",null,"Placeholder","N/A"]
["To DO","INSERT","IAT Salary - new count ","SSFS/Int Lang","Data Ready",null,"complete","MLB","6.13.23",null,null,"Requested info from Michele Braud"]
[null,"No change","IAT Stipend - March 2023 BL data","SSFS/Int Lang","Data Ready","3.12.23","Complete","in 22-23 March BL",null,"Placeholder","N/A"]
["To DO","PENDING","IAT Stipend 1st year - Delete placeholder data","SSFS/Int Lang","Pending till fall 2023 (1st year)",null,null,null,null,null,null,"Data will be provided in August/September "]
["To DO","PENDING","IAT Stipend 2nd & 3rd year - Delete placeholder data","SSFS/Int Lang","Pending till May 2023 (2nd and 3rd year)",null,null,null,null,null,null,"Data will be provided in Spring 2024"]
["March","No change","CDF Course Units and Cost - March 2023 BL data","AAA","Data Ready","3.12.23","Complete","in 22-23 March BL",null,"Placeholder","N/A","In the past, CDF has been projected to grow by 15% annually and that trend has held true until March 2023 BL calculation.  The projectin was too high by $2 M.  Therefore, no increase is going to be estimated for the 23-24 Projected Budget Letter.  "]
["To DO","INSERT","Calculate new CDF - 75% of 22-23 allocation","SSFS","Data Ready","6.5.23","complete","MLB","6.13.23",null,null,"See the calculation from 22-23 for guidance"]
["March","No change","High Cost Services (HCS) Allocation ","SSFS","NOT Available","3.12.23","Complete","in 22-23 March BL",null,"Placeholder","N/A","HCS has not been calculated for 23-24 yet; use $12 M placeholder in Level 4 and Detailed State Summary reconcilation to reserve $12 M in Projected 23-24 "]
["March","No change","Supplemental Course Allocation (SCA)  - Reconciliation","SSFS","Data Ready","3.12.23","Complete","in 22-23 March BL",null,"Placeholder","N/A","SCA allocation is final until reconcilation in May 2023.  Recalculate  based on grades 7 - 12  on 2.1.23 data for July 2023 BL"]
["To DO","INSERT","Calculate Supplemental Course Allocation (SCA) - Initial","AAA","Data Ready","6.5.23","complete","MLB","6.13.23","2.1.23 Student Count file, tab Feb SCA",null,"Must use new 7 - 12 students on 2.1.23 for allocation starting in July"]
["March","No change","Mentor Stipend Allocation","AAA","Data Ready","3.12.23","Complete","in 22-23 March BL",null,"Placeholder"]
["To DO","DELETE","Delete mentor Stipend Allocation","AAA",null,null,"complete","MLB","6.13.23"]
[null,"No change","Staff FTE Count for Pay Raises - Fall 2022 Budgeted Staff Count, used in March 2023 BL\n19-20 Pay Raise, 21-22 Pay Raise, and 22-23 Pay Raise","AAA","Data Ready","3.12.23","Complete","in 22-23 March BL",null,"Placeholder","N/A"]
[]
["March","INSERT","Retirement Rate for Pay Raises - 2023-24 Contribution Rates for TRSL and LSERS","SSFS","Data Ready","3.12.23","complete","BS","3.13.23","Rates are in PDF files in 2023-24 BL"]
[]
[]
[null,null,"Mid Year Adjustment Columns - All tabs"]
[null,"DELETE","zero out the numbers, no replacement necessary",null,null,null,"complete","MLB","3.14.23","NA"]
[]
[null,null,"Year to Date Payments - All tabs"]
[null,"DELETE","zero out the numbers, no replacement necessary",null,null,null,"complete","MLB","3.14.23","NA"]
[]
[null,null,"Prior Year Audit Adjustment Columns - All tabs"]
[null,"DELETE","zero out the numbers, no replacement necessary",null,null,null,"complete","MLB","3.14.23","NA"]
[]
[null,null,"Page Headers - All tabs"]
[null,"DELETE","Fiscal Year, no replacement necessary",null,null,null,"complete","MLB","3.14.23","NA"]
[]
[]
[]
[]
[]
[]
[]
[]
[null,null,"Table 1 tab"]
["To DO","DELETE","new Level 4 items, Ecole Pointe au Chien, 23-24 Pay Raise, Diff Compensation, Apprenticeships, Resident Teacher Stipend",null,null,null,"complete","BS","6.13.23"]
["To DO","RECONCILE","Check MFP cost vs Appropriation",null,null,null,null,"BS",null,"6.13.23 added Appropriation amount - continue monitoring"]
[]
[]
[null,null,"Detailed State Summary tab"]
["To DO","INSERT","Prior Year Audit Adj Estimate - Placeholder",null,null,null,"complete","BS","6.19.23"]
["To DO","INSERT","Mid Year Adjustment Estimate - Placeholder",null,null,null,"complete","BS","6.19.23"]
["To DO","INSERT","23-24 Pay Raise, $2000/$1000 Row and Allocation Link",null,null,null,"complete","BS","6.19.23"]
["To DO","INSERT","Differentiated Compensation Allocation Row and Allocation Link",null,null,null,"complete","BS","6.19.23"]
["To DO","INSERT","Apprenticeships Allocation Row and Estimate",null,null,null,"complete","BS","6.19.23"]
["To DO","INSERT","Resident Teacher Stipend Allocation Row and Allocation Link",null,null,null,"complete","BS","6.19.23"]
["To DO","INSERT","Growth of CDF - projected as 10%",null,null,null,"complete","BS","6.19.23"]
["To DO","INSERT","New charter schools in 23-24, not enough info at 3.14.23",null,null,null,"complete","BS","6.19.23"]
[]
[null,"Outstanding Issues"]
[]
["To DO","INSERT","ck that we did not include ineligible site in SSD count","verified mlb 6.16.23"]
["To DO","INSERT","used special student estimates for Discovery","verified bs 6.22.23"]
["To DO","INSERT","used special student estimates for Kenilworth","verified bs 6.22.23"]
["To DO","INSERT","used special student estimates for La Key Caddo","verified bs 6.22.23"]
["To DO","INSERT","used special student estimates for Prescott","TO DO"]
[]
[]
[null,"PRINT AND PUBLIC RELEASE STEPS"]
[null,null,"CHECK EACH PAGE  PRINT VIEW/PDF VIEW "]
[null,null,"make sure pages are one page and do not carry over lengthwise"]
[null,null,"put page breaks in reasonable easy to each places"]
[]
[null,null,"SAVE FILE ONCE PRINT VIEW IS DONE"]
[]
[null,null,"CREATE PUBLIC FACING VIEW"]
[null,null,"Move all green tabs to different workbook"]
[null,null,"clean all wording and #s outside print area"]

{"sheet":"Table List","index":4,"n_rows":71,"n_cols":2,"rows_kept":71,"cut":false,"hidden":false,"merged":[]}
["Detailed Listing of MFP Formula Tables"]
[]
["Table 1","State Level Summary"]
[]
["Table 2","MFP Distribution and Adjustments"]
[null,"Provides the total state cost allocation, minus audit adjustments, and the monthly MFP payments for the 69 city/parish school systems"]
[]
["Table 2A-1","MFP Transfer Amount (Annual)"]
[null,"Provides the annual MF{ state cost allocation (from Table 2) for the 69 city/parish school systems, minus the local revenue representation due to other public schools"]
[]
["Table 2A-2","MFP Transfer Amount (Monthly)"]
[null,"Provides the monthly MFP state cost allocation amount (from Table 2) for the 69 city/parish schools systems, minus the local revenue representation due to other public schools"]
[]
["Table 3","Level 1 Base Cost and Level 2 Reward Incentive Allocations "]
[null,"Provides the detailed calculation of Levels 1 and 3 including student counts along with a summary of totals for all 3 Levels "]
[]
["Table 3A","Level 3 Legislative Allocations"]
[null,"Provides funding for:"]
[null,"Pay Raise Allocation (Continuation of pay raises given in prior years 2001-02 through 2008-09)"]
[null,"Historical Formula Allocation"]
[null,"Mandated Costs Allocation "]
[]
["Table 4","Level 4 Supplementary Allocations"]
[null,"Provides allocations for specific purposes:"]
[null,"International Language Associate/Escadrille Salary"]
[null,"International Language Associate/Escadrille 1st, Second, and Third Year Stipends"]
[null,"Career Development Fund (CDF)"]
[null,"High Cost Services (HCS)"]
[null,"Supplemental Course Allocation (SCA)"]
[null,"2019-20 Certificated and Support Staff Pay Raises"]
[null,"2021-22 Certificated and Support Staff Pay Raises"]
[null,"2022-23 Certificated and Support Staff Pay Raises"]
[null,"(Note:  Resident Teachers are funded within Pay Raise Allocations)"]
[null,"Mentor Teacher Stipends"]
[]
["Table 5A1","LSU and SU Lab Schools Allocation "]
[]
["Table 5A2","Legacy Type 2 Charter Schools Allocation "]
[]
["Tables 5A2A - 5A2H","Legacy Type 2 Charter School Allocations - School Specific"]
[]
["Table 5A3","Office of Juvenile Justice (OJJ) Schools Allocation"]
[]
["Table 5A4","New Orleans Center for Creative Arts (NOCCA) Allocation"]
[]
["Table 5A5","Louisiana School for the Math, Science, and the Arts (LSMSA) Allocation"]
[]
["Table 5A6","Thrive Academy Allocation"]
[]
["Table 5A7","Special School District (SSD) (including LSDVI)"]
[]
["Table 5B2","Recovery School District (RSD-LA) (including Operated & Type 5 Charters)"]
[]
["Table 5C1","New Type 2 Charter Schools Allocation (Summary)"]
[]
["Tables 5C1A - 5C3","New Type 2 Charter School Allocations - School Specific"]
[]
["Table 6","Local Dedication Calculation"]
[null,"Provides the calculation of the Local Deduction amount for the city/parish school systems"]
[]
["Table 7","Local Property and Sales Tax Revenues Data"]
[null,"Provides for the summary of the Net Assessed Property Values, Ad Valorem and Sales Tax amounts, and millage and sales tax rates for the 69 city/parish school systems"]
[]
["Table 8","February 1 Base Student Count"]
[null,"Provides the MFP student membership count for the school systems and schools funded through the MFP formula"]
[]
["Table 8A","February 1 Student Counts - RSD"]
[null,"Provides the MFP student membership count for the RSD Operated and Type 5 charter schools by parish and site"]
[]
["Table 9","Per Pupil Summary"]
[null,"Provides the per pupil amounts used to calculate the state cost allocations and local revenue representation amounts"]

{"sheet":"Data Sources","index":5,"n_rows":36,"n_cols":6,"rows_kept":36,"cut":false,"hidden":false,"merged":[]}
[null,"Data Sources"]
[]
[null,"MFP Budget Letter ","FY2024-25"]
[]
[null,"MFP formula calculations utilize the following data:"]
[]
["Table","Data Element within Formula","Date or Time Period ","Status- July","Data Source","Data Definition"]
[]
[3,"Base Student Count","February 1, 2024 Base Student Count","Final","EdLink Student & Enrollment from Processing Period 3","MFP eligible students are enrolled and actively attending  as of the count date"]
[3,"Economically Disadvantaged Weight Student Count","February 1, 2024 Student Count","Final","EdLink Student & Enrollment (PP3) & LDH data file","MFP eligible students who are also Economically Disadvantaged "]
[3,"Career and Technical Education (CTE) Unit Count","October 2023 Unit Count","Final","EdLink Student & Course enrollments (PP2)","Count of course enrollments in specific CTE eligible courses."]
[3,"Students with Disabilties Weight Student Count","February 1, 2024 Student Count","Final","EdLink Student (PP3) & eSER","MFP eligible students who are also identified as Students with Disabilities and actively receiving services "]
[3,"Gifted and Talented Weight Student Count","February 1, 2024 Student Count","Final","EdLink Student & Enrollment (PP3) & eSER","MFP eligible students who are also identified as Gifted and Talented students and actively receiving services "]
[3,"Econcomy of Scale Weight Student Count","February 1, 2024 Base Student Count","Final","EdLink Student (PP3)","School systems with student counts of 7,500 or less"]
[7,"Net Assessed Taxable Property Values","2022 Louisiana Tax Commission Annual Report","Final","Louisiana Tax Commission","Net Assessed Taxable Property Values"]
[7,"City & Parish School System Local Revenues and Tax Rates","FY 2022-2023 Annual Financial Report (AFR)","Final","Annual FinancialReport (AFR)","Ad valorem and Sales Taxes + Other Revenues"]
[7,"AFR Audit Adjustments","FY 2022-23 MFP AFR Data Audits ","Final","Annual Financial Reports and LEA Single Audits "]
["3A","Pay Raise Allocation (Continuation of pay raises given in prior years 2001-02 through 2008-09)","February 1, 2024 Base Student Count","Final","EdLink Student & Enrollment from Processing Period 3","MFP eligible students are enrolled and actively attending  as of the count date"]
["3A","Historical Formula Allocation","February 1, 2024 Base Student Count","Final","EdLink Student & Enrollment from Processing Period 3","MFP eligible students are enrolled and actively attending  as of the count date"]
["3A","Mandated Costs Allocation ","February 1, 2024 Base Student Count","Final","EdLink Student & Enrollment from Processing Period 3","MFP eligible students are enrolled and actively attending  as of the count date"]
[4,"International Language Associate/Escadrille Salary","Prior Year - February 2024 Count of International Language Associate/Escadrille Teacher Count","Final","Prior Year International Language Associate/Escadrille Teacher Count","International Language Associate/Escadrille Teachers"]
[4,"International Language Associate/Escadrille 1st, Second, and Third Year Stipends","2024-25 Count of International Language Associate/Escadrille Teachers Eligible for Stipends","Pending - Data Available in Fall 2024 and Spring 2025","Current Year International Language Associate/Escadrille Teachers Eligible for Stipends ","International Language Associate/Escadrille Teachers Eligible for Stipends "]
[4,"Career Development Fund (CDF) - Initial Allocation","75% of Prior Year CDF Allocations","Complete","Prior Year MFP CDF Allocations"]
[4,"Career Development Fund (CDF) - Final Allocation","Enrollments in 2024-25 Jump Start Techncial Course Grid, 2023-24 Class Schedule Data Collection","Pending - Data Available Spring 2025","EdLink Student & Courses (PP2)","Jump Start Techncial Courses  and Student Class Schedule Data "]
[4,"High Cost Services (HCS)","HCS Applications - Round 1","Pending - Data Available Spring 2025","Applications through eGMS","HCS Approved Applications"]
[4,"Supplemental Course Allocation (SCA) - Initial Allocation ","February 1, 2024 Base Student Count for Grades 7 - 12","Complete","EdLink Student & Enrollment (PP3)","Grades 7 - 12, February 1 Base Student Count"]
[4,"Supplemental Course Allocation (SCA) - Reallocation","Reallocation includes a review by Program staff on usage of funds and adjustments to allocations ","Pending - Data Available Spring 2025","SCA Spending Data Collection","SCA Spending Data "]
[4,"2019-20, 2021-22, and 2022-23 Certificated and Support Staff Pay Raises - Initital Allocation","Fall 2023 Staffing Data Collection","Complete","EdLink Fall / Winter CLASS Collection (PP2)","Pay Raise Eligible Positions  "]
[4,"2019-20, 2021-22, and 2022-23 Certificated and Support Staff Pay Raises -  Final Allocation","Fall 2024 Staffing Data Collection","Pending - Data Available Spring 2025","EdLink Fall / Winter CLASS Collection (PP2)","Pay Raise Eligible Positions  "]
[4,"Resident Teachers ","Fall 2024 Staffing Data Collection + Special Resident Teacher Data Collection","Pending - Data Available Winter 2025","Fall Mentor & Resident Collection & EdLink Fall / Winter CLASS Collection (PP2)","Eligible Resident Teachers"]
[4,"Mentor Teacher Stipends","Fall 2023 Staffing Data Collection + Special Mentor Teacher Data Collection","Pending - Data Available Winter 2025","Fall Mentor & Resident Collection & EdLink Fall / Winter CLASS Collection (PP2)","Eligible Mentor Teachers"]
[9,"Per Pupil Summary/Charter Per Pupil - Initial ","FY 2023-24 Local Tax Survey and February 1, 2024 Student Counts","Final ","AFR Local Revenue Tax Survey","Projected Local Revenues "]
[9,"Per Pupil Summary/Charter Per Pupil - Final","FY2023-24 Annual Financial Report (AFR) and October 1, 2024 Student Counts","Pending - Data Available Spring 2025","AFR","Actual Local Revenues"]
["Various ","October Mid Year Adjustments","October 1, 2024 Student Counts","Pending - Data Available Winter 2025","EdLink Student & Enrollment (PP1)"]
["Various ","February Mid Year Adjustments","February 1, 2025 Student Counts","Pending - Data Available Winter 2025","EdLink Student & Enrollment (PP3)"]
["Various ","Prior Period MFP Audit Adjustments","October 1, 2022 And February 1, 2023 ","Pending - Data Available Fall 2024","MFP Student Count Audits"]

{"sheet":"for incrementing columns (DNCHG","index":6,"n_rows":0,"n_cols":0,"rows_kept":0,"cut":false,"hidden":true,"merged":[]}

{"sheet":"1_State Summary","index":7,"n_rows":11,"n_cols":2,"rows_kept":11,"cut":false,"hidden":false,"merged":[[0,0,0,1],[1,0,1,1],[0,8,0,9],[1,8,1,9]]}
["FY2024-25 MFP Budget Letter"]
["TABLE 1: STATE LEVEL SUMMARY"]
["MFP Formula Items","BESE Adopted \nProjection \nJuly 2024"]
["Level 1 State Cost Allocation",2451118593]
["Level 2 Incentive for Local Effort ",517357461]
["Level 3 Legislative Allocations\n(Continuation of Prior Year Pay Raises, Historical Formula Allocation, Mandated Costs)",598050044]
["Level 4 Supplementary Funding \nInternational Language/Escadrille Associate Program Salary and Stipends, Career Development Fund (CDF), High Cost Services (HCS), Supplemental Course Allocation (SCA), FY2019-20, FY2021-22 and  FY2022-23 Certificated & Non-Certificated Pay Raises, and Mentor Teacher Stipends\n\n",397302057.5]
["Allocations for Other Public Schools\nLab Schools, State Schools, and Legacy Type 2 Charter Schools",73614202.493262723]
["Prior Year Audit Adjustments ",-2048105]
["Mid-Year Adjustments (Oct and Feb)  ",-2000000]
["Total MFP Allocation",4033394252.9932628]

{"sheet":"2_State Distrib and Adjs","index":8,"n_rows":76,"n_cols":64,"rows_kept":76,"cut":false,"hidden":false,"merged":[[3,0,3,1],[5,0,5,1],[0,42,1,42],[0,3,0,7],[0,0,1,1],[0,2,1,2],[0,41,1,41],[0,8,0,14],[0,15,0,20],[0,21,0,26],[0,32,0,40],[0,56,1,56],[0,57,1,57],[0,58,1,58],[0,27,0,31],[0,63,1,63],[0,59,0,62],[0,55,1,55],[0,43,0,45],[0,46,0,48],[0,49,1,49],[0,50,0,54]]}
["School Systems\nand Schools",null,"Total MFP\nState Cost\nAllocation\n\n(Levels 1, 2,\n& 3 with\nContinuation\nof Prior Year\nPay Raises)","Minus State Cost Allocations to Other Public Schools",null,null,null,null,"Minus State Cost Allocations to Other Public Schools",null,null,null,null,null,null,"Minus State Cost Allocations to Other Public Schools",null,null,null,null,null,"Minus State Cost Allocations to Other Public Schools",null,null,null,null,null,"Minus State Cost Allocations to Other Public Schools",null,null,null,null,"Minus State Cost Allocations to Other Public Schools",null,null,null,null,null,null,null,null,"\nTotal MFP\nAllocation\n- State Cost\nAllocations to\nOther Public\nSchools","City/Parish\nPer Pupil\n\n(After State Cost\nAllocations to\nOther Public\nSchools)","Prior Years Audit Adjustments\nCity/Parish Only",null,null,"Mid-Year Adjustment for Students",null,null,"\nTotal MFP\nAllocation\n- State Cost\nAllocations to\nOther Public\nSchools\n+/- Adjustments","Level 4 Funds Paid Monthly",null,null,null,null,"\nTotal MFP\nAllocation\n- State Cost\nAllocations to\nOther Public\nSchools\n+/- Adjustments\n+ Monthly Level 4"," YTD\nPayments","Balance\nRemaining","Monthly\nPayments","Level 4 Funds Paid Annually",null,null,null,"\nTotal MFP\nAllocation\n- State Cost\nAllocations to\nOther Public\nSchools\n+/- Adjustments\n+ Total Level 4\nFunds"]
[null,null,null,"Recovery\nSchool\nDistrict\n&\nType 5\nCharters","Madison\nPrep\n\n\n\n343001","D'Arbonne\nWoods\n\n\n\n341001","International\nHigh School\n\n\n\n344001","New\nOrleans\nMilitary/\nMaritime\n\n348001","Lycee\nFrancais\n\n\n\n347001","Lake\nCharles\nCharter\n\n\n346001","J.S. Clark\nAcademy\n\n\n\nWAL001","Southwest\nLouisiana\nCharter\n\n\nWAK001","Louisiana\nKey\nAcademy\n\n\nW7A001","JCFA\nEast\n\n\n\nW1A001","GEO Prep\nMid-City\n\n\n\nWZ8001","Delta \nCharter\nSchool\n\n\nW4A001","Impact\nCharter\n\n\n\nW8A001","Advantage\nCharter\nAcademy\n\n\nW1B001","Iberville\nCharter\nAcademy\n\n\nW3B001","Lake\nCharles\nCollege\nPreparatory\n\nW4B001","Northeast\nClaiborne\nCharter\n\n\nW5B001","Acadiana\nRenaissance\n\n\n\nW6B001","Lafayette\nRenaissance\n\n\n\nW7B001","Willow\nCharter\nAcademy\n\n\nW2B001","GEO\nPrep\nAcademy\n\n\nWAU001","Lincoln\nPrep\nSchool\n\n\nW33001","Noble\nMinds\nInstitute\n\n\nW18001","JCFA\nLafayette\n\n\n\nW1D001","Collegiate\nAcademy\n\n\n\nWJ5001","New\nHarmony\nHigh\nSchool\n\nWBQ001","Athlos\nAcademy\nof Jefferson\nParish\n\nWBR001","GEO Next\nGeneration\nHigh School\n\n\nWBX001","St Landry\nCharter\nSchool\n\n\n3C5001","Geo Prep Baker\n\n\n\nWZN001","Louisiana Key Academy Northshore\n \n\nWZO001","Discovery Ochsner Baton Rouge\n\n\nWZP001","Kenilworth Science and Technology Academy\n\nWZQ001","Louisiana Key Caddo\n\n\nWZT001","Louisiana\nVirtual\nCharter\nAcademy\n\nWAG001","University\nView\nAcademy\n\n\n345001","Total\nState Cost \nAllocations\nto Other\nPublic\nSchools",null,null,"Prior Years\nMFP Audit\nAdjustments\n","Total\nDue to\nDistrict\n(+)","Total\nDue to\nState\n(-)","October\n\nMid-Year\nAdjustment\nfor Students","February\n\nMid-Year\nAdjustment\nfor Students","Total\nMid-Year\nAdjustment\nfor Students",null,"Salaries for\nInternational\nAssociate/\nEscadrille\nTeachers","Supplemental\nCourse\nAllocation\n\n(Initial)","FY2019-20\nCertificated\nand Non-\nCertificated\nPay Raise","FY2021-22\nCertificated\nand Non-\nCertificated\nPay Raise","FY2022-23\nCertificated\nand Non-\nCertificated\nPay Raise",null,null,null,null,"Stipends for\nInternational\nAssociate/\nEscadrille\nTeachers","Career\nDevelopment\nFund\nAllocation\n\n","High Cost\nServices\nAllocation","Mentor \nTeacher Stipend Allocation"]
[]
["FY2024-25",null,1,2,3,4,5,6,7,8,9,10,11,12,13,14,15,16,17,18,19,20,21,22,23,24,25,26,27,28,29,30,31,32,33,34,35,36,37,38,39,40,41,42,43,44,45,46,47,48,49,50,51,52,53,54,55,56,57,58,59,60,61,62]
["July 2024",null,"Link in File","Link in File","Link in File","Link in File","Link in File","Link in File","Link in File","Link in File","Link in File","Link in File","Link in File","Link in File","Link in File","Link in File","Link in File","Link in File","Link in File","Link in File","Link in File","Link in File","Link in File","Link in File","Link in File","Link in File","Link in File","Link in File","Link in File","Link in File","Link in File","Link in File",null,null,null,null,null,null,"Link in File","Link in File","Formula","Formula","Formula","Link out\nof File","Formula","Formula","Link out\nof File","Link out\nof File","Formula","Formula","Link in File","Link in File",null,null,null,"Formula","Formula","Formula","Formula","Link in File","Link in File","Link in File",null,"Formula"]
["July 2024",null,"(T3, C33)","(T5B2, C6)","-(T5C1A, C16)","-(T5C1B, C16)","-(T5C1C, C16)","-(T5C1D, C16)","-(T5C1E, C16)","-(T5C1F, C16)","-(T5C1G, C16)","-(T5C1H, C16)","-(T5C1I, C16)","-(T5C1J, C16)","-(T5C1M, C16)","-(T5C1N, C16)","-(T5C1O, C16)","-(T5C1Q, C16)","-(T5C1R, C16)","-(T5C1S, C16)","-(T5C1T, C16)","-(T5C1U, C16)","-(T5C1V, C16)","-(T5C1W, C16)","-(T5C1Y, C16)","-(T5C1Z, C16)","-(T5C1AE, C16)","-(T5C1AF, C16)","-(T5C1AG, C16)","-(T5C1AI, C16)","-(T5C1AJ, C16)","-(T5C1AK, C16)","-(T5C1AN, C16)","-(T5C1AO, Col. 16)","-(T5C1AP, Col. 16)","-(T5C1AQ, Col. 16)","-(T5C1AR, Col. 16)","-(T5C1AS, Col. 16)","-(T5C2,\nCol. 16 + Col. 17)","-(T5C3,\nCol. 16 + Col. 17)","Sum (Col. 2:Col. 38)","Sum (Col. 1:Col. 38)","Col. 60 ÷ (T8, Col. 1)","Link to Audit File","If Col. 42 > 0, Col. 42, 0","If Col. 42 < 0, Col. 42, 0","Link to October Tab in Mid-Year File","Link to February Tab in Mid-Year File","Col. 45 + Col. 46","Col. 40 + Col. 42 + Col. 47","(T4, Col. E)","(T4, Col. Q)","(T4, Col. AC)","(T4, Col. AO)","(T4, Col. BA)","Sum (Col. AX:Col. BC)","Prior Month File:\n(T2, Col. BE + Col. BG)","Col. BD - Col. BE","Col. BF ÷ Months\nRemaining","(T4, Col. J)","(T4, Col. L)","(T4, Col. M)","(T4, Col. BC)","Col. BD + Col. BH + Col. BI + Col. BJ + Col. BK"]
[1,"Acadia",56459222,0,0,0,-736,0,0,0,-13114,0,0,0,0,0,0,0,0,0,0,0,-331995,-57355,0,0,0,-11642,0,0,0,0,-5821,0,0,0,0,0,-120956,-186033,-727652,55731570,6353,null,0,0,null,null,0,55731570,0,260260,1185188,948151,1777785,59902954,null,59902954,4991913,0,188522,0,0,60091476]
[2,"Allen",28077424,0,0,0,0,0,0,-6162,0,0,0,0,0,0,0,0,0,0,0,0,0,0,0,0,0,0,0,0,0,0,0,0,0,0,0,0,-31313,-128352,-165827,27911597,7540,null,0,0,null,null,0,27911597,0,115500,623741,498993,935612,30085443,null,30085443,2507120,0,115319,0,0,30200762]
[3,"Ascension",115184100,0,-12839,0,0,0,0,0,0,0,-122092,0,-7936,0,0,0,-328136,0,0,0,-12915,0,-12841,0,0,0,-4676,0,0,0,0,0,0,-13572,0,0,-136409,-584755,-1236171,113947929,4848,null,0,0,null,null,0,113947929,0,761320,3594441,2875553,5391661,126570904,null,126570904,10547575,0,868142,0,0,127439046]
[4,"Assumption",17926250,0,0,0,0,0,0,0,0,0,0,0,0,0,0,0,-44402,0,0,0,-27683,0,0,0,0,0,0,0,0,0,0,0,0,0,0,0,-85418,-94016,-251519,17674731,6764,null,0,0,null,null,0,17674731,42000,80570,411332,329066,616999,19154698,null,19154698,1596225,0,60009,0,0,19214707]
[5,"Avoyelles",33082305,0,0,0,0,0,0,0,0,0,0,0,0,0,0,0,0,0,0,0,0,0,0,0,0,0,0,0,0,0,0,0,0,0,0,0,-122079,-253202,-375281,32707024,7032,null,0,0,null,null,0,32707024,0,150220,577035,461628,865553,34761460,null,34761460,2896788,0,166652,0,0,34928112]
[6,"Beauregard",33434762,0,0,0,0,0,0,-10657,0,-5328,0,0,0,0,0,0,0,0,0,0,0,0,0,0,0,0,0,0,0,0,0,0,0,0,0,0,-95632,-70201,-181818,33252944,6025,null,0,0,null,null,0,33252944,0,166950,845226,676180,1267837,36209137,null,36209137,3017428,0,68504,0,0,36277641]
[7,"Bienville",7536876,0,0,0,0,0,0,0,0,0,0,0,0,0,0,0,0,0,0,0,0,0,0,-55885,0,0,0,0,0,0,0,0,0,0,0,0,-16039,-36324,-108248,7428628,4216,null,0,0,null,null,0,7428628,0,55230,367969,294375,551954,8698156,null,8698156,724846,0,50068,0,0,8748224]
[8,"Bossier",132302397,0,0,0,0,0,0,0,0,0,0,0,0,0,0,0,0,0,0,0,0,0,0,0,0,0,0,0,0,0,0,0,0,0,0,-153403,-362169,-252466,-768038,131534359,6044,null,0,0,null,null,0,131534359,105000,681940,3259729,2607783,4889594,143078405,null,143078405,11923200,0,482603,0,0,143561008]
[9,"Caddo",181831337,-5352905,0,0,0,0,0,-235,0,0,0,0,0,0,0,0,0,0,0,0,0,0,0,0,0,0,0,0,0,0,0,0,0,0,0,-362508,-659075,-396321,-6771044,175060293,5399,null,0,0,null,null,0,175060293,231000,1046850,4598674,3678939,6898011,191513767,null,191513767,15959481,0,796746,0,0,192310513]
[10,"Calcasieu",137109083,0,0,0,0,0,0,-3767476,0,-3202558,0,0,0,0,0,0,0,-2686401,0,0,-7116,0,0,0,0,0,0,0,0,0,0,0,0,0,0,0,-259610,-358119,-10281280,126827803,4622,null,0,0,null,null,0,126827803,1029000,848540,4715136,3772109,7072703,144265291,null,144265291,12022108,0,678536,0,0,144943827]
[11,"Caldwell",11527109,0,0,0,0,0,0,0,0,0,0,0,0,0,0,0,0,0,0,0,0,0,0,0,0,0,0,0,0,0,0,0,0,0,0,0,-38480,-84003,-122483,11404626,8234,null,0,0,null,null,0,11404626,0,43400,259877,207900,389814,12305617,null,12305617,1025468,0,72119,0,0,12377736]
[12,"Cameron",3028354,0,0,0,0,0,0,-22692,0,0,0,0,0,0,0,0,0,0,0,0,0,0,0,0,0,0,0,0,0,0,0,0,0,0,0,0,0,-3063,-25755,3002599,2817,null,0,0,null,null,0,3002599,0,35350,256365,205091,384547,3883952,null,3883952,323663,0,25000,0,0,3908952]
[13,"Catahoula",7356177,0,0,0,0,0,0,0,0,0,0,0,0,-557162,0,0,0,0,0,0,0,0,0,0,0,0,0,0,0,0,0,0,0,0,0,0,-12729,-22262,-592153,6764024,7417,null,0,0,null,null,0,6764024,0,27370,184645,147715,276967,7400721,null,7400721,616727,0,25000,0,0,7425721]
[14,"Claiborne",12832579,0,0,-11589,0,0,0,0,0,0,0,0,0,0,0,0,0,0,-273857,0,0,0,0,-258891,0,0,0,0,0,0,0,0,0,0,0,0,-38910,-33771,-617018,12215561,7989,null,0,0,null,null,0,12215561,0,44800,273706,218966,410559,13163592,null,13163592,1096966,0,31089,0,0,13194681]
[15,"Concordia",23172902,0,0,0,0,0,0,0,0,0,0,0,0,-2392031,0,0,0,0,0,0,0,0,0,0,0,0,0,0,0,0,0,0,0,0,0,0,-63511,-34846,-2490388,20682514,7321,null,0,0,null,null,0,20682514,42000,87710,515113,412091,772671,22512099,null,22512099,1876008,0,87302,0,0,22599401]
[16,"DeSoto",14604277,0,0,0,0,0,0,0,0,0,0,0,0,0,0,0,0,0,0,0,0,0,0,0,0,0,0,0,0,0,0,0,0,0,0,-17471,-44924,-47373,-109768,14494509,3085,null,0,0,null,null,0,14494509,0,153300,785097,628078,1177645,17238629,null,17238629,1436552,0,259738,0,0,17498367]
[17,"East Baton Rouge",195920816,-2756390,-2285704,0,0,0,0,-186,0,0,-1965590,0,-2890656,0,-834236,-1290030,-272754,0,0,0,0,0,-3224133,0,0,0,-2197366,0,0,-1909760,0,-190741,0,-431920,-2944046,0,-576473,-1472118,-25242103,170678713,4427,null,0,0,null,null,0,170678713,609000,1151640,6151176,4920941,9226764,192738234,null,192738234,16061520,0,1770266,0,0,194508500]
[18,"East Carroll",5342047,0,0,0,0,0,0,0,0,0,0,0,0,0,0,0,0,0,0,0,0,0,0,0,0,0,0,0,0,0,0,0,0,0,0,0,-11811,0,-11811,5330236,7312,null,0,0,null,null,0,5330236,42000,22540,131023,104819,196532,5827150,null,5827150,485596,0,35246,0,0,5862396]
[19,"East Feliciana",8838028,0,0,0,0,0,0,0,0,0,-35251,0,0,0,0,-46255,0,0,0,0,0,0,0,0,0,0,0,0,0,0,0,-4484,0,-4484,0,0,-38863,-97981,-227318,8610710,5375,null,0,0,null,null,0,8610710,0,53060,230998,184799,346496,9426063,null,9426063,785505,0,30366,0,0,9456429]
[20,"Evangeline",37885726,0,0,0,0,0,0,0,-30687,0,0,0,0,0,0,0,0,0,0,0,-6137,0,0,0,0,0,0,0,0,0,0,0,0,0,0,0,-106697,-128726,-272247,37613479,7238,null,0,0,null,null,0,37613479,168000,164220,867526,694021,1301290,40808536,null,40808536,3400711,0,151288,0,0,40959824]
[21,"Franklin",18455705,0,0,0,0,0,0,0,0,0,0,0,0,-6349,0,0,0,0,0,0,0,0,0,0,0,0,0,0,0,0,0,0,0,0,0,0,-12507,-220757,-239613,18216092,7490,null,0,0,null,null,0,18216092,0,76230,450597,360477,675896,19779292,null,19779292,1648274,0,56033,0,0,19835325]
[22,"Grant",21543301,0,0,0,0,0,0,0,0,0,0,0,0,0,0,0,0,0,0,0,0,0,0,0,0,0,0,0,0,0,0,0,0,0,0,0,-21404,-125173,-146577,21396724,8053,null,0,0,null,null,0,21396724,0,79100,393644,314915,590465,22774848,null,22774848,1897904,0,63624,0,0,22838472]
[23,"Iberia",69032796,0,0,0,0,0,0,0,0,0,0,0,0,0,0,0,0,0,0,-1184586,-11267,-21398,0,0,0,0,0,-5814,0,0,0,0,0,0,0,0,-223350,-271088,-1717503,67315293,6324,null,0,0,null,null,0,67315293,147000,321580,1613265,1290613,2419898,73107649,null,73107649,6092304,0,233348,0,0,73340997]
[24,"Iberville",11402024,0,-5093,0,0,0,0,0,0,0,-16116,0,-9357,0,0,0,-585121,0,0,0,0,0,-2376,0,0,0,0,0,0,0,-5194,0,0,-5194,0,0,-5033,-18131,-651615,10750409,2882,null,0,0,null,null,0,10750409,0,121310,818950,655160,1228426,13574255,null,13574255,1131188,0,63805,0,0,13638060]
[25,"Jackson",12767434,0,0,-4760,0,0,0,0,0,0,0,0,0,0,0,0,0,0,0,0,0,0,0,-177136,0,0,0,0,0,0,0,0,0,0,0,0,-60992,-52032,-294920,12472514,6357,null,0,0,null,null,0,12472514,0,64750,342997,274397,514496,13669154,null,13669154,1139096,0,62630,0,0,13731784]
[26,"Jefferson",241360727,0,0,0,-232268,-3277830,-933599,0,0,0,0,-618935,0,0,0,0,-34628,0,0,0,-33418,0,0,0,-81415,0,0,-122585,-4620765,0,0,0,-11278,0,0,0,-920833,-1492665,-12380219,228980508,4974,null,0,0,null,null,0,228980508,504000,1382920,6575351,5260281,9863028,252566088,null,252566088,21047174,0,1348214,0,0,253914302]
[27,"Jefferson Davis",35080510,0,0,0,0,0,0,-46510,0,0,0,0,0,0,0,0,0,-31657,0,-5939,0,0,0,0,0,0,0,0,0,0,0,0,0,0,0,0,-88678,-98185,-270969,34809541,6836,null,0,0,null,null,0,34809541,0,162330,755816,604652,1133725,37466064,null,37466064,3122172,0,116222,0,0,37582286]
[28,"Lafayette",161340300,0,0,0,0,0,0,0,-17722,0,-7488,0,0,0,0,-8837,0,0,0,-10620144,-6540433,-2510077,0,0,0,-257075,0,0,0,0,-4419,0,0,0,0,0,-414145,-823563,-21203903,140136397,4760,null,0,0,null,null,0,140136397,525000,945000,4116479,3293183,6174716,155190775,null,155190775,12932565,0,879530,0,0,156070305]
[29,"Lafourche",74319399,0,0,0,0,0,0,0,0,0,0,0,0,0,0,0,-270003,0,0,0,-49145,0,0,0,0,0,0,0,0,0,0,0,0,0,0,0,-197068,-404372,-920588,73398811,5639,null,0,0,null,null,0,73398811,210000,401310,1828328,1462661,2742491,80043601,null,80043601,6670300,0,411568,0,0,80455169]
[30,"LaSalle",16881788,0,0,0,0,0,0,0,0,0,0,0,0,0,0,0,0,0,0,0,0,0,0,0,0,0,0,0,0,0,0,0,0,0,0,0,-33130,-112667,-145797,16735991,7080,null,0,0,null,null,0,16735991,0,71960,360885,288708,541329,17998873,null,17998873,1499906,0,98870,0,0,18097743]
[31,"Lincoln",35186955,0,0,-321255,0,0,0,0,0,0,0,0,0,0,0,0,0,0,-9418,0,0,0,0,-2859067,0,0,0,0,0,0,0,0,0,0,0,0,-58628,-58475,-3306843,31880112,5664,null,0,0,null,null,0,31880112,63000,174720,945344,756276,1418017,35237469,null,35237469,2936456,0,84953,0,0,35322422]
[32,"Livingston",184117178,0,-68813,0,0,0,0,0,0,0,-134103,0,-16522,0,-6174,-17789,-16615,0,0,0,0,0,-109731,0,0,0,0,0,0,-25296,0,0,-5441,-74247,-6174,0,-482230,-2355703,-3318838,180798340,6846,null,0,0,null,null,0,180798340,0,810250,3721583,2977266,5582374,193889813,null,193889813,16157484,0,1194758,0,0,195084571]
[33,"Madison",8521167,0,0,0,0,0,0,0,0,0,0,0,0,0,0,0,0,0,0,0,0,0,0,0,0,0,0,0,0,0,0,0,0,0,0,0,-15455,-225985,-241440,8279727,6964,null,0,0,null,null,0,8279727,0,37870,244788,195830,367180,9125395,null,9125395,760450,0,31089,0,0,9156484]
[34,"Morehouse",22847226,0,0,-5974,0,0,0,0,0,0,0,0,0,0,0,0,0,0,0,0,0,0,0,0,0,0,0,0,0,0,0,0,0,0,0,0,-227927,-203061,-436962,22410264,7222,null,0,0,null,null,0,22410264,0,95830,493409,394727,740112,24134342,null,24134342,2011195,0,148938,0,0,24283280]
[35,"Natchitoches",25909978,0,0,0,0,0,0,0,0,0,0,0,0,0,0,0,0,0,0,0,0,0,0,0,0,0,0,0,0,0,0,0,0,0,0,0,-120665,-24980,-145645,25764333,5399,null,0,0,null,null,0,25764333,0,154140,723385,578708,1085078,28305644,null,28305644,2358804,0,170086,0,0,28475730]
[36,"Orleans",193544619,0,0,0,-1404431,-889896,-2575357,0,0,0,0,-26741,0,0,0,0,-11596,0,0,0,-7393,0,0,0,-596151,0,0,-1282303,-387042,0,0,0,-20404,0,0,0,-410255,-349149,-7960718,185583901,4374,-90413,0,-90413,null,null,0,185493488,399000,1378440,6728071,5382439,10092107,209473545,null,209473545,17456129,0,901631,0,0,210375176]
[37,"Ouachita",111003293,0,0,-59364,0,0,0,0,0,0,0,0,0,0,0,0,0,0,0,0,0,0,0,-49420,0,0,0,0,0,0,0,0,0,0,0,0,-313395,-505130,-927309,110075984,6383,null,0,0,null,null,0,110075984,0,540050,2557611,2046090,3836418,119056153,null,119056153,9921346,0,223226,0,0,119279379]
[38,"Plaquemines",10274420,0,0,0,0,-41483,-4594,0,0,0,0,-2582,0,0,0,0,0,0,0,0,0,0,0,0,0,0,0,0,-10143,0,0,0,0,0,0,0,-15184,-65935,-139921,10134499,2875,null,0,0,null,null,0,10134499,0,120470,633142,506513,949712,12344336,null,12344336,1028695,0,64889,0,0,12409225]
[39,"Pointe Coupee",9770208,0,0,0,0,0,0,-6920,0,0,-24490,0,0,0,0,0,0,0,0,0,0,0,0,0,0,0,0,0,0,0,0,0,0,0,0,0,-66334,-83854,-181598,9588610,4286,null,0,0,null,null,0,9588610,0,75950,329378,263502,494069,10751509,null,10751509,895959,0,134117,0,0,10885626]
[40,"Rapides",129252390,0,0,0,0,0,0,0,0,0,0,0,0,0,0,0,0,0,0,0,0,0,0,0,0,0,0,0,0,0,0,0,0,0,0,0,-293123,-441575,-734698,128517692,6236,null,0,0,null,null,0,128517692,0,661570,3164687,2531750,4747030,139622729,null,139622729,11635227,0,590872,0,0,140213601]
[41,"Red River",3144861,0,0,0,0,0,0,0,0,0,0,0,0,0,0,0,0,0,0,0,0,0,0,0,0,0,0,0,0,0,0,0,0,0,0,-3790,-16050,-9197,-29037,3115824,2719,null,0,0,null,null,0,3115824,0,38990,229265,183412,343896,3911387,null,3911387,325949,0,46995,0,0,3958382]
[42,"Richland",16590613,0,0,0,0,0,0,0,0,0,0,0,0,0,0,0,0,0,0,0,0,0,0,0,0,0,0,0,0,0,0,0,0,0,0,0,-40714,-46491,-87205,16503408,6193,null,0,0,null,null,0,16503408,0,83300,390957,312767,586437,17876869,null,17876869,1489739,0,82422,0,0,17959291]
[43,"Sabine",20951665,0,0,0,0,0,0,0,0,0,0,0,0,0,0,0,0,0,0,0,0,0,0,0,0,0,0,0,0,0,0,0,0,0,0,0,-33101,-61547,-94648,20857017,5857,null,0,0,null,null,0,20857017,0,113330,643230,514585,964846,23093008,null,23093008,1924417,0,141347,0,0,23234355]
[44,"St. Bernard",43373762,0,0,0,-19382,-43709,-36864,0,0,0,0,-5320,0,0,0,0,0,0,0,0,0,0,0,0,-15327,0,0,-10812,-15960,0,0,0,0,0,0,0,-163446,-154075,-464895,42908867,5835,null,0,0,null,null,0,42908867,0,233380,952987,762389,1429481,46287104,null,46287104,3857259,0,345956,0,0,46633060]
[45,"St. Charles",26908707,0,0,0,0,0,-20240,0,0,0,0,-2479,0,0,0,0,-2765,0,0,0,-5244,0,0,0,0,0,0,0,0,0,0,0,0,0,0,0,-51065,-80276,-162069,26746638,3026,null,0,0,null,null,0,26746638,0,292180,1737148,1389718,2605723,32771407,null,32771407,2730951,0,288296,0,0,33059703]
[46,"St. Helena",8374765,0,0,0,0,0,0,0,0,0,0,0,0,0,0,0,0,0,0,0,0,0,0,0,0,0,-6514,0,0,0,0,0,-6514,-6514,0,0,-77166,-159808,-256516,8118249,8151,null,0,0,null,null,0,8118249,0,31780,142067,113653,213101,8618850,null,8618850,718238,0,25000,0,0,8643850]
[47,"St. James",12191626,0,0,0,0,0,0,0,0,0,0,0,0,0,0,0,0,0,0,0,0,0,0,0,0,0,0,0,0,0,0,0,0,0,0,0,-3293,-25316,-28609,12163017,3905,null,0,0,null,null,0,12163017,0,106610,522737,418190,784108,13994662,null,13994662,1166222,0,167375,0,0,14162037]
[48,"St. John the Baptist",22100913,0,0,0,0,0,-3766,0,0,0,-13519,0,0,0,0,0,0,0,0,0,0,0,0,0,0,0,0,0,0,0,0,0,0,0,0,0,-56457,-143385,-217127,21883786,4425,null,0,0,null,null,0,21883786,0,155260,811106,648885,1216661,24715698,null,24715698,2059642,0,199548,0,0,24915246]
[49,"St. Landry",74468605,0,0,0,0,0,0,0,-2181061,-5497,-15470,0,0,0,0,0,0,0,0,-55136,-876665,-103117,0,0,0,-5497,0,0,0,0,-1661499,0,0,0,0,0,-575882,-585403,-6065227,68403378,6228,null,0,0,null,null,0,68403378,168000,356580,1771896,1417517,2657844,74775215,null,74775215,6231268,0,523452,0,0,75298667]
[50,"St. Martin",41702092,0,0,0,0,0,0,0,0,0,0,0,0,0,0,0,0,0,0,-705529,-436155,-58774,0,0,0,0,0,0,0,0,0,0,0,0,0,0,-198148,-323144,-1721750,39980342,6046,null,0,0,null,null,0,39980342,210000,207760,958446,766757,1437669,43560974,null,43560974,3630081,0,178039,0,0,43739013]
[51,"St. Mary",45305233,0,0,0,0,0,0,0,0,0,0,0,0,0,0,0,0,0,0,0,-5320,0,0,0,0,0,0,0,0,0,0,0,0,0,0,0,-76903,-315508,-397731,44907502,6189,null,0,0,null,null,0,44907502,0,235970,1171953,937563,1757930,49010918,null,49010918,4084243,0,326435,0,0,49337353]
[52,"St. Tammany",201861587,0,0,0,-9235,-13720,-38270,0,0,0,-8314,-4910,0,0,0,0,-8650,0,0,0,0,0,0,0,0,0,0,-8969,-18719,0,0,0,-1480437,0,0,0,-596872,-1875201,-4063297,197798290,5537,null,0,0,null,null,0,197798290,0,1153040,5977011,4781608,8965515,218675464,null,218675464,18222955,0,887302,0,0,219562766]
[53,"Tangipahoa",123893999,0,0,0,0,0,0,0,0,0,-9892,0,0,0,-11571,-9708,0,0,0,0,0,0,0,0,-5785,0,0,0,0,0,0,0,-262198,0,0,0,-299676,-1534897,-2133727,121760272,6527,null,0,0,null,null,0,121760272,0,595140,2835068,2268053,4252599,131711132,null,131711132,10975928,0,806507,0,0,132517639]
[54,"Tensas",2121109,0,0,0,0,0,0,0,0,0,0,0,0,-183539,0,0,0,0,0,0,0,0,0,0,0,0,0,0,0,0,0,0,0,0,0,0,0,-17429,-200968,1920141,6038,null,0,0,null,null,0,1920141,0,8610,66326,53061,99489,2147627,null,2147627,178969,0,25000,0,0,2172627]
[55,"Terrebonne",78866950,0,0,0,0,0,0,0,0,0,0,0,0,0,0,0,-192545,0,0,0,-41633,0,0,0,0,0,0,0,0,0,0,0,0,0,0,0,-410381,-813971,-1458530,77408420,5418,null,0,0,null,null,0,77408420,0,454440,1997413,1597930,2996120,84454323,null,84454323,7037860,0,274559,0,0,84728882]
[56,"Union",18636463,0,0,-5638302,0,0,0,0,0,0,0,0,0,0,0,0,0,0,-947473,0,0,0,0,-442287,0,0,0,0,0,0,0,0,0,0,0,0,-92146,-45296,-7165504,11470959,7103,null,0,0,null,null,0,11470959,0,51100,267981,214386,401971,12406397,null,12406397,1033866,0,38138,0,0,12444535]
[57,"Vermilion",60177570,0,0,0,0,0,0,0,0,0,0,0,0,0,0,0,0,0,0,-851991,-37861,0,0,0,0,-6225,0,0,0,0,0,0,0,0,0,0,-204328,-192419,-1292824,58884746,6596,null,0,0,null,null,0,58884746,168000,275590,1252485,1001988,1878728,63461537,null,63461537,5288461,0,169724,0,0,63631261]
[58,"Vernon",52649862,0,0,0,0,0,0,0,0,0,0,0,0,0,0,0,0,0,0,0,0,0,0,0,0,0,0,0,0,0,0,0,0,0,0,0,-207292,-213784,-421076,52228786,6917,null,0,0,null,null,0,52228786,0,218610,1062628,850101,1593941,55954066,null,55954066,4662839,0,66878,0,0,56020944]
[59,"Washington",35084607,0,0,0,0,0,0,0,0,0,0,0,0,0,0,0,0,0,0,0,0,0,0,0,0,0,0,0,0,0,0,0,-5666,0,0,0,-92788,-387246,-485700,34598907,7903,null,0,0,null,null,0,34598907,0,138530,708221,566576,1062333,37074567,null,37074567,3089547,0,117126,0,0,37191693]
[60,"Webster",32033923,0,0,0,0,0,0,0,0,0,0,0,0,0,0,0,0,0,0,0,0,0,0,-11035,0,0,0,0,0,0,0,0,0,0,0,-14812,-38389,-118647,-182883,31851040,6482,null,0,0,null,null,0,31851040,0,165480,726756,581405,1090134,34414815,null,34414815,2867901,0,124356,0,0,34539171]
[61,"West Baton Rouge",15602092,0,-9724,0,0,0,0,0,0,0,-81742,0,-13061,0,0,-3265,-116916,0,0,0,0,-3265,-5649,0,0,0,-3265,0,0,0,0,-3265,0,-8807,0,0,-26263,-169266,-444488,15157604,3839,null,0,0,null,null,0,15157604,0,123690,708417,566733,1062625,17619069,null,17619069,1468256,0,126706,0,0,17745775]
[62,"West Carroll",10977205,0,0,0,0,0,0,0,0,0,0,0,0,0,0,0,0,0,0,0,0,0,0,0,0,0,0,0,0,0,0,0,0,0,0,0,-47794,-83113,-130907,10846298,7309,null,0,0,null,null,0,10846298,0,48790,167706,134165,251560,11448519,null,11448519,954043,0,41211,0,0,11489730]
[63,"West Feliciana",9454745,0,0,0,0,0,0,0,0,0,0,0,0,0,0,-6716,0,0,0,0,0,0,0,0,0,0,0,0,0,0,0,0,0,0,0,0,-12097,-66915,-85728,9369017,4511,null,0,0,null,null,0,9369017,0,63700,379234,303386,568850,10684187,null,10684187,890349,0,49887,0,0,10734074]
[64,"Winn",12253254,0,0,0,0,0,0,0,0,0,0,0,0,0,0,0,0,0,0,0,0,0,0,0,0,0,0,0,0,0,0,0,0,0,0,0,-40989,-44178,-85167,12168087,7087,null,0,0,null,null,0,12168087,0,57050,260125,208101,390189,13083552,null,13083552,1090296,0,76638,0,0,13160190]
[65,"City of Monroe",48707116,0,0,-21448,0,0,0,0,0,0,0,0,0,0,0,0,0,0,0,0,0,0,0,-5251,0,0,0,0,0,0,0,0,0,0,0,0,-96049,-60127,-182875,48524241,6150,null,0,0,null,null,0,48524241,0,243740,1279270,1023415,1918904,52989570,null,52989570,4415798,0,137912,0,0,53127482]
[66,"City of Bogalusa",13294298,0,0,0,0,0,0,0,0,0,0,0,0,0,0,0,0,0,0,0,0,0,0,0,0,0,0,0,0,0,0,0,-25512,0,0,0,-99712,-197178,-322402,12971896,7077,null,0,0,null,null,0,12971896,0,49980,318447,254757,477670,14072750,null,14072750,1172729,0,73204,0,0,14145954]
[67,"Zachary Community",36091866,0,-12150,0,0,0,0,0,0,0,-166417,0,0,0,-28944,-62335,0,0,0,0,0,0,-17852,0,0,0,-16447,0,0,0,0,-17665,0,-15762,-5888,0,-128886,-306613,-778959,35312907,6544,null,0,0,null,null,0,35312907,0,177520,657408,525926,986112,37659873,null,37659873,3138323,0,92002,0,0,37751875]
[68,"City of Baker",10814940,0,-102704,0,0,0,0,0,0,0,-184125,0,-18097,0,-1331241,-1501395,0,0,0,0,0,0,-90706,0,0,0,-174200,0,0,-65721,0,-216998,0,0,-30627,0,-102585,-195227,-4013626,6801314,7377,null,0,0,null,null,0,6801314,0,31990,123192,98554,184789,7239839,null,7239839,603320,0,25000,0,0,7264839]
[69,"Central Community",32828481,0,-42126,0,0,0,0,0,0,0,-230393,0,-12313,0,-6350,-106884,-22687,0,0,0,0,0,-51365,0,0,0,-31751,0,0,-12507,0,-36228,0,-18469,-35628,0,-37908,-244623,-889232,31939249,6974,null,0,0,null,null,0,31939249,0,156940,541061,432848,811590,33881688,null,33881688,2823474,0,283055,0,0,34164743]
[null,"STATE TOTALS",3566526098,-8109295,-2539153,-6062692,-1666052,-4266638,-3612690,-3860838,-2242584,-3213383,-3015002,-660967,-2967942,-3139081,-2218516,-3053214,-1906818,-2718058,-1230748,-13423325,-8430380,-2753986,-3514653,-3858972,-698678,-280439,-2434219,-1430483,-5052629,-2013284,-1676933,-469381,-1817450,-578969,-3022363,-551984,-10627814,-20686692,-139806305,3426719793,5537,-90413,0,-90413,0,0,0,3426629380,4662000,19495630,95292248,76233775,142938376,3765251409,0,3765251409,313770951,0,18580988,0,0,3783832397]

{"sheet":"2A-1_EFT (Annual)","index":9,"n_rows":303,"n_cols":46,"rows_kept":303,"cut":false,"hidden":false,"merged":[[3,0,3,1],[5,0,5,1],[0,45,1,45],[0,0,1,1],[0,2,1,2],[0,3,0,8],[0,9,0,16],[0,17,0,24],[0,25,0,32],[0,33,0,40],[0,41,0,44]]}
["School\nSystem\n\n",null,"Total MFP\nAllocation\n- State Cost\nAllocations to\nOther Public Schools\n+/- Adjustments\n+ Total Level 4","Local Revenue Representation Due to Other Public Schools",null,null,null,null,null,"Local Revenue Representation Due to Other Public Schools",null,null,null,null,null,null,null,"Local Revenue Representation Due to Other Public Schools",null,null,null,null,null,null,null,"Local Revenue Representation Due to Other Public Schools",null,null,null,null,null,null,null,"Local Revenue Representation Due to Other Public Schools",null,null,null,null,null,null,null,"Local Revenue Representation Due to Other Public Schools",null,null,null,"Total MFP\nPayment \nAmount minus\nLocal Revenue\nRepresentation\ndue to Other\nPublic Schools"]
[null,null,null,"Office of\nJuvenile\nJustice\n\n\nTable 5A3","Recovery\nSchool\nDistrict\n&\nType 5\nCharters","Madison\nPrep\n\n\n\n343001","D'Arbonne\nWoods\n\n\n\n341001","International\nHigh School\n\n\n\n344001","New\nOrleans\nMilitary/\nMaritime\n\n348001","Lycee\nFrancais\n\n\n\n347001","Lake\nCharles\nCharter\n\n\n346001","J.S. Clark\nAcademy\n\n\n\nWAL001","Southwest\nLouisiana\nCharter\n\n\nWAK001","Louisiana\nKey\nAcademy\n\n\nW7A001","JCFA\nEast\n\n\n\nW1A001","GEO Prep\nMid-City\n\n\n\nWZ8001","Delta \nCharter\nSchool\n\n\nW4A001","Impact\nCharter\n\n\n\nW8A001","Advantage\nCharter\nAcademy\n\n\nW1B001","Iberville\nCharter\nAcademy\n\n\nW3B001","Lake\nCharles\nCollege\nPreparatory\n\nW4B001","Northeast\nClaiborne\nCharter\n\n\nW5B001","Acadiana\nRenaissance\n\n\n\nW6B001","Lafayette\nRenaissance\n\n\n\nW7B001","Willow\nCharter\nAcademy\n\n\nW2B001","GEO\nPrep\nAcademy\n\n\nWAU001","Lincoln\nPrep\nSchool\n\n\nW33001","Noble\nMinds\nInstitute\n\n\nW18001","JCFA\nLafayette\n\n\n\nW1D001","Collegiate\nAcademy\n\n\n\nWJ5001","New\nHarmony\nHigh\nSchool\n\nWBQ001","Athlos\nAcademy\nof Jefferson\nParish\n\nWBR001","GEO Next\nGeneration\nHigh\n\n\nWBX001","St Landry\nCharter\nSchool\n\n\n3C5001","Geo Prep Baker\n\n\n\nWZN001","Louisiana Key \nAcademy \nNorthshore\n \n\nWZO001","Discovery Ochsner Baton Rouge\n\n\nWZP001","Kenilworth Science and Technology Academy\n\nWZQ001","Louisiana \nKey Caddo\n\n\nWZT001","Academy of Collaborative \nEducation (ACE)\n(new in \nFY2024-25)\n\nTBD\n\n\n","Vermilion Charter Academy\n(new in FY2024-25)\n\n\nWZW002","Rebirth Blended \nLearning Academy\n(new in FY2024-25)\n\nWZU001","Louisiana\nVirtual\nCharter\nAcademy\n\nWAG001","University\nView\nAcademy\n\n\n345001","Total\nLocal Revenue\nRepresentation\ndue to Other\nPublic Schools"]
[]
["FY2024-25",null,1,2,3,4,5,6,7,8,9,10,11,12,13,14,15,16,17,18,19,20,21,22,23,24,25,26,27,28,29,30,31,32,34,35,36,37,38,39,40,41,42,43,44,45]
["July 2024",null,"Link in File","Link in File","Link in File","Link in File","Link in File","Link in File","Link in File","Link in File","Link in File","Link in File","Link in File","Link in File","Link in File","Link in File","Link in File","Link in File","Link in File","Link in File","Link in File","Link in File","Link in File","Link in File","Link in File","Link in File","Link in File","Link in File","Link in File","Link in File","Link in File","Link in File","Link in File","Link in File",null,null,null,null,null,null,"Link in File","Link in File","Formula","Formula"]
["July 2024",null,"(T2, C59)","(T5A3, C14)","-(T5B2,\nC36 + C41)","-(T5C1A,\nC36 + C39)","-(T5C1B,\nC36 + C39)","-(T5C1C,\nC36 + C39)","-(T5C1D,\nC36 + C39)","-(T5C1E,\nC36 + C39)","-(T5C1F,\nC36 + C39)","-(T5C1G,\nC36 + C39)","-(T5C1H,\nC36 + C39)","-(T5C1I,\nC36 + C39)","-(T5C1J,\nC36 + C39)","-(T5C1M,\nC36 + C39)","-(T5C1N,\nC36 + C39)","-(T5C1O,\nC36 + C39)","-(T5C1Q,\nC36 + C39)","-(T5C1R,\nC36 + C39)","-(T5C1S,\nC36 + C39)","-(T5C1T,\nC36 + C39)","-(T5C1U,\nC36 + C39)","-(T5C1V,\nC36 + C39)","-(T5C1W,\nC36 + C39)","-(T5C1Y,\nC36 + C39)","-(T5C1Z,\nC36 + C39)","-(T5C1AE,\nC36 + C39)","-(T5C1AF,\nC36 + C39)","-(T5C1AG,\nC36 + C39)","-(T5C1AI,\nC36 + C39)","-(T5C1AJ,\nC36 + C39)","-(T5C1AK,\nC36 + C39)","-(T5C1AN,\nC36 + C39)","-(T5C1AO,\nC36 + C39)","-(T5C1AP,\nC36 + C39)","-(T5C1AQ,\nC36 + C39)","-(T5C1AR,\nC36 + C39)","-(T5C1AS,\nC36 + C39)","-(T5C1AT,\nC36 + C39)","-(T5C1AU,\nC36 + C39)","-(T5C4,\nC36 + C39)","-(T5C2,\nC36 + C39)","-(T5C3,\nC36 + C39)","Sum(C2:C43)","Sum(C1:C43)"]
[1,"Acadia",60091476,-27216,null,0,0,0,0,0,0,-6946,0,0,0,0,0,0,0,0,0,0,0,-184069,-31257,0,0,0,-6946,0,0,0,0,-3473,0,0,0,0,0,0,0,0,-62514,-93771,-416192,59675284]
[2,"Allen",30200762,-3017,null,0,0,0,0,0,-4271,0,0,0,0,0,0,0,0,0,0,0,0,0,0,0,0,0,0,0,0,0,0,0,0,0,0,0,0,0,0,0,-15376,-69190,-91854,30108908]
[3,"Ascension",127439046,-3394,null,-20679,0,0,0,0,0,0,0,-124074,0,-13786,0,0,0,-489403,0,0,0,-20679,0,-13786,0,0,0,-6893,0,0,0,0,0,0,-20679,0,0,0,0,0,-173704,-756851,-1643928,125795118]
[4,"Assumption",19214707,-6299,null,0,0,0,0,0,0,0,0,0,0,0,0,0,0,-52584,0,0,0,-32865,0,0,0,0,0,0,0,0,0,0,0,0,0,0,0,0,0,0,-76904,-94651,-263303,18951404]
[5,"Avoyelles",34928112,-1220,null,0,0,0,0,0,0,0,0,0,0,0,0,0,0,0,0,0,0,0,0,0,0,0,0,0,0,0,0,0,0,0,0,0,0,0,0,0,-58482,-116964,-176666,34751446]
[6,"Beauregard",36277641,-11300,null,0,0,0,0,0,-11174,0,-5587,0,0,0,0,0,0,0,0,0,0,0,0,0,0,0,0,0,0,0,0,0,0,0,0,0,0,0,0,0,-80453,-65368,-173882,36103759]
[7,"Bienville",8748224,0,null,0,0,0,0,0,0,0,0,0,0,0,0,0,0,0,0,0,0,0,0,0,-179438,0,0,0,0,0,0,0,0,0,0,0,0,0,0,0,-57677,-115353,-352468,8395756]
[8,"Bossier",143561008,-12629,null,0,0,0,0,0,0,0,0,0,0,0,0,0,0,0,0,0,0,0,0,0,0,0,0,0,0,0,0,0,0,0,0,0,-139167,0,0,0,-357858,-256465,-766119,142794889]
[9,"Caddo",192310513,-109558,-6737809,0,0,0,0,0,0,0,0,0,0,0,0,0,0,0,0,0,0,0,0,0,0,0,0,0,0,0,0,0,0,0,0,0,-477996,0,0,-705240,-839236,-493668,-9363507,182947006]
[10,"Calcasieu",144943827,-61364,null,0,0,0,0,0,-7174980,0,-6082047,0,0,0,0,0,0,0,-4997457,0,0,-16686,0,0,0,0,0,0,0,0,0,0,0,0,0,0,0,0,0,0,-427996,-638240,-19398770,125545057]
[11,"Caldwell",12377736,0,null,0,0,0,0,0,0,0,0,0,0,0,0,0,0,0,0,0,0,0,0,0,0,0,0,0,0,0,0,0,0,0,0,0,0,0,0,0,-21213,-55154,-76367,12301369]
[12,"Cameron",3908952,0,null,0,0,0,0,0,-106416,0,0,0,0,0,0,0,0,0,0,0,0,0,0,0,0,0,0,0,0,0,0,0,0,0,0,0,0,0,0,0,0,-11972,-118388,3790564]
[13,"Catahoula",7425721,0,null,0,0,0,0,0,0,0,0,0,0,0,-325416,0,0,0,0,0,0,0,0,0,0,0,0,0,0,0,0,0,0,0,0,0,0,0,0,0,-6973,-10460,-342849,7082872]
[14,"Claiborne",13194681,0,null,0,-8826,0,0,0,0,0,0,0,0,0,0,0,0,0,0,-180933,0,0,0,0,-167694,0,0,0,0,0,0,0,0,0,0,0,0,0,0,0,-23830,-11915,-393198,12801483]
[15,"Concordia",22599401,-2423,null,0,0,0,0,0,0,0,0,0,0,0,-1409344,0,0,0,0,0,0,0,0,0,0,0,0,0,0,0,0,0,0,0,0,0,0,0,0,0,-35136,-17568,-1464471,21134930]
[16,"DeSoto",17498367,-16543,null,0,0,0,0,0,0,0,0,0,0,0,0,0,0,0,0,0,0,0,0,0,0,0,0,0,0,0,0,0,0,0,0,0,-91730,0,0,0,-264182,-264182,-636637,16861730]
[17,"East Baton Rouge",194508500,-123688,-5421352,-5405400,0,0,0,0,0,0,0,-3143140,0,-6456450,0,-1981980,-3023020,-690690,0,0,0,0,0,-7317310,0,0,0,-4664660,0,0,-4184180,0,-430430,0,-1021020,-6766760,0,0,0,-675675,-1180179,-3036033,-55521967,138986533]
[18,"East Carroll",5862396,-4474,null,0,0,0,0,0,0,0,0,0,0,0,0,0,0,0,0,0,0,0,0,0,0,0,0,0,0,0,0,0,0,0,0,0,0,0,0,0,-8672,0,-13146,5849250]
[19,"East Feliciana",9456429,0,null,0,0,0,0,0,0,0,0,-38120,0,0,0,0,-60992,0,0,0,0,0,0,0,0,0,0,0,0,0,0,0,-7624,0,-7624,0,0,0,0,0,-48031,-137232,-299623,9156806]
[20,"Evangeline",40959824,-7134,null,0,0,0,0,0,0,-17575,0,0,0,0,0,0,0,0,0,0,0,-3515,0,0,0,0,0,0,0,0,0,0,0,0,0,0,0,0,0,0,-53780,-53780,-135784,40824040]
[21,"Franklin",19835325,-6680,null,0,0,0,0,0,0,0,0,0,0,0,-3882,0,0,0,0,0,0,0,0,0,0,0,0,0,0,0,0,0,0,0,0,0,0,0,0,0,-6988,-118789,-136339,19698986]
[22,"Grant",22838472,-6563,null,0,0,0,0,0,0,0,0,0,0,0,0,0,0,0,0,0,0,0,0,0,0,0,0,0,0,0,0,0,0,0,0,0,0,0,0,0,-8238,-43934,-58735,22779737]
[23,"Iberia",73340997,-17600,null,0,0,0,0,0,0,0,0,0,0,0,0,0,0,0,0,0,-1025056,-9952,-14928,0,0,0,0,0,-4976,0,0,0,0,0,0,0,0,0,0,0,-161222,-197050,-1430784,71910213]
[24,"Iberville",13638060,-13954,null,-49396,0,0,0,0,0,0,0,-123490,0,-74094,0,0,0,-5063090,0,0,0,0,0,-24698,0,0,0,0,0,0,0,-49396,0,0,-49396,0,0,0,0,0,-44456,-133369,-5625339,8012721]
[25,"Jackson",13731784,-2126,null,0,-5584,0,0,0,0,0,0,0,0,0,0,0,0,0,0,0,0,0,0,0,-156352,0,0,0,0,0,0,0,0,0,0,0,0,0,0,0,-55282,-40205,-259549,13472235]
[26,"Jefferson",253914302,-42572,null,0,0,-399302,-5010110,-1469130,0,0,0,0,-911614,0,0,0,0,-60272,0,0,0,-60272,0,0,0,-128078,0,0,-188350,-7323048,0,0,0,-15068,0,0,0,0,0,0,-1295095,-2034180,-18937091,234977211]
[27,"Jefferson Davis",37582286,-8466,null,0,0,0,0,0,-38840,0,0,0,0,0,0,0,0,0,-24275,0,-4855,0,0,0,0,0,0,0,0,0,0,0,0,0,0,0,0,0,0,0,-56804,-65543,-198783,37383503]
[28,"Lafayette",156070305,-51596,null,0,0,0,0,0,0,-26356,0,-6589,0,0,0,0,-13178,0,0,0,-15839956,-9211422,-3525115,0,0,0,-362395,0,0,0,0,-6589,0,0,0,0,0,0,0,0,-509989,-996257,-30549442,125520863]
[29,"Lafourche",80455169,-14528,null,0,0,0,0,0,0,0,0,0,0,0,0,0,0,-297136,0,0,0,-60640,0,0,0,0,0,0,0,0,0,0,0,0,0,0,0,0,0,0,-185558,-392947,-950809,79504360]
[30,"LaSalle",18097743,0,null,0,0,0,0,0,0,0,0,0,0,0,0,0,0,0,0,0,0,0,0,0,0,0,0,0,0,0,0,0,0,0,0,0,0,0,0,0,-26069,-88633,-114702,17983041]
[31,"Lincoln",35322422,-13360,null,0,-509937,0,0,0,0,0,0,0,0,0,0,0,0,0,0,-17286,0,0,0,0,-4278285,0,0,0,0,0,0,0,0,0,0,0,0,0,0,0,-77787,-85566,-4982221,30340201]
[32,"Livingston",195084571,-3331,null,-40216,0,0,0,0,0,0,0,-51184,0,-10968,0,-3656,-10968,-7312,0,0,0,0,0,-65808,0,0,0,0,0,0,-14624,0,0,-3656,-40216,-3656,0,0,0,0,-223747,-1158221,-1637563,193447008]
[33,"Madison",9156484,-9809,null,0,0,0,0,0,0,0,0,0,0,0,0,0,0,0,0,0,0,0,0,0,0,0,0,0,0,0,0,0,0,0,0,0,0,0,0,0,-8960,-138886,-157655,8998829]
[34,"Morehouse",24283280,-1657,null,0,-5011,0,0,0,0,0,0,0,0,0,0,0,0,0,0,0,0,0,0,0,0,0,0,0,0,0,0,0,0,0,0,0,0,0,0,0,-144317,-148827,-299812,23983468]
[35,"Natchitoches",28475730,-1814,null,0,0,0,0,0,0,0,0,0,0,0,0,0,0,0,0,0,0,0,0,0,0,0,0,0,0,0,0,0,0,0,0,0,0,0,0,0,-150779,-26222,-178815,28296915]
[36,"Orleans",210375176,-119010,null,0,0,-2629366,-1717695,-5327681,0,0,0,0,-50274,0,0,0,0,-25137,0,0,0,-16758,0,0,0,-1156302,0,0,-2538837,-737352,0,0,0,-33516,0,0,0,0,0,-565583,-708863,-588206,-16214580,194160596]
[37,"Ouachita",119279379,-26203,null,0,-63393,0,0,0,0,0,0,0,0,0,0,0,0,0,0,0,0,0,0,0,-40341,0,0,0,0,0,0,0,0,0,0,0,0,0,0,0,-248962,-404563,-783462,118495917]
[38,"Plaquemines",12409225,-5887,null,0,0,0,-398300,-56900,0,0,0,0,-28450,0,0,0,0,0,0,0,0,0,0,0,0,0,0,0,0,-113800,0,0,0,0,0,0,0,0,0,0,-153630,-588915,-1345882,11063343]
[39,"Pointe Coupee",10885626,-5939,null,0,0,0,0,0,-16198,0,0,-32396,0,0,0,0,0,0,0,0,0,0,0,0,0,0,0,0,0,0,0,0,0,0,0,0,0,0,0,0,-123915,-160360,-338808,10546818]
[40,"Rapides",140213601,-28370,null,0,0,0,0,0,0,0,0,0,0,0,0,0,0,0,0,0,0,0,0,0,0,0,0,0,0,0,0,0,0,0,0,0,0,0,0,0,-228949,-378032,-635351,139578250]
[41,"Red River",3958382,0,null,0,0,0,0,0,0,0,0,0,0,0,0,0,0,0,0,0,0,0,0,0,0,0,0,0,0,0,0,0,0,0,0,0,-19540,0,0,0,-123102,-70344,-212986,3745396]
[42,"Richland",17959291,-6734,null,0,0,0,0,0,0,0,0,0,0,0,0,0,0,0,0,0,0,0,0,0,0,0,0,0,0,0,0,0,0,0,0,0,0,0,0,0,-38984,-50123,-95841,17863450]
[43,"Sabine",23234355,-6725,null,0,0,0,0,0,0,0,0,0,0,0,0,0,0,0,0,0,0,0,0,0,0,0,0,0,0,0,0,0,0,0,0,0,0,0,0,0,-35014,-52520,-94259,23140096]
[44,"St. Bernard",46633060,-7943,null,0,0,-21656,-43312,-32484,0,0,0,0,-5414,0,0,0,0,0,0,0,0,0,0,0,0,-16242,0,0,-10828,-16242,0,0,0,0,0,0,0,0,0,0,-131560,-136433,-422114,46210946]
[45,"St. Charles",33059703,0,null,0,0,0,0,-156569,0,0,0,0,-22367,0,0,0,0,-22367,0,0,0,-44734,0,0,0,0,0,0,0,0,0,0,0,0,0,0,0,0,0,0,-342215,-543518,-1131770,31927933]
[46,"St. Helena",8643850,-1357,null,0,0,0,0,0,0,0,0,0,0,0,0,0,0,0,0,0,0,0,0,0,0,0,0,-4464,0,0,0,0,0,-4464,-4464,0,0,0,0,0,-40176,-92405,-147330,8496520]
[47,"St. James",14162037,0,null,0,0,0,0,0,0,0,0,0,0,0,0,0,0,0,0,0,0,0,0,0,0,0,0,0,0,0,0,0,0,0,0,0,0,0,0,0,-14911,-104378,-119289,14042748]
[48,"St. John the Baptist",24915246,-5243,null,0,0,0,0,-11031,0,0,0,-22062,0,0,0,0,0,0,0,0,0,0,0,0,0,0,0,0,0,0,0,0,0,0,0,0,0,0,0,0,-129063,-357404,-524803,24390443]
[49,"St. Landry",75298667,-35822,null,0,0,0,0,0,0,-1413400,-3820,-7640,0,0,0,0,0,0,0,0,-30560,-580640,-64940,0,0,0,-3820,0,0,0,0,-1100160,0,0,0,0,0,0,0,0,-319734,-350676,-3911212,71387455]
[50,"St. Martin",43739013,-5358,null,0,0,0,0,0,0,0,0,0,0,0,0,0,0,0,0,0,-661120,-413200,-56815,0,0,0,0,0,0,0,0,0,0,0,0,0,0,0,0,0,-148752,-264965,-1550210,42188803]
[51,"St. Mary",49337353,-6791,null,0,0,0,0,0,0,0,0,0,0,0,0,0,0,0,0,0,0,-6434,0,0,0,0,0,0,0,0,0,0,0,0,0,0,0,0,0,0,-81068,-318483,-412776,48924577]
[52,"St. Tammany",219562766,-23929,null,0,0,-16940,-25410,-67760,0,0,0,-8470,-8470,0,0,0,0,-16940,0,0,0,0,0,0,0,0,0,0,-16940,-25410,0,0,0,-1761760,0,0,0,0,0,0,-846153,-2690919,-5509101,214053665]
[53,"Tangipahoa",132517639,-9846,null,0,0,0,0,0,0,0,0,-4619,0,0,0,-9238,-4619,0,0,0,0,0,0,0,0,-4619,0,0,0,0,0,0,0,-175522,0,0,0,0,0,0,-195384,-1006018,-1409865,131107774]
[54,"Tensas",2172627,-7583,null,0,0,0,0,0,0,0,0,0,0,0,-279208,0,0,0,0,0,0,0,0,0,0,0,0,0,0,0,0,0,0,0,0,0,0,0,0,0,0,-22172,-308963,1863664]
[55,"Terrebonne",84728882,-22075,null,0,0,0,0,0,0,0,0,0,0,0,0,0,0,-206172,0,0,0,-51543,0,0,0,0,0,0,0,0,0,0,0,0,0,0,0,0,0,0,-386573,-773145,-1439508,83289374]
[56,"Union",12444535,0,null,0,-5178705,0,0,0,0,0,0,0,0,0,0,0,0,0,0,-888925,0,0,0,0,-367040,0,0,0,0,0,0,0,0,0,0,0,0,0,0,0,-72261,-36131,-6543062,5901473]
[57,"Vermilion",63631261,-3656,null,0,0,0,0,0,0,0,0,0,0,0,0,0,0,0,0,0,-456210,-19980,0,0,0,0,-3330,0,0,0,0,0,0,0,0,0,0,0,-2397600,0,-95904,-86913,-3063593,60567668]
[58,"Vernon",56020944,0,null,0,0,0,0,0,0,0,0,0,0,0,0,0,0,0,0,0,0,0,0,0,0,0,0,0,0,0,0,0,0,0,0,0,0,0,0,0,-82026,-84956,-166982,55853962]
[59,"Washington",37191693,-945,null,0,0,0,0,0,0,0,0,0,0,0,0,0,0,0,0,0,0,0,0,0,0,0,0,0,0,0,0,0,0,-2137,0,0,0,0,0,0,-25003,-96165,-124250,37067443]
[60,"Webster",34539171,-4872,null,0,0,0,0,0,0,0,0,0,0,0,0,0,0,0,0,0,0,0,0,0,-10262,0,0,0,0,0,0,0,0,0,0,0,-10262,0,0,0,-23090,-78504,-126990,34412181]
[61,"West Baton Rouge",17745775,-19058,null,-44250,0,0,0,0,0,0,0,-221250,0,-59000,0,0,-14750,-442500,0,0,0,0,-14750,-14750,0,0,0,-14750,0,0,0,0,-14750,0,-29500,0,0,0,0,0,-106200,-610650,-1606158,16139617]
[62,"West Carroll",11489730,0,null,0,0,0,0,0,0,0,0,0,0,0,0,0,0,0,0,0,0,0,0,0,0,0,0,0,0,0,0,0,0,0,0,0,0,0,0,0,-26510,-36452,-62962,11426768]
[63,"West Feliciana",10734074,0,null,0,0,0,0,0,0,0,0,0,0,0,0,0,-12813,0,0,0,0,0,0,0,0,0,0,0,0,0,0,0,0,0,0,0,0,0,0,0,-34595,-196039,-243447,10490627]
[64,"Winn",13160190,0,null,0,0,0,0,0,0,0,0,0,0,0,0,0,0,0,0,0,0,0,0,0,0,0,0,0,0,0,0,0,0,0,0,0,0,0,0,0,-27871,-23890,-51761,13108429]
[65,"City of Monroe",53127482,-13590,null,0,-24752,0,0,0,0,0,0,0,0,0,0,0,0,0,0,0,0,0,0,0,-6188,0,0,0,0,0,0,0,0,0,0,0,0,-532168,0,0,-94676,-55692,-727066,52400416]
[66,"City of Bogalusa",14145954,0,null,0,0,0,0,0,0,0,0,0,0,0,0,0,0,0,0,0,0,0,0,0,0,0,0,0,0,0,0,0,0,-16884,0,0,0,0,0,0,-75978,-151956,-244818,13901136]
[67,"Zachary Community",37751875,0,null,-12092,0,0,0,0,0,0,0,-102782,0,0,0,-30230,-54414,0,0,0,0,0,0,-18138,0,0,0,-12092,0,0,0,0,-18138,0,-12092,-6046,0,0,0,0,-114269,-261187,-641480,37110395]
[68,"City of Baker",7264839,-312,null,-81617,0,0,0,0,0,0,0,-96020,0,-14403,0,-1027414,-1142638,0,0,0,0,0,0,-62413,0,0,0,-120025,0,0,-48010,0,-158433,0,0,-24005,0,0,0,0,-64814,-125306,-2965410,4299429]
[69,"Central Community",34164743,-1663,null,-39592,0,0,0,0,0,0,0,-135744,0,-11312,0,-5656,-84840,-22624,0,0,0,0,0,-39592,0,0,0,-28280,0,0,-11312,0,-33936,0,-16968,-28280,0,0,0,0,-30542,-198526,-688867,33475876]
[null,"STATE TOTALS",3783832397,-953226,-12159161,-5693242,-5796208,-3067264,-7194827,-7121555,-7351879,-1464277,-6091454,-4117580,-1026589,-6640013,-2017850,-3058174,-4422232,-7396227,-5021732,-1087144,-18017757,-10733389,-3707805,-7556495,-5205600,-1305241,-376491,-4851164,-2759931,-8215852,-4258126,-1159618,-663311,-2013007,-1201959,-6828747,-738695,-532168,-2397600,-1946498,-11918234,-22963392,-211031714,3572800683]
[]
[]
[]
[]
[]
[]
[]
[]
[]
[]
[]
[]
[]
[]
[]
[]
[]
[]
[]
[]
[]
[]
[]
[]
[]
[]
[]
[]
[]
[]
[]
[]
[]
[]
[]
[]
[]
[]
[]
[]
[]
[]
[]
[]
[]
[]
[]
[]
[]
[]
[]
[]
[]
[]
[]
[]
[]
[]
[]
[]
[]
[]
[]
[]
[]
[]
[]
[]
[]
[]
[]
[]
[]
[]
[]
[]
[]
[]
[]
[]
[]
[]
[]
[]
[]
[]
[]
[]
[]
[]
[]
[]
[]
[]
[]
[]
[]
[]
[]
[]
[]
[]
[]
[]
[]
[]
[]
[]
[]
[]
[]
[]
[]
[]
[]
[]
[]
[]
[]
[]
[]
[]
[]
[]
[]
[]
[]
[]
[]
[]
[]
[]
[]
[]
[]
[]
[]
[]
[]
[]
[]
[]
[]
[]
[]
[]
[]
[]
[]
[]
[]
[]
[]
[]
[]
[]
[]
[]
[]
[]
[]
[]
[]
[]
[]
[]
[]
[]
[]
[]
[]
[]
[]
[]
[]
[]
[]
[]
[]
[]
[]
[]
[]
[]
[]
[]
[]
[]
[]
[]
[]
[]
[]
[]
[]
[]
[]
[]
[]
[]
[]
[]
[]
[]
[]
[]
[]
[]
[]
[]
[]
[]
[]
[]
[]
[]
[]
[]
[]
[]
[]
[]
[]
[null,null,null,null,null,null,null,null,null,null,null,null,null,null,null,null,null,null,null,null,null,null,null,null,null,null,null,null,null,null,null,null,null,null,"Published",458615,877173,1471482,5396031,null,null,null,682521.79999999993,-11301056,-21406364,-168024028.19999999]
[null,null,null,null,null,null,null,null,null,null,null,null,null,null,null,null,null,null,null,null,null,null,null,null,null,null,null,null,null,null,null,null,null,null,"Revised",458615,877173,1471482,5396031,null,null,null,682521.79999999993,-11301056,-21406364,-168024028.19999999]
[null,null,null,null,null,null,null,null,null,null,null,null,null,null,null,null,null,null,null,null,null,null,null,null,null,null,null,null,null,null,null,null,null,null,null,"no change bn published and revised before changing formulas in columns Aj-AN to negatives"]
[null,null,null,null,null,null,null,null,null,null,null,null,null,null,null,null,null,null,null,null,null,null,null,null,null,null,null,null,null,null,null,null,null,null,null,null,null,null,null,null,null,null,null,null,null,43007685.800000012]

{"sheet":"2A-2_EFT (Monthly)","index":10,"n_rows":76,"n_cols":46,"rows_kept":76,"cut":false,"hidden":false,"merged":[[0,45,1,45],[0,17,0,24],[0,9,0,16],[0,3,0,8],[0,25,0,32],[0,33,0,40],[3,0,3,1],[0,41,0,44],[5,0,5,1],[0,0,1,1],[0,2,1,2]]}
["School\nSystem\n\n",null,"Monthly\nPayment\nAmount\n\nTable 2","Local Revenue Representation Due Monthly to Other Public Schools",null,null,null,null,null,"Local Revenue Representation Due Monthly to Other Public Schools",null,null,null,null,null,null,null,"Local Revenue Representation Due Monthly to Other Public Schools",null,null,null,null,null,null,null,"Local Revenue Representation Due Monthly to Other Public Schools",null,null,null,null,null,null,null,"Local Revenue Representation Due Monthly to Other Public Schools",null,null,null,null,null,null,null,"Local Revenue Representation Due Monthly to Other Public Schools",null,null,null,"Total MFP\nPayment\nAmount minus\nLocal Revenue\nRepresentation \ndue to Other\nPublic Schools"]
[null,null,null,"Office of\nJuvenile\nJustice\n\n\nTable 5A3","Recovery\nSchool\nDistrict\n&\nType 5\nCharters","Madison\nPrep\n\n\n\n343001","D'Arbonne\nWoods\n\n\n\n341001","International\nHigh School\n\n\n\n344001","New\nOrleans\nMilitary/\nMaritime\n\n348001","Lycee\nFrancais\n\n\n\n347001","Lake\nCharles\nCharter\n\n\n346001","J.S. Clark\nAcademy\n\n\n\nWAL001","Southwest\nLouisiana\nCharter\n\n\nWAK001","Louisiana\nKey\nAcademy\n\n\nW7A001","JCFA\nEast\n\n\n\nW1A001","GEO Prep\nMid-City\n\n\n\nWZ8001","Delta \nCharter\nSchool\n\n\nW4A001","Impact\nCharter\n\n\n\nW8A001","Advantage\nCharter\nAcademy\n\n\nW1B001","Iberville\nCharter\nAcademy\n\n\nW3B001","Lake\nCharles\nCollege\nPreparatory\n\nW4B001","Northeast\nClaiborne\nCharter\n\n\nW5B001","Acadiana\nRenaissance\n\n\n\nW6B001","Lafayette\nRenaissance\n\n\n\nW7B001","Willow\nCharter\nAcademy\n\n\nW2B001","GEO\nPrep\nAcademy\n\n\nWAU001","Lincoln\nPrep\nSchool\n\n\nW33001","Noble\nMinds\nInstitute\n\n\nW18001","JCFA\nLafayette\n\n\n\nW1D001","Collegiate\nAcademy\n\n\n\nWJ5001","New\nHarmony\nHigh\nSchool\n\nWBQ001","Athlos\nAcademy\nof Jefferson\nParish\n\nWBR001","GEO Next\nGeneration\nHigh\n\n\nWBX001","St Landry\nCharter\nSchool\n\n\n3C5001","Geo Prep Baker\n\n\n\nWZN001","Louisiana Key Academy Northshore\n\nWZO001","Discovery Ochsner Baton Rouge\n\n\nWZP001","Kenilworth Science and Technology Academy\n\nWZQ001","\nLouisiana Key Caddo\n\n\n\nWZT001","Academy of Collaborative \nEducation (ACE)\n(new in \nFY2024-25)\n\nTBD","Vermilion Charter Academy\n(new in FY2024-25)\n\n\nWZW002","Rebirth Blended \nLearning Academy\n(new in FY2024-25)\n\nWZU001","Louisiana\nVirtual\nCharter\nAcademy\n\nWAG001","University\nView\nAcademy\n\n\n345001","Total\nLocal Revenue Representation\ndue monthly\nto Other\nPublic Schools"]
[]
["FY2024-25",null,1,2,3,4,5,6,7,8,9,10,11,12,13,14,15,16,17,18,19,20,21,22,23,24,25,26,27,28,29,30,31,32,33,34,35,36,37,38,39,40,41,42,43,44]
["July 2024",null,"Link in File","Link in File","Link in File","Link in File","Link in File","Link in File","Link in File","Link in File","Link in File","Link in File","Link in File","Link in File","Link in File","Link in File","Link in File","Link in File","Link in File","Link in File","Link in File","Link in File","Link in File","Link in File","Link in File","Link in File","Link in File","Link in File","Link in File","Link in File","Link in File","Link in File","Link in File",null,null,null,null,null,null,null,null,null,"Link in File","Link in File","Formula","Formula"]
["July 2024",null,"(T2, C54)","-(T5A3, C17)","-(T5B2, C45)","-(T5C1A, C43)","-(T5C1B, C43)","-(T5C1C, C43)","-(T5C1D, C43)","-(T5C1E, C43)","-(T5C1F, C43)","-(T5C1G, C43)","-(T5C1H, C43)","-(T5C1I, C43)","-(T5C1J, C43)","-(T5C1M, C43)","-(T5C1N, C43)","-(T5C1O, C43)","-(T5C1Q, C43)","-(T5C1R, C43)","-(T5C1S, C43)","-(T5C1T, C43)","-(T5C1U, C43)","-(T5C1V, C43)","-(T5C1W, C43)","-(T5C1Y, C43)","-(T5C1Z, C43)","-(T5C1AE, C43)","-(T5C1AF, C43)","-(T5C1AG, C43)","-(T5C1AI, C43)","-(T5C1AJ, C43)","-(T5C1AK, C43)","-(T5C1AN, C43)","Link in File","Link in File","-(T5C1AQ, C43)","-(T5C1AR, C43)","-(T5C1AS, C43)","-(T5C1AT, C43)","-(T5C1AU, C43)","-(T5C1AN, C43)","-(T5C2, C43)","-(T5C4, C43)","Sum (col1:col42)","Col. 1 + col 43"]
[1,"Acadia",4991913,-2268,null,0,0,0,0,0,0,-577,0,0,0,0,0,0,0,0,0,0,0,-15301,-2598,0,0,0,-577,0,0,0,0,-289,0,0,0,0,0,0,0,0,-5197,-7795,-34602,4957311]
[2,"Allen",2507120,-251,null,0,0,0,0,0,-355,0,0,0,0,0,0,0,0,0,0,0,0,0,0,0,0,0,0,0,0,0,0,0,0,0,0,0,0,0,0,0,-1278,-5751,-7635,2499485]
[3,"Ascension",10547575,-283,null,-1719,0,0,0,0,0,0,0,-10314,0,-1146,0,0,0,-40682,0,0,0,-1719,0,-1146,0,0,0,-573,0,0,0,0,0,0,-1719,0,0,0,0,0,-14439,-62913,-136653,10410922]
[4,"Assumption",1596225,-525,null,0,0,0,0,0,0,0,0,0,0,0,0,0,0,-4371,0,0,0,-2732,0,0,0,0,0,0,0,0,0,0,0,0,0,0,0,0,0,0,-6393,-7868,-21889,1574336]
[5,"Avoyelles",2896788,-102,null,0,0,0,0,0,0,0,0,0,0,0,0,0,0,0,0,0,0,0,0,0,0,0,0,0,0,0,0,0,0,0,0,0,0,0,0,0,-4861,-9723,-14686,2882102]
[6,"Beauregard",3017428,-942,null,0,0,0,0,0,-929,0,-464,0,0,0,0,0,0,0,0,0,0,0,0,0,0,0,0,0,0,0,0,0,0,0,0,0,0,0,0,0,-6688,-5434,-14457,3002971]
[7,"Bienville",724846,0,null,0,0,0,0,0,0,0,0,0,0,0,0,0,0,0,0,0,0,0,0,0,-14916,0,0,0,0,0,0,0,0,0,0,0,0,0,0,0,-4794,-9589,-29299,695547]
[8,"Bossier",11923200,-1052,null,0,0,0,0,0,0,0,0,0,0,0,0,0,0,0,0,0,0,0,0,0,0,0,0,0,0,0,0,0,0,0,0,0,-11568,0,0,0,-29747,-21319,-63686,11859514]
[9,"Caddo",15959481,-9130,-561484,0,0,0,0,0,0,0,0,0,0,0,0,0,0,0,0,0,0,0,0,0,0,0,0,0,0,0,0,0,0,0,0,0,-39733,0,0,-58623,-69762,-41036,-779768,15179713]
[10,"Calcasieu",12022108,-5114,null,0,0,0,0,0,-596420,0,-505570,0,0,0,0,0,0,0,-415414,0,0,-1387,0,0,0,0,0,0,0,0,0,0,0,0,0,0,0,0,0,0,-35577,-53054,-1612536,10409572]
[11,"Caldwell",1025468,0,null,0,0,0,0,0,0,0,0,0,0,0,0,0,0,0,0,0,0,0,0,0,0,0,0,0,0,0,0,0,0,0,0,0,0,0,0,0,-1763,-4585,-6348,1019120]
[12,"Cameron",323663,0,null,0,0,0,0,0,-8846,0,0,0,0,0,0,0,0,0,0,0,0,0,0,0,0,0,0,0,0,0,0,0,0,0,0,0,0,0,0,0,0,-995,-9841,313822]
[13,"Catahoula",616727,0,null,0,0,0,0,0,0,0,0,0,0,0,-27050,0,0,0,0,0,0,0,0,0,0,0,0,0,0,0,0,0,0,0,0,0,0,0,0,0,-580,-870,-28500,588227]
[14,"Claiborne",1096966,0,null,0,-734,0,0,0,0,0,0,0,0,0,0,0,0,0,0,-15040,0,0,0,0,-13940,0,0,0,0,0,0,0,0,0,0,0,0,0,0,0,-1981,-990,-32685,1064281]
[15,"Concordia",1876008,-202,null,0,0,0,0,0,0,0,0,0,0,0,-117152,0,0,0,0,0,0,0,0,0,0,0,0,0,0,0,0,0,0,0,0,0,0,0,0,0,-2921,-1460,-121735,1754273]
[16,"DeSoto",1436552,-1379,null,0,0,0,0,0,0,0,0,0,0,0,0,0,0,0,0,0,0,0,0,0,0,0,0,0,0,0,0,0,0,0,0,0,-7625,0,0,0,-21960,-21960,-52924,1383628]
[17,"East Baton Rouge",16061520,-10307,-447102,-449324,0,0,0,0,0,0,0,-261274,0,-536692,0,-164752,-251289,-57414,0,0,0,0,0,-608251,0,0,0,-387750,0,0,-347810,0,-35780,0,-84872,-562487,0,0,0,-56166,-98102,-252370,-4611742,11449778]
[18,"East Carroll",485596,-373,null,0,0,0,0,0,0,0,0,0,0,0,0,0,0,0,0,0,0,0,0,0,0,0,0,0,0,0,0,0,0,0,0,0,0,0,0,0,-721,0,-1094,484502]
[19,"East Feliciana",785505,0,null,0,0,0,0,0,0,0,0,-3169,0,0,0,0,-5070,0,0,0,0,0,0,0,0,0,0,0,0,0,0,0,-634,0,-634,0,0,0,0,0,-3993,-11407,-24907,760598]
[20,"Evangeline",3400711,-595,null,0,0,0,0,0,0,-1461,0,0,0,0,0,0,0,0,0,0,0,-292,0,0,0,0,0,0,0,0,0,0,0,0,0,0,0,0,0,0,-4471,-4471,-11290,3389421]
[21,"Franklin",1648274,-557,null,0,0,0,0,0,0,0,0,0,0,0,-323,0,0,0,0,0,0,0,0,0,0,0,0,0,0,0,0,0,0,0,0,0,0,0,0,0,-581,-9874,-11335,1636939]
[22,"Grant",1897904,-547,null,0,0,0,0,0,0,0,0,0,0,0,0,0,0,0,0,0,0,0,0,0,0,0,0,0,0,0,0,0,0,0,0,0,0,0,0,0,-685,-3652,-4884,1893020]
[23,"Iberia",6092304,-1467,null,0,0,0,0,0,0,0,0,0,0,0,0,0,0,0,0,0,-85208,-827,-1241,0,0,0,0,0,-414,0,0,0,0,0,0,0,0,0,0,0,-13402,-16380,-118939,5973365]
[24,"Iberville",1131188,-1163,null,-4106,0,0,0,0,0,0,0,-10265,0,-6159,0,0,0,-420869,0,0,0,0,0,-2053,0,0,0,0,0,0,0,-4106,0,0,-4106,0,0,0,0,0,-3695,-11086,-467608,663580]
[25,"Jackson",1139096,-177,null,0,-464,0,0,0,0,0,0,0,0,0,0,0,0,0,0,0,0,0,0,0,-12997,0,0,0,0,0,0,0,0,0,0,0,0,0,0,0,-4595,-3342,-21575,1117521]
[26,"Jefferson",21047174,-3548,null,0,0,-33192,-416465,-122121,0,0,0,0,-75778,0,0,0,0,-5010,0,0,0,-5010,0,0,0,-10647,0,0,-15657,-608728,0,0,0,-1253,0,0,0,0,0,0,-107655,-169091,-1574155,19473019]
[27,"Jefferson Davis",3122172,-706,null,0,0,0,0,0,-3229,0,0,0,0,0,0,0,0,0,-2018,0,-404,0,0,0,0,0,0,0,0,0,0,0,0,0,0,0,0,0,0,0,-4722,-5448,-16527,3105645]
[28,"Lafayette",12932565,-4300,null,0,0,0,0,0,0,-2191,0,-548,0,0,0,0,-1095,0,0,0,-1316696,-765699,-293025,0,0,0,-30124,0,0,0,0,-548,0,0,0,0,0,0,0,0,-42393,-82814,-2539433,10393132]
[29,"Lafourche",6670300,-1211,null,0,0,0,0,0,0,0,0,0,0,0,0,0,0,-24699,0,0,0,-5041,0,0,0,0,0,0,0,0,0,0,0,0,0,0,0,0,0,0,-15425,-32664,-79040,6591260]
[30,"LaSalle",1499906,0,null,0,0,0,0,0,0,0,0,0,0,0,0,0,0,0,0,0,0,0,0,0,0,0,0,0,0,0,0,0,0,0,0,0,0,0,0,0,-2167,-7368,-9535,1490371]
[31,"Lincoln",2936456,-1113,null,0,-42389,0,0,0,0,0,0,0,0,0,0,0,0,0,0,-1437,0,0,0,0,-355632,0,0,0,0,0,0,0,0,0,0,0,0,0,0,0,-6466,-7113,-414150,2522306]
[32,"Livingston",16157484,-278,null,-3343,0,0,0,0,0,0,0,-4255,0,-912,0,-304,-912,-608,0,0,0,0,0,-5470,0,0,0,0,0,0,-1216,0,0,-304,-3343,-304,0,0,0,0,-18599,-96277,-136125,16021359]
[33,"Madison",760450,-817,null,0,0,0,0,0,0,0,0,0,0,0,0,0,0,0,0,0,0,0,0,0,0,0,0,0,0,0,0,0,0,0,0,0,0,0,0,0,-745,-11545,-13107,747343]
[34,"Morehouse",2011195,-138,null,0,-417,0,0,0,0,0,0,0,0,0,0,0,0,0,0,0,0,0,0,0,0,0,0,0,0,0,0,0,0,0,0,0,0,0,0,0,-11996,-12371,-24922,1986273]
[35,"Natchitoches",2358804,-151,null,0,0,0,0,0,0,0,0,0,0,0,0,0,0,0,0,0,0,0,0,0,0,0,0,0,0,0,0,0,0,0,0,0,0,0,0,0,-12534,-2180,-14865,2343939]
[36,"Orleans",17456129,-9918,null,0,0,-218566,-142783,-442864,0,0,0,0,-4179,0,0,0,0,-2090,0,0,0,-1393,0,0,0,-96118,0,0,-211041,-61292,0,0,0,-2786,0,0,0,0,0,-47014,-58924,-48895,-1347863,16108266]
[37,"Ouachita",9921346,-2184,null,0,-5270,0,0,0,0,0,0,0,0,0,0,0,0,0,0,0,0,0,0,0,-3353,0,0,0,0,0,0,0,0,0,0,0,0,0,0,0,-20695,-33629,-65131,9856215]
[38,"Plaquemines",1028695,-491,null,0,0,0,-33109,-4730,0,0,0,0,-2365,0,0,0,0,0,0,0,0,0,0,0,0,0,0,0,0,-9460,0,0,0,0,0,0,0,0,0,0,-12771,-48954,-111880,916815]
[39,"Pointe Coupee",895959,-495,null,0,0,0,0,0,-1347,0,0,-2693,0,0,0,0,0,0,0,0,0,0,0,0,0,0,0,0,0,0,0,0,0,0,0,0,0,0,0,0,-10300,-13330,-28165,867794]
[40,"Rapides",11635227,-2364,null,0,0,0,0,0,0,0,0,0,0,0,0,0,0,0,0,0,0,0,0,0,0,0,0,0,0,0,0,0,0,0,0,0,0,0,0,0,-19031,-31424,-52819,11582408]
[41,"Red River",325949,0,null,0,0,0,0,0,0,0,0,0,0,0,0,0,0,0,0,0,0,0,0,0,0,0,0,0,0,0,0,0,0,0,0,0,-1624,0,0,0,-10233,-5847,-17704,308245]
[42,"Richland",1489739,-561,null,0,0,0,0,0,0,0,0,0,0,0,0,0,0,0,0,0,0,0,0,0,0,0,0,0,0,0,0,0,0,0,0,0,0,0,0,0,-3241,-4167,-7969,1481770]
[43,"Sabine",1924417,-560,null,0,0,0,0,0,0,0,0,0,0,0,0,0,0,0,0,0,0,0,0,0,0,0,0,0,0,0,0,0,0,0,0,0,0,0,0,0,-2911,-4366,-7837,1916580]
[44,"St. Bernard",3857259,-662,null,0,0,-1800,-3600,-2700,0,0,0,0,-450,0,0,0,0,0,0,0,0,0,0,0,0,-1350,0,0,-900,-1350,0,0,0,0,0,0,0,0,0,0,-10936,-11341,-35089,3822170]
[45,"St. Charles",2730951,0,null,0,0,0,0,-13015,0,0,0,0,-1859,0,0,0,0,-1859,0,0,0,-3719,0,0,0,0,0,0,0,0,0,0,0,0,0,0,0,0,0,0,-28447,-45180,-94079,2636872]
[46,"St. Helena",718238,-113,null,0,0,0,0,0,0,0,0,0,0,0,0,0,0,0,0,0,0,0,0,0,0,0,0,-371,0,0,0,0,0,-371,-371,0,0,0,0,0,-3340,-7681,-12247,705991]
[47,"St. James",1166222,0,null,0,0,0,0,0,0,0,0,0,0,0,0,0,0,0,0,0,0,0,0,0,0,0,0,0,0,0,0,0,0,0,0,0,0,0,0,0,-1240,-8676,-9916,1156306]
[48,"St. John the Baptist",2059642,-437,null,0,0,0,0,-917,0,0,0,-1834,0,0,0,0,0,0,0,0,0,0,0,0,0,0,0,0,0,0,0,0,0,0,0,0,0,0,0,0,-10728,-29709,-43625,2016017]
[49,"St. Landry",6231268,-2985,null,0,0,0,0,0,0,-117489,-318,-635,0,0,0,0,0,0,0,0,-2540,-48266,-5398,0,0,0,-318,0,0,0,0,-91451,0,0,0,0,0,0,0,0,-26578,-29150,-325128,5906140]
[50,"St. Martin",3630081,-447,null,0,0,0,0,0,0,0,0,0,0,0,0,0,0,0,0,0,-54956,-34347,-4723,0,0,0,0,0,0,0,0,0,0,0,0,0,0,0,0,0,-12365,-22025,-128863,3501218]
[51,"St. Mary",4084243,-566,null,0,0,0,0,0,0,0,0,0,0,0,0,0,0,0,0,0,0,-535,0,0,0,0,0,0,0,0,0,0,0,0,0,0,0,0,0,0,-6739,-26474,-34314,4049929]
[52,"St. Tammany",18222955,-1994,null,0,0,-1408,-2112,-5633,0,0,0,-704,-704,0,0,0,0,-1408,0,0,0,0,0,0,0,0,0,0,-1408,-2112,0,0,0,-146446,0,0,0,0,0,0,-70337,-223683,-457949,17765006]
[53,"Tangipahoa",10975928,-821,null,0,0,0,0,0,0,0,0,-384,0,0,0,-768,-384,0,0,0,0,0,0,0,0,-384,0,0,0,0,0,0,0,-14590,0,0,0,0,0,0,-16241,-83625,-117197,10858731]
[54,"Tensas",178969,-632,null,0,0,0,0,0,0,0,0,0,0,0,-23209,0,0,0,0,0,0,0,0,0,0,0,0,0,0,0,0,0,0,0,0,0,0,0,0,0,0,-1843,-25684,153285]
[55,"Terrebonne",7037860,-1840,null,0,0,0,0,0,0,0,0,0,0,0,0,0,0,-17138,0,0,0,-4285,0,0,0,0,0,0,0,0,0,0,0,0,0,0,0,0,0,0,-32134,-64268,-119665,6918195]
[56,"Union",1033866,0,null,0,-430480,0,0,0,0,0,0,0,0,0,0,0,0,0,0,-73892,0,0,0,0,-30510,0,0,0,0,0,0,0,0,0,0,0,0,0,0,0,-6007,-3003,-543892,489974]
[57,"Vermilion",5288461,-305,null,0,0,0,0,0,0,0,0,0,0,0,0,0,0,0,0,0,-37922,-1661,0,0,0,0,-277,0,0,0,0,0,0,0,0,0,0,0,-199301,0,-7972,-7225,-254663,5033798]
[58,"Vernon",4662839,0,null,0,0,0,0,0,0,0,0,0,0,0,0,0,0,0,0,0,0,0,0,0,0,0,0,0,0,0,0,0,0,0,0,0,0,0,0,0,-6818,-7062,-13880,4648959]
[59,"Washington",3089547,-79,null,0,0,0,0,0,0,0,0,0,0,0,0,0,0,0,0,0,0,0,0,0,0,0,0,0,0,0,0,0,0,-178,0,0,0,0,0,0,-2078,-7994,-10329,3079218]
[60,"Webster",2867901,-406,null,0,0,0,0,0,0,0,0,0,0,0,0,0,0,0,0,0,0,0,0,0,-853,0,0,0,0,0,0,0,0,0,0,0,-853,0,0,0,-1919,-6526,-10557,2857344]
[61,"West Baton Rouge",1468256,-1588,null,-3678,0,0,0,0,0,0,0,-18391,0,-4904,0,0,-1226,-36783,0,0,0,0,-1226,-1226,0,0,0,-1226,0,0,0,0,-1226,0,-2452,0,0,0,0,0,-8828,-50760,-133514,1334742]
[62,"West Carroll",954043,0,null,0,0,0,0,0,0,0,0,0,0,0,0,0,0,0,0,0,0,0,0,0,0,0,0,0,0,0,0,0,0,0,0,0,0,0,0,0,-2204,-3030,-5234,948809]
[63,"West Feliciana",890349,0,null,0,0,0,0,0,0,0,0,0,0,0,0,0,-1065,0,0,0,0,0,0,0,0,0,0,0,0,0,0,0,0,0,0,0,0,0,0,0,-2876,-16296,-20237,870112]
[64,"Winn",1090296,0,null,0,0,0,0,0,0,0,0,0,0,0,0,0,0,0,0,0,0,0,0,0,0,0,0,0,0,0,0,0,0,0,0,0,0,0,0,0,-2317,-1986,-4303,1085993]
[65,"City of Monroe",4415798,-1133,null,0,-2058,0,0,0,0,0,0,0,0,0,0,0,0,0,0,0,0,0,0,0,-514,0,0,0,0,0,0,0,0,0,0,0,0,-44237,0,0,-7870,-4629,-60441,4355357]
[66,"City of Bogalusa",1172729,0,null,0,0,0,0,0,0,0,0,0,0,0,0,0,0,0,0,0,0,0,0,0,0,0,0,0,0,0,0,0,0,-1404,0,0,0,0,0,0,-6316,-12631,-20351,1152378]
[67,"Zachary Community",3138323,0,null,-1005,0,0,0,0,0,0,0,-8544,0,0,0,-2513,-4523,0,0,0,0,0,0,-1508,0,0,0,-1005,0,0,0,0,-1508,0,-1005,-503,0,0,0,0,-9499,-21711,-53324,3084999]
[68,"City of Baker",603320,-26,null,-6784,0,0,0,0,0,0,0,-7982,0,-1197,0,-85404,-94982,0,0,0,0,0,0,-5188,0,0,0,-9977,0,0,-3991,0,-13170,0,0,-1995,0,0,0,0,-5388,-10416,-246500,356820]
[69,"Central Community",2823474,-139,null,-3291,0,0,0,0,0,0,0,-11284,0,-940,0,-470,-7052,-1881,0,0,0,0,0,-3291,0,0,0,-2351,0,0,-940,0,-2821,0,-1411,-2351,0,0,0,0,-2539,-16503,-57264,2766210]
[null,"STATE TOTALS",313770951,-79442,-1008586,-473250,-481812,-254966,-598069,-591980,-611126,-121718,-506352,-342276,-85335,-551950,-167734,-254211,-367598,-614812,-417432,-90369,-1497726,-892214,-308211,-628133,-432715,-108499,-31296,-403253,-229420,-682942,-353957,-96394,-55139,-167332,-99913,-567640,-61403,-44237,-199301,-161803,-990710,-1908834,-17540090,296230861]

{"sheet":"3_Levels 1&2","index":11,"n_rows":76,"n_cols":52,"rows_kept":76,"cut":false,"hidden":false,"merged":[[3,0,3,1],[5,0,5,1],[1,49,2,49],[1,50,2,50],[1,28,2,28],[1,31,2,31],[1,32,2,32],[1,48,2,48],[0,2,1,2],[1,4,2,4],[1,6,2,6],[1,8,2,8],[1,10,2,10],[1,12,2,12],[1,13,2,13],[0,35,0,38],[1,51,2,51],[0,0,2,1],[1,44,2,44],[1,45,2,45],[1,46,2,46],[1,47,2,47],[1,34,2,34],[1,35,2,35],[1,37,2,37],[1,38,2,38],[1,29,2,29],[1,30,2,30],[1,41,2,41],[1,42,2,42],[1,43,2,43],[0,39,0,42],[1,36,2,36],[1,39,2,39],[1,40,2,40],[1,17,2,17],[1,18,2,18],[1,19,2,19],[1,20,2,20],[1,21,2,21],[1,22,2,22],[1,23,2,23],[1,24,2,24],[1,33,2,33],[1,25,2,25],[1,26,2,26],[1,27,2,27],[1,14,2,14],[1,15,2,15],[1,16,2,16],[0,3,0,4],[0,5,0,6],[0,7,0,8],[0,9,0,10],[1,11,2,11]]}
["School\nSystem",null,"MFP Funded\nMembership\n\nCity/Parish\nSchool Systems,\nNew Type 2\nCharter Schools,\n& RSD/Type 5\nCharter Schools",0.22,null,0.06,null,1.5,null,0.6,null,7500,37500,37500,null,null,4015,null,null,0.75,null,null,null,null,null,null,null,0.34,null,1.72,null,null,null,null,null,"Without Continuation of Prior Year Pay Raises",null,null,null,"With Continuation of Prior Year Pay Raises"]
[null,null,null,"Economically\nDisadvantaged\n(ED)","Add-On\nStudent\nUnits","Career &\nTechnical\nEducation\nUnits\n(CTE)","Add-On\nStudent\nUnits","Students\nwith\nDisabilities\n(SWD)","Add-On\nStudent\nUnits","Gifted and\nTalented\nStudents\n(GT)","Add-On\nStudent\nUnits","Economy-\nof-Scale:\nIf < 7,500,\nthen\n7,500 less\nFebruary\nMembership\n\n\nFeb 1 Count","Economy-\nof-Scale\nPercent\nSupport","Add-On\nStudent\nUnits","Total\nWeighted\nAdd-On\nStudent\nUnits","Total\nWeighted\nMembership\nand Units","Per Pupil\nAmount","Total\nLevel 1\nCosts","Local Cost\nAllocation of\nLevel 1\n\n(Deduction for\nProperty,\nSales, and\nOther Revenues)","Local Cost\nAllocation of\nLevel 1 with\n75% max Local\nCost Allocation\n\n(Deduction for\nProperty\n& Sales and\nOther Revenues)","State Cost\nAllocation\nof Level 1","Percent\nState Cost\nAllocation","Percent\nLocal Cost\nAllocation","Per Pupil\nLocal Cost\nAllocation\nof Level 1","Actual Sales\nand Property\nTax Revenues\n(Including Debt)\nPlus Other\nRevenue","Local Revenue\nOver Level 1","Local\nRevenue\nUnder\nLevel 1","Local\nRevenue\nLimit on\nLevel 2\nState\nSupport","Eligible\nLocal\nRevenue\nLevel 2","Local Cost\nAllocation\nof Level 2","State Cost\nAllocation\nof Level 2","Per\nPupil\nAmount","Percent\nState","Levels 1 & 2\nState Cost\nAllocation","Per\nPupil\nAmount","Level 3\nState Cost\nAllocation\nwithout\nContinuation\nof Prior Year\nPay Raises","Per Pupil\nAmount","Levels 1, 2 & 3\nState Cost\nAllocation\nwithout\nContinuation\nof Prior Year\nPay Raises","Per Pupil\nAmount","Level 3\nState Cost\nAllocation\nwith\nContinuation\nof Prior Year\nPay Raises","Per Pupil\nAmount","Levels 1, 2 & 3\nState Cost\nAllocation\nwith\nContinuation\nof Prior Year\nPay Raises","Per Pupil\nAmount","State Funds\n(With\nContinuation\nof Prior Year\nPay Raises)\nas Percent of\nTotal State\nand Local","Rank","Level 1 &\nEligible\nLevel 2\nLocal Cost\nAllocation","Per Pupil\nAmount","Rank\n","Local\nRevenue\nas Percent\nof Total\nState and\nLocal","Total Level\n1, 2, & 3 State\nCost Allocation\n(With Continuation\nof Prior Year\nPay Raises)\nand Local Cost\nAllocation\nLevels 1 and 2","Per Pupil\nAmount","Rank"]
[null,null,"\nFeb 1 Count","\nFeb 1 Count",null,"\n",null,"\nFeb 1 Count",null,"\nFeb 1 Count"]
["FY2024-25",null,1,"(2a)",2,"(3a)",3,"(4a)",4,"(5a)",5,"(6a)","(6b)",6,7,8,9,10,11,"11a",12,13,14,15,16,17,18,19,20,21,22,23,24,25,26,27,28,29,30,31,32,33,34,35,36,37,38,39,40,41,42,43]
["July 2024",null,"Link in File","Link to \"Counts in Budget Letter\"","Formula","Link to \"Counts in Budget Letter\"","Formula","Link to \"Counts in Budget Letter\"","Formula","Link to \"Counts in Budget Letter\"","Formula","Formula","Formula","Formula","Formula","Formula","Resolution","Formula","Link in File","Formula","Formula","Formula","Formula","Formula","Link in File","Formula","Formula","Formula","Formula","Formula","Formula","Formula","Formula","Formula","Formula","Link in File","Formula","Formula","Formula","Link in File","Formula","Formula","Formula","Formula","Formula","Formula","Formula","Formula","Formula","Formula","Formula","Formula"]
["July 2024",null,"(T8, C34)","Link to ED Tab in Student Count File","C2a x 22%","Link to CTE Tab in Student Count File","C3a x 6%","Link to SWD Tab in Student Count File","C4a x 150%","Link to GT Tab in Student Count File","C5a x 60%","If C1 < 7,500,\n7,500 - C1, 0","C6a ÷ 37,500","C1 x C6b","C2 + C3 +\nC4 + C5 + C6","C1 + C7","Resolution","C8 x C9","(T6, C8)","If C11 > C10 x 75%,\nC10 x 75%, C11","C10 - C11a","C12 ÷ C10","C11a ÷ C10","C11a ÷ C1","(T7, C40)","If C16 - C11a > 0,\nC16 - C11a, 0","If C16 - C11a < 0, C16 - C11a, 0","C10 x 34%","Lesser of\nC17 and C19","If C20 > 0, C20 x C14 x 1.72, 0","If C20 - C21 > 0,\nC20 - C21, 0","C22 ÷ C1","C22 ÷ C20","C12 + C22","C25 ÷ C1","(T3A, C8)","C27 ÷ C1","C25 + C27","C29 ÷ C1","(T3A, C9)","C31 ÷ C1","C25 + C31","C33 ÷ C1","C33 ÷ C41","Rank High\nto Low","C11a + C20","C37 ÷ C1","Rank High\nto Low","C37 ÷ C41","C33 + C37","C41 ÷ C1","Rank High\nto Low"]
[1,"Acadia",8890,6665,1466.3,3573.5,214.41,1172,1758,91,54.6,0,0,0,3493.31,12383.31,4015,49718990,11747082,11747082,37971908,0.76370000000000005,0.23630000000000001,1321.3815523059618,29687400,17940318,0,16904456.600000001,16904456.600000001,6870579.7226776006,10033877,1129,0.59360000000000002,48005785,5400,1541640,173.41282339707536,49547425,5573.3886389201352,8453437,950.89280089988756,56459222,6350.8686164229475,0.66336173712915925,22,28651538.600000001,3222.9,60,0.33663826287084087,85110760.599999994,9573.7638470191214,54]
[2,"Allen",3725,2726,599.72,1955,117.3,499,748.5,28,16.8,3775,0.10067,374.99574999999999,1857.31575,5582.3157499999998,4015,22412998,3621488,3621488,18791510,0.83840000000000003,0.16159999999999999,972.2115436241611,17122027,13500539,0,7620419.3200000003,7620419.3200000003,2118110.7908326401,5502309,1477,0.72199999999999998,24293819,6522,645963,173.41288590604026,24939782,6695.2434899328855,3783605,1015.7328859060402,28077424,7537.5634899328861,0.71408701667615238,3,11241907.32,3017.96,65,0.28591298332384762,39319331.32,10555.525186577181,14]
[3,"Ascension",23756,13185,2900.7,14388,863.28,2789,4183.5,552,331.2,0,0,0,8278.68,32034.68,4015,128619240,47618649,47618649,81000591,0.62980000000000003,0.37019999999999997,2004.4893500589326,203595332,155976683,0,43730541.600000001,43730541.600000001,27845159.980550401,15885382,669,0.36330000000000001,96885973,4078,4119596,173.41286411853847,101005569,4251.7919262502101,18298127,770.2528624347533,115184100,4848.6319245664254,0.55770234263628204,50,91349190.599999994,3845.31,33,0.44229765736371801,206533290.59999999,8693.9421872369076,69]
[4,"Assumption",2655,1899,417.78000000000003,1383,82.98,413,619.5,79,47.4,4845,0.12920000000000001,343.02600000000001,1510.6860000000001,4165.6859999999997,4015,16725229,4101903,4101903,12623326,0.75470000000000004,0.24529999999999999,1544.9728813559323,16893824,12791921,0,5686577.8600000003,5686577.8600000003,2399258.1843797597,3287320,1238,0.57809999999999995,15910646,5993,460411,173.41280602636536,16371057,6166.1231638418076,2015604,759.17288135593219,17926250,6751.883239171375,0.64681306452347775,29,9788480.8599999994,3686.81,37,0.35318693547652225,27714730.859999999,10438.693355932202,18]
[5,"Avoyelles",4838,3882,854.04,3878.5,232.70999999999998,677,1015.5,14,8.4,2662,7.0989999999999998E-2,343.44961999999998,2454.09962,7292.09962,4015,29277780,5889461,5889461,23388319,0.79879999999999995,0.20119999999999999,1217.3338156262919,15317787,9428326,0,9954445.2000000011,9428326,3262804.2088639997,6165522,1274,0.65390000000000004,29553841,6109,838971,173.41277387350144,30392812,6282.1025217031829,3528464,729.32286068623398,33082305,6838.0126085159154,0.68351739909915876,11,15317787,3166.14,63,0.31648260090084124,48400092,10004.152955766845,31]
[6,"Beauregard",5551,3233,711.26,2095.5,125.72999999999999,930,1395,40,24,1949,5.1970000000000002E-2,288.48547000000002,2544.4754699999999,8095.4754699999994,4015,32503334,8904002,8904002,23599332,0.72609999999999997,0.27389999999999998,1604.035669248784,35369928,26465926,0,11051133.560000001,11051133.560000001,5206277.4291844796,5844856,1053,0.52890000000000004,29444188,5304,962615,173.41289857683302,30406803,5477.7162673392186,3990574,718.89281210592685,33434762,6023.1961808683118,0.62623761288220758,36,19955135.559999999,3594.87,39,0.37376238711779236,53389897.560000002,9618.0683768690324,49]
[7,"Bienville",1791,1373,302.06,911,54.66,311,466.5,91,54.6,5709,0.15223999999999999,272.66183999999998,1150.4818399999999,2941.4818399999999,4015,11810050,6281240,6281240,5528810,0.46810000000000002,0.53190000000000004,3507.1133445002793,30396247,24115007,0,4015417.0000000005,4015417.0000000005,3673576.5199560006,341840,191,8.5099999999999995E-2,5870650,3278,310582,173.41261864879957,6181232,3451.2741485203796,1666226,930.33277498604127,7536876,4208.1943048576213,0.42262382894068157,60,10296657,5749.11,8,0.57737617105931838,17833533,9957.3048576214405,34]
[8,"Bossier",21888,13237,2912.14,9690,581.4,3375,5062.5,1218,730.8,0,0,0,9286.84,31174.84,4015,125166983,34768148,34768148,90398835,0.72219999999999995,0.27779999999999999,1588.4570540935672,138244538,103476390,0,42556774.220000006,42556774.220000006,20334307.63070352,22222467,1015,0.5222,112621302,5145,3795660,173.41282894736841,116416962,5318.7574013157891,19681095,899.17283442982455,132302397,6044.5174067982452,0.6311314646024313,34,77324922.219999999,3532.75,44,0.3688685353975687,209627319.22,9577.2715286915209,53]
[9,"Caddo",33663,25747,5664.34,12343.5,740.61,4496,6744,1695,1017,0,0,0,14165.95,47828.95,4015,192033234,67141208,67141208,124892026,0.65039999999999998,0.34960000000000002,1994.5105308498946,258327604,191186396,0,65291299.560000002,65291299.560000002,39260441.921022728,26030858,773,0.3987,150922884,4483,5837597,173.41285684579509,156760481,4656.7590826723699,30908453,918.17286041053978,181831337,5401.5190862371146,0.57859451587433353,48,132432507.56,3934.07,27,0.42140548412566647,314263844.56,9335.5863874283332,60]
[10,"Calcasieu",29770,20337,4474.1400000000003,10717,643.02,5422,8133,808,484.79999999999995,0,0,0,13734.96,43504.959999999999,4015,174672414,75852741,75852741,98819673,0.56569999999999998,0.43430000000000002,2547.9590527376554,254935704,179082963,0,59388620.760000005,59388620.760000005,44363062.153236963,15025559,505,0.253,113845232,3824,5162500,173.41283170977493,119007732,3997.5724554921062,23263851,781.45283842794765,137109083,4605.6124622102789,0.50342889331729546,55,135241361.75999999,4542.87,18,0.49657110668270454,272350444.75999999,9148.4865555928791,64]
[11,"Caldwell",1403,1052,231.44,996.5,59.79,303,454.5,43,25.8,6097,0.16259000000000001,228.11377000000002,999.64377000000002,2402.6437700000001,4015,9646615,1661940,1661940,7984675,0.82769999999999999,0.17230000000000001,1184.5616535994297,6456516,4794576,0,3279849.1,3279849.1,972002.95987960009,2307846,1645,0.7036,10292521,7336,243298,173.41268709907342,10535819,7509.493228795438,1234588,879.96293656450462,11527109,8216.04347826087,0.69993201305921005,6,4941789.0999999996,3522.3,46,0.3000679869407899,16468898.1,11738.345046329294,2]
[12,"Cameron",1075,543,119.46,496.5,29.79,173,259.5,41,24.599999999999998,6425,0.17133000000000001,184.17975000000001,617.52975000000004,1692.5297500000001,4015,6795507,6565928,5096630,1698877,0.25,0.75,4741.0511627906981,17635604,12538974,0,2310472.3800000004,2310472.3800000004,2980509.3702000007,0,0,0,1698877,1580,186419,173.41302325581395,1885296,1753.7637209302325,1329477,1236.7227906976743,3028354,2817.0734883720929,0.29019852028742804,68,7407102.3799999999,6890.33,2,0.70980147971257201,10435456.379999999,9707.4012837209284,45]
[13,"Catahoula",1001,811,178.42,536.5,32.19,137,205.5,3,1.7999999999999998,6499,0.17330999999999999,173.48330999999999,591.39331000000004,1592.3933099999999,4015,6393459,1347038,1347038,5046421,0.7893,0.2107,1345.6923076923076,4908175,3561137,0,2173776.06,2173776.06,787785.13924824004,1385991,1385,0.63759999999999994,6432412,6426,173586,173.41258741258741,6605998,6599.3986013986014,923765,922.8421578421578,7356177,7348.8281718281714,0.67630624677556728,16,3520814.06,3517.3,47,0.32369375322443261,10876991.060000001,10866.124935064936,11]
[14,"Claiborne",1619,1420,312.39999999999998,551.5,33.089999999999996,338,507,150,90,5881,0.15683,253.90777,1196.39777,2815.39777,4015,11303822,2464911,2464911,8838911,0.78190000000000004,0.21809999999999999,1522.4898085237801,7391237,4926326,0,3843299.4800000004,3843299.4800000004,1441744.6205313599,2401555,1483,0.62490000000000001,11240466,6943,280755,173.41260037059914,11521221,7116.2575663990119,1592113,983.39283508338485,12832579,7926.2378011117971,0.67043101923296422,17,6308210.4800000004,3896.36,32,0.32956898076703578,19140789.48,11822.600049413219,1]
[15,"Concordia",3201,2671,587.62,1588,95.28,450,675,104,62.4,4299,0.11464000000000001,366.96264000000002,1787.2626400000001,4988.2626399999999,4015,20027874,3632652,3632652,16395222,0.81859999999999999,0.18140000000000001,1134.8491096532334,12401169,8768517,0,6809477.1600000001,6809477.1600000001,2124611.34973728,4684866,1464,0.68799999999999994,21080088,6585,320100,100,21400188,6685.4695407685094,2092814,653.80006248047482,23172902,7239.2696032489848,0.68936131249446686,8,10442129.16,3262.15,58,0.3106386875055332,33615031.159999996,10501.415545142141,16]
[16,"DeSoto",4735,2963,651.86,3322.5,199.35,574,861,214,128.4,2765,7.3730000000000004E-2,349.11155000000002,2189.7215500000002,6924.7215500000002,4015,27802757,17271257,17271257,10531500,0.37880000000000003,0.62119999999999997,3647.5727560718055,88341492,71070235,0,9452937.3800000008,9452937.3800000008,10100123.284784319,0,0,0,10531500,2224,821110,173.41288278775079,11352610,2397.5945089757129,4072777,860.14297782470965,14604277,3084.3246040126714,0.35337084853003825,64,26724194.379999999,5643.97,9,0.6466291514699618,41328471.379999995,8728.293850052798,68]
[17,"East Baton Rouge",44211,35788,7873.36,21587.5,1295.25,5375,8062.5,1260,756,0,0,0,17987.11,62198.11,4015,249725412,121245121,121245121,128480291,0.51449999999999996,0.48549999999999999,2742.4197824070934,430022328,308777207,0,84906640.080000013,84906640.080000013,70902138.865204796,14004501,317,0.16489999999999999,142484792,3223,18001792,407.17902784374928,160486584,3630.0147926986497,53436024,1208.6590215104839,195920816,4431.4947863653842,0.48727724089727659,56,206151761.08000001,4662.91,16,0.51272275910272336,402072577.08000004,9094.4013272714947,65]
[18,"East Carroll",731,715,157.30000000000001,412,24.72,97,145.5,0,0,6769,0.18051,131.95281,459.47280999999998,1190.47281,4015,4779748,1140756,1140756,3638992,0.76129999999999998,0.2387,1560.5417236662106,3486883,2346127,0,1625114.32,1625114.32,667213.43567647994,957901,1310,0.58940000000000003,4596893,6288,126765,173.41313269493844,4723658,6461.9124487004101,745154,1019.3625170998632,5342047,7307.8618331053349,0.65886796684798954,25,2765870.32,3783.68,34,0.34113203315201046,8107917.3200000003,11091.542161422709,6]
[19,"East Feliciana",1644,1298,285.56,681,40.86,260,390,40,24,5856,0.15615999999999999,256.72703999999999,997.14704000000006,2641.1470399999998,4015,10604205,4508415,4508415,6095790,0.57479999999999998,0.42520000000000002,2742.344890510949,10078523,5570108,0,3605429.7,3605429.7,2636809.3785168002,968620,589,0.26869999999999999,7064410,4297,285091,173.41301703163018,7349501,4470.4993917274942,1773618,1078.8430656934306,8838028,5375.9294403892945,0.52135997930187383,53,8113844.7000000002,4935.43,14,0.47864002069812622,16951872.699999999,10311.358090024331,21]
[20,"Evangeline",5237,4040,888.8,2557,153.41999999999999,978,1467,131,78.599999999999994,2263,6.0350000000000001E-2,316.05295000000001,2903.8729499999999,8140.8729499999999,4015,32685605,5998938,5998938,26686667,0.8165,0.1835,1145.4913118197442,18392173,12393235,0,11113105.700000001,11113105.700000001,3507518.4210340003,7605587,1452,0.68440000000000001,34292254,6548,523700,100,34815954,6648.0721787282791,3593472,686.16994462478522,37885726,7234.2421233530649,0.68885931568966874,9,17112043.699999999,3267.53,57,0.31114068431033121,54997769.700000003,10501.770040099294,15]
[21,"Franklin",2469,2154,473.88,1060,63.599999999999994,420,630,98,58.8,5031,0.13416,331.24104,1557.5210400000001,4026.5210400000001,4015,16166482,3245041,3245041,12921441,0.79930000000000001,0.20069999999999999,1314.3138922640744,9386777,6141736,0,5496603.8800000008,5496603.8800000008,1897449.6457915201,3599154,1458,0.65480000000000005,16520595,6691,428156,173.41271769947346,16948751,6864.6217091940052,1935110,783.76265694613198,18455705,7474.9716484406645,0.67858468128071892,14,8741644.8800000008,3540.56,42,0.32141531871928103,27197349.880000003,11015.532555690565,9]
[22,"Grant",2676,1966,432.52,1703.5,102.21,549,823.5,12,7.1999999999999993,4824,0.12864,344.24063999999998,1709.67064,4385.6706400000003,4015,17608468,2285265,2285265,15323203,0.87019999999999997,0.1298,853.9854260089686,7985710,5700445,0,5986879.1200000001,5700445,1272658.54892,4427786,1655,0.77669999999999995,19750989,7381,464053,173.41292974588939,20215042,7554.2010463378174,1792312,669.77279521674143,21543301,8050.5609118086695,0.72956391936052312,2,7985710,2984.2,66,0.27043608063947688,29529011,11034.757473841555,7]
[23,"Iberia",10937,8234,1811.48,6443.5,386.61,1659,2488.5,322,193.2,0,0,0,4879.79,15816.79,4015,63504412,16083833,16083833,47420579,0.74670000000000003,0.25330000000000003,1470.5891012160555,51762105,35678272,0,21591500.080000002,21591500.080000002,9406898.3888540827,12184602,1114,0.56430000000000002,59605181,5450,1896616,173.41281887171985,61501797,5623.2785041601901,9427615,861.99277681265426,69032796,6311.858462101125,0.64693099387250541,28,37675333.079999998,3444.76,52,0.35306900612749453,106708129.08,9756.6178184145556,41]
[24,"Iberville",3958,3244,713.68,1387.5,83.25,495,742.5,128,76.8,3542,9.4450000000000006E-2,373.8331,1990.0630999999998,5948.0630999999994,4015,23881473,19856503,17911105,5970368,0.25,0.75,4525.2918140474985,94794530,76883425,0,8119700.8200000003,8119700.8200000003,10474414.057800001,0,0,0,5970368,1508,2050534,518.07326932794342,8020902,2026.5037897928246,5431656,1372.3233956543709,11402024,2880.7539161192522,0.30459957355155681,66,26030805.82,6576.76,4,0.69540042644844313,37432829.82,9457.5113239009606,57]
[25,"Jackson",2010,1410,310.2,1537.5,92.25,246,369,89,53.4,5490,0.1464,294.26400000000001,1119.114,3129.114,4015,12563393,3615582,3615582,8947811,0.71220000000000006,0.2878,1798.7970149253731,11993130,8377548,0,4271553.62,4271553.62,2114487.38675792,2157066,1073,0.505,11104877,5525,348560,173.4129353233831,11453437,5698.2273631840799,1662557,827.14278606965172,12767434,6351.9572139303482,0.61814088770153708,39,7887135.6200000001,3923.95,28,0.38185911229846287,20654569.620000001,10275.905283582089,22]
[26,"Jefferson",48592,38140,8390.7999999999993,21812,1308.72,6928,10392,2973,1783.8,0,0,0,21875.319999999996,70467.319999999992,4015,282926290,125049451,125049451,157876839,0.55800000000000005,0.442,2573.4575856107999,393238203,268188752,0,96194938.600000009,96194938.600000009,73131240.121264011,23063698,475,0.23980000000000001,180940537,3724,19756947,406.58847135330916,200697484,4130.2577378992428,60420190,1243.4184639446823,241360727,4967.0877304906153,0.52174245017851151,52,221244389.59999999,4553.1000000000004,17,0.47825754982148849,462605116.60000002,9520.1909079683901,55]
[27,"Jefferson Davis",5134,3462,761.64,3446.5,206.79,840,1260,82,49.199999999999996,2366,6.3089999999999993E-2,323.90405999999996,2601.5340599999995,7735.53406,4015,31058169,6931968,6931968,24126201,0.77680000000000005,0.22320000000000001,1350.2080249318271,25455129,18523161,0,10559777.460000001,10559777.460000001,4053940.8060038406,6505837,1267,0.61609999999999998,30632038,5967,890302,173.41293338527464,31522340,6139.9181924425402,4448472,866.47292559407867,35080510,6832.9781846513442,0.66728181420124288,20,17491745.460000001,3407.04,54,0.33271818579875706,52572255.460000001,10240.018593689132,25]
[28,"Lafayette",34093,23135,5089.7,15384,923.04,3343,5014.5,1568,940.8,0,0,0,11968.039999999999,46061.04,4015,184935076,74492589,74492589,110442487,0.59719999999999995,0.40279999999999999,2184.9819317748511,242392793,167900204,0,62877925.840000004,62877925.840000004,43562833.068765439,19315093,567,0.30719999999999997,129757580,3806,7908541,231.96964186196581,137666121,4037.9585545419882,31582720,926.36963599565888,161340300,4732.358548675681,0.5401220578050363,51,137370514.84,4029.29,25,0.45987794219496358,298710814.84000003,8761.6465209867147,67]
[29,"Lafourche",13182,9072,1995.84,6399,383.94,1512,2268,313,187.79999999999998,0,0,0,4835.58,18017.580000000002,4015,72340584,21994011,21994011,50346573,0.69599999999999995,0.30399999999999999,1668.4881656804735,80357808,58363797,0,24595798.560000002,24595798.560000002,12860651.151052801,11735147,890,0.47710000000000002,62081720,4710,2285928,173.41283568502504,64367648,4882.995600060689,12237679,928.3628432711273,74319399,5637.9456076467914,0.61467112294527781,40,46589809.560000002,3534.35,43,0.38532887705472219,120909208.56,9172.2962039144295,62]
[30,"LaSalle",2386,1513,332.86,1447,86.82,317,475.5,22,13.2,5114,0.13636999999999999,325.37881999999996,1233.75882,3619.75882,4015,14533332,2991705,2991705,11541627,0.79410000000000003,0.2059,1253.857921207041,14028081,11036376,0,4941332.8800000008,4941332.8800000008,1749963.1567862404,3191370,1338,0.64590000000000003,14732997,6175,413763,173.41282481139984,15146760,6348.1810561609391,2148791,900.58298407376367,16881788,7075.3512154233022,0.6803105563439078,13,7933037.8799999999,3324.83,56,0.31968944365609225,24814825.879999999,10400.178491198658,19]
[31,"Lincoln",6206,4111,904.42,3331,199.85999999999999,1089,1633.5,249,149.4,1294,3.4509999999999999E-2,214.16906,3101.34906,9307.3490600000005,4015,37369006,12504438,12504438,24864568,0.66539999999999999,0.33460000000000001,2014.8949403802771,52809297,40304859,0,12705462.040000001,12705462.040000001,7312145.8695644811,5393316,869,0.42449999999999999,30257884,4876,1076200,173.4128262971318,31334084,5048.9983886561395,4929071,794.24282951981957,35186955,5669.8283918788266,0.5825958152406473,46,25209900.039999999,4062.18,22,0.41740418475935265,60396855.039999999,9732.0101579116981,43]
[32,"Livingston",26900,18986,4176.92,15734.5,944.06999999999994,3758,5637,958,574.79999999999995,0,0,0,11332.789999999999,38232.79,4015,153504652,26058810,26058810,127445842,0.83020000000000005,0.16980000000000001,968.72899628252787,99112486,73053676,0,52191581.680000007,52191581.680000007,15242864.579134081,36948717,1374,0.70789999999999997,164394559,6111,4664806,173.4128624535316,169059365,6284.7347583643123,19722619,733.18286245353158,184117178,6844.5047583643127,0.70175280513731519,5,78250391.680000007,2908.94,67,0.29824719486268486,262367569.68000001,9753.4412520446094,42]
[33,"Madison",1222,1158,254.76,877,52.62,195,292.5,12,7.1999999999999993,6278,0.16741,204.57501999999999,811.65502000000004,2033.6550200000001,4015,8165125,2166001,2166001,5999124,0.73470000000000002,0.26529999999999998,1772.5049099836333,6142417,3976416,0,2776142.5,2776142.5,1266798.2410299999,1509344,1235,0.54369999999999996,7508468,6144,211910,173.41243862520457,7720378,6317.8216039279869,1012699,828.7225859247136,8521167,6973.1317512274964,0.63291766167021102,33,4942143.5,4044.31,24,0.36708233832978893,13463310.5,11017.439034369885,8]
[34,"Morehouse",3169,2662,585.64,2565.5,153.93,560,840,14,8.4,4331,0.11549,365.98780999999997,1953.9578099999999,5122.9578099999999,4015,20568676,4609929,4609929,15958747,0.77590000000000003,0.22409999999999999,1454.695171978542,16049396,11439467,0,6993349.8400000008,6993349.8400000008,2695600.6825276799,4297749,1356,0.61450000000000005,20256496,6392,549545,173.41274850110446,20806041,6565.4910066266957,2590730,817.52287787945727,22847226,7209.6011360050488,0.6631898750427716,24,11603278.84,3661.5,38,0.33681012495722829,34450504.840000004,10871.096509940046,10]
[35,"Natchitoches",4799,4339,954.58,2840,170.4,551,826.5,230,138,2701,7.2029999999999997E-2,345.67196999999999,2435.1519699999999,7234.1519699999999,4015,29045120,10363904,10363904,18681216,0.64319999999999999,0.35680000000000001,2159.5965826213796,34384405,24020501,0,9875340.8000000007,9875340.8000000007,6060457.1475968007,3814884,795,0.38629999999999998,22496100,4688,832208,173.41279433215254,23328308,4861.0768910189627,3413878,711.3727859970827,25909978,5399.0368826838921,0.56143909751823606,49,20239244.800000001,4217.3900000000003,20,0.43856090248176405,46149222.799999997,9616.4248385080227,51]
[36,"Orleans",44321,37444,8237.68,14558.5,873.51,6738,10107,2202,1321.2,0,0,0,20539.390000000003,64860.39,4015,260414466,123415233,123415233,136999233,0.52610000000000001,0.47389999999999999,2784.5769048532297,394353190,270937957,0,88540918.440000013,88540918.440000013,72170410.947791532,16370507,369,0.18490000000000001,153369740,3460,7685831,173.41285169558449,161055571,3633.8433473973964,40174879,906.45244917759078,193544619,4366.8829448794022,0.47729778365153036,57,211956151.44,4782.3,15,0.52270221634846958,405500770.44,9149.1791800726514,63]
[37,"Ouachita",17390,11824,2601.2800000000002,6625.5,397.53,2506,3759,565,339,0,0,0,7096.81,24486.81,4015,98314542,22160895,22160895,76153647,0.77459999999999996,0.22539999999999999,1274.3470385278895,98969604,76808709,0,33426944.280000001,33426944.280000001,12959225.17402464,20467719,1177,0.61229999999999996,96621366,5556,3015649,173.41282346175964,99637015,5729.558079355952,14381927,827.02282921219091,111003293,6383.1680851063829,0.66632173922336946,21,55587839.280000001,3196.54,61,0.3336782607766306,166591132.28,9579.7085842438191,52]
[38,"Plaquemines",3575,2538,558.36,2015,120.89999999999999,563,844.5,221,132.6,3925,0.10467,374.19524999999999,2030.5552499999999,5605.5552499999994,4015,22506304,16814372,16814372,5691932,0.25290000000000001,0.74709999999999999,4703.3208391608396,71612408,54798036,0,7652143.3600000003,7652143.3600000003,9833096.0433203205,0,0,0,5691932,1592,1615524,451.8948251748252,7307456,2044.0436363636363,4582488,1281.8148251748253,10274420,2873.9636363636364,0.29574390826073604,67,24466515.359999999,6843.78,3,0.70425609173926396,34740935.359999999,9717.7441566433572,44]
[39,"Pointe Coupee",2282,1818,399.96,1732.5,103.95,455,682.5,44,26.4,5218,0.13915,317.5403,1530.3503000000001,3812.3503000000001,4015,15306586,8354602,8354602,6951984,0.45419999999999999,0.54579999999999995,3661.087642418931,22922930,14568328,0,5204239.24,5204239.24,4885614.8967702398,318624,140,6.1199999999999997E-2,7270608,3186,720416,315.69500438212094,7991024,3501.7633654688871,2499600,1095.3549517966696,9770208,4281.4233128834358,0.41880009337234347,61,13558841.24,5941.65,6,0.58119990662765642,23329049.240000002,10223.071533742332,26]
[40,"Rapides",20724,16407,3609.54,10914.5,654.87,3164,4746,617,370.2,0,0,0,9380.61,30104.61,4015,120870009,32066953,32066953,88803056,0.73470000000000002,0.26529999999999998,1547.3341536382939,120971134,88904181,0,41095803.060000002,41095803.060000002,18752672.469126958,22343131,1078,0.54369999999999996,111146187,5363,3593808,173.41285466126232,114739995,5536.5757093225247,18106203,873.68283149971046,129252390,6236.8456861609729,0.63855098057576654,31,73162756.060000002,3530.34,45,0.36144901942423352,202415146.06,9767.1851988033195,40]
[41,"Red River",1158,1071,235.62,748,44.879999999999995,179,268.5,13,7.8,6342,0.16911999999999999,195.84096,752.64095999999995,1910.64096,4015,7671223,7835837,5753417,1917806,0.25,0.75,4968.4084628670125,26463215,20709798,0,2608215.8200000003,2608215.8200000003,3364598.4078000006,0,0,0,1917806,1656,200812,173.41278065630397,2118618,1829.5492227979275,1227055,1059.63298791019,3144861,2715.7694300518133,0.27331184018312887,69,8361632.8200000003,7220.75,1,0.72668815981687118,11506493.82,9936.5231606217621,36]
[42,"Richland",2681,2175,478.5,1644.5,98.67,398,597,59,35.4,4819,0.12851000000000001,344.53531000000004,1554.1053100000001,4235.1053099999999,4015,17003948,5105847,5105847,11898101,0.69969999999999999,0.30030000000000001,1904.4561730697501,16154333,11048486,0,5781342.3200000003,5781342.3200000003,2986155.80975712,2795187,1043,0.48349999999999999,14693288,5481,464920,173.41290563222677,15158208,5653.9380828049234,1897325,707.6930249906751,16590613,6188.2182021633716,0.60378238429659103,43,10887189.32,4060.87,23,0.39621761570340902,27477802.32,10249.087027228647,23]
[43,"Sabine",3576,2537,558.14,2677,160.62,514,771,118,70.8,3924,0.10464,374.19263999999998,1934.7526399999999,5510.7526399999997,4015,22125672,7175517,7175517,14950155,0.67569999999999997,0.32429999999999998,2006.5763422818793,24921189,17745672,0,7522728.4800000004,7522728.4800000004,4196147.85523008,3326581,930,0.44219999999999998,18276736,5111,620124,173.41275167785236,18896860,5284.3568232662192,2674929,748.02265100671138,20951665,5858.966722595078,0.58770596385520002,44,14698245.48,4110.25,21,0.41229403614479987,35649910.480000004,9969.2143400447439,33]
[44,"St. Bernard",7436,5834,1283.48,3555.5,213.32999999999998,913,1369.5,138,82.8,64,1.7099999999999999E-3,12.71556,2961.8255600000002,10397.825560000001,4015,41747270,11854816,11854816,29892454,0.71599999999999997,0.28399999999999997,1594.2463690155998,43263658,31408842,0,14194071.800000001,14194071.800000001,6933520.1928639999,7260552,976,0.51149999999999995,37153006,4996,1289498,173.41285637439483,38442504,5169.7826788596021,6220756,836.57288864981172,43373762,5832.9427111350187,0.62477825500691275,37,26048887.800000001,3503.08,48,0.3752217449930873,69422649.799999997,9336.0206831629912,59]
[45,"St. Charles",8895,4969,1093.18,5960.5,357.63,1207,1810.5,790,474,0,0,0,3735.31,12630.31,4015,50710695,34281644,34281644,16429051,0.32400000000000001,0.67600000000000005,3854.0353007307476,170472909,136191265,0,17241636.300000001,17241636.300000001,20047195.358736001,0,0,0,16429051,1847,3773182,424.19134345137718,20202233,2271.1897695334455,10479656,1178.1513209668353,26908707,3025.1497470489039,0.34308332513716633,65,51523280.299999997,5792.39,7,0.65691667486283367,78431987.299999997,8817.5365148960082,66]
[46,"St. Helena",1032,1005,221.1,538,32.28,177,265.5,55,33,6468,0.17247999999999999,177.99936,729.87936000000002,1761.8793599999999,4015,7073946,1283806,1283806,5790140,0.81850000000000001,0.18149999999999999,1243.9980620155038,4365874,3082068,0,2405141.64,2405141.64,750837.11717520002,1654305,1603,0.68779999999999997,7444445,7214,178962,173.41279069767441,7623407,7387.0222868217052,930320,901.47286821705427,8374765,8115.0823643410849,0.69421124739257711,7,3688947.64,3574.56,41,0.30578875260742283,12063712.640000001,11689.644031007752,3]
[47,"St. James",3123,2044,449.68,2067.5,124.05,584,876,116,69.599999999999994,4377,0.11672,364.51656000000003,1883.84656,5006.84656,4015,20102489,12128080,12128080,7974409,0.3967,0.60329999999999995,3883.4710214537304,50020794,37892714,0,6834846.2600000007,6834846.2600000007,7092355.9276917595,0,0,0,7974409,2553,1372914,439.61383285302594,9347323,2993.0589177073325,4217217,1350.3736791546589,12191626,3903.8187640089659,0.39132727372407433,63,18962926.260000002,6072.02,5,0.60867272627592561,31154552.260000002,9975.8412616074293,32]
[48,"St. John the Baptist",4997,4324,951.28,3625.5,217.53,787,1180.5,105,63,2503,6.6750000000000004E-2,333.54975000000002,2745.8597500000001,7742.8597499999996,4015,31087582,15632997,15632997,15454585,0.49709999999999999,0.50290000000000001,3128.476485891535,61674289,46041292,0,10569777.880000001,10569777.880000001,9142731.0288654398,1427047,286,0.13500000000000001,16881632,3378,866544,173.41284770862518,17748176,3551.7662597558533,5219281,1044.4828897338402,22100913,4422.8363017810689,0.4575409036035698,58,26202774.879999999,5243.7,13,0.54245909639643031,48303687.879999995,9666.5374984990976,47]
[49,"St. Landry",12017,10081,2217.8200000000002,8091.5,485.49,1728,2592,281,168.6,0,0,0,5463.9100000000008,17480.91,4015,70185854,18027111,18027111,52158743,0.74319999999999997,0.25679999999999997,1500.1340600815511,47143060,29115949,0,23863190.360000003,23863190.360000003,10540275.72925056,13322915,1109,0.55830000000000002,65481658,5449,2083902,173.41283182158608,67565560,5622.4981276524923,8986947,747.85279187817264,74468605,6196.9380877090789,0.63999058885620141,30,41890301.359999999,3485.92,50,0.36000941114379859,116358906.36,9682.8581476241998,46]
[50,"St. Martin",6921,5566,1224.52,3832.5,229.95,888,1332,327,196.2,579,1.5440000000000001E-2,106.86024,3089.53024,10010.53024,4015,40192279,11198512,11198512,28993767,0.72140000000000004,0.27860000000000001,1618.048258922121,35806130,24607618,0,13665374.860000001,13665374.860000001,6548338.3099131212,7117037,1028,0.52080000000000004,36110804,5218,1200190,173.41280161826325,37310994,5390.9830949284787,5591288,807.87285074411216,41702092,6025.4431440543276,0.62647755977128883,35,24863886.859999999,3592.53,40,0.37352244022871117,66565978.859999999,9617.9712267013438,50]
[51,"St. Mary",7326,5970,1313.4,4537,272.21999999999997,1285,1927.5,525,315,174,4.64E-3,33.992640000000002,3862.1126399999998,11188.112639999999,4015,44920272,13462414,13462414,31457858,0.70030000000000003,0.29970000000000002,1837.6213486213487,48290814,34828400,0,15272892.48,15272892.48,7872931.7071603211,7399961,1010,0.48449999999999999,38857819,5304,1270423,173.4129129129129,40128242,5477.5105105105104,6447414,880.07289107289103,45305233,6184.1704886704883,0.61189766198607931,41,28735306.48,3922.37,29,0.38810233801392069,74040539.480000004,10106.543745563746,29]
[52,"St. Tammany",36419,19785,4352.7,15117.5,907.05,6694,10041,2290,1374,0,0,0,16674.75,53093.75,4015,213171406,71982223,71982223,141189183,0.6623,0.3377,1976.5019083445454,300915172,228932949,0,72478278.040000007,72478278.040000007,42098572.929865763,30379705,834,0.41920000000000002,171568888,4711,6315522,173.41283396029544,177884410,4884.384799143304,30292699,831.78283313654958,201861587,5542.7547983195582,0.58287240107158611,45,144460501.03999999,3966.62,26,0.417127598928414,346322088.03999996,9509.3793909772357,56]
[53,"Tangipahoa",18988,14991,3298.02,14067.5,844.05,2904,4356,435,261,0,0,0,8759.07,27747.07,4015,111404486,26363224,26363224,85041262,0.76339999999999997,0.2366,1388.4149989467032,88782631,62419407,0,37877525.240000002,37877525.240000002,15414334.65146848,22463191,1183,0.59299999999999997,107504453,5662,3292763,173.41283968822415,110797216,5835.1177585843689,16389546,863.15283336844323,123893999,6524.8577522645883,0.65853862807922503,26,64240749.240000002,3383.23,55,0.34146137192077491,188134748.24000001,9908.0865936380869,37]
[54,"Tensas",355,341,75.02,232.5,13.95,86,129,4,2.4,7145,0.19053,67.638149999999996,288.00815,643.00815,4015,2581678,1096469,1096469,1485209,0.57530000000000003,0.42470000000000002,3088.6450704225354,3287526,2191057,0,877770.52,877770.52,641197.32053168002,236573,666,0.26950000000000002,1721782,4850,61562,173.41408450704225,1783344,5023.5042253521124,399327,1124.8647887323943,2121109,5974.954929577465,0.51793125533550444,54,1974239.52,5561.24,10,0.48206874466449562,4095348.52,11536.193014084507,4]
[55,"Terrebonne",14558,10788,2373.36,6695.5,401.72999999999996,1892,2838,582,349.2,0,0,0,5962.29,20520.29,4015,82388964,28795171,28795171,53593793,0.65049999999999997,0.34949999999999998,1977.9620140129139,85248222,56453051,0,28012247.760000002,28012247.760000002,16839282.618446399,11172965,767,0.39889999999999998,64766758,4449,2524544,173.41283143288913,67291302,4622.2902871273527,14100192,968.55282318999866,78866950,5417.4302788844625,0.58129586834128566,47,56807418.759999998,3902.14,31,0.41870413165871434,135674368.75999999,9319.5747190548154,61]
[56,"Union",2758,2134,469.48,986.5,59.19,335,502.5,54,32.4,4742,0.12645000000000001,348.7491,1412.3191000000002,4170.3191000000006,4015,16743831,3769643,3769643,12974188,0.77490000000000003,0.22509999999999999,1366.8031182015955,15887157,12117514,0,5692902.54,5692902.54,2204132.4622168797,3488770,1265,0.61280000000000001,16462958,5969,478273,173.41298042059464,16941231,6142.5783176214645,2173505,788.07287889775205,18636463,6757.2382160986226,0.66324272521823291,23,9462545.5399999991,3430.94,53,0.33675727478176709,28099008.539999999,10188.182936910805,27]
[57,"Vermilion",9132,6040,1328.8,3929.5,235.76999999999998,1257,1885.5,259,155.4,0,0,0,3605.47,12737.47,4015,51140942,10674766,10674766,40466176,0.7913,0.2087,1168.9406482698205,28978413,18303647,0,17387920.280000001,17387920.280000001,6241637.4153899206,11146283,1221,0.64100000000000001,51612459,5652,1583606,173.41283399036357,53196065,5825.2370784056066,8565111,937.92279894875162,60177570,6589.7470433639946,0.68197410724927232,12,28062686.280000001,3073.01,64,0.31802589275072762,88240256.280000001,9662.7525492772675,48]
[58,"Vernon",7608,5253,1155.6600000000001,3045.5,182.73,1132,1698,120,72,0,0,0,3108.3900000000003,10716.39,4015,43026306,7337709,7337709,35688597,0.82950000000000002,0.17050000000000001,964.47279179810721,25584025,18246316,0,14628944.040000001,14628944.040000001,4290084.129170401,10338860,1359,0.70669999999999999,46027457,6050,1319325,173.41285488958991,47346782,6223.288906414301,6622405,870.45281282860151,52649862,6920.3288643533124,0.70560601727078465,4,21966653.039999999,2887.31,68,0.29439398272921541,74616515.039999992,9807.6386750788624,38]
[59,"Washington",4442,3352,737.44,2556.5,153.38999999999999,905,1357.5,348,208.79999999999998,3058,8.1549999999999997E-2,362.24509999999998,2819.3751000000002,7261.3751000000002,4015,29154421,3621921,3621921,25532500,0.87580000000000002,0.1242,815.38068437640698,10894471,7272550,0,9912503.1400000006,7272550,1553591.2212,5718959,1287,0.78639999999999999,31251459,7035,770300,173.41287708239531,32021759,7208.8606483565964,3833148,862.93291310220616,35084607,7898.3806843764069,0.76305590555774083,1,10894471,2452.6,69,0.23694409444225914,45979078,10350.985592075642,20]
[60,"Webster",4940,3809,837.98,2826,169.56,789,1183.5,296,177.6,2560,6.8269999999999997E-2,337.25380000000001,2705.8937999999998,7645.8937999999998,4015,30698264,8135596,8135596,22562668,0.73499999999999999,0.26500000000000001,1646.8817813765181,32040124,23904528,0,10437409.760000002,10437409.760000002,4757371.3686080007,5680038,1150,0.54420000000000002,28242706,5717,856659,173.41275303643724,29099365,5890.5597165991903,3791217,767.45283400809717,32033923,6484.5997975708506,0.63299480495879823,32,18573005.760000002,3759.72,36,0.36700519504120171,50606928.760000005,10244.317562753038,24]
[61,"West Baton Rouge",4061,3341,735.02,2158,129.47999999999999,565,847.5,208,124.8,3439,9.171E-2,372.43430999999998,2209.2343099999998,6270.2343099999998,4015,25174991,14021981,14021981,11153010,0.443,0.55700000000000005,3452.8394484117212,56918504,42896523,0,8559496.9400000013,8559496.9400000013,8200340.448397602,359156,88,4.2000000000000003E-2,11512166,2835,704230,173.41295247475992,12216396,3008.2235902487073,4089926,1007.122876138882,15602092,3841.9335139128293,0.40860747238973333,62,22581477.940000001,5560.57,11,0.59139252761026673,38183569.939999998,9402.5042945087407,58]
[62,"West Carroll",1503,1203,264.66000000000003,970,58.199999999999996,231,346.5,0,0,5997,0.15992000000000001,240.35976000000002,909.71976000000006,2412.71976,4015,9687070,1918107,1918107,7768963,0.80200000000000005,0.19800000000000001,1276.1856287425151,5712789,3794682,0,3293603.8000000003,3293603.8000000003,1121669.7101280002,2171934,1445,0.65939999999999999,9940897,6614,260640,173.41317365269461,10201537,6787.4497671324016,1036308,689.49301397205591,10977205,7303.5296074517628,0.67806918854936538,15,5211710.8,3467.54,51,0.32193081145063462,16188915.800000001,10771.068396540253,13]
[63,"West Feliciana",2098,1080,237.6,1318.5,79.11,313,469.5,228,136.79999999999998,5402,0.14405000000000001,302.21690000000001,1225.2269000000001,3323.2269000000001,4015,13342756,6879103,6879103,6463653,0.4844,0.51559999999999995,3278.886081982841,28344603,21465500,0,4536537.04,4536537.04,4023146.2162572793,513391,245,0.1132,6977044,3326,889956,424.19256434699713,7867000,3749.76167778837,2477701,1180.9823641563394,9454745,4506.5514775977117,0.45302206844191506,59,11415640.039999999,5441.2,12,0.54697793155808494,20870385.039999999,9947.7526406101042,35]
[64,"Winn",1730,1397,307.33999999999997,1449.5,86.97,262,393,57,34.199999999999996,5770,0.15387000000000001,266.19510000000002,1087.7051000000001,2817.7051000000001,4015,11313086,2670237,2670237,8642849,0.76400000000000001,0.23599999999999999,1543.4895953757225,7797606,5127369,0,3846449.24,3846449.24,1561350.6755007999,2285099,1321,0.59409999999999996,10927948,6317,300004,173.41271676300579,11227952,6490.1456647398845,1325306,766.07283236994215,12253254,7082.8057803468209,0.6528126271754181,27,6516686.2400000002,3766.87,35,0.34718737282458173,18769940.240000002,10849.67643930636,12]
[65,"City of Monroe",7922,6709,1475.98,3036.5,182.19,1309,1963.5,603,361.8,0,0,0,3983.4700000000003,11905.470000000001,4015,47800462,14694599,14694599,33105863,0.69259999999999999,0.30740000000000001,1854.9102499368846,48917843,34223244,0,16252157.080000002,16252157.080000002,8592970.508594241,7659187,967,0.4713,40765050,5146,1373777,173.41290078263066,42138827,5319.2157283514262,7942066,1002.5329462257006,48707116,6148.3357737944962,0.61148459865304772,42,30946756.079999998,3906.43,30,0.38851540134695228,79653872.079999998,10054.767997980307,30]
[66,"City of Bogalusa",1881,1755,386.1,1017,61.019999999999996,364,546,136,81.599999999999994,5619,0.14984,281.84904,1356.5690400000001,3237.5690400000003,4015,12998840,3674574,3674574,9324266,0.71730000000000005,0.28270000000000001,1953.5215311004786,10904453,7229879,0,4419605.6000000006,4419605.6000000006,2149006.7053664005,2270599,1207,0.51380000000000003,11594865,6164,326190,173.41307814992027,11921055,6337.6156299840513,1699433,903.47315257841569,13294298,7067.6757044125461,0.62156354690714399,38,8094179.5999999996,4303.13,19,0.3784364530928559,21388477.600000001,11370.80148856991,5]
[67,"Zachary Community",5509,3455,760.1,2014.5,120.86999999999999,650,975,396,237.6,1991,5.3089999999999998E-2,292.47280999999998,2386.0428099999999,7895.0428099999999,4015,31698597,7118394,7118394,24580203,0.77539999999999998,0.22459999999999999,1292.1390451987656,32279802,25161408,0,10777522.98,10777522.98,4163486.4574497598,6614037,1201,0.61370000000000002,31194240,5662,955331,173.41277908876384,32149571,5835.8270103467057,4897626,889.02269014340175,36091866,6551.4369214013432,0.66851913540088093,18,17895916.98,3248.49,59,0.33148086459911896,53987782.980000004,9799.9243020511894,39]
[68,"City of Baker",1544,1425,313.5,706.5,42.39,147,220.5,3,1.7999999999999998,5956,0.15883,245.23352,823.42351999999994,2367.4235199999998,4015,9505205,2160053,2160053,7345152,0.77280000000000004,0.22720000000000001,1398.9980569948186,7652635,5492582,0,3231769.7,3231769.7,1262923.8904448,1968846,1275,0.60919999999999996,9313998,6032,267749,173.41256476683938,9581747,6205.7946891191714,1500942,972.11269430051811,10814940,7004.49481865285,0.66731031978397515,19,5391822.7000000002,3492.11,49,0.33268968021602491,16206762.699999999,10496.607966321242,17]
[69,"Central Community",4706,2758,606.76,2851.5,171.09,568,852,415,249,2794,7.4510000000000007E-2,350.64406000000002,2229.49406,6935.49406,4015,27846009,5440174,5440174,22405835,0.80459999999999998,0.19539999999999999,1156.0080747981301,25875798,20435624,0,9467643.0600000005,9467643.0600000005,3181961.2207492799,6285682,1336,0.66390000000000005,28691517,6097,816081,173.41287717807054,29507598,6270.2078198045047,4136964,879.08287292817681,32828481,6975.8778155546115,0.68770479350404823,10,14907817.060000001,3167.83,62,0.31229520649595172,47736298.060000002,10143.709745006376,28]
[null,"STATE TOTAL",646725,472394,103926.68,317735,19064.100000000002,93720,140580,26282,15769.199999999999,199631,null,13109.60601,292449.58601000009,939174.58600999985,4015,3770785965,1325164488,1319667372,2451118593,0.65,0.35,2040.5386709961731,4792324063,3472656691,0,1282067228.0999997,1278614721.6399996,770929605.14333284,517357461,800,0.40460000000000002,2968476054,4590,141465431,218.74124395995207,3109941485,4808.754084038811,598050044,924.73623874135069,3566526098,5514.7490788202094,0.57852993753098603,null,2598282093.6399999,4017.6,null,0.42147006246901403,6164808191.6399994,9532.3486669604536]

{"sheet":"3A_Level 3","index":12,"n_rows":76,"n_cols":11,"rows_kept":76,"cut":false,"hidden":false,"merged":[[0,10,2,10],[1,7,2,7],[0,7,0,8],[3,0,3,1],[5,0,5,1],[0,0,2,1],[1,2,2,2],[1,3,2,3],[0,4,0,6],[1,4,2,4],[0,2,0,3],[0,9,2,9],[1,5,2,5]]}
["School\nSystem",null,"Continuation of Prior\nYear Pay Raises",null,"Historical Formula Allocation",null,null,"Mandated Cost\nAdjustment",null,"Total\nLevel 3\nState Cost\nAllocation\n(Without\nContinuation\nof Prior Year\nPay Raises)","Total\nLevel 3\nState Cost\nAllocation\n(With\nContinuation\nof Prior Year\nPay Raises)"]
[null,null,"Continuation\nof Prior Year\nPay Raises\nPer Pupil\nAmount","Continuation\nof Prior Year\nPay Raises\n(City/Parish\nSchool Systems,\nNew Type 2\nCharter Schools,\n& RSD/Type 5\nCharter Schools)","Pay Raise &\nInsurance\nSupplement\nAmounts\nfrom Prior\nYears","Feb. 1\nMFP Funded\nMembership","Redistribution\nAllocation\n\n$38,456,219","Feb. 1\nMFP Funded\nMembership","Increase\nCost\nAdjustment"]
[null,null,null,null,null,null,73.412847556959733,null,100]
["FY2024-25",null,1,2,3,4,5,6,7,8,9]
["July 2024",null,"Values","Formula","Values","Formula","Per Pupil (I3)\nC5 ÷ C6","Link in File","Per Pupil (K3)\nResolution","Formula","Formula"]
["July 2024",null,"Historical Data","C1 x (T3, C1)","Historical Data","(T3, C1)","C4 x $72.94","(T3, C1)","C6 x $100","C3 + C5 + C7","C2 + C3 + C5 + C7"]
[1,"Acadia",777.48,6911797,0,8890,652640,8890,889000,1541640,8453437]
[2,"Allen",842.32,3137642,0,3725,273463,3725,372500,645963,3783605]
[3,"Ascension",596.84,14178531,0,23756,1743996,23756,2375600,4119596,18298127]
[4,"Assumption",585.76,1555193,0,2655,194911,2655,265500,460411,2015604]
[5,"Avoyelles",555.91,2689493,0,4838,355171,4838,483800,838971,3528464]
[6,"Beauregard",545.4799999999999,3027959,0,5551,407515,5551,555100,962615,3990574]
[7,"Bienville",756.91999999999985,1355644,0,1791,131482,1791,179100,310582,1666226]
[8,"Bossier",725.76,15885435,0,21888,1606860,21888,2188800,3795660,19681095]
[9,"Caddo",744.76,25070856,0,33663,2471297,33663,3366300,5837597,30908453]
[10,"Calcasieu",608.04000000000008,18101351,0,29770,2185500,29770,2977000,5162500,23263851]
[11,"Caldwell",706.55,991290,0,1403,102998,1403,140300,243298,1234588]
[12,"Cameron",1063.31,1143058,0,1075,78919,1075,107500,186419,1329477]
[13,"Catahoula",749.43000000000006,750179,0,1001,73486,1001,100100,173586,923765]
[14,"Claiborne",809.9799999999999,1311358,0,1619,118855,1619,161900,280755,1592113]
[15,"Concordia",553.79999999999995,1772714,0,null,0,3201,320100,320100,2092814]
[16,"DeSoto",686.73,3251667,0,4735,347610,4735,473500,821110,4072777]
[17,"East Baton Rouge",801.48,35434232,13580692,null,0,44211,4421100,18001792,53436024]
[18,"East Carroll",845.94999999999993,618389,0,731,53665,731,73100,126765,745154]
[19,"East Feliciana",905.43,1488527,0,1644,120691,1644,164400,285091,1773618]
[20,"Evangeline",586.16999999999996,3069772,0,null,0,5237,523700,523700,3593472]
[21,"Franklin",610.35,1506954,0,2469,181256,2469,246900,428156,1935110]
[22,"Grant",496.36,1328259,0,2676,196453,2676,267600,464053,1792312]
[23,"Iberia",688.58,7530999,0,10937,802916,10937,1093700,1896616,9427615]
[24,"Iberville",854.24999999999989,3381122,1654734,null,0,3958,395800,2050534,5431656]
[25,"Jackson",653.73,1313997,0,2010,147560,2010,201000,348560,1662557]
[26,"Jefferson",836.83,40663243,14897747,null,0,48592,4859200,19756947,60420190]
[27,"Jefferson Davis",693.06,3558170,0,5134,376902,5134,513400,890302,4448472]
[28,"Lafayette",694.4,23674179,1996377,34093,2502864,34093,3409300,7908541,31582720]
[29,"Lafourche",754.94999999999993,9951751,0,13182,967728,13182,1318200,2285928,12237679]
[30,"LaSalle",727.17,1735028,0,2386,175163,2386,238600,413763,2148791]
[31,"Lincoln",620.83000000000004,3852871,0,6206,455600,6206,620600,1076200,4929071]
[32,"Livingston",559.77,15057813,0,26900,1974806,26900,2690000,4664806,19722619]
[33,"Madison",655.31000000000006,800789,0,1222,89710,1222,122200,211910,1012699]
[34,"Morehouse",644.11000000000013,2041185,0,3169,232645,3169,316900,549545,2590730]
[35,"Natchitoches",537.96,2581670,0,4799,352308,4799,479900,832208,3413878]
[36,"Orleans",732.46,32489048,0,44321,3253731,44321,4432100,7685831,40174879]
[37,"Ouachita",653.61,11366278,0,17390,1276649,17390,1739000,3015649,14381927]
[38,"Plaquemines",829.92000000000007,2966964,1258024,null,0,3575,357500,1615524,4582488]
[39,"Pointe Coupee",779.66,1779184,324688,2282,167528,2282,228200,720416,2499600]
[40,"Rapides",700.2700000000001,14512395,0,20724,1521408,20724,2072400,3593808,18106203]
[41,"Red River",886.22,1026243,0,1158,85012,1158,115800,200812,1227055]
[42,"Richland",534.28,1432405,0,2681,196820,2681,268100,464920,1897325]
[43,"Sabine",574.6099999999999,2054805,0,3576,262524,3576,357600,620124,2674929]
[44,"St. Bernard",663.16000000000008,4931258,0,7436,545898,7436,743600,1289498,6220756]
[45,"St. Charles",753.96000000000015,6706474,2883682,null,0,8895,889500,3773182,10479656]
[46,"St. Helena",728.06,751358,0,1032,75762,1032,103200,178962,930320]
[47,"St. James",910.76,2844303,1060614,null,0,3123,312300,1372914,4217217]
[48,"St. John the Baptist",871.07,4352737,0,4997,366844,4997,499700,866544,5219281]
[49,"St. Landry",574.43999999999994,6903045,0,12017,882202,12017,1201700,2083902,8986947]
[50,"St. Martin",634.46,4391098,0,6921,508090,6921,692100,1200190,5591288]
[51,"St. Mary",706.66,5176991,0,7326,537823,7326,732600,1270423,6447414]
[52,"St. Tammany",658.37,23977177,0,36419,2673622,36419,3641900,6315522,30292699]
[53,"Tangipahoa",689.74,13096783,0,18988,1393963,18988,1898800,3292763,16389546]
[54,"Tensas",951.45,337765,0,355,26062,355,35500,61562,399327]
[55,"Terrebonne",795.14,11575648,0,14558,1068744,14558,1455800,2524544,14100192]
[56,"Union",614.66000000000008,1695232,0,2758,202473,2758,275800,478273,2173505]
[57,"Vermilion",764.51,6981505,0,9132,670406,9132,913200,1583606,8565111]
[58,"Vernon",697.04,5303080,0,7608,558525,7608,760800,1319325,6622405]
[59,"Washington",689.52,3062848,0,4442,326100,4442,444200,770300,3833148]
[60,"Webster",594.04,2934558,0,4940,362659,4940,494000,856659,3791217]
[61,"West Baton Rouge",833.70999999999992,3385696,0,4061,298130,4061,406100,704230,4089926]
[62,"West Carroll",516.08000000000004,775668,0,1503,110340,1503,150300,260640,1036308]
[63,"West Feliciana",756.79,1587745,680156,null,0,2098,209800,889956,2477701]
[64,"Winn",592.66,1025302,0,1730,127004,1730,173000,300004,1325306]
[65,"City of Monroe",829.12,6568289,0,7922,581577,7922,792200,1373777,7942066]
[66,"City of Bogalusa",730.06,1373243,0,1881,138090,1881,188100,326190,1699433]
[67,"Zachary Community",715.61,3942295,0,5509,404431,5509,550900,955331,4897626]
[68,"City of Baker",798.7,1233193,0,1544,113349,1544,154400,267749,1500942]
[69,"Central Community",705.67,3320883,0,4706,345481,4706,470600,816081,4136964]
[null,"STATE TOTALS",705.99,456584613,38336714,523835,38456217,646725,64672500,141465431,598050044]

{"sheet":"4_Level 4","index":13,"n_rows":208,"n_cols":56,"rows_kept":208,"cut":false,"hidden":false,"merged":[[0,0,2,2],[0,55,2,55],[1,5,2,5],[1,7,2,7],[1,9,2,9],[1,13,2,13],[0,13,0,16],[0,3,0,4],[0,5,0,9],[1,10,2,10],[1,15,2,15],[1,16,2,16],[0,10,0,11],[1,3,2,3],[1,20,2,20],[1,24,2,24],[3,0,3,2],[5,0,5,2],[235,41,237,41],[235,45,237,45],[234,17,236,17],[234,21,236,21],[234,29,236,29],[234,33,236,33],[1,40,2,40],[1,26,2,26],[1,32,2,32],[1,27,2,27],[1,28,2,28],[0,17,0,24],[0,25,0,28],[0,29,0,36],[1,39,2,39],[0,53,0,54],[1,53,2,53],[0,41,0,48],[0,49,0,52],[1,44,2,44],[1,48,2,48],[1,50,2,50],[1,51,2,51],[1,52,2,52],[1,38,2,38],[0,37,0,40],[1,36,2,36]]}
["School Systems\nand Schools",null,null,"International Language Associate \nSalary Allocation",null,"International Language Associate Stipend Allocation\nIncludes Escadrille Louisiane Graduates",null,null,null,null,"Career Development Fund (CDF)",null,"\nHigh Cost\nServices (HCS)\n\n\n\n","Supplemental Course Allocation (SCA)",null,null,null,"FY2019-20 Certificated and Non-Certificated Pay Raise (Monthly Payment) - Initial",null,null,null,null,null,null,null,"FY2019-20 Certificated and Non-Certificated Pay Raise",null,null,null,"FY2021-22 Certificated and Non-Certificated Pay Raise (Monthly Payment) - Initial",null,null,null,null,null,null,null,"FY2021-22 Certificated and Non-Certificated Pay Raise",null,null,null,"FY2022-23 Certificated and Non-Certificated Pay Raise (Monthly Payment) - Initial",null,null,null,null,null,null,null,"FY2022-23 Certificated and Non-Certificated Pay Raise",null,null,null,"Mentor Teacher \nStipend Allocation",null,"Total\nLevel 4"]
[null,null,null,"Qualifying\nTeachers\nAs \nof Prior Year\n\n(Includes\nEscadrille)\n","Total Salary\nAllocation\n(Monthly Payment)","Qualifying\nFirst Year\nTeachers\n\n\n\n\nPending Data\n","First Year\nTeacher\nStipends\n(Annual Payment)","Qualifying\nSecond and\nThird Year\nTeachers\n\n\nPending Data","Second &\nThird Year\nTeacher\nStipends\n(Annual Payment)","Total\nStipend\nAllocation\n(Annual Payment)","Number of\nQualifying\nCourses\n\nFinal CLASS Course  Data \n","Initial \nAllocation\nBased on\n75% of \nFY2022-23\nor\nMinimum\n(Annual Payment)","\nHigh Cost\nServices\nAllocation\n(Annual \nPayment)\n\nPending Data\n\n\n","Grades\n7 - 12\n\nFeb 1 count\n\n  ","Initial\nFunding\nfor SCA","\n\nReallocation\nof Unused\nSCA Funds\n\nPending","SCA \nFunding\n(Monthly \nPayment)","Certificated\nStaff\nFTE Count\n","Pay Raise Amount","Retirement Allocation FY24-25 Rate","\nTotal \nCost","Non-Certificated Staff\nFTE Count\n","Pay Raise Amount","Retirement Allocation FY24-25 Rate","\nTotal \nCost","Total Staff\nFTE Count\n","Total \nPay Raise\nCost","Total \nRetirement \nCost ","Grand \nTotal\n(Monthly \nPayment)","Certificated\nStaff\nFTE Count\n","Pay Raise Amount","Retirement Allocation FY24-25 Rate","\nTotal \nCost","Non-Certificated Staff\nFTE Count\n","Pay Raise Amount","Retirement Allocation FY24-25 Rate","\nTotal \nCost","Total Staff\nFTE Count\n","Total \nPay Raise\nCost","Total Retirement Cost ","Grand \nTotal\n(Monthly \nPayment)","Certificated\nStaff\nFTE Count\n","Pay Raise Amount","Retirement Allocation FY24-25 Rate","\nTotal \nCost","Non-Certificated Staff\nFTE Count\n","Pay Raise Amount","Retirement Allocation FY24-25 Rate","\nTotal \nCost","Total Staff\nFTE Count\n","Total \nPay Raise\nCost","Total \nRetirement \nCost ","Grand \nTotal\n(Monthly \nPayment)","Number of Qualifying \nMentor \nTeachers  \n\n \nPending Data","Mentor Teacher\nStipend\n(Annual \nPayment)"]
[null,null,null,null,21000,null,6000,null,4000,null,null,241,12000000,null,70,null,null,null,1000,0.21510000000000001,null,null,500,0.25800000000000001,null,null,null,null,null,null,800,0.21510000000000001,null,null,400,0.25800000000000001,null,null,null,null,null,null,1500,0.21510000000000001,null,null,750,0.25800000000000001,null,null,null,null,null,null,2000]
["FY2024-25",null,null,1,2,3,4,5,6,7,8,9,10,11,12,13,14,15,16,17,18,19,20,21,22,23,24,25,26,27,28,29,30,31,32,33,34,35,36,37,38,39,40,41,42,43,44,45,46,47,48,49,50,51,52,53]
[0,null,null,"Input","Per Pupil ($E$3)\nResolution","Input","Per Pupil ($G$3)\nResolution","Input","Per Pupil ($I$3)\nResolution","Formula","Input","Per Pupil ($L$3)\nResolution","Input","SIS Multistats","Per Pupil ($O$3)\nResolution","Input","Formula",null,null,null,null,null,null,null,null,null,null,null,null,null,null,null,null,null,null,null,null,null,null,null,null,null,null,null,null,null,null,null,null,null,null,null,null,null,null,"Formula"]
["July 2024",null,null,"Prior Year\nFeb. 1 Count","C1 x $21,000","CY Annual Count","C3 x $6,000","CY Annual Count","C5 x $4,000","C4 + C6","Annual CY CLASS Course Count","CY Count Or Min.","CY HCS\nAllocation","Prior Year\nFeb. 1 Count","C11 x $70","Reallocation Calculation","C12 + C13","CY Oct Certificated FTE","C15 x $1,000","C16 x 24.1%","C16 + C17","CY Oct Non-Certificated FTE","C19 x $500","C20 x 28.7%","C20 + C21","C15 + C19","C16 + C20","C17 + C21","C18 + C22","CY Oct Certificated FTE","C27 x $800","C28 x 24.1%","C28 + C29","CY Oct Non-Certificated FTE","C31 x $400","C32 x 27.6%","C32 + C33","C27 + C31","C28 + C32","C29 + C33","C30 + C34","CY Oct Certificated FTE","C39 x $1500","C40 x 24.1%","C40 + C41","CY Oct Non-Certificated FTE","C43 x $750","C44 x 27.6%","C44 + C45","C39 + C43","C40 + C44","C41 + C45","C42 + C46","Fall Mentor Teacher Data Collection","C51 x $2,000","C2 + C7 + C9 + C10\n+ C14 + C26 + C38 + C50 + C52"]
[1,1,"Acadia",0,0,null,0,null,0,0,1043,188522,null,3718,260260,null,260260,717.23842400000001,717238,154278,871516,498.68472899999938,249342,64330,313672,1215.9231529999993,966580,218608,1185188,717.23842400000001,573791,123422,697213,498.68472899999938,199474,51464,250938,1215.9231529999993,773265,174886,948151,717.23842400000001,1075858,231417,1307275,498.68472899999938,374014,96496,470510,1215.9231529999993,1449872,327913,1777785,null,0,4359906]
[2,2,"Allen",0,0,null,0,null,0,0,638,115319,null,1650,115500,null,115500,386.5,386500,83136,469636,245,122500,31605,154105,631.5,509000,114741,623741,386.5,309200,66509,375709,245,98000,25284,123284,631.5,407200,91793,498993,386.5,579750,124704,704454,245,183750,47408,231158,631.5,763500,172112,935612,null,0,2289165]
[3,3,"Ascension",0,0,null,0,null,0,0,4803,868142,null,10876,761320,null,761320,2257.904866999997,2257905,485675,2743580,1352.720294,676360,174501,850861,3610.6251609999972,2934265,660176,3594441,2257.904866999997,1806324,388540,2194864,1352.720294,541088,139601,680689,3610.6251609999972,2347412,528141,2875553,2257.904866999997,3386857,728513,4115370,1352.720294,1014540,261751,1276291,3610.6251609999972,4401397,990264,5391661,null,0,13491117]
[4,4,"Assumption",2,42000,null,0,null,0,0,332,60009,null,1151,80570,null,80570,241.83737799999989,241837,52019,293856,186.766661,93383,24093,117476,428.60403899999989,335220,76112,411332,241.83737799999989,193470,41615,235085,186.766661,74707,19274,93981,428.60403899999989,268177,60889,329066,241.83737799999989,362756,78029,440785,186.766661,140075,36139,176214,428.60403899999989,502831,114168,616999,null,0,1539976]
[5,5,"Avoyelles",0,0,null,0,null,0,0,922,166652,null,2146,150220,null,150220,328.17423099999996,328174,70590,398764,283.42025699999999,141710,36561,178271,611.59448799999996,469884,107151,577035,328.17423099999996,262539,56472,319011,283.42025699999999,113368,29249,142617,611.59448799999996,375907,85721,461628,328.17423099999996,492261,105885,598146,283.42025699999999,212565,54842,267407,611.59448799999996,704826,160727,865553,null,0,2221088]
[6,6,"Beauregard",0,0,null,0,null,0,0,379,68504,null,2385,166950,null,166950,508.70581499999997,508706,109423,618129,361.04303500000003,180522,46575,227097,869.74884999999995,689228,155998,845226,508.70581499999997,406965,87538,494503,361.04303500000003,144417,37260,181677,869.74884999999995,551382,124798,676180,508.70581499999997,763059,164134,927193,361.04303500000003,270782,69862,340644,869.74884999999995,1033841,233996,1267837,null,0,3024697]
[7,7,"Bienville",0,0,null,0,null,0,0,277,50068,null,789,55230,null,55230,217.81987100000006,217820,46853,264673,164.22296299999999,82111,21185,103296,382.04283400000008,299931,68038,367969,217.81987100000006,174256,37482,211738,164.22296299999999,65689,16948,82637,382.04283400000008,239945,54430,294375,217.81987100000006,326730,70280,397010,164.22296299999999,123167,31777,154944,382.04283400000008,449897,102057,551954,null,0,1319596]
[8,8,"Bossier",5,105000,null,0,null,0,0,2670,482603,null,9742,681940,null,681940,2039.4999950000008,2039500,438696,2478196,1242.5,621250,160283,781533,3281.999995000001,2660750,598979,3259729,2039.4999950000008,1631600,350957,1982557,1242.5,497000,128226,625226,3281.999995000001,2128600,479183,2607783,2039.4999950000008,3059250,658045,3717295,1242.5,931875,240424,1172299,3281.999995000001,3991125,898469,4889594,null,0,12026649]
[9,9,"Caddo",11,231000,null,0,null,0,0,4408,796746,null,14955,1046850,null,1046850,2739.3381550000031,2739338,589232,3328570,2019.2436779999973,1009622,260482,1270104,4758.5818330000002,3748960,849714,4598674,2739.3381550000031,2191471,471385,2662856,2019.2436779999973,807697,208386,1016083,4758.5818330000002,2999168,679771,3678939,2739.3381550000031,4109007,883847,4992854,2019.2436779999973,1514433,390724,1905157,4758.5818330000002,5623440,1274571,6898011,null,0,17250220]
[10,10,"Calcasieu",49,1029000,null,0,null,0,0,3754,678536,null,12122,848540,null,848540,3019.1426189999993,3019143,649418,3668561,1663.8718900000001,831936,214639,1046575,4683.0145089999996,3851079,864057,4715136,3019.1426189999993,2415314,519534,2934848,1663.8718900000001,665549,171712,837261,4683.0145089999996,3080863,691246,3772109,3019.1426189999993,4528714,974126,5502840,1663.8718900000001,1247904,321959,1569863,4683.0145089999996,5776618,1296085,7072703,null,0,18116024]
[11,11,"Caldwell",0,0,null,0,null,0,0,399,72119,null,620,43400,null,43400,151.57110000000006,151571,32603,184174,120.353661,60177,15526,75703,271.92476100000005,211748,48129,259877,151.57110000000006,121257,26082,147339,120.353661,48141,12420,60561,271.92476100000005,169398,38502,207900,151.57110000000006,227357,48904,276261,120.353661,90265,23288,113553,271.92476100000005,317622,72192,389814,null,0,973110]
[12,12,"Cameron",0,0,null,0,null,0,0,114,25000,null,505,35350,null,35350,161.73728500000001,161737,34790,196527,95.131099999999989,47566,12272,59838,256.86838499999999,209303,47062,256365,161.73728500000001,129390,27832,157222,95.131099999999989,38052,9817,47869,256.86838499999999,167442,37649,205091,161.73728500000001,242606,52185,294791,95.131099999999989,71348,18408,89756,256.86838499999999,313954,70593,384547,null,0,906353]
[13,13,"Catahoula",0,0,null,0,null,0,0,92,25000,null,391,27370,null,27370,99.921835999999971,99922,21493,121415,100.52441399999999,50262,12968,63230,200.44624999999996,150184,34461,184645,99.921835999999971,79937,17194,97131,100.52441399999999,40210,10374,50584,200.44624999999996,120147,27568,147715,99.921835999999971,149883,32240,182123,100.52441399999999,75393,19451,94844,200.44624999999996,225276,51691,276967,null,0,661697]
[14,14,"Claiborne",0,0,null,0,null,0,0,172,31089,null,640,44800,null,44800,143.34313500000002,143343,30833,174176,158.23523600000001,79118,20412,99530,301.57837100000006,222461,51245,273706,143.34313500000002,114675,24667,139342,158.23523600000001,63294,16330,79624,301.57837100000006,177969,40997,218966,143.34313500000002,215015,46250,261265,158.23523600000001,118676,30618,149294,301.57837100000006,333691,76868,410559,null,0,979120]
[15,15,"Concordia",2,42000,null,0,null,0,0,483,87302,null,1253,87710,null,87710,318.97140999999993,318971,68611,387582,202.75269,101376,26155,127531,521.72409999999991,420347,94766,515113,318.97140999999993,255177,54889,310066,202.75269,81101,20924,102025,521.72409999999991,336278,75813,412091,318.97140999999993,478457,102916,581373,202.75269,152065,39233,191298,521.72409999999991,630522,142149,772671,null,0,1916887]
[16,16,"DeSoto",0,0,null,0,null,0,0,1437,259738,null,2190,153300,null,153300,476.90416899999997,476904,102582,579486,326.88503000000003,163443,42168,205611,803.78919900000005,640347,144750,785097,476.90416899999997,381523,82066,463589,326.88503000000003,130754,33735,164489,803.78919900000005,512277,115801,628078,476.90416899999997,715356,153873,869229,326.88503000000003,245164,63252,308416,803.78919900000005,960520,217125,1177645,null,0,3003858]
[17,17,"East Baton Rouge",29,609000,null,0,null,0,0,9794,1770266,null,16452,1151640,null,1151640,3935.3809499999998,3935381,846500,4781881,2176.93914,1088470,280825,1369295,6112.3200899999993,5023851,1127325,6151176,3935.3809499999998,3148305,677200,3825505,2176.93914,870776,224660,1095436,6112.3200899999993,4019081,901860,4920941,3935.3809499999998,5903071,1269751,7172822,2176.93914,1632704,421238,2053942,6112.3200899999993,7535775,1690989,9226764,null,0,23829787]
[18,18,"East Carroll",2,42000,null,0,null,0,0,195,35246,null,322,22540,null,22540,75.670797000000007,75671,16277,91948,62.121852999999994,31061,8014,39075,137.79265000000001,106732,24291,131023,75.670797000000007,60537,13022,73559,62.121852999999994,24849,6411,31260,137.79265000000001,85386,19433,104819,75.670797000000007,113506,24415,137921,62.121852999999994,46591,12020,58611,137.79265000000001,160097,36435,196532,null,0,532160]
[19,19,"East Feliciana",0,0,null,0,null,0,0,168,30366,null,758,53060,null,53060,143.761978,143762,30923,174685,89.527090000000001,44764,11549,56313,233.28906799999999,188526,42472,230998,143.761978,115010,24739,139749,89.527090000000001,35811,9239,45050,233.28906799999999,150821,33978,184799,143.761978,215643,46385,262028,89.527090000000001,67145,17323,84468,233.28906799999999,282788,63708,346496,null,0,845719]
[20,20,"Evangeline",8,168000,null,0,null,0,0,837,151288,null,2346,164220,null,164220,553.99999799999989,554000,119165,673165,309,154500,39861,194361,862.99999799999989,708500,159026,867526,553.99999799999989,443200,95332,538532,309,123600,31889,155489,862.99999799999989,566800,127221,694021,553.99999799999989,831000,178748,1009748,309,231750,59792,291542,862.99999799999989,1062750,238540,1301290,null,0,3346345]
[21,21,"Franklin",0,0,null,0,null,0,0,310,56033,null,1089,76230,null,76230,252.67389400000005,252674,54350,307024,228.25611499999999,114128,29445,143573,480.93000900000004,366802,83795,450597,252.67389400000005,202139,43480,245619,228.25611499999999,91302,23556,114858,480.93000900000004,293441,67036,360477,252.67389400000005,379011,81525,460536,228.25611499999999,171192,44168,215360,480.93000900000004,550203,125693,675896,null,0,1619233]
[22,22,"Grant",0,0,null,0,null,0,0,352,63624,null,1130,79100,null,79100,244.49985500000003,244500,52592,297092,153.499999,76750,19802,96552,397.99985400000003,321250,72394,393644,244.49985500000003,195600,42074,237674,153.499999,61400,15841,77241,397.99985400000003,257000,57915,314915,244.49985500000003,366750,78888,445638,153.499999,115125,29702,144827,397.99985400000003,481875,108590,590465,null,0,1441748]
[23,23,"Iberia",7,147000,null,0,null,0,0,1291,233348,null,4594,321580,null,321580,1030.6814600000002,1030681,221699,1252380,573.74422500000003,286872,74013,360885,1604.4256850000002,1317553,295712,1613265,1030.6814600000002,824545,177360,1001905,573.74422500000003,229498,59210,288708,1604.4256850000002,1054043,236570,1290613,1030.6814600000002,1546022,332549,1878571,573.74422500000003,430308,111019,541327,1604.4256850000002,1976330,443568,2419898,null,0,6025704]
[24,24,"Iberville",0,0,null,0,null,0,0,353,63805,null,1733,121310,null,121310,506.14306599999946,506143,108871,615014,324.22249599999998,162111,41825,203936,830.3655619999995,668254,150696,818950,506.14306599999946,404914,87097,492011,324.22249599999998,129689,33460,163149,830.3655619999995,534603,120557,655160,506.14306599999946,759215,163307,922522,324.22249599999998,243167,62737,305904,830.3655619999995,1002382,226044,1228426,null,0,2887651]
[25,25,"Jackson",0,0,null,0,null,0,0,346.5,62630,null,925,64750,null,64750,197.13593000000003,197136,42404,239540,164.47865199999998,82239,21218,103457,361.61458200000004,279375,63622,342997,197.13593000000003,157709,33923,191632,164.47865199999998,65791,16974,82765,361.61458200000004,223500,50897,274397,197.13593000000003,295704,63606,359310,164.47865199999998,123359,31827,155186,361.61458200000004,419063,95433,514496,null,0,1259270]
[26,26,"Jefferson",24,504000,null,0,null,0,0,7459,1348214,null,19756,1382920,null,1382920,4174.6080360000069,4174608,897958,5072566,2389.1666309999982,1194583,308202,1502785,6563.7746670000051,5369191,1206160,6575351,4174.6080360000069,3339686,718366,4058052,2389.1666309999982,955667,246562,1202229,6563.7746670000051,4295353,964928,5260281,4174.6080360000069,6261912,1346937,7608849,2389.1666309999982,1791875,462304,2254179,6563.7746670000051,8053787,1809241,9863028,null,0,24933794]
[27,27,"Jefferson Davis",0,0,null,0,null,0,0,643,116222,null,2319,162330,null,162330,456.24888600000008,456249,98139,554388,320.23586,160118,41310,201428,776.48474600000009,616367,139449,755816,456.24888600000008,364999,78511,443510,320.23586,128094,33048,161142,776.48474600000009,493093,111559,604652,456.24888600000008,684373,147209,831582,320.23586,240177,61966,302143,776.48474600000009,924550,209175,1133725,null,0,2772745]
[28,28,"Lafayette",25,525000,null,0,null,0,0,4866,879530,null,13500,945000,null,945000,2505.0163000000002,2505016,538829,3043845,1705.2992100000001,852650,219984,1072634,4210.3155100000004,3357666,758813,4116479,2505.0163000000002,2004013,431063,2435076,1705.2992100000001,682120,175987,858107,4210.3155100000004,2686133,607050,3293183,2505.0163000000002,3757524,808243,4565767,1705.2992100000001,1278974,329975,1608949,4210.3155100000004,5036498,1138218,6174716,null,0,15933908]
[29,29,"Lafourche",10,210000,null,0,null,0,0,2277,411568,null,5733,401310,null,401310,1126.3155159999992,1126316,242271,1368587,730.90776500000004,365454,94287,459741,1857.2232809999991,1491770,336558,1828328,1126.3155159999992,901052,193816,1094868,730.90776500000004,292363,75430,367793,1857.2232809999991,1193415,269246,1462661,1126.3155159999992,1689473,363406,2052879,730.90776500000004,548181,141431,689612,1857.2232809999991,2237654,504837,2742491,null,0,7056358]
[30,30,"LaSalle",0,0,null,0,null,0,0,547,98870,null,1028,71960,null,71960,214.3614980000001,214361,46109,260470,159.64228500000002,79821,20594,100415,374.00378300000011,294182,66703,360885,214.3614980000001,171489,36887,208376,159.64228500000002,63857,16475,80332,374.00378300000011,235346,53362,288708,214.3614980000001,321542,69164,390706,159.64228500000002,119732,30891,150623,374.00378300000011,441274,100055,541329,null,0,1361752]
[31,31,"Lincoln",3,63000,null,0,null,0,0,470,84953,null,2496,174720,null,174720,581.95018299999981,581950,125177,707127,378.72457099999997,189362,48855,238217,960.67475399999978,771312,174032,945344,581.95018299999981,465560,100142,565702,378.72457099999997,151490,39084,190574,960.67475399999978,617050,139226,756276,581.95018299999981,872925,187766,1060691,378.72457099999997,284043,73283,357326,960.67475399999978,1156968,261049,1418017,null,0,3442310]
[32,32,"Livingston",0,0,null,0,null,0,0,6610,1194758,null,11575,810250,null,810250,2244.4135990000004,2244414,482773,2727187,1580.9154410000001,790458,203938,994396,3825.3290400000005,3034872,686711,3721583,2244.4135990000004,1795531,386219,2181750,1580.9154410000001,632366,163150,795516,3825.3290400000005,2427897,549369,2977266,2244.4135990000004,3366620,724160,4090780,1580.9154410000001,1185687,305907,1491594,3825.3290400000005,4552307,1030067,5582374,null,0,14286231]
[33,33,"Madison",0,0,null,0,null,0,0,172,31089,null,541,37870,null,37870,135.535506,135536,29154,164690,127.34180000000001,63671,16427,80098,262.87730599999998,199207,45581,244788,135.535506,108428,23323,131751,127.34180000000001,50937,13142,64079,262.87730599999998,159365,36465,195830,135.535506,203303,43730,247033,127.34180000000001,95506,24641,120147,262.87730599999998,298809,68371,367180,null,0,876757]
[34,34,"Morehouse",0,0,null,0,null,0,0,824,148938,null,1369,95830,null,95830,287.45135699999997,287451,61831,349282,229.13503099999997,114568,29559,144127,516.58638799999994,402019,91390,493409,287.45135699999997,229961,49465,279426,229.13503099999997,91654,23647,115301,516.58638799999994,321615,73112,394727,287.45135699999997,431177,92746,523923,229.13503099999997,171851,44338,216189,516.58638799999994,603028,137084,740112,null,0,1873016]
[35,35,"Natchitoches",0,0,null,0,null,0,0,941,170086,null,2202,154140,null,154140,485.085219,485085,104342,589427,212.96928,106485,27473,133958,698.05449899999996,591570,131815,723385,485.085219,388068,83473,471541,212.96928,85188,21979,107167,698.05449899999996,473256,105452,578708,485.085219,727628,156513,884141,212.96928,159727,41210,200937,698.05449899999996,887355,197723,1085078,null,0,2711397]
[36,36,"Orleans",19,399000,null,0,null,0,0,4595,901631,null,19692,1378440,null,1378440,4400.7336049999994,4400735,946604,5347339,2195.119412,1097561,283171,1380732,6595.8530169999995,5498296,1229775,6728071,4400.7336049999994,3520586,757274,4277860,2195.119412,878046,226533,1104579,6595.8530169999995,4398632,983807,5382439,4400.7336049999994,6601103,1419897,8021000,2195.119412,1646339,424768,2071107,6595.8530169999995,8247442,1844665,10092107,null,0,25056720]
[37,37,"Ouachita",0,0,null,0,null,0,0,1235,223226,null,7715,540050,null,540050,1480.4899460000008,1480490,318453,1798943,1206.1500150000002,603075,155593,758668,2686.6399610000008,2083565,474046,2557611,1480.4899460000008,1184392,254763,1439155,1206.1500150000002,482460,124475,606935,2686.6399610000008,1666852,379238,2046090,1480.4899460000008,2220735,477680,2698415,1206.1500150000002,904613,233390,1138003,2686.6399610000008,3125348,711070,3836418,null,0,9203395]
[38,38,"Plaquemines",0,0,null,0,null,0,0,359,64889,null,1721,120470,null,120470,365.86612299999996,365866,78698,444564,299.80555600000002,149903,38675,188578,665.67167900000004,515769,117373,633142,365.86612299999996,292693,62958,355651,299.80555600000002,119922,30940,150862,665.67167900000004,412615,93898,506513,365.86612299999996,548799,118047,666846,299.80555600000002,224854,58012,282866,665.67167900000004,773653,176059,949712,null,0,2274726]
[39,39,"Pointe Coupee",0,0,null,0,null,0,0,742,134117,null,1085,75950,null,75950,203.68394099999992,203684,43812,247496,130.17828800000001,65089,16793,81882,333.86222899999996,268773,60605,329378,203.68394099999992,162947,35050,197997,130.17828800000001,52071,13434,65505,333.86222899999996,215018,48484,263502,203.68394099999992,305526,65719,371245,130.17828800000001,97634,25190,122824,333.86222899999996,403160,90909,494069,null,0,1297016]
[40,40,"Rapides",0,0,null,0,null,0,0,3269,590872,null,9451,661570,null,661570,1969.8042540000008,1969804,423705,2393509,1226.03889,613019,158159,771178,3195.8431440000008,2582823,581864,3164687,1969.8042540000008,1575843,338964,1914807,1226.03889,490416,126527,616943,3195.8431440000008,2066259,465491,2531750,1969.8042540000008,2954706,635557,3590263,1226.03889,919529,237238,1156767,3195.8431440000008,3874235,872795,4747030,null,0,11695909]
[41,41,"Red River",0,0,null,0,null,0,0,260,46995,null,557,38990,null,38990,130.32481499999997,130325,28033,158358,112.729069,56365,14542,70907,243.05388399999998,186690,42575,229265,130.32481499999997,104260,22426,126686,112.729069,45092,11634,56726,243.05388399999998,149352,34060,183412,130.32481499999997,195487,42049,237536,112.729069,84547,21813,106360,243.05388399999998,280034,63862,343896,null,0,842558]
[42,42,"Richland",0,0,null,0,null,0,0,456,82422,null,1190,83300,null,83300,227.14747299999999,227147,48859,276006,182.75165899999999,91376,23575,114951,409.89913200000001,318523,72434,390957,227.14747299999999,181718,39088,220806,182.75165899999999,73101,18860,91961,409.89913200000001,254819,57948,312767,227.14747299999999,340721,73289,414010,182.75165899999999,137064,35363,172427,409.89913200000001,477785,108652,586437,null,0,1455883]
[43,43,"Sabine",0,0,null,0,null,0,0,782,141347,null,1619,113330,null,113330,374.5,374500,80555,455055,299.16666499999997,149583,38592,188175,673.66666499999997,524083,119147,643230,374.5,299600,64444,364044,299.16666499999997,119667,30874,150541,673.66666499999997,419267,95318,514585,374.5,561750,120832,682582,299.16666499999997,224375,57889,282264,673.66666499999997,786125,178721,964846,null,0,2377338]
[44,44,"St. Bernard",0,0,null,0,null,0,0,1914,345956,null,3334,233380,null,233380,626.40291400000001,626403,134739,761142,305,152500,39345,191845,931.40291400000001,778903,174084,952987,626.40291400000001,501122,107791,608913,305,122000,31476,153476,931.40291400000001,623122,139267,762389,626.40291400000001,939604,202109,1141713,305,228750,59018,287768,931.40291400000001,1168354,261127,1429481,null,0,3724193]
[45,45,"St. Charles",0,0,null,0,null,0,0,1595,288296,null,4174,292180,null,292180,1016.0291600000003,1016029,218548,1234577,799,399500,103071,502571,1815.0291600000003,1415529,321619,1737148,1016.0291600000003,812823,174838,987661,799,319600,82457,402057,1815.0291600000003,1132423,257295,1389718,1016.0291600000003,1524044,327822,1851866,799,599250,154607,753857,1815.0291600000003,2123294,482429,2605723,null,0,6313065]
[46,46,"St. Helena",0,0,null,0,null,0,0,108,25000,null,454,31780,null,31780,82.235479999999995,82235,17689,99924,67,33500,8643,42143,149.23548,115735,26332,142067,82.235479999999995,65788,14151,79939,67,26800,6914,33714,149.23548,92588,21065,113653,82.235479999999995,123353,26533,149886,67,50250,12965,63215,149.23548,173603,39498,213101,null,0,525601]
[47,47,"St. James",0,0,null,0,null,0,0,926,167375,null,1523,106610,null,106610,353.02314400000006,353023,75935,428958,149.09287,74546,19233,93779,502.11601400000006,427569,95168,522737,353.02314400000006,282419,60748,343167,149.09287,59637,15386,75023,502.11601400000006,342056,76134,418190,353.02314400000006,529535,113903,643438,149.09287,111820,28850,140670,502.11601400000006,641355,142753,784108,null,0,1999020]
[48,48,"St. John the Baptist",0,0,null,0,null,0,0,1104,199548,null,2218,155260,null,155260,508.45301599999982,508453,109368,617821,307.290029,153645,39640,193285,815.74304499999982,662098,149008,811106,508.45301599999982,406762,87495,494257,307.290029,122916,31712,154628,815.74304499999982,529678,119207,648885,508.45301599999982,762680,164052,926732,307.290029,230468,59461,289929,815.74304499999982,993148,223513,1216661,null,0,3031460]
[49,49,"St. Landry",8,168000,null,0,null,0,0,2896,523452,null,5094,356580,null,356580,1106.616092000002,1106616,238033,1344649,679.24754900000005,339624,87623,427247,1785.8636410000022,1446240,325656,1771896,1106.616092000002,885293,190427,1075720,679.24754900000005,271699,70098,341797,1785.8636410000022,1156992,260525,1417517,1106.616092000002,1659924,357050,2016974,679.24754900000005,509436,131434,640870,1785.8636410000022,2169360,488484,2657844,null,0,6895289]
[50,50,"St. Martin",10,210000,null,0,null,0,0,985,178039,null,2968,207760,null,207760,590.84811199999967,590848,127091,717939,382.36381299999999,191182,49325,240507,973.21192499999961,782030,176416,958446,590.84811199999967,472678,101673,574351,382.36381299999999,152946,39460,192406,973.21192499999961,625624,141133,766757,590.84811199999967,886272,190637,1076909,382.36381299999999,286773,73987,360760,973.21192499999961,1173045,264624,1437669,null,0,3758671]
[51,51,"St. Mary",0,0,null,0,null,0,0,1806,326435,null,3371,235970,null,235970,697.89998699999978,697900,150118,848018,515,257500,66435,323935,1212.8999869999998,955400,216553,1171953,697.89998699999978,558320,120095,678415,515,206000,53148,259148,1212.8999869999998,764320,173243,937563,697.89998699999978,1046850,225177,1272027,515,386250,99653,485903,1212.8999869999998,1433100,324830,1757930,null,0,4429851]
[52,52,"St. Tammany",0,0,null,0,null,0,0,4909,887302,null,16472,1153040,null,1153040,3581.0588999999973,3581059,770286,4351345,2584.5236409999989,1292262,333404,1625666,6165.5825409999961,4873321,1103690,5977011,3581.0588999999973,2864847,616229,3481076,2584.5236409999989,1033809,266723,1300532,6165.5825409999961,3898656,882952,4781608,3581.0588999999973,5371588,1155429,6527017,2584.5236409999989,1938393,500105,2438498,6165.5825409999961,7309981,1655534,8965515,null,0,21764476]
[53,53,"Tangipahoa",0,0,null,0,null,0,0,4462,806507,null,8502,595140,null,595140,1705.5576070000009,1705558,366866,2072424,1212.4699579999999,606235,156409,762644,2918.0275650000008,2311793,523275,2835068,1705.5576070000009,1364446,293492,1657938,1212.4699579999999,484988,125127,610115,2918.0275650000008,1849434,418619,2268053,1705.5576070000009,2558336,550298,3108634,1212.4699579999999,909352,234613,1143965,2918.0275650000008,3467688,784911,4252599,null,0,10757367]
[54,54,"Tensas",0,0,null,0,null,0,0,45,25000,null,123,8610,null,8610,34.498829000000001,34499,7421,41920,38.802289999999999,19401,5005,24406,73.301119,53900,12426,66326,34.498829000000001,27599,5937,33536,38.802289999999999,15521,4004,19525,73.301119,43120,9941,53061,34.498829000000001,51748,11131,62879,38.802289999999999,29102,7508,36610,73.301119,80850,18639,99489,null,0,252486]
[55,55,"Terrebonne",0,0,null,0,null,0,0,1519,274559,null,6492,454440,null,454440,1236.3317960000013,1236332,265935,1502267,787.19577199999981,393598,101548,495146,2023.5275680000011,1629930,367483,1997413,1236.3317960000013,989065,212748,1201813,787.19577199999981,314878,81239,396117,2023.5275680000011,1303943,293987,1597930,1236.3317960000013,1854498,398903,2253401,787.19577199999981,590397,152322,742719,2023.5275680000011,2444895,551225,2996120,null,0,7320462]
[56,56,"Union",0,0,null,0,null,0,0,211,38138,null,730,51100,null,51100,159.36815599999997,159368,34280,193648,118.17644199999999,59088,15245,74333,277.54459799999995,218456,49525,267981,159.36815599999997,127495,27424,154919,118.17644199999999,47271,12196,59467,277.54459799999995,174766,39620,214386,159.36815599999997,239052,51420,290472,118.17644199999999,88632,22867,111499,277.54459799999995,327684,74287,401971,null,0,973576]
[57,57,"Vermilion",8,168000,null,0,null,0,0,939,169724,null,3937,275590,null,275590,802.99999399999979,803000,172725,975725,439.999999,220000,56760,276760,1242.9999929999999,1023000,229485,1252485,802.99999399999979,642400,138180,780580,439.999999,176000,45408,221408,1242.9999929999999,818400,183588,1001988,802.99999399999979,1204500,259088,1463588,439.999999,330000,85140,415140,1242.9999929999999,1534500,344228,1878728,null,0,4746515]
[58,58,"Vernon",0,0,null,0,null,0,0,370,66878,null,3123,218610,null,218610,635.64917000000003,635649,136728,772377,461.44710299999991,230724,59527,290251,1097.0962729999999,866373,196255,1062628,635.64917000000003,508519,109382,617901,461.44710299999991,184579,47621,232200,1097.0962729999999,693098,157003,850101,635.64917000000003,953474,205092,1158566,461.44710299999991,346085,89290,435375,1097.0962729999999,1299559,294382,1593941,null,0,3792158]
[59,59,"Washington",0,0,null,0,null,0,0,648,117126,null,1979,138530,null,138530,420.35880199999991,420359,90419,510778,313.90095200000002,156950,40493,197443,734.25975399999993,577309,130912,708221,420.35880199999991,336287,72335,408622,313.90095200000002,125560,32394,157954,734.25975399999993,461847,104729,566576,420.35880199999991,630538,135629,766167,313.90095200000002,235426,60740,296166,734.25975399999993,865964,196369,1062333,null,0,2592786]
[60,60,"Webster",0,0,null,0,null,0,0,688,124356,null,2364,165480,null,165480,426.91689099999996,426917,91830,518747,330.69860100000005,165349,42660,208009,757.61549200000002,592266,134490,726756,426.91689099999996,341534,73464,414998,330.69860100000005,132279,34128,166407,757.61549200000002,473813,107592,581405,426.91689099999996,640375,137745,778120,330.69860100000005,248024,63990,312014,757.61549200000002,888399,201735,1090134,null,0,2688131]
[61,61,"West Baton Rouge",0,0,null,0,null,0,0,701,126706,null,1767,123690,null,123690,463.95050000000003,463951,99796,563747,230,115000,29670,144670,693.95050000000003,578951,129466,708417,463.95050000000003,371160,79837,450997,230,92000,23736,115736,693.95050000000003,463160,103573,566733,463.95050000000003,695926,149694,845620,230,172500,44505,217005,693.95050000000003,868426,194199,1062625,null,0,2588171]
[62,62,"West Carroll",0,0,null,0,null,0,0,228,41211,null,697,48790,null,48790,105.40099000000002,105401,22672,128073,63.010130000000004,31505,8128,39633,168.41112000000004,136906,30800,167706,105.40099000000002,84321,18137,102458,63.010130000000004,25204,6503,31707,168.41112000000004,109525,24640,134165,105.40099000000002,158101,34008,192109,63.010130000000004,47258,12193,59451,168.41112000000004,205359,46201,251560,null,0,643432]
[63,63,"West Feliciana",0,0,null,0,null,0,0,276,49887,null,910,63700,null,63700,239.55858499999997,239559,51529,291088,140.13551699999999,70068,18078,88146,379.69410199999993,309627,69607,379234,239.55858499999997,191647,41223,232870,140.13551699999999,56054,14462,70516,379.69410199999993,247701,55685,303386,239.55858499999997,359338,77294,436632,140.13551699999999,105102,27116,132218,379.69410199999993,464440,104410,568850,null,0,1365057]
[64,64,"Winn",0,0,null,0,null,0,0,424,76638,null,815,57050,null,57050,145.00934000000001,145009,31191,176200,133.42643199999998,66713,17212,83925,278.43577199999999,211722,48403,260125,145.00934000000001,116007,24953,140960,133.42643199999998,53371,13770,67141,278.43577199999999,169378,38723,208101,145.00934000000001,217514,46787,264301,133.42643199999998,100070,25818,125888,278.43577199999999,317584,72605,390189,null,0,992103]
[65,65,"City of Monroe",0,0,null,0,null,0,0,763,137912,null,3482,243740,null,243740,765.04515599999991,765045,164561,929606,555.90330900000004,277952,71712,349664,1320.9484649999999,1042997,236273,1279270,765.04515599999991,612036,131649,743685,555.90330900000004,222361,57369,279730,1320.9484649999999,834397,189018,1023415,765.04515599999991,1147568,246842,1394410,555.90330900000004,416927,107567,524494,1320.9484649999999,1564495,354409,1918904,null,0,4603241]
[66,66,"City of Bogalusa",0,0,null,0,null,0,0,405,73204,null,714,49980,null,49980,183.88923600000004,183889,39555,223444,151.03713600000003,75519,19484,95003,334.92637200000007,259408,59039,318447,183.88923600000004,147111,31644,178755,151.03713600000003,60415,15587,76002,334.92637200000007,207526,47231,254757,183.88923600000004,275834,59332,335166,151.03713600000003,113278,29226,142504,334.92637200000007,389112,88558,477670,null,0,1174058]
[67,67,"Zachary Community",0,0,null,0,null,0,0,509,92002,null,2536,177520,null,177520,434.32105200000001,434321,93422,527743,206.143304,103072,26593,129665,640.46435599999995,537393,120015,657408,434.32105200000001,347457,74738,422195,206.143304,82457,21274,103731,640.46435599999995,429914,96012,525926,434.32105200000001,651482,140134,791616,206.143304,154607,39889,194496,640.46435599999995,806089,180023,986112,null,0,2438968]
[68,68,"City of Baker",0,0,null,0,null,0,0,121,25000,null,457,31990,null,31990,76.673079999999999,76673,16492,93165,47.737630000000003,23869,6158,30027,124.41070999999999,100542,22650,123192,76.673079999999999,61338,13194,74532,47.737630000000003,19095,4927,24022,124.41070999999999,80433,18121,98554,76.673079999999999,115010,24739,139749,47.737630000000003,35803,9237,45040,124.41070999999999,150813,33976,184789,null,0,463525]
[69,69,"Central Community",0,0,null,0,null,0,0,1566,283055,null,2242,156940,null,156940,380.89685900000001,380897,81931,462828,124.37582,62188,16045,78233,505.27267900000004,443085,97976,541061,380.89685900000001,304717,65545,370262,124.37582,49750,12836,62586,505.27267900000004,354467,78381,432848,380.89685900000001,571345,122896,694241,124.37582,93282,24067,117349,505.27267900000004,664627,146963,811590,null,0,2225494]
[null,null,"Total City/Parish",222,4662000,0,0,0,0,0,102194.5,18580988,0,278509,19495630,0,19495630,58891.087322999985,58891087,12667475,71558562,37732.400933000012,18866204,4867482,23733686,96623.488255999982,77757291,17534957,95292248,58891.087322999985,47112865,10133972,57246837,37732.400933000012,15092958,3893980,18986938,96623.488255999982,62205823,14027952,76233775,58891.087322999985,88336631,19001210,107337841,37732.400933000012,28299300,7301235,35600535,96623.488255999982,116635931,26302445,142938376,0,0,357378049]
[]
[318,318001,"LSU Lab School",0,0,null,0,null,0,0,91,16448,null,706,49420,null,49420,130.06907999999999,130069,27978,158047,32,16000,4128,20128,162.06907999999999,146069,32106,178175,130.06907999999999,104055,22382,126437,32,12800,3302,16102,162.06907999999999,116855,25684,142539,130.06907999999999,195104,41967,237071,32,24000,6192,30192,162.06907999999999,219104,48159,267263,null,0,653845]
[319,319001,"Southern Lab School",0,0,null,0,null,0,0,3,10000,null,405,28350,null,28350,33.22222,33222,7146,40368,4,2000,516,2516,37.22222,35222,7662,42884,33.22222,26578,5717,32295,4,1600,413,2013,37.22222,28178,6130,34308,33.22222,49833,10719,60552,4,3000,774,3774,37.22222,52833,11493,64326,null,0,179868]
[302006,302006,"LA School for Math, Science and the Arts",0,0,null,0,null,0,0,0,10000,null,267,18690,null,18690,49.127119999999998,49127,10567,59694,33.196680000000001,16598,4282,20880,82.323800000000006,65725,14849,80574,49.127119999999998,39302,8454,47756,33.196680000000001,13279,3426,16705,82.323800000000006,52581,11880,64461,49.127119999999998,73691,15851,89542,33.196680000000001,24898,6424,31322,82.323800000000006,98589,22275,120864,null,0,294589]
[334001,334001,"New Orleans Center for Creative Arts",0,0,null,0,null,0,0,0,10000,null,226,15820,null,15820,76.444909999999993,76445,16443,92888,10.430670000000001,5215,1345,6560,86.875579999999999,81660,17788,99448,76.444909999999993,61156,13155,74311,10.430670000000001,4172,1076,5248,86.875579999999999,65328,14231,79559,76.444909999999993,114667,24665,139332,10.430670000000001,7823,2018,9841,86.875579999999999,122490,26683,149173,null,0,354000]
["3C1001","3C1001","Thrive",0,0,null,0,null,0,0,36,10000,null,180,12600,null,12600,30.677969999999998,30678,6599,37277,54,27000,6966,33966,84.677970000000002,57678,13565,71243,30.677969999999998,24542,5279,29821,54,21600,5573,27173,84.677970000000002,46142,10852,56994,30.677969999999998,46017,9898,55915,54,40500,10449,50949,84.677970000000002,86517,20347,106864,null,0,257701]
[101001,null,"Special School District",0,null,null,0,null,0,0,58,10000,null,214,14980,null,14980,99.278469000000015,99278,21355,120633,63.51550499999999,31758,8194,39952,162.79397399999999,131036,29549,160585,99.278469000000015,79423,17084,96507,63.51550499999999,25406,6555,31961,162.79397399999999,104829,23639,128468,99.278469000000015,148918,32032,180950,63.51550499999999,47637,12290,59927,162.79397399999999,196555,44322,240877,null,0,554910]
["A02","A02","Office of Juvenile Justice",0,0,null,0,null,0,0,120,21690,null,236,16520,null,16520,35.333330000000004,35333,7600,42933,10.993590000000001,5497,1418,6915,46.326920000000001,40830,9018,49848,35.333330000000004,28267,6080,34347,10.993590000000001,4397,1134,5531,46.326920000000001,32664,7214,39878,35.333330000000004,53000,11400,64400,10.993590000000001,8245,2127,10372,46.326920000000001,61245,13527,74772,null,0,202708]
[null,null,"Total Lab & State Approved Schools",0,0,0,0,0,0,0,308,88138,0,2234,156380,0,156380,454.153099,454152,97688,551840,208.13644500000001,104068,26849,130917,662.28954399999998,558220,124537,682757,454.153099,363323,78151,441474,208.13644500000001,83254,21479,104733,662.28954399999998,446577,99630,546207,454.153099,681230,146532,827762,208.13644500000001,156103,40274,196377,662.28954399999998,837333,186806,1024139,0,0,2497621]
[]
[321001,321001,"New Vision Learning",0,0,null,0,null,0,0,0,0,null,0,0,null,0,17.94031,17940,3859,21799,7.3545400000000001,3677,949,4626,25.29485,21617,4808,26425,17.94031,14352,3087,17439,7.3545400000000001,2942,759,3701,25.29485,17294,3846,21140,17.94031,26910,5788,32698,7.3545400000000001,5516,1423,6939,25.29485,32426,7211,39637,null,0,87202]
[329001,329001,"Glencoe Charter School",0,0,null,0,null,0,0,83,15002,null,155,10850,null,10850,38.266670000000005,38267,8231,46498,22.334130000000002,11167,2881,14048,60.600800000000007,49434,11112,60546,38.266670000000005,30613,6585,37198,22.334130000000002,8934,2305,11239,60.600800000000007,39547,8890,48437,38.266670000000005,57400,12347,69747,22.334130000000002,16751,4322,21073,60.600800000000007,74151,16669,90820,null,0,225655]
[331001,331001,"International School of LA",16,336000,null,0,null,0,0,18,0,null,179,12530,null,12530,113.84291,113843,24488,138331,89.342910000000003,44671,11525,56196,203.18582000000001,158514,36013,194527,113.84291,91074,19590,110664,89.342910000000003,35737,9220,44957,203.18582000000001,126811,28810,155621,113.84291,170764,36731,207495,89.342910000000003,67007,17288,84295,203.18582000000001,237771,54019,291790,null,0,990468]
[333001,333001,"Avoyelles Public Charter School",0,0,null,0,null,0,0,24,10000,null,326,22820,null,22820,47.219709999999999,47220,10157,57377,24.112940000000002,12056,3110,15166,71.332650000000001,59276,13267,72543,47.219709999999999,37776,8126,45902,24.112940000000002,9645,2488,12133,71.332650000000001,47421,10614,58035,47.219709999999999,70830,15236,86066,24.112940000000002,18085,4666,22751,71.332650000000001,88915,19902,108817,null,0,272215]
[336001,336001,"Delhi Charter School",0,0,null,0,null,0,0,167,30185,null,333,23310,null,23310,46.459428000000003,46459,9993,56452,54.528209000000004,27264,7034,34298,100.98763700000001,73723,17027,90750,46.459428000000003,37168,7995,45163,54.528209000000004,21811,5627,27438,100.98763700000001,58979,13622,72601,46.459428000000003,69689,14990,84679,54.528209000000004,40896,10551,51447,100.98763700000001,110585,25541,136126,null,0,352972]
[337001,337001,"Belle Chasse Academy",0,0,null,0,null,0,0,0,0,null,168,11760,null,11760,87,87000,18714,105714,97.5,48750,12578,61328,184.5,135750,31292,167042,87,69600,14971,84571,97.5,39000,10062,49062,184.5,108600,25033,133633,87,130500,28071,158571,97.5,73125,18866,91991,184.5,203625,46937,250562,null,0,562997]
[340001,340001,"The MAX Charter School",0,0,null,0,null,0,0,0,0,null,21,1470,null,1470,12.994540000000001,12995,2795,15790,7.7142800000000005,3857,995,4852,20.708820000000003,16852,3790,20642,12.994540000000001,10396,2236,12632,7.7142800000000005,3086,796,3882,20.708820000000003,13482,3032,16514,12.994540000000001,19492,4193,23685,7.7142800000000005,5786,1493,7279,20.708820000000003,25278,5686,30964,null,0,69590]
[null,null,"Total Legacy Type 2 Charter Schools",16,336000,0,0,0,0,0,292,55187,0,1182,82740,0,82740,363.723568,363724,78237,441961,302.88700899999998,151442,39072,190514,666.61057700000015,515166,117309,632475,363.723568,290979,62590,353569,302.88700899999998,121155,31257,152412,666.61057700000015,412134,93847,505981,363.723568,545585,117356,662941,302.88700899999998,227166,58609,285775,666.61057700000015,772751,175965,948716,0,0,2561099]
[]
[341001,341001,"D'Arbonne Woods ",0,0,null,0,null,0,0,174,31451,null,446,31220,null,31220,71.335949999999997,71336,15344,86680,45.165745999999999,22583,5826,28409,116.501696,93919,21170,115089,71.335949999999997,57069,12276,69345,45.165745999999999,18066,4661,22727,116.501696,75135,16937,92072,71.335949999999997,107004,23017,130021,45.165745999999999,33874,8739,42613,116.501696,140878,31756,172634,null,0,442466]
[343001,343001,"Madison Prep",0,0,null,0,null,0,0,223,40307,null,585,40950,null,40950,46.738959999999999,46739,10054,56793,15.21951,7610,1963,9573,61.958469999999998,54349,12017,66366,46.738959999999999,37391,8043,45434,15.21951,6088,1571,7659,61.958469999999998,43479,9614,53093,46.738959999999999,70108,15080,85188,15.21951,11415,2945,14360,61.958469999999998,81523,18025,99548,null,0,300264]
[344001,344001,"Int'l High School of N. O. ",0,0,null,0,null,0,0,109,19702,null,408,28560,null,28560,41,41000,8819,49819,14,7000,1806,8806,55,48000,10625,58625,41,32800,7055,39855,14,5600,1445,7045,55,38400,8500,46900,41,61500,13229,74729,14,10500,2709,13209,55,72000,15938,87938,null,0,241725]
[345001,345001,"University View Academy",0,0,null,0,null,0,0,545,98509,null,2476,173320,null,173320,253.63911299999998,253639,54558,308197,72.834446999999997,36417,9396,45813,326.47355999999996,290056,63954,354010,253.63911299999998,202911,43646,246557,72.834446999999997,29134,7517,36651,326.47355999999996,232045,51163,283208,253.63911299999998,380459,81837,462296,72.834446999999997,54626,14094,68720,326.47355999999996,435085,95931,531016,null,0,1440063]
[346001,346001,"Lake Charles Charter Academy ",0,0,null,0,null,0,0,113,0,null,216,15120,null,15120,77.470259999999996,77470,16664,94134,20.427019999999999,10214,2635,12849,97.897279999999995,87684,19299,106983,77.470259999999996,61976,13331,75307,20.427019999999999,8171,2108,10279,97.897279999999995,70147,15439,85586,77.470259999999996,116205,24996,141201,20.427019999999999,15320,3953,19273,97.897279999999995,131525,28949,160474,null,0,368163]
[347001,347001,"Lycee Francois de la Nouvelle Orleans ",30,630000,null,0,null,0,0,0,10000,null,284,19880,null,19880,92,92000,19789,111789,45,22500,5805,28305,137,114500,25594,140094,92,73600,15831,89431,45,18000,4644,22644,137,91600,20475,112075,92,138000,29684,167684,45,33750,8708,42458,137,171750,38392,210142,null,0,1122191]
[348001,348001,"New Orleans Military/Maritime Acdmy ",0,0,null,0,null,0,0,363,65612,null,895,62650,null,62650,96.185159999999996,96185,20689,116874,29,14500,3741,18241,125.18516,110685,24430,135115,96.185159999999996,76948,16552,93500,29,11600,2993,14593,125.18516,88548,19545,108093,96.185159999999996,144278,31034,175312,29,21750,5612,27362,125.18516,166028,36646,202674,null,0,574144]
["3C5001","3C5001","St Landry Charter School",0,0,null,0,null,0,0,0,0,null,0,0,null,0,22,22000,4732,26732,29,14500,3741,18241,51,36500,8473,44973,22,17600,3786,21386,29,11600,2993,14593,51,29200,6779,35979,22,33000,7098,40098,29,21750,5612,27362,51,54750,12710,67460,null,0,148412]
["W18001","W18001","Noble Minds Institute",0,0,null,0,null,0,0,0,0,null,29,2030,null,2030,13,13000,2796,15796,11,5500,1419,6919,24,18500,4215,22715,13,10400,2237,12637,11,4400,1135,5535,24,14800,3372,18172,13,19500,4194,23694,11,8250,2129,10379,24,27750,6323,34073,null,0,76990]
["W1A001","W1A001","JCFA - East",0,0,null,0,null,0,0,42,10000,null,131,9170,null,9170,26.813550000000003,26814,5768,32582,9,4500,1161,5661,35.813550000000006,31314,6929,38243,26.813550000000003,21451,4614,26065,9,3600,929,4529,35.813550000000006,25051,5543,30594,26.813550000000003,40220,8651,48871,9,6750,1742,8492,35.813550000000006,46970,10393,57363,null,0,145370]
["W1B001","W1B001","Advantage Charter Academy",0,0,null,0,null,0,0,0,0,null,138,9660,null,9660,42.728830000000002,42729,9191,51920,28,14000,3612,17612,70.728830000000002,56729,12803,69532,42.728830000000002,34183,7353,41536,28,11200,2890,14090,70.728830000000002,45383,10243,55626,42.728830000000002,64093,13786,77879,28,21000,5418,26418,70.728830000000002,85093,19204,104297,null,0,239115]
["W1D001","W1D001","JCFA - Lafayette",0,0,null,0,null,0,0,0,10000,null,59,4130,null,4130,7.9661099999999996,7966,1713,9679,3,1500,387,1887,10.96611,9466,2100,11566,7.9661099999999996,6373,1371,7744,3,1200,310,1510,10.96611,7573,1681,9254,7.9661099999999996,11949,2570,14519,3,2250,581,2831,10.96611,14199,3151,17350,null,0,52300]
["W2B001","W2B001","Willow Charter Academy",0,0,null,0,null,0,0,0,0,null,88,6160,null,6160,46.642919999999997,46643,10033,56676,19,9500,2451,11951,65.642920000000004,56143,12484,68627,46.642919999999997,37314,8026,45340,19,7600,1961,9561,65.642920000000004,44914,9987,54901,46.642919999999997,69964,15049,85013,19,14250,3677,17927,65.642920000000004,84214,18726,102940,null,0,232628]
["W33001","W33001","Lincoln Prep School",0,0,null,0,null,0,0,59,10664,null,311,21770,null,21770,75.37209,75372,16213,91585,50.242760000000004,25121,6481,31602,125.61485,100493,22694,123187,75.37209,60298,12970,73268,50.242760000000004,20097,5185,25282,125.61485,80395,18155,98550,75.37209,113058,24319,137377,50.242760000000004,37682,9722,47404,125.61485,150740,34041,184781,null,0,438952]
["W3B001","W3B001","Iberville Charter Academy",0,0,null,0,null,0,0,31,0,null,108,7560,null,7560,50.069790000000005,50070,10770,60840,15.29787,7649,1973,9622,65.367660000000001,57719,12743,70462,50.069790000000005,40056,8616,48672,15.29787,6119,1579,7698,65.367660000000001,46175,10195,56370,50.069790000000005,75105,16155,91260,15.29787,11473,2960,14433,65.367660000000001,86578,19115,105693,null,0,240085]
["W4A001","W4A001","Delta Charter School ",0,0,null,0,null,0,0,26,10000,null,223,15610,null,15610,34.865277000000006,34865,7499,42364,11.925926,5963,1538,7501,46.79120300000001,40828,9037,49865,34.865277000000006,27892,6000,33892,11.925926,4770,1231,6001,46.79120300000001,32662,7231,39893,34.865277000000006,52298,11249,63547,11.925926,8944,2308,11252,46.79120300000001,61242,13557,74799,null,0,190167]
["W4B001","W4B001","Lake Charles College Prep",0,0,null,0,null,0,0,87,15725,null,605,42350,null,42350,43.156410000000001,43156,9283,52439,7,3500,903,4403,50.156410000000001,46656,10186,56842,43.156410000000001,34525,7426,41951,7,2800,722,3522,50.156410000000001,37325,8148,45473,43.156410000000001,64735,13924,78659,7,5250,1355,6605,50.156410000000001,69985,15279,85264,null,0,245654]
["W5B001","W5B001","Northeast Claiborne Charter",0,0,null,0,null,0,0,19,10000,null,83,5810,null,5810,7,7000,1506,8506,7,3500,903,4403,14,10500,2409,12909,7,5600,1205,6805,7,2800,722,3522,14,8400,1927,10327,7,10500,2259,12759,7,5250,1355,6605,14,15750,3614,19364,null,0,58410]
["W6B001","W6B001","Acadiana Renaissance",0,0,null,0,null,0,0,322,58202,null,914,63980,null,63980,195.33150000000001,195332,42016,237348,54.941190000000006,27471,7088,34559,250.27269000000001,222803,49104,271907,195.33150000000001,156265,33613,189878,54.941190000000006,21976,5670,27646,250.27269000000001,178241,39283,217524,195.33150000000001,292997,63024,356021,54.941190000000006,41206,10631,51837,250.27269000000001,334203,73655,407858,null,0,1019471]
["W7A001","W7A001","Louisiana Key Academy ",0,0,null,0,null,0,0,22,10000,null,114,7980,null,7980,56,56000,12046,68046,14,7000,1806,8806,70,63000,13852,76852,56,44800,9636,54436,14,5600,1445,7045,70,50400,11081,61481,56,84000,18068,102068,14,10500,2709,13209,70,94500,20777,115277,null,0,271590]
["W7B001","W7B001","Lafayette Renaissance",0,0,null,0,null,0,0,154,27836,null,744,52080,null,52080,114.57907999999999,114579,24646,139225,41.010149999999996,20505,5290,25795,155.58922999999999,135084,29936,165020,114.57907999999999,91663,19717,111380,41.010149999999996,16404,4232,20636,155.58922999999999,108067,23949,132016,114.57907999999999,171869,36969,208838,41.010149999999996,30758,7936,38694,155.58922999999999,202627,44905,247532,null,0,624484]
["W8A001","W8A001","Impact Charter",0,0,null,0,null,0,0,12,0,null,85,5950,null,5950,52,52000,11185,63185,27.04035,13520,3488,17008,79.040350000000004,65520,14673,80193,52,41600,8948,50548,27.04035,10816,2791,13607,79.040350000000004,52416,11739,64155,52,78000,16778,94778,27.04035,20280,5232,25512,79.040350000000004,98280,22010,120290,null,0,270588]
["WAG001","WAG001","Louisiana Virtual Charter Academy",0,0,null,0,null,0,0,448,80976,null,1160,81200,null,81200,98.849180000000004,98849,21262,120111,29.45017,14725,3799,18524,128.29935,113574,25061,138635,98.849180000000004,79079,17010,96089,29.45017,11780,3039,14819,128.29935,90859,20049,110908,98.849180000000004,148274,31894,180168,29.45017,22088,5699,27787,128.29935,170362,37593,207955,null,0,619674]
["WAK001","WAK001","Southwest LA Charter School ",0,0,null,0,null,0,0,34,0,null,173,12110,null,12110,69.582099999999997,69582,14967,84549,24.63636,12318,3178,15496,94.218459999999993,81900,18145,100045,69.582099999999997,55666,11974,67640,24.63636,9855,2543,12398,94.218459999999993,65521,14517,80038,69.582099999999997,104373,22451,126824,24.63636,18477,4767,23244,94.218459999999993,122850,27218,150068,null,0,342261]
["WAL001","WAL001","J. S. Clark Leadership Academy ",0,0,null,0,null,0,0,115,20786,null,221,15470,null,15470,29,29000,6238,35238,25,12500,3225,15725,54,41500,9463,50963,29,23200,4990,28190,25,10000,2580,12580,54,33200,7570,40770,29,43500,9357,52857,25,18750,4838,23588,54,62250,14195,76445,null,0,204434]
["WAU001","WAU001","GEO Prep Academy",0,0,null,0,null,0,0,72,0,null,157,10990,null,10990,69.402349999999984,69402,14928,84330,53.1,26550,6850,33400,122.50234999999998,95952,21778,117730,69.402349999999984,55522,11943,67465,53.1,21240,5480,26720,122.50234999999998,76762,17423,94185,69.402349999999984,104104,22393,126497,53.1,39825,10275,50100,122.50234999999998,143929,32668,176597,null,0,399502]
["WBQ001","WBQ001","New Harmony High School",0,0,null,0,null,0,0,158,28559,null,337,23590,null,23590,35.242500000000007,35243,7581,42824,10.848500000000001,5424,1399,6823,46.091000000000008,40667,8980,49647,35.242500000000007,28194,6065,34259,10.848500000000001,4339,1119,5458,46.091000000000008,32533,7184,39717,35.242500000000007,52864,11371,64235,10.848500000000001,8136,2099,10235,46.091000000000008,61000,13470,74470,null,0,215983]
["WBR001","WBR001","Athlos Academy",0,0,null,0,null,0,0,0,0,null,238,16660,null,16660,90.767349999999993,90767,19524,110291,46.991839999999996,23496,6062,29558,137.75918999999999,114263,25586,139849,90.767349999999993,72614,15619,88233,46.991839999999996,18797,4850,23647,137.75918999999999,91411,20469,111880,90.767349999999993,136151,29286,165437,46.991839999999996,35244,9093,44337,137.75918999999999,171395,38379,209774,null,0,478163]
["WBX001","WBX001","GEO Next Generation HS ",0,0,null,0,null,0,0,83,15002,null,434,30380,null,30380,31,31000,6668,37668,14,7000,1806,8806,45,38000,8474,46474,31,24800,5334,30134,14,5600,1445,7045,45,30400,6779,37179,31,46500,10002,56502,14,10500,2709,13209,45,57000,12711,69711,null,0,198746]
["WJ5001","WJ5001","Collegiate Academy (EBR)",0,0,null,0,null,0,0,176,31812,null,501,35070,null,35070,55,55000,11831,66831,21,10500,2709,13209,76,65500,14540,80040,55,44000,9464,53464,21,8400,2167,10567,76,52400,11631,64031,55,82500,17746,100246,21,15750,4064,19814,76,98250,21810,120060,null,0,331013]
["WZ8001","WZ8001","GEO Prep Mid-City of Greater B. R.",0,0,null,0,null,0,0,65,0,null,124,8680,null,8680,51,51000,10970,61970,36,18000,4644,22644,87,69000,15614,84614,51,40800,8776,49576,36,14400,3715,18115,87,55200,12491,67691,51,76500,16455,92955,36,27000,6966,33966,87,103500,23421,126921,null,0,287906]
["WZN001",null,"GEO Prep Baker",0,0,null,0,null,0,0,0,0,null,0,0,null,0,7.6967999999999996,7697,1656,9353,4,2000,516,2516,11.6968,9697,2172,11869,7.6967999999999996,6157,1324,7481,4,1600,413,2013,11.6968,7757,1737,9494,7.6967999999999996,11545,2483,14028,4,3000,774,3774,11.6968,14545,3257,17802,null,0,39165]
["WZO001",null,"Louisiana Key Academy Northshore",0,0,null,0,null,0,0,0,0,null,0,0,null,0,31.8964,31896,6861,38757,3,1500,387,1887,34.8964,33396,7248,40644,31.8964,25517,5489,31006,3,1200,310,1510,34.8964,26717,5799,32516,31.8964,47845,10291,58136,3,2250,581,2831,34.8964,50095,10872,60967,null,0,134127]
["WZP001",null,"Discovery Ochsner BR",0,0,null,0,null,0,0,0,0,null,0,0,null,0,17,17000,3657,20657,9,4500,1161,5661,26,21500,4818,26318,17,13600,2925,16525,9,3600,929,4529,26,17200,3854,21054,17,25500,5485,30985,9,6750,1742,8492,26,32250,7227,39477,null,0,86849]
["WZQ001",null,"Kenilworth Middle",0,0,null,0,null,0,0,0,0,null,222,15540,null,15540,66,66000,14197,80197,13,6500,1677,8177,79,72500,15874,88374,66,52800,11357,64157,13,5200,1342,6542,79,58000,12699,70699,66,99000,21295,120295,13,9750,2516,12266,79,108750,23811,132561,null,0,307174]
["WZT001",null,"LaKey Caddo",0,0,null,0,null,0,0,0,0,null,0,0,null,0,14,14000,3011,17011,0,0,0,0,14,14000,3011,17011,14,11200,2409,13609,0,0,0,0,14,11200,2409,13609,14,21000,4517,25517,0,0,0,0,14,21000,4517,25517,null,0,56137]
["WZU001",null,"Rebirth Blended Learning Academy",0,0,null,0,null,0,0,null,null,null,null,null,null,0,null,0,0,0,null,0,0,0,0,0,0,0,0,0,0,0,0,0,0,0,0,0,0,0,0,0,0,0,0,0,0,0,0,0,0,0,null,0,0]
["TBD",null,"Academy of Collaborative Education (ACE)",0,0,null,0,null,0,0,null,null,null,null,null,null,0,null,0,0,0,null,0,0,0,0,0,0,0,0,0,0,0,0,0,0,0,0,0,0,0,0,0,0,0,0,0,0,0,0,0,0,0,null,0,0]
["WZW001",null,"Vermilion Charter ",0,0,null,0,null,0,0,null,null,null,null,null,null,0,null,0,0,0,null,0,0,0,0,0,0,0,0,0,0,0,0,0,0,0,0,0,0,0,0,0,0,0,0,0,0,0,0,0,0,0,null,0,0]
[null,null,"Total New Type 2 Charter Schools",30,630000,0,0,0,0,0,3452,605143,null,12509,875630,0,875630,2132.3316800000002,2132331,458665,2590996,859.13183899999979,429566,110826,540392,2991.4635190000008,2561897,569491,3131388,2132.3316800000002,1705864,366931,2072795,859.13183899999979,343652,88666,432318,2991.4635190000008,2049516,455597,2505113,2132.3316800000002,3198498,687996,3886494,859.13183899999979,644348,166250,810598,2991.4635190000008,3842846,854246,4697092,0,0,12444366]
[]
[396211,396211,"Linwood Public Charter (RSD Operated)",0,0,null,0,null,0,0,0,0,null,242,16940,null,16940,74.377919999999989,74378,15999,90377,84.173290000000009,42087,10858,52945,158.55121,116465,26857,143322,74.377919999999989,59502,12799,72301,84.173290000000009,33669,8687,42356,158.55121,93171,21486,114657,74.377919999999989,111567,23998,135565,84.173290000000009,63130,16288,79418,158.55121,174697,40286,214983,null,0,489902]
["WZV001","WA7001","Prescott Academy",0,0,null,0,null,0,0,0,0,null,75,5250,null,5250,29.466888999999998,29467,6338,35805,3.4444409999999999,1722,444,2166,32.91133,31189,6782,37971,29.466888999999998,23574,5071,28645,3.4444409999999999,1378,356,1734,32.91133,24952,5427,30379,29.466888999999998,44200,9507,53707,3.4444409999999999,2583,666,3249,32.91133,46783,10173,56956,null,0,130556]
["WAO001","3AP003","Redesign Dalton Charter School",0,0,null,0,null,0,0,0,0,null,0,0,null,0,22,22000,4732,26732,7,3500,903,4403,29,25500,5635,31135,22,17600,3786,21386,7,2800,722,3522,29,20400,4508,24908,22,33000,7098,40098,7,5250,1355,6605,29,38250,8453,46703,null,0,102746]
["WAP001","3AP001","Redesign Lanier Charter School",0,0,null,0,null,0,0,0,0,null,0,0,null,0,36,36000,7744,43744,10,5000,1290,6290,46,41000,9034,50034,36,28800,6195,34995,10,4000,1032,5032,46,32800,7227,40027,36,54000,11615,65615,10,7500,1935,9435,46,61500,13550,75050,null,0,165111]
[]
[null,null,"Total RSD/Type 5 Charters",0,0,0,0,0,0,0,0,0,0,317,22190,0,22190,161.844809,161845,34813,196658,104.61773100000001,52309,13495,65804,266.46253999999999,214154,48308,262462,161.844809,129476,27851,157327,104.61773100000001,41847,10797,52644,266.46253999999999,171323,38648,209971,161.844809,242767,52218,294985,104.61773100000001,78463,20244,98707,266.46253999999999,321230,72462,393692,0,0,888315]
[]
[null,null,"Total Statewide",268,5628000,0,0,0,0,0,106246.5,19329456,0,294751,20632570,0,20632570,62003.140478999994,62003139,13336878,75340017,39207.173957000006,19603589,5057724,24661313,101210.31443599997,81606728,18394602,100001330,62003.140478999994,49602507,10669495,60272002,39207.173957000006,15682866,4046179,19729045,101210.31443599997,65285373,14715674,80001047,62003.140478999994,93004711,20005312,113010023,39207.173957000006,29405380,7586612,36991992,101210.31443599997,122410091,27591924,150002015,0,0,375769450]
[]
[36,36,"Orleans Direct Run",1,21000,null,0,null,0,0,0,25000,null,582,40740,null,40740,271.09005700000006,271090,58311,329401,278.97899900000004,139489,35988,175477,550.06905600000005,410579,94299,504878,271.09005700000006,216872,46649,263521,278.97899900000004,111592,28791,140383,550.06905600000005,328464,75440,403904,271.09005700000006,406635,87467,494102,278.97899900000004,209234,53982,263216,550.06905600000005,615869,141449,757318,null,0,1752840]
["W31001","W31001","Dr. Martin Luther King Jr Charter",0,0,null,0,null,0,0,91,16448,null,321,22470,null,22470,79.465490000000003,79465,17093,96558,68.297089999999997,34149,8810,42959,147.76258000000001,113614,25903,139517,79.465490000000003,63572,13674,77246,68.297089999999997,27319,7048,34367,147.76258000000001,90891,20722,111613,79.465490000000003,119198,25639,144837,68.297089999999997,51223,13216,64439,147.76258000000001,170421,38855,209276,null,0,499324]
["W62001","W62001","LB Landry-OP Walker",0,0,null,0,null,0,0,162,29282,null,590,41300,null,41300,43.5,43500,9357,52857,18,9000,2322,11322,61.5,52500,11679,64179,43.5,34800,7485,42285,18,7200,1858,9058,61.5,42000,9343,51343,43.5,65250,14035,79285,18,13500,3483,16983,61.5,78750,17518,96268,null,0,282372]
["W66001","W66001","Martin Behrman ",0,0,null,0,null,0,0,0,0,null,169,11830,null,11830,38.5,38500,8281,46781,24,12000,3096,15096,62.5,50500,11377,61877,38.5,30800,6625,37425,24,9600,2477,12077,62.5,40400,9102,49502,38.5,57750,12422,70172,24,18000,4644,22644,62.5,75750,17066,92816,null,0,216025]
["W71001","W71001","Sophie B. Wright Learning Acdmy ",0,0,null,0,null,0,0,182,32897,null,536,37520,null,37520,43.947919999999996,43948,9453,53401,22,11000,2838,13838,65.947919999999996,54948,12291,67239,43.947919999999996,35158,7562,42720,22,8800,2270,11070,65.947919999999996,43958,9832,53790,43.947919999999996,65922,14180,80102,22,16500,4257,20757,65.947919999999996,82422,18437,100859,null,0,292305]
["W81001","W81001","KIPP McDonogh 15 Sch. for Creative Arts ",0,0,null,0,null,0,0,0,0,null,211,14770,null,14770,105,105000,22586,127586,37,18500,4773,23273,142,123500,27359,150859,105,84000,18068,102068,37,14800,3818,18618,142,98800,21886,120686,105,157500,33878,191378,37,27750,7160,34910,142,185250,41038,226288,null,0,512603]
["W82001","W82001","KIPP Believe College Prep ",0,0,null,0,null,0,0,0,0,null,179,12530,null,12530,90,90000,19359,109359,36,18000,4644,22644,126,108000,24003,132003,90,72000,15487,87487,36,14400,3715,18115,126,86400,19202,105602,90,135000,29039,164039,36,27000,6966,33966,126,162000,36005,198005,null,0,448140]
["W84001","W84001","KIPP Renaissance High",0,0,null,0,null,0,0,233,42115,null,629,44030,null,44030,73,73000,15702,88702,22,11000,2838,13838,95,84000,18540,102540,73,58400,12562,70962,22,8800,2270,11070,95,67200,14832,82032,73,109500,23553,133053,22,16500,4257,20757,95,126000,27810,153810,null,0,424527]
["W85001","W85001","KIPP N.O. Leadership Acdmy ",0,0,null,0,null,0,0,0,0,null,201,14070,null,14070,98,98000,21080,119080,39,19500,5031,24531,137,117500,26111,143611,98,78400,16864,95264,39,15600,4025,19625,137,94000,20889,114889,98,147000,31620,178620,39,29250,7547,36797,137,176250,39167,215417,null,0,487987]
["W86001","W86001","KIPP East ",0,0,null,0,null,0,0,0,0,null,198,13860,null,13860,109,109000,23446,132446,33,16500,4257,20757,142,125500,27703,153203,109,87200,18757,105957,33,13200,3406,16606,142,100400,22163,122563,109,163500,35169,198669,33,24750,6386,31136,142,188250,41555,229805,null,0,519431]
["W87001","W87001","KIPP Booker T. Washington High School",0,0,null,0,null,0,0,186,33620,null,574,40180,null,40180,67,67000,14412,81412,19,9500,2451,11951,86,76500,16863,93363,67,53600,11529,65129,19,7600,1961,9561,86,61200,13490,74690,67,100500,21618,122118,19,14250,3677,17927,86,114750,25295,140045,null,0,381898]
["W91001","W91001","Samuel J_Green Charter School",0,0,null,0,null,0,0,0,0,null,121,8470,null,8470,60.790959999999998,60791,13076,73867,41,20500,5289,25789,101.79096,81291,18365,99656,60.790959999999998,48633,10461,59094,41,16400,4231,20631,101.79096,65033,14692,79725,60.790959999999998,91186,19614,110800,41,30750,7934,38684,101.79096,121936,27548,149484,null,0,337335]
["W92001","W92001","Arthur Ashe Charter School",0,0,null,0,null,0,0,0,0,null,177,12390,null,12390,79,79000,16993,95993,60,30000,7740,37740,139,109000,24733,133733,79,63200,13594,76794,60,24000,6192,30192,139,87200,19786,106986,79,118500,25489,143989,60,45000,11610,56610,139,163500,37099,200599,null,0,453708]
["W94001","W94001","Phillis Wheatley Community School",0,0,null,0,null,0,0,0,0,null,178,12460,null,12460,71.790959999999998,71791,15442,87233,37,18500,4773,23273,108.79096,90291,20215,110506,71.790959999999998,57433,12354,69787,37,14800,3818,18618,108.79096,72233,16172,88405,71.790959999999998,107686,23163,130849,37,27750,7160,34910,108.79096,135436,30323,165759,null,0,377130]
["W95001","W95001","Langston Hughes Charter Academy",0,0,null,0,null,0,0,0,0,null,182,12740,null,12740,76.581919999999997,76582,16473,93055,49,24500,6321,30821,125.58192,101082,22794,123876,76.581919999999997,61266,13178,74444,49,19600,5057,24657,125.58192,80866,18235,99101,76.581919999999997,114873,24709,139582,49,36750,9482,46232,125.58192,151623,34191,185814,null,0,421531]
["WAA001","WAA001","Morris Jeff Community School ",0,0,null,0,null,0,0,215,38861,null,632,44240,null,44240,148,148000,31835,179835,54,27000,6966,33966,202,175000,38801,213801,148,118400,25468,143868,54,21600,5573,27173,202,140000,31041,171041,148,222000,47752,269752,54,40500,10449,50949,202,262500,58201,320701,null,0,788644]
["WAE001","WAE001","Fannie C. Williams Charter School ",0,0,null,0,null,0,0,0,0,null,99,6930,null,6930,41,41000,8819,49819,21,10500,2709,13209,62,51500,11528,63028,41,32800,7055,39855,21,8400,2167,10567,62,41200,9222,50422,41,61500,13229,74729,21,15750,4064,19814,62,77250,17293,94543,null,0,214923]
["WAF001","WAF001","Harriet Tubman Charter School ",0,0,null,0,null,0,0,0,0,null,192,13440,null,13440,121.851685,121852,26210,148062,55.750574999999998,27875,7192,35067,177.60226,149727,33402,183129,121.851685,97481,20968,118449,55.750574999999998,22300,5753,28053,177.60226,119781,26721,146502,121.851685,182778,39316,222094,55.750574999999998,41813,10788,52601,177.60226,224591,50104,274695,null,0,617766]
["WAH001","WAH001","The NET Charter School ",0,0,null,0,null,0,0,4,10000,null,166,11620,null,11620,20.539725000000001,20540,4418,24958,4.7857799999999999,2393,617,3010,25.325505,22933,5035,27968,20.539725000000001,16432,3535,19967,4.7857799999999999,1914,494,2408,25.325505,18346,4029,22375,20.539725000000001,30810,6627,37437,4.7857799999999999,3589,926,4515,25.325505,34399,7553,41952,null,0,113915]
["WAM001","WAM001","Paul Habans Elem (dba Dorothy Heights)",0,0,null,0,null,0,0,0,0,null,179,12530,null,12530,95.851685000000003,95852,20618,116470,50.250614999999996,25125,6482,31607,146.10230000000001,120977,27100,148077,95.851685000000003,76681,16494,93175,50.250614999999996,20100,5186,25286,146.10230000000001,96781,21680,118461,95.851685000000003,143778,30927,174705,50.250614999999996,37688,9724,47412,146.10230000000001,181466,40651,222117,null,0,501185]
["WAZ001","WAZ001","Audubon Charter School",11,231000,null,0,null,0,0,0,0,null,163,11410,null,11410,83.279679999999999,83280,17914,101194,43.5,21750,5612,27362,126.77968,105030,23526,128556,83.279679999999999,66624,14331,80955,43.5,17400,4489,21889,126.77968,84024,18820,102844,83.279679999999999,124920,26870,151790,43.5,32625,8417,41042,126.77968,157545,35287,192832,null,0,666642]
["WBA001","WBA001","Einstein Charter @ Village De L'Est",0,0,null,0,null,0,0,0,0,null,0,0,null,0,47,47000,10110,57110,29,14500,3741,18241,76,61500,13851,75351,47,37600,8088,45688,29,11600,2993,14593,76,49200,11081,60281,47,70500,15165,85665,29,21750,5612,27362,76,92250,20777,113027,null,0,248659]
["WBB001","WBB001","Benjamin Franklin High School",0,0,null,0,null,0,0,316,57117,null,1049,73430,null,73430,82.986829999999998,82987,17851,100838,17.927509999999998,8964,2313,11277,100.91434,91951,20164,112115,82.986829999999998,66389,14280,80669,17.927509999999998,7171,1850,9021,100.91434,73560,16130,89690,82.986829999999998,124480,26776,151256,17.927509999999998,13446,3469,16915,100.91434,137926,30245,168171,null,0,500523]
["WBC001","WBC001","Alice M. Harte Elementary Charter",0,0,null,0,null,0,0,0,0,null,159,11130,null,11130,75,75000,16133,91133,73,36500,9417,45917,148,111500,25550,137050,75,60000,12906,72906,73,29200,7534,36734,148,89200,20440,109640,75,112500,24199,136699,73,54750,14126,68876,148,167250,38325,205575,null,0,463395]
["WBD001","WBD001","Edna Karr High School",0,0,null,0,null,0,0,545,98509,null,1105,77350,null,77350,92.070000000000007,92070,19804,111874,23.5,11750,3032,14782,115.57000000000001,103820,22836,126656,92.070000000000007,73656,15843,89499,23.5,9400,2425,11825,115.57000000000001,83056,18268,101324,92.070000000000007,138105,29706,167811,23.5,17625,4547,22172,115.57000000000001,155730,34253,189983,null,0,593822]
["WBE001","WBE001","Lusher Charter School",0,0,null,0,null,0,0,290,52418,null,1089,76230,null,76230,169.84546999999989,169845,36534,206379,52.441289999999995,26221,6765,32986,222.2867599999999,196066,43299,239365,169.84546999999989,135876,29227,165103,52.441289999999995,20977,5412,26389,222.2867599999999,156853,34639,191492,169.84546999999989,254768,54801,309569,52.441289999999995,39331,10147,49478,222.2867599999999,294099,64948,359047,null,0,918552]
["WBF001","WBF001","Eleanor McMain Secondary School",0,0,null,0,null,0,0,315,56936,null,692,48440,null,48440,72.399090000000001,72399,15573,87972,22.327269999999999,11164,2880,14044,94.72636,83563,18453,102016,72.399090000000001,57919,12458,70377,22.327269999999999,8931,2304,11235,94.72636,66850,14762,81612,72.399090000000001,108599,23360,131959,22.327269999999999,16745,4320,21065,94.72636,125344,27680,153024,null,0,442028]
["WBH001","WBH001","Lake Forest Elementary Charter School",0,0,null,0,null,0,0,0,0,null,122,8540,null,8540,56.821089999999998,56821,12222,69043,44,22000,5676,27676,100.82109,78821,17898,96719,56.821089999999998,45457,9778,55235,44,17600,4541,22141,100.82109,63057,14319,77376,56.821089999999998,85232,18333,103565,44,33000,8514,41514,100.82109,118232,26847,145079,null,0,327714]
["WBI001","WBI001","New Orleans Charter Sci. & Math HS",0,0,null,0,null,0,0,275,49706,null,589,41230,null,41230,54.636710000000001,54637,11752,66389,20.364799999999999,10182,2627,12809,75.001509999999996,64819,14379,79198,54.636710000000001,43709,9402,53111,20.364799999999999,8146,2102,10248,75.001509999999996,51855,11504,63359,54.636710000000001,81955,17629,99584,20.364799999999999,15274,3941,19215,75.001509999999996,97229,21570,118799,null,0,352292]
["WBK001","WBK001","Bricolage Academy",0,0,null,0,null,0,0,0,0,null,203,14210,null,14210,93,93000,20004,113004,49,24500,6321,30821,142,117500,26325,143825,93,74400,16003,90403,49,19600,5057,24657,142,94000,21060,115060,93,139500,30006,169506,49,36750,9482,46232,142,176250,39488,215738,null,0,488833]
["WBL001","WBL001","Wilson Charter School",0,0,null,0,null,0,0,0,0,null,133,9310,null,9310,52.824549999999995,52825,11363,64188,22,11000,2838,13838,74.824549999999988,63825,14201,78026,52.824549999999995,42260,9090,51350,22,8800,2270,11070,74.824549999999988,51060,11360,62420,52.824549999999995,79237,17044,96281,22,16500,4257,20757,74.824549999999988,95737,21301,117038,null,0,266794]
["WBM001","WBM001","Sarah Towles Reed High",0,0,null,0,null,0,0,114,20606,null,369,25830,null,25830,45,45000,9680,54680,25,12500,3225,15725,70,57500,12905,70405,45,36000,7744,43744,25,10000,2580,12580,70,46000,10324,56324,45,67500,14519,82019,25,18750,4838,23588,70,86250,19357,105607,null,0,278772]
["WBN001","WBN001","Einstein Middle @ Sarah Towles Reed",0,0,null,0,null,0,0,0,0,null,192,13440,null,13440,36,36000,7744,43744,22,11000,2838,13838,58,47000,10582,57582,36,28800,6195,34995,22,8800,2270,11070,58,37600,8465,46065,36,54000,11615,65615,22,16500,4257,20757,58,70500,15872,86372,null,0,203459]
["WBO001","WBO001","Einstein Charter @ Sherwood Forest",0,0,null,0,null,0,0,0,0,null,0,0,null,0,44,44000,9464,53464,31,15500,3999,19499,75,59500,13463,72963,44,35200,7572,42772,31,12400,3199,15599,75,47600,10771,58371,44,66000,14197,80197,31,23250,5999,29249,75,89250,20196,109446,null,0,240780]
["WBP001","WBP001","McDonogh 42 Charter School (dba Pierre Capdau S.T.E.A.M.)",0,0,null,0,null,0,0,0,0,null,174,12180,null,12180,56.99,56990,12259,69249,19.5,9750,2516,12266,76.490000000000009,66740,14775,81515,56.99,45592,9807,55399,19.5,7800,2012,9812,76.490000000000009,53392,11819,65211,56.99,85485,18388,103873,19.5,14625,3773,18398,76.490000000000009,100110,22161,122271,null,0,281177]
["WBT001","WBT001","Audubon Gentilly",0,0,null,0,null,0,0,0,0,null,51,3570,null,3570,42.279679999999999,42280,9094,51374,20.5,10250,2645,12895,62.779679999999999,52530,11739,64269,42.279679999999999,33824,7276,41100,20.5,8200,2116,10316,62.779679999999999,42024,9392,51416,42.279679999999999,63420,13642,77062,20.5,15375,3967,19342,62.779679999999999,78795,17609,96404,null,0,215659]
["WBU001","WBU001","Collegiate Rosenwald",0,0,null,0,null,0,0,34,10000,null,379,26530,null,26530,48,48000,10325,58325,17,8500,2193,10693,65,56500,12518,69018,48,38400,8260,46660,17,6800,1754,8554,65,45200,10014,55214,48,72000,15487,87487,17,12750,3290,16040,65,84750,18777,103527,null,0,264289]
["WBV001","WBV001","Dwight D. Eisenhower ",0,0,null,0,null,0,0,0,0,null,130,9100,null,9100,52.332730000000005,52333,11257,63590,21,10500,2709,13209,73.332729999999998,62833,13966,76799,52.332730000000005,41866,9005,50871,21,8400,2167,10567,73.332729999999998,50266,11172,61438,52.332730000000005,78499,16885,95384,21,15750,4064,19814,73.332729999999998,94249,20949,115198,null,0,262535]
["WBZ001","WBZ001","McDonogh 35 Senior H. S.",0,0,null,0,null,0,0,453,81880,null,837,58590,null,58590,77.206360000000004,77206,16607,93813,19,9500,2451,11951,96.206360000000004,86706,19058,105764,77.206360000000004,61765,13286,75051,19,7600,1961,9561,96.206360000000004,69365,15247,84612,77.206360000000004,115810,24911,140721,19,14250,3677,17927,96.206360000000004,130060,28588,158648,null,0,489494]
["WC2001","WC2001","Opportunities Academy",0,0,null,0,null,0,0,0,10000,null,77,5390,null,5390,16,16000,3442,19442,33,16500,4257,20757,49,32500,7699,40199,16,12800,2753,15553,33,13200,3406,16606,49,26000,6159,32159,16,24000,5162,29162,33,24750,6386,31136,49,48750,11548,60298,null,0,148046]
["WJ1001","WJ1001","Sci Academy",0,0,null,0,null,0,0,61,11026,null,637,44590,null,44590,80,80000,17208,97208,38.333332999999996,19167,4945,24112,118.333333,99167,22153,121320,80,64000,13766,77766,38.333332999999996,15333,3956,19289,118.333333,79333,17722,97055,80,120000,25812,145812,38.333332999999996,28750,7418,36168,118.333333,148750,33230,181980,null,0,455971]
["WJ2001","WJ2001","G.W. Carver Collegiate Acdmy ",0,0,null,0,null,0,0,7,10000,null,735,51450,null,51450,88,88000,18929,106929,40.333332999999996,20167,5203,25370,128.33333299999998,108167,24132,132299,88,70400,15143,85543,40.333332999999996,16133,4162,20295,128.33333299999998,86533,19305,105838,88,132000,28393,160393,40.333332999999996,30250,7805,38055,128.33333299999998,162250,36198,198448,null,0,498035]
["WJ4001","WJ4001","Livingston Collegiate Academy",0,0,null,0,null,0,0,215,38861,null,574,40180,null,40180,79,79000,16993,95993,31.333333,15667,4042,19709,110.333333,94667,21035,115702,79,63200,13594,76794,31.333333,12533,3234,15767,110.333333,75733,16828,92561,79,118500,25489,143989,31.333333,23500,6063,29563,110.333333,142000,31552,173552,null,0,460856]
["WL1001","WL1001","KIPP Central City Primary ",0,0,null,0,null,0,0,0,0,null,198,13860,null,13860,96,96000,20650,116650,31,15500,3999,19499,127,111500,24649,136149,96,76800,16520,93320,31,12400,3199,15599,127,89200,19719,108919,96,144000,30974,174974,31,23250,5999,29249,127,167250,36973,204223,null,0,463151]
["WU1001","WU1001","Success Preparatory Academy ",0,0,null,0,null,0,0,0,0,null,101,7070,null,7070,57.288139999999999,57288,12323,69611,21.35999,10680,2755,13435,78.648129999999995,67968,15078,83046,57.288139999999999,45831,9858,55689,21.35999,8544,2204,10748,78.648129999999995,54375,12062,66437,57.288139999999999,85932,18484,104416,21.35999,16020,4133,20153,78.648129999999995,101952,22617,124569,null,0,281122]
["WZ2001","WZ2001","ReNEW SciTech Acdmy. ",0,0,null,0,null,0,0,0,0,null,148,10360,null,10360,90,90000,19359,109359,45.333332999999996,22667,5848,28515,135.33333299999998,112667,25207,137874,90,72000,15487,87487,45.333332999999996,18133,4678,22811,135.33333299999998,90133,20165,110298,90,135000,29039,164039,45.333332999999996,34000,8772,42772,135.33333299999998,169000,37811,206811,null,0,465343]
["WZ3001","WZ3001","ReNEW Delores T. Aaron Elem ",0,0,null,0,null,0,0,0,0,null,167,11690,null,11690,75,75000,16133,91133,31.333333,15667,4042,19709,106.333333,90667,20175,110842,75,60000,12906,72906,31.333333,12533,3234,15767,106.333333,72533,16140,88673,75,112500,24199,136699,31.333333,23500,6063,29563,106.333333,136000,30262,166262,null,0,377467]
["WZ6001","WZ6001","ReNEW Schaumburg Elem ",0,0,null,0,null,0,0,0,0,null,143,10010,null,10010,77,77000,16563,93563,35.333332999999996,17667,4558,22225,112.333333,94667,21121,115788,77,61600,13250,74850,35.333332999999996,14133,3646,17779,112.333333,75733,16896,92629,77,115500,24844,140344,35.333332999999996,26500,6837,33337,112.333333,142000,31681,173681,null,0,392108]
["WZ9001","WZ9001","The NET 2 Charter School",0,0,null,0,null,0,0,59,10664,null,134,9380,null,9380,18.189624999999999,18190,3913,22103,6.1081500000000002,3054,788,3842,24.297775000000001,21244,4701,25945,18.189624999999999,14552,3130,17682,6.1081500000000002,2443,630,3073,24.297775000000001,16995,3760,20755,18.189624999999999,27284,5869,33153,6.1081500000000002,4581,1182,5763,24.297775000000001,31865,7051,38916,null,0,105660]
["WZA001","WZA001","Accelerated High, City Park ",0,0,null,0,null,0,0,10,10000,null,182,12740,null,12740,24.391484999999996,24391,5247,29638,6.3987199999999991,3199,825,4024,30.790204999999993,27590,6072,33662,24.391484999999996,19513,4197,23710,6.3987199999999991,2559,660,3219,30.790204999999993,22072,4857,26929,24.391484999999996,36587,7870,44457,6.3987199999999991,4799,1238,6037,30.790204999999993,41386,9108,50494,null,0,133825]
["WZB001","WZB001","Warren Easton Charter High School",0,0,null,0,null,0,0,446,80615,null,1105,77350,null,77350,92.516670000000005,92517,19900,112417,39,19500,5031,24531,131.51667,112017,24931,136948,92.516670000000005,74013,15920,89933,39,15600,4025,19625,131.51667,89613,19945,109558,92.516670000000005,138775,29851,168626,39,29250,7547,36797,131.51667,168025,37398,205423,null,0,609894]
["WZC001","WZC001","Edward Hynes Charter School - Lakeview",5,105000,null,0,null,0,0,0,0,null,143,10010,null,10010,56.333333000000003,56333,12117,68450,32,16000,4128,20128,88.33333300000001,72333,16245,88578,56.333333000000003,45067,9694,54761,32,12800,3302,16102,88.33333300000001,57867,12996,70863,56.333333000000003,84500,18176,102676,32,24000,6192,30192,88.33333300000001,108500,24368,132868,null,0,407319]
["WZD001","WZD001","Edward Hynes Charter School - UNO",2,42000,null,0,null,0,0,0,0,null,0,0,null,0,37.275132999999997,37275,8018,45293,23.02732,11514,2971,14485,60.302453,48789,10989,59778,37.275132999999997,29820,6414,36234,23.02732,9211,2376,11587,60.302453,39031,8790,47821,37.275132999999997,55913,12027,67940,23.02732,17270,4456,21726,60.302453,73183,16483,89666,null,0,239265]
["WZE001","WZE001","John F. Kennedy High School",0,0,null,0,null,0,0,265,47899,null,575,40250,null,40250,73,73000,15702,88702,18,9000,2322,11322,91,82000,18024,100024,73,58400,12562,70962,18,7200,1858,9058,91,65600,14420,80020,73,109500,23553,133053,18,13500,3483,16983,91,123000,27036,150036,null,0,418229]
["WZG001","WZG001","Foundation Preparatory Academy",0,0,null,0,null,0,0,0,0,null,59,4130,null,4130,27.329787,27330,5879,33209,27,13500,3483,16983,54.329786999999996,40830,9362,50192,27.329787,21864,4703,26567,27,10800,2786,13586,54.329786999999996,32664,7489,40153,27.329787,40995,8818,49813,27,20250,5225,25475,54.329786999999996,61245,14043,75288,null,0,169763]
["WZI001","WZI001","Esperanza Charter School",0,0,null,0,null,0,0,0,0,null,117,8190,null,8190,41.960096,41960,9026,50986,25,12500,3225,15725,66.960095999999993,54460,12251,66711,41.960096,33568,7220,40788,25,10000,2580,12580,66.960095999999993,43568,9800,53368,41.960096,62940,13538,76478,25,18750,4838,23588,66.960095999999993,81690,18376,100066,null,0,228335]
["WZJ001","036021","Hynes Parkview (dba Edward Hynes Charter School)",0,0,null,0,null,0,0,0,0,null,109,7630,null,7630,39.332633000000001,39333,8461,47794,17.892699999999998,8946,2308,11254,57.225332999999999,48279,10769,59048,39.332633000000001,31466,6768,38234,17.892699999999998,7157,1847,9004,57.225332999999999,38623,8615,47238,39.332633000000001,58999,12691,71690,17.892699999999998,13420,3462,16882,57.225332999999999,72419,16153,88572,null,0,202488]
["WZK001","036189","Homer Plessy Community School",0,0,null,0,null,0,0,0,0,null,148,10360,null,10360,84.973399999999998,84973,18278,103251,26.994679999999999,13497,3482,16979,111.96808,98470,21760,120230,84.973399999999998,67979,14622,82601,26.994679999999999,10798,2786,13584,111.96808,78777,17408,96185,84.973399999999998,127460,27417,154877,26.994679999999999,20246,5223,25469,111.96808,147706,32640,180346,null,0,407121]
["WZL001","WE3001","YACS at Lawrence D. Crocker (dba Young Audiences at Crocker Elementary)",0,0,null,0,null,0,0,0,0,null,92,6440,null,6440,50.373919999999998,50374,10835,61209,15.87998,7940,2049,9989,66.253900000000002,58314,12884,71198,50.373919999999998,40299,8668,48967,15.87998,6352,1639,7991,66.253900000000002,46651,10307,56958,50.373919999999998,75561,16253,91814,15.87998,11910,3073,14983,66.253900000000002,87471,19326,106797,null,0,241393]
["WZM001","036198","Rooted School",0,0,null,0,null,0,0,95,17171,null,132,9240,null,9240,17,17000,3657,20657,5,2500,645,3145,22,19500,4302,23802,17,13600,2925,16525,5,2000,516,2516,22,15600,3441,19041,17,25500,5485,30985,5,3750,968,4718,22,29250,6453,35703,null,0,104957]
["WZS001",null,"Mildred Osborne Charter School",0,0,null,0,null,0,0,0,0,null,198,13860,null,13860,76.851685000000003,76852,16531,93383,69.333945,34667,8944,43611,146.18563,111519,25475,136994,76.851685000000003,61481,13225,74706,69.333945,27734,7155,34889,146.18563,89215,20380,109595,76.851685000000003,115278,24796,140074,69.333945,52000,13416,65416,146.18563,167278,38212,205490,null,0,465939]
[null,null,"Placeholder for closed schools (OPSB only)",0,0,0,0,0,0,0,22,10000,0,366,25620,0,25620,87.335105999999996,87335,18786,106121,34,17000,4386,21386,121.335106,104335,23172,127507,87.335105999999996,69868,15029,84897,34,13600,3508,17108,121.335106,83468,18537,102005,87.335105999999996,131003,28178,159181,34,25500,6580,32080,121.335106,156503,34758,191261,0,0,631425]
[null,null,"Total Orleans Parish",19,399000,0,0,0,0,0,4595,901631,12000000,19692,1378440,0,1378440,4400.7336049999994,4400735,946604,5347339,2195.119412,1097561,283171,1380732,6595.8530169999958,5498296,1229775,6728071,4400.7336049999994,3520586,757274,4277860,2195.119412,878046,226533,1104579,6595.8530169999958,4398632,983807,5382439,4400.7336049999994,6601103,1419897,8021000,2195.119412,1646339,424768,2071107,6595.8530169999958,8247442,1844665,10092107,0,0,25056720]

{"sheet":"5A1_Labs","index":14,"n_rows":9,"n_cols":28,"rows_kept":9,"cut":false,"hidden":false,"merged":[[18,8,19,9],[0,0,2,1],[1,8,1,10],[0,2,0,13],[0,14,0,27],[1,14,1,18],[1,23,1,26],[3,0,3,1],[5,0,5,1]]}
["Table 5A1\nLab Schools",null,"MFP State Cost Allocation",null,null,null,null,null,null,null,null,null,null,null,"MFP State Cost Allocation"]
[null,null,null,null,null,null,null,null,"Mid-Year Adjustment for Students",null,null,null,null,null,"Level 4 Funds Paid Monthly",null,null,null,null,null,null,null,null,"Level 4 Funds Paid Annually"]
[null,null,"Feb. 1\nMFP Funded\nMember-\nship\n(Per SIS)","MFP State\nCost Allocation\nAverage\nPer Pupil\n\n(Levels 1, 2,\n& 3 without\nContinuation\nof Prior Year\nPay Raises)","MFP\nState Cost\nAllocation\n\n(Levels 1, 2,\n& 3 without\nContinuation\nof Prior Year\nPay Raises)","Continuation\nof Prior Year\nPay Raises\nPer Pupil","Continuation\nof Prior Year\nPay Raises","Total MFP\nState Cost\nAllocation\n\n(Levels 1, 2,\n& 3 with\nContinuation\nof Prior Year\nPay Raises)","October\n\nMid-Year\nAdjustment\nfor Students","February\n\nMid-Year\nAdjustment\nfor Students","Total\nMid-Year\nAdjustment\nfor Students","Total MFP\nState Cost\nAllocation\n+/- Mid-Year\nAdjustments","Prior Years\nMFP Audit\nAdjustments\n\n","Total MFP\nState Cost\nAllocation\n+/- Mid-Year\nAdjustments\n+/- Audit\nAdjustments","Salaries for\nInternational\nAssociate/\nEscadrille\nTeachers","Supplemental\nCourse\nAllocation\n\n(Initial)","FY2019-20\nCertificated\nand Non-\nCertificated\nPay Raise","FY2021-22\nCertificated\nand Non-\nCertificated\nPay Raise","FY2022-23\nCertificated\nand Non-\nCertificated\nPay Raise","Total MFP\nState Cost\nAllocation\n+/- Mid-Year Adjs\n+/- Audit Adjs\n+ Monthly\nLevel 4","Year To\nDate\nState\nPayments","Balance\nDue","Monthly\nPayment","Stipends for\nInternational\nAssociate/\nEscadrille\nTeachers","Career\nDevelopment\nFund\nAllocation\n\nInitial","High Cost\nServices\nAllocation","Mentor Teacher Stipend Allocation","Total MFP State Cost Allocation\n+/- Mid-Year Adjs\n+/- Audit Adjs\n+ Total Level 4"]
["FY2024-25",null,1,2,3,4,5,6,7,8,9,10,11,12,13,14,15,16,17,18,19,20,21,22,23,24,25,26]
["July 2024",null,"Link in File","Link in File","Formula","Values","Formula","Formula","Link to Mid-Year File","Link to Mid-Year File","Formula","Formula","Link to Audit File","Formula","Link in File","Link in File",null,null,null,"Formula","Link to Prior Month File","Formula","Formula","Link in File","Link in File","Link in File",null,"Formula"]
["July 2024",null,"(T8)","(T9, C15,\nState Average)","C1 x C2","Historical Data","C1 x C4","C3 + C5","Link to October Tab\nin Mid-Year File","Link to February Tab\nin Mid-Year File","C7 + C8","C6 + C9","Link to Audit File","C10 + C11","(T4, C2)","(T4, C14)","(T4, C26)","(T4, C38)","(T4, C50)","Sum (C12:C17)","Linked to Prior Month file","C18 - C19","C20 ÷ Months Remaining","(T4, C7)","(T4, C9)","(T4, C10)","(T4,C52)","C18+ C22 + C23 + C24 + C25"]
[318,"Louisiana State\nUniversity Lab School",1461,4808.754084038811,7025589.7167807026,605.97,885322.17,7910912,null,null,0,7910912,null,7910912,0,49420,178175,142539,267263,8548309,null,8548309,712359,0,16448,0,0,8564757]
[319,"Southern University\nLab School",740,4808.754084038811,3558478.0221887203,699.9,517926,4076404,null,null,0,4076404,null,4076404,0,28350,42884,34308,64326,4246272,null,4246272,353856,0,10000,0,0,4256272]
[null,"TOTAL ",2201,null,10584067.738969423,null,1403248.17,11987316,0,0,0,11987316,0,11987316,0,77770,221059,176847,331589,12794581,0,12794581,1066215,0,26448,0,0,12821029]

{"sheet":"for incrementing rows (DNCHG)","index":15,"n_rows":0,"n_cols":0,"rows_kept":0,"cut":false,"hidden":true,"merged":[]}

{"sheet":"5A2_Legacy Type 2","index":16,"n_rows":14,"n_cols":34,"rows_kept":14,"cut":false,"hidden":false,"merged":[[0,2,0,19],[0,20,0,33],[1,32,2,32],[1,23,2,23],[1,24,2,24],[1,25,2,25],[1,26,2,26],[1,28,2,28],[1,29,2,29],[19,0,19,1],[1,27,2,27],[1,30,2,30],[1,31,2,31],[1,33,2,33],[1,7,1,9],[1,10,1,12],[1,13,1,15],[1,3,1,6],[3,0,3,1],[5,0,5,1],[1,16,1,18],[1,19,2,19],[1,20,1,22],[0,0,2,1],[1,2,2,2]]}
["Table 5A2\nLegacy Type 2\nCharter Schools\n",null,"MFP State Cost Allocation",null,null,null,null,null,null,null,null,null,null,null,null,null,null,null,null,null,"MFP State Cost Allocation"]
[null,null,"Feb. 1\nMFP Funded\nMembership\n\n","Unweighted Legacy Type 2 Charter School\n(Includes Final Local Revenue\nRepresentation)",null,null,null,"Economically Disadvantaged (ED)",null,null,"Career & Technical Units (CTE)",null,null,"Students with Disabilities (SWD)",null,null,"Gifted & Talented (GT)",null,null,"Total MFP\nState Cost\nAllocation\n\n(Levels 1,\n2, & 3)","Mid-Year Adjustment for Students",null,null,"Total MFP\nState Cost\nAllocation\n+/- Mid-Year\nAdjustments","State\nAdmin Fee\nto the\nDept. of\nEducation\n\n0.25%","Total MFP\nState Cost\nAllocation\n+/- Mid-Year\nAdjustments\n- Admin Fee","Prior Years\nMFP Audit\nAdjustments\n\n","Level 4\nMonthly\nFunds","Total MFP\nState Cost\nAllocation\n+/- Mid-Year\nAdjustments\n- Admin Fee\n+/- Audit Adj.\n+ Monthly\nLevel 4","Year To\nDate\nState\nPayments","Balance\nDue","State Cost\nAllocation\nMonthly\nPayment\n","Level 4\nAnnual","Total MFP\nState Cost\nAllocation\n+/- Mid-Year\nAdjustments\n- Admin Fee\n+/- Audit Adj.\n+ Total Level 4"]
[null,null,null,"Per Pupil","Unweighted\nState Cost\nAllocation\nWithout\nContinuation\nof Prior Year\nPay Raises","Per Pupil","Continuation\nof Prior Year\nPay Raises\nState Cost\nAllocation","Student Count\n\n\n","Per Pupil","State Cost\nAllocation","Student Count\n\n","Per Pupil","State Cost\nAllocation","Student Count\n\n","Per Pupil","State Cost\nAllocation","Student Count\n\n","Per Pupil","State Cost\nAllocation",null,"October\n\nMid-Year\nAdjustment\nfor Students","February\n\nMid-Year\nAdjustment\nfor Students","Total\nMid-Year\nAdjustment\nfor Students"]
["FY2024-25",null,1,2,3,4,5,6,7,8,9,10,11,12,13,14,15,16,17,18,19,20,21,22,23,24,25,"(26a)",26,27,28,29,"(30a)",30]
["July 2024",null,"Link in File",null,"Link in File",null,"Link in File","Link in File",null,"Link in File","Link in File",null,"Link in File","Link in File",null,"Link in File","Link in File",null,"Link in File",null,"Link in File","Link in File","Link in File","Link in File","Link in File","Link in File","Link in File","Link in File","Link in File","Link in File","Link in File","Link in File","Link in File","Link in File"]
["July 2024",null,"T8","N/A","T5A2, C3","N/A","T5A2, C5","T5A2, C6","N/A","T5A2, C8","T5A2, C9","N/A","T52A, C11","T52A, C12","N/A","T52A, C14","T52A, C15","N/A","T52A, C17","C3 + C5 + C8 + C11 + C14 + C17","Link to October Tab in Mid-Year File","Link to February Tab in Mid-Year File","C19 + C20","C18 + C21","C22 x -.25%","C22 + C23","Link to Audit File","(T4, C2 + C14 + C26 + C38 + C50)","C24 + C25 + C26a","Prior Month File: (T5A2, Cell AC87)","C26 - C27","C28 ÷ Months Remaining","(T4, C7 + C9 \n+ C10 + C52)","C26"]
[321001,"New Vision Learning",196,null,1988234.7264307486,null,140394.79999999999,182,null,115918.73199241285,17,null,2974.9399639711482,25,null,108228.37815714374,0,null,0,2355751,0,0,0,2355751,-5889,2349862,0,87202,2349862,0,2349862,195823,0,2349862]
[329001,"Glencoe Charter School",455,null,4589009.4776451718,null,272272,326,null,205008.50967649705,139,null,23830.003745328733,37,null,159126.06466437652,1,null,1687.0329614414752,5250934,0,0,0,5250934,-13127,5237807,0,210653,5237807,0,5237807,436484,15002,5237807]
[331001,"International School of LA",1069,null,12005875.406638846,null,764131.89,674,null,321342.83811798884,18,null,2350.4275188657125,103,null,336712.60413317231,0,null,0,13430413,0,0,0,13430413,-33576,13396837,0,990468,13396837,0,13396837,1116403,0,13396837]
[333001,"Avoyelles Public Charter",701,null,5541632.4445059393,null,375820.12,413,null,291419.86191625835,129,null,24811.47672546433,54,null,259459.99247538153,43,null,82749.641618308015,6575893,0,0,0,6575893,-16440,6559453,0,262215,6559453,0,6559453,546621,10000,6559453]
[336001,"Delhi Charter School",630,null,6113859.1960363733,null,332022.59999999998,490,null,312349.84388192772,367,null,64010.772633151508,51,null,223331.26432133312,1,null,1925.4499164370441,7047498,0,0,0,7047498,-17619,7029879,0,322787,7029879,0,7029879,585824,30185,7029879]
[337001,"Belle Chasse Academy",783,null,15730952.845260382,null,617708.69999999995,346,null,127175.4669356439,118,null,11716.234131145487,132,null,330261.81767611927,66,null,65383.353862354175,16883198,0,0,0,16883198,-42209,16840989,0,562997,16840989,0,16840989,1403415,0,16840989]
[340001,"The MAX",100,null,979443.64033284155,null,65921,82,null,49661.727367024258,0,null,0,26,null,107988.77522290274,0,null,0,1203016,0,0,0,1203016,-3007,1200009,0,69590,1200009,0,1200009,100001,0,1200009]
["State Total",null,3934,null,46949007.736850299,null,2568271.1100000003,2513,null,1422876.979887753,788,null,129693.85471792694,428,null,1525108.8966504291,111,null,151745.47835854071,52746703,0,0,0,52746703,-131867,52614836,0,2505912,52614836,0,52614836,4384571,55187,52614836]

{"sheet":"5A3_OJJ","index":17,"n_rows":87,"n_cols":21,"rows_kept":87,"cut":false,"hidden":false,"merged":[[87,0,87,1],[83,0,83,1],[81,0,81,1],[86,0,86,1],[84,0,84,1],[80,0,80,1],[79,0,79,1],[85,0,85,1],[1,13,2,13],[0,20,2,20],[1,14,2,14],[1,15,2,15],[1,16,2,16],[1,17,2,17],[1,18,2,18],[0,19,2,19],[0,11,0,18],[1,11,2,11],[1,12,2,12],[0,2,0,10],[76,0,76,1],[78,0,78,1],[77,0,77,1],[1,3,2,3],[0,0,2,1],[75,0,75,1],[5,0,5,1],[1,10,2,10],[1,9,2,9],[1,2,2,2],[1,8,2,8],[3,0,3,1],[1,6,2,6],[1,7,2,7]]}
["Table 5A3\nOffice of Juvenile\nJustice (OJJ)\n",null,"MFP State Cost Allocation for Youth in Secure Care\nBased on FY2020-21 Average Daily Membership (ADM)",null,null,null,null,null,null,null,null,"MFP Local Revenue Representation \nfor Youth in Secure Care",null,null,null,null,null,null,null,"Total\nState Cost\nAllocation\nand\nLocal Revenue\nRepresentation\nPayment","State Cost\nAllocation\nand\nLocal Revenue\nRepresentation\nMonthly\nPayment\n"]
[null,null,"ADM for\nYouth in\nSecure\nCare","Levels 1, 2, & 3\nState Cost\nAllocation\nPer Pupil\n(With\nContinuation\nof Prior Year\nPay Raises)","Per Pupil\nAmount\nAdjusted for\nYear Round\nSchool","Per Pupil\nAmount\nAdjusted for\nYear Round\nSchool & 50%\nSpecial Ed","Total\nState Cost\nAllocation\n+ Monthly Level 4","Year To\nDate\nState\nPayments","Balance\nDue","State Cost\nAllocation\nMonthly\nPayment\n","Total\nState Cost\nAllocation\n+ Total\nLevel 4\nFunds","Levels 1 and 2\nLocal Revenue\nRepresentation","Feb. 1\nMFP\nFunded\nMembership","Feb. 1\nMFP\nFunded\nMembership\n+ OJJ ADM","Adjusted\nLocal\nRevenue\nRepresentation\nPer Pupil\nincluding\nOJJ","Total Local\nRevenue\nRepresentation\n for OJJ\nSecure Care\nStudents","Year To\nDate\nPayments","Balance\nDue","Local\nRevenue\nRepresentation\nMonthly\nPayment\n"]
[null,null,null,null,0.31638418079096048,1470.3473918621949]
["FY2024-25",null,1,2,3,4,5,6,7,8,9,10,11,12,13,14,15,16,17,18,19]
["July 2024",null,"Link to OJJ ADM","Link in File","Formula","Formula","T4, C2; T4, C14","Link to Prior Month","Formula","Formula","T4, C7; T4, C9; T4, C10","Link in File","Link in File","Formula","Formula","Formula","Link to Prior Month","Formula","Formula","Formula","Formula"]
["July 2024",null,"Link to OJJ Tab in Student Count File","T3, C34","C2 x 131.64%","C3 + $1,470","C1 x C4\n","Prior Month File: (T5A3,\nC6 + C8)","C5 - C6","C7 ÷ Months Remaining","C5","T3, C37","T3, C1","C1 + C11","C10 ÷ C12","C1 x C13","Prior Month File: (T5A3,\nC15 + C17)","C14 - C15","C16 ÷ Months Remaining","C5 + C14","C8 + C17"]
[1,"Acadia",8.4525159999999993,6350.8686164229475,8360.1829809409428,9830.5303728031377,83093,null,83093,6924,83093,28651538.600000001,8890,8898.4525159999994,3219.8338473439803,27216,null,27216,2268,110309,9192]
[2,"Allen",1,7537.5634899328861,9922.3293398551541,11392.676731717349,11393,null,11393,949,11393,11241907.32,3725,3726,3017.1517230273753,3017,null,3017,251,14410,1200]
[3,"Ascension",0.88268100000000005,4848.6319245664254,6382.6623639772715,7853.0097558394664,6932,null,6932,578,6932,91349190.599999994,23756,23756.882680999999,3845.1673911349562,3394,null,3394,283,10326,861]
[4,"Assumption",1.709497,6751.883239171375,8888.0722865928274,10358.419678455022,17708,null,17708,1476,17708,9788480.8599999994,2655,2656.7094969999998,3684.4377870645299,6299,null,6299,525,24007,2001]
[5,"Avoyelles",0.38547399999999998,6838.0126085159154,9001.4516258994809,10471.799017761676,4037,null,4037,336,4037,15317787,4838,4838.3854739999997,3165.8881009611764,1220,null,1220,102,5257,438]
[6,"Beauregard",3.145251,6023.1961808683118,7928.8401702955744,9399.1875621577692,29563,null,29563,2464,29563,19955135.559999999,5551,5554.1452509999999,3592.8364596527545,11300,null,11300,942,40863,3406]
[7,"Bienville",0,4208.1943048576213,5539.6004126091848,7009.9478044713796,0,null,0,0,0,10296657,1791,1791,5749.1105527638192,0,null,0,0,0,0]
[8,"Bossier",3.5754199999999998,6044.5174067982452,7956.9070948248082,9427.254486687003,33706,null,33706,2809,33706,77324922.219999999,21888,21891.575420000001,3532.1771383048317,12629,null,12629,1052,46335,3861]
[9,"Caddo",27.871510000000001,5401.5190862371146,7110.4742773629814,8580.8216692251772,239160,null,239160,19930,239160,132432507.56,33663,33690.871509999997,3930.812758010486,109558,null,109558,9130,348718,29060]
[10,"Calcasieu",13.513966,4605.6124622102789,6062.7553881073163,7533.1027799695112,101802,null,101802,8484,101802,135241361.75999999,29770,29783.513965999999,4540.8128105497435,61364,null,61364,5114,163166,13598]
[11,"Caldwell",0,8216.04347826087,10815.469663473348,12285.817055335543,0,null,0,0,0,4941789.0999999996,1403,1403,3522.3015680684243,0,null,0,0,0,0]
[12,"Cameron",0,2817.0734883720929,3708.3509762186309,5178.6983680808262,0,null,0,0,0,7407102.3799999999,1075,1075,6890.3277953488368,0,null,0,0,0,0]
[13,"Catahoula",0,7348.8281718281714,9673.8811527455582,11144.228544607753,0,null,0,0,0,3520814.06,1001,1001,3517.2967632367631,0,null,0,0,0,0]
[14,"Claiborne",0,7926.2378011117971,10433.974054570897,11904.321446433092,0,null,0,0,0,6308210.4800000004,1619,1619,3896.362248301421,0,null,0,0,0,0]
[15,"Concordia",0.74301700000000004,7239.2696032489848,9529.6599861978157,11000.007378060011,8173,null,8173,681,8173,10442129.16,3201,3201.7430169999998,3261.3889074033705,2423,null,2423,202,10596,883]
[16,"DeSoto",2.9329619999999998,3084.3246040126714,4060.1561171466237,5530.5035090088186,16221,null,16221,1352,16221,26724194.379999999,4735,4737.9329619999999,5640.4754128726736,16543,null,16543,1379,32764,2731]
[17,"East Baton Rouge",26.541896999999999,4431.4947863653842,5833.5496340290083,7303.8970258912032,193859,null,193859,16155,193859,206151761.08000001,44211,44237.541897000003,4660.1088631911607,123688,null,123688,10307,317547,26462]
[18,"East Carroll",1.1843570000000001,7307.8618331053349,9619.9537125058923,11090.301104368087,13135,null,13135,1095,13135,2765870.32,731,732.18435699999998,3777.5599731912871,4474,null,4474,373,17609,1468]
[19,"East Feliciana",0,5375.9294403892945,7076.7884723768675,8547.1358642390624,0,null,0,0,0,8113844.7000000002,1644,1644,4935.4286496350369,0,null,0,0,0,0]
[20,"Evangeline",2.184358,7234.2421233530649,9523.0418911935831,10993.389283055778,24013,null,24013,2001,24013,17112043.699999999,5237,5239.1843580000004,3266.1655957707753,7134,null,7134,595,31147,2596]
[21,"Franklin",1.8882680000000001,7474.9716484406645,9839.934429868219,11310.281821730414,21357,null,21357,1780,21357,8741644.8800000008,2469,2470.8882680000002,3537.8551888449861,6680,null,6680,557,28037,2337]
[22,"Grant",2.2011180000000001,8050.5609118086695,10597.631030798982,12067.978422661177,26563,null,26563,2214,26563,7985710,2676,2678.201118,2981.7439572885728,6563,null,6563,547,33126,2761]
[23,"Iberia",5.1117330000000001,6311.858462101125,8308.8306309014806,9779.1780227636755,49989,null,49989,4166,49989,37675333.079999998,10937,10942.111733,3443.1500974693986,17600,null,17600,1467,67589,5633]
[24,"Iberville",2.122906,2880.7539161192522,3792.1788839309929,5262.5262757931878,11172,null,11172,931,11172,26030805.82,3958,3960.1229060000001,6573.2318005990692,13954,null,13954,1163,25126,2094]
[25,"Jackson",0.54189900000000002,6351.9572139303482,8361.6159934789321,9831.9633853411269,5328,null,5328,444,5328,7887135.6200000001,2010,2010.5418990000001,3922.8904525306784,2126,null,2126,177,7454,621]
[26,"Jefferson",9.3519579999999998,4967.0877304906153,6538.5957130187198,8008.9431048809147,74899,null,74899,6242,74899,221244389.59999999,48592,48601.351957999999,4552.227061321124,42572,null,42572,3548,117471,9790]
[27,"Jefferson Davis",2.4860340000000001,6832.9781846513442,8994.8243899647641,10465.171781826959,26017,null,26017,2168,26017,17491745.460000001,5134,5136.4860339999996,3405.3914182218532,8466,null,8466,706,34483,2874]
[28,"Lafayette",12.810055,4732.358548675681,6229.6019313075349,7699.9493231697297,98637,null,98637,8220,98637,137370514.84,34093,34105.810055000002,4027.7745820572036,51596,null,51596,4300,150233,12520]
[29,"Lafourche",4.1117319999999999,5637.9456076467914,7421.7024100661147,8892.0498019283095,36562,null,36562,3047,36562,46589809.560000002,13182,13186.111731999999,3533.2485047078776,14528,null,14528,1211,51090,4258]
[30,"LaSalle",0,7075.3512154233022,9313.8804135233295,10784.227805385524,0,null,0,0,0,7933037.8799999999,2386,2386,3324.8272757753562,0,null,0,0,0,0]
[31,"Lincoln",3.290502,5669.8283918788266,7463.6724028687377,8934.0197947309316,29397,null,29397,2450,29397,25209900.039999999,6206,6209.2905019999998,4060.0290857514142,13360,null,13360,1113,42757,3563]
[32,"Livingston",1.145251,6844.5047583643127,9009.997789259236,10480.345181121431,12003,null,12003,1000,12003,78250391.680000007,26900,26901.145251000002,2908.8126527658219,3331,null,3331,278,15334,1278]
[33,"Madison",2.430167,6973.1317512274964,9179.3203278870424,10649.667719749237,25880,null,25880,2157,25880,4942143.5,1222,1224.430167,4036.2804128787852,9809,null,9809,817,35689,2974]
[34,"Morehouse",0.45251400000000003,7209.6011360050488,9490.6048852495842,10960.952277111779,4960,null,4960,413,4960,11603278.84,3169,3169.4525140000001,3660.9726092271089,1657,null,1657,138,6617,551]
[35,"Natchitoches",0.43016799999999999,5399.0368826838921,7107.206743872016,8577.5541357342117,3690,null,3690,308,3690,20239244.800000001,4799,4799.4301679999999,4217.0099556702207,1814,null,1814,151,5504,459]
[36,"Orleans",24.899443000000002,4366.8829448794022,5748.4956280050883,7218.8430198672831,179745,null,179745,14979,179745,211956151.44,44321,44345.899443000002,4779.6110599230897,119010,null,119010,9918,298755,24897]
[37,"Ouachita",8.2011160000000007,6383.1680851063829,8402.7014905637698,9873.0488824259646,80970,null,80970,6748,80970,55587839.280000001,17390,17398.201116,3195.0337227036339,26203,null,26203,2184,107173,8932]
[38,"Plaquemines",0.86033599999999999,2873.9636363636364,3783.240267077555,5253.5876589397503,4520,null,4520,377,4520,24466515.359999999,3575,3575.8603360000002,6842.133937302634,5887,null,5887,491,10407,868]
[39,"Pointe Coupee",1,4281.4233128834358,5635.9979203493813,7106.3453122115761,7106,null,7106,592,7106,13558841.24,2282,2283,5939.0456592203245,5939,null,5939,495,13045,1087]
[40,"Rapides",8.039104,6236.8456861609729,8210.0849992966487,9680.4323911588435,77822,null,77822,6485,77822,73162756.060000002,20724,20732.039103999999,3528.9705799312392,28370,null,28370,2364,106192,8849]
[41,"Red River",0,2715.7694300518133,3574.9959163958897,5045.343308258085,0,null,0,0,0,8361632.8200000003,1158,1158,7220.7537305699489,0,null,0,0,0,0]
[42,"Richland",1.6592180000000001,6188.2182021633716,8146.0725486105403,9616.4199404727351,15956,null,15956,1330,15956,10887189.32,2681,2682.6592179999998,4058.3571878789417,6734,null,6734,561,22690,1891]
[43,"Sabine",1.636871,5858.966722595078,7712.6511094048201,9182.9985012670149,15031,null,15031,1253,15031,14698245.48,3576,3577.6368710000002,4108.3670618286178,6725,null,6725,560,21756,1813]
[44,"St. Bernard",2.2681559999999998,5832.9427111350187,7678.3935123980755,9148.7409042602703,20751,null,20751,1729,20751,26048887.800000001,7436,7438.2681560000001,3502.0097761584384,7943,null,7943,662,28694,2391]
[45,"St. Charles",0,3025.1497470489039,3982.2592715389524,5452.6066634011477,0,null,0,0,0,51523280.299999997,8895,8895,5792.3867678471051,0,null,0,0,0,0]
[46,"St. Helena",0.379888,8115.0823643410849,10682.566050234309,12152.913442096504,4617,null,4617,385,4617,3688947.64,1032,1032.3798879999999,3573.2463242251774,1357,null,1357,113,5974,498]
[47,"St. James",0,3903.8187640089659,5138.9252656163226,6609.2726574785174,0,null,0,0,0,18962926.260000002,3123,3123,6072.0224975984638,0,null,0,0,0,0]
[48,"St. John the Baptist",1,4422.8363017810689,5822.1517418925932,7292.4991337547881,7292,null,7292,608,7292,26202774.879999999,4997,4998,5242.6520368147258,5243,null,5243,437,12535,1045]
[49,"St. Landry",10.284917999999999,6196.9380877090789,8157.5512680012171,9627.898659863411,99022,null,99022,8252,99022,41890301.359999999,12017,12027.284917999999,3482.9391376026269,35822,null,35822,2985,134844,11237]
[50,"St. Martin",1.4916199999999999,6025.4431440543276,7931.7980370884652,9402.1454289506601,14024,null,14024,1169,14024,24863886.859999999,6921,6922.4916199999998,3591.7539846729351,5358,null,5358,447,19382,1616]
[51,"St. Mary",1.7318439999999999,6184.1704886704883,8140.7442026001345,9611.0915944623302,16645,null,16645,1387,16645,28735306.48,7326,7327.7318439999999,3921.4462389925852,6791,null,6791,566,23436,1953]
[52,"St. Tammany",6.0335200000000002,5542.7547983195582,7296.3947345110564,8766.7421263732504,52894,null,52894,4408,52894,144460501.03999999,36419,36425.033519999997,3965.9675525262223,23929,null,23929,1994,76823,6402]
[53,"Tangipahoa",2.9106160000000001,6524.8577522645883,8589.2195269923668,10059.566918854562,29280,null,29280,2440,29280,64240749.240000002,18988,18990.910616000001,3382.7103154219803,9846,null,9846,821,39126,3261]
[54,"Tensas",1.3687149999999999,5974.954929577465,7865.3361502347416,9335.6835420969364,12778,null,12778,1065,12778,1974239.52,355,356.36871500000001,5539.878886394391,7583,null,7583,632,20361,1697]
[55,"Terrebonne",5.6592180000000001,5417.4302788844625,7131.4195196614673,8601.7669115236622,48679,null,48679,4057,48679,56807418.759999998,14558,14563.659218000001,3900.6281257795904,22075,null,22075,1840,70754,5897]
[56,"Union",0,6757.2382160986226,8895.1214935083553,10365.46888537055,0,null,0,0,0,9462545.5399999991,2758,2758,3430.9447208121824,0,null,0,0,0,0]
[57,"Vermilion",1.1899439999999999,6589.7470433639946,8674.638763298366,10144.986155160561,12072,null,12072,1006,12072,28062686.280000001,9132,9133.1899439999997,3072.605130525686,3656,null,3656,305,15728,1311]
[58,"Vernon",0,6920.3288643533124,9109.8114429057732,10580.158834767968,0,null,0,0,0,21966653.039999999,7608,7608,2887.3098107255519,0,null,0,0,0,0]
[59,"Washington",0.38547500000000001,7898.3806843764069,10397.303386777981,11867.650778640176,4575,null,4575,381,4575,10894471,4442,4442.385475,2452.3920900853386,945,null,945,79,5520,460]
[60,"Webster",1.296089,6484.5997975708506,8536.2245922825314,10006.571984144726,12969,null,12969,1081,12969,18573005.760000002,4940,4941.2960890000004,3758.7316010764966,4872,null,4872,406,17841,1487]
[61,"West Baton Rouge",3.4301689999999998,3841.9335139128293,5057.4605013654755,6527.8078932276703,22391,null,22391,1866,22391,22581477.940000001,4061,4064.4301690000002,5555.8779462450157,19058,null,19058,1588,41449,3454]
[62,"West Carroll",0,7303.5296074517628,9614.2508391879128,11084.598231050108,0,null,0,0,0,5211710.8,1503,1503,3467.5387890884895,0,null,0,0,0,0]
[63,"West Feliciana",0,4506.5514775977117,5932.3530750297559,7402.7004668919508,0,null,0,0,0,11415640.039999999,2098,2098,5441.2011630123925,0,null,0,0,0,0]
[64,"Winn",0,7082.8057803468209,9323.6934848633282,10794.040876725523,0,null,0,0,0,6516686.2400000002,1730,1730,3766.8706589595376,0,null,0,0,0,0]
[65,"City of Monroe",3.480448,6148.3357737944962,8093.5719508142238,9563.9193426764177,33287,null,33287,2774,33287,30946756.079999998,7922,7925.4804480000003,3904.7167276539594,13590,null,13590,1133,46877,3907]
[66,"City of Bogalusa",0,7067.6757044125461,9303.7764922492843,10774.123884111479,0,null,0,0,0,8094179.5999999996,1881,1881,4303.1257841573633,0,null,0,0,0,0]
[67,"Zachary Community",0,6551.4369214013432,8624.2079247825586,10094.555316644753,0,null,0,0,0,17895916.98,5509,5509,3248.4873806498458,0,null,0,0,0,0]
[68,"City of Baker",8.9385000000000006E-2,7004.49481865285,9220.6061737068594,10690.953565569054,956,null,956,80,956,5391822.7000000002,1544,1544.089385,3491.9109945179762,312,null,312,26,1268,106]
[69,"Central Community",0.52514000000000005,6975.8778155546115,9182.9352035266911,10653.282595388886,5594,null,5594,466,5594,14907817.060000001,4706,4706.5251399999997,3167.4784722386507,1663,null,1663,139,7257,605]
["State Subtotal",null,232.31844400000008,null,null,null,1988225,0,1988225,165692,1988225,2598282093.6399999,646725,646957.31844400009,null,953226,0,953226,79442,2941451,245134]
["Level 4 Allocations"]
["Int'l Assoc/Escadrille Salaries",null,null,null,null,null,0,null,0,0,0,null,null,null,null,null,null,null,null,0,0]
["Int'l Assoc/Escadrille Stipends",null,null,null,null,null,null,null,null,null,0,null,null,null,null,null,null,null,null,0,0]
["Career Development Fund",null,null,null,null,null,null,null,null,null,21690,null,null,null,null,null,null,null,null,0,0]
["High Cost Services Allocation",null,null,null,null,null,null,null,null,null,0,null,null,null,null,null,null,null,null,0,0]
["Supplemental Course Allocation",null,null,null,null,null,16520,null,16520,1377,16520,null,null,null,null,null,null,null,null,16520,1377]
["Mentor Teacher Stipend Allocation",null,null,null,null,null,null,null,null,null,null,null,null,null,null,null,null,null,null,null,0]
["FY2019-20 Pay Raise",null,null,null,null,null,49848,null,49848,4154,49848,null,null,null,null,null,null,null,null,49848,4154]
["FY2021-22 Pay Raise",null,null,null,null,null,39878,null,39878,3323,39878,null,null,null,null,null,null,null,null,39878,3323]
["FY2022-23 Pay Raise",null,null,null,null,null,74772,null,74772,6231,74772,null,null,null,null,null,null,null,null,74772,6231]
["State Grand Total With Level 4",null,232.31844400000008,null,null,null,2169243,0,2169243,180777,2190933,2598282093.6399999,646725,646957.31844400009,null,953226,0,953226,79442,3122469,260219]

{"sheet":"5A4_NOCCA","index":18,"n_rows":87,"n_cols":15,"rows_kept":87,"cut":false,"hidden":false,"merged":[[84,0,84,1],[86,0,86,1],[85,0,85,1],[83,0,83,1],[80,0,80,1],[81,0,81,1],[0,2,0,7],[77,0,77,1],[78,0,78,1],[79,0,79,1],[0,8,0,14],[1,5,1,7],[75,0,75,1],[76,0,76,1],[0,0,2,1],[3,0,3,1],[5,0,5,1]]}
["Table 5A4\nNew Orleans Center for Creative Arts (NOCCA)\n\n(Site Code 334001)",null,"MFP State Cost Allocation",null,null,null,null,null,"MFP State Cost Allocation"]
[null,null,null,null,null,"Mid-Year Adjustment for Students"]
[null,null,"Feb. 1\nMFP Funded\nMembership\n","State Cost &\nLocal Cost\nAllocation\nPer Pupil\n\n(Levels 1, 2,\n& 3 without\nContinuation\nof Prior Year\nPay Raises)","State Cost &\nLocal Cost\nAllocation\n\n(Levels 1, 2,\n& 3 without\nContinuation\nof Prior Year\nPay Raises)","October\n\nMid-Year\nAdjustment\nfor Students","February\n\nMid-Year\nAdjustment\nfor Students","Total\nMid-Year\nAdjustment\nfor Students","Total MFP\nState Cost &\nLocal Cost\nAllocation\n+/- Mid-Year\nAdjustments","Prior Years\nMFP Audit\nAdjustments\n\n","Total MFP\nState Cost &\nLocal Cost\nAllocation\n+/- Mid-Year Adjs\n+/- Audit Adjs\n+ Monthly Level 4","Year To\nDate\nState\nPayments","Balance\nDue","Monthly\nPayment","Total MFP\nState Cost &\nLocal Cost\nAllocation\n+/- Mid-Year Adjs\n+/- Audit Adjs\n+ Total Level 4"]
["FY2024-25",null,1,2,3,4,5,6,7,8,9,10,11,12,13]
["July 2024",null,null,"Link in File","Formula","Link to Mid-Year File","Link to Mid-Year File","Formula","Formula","Link to Audit File","T4, C2; T4, C14","Link to Prior Month,","Formula","Formula","T4, C7; T4, C9; T4, C10"]
["July 2024",null,"T8, C46","T9, C17","C1 x C2","Link to October Tab in Mid-Year File","Link to February Tab in Mid-Year File","C4 + C5 ","C3 + C6","Link to Audit File","C7 + C8","Prior Month File: (T5A4, C10 + C12)","C9 - C10","C11 ÷ Remaining Months","C9"]
[1,"Acadia",0,9573.7686389201353,0,null,null,0,0,null,0,null,0,0,0]
[2,"Allen",0,10555.523489932886,0,null,null,0,0,null,0,null,0,0,0]
[3,"Ascension",0,8693.9419262502106,0,null,null,0,0,null,0,null,0,0,0]
[4,"Assumption",0,10438.693163841808,0,null,null,0,0,null,0,null,0,0,0]
[5,"Avoyelles",0,10004.152521703183,0,null,null,0,0,null,0,null,0,0,0]
[6,"Beauregard",0,9618.066267339218,0,null,null,0,0,null,0,null,0,0,0]
[7,"Bienville",0,9957.3041485203794,0,null,null,0,0,null,0,null,0,0,0]
[8,"Bossier",0,9577.2674013157884,0,null,null,0,0,null,0,null,0,0,0]
[9,"Caddo",0,9335.5890826723698,0,null,null,0,0,null,0,null,0,0,0]
[10,"Calcasieu",0,9148.482455492107,0,null,null,0,0,null,0,null,0,0,0]
[11,"Caldwell",0,11738.343228795438,0,null,null,0,0,null,0,null,0,0,0]
[12,"Cameron",0,9707.4037209302332,0,null,null,0,0,null,0,null,0,0,0]
[13,"Catahoula",0,10866.128601398603,0,null,null,0,0,null,0,null,0,0,0]
[14,"Claiborne",0,11822.597566399012,0,null,null,0,0,null,0,null,0,0,0]
[15,"Concordia",0,10501.419540768509,0,null,null,0,0,null,0,null,0,0,0]
[16,"DeSoto",0,8728.2945089757122,0,null,null,0,0,null,0,null,0,0,0]
[17,"East Baton Rouge",1,9094.4047926986495,9094,null,null,0,9094,null,9094,null,9094,758,9094]
[18,"East Carroll",0,11091.542448700409,0,null,null,0,0,null,0,null,0,0,0]
[19,"East Feliciana",0,10311.359391727496,0,null,null,0,0,null,0,null,0,0,0]
[20,"Evangeline",0,10501.772178728279,0,null,null,0,0,null,0,null,0,0,0]
[21,"Franklin",0,11015.531709194005,0,null,null,0,0,null,0,null,0,0,0]
[22,"Grant",0,11034.761046337817,0,null,null,0,0,null,0,null,0,0,0]
[23,"Iberia",0,9756.6185041601893,0,null,null,0,0,null,0,null,0,0,0]
[24,"Iberville",0,9457.5137897928253,0,null,null,0,0,null,0,null,0,0,0]
[25,"Jackson",0,10275.90736318408,0,null,null,0,0,null,0,null,0,0,0]
[26,"Jefferson",43,9520.1877378992431,409368,null,null,0,409368,null,409368,null,409368,34114,409368]
[27,"Jefferson Davis",0,10240.018192442541,0,null,null,0,0,null,0,null,0,0,0]
[28,"Lafayette",0,8761.6485545419891,0,null,null,0,0,null,0,null,0,0,0]
[29,"Lafourche",1,9172.2956000606882,9172,null,null,0,9172,null,9172,null,9172,764,9172]
[30,"LaSalle",0,10400.181056160938,0,null,null,0,0,null,0,null,0,0,0]
[31,"Lincoln",0,9732.0083886561388,0,null,null,0,0,null,0,null,0,0,0]
[32,"Livingston",0,9753.4447583643123,0,null,null,0,0,null,0,null,0,0,0]
[33,"Madison",0,11017.441603927988,0,null,null,0,0,null,0,null,0,0,0]
[34,"Morehouse",0,10871.101006626695,0,null,null,0,0,null,0,null,0,0,0]
[35,"Natchitoches",0,9616.4268910189639,0,null,null,0,0,null,0,null,0,0,0]
[36,"Orleans",136,9162.1733473973964,1246056,null,null,0,1246056,null,1246056,null,1246056,103838,1246056]
[37,"Ouachita",0,9579.7080793559508,0,null,null,0,0,null,0,null,0,0,0]
[38,"Plaquemines",3,9717.7436363636371,29153,null,null,0,29153,null,29153,null,29153,2429,29153]
[39,"Pointe Coupee",0,10223.073365468887,0,null,null,0,0,null,0,null,0,0,0]
[40,"Rapides",0,9767.1857093225262,0,null,null,0,0,null,0,null,0,0,0]
[41,"Red River",0,9936.5192227979278,0,null,null,0,0,null,0,null,0,0,0]
[42,"Richland",0,10249.088082804923,0,null,null,0,0,null,0,null,0,0,0]
[43,"Sabine",0,9969.2168232662189,0,null,null,0,0,null,0,null,0,0,0]
[44,"St. Bernard",5,9336.022678859601,46680,null,null,0,46680,null,46680,null,46680,3890,46680]
[45,"St. Charles",6,8817.5397695334468,52905,null,null,0,52905,null,52905,null,52905,4409,52905]
[46,"St. Helena",0,11689.642286821705,0,null,null,0,0,null,0,null,0,0,0]
[47,"St. James",0,9975.8389177073332,0,null,null,0,0,null,0,null,0,0,0]
[48,"St. John the Baptist",5,9666.5362597558524,48333,null,null,0,48333,null,48333,null,48333,4028,48333]
[49,"St. Landry",0,9682.8581276524928,0,null,null,0,0,null,0,null,0,0,0]
[50,"St. Martin",0,9617.9730949284785,0,null,null,0,0,null,0,null,0,0,0]
[51,"St. Mary",0,10106.540510510509,0,null,null,0,0,null,0,null,0,0,0]
[52,"St. Tammany",24,9509.3747991433047,228225,null,null,0,228225,null,228225,null,228225,19019,228225]
[53,"Tangipahoa",2,9908.0877585843682,19816,null,null,0,19816,null,19816,null,19816,1651,19816]
[54,"Tensas",0,11536.194225352112,0,null,null,0,0,null,0,null,0,0,0]
[55,"Terrebonne",0,9319.5702871273534,0,null,null,0,0,null,0,null,0,0,0]
[56,"Union",0,10188.178317621465,0,null,null,0,0,null,0,null,0,0,0]
[57,"Vermilion",0,9662.7570784056079,0,null,null,0,0,null,0,null,0,0,0]
[58,"Vernon",0,9807.6389064143004,0,null,null,0,0,null,0,null,0,0,0]
[59,"Washington",0,10350.980648356597,0,null,null,0,0,null,0,null,0,0,0]
[60,"Webster",0,10244.31971659919,0,null,null,0,0,null,0,null,0,0,0]
[61,"West Baton Rouge",0,9402.503590248707,0,null,null,0,0,null,0,null,0,0,0]
[62,"West Carroll",0,10771.069767132401,0,null,null,0,0,null,0,null,0,0,0]
[63,"West Feliciana",0,9947.7516777883684,0,null,null,0,0,null,0,null,0,0,0]
[64,"Winn",0,10849.675664739883,0,null,null,0,0,null,0,null,0,0,0]
[65,"City of Monroe",0,10054.765728351425,0,null,null,0,0,null,0,null,0,0,0]
[66,"City of Bogalusa",0,11370.80562998405,0,null,null,0,0,null,0,null,0,0,0]
[67,"Zachary Community",0,9799.9270103467061,0,null,null,0,0,null,0,null,0,0,0]
[68,"City of Baker",0,10496.604689119171,0,null,null,0,0,null,0,null,0,0,0]
[69,"Central Community",0,10143.707819804506,0,null,null,0,0,null,0,null,0,0,0]
["State Subtotal",null,226,null,2098802,0,0,0,2098802,0,2098802,0,2098802,174900,2098802]
["Level 4 Allocations"]
["Int'l Assoc/Escadrille Salaries",null,null,null,null,null,null,null,null,null,0,null,0,0,0]
["Int'l Assoc/Escadrille Stipends",null,null,null,null,null,null,null,null,null,null,null,null,null,0]
["Career Development Fund",null,null,null,null,null,null,null,null,null,null,null,null,null,10000]
["High Cost Services Allocation",null,null,null,null,null,null,null,null,null,null,null,null,null,0]
["Supplemental Course Allocation",null,null,null,null,null,null,null,null,null,15820,null,15820,1318,15820]
["Mentor Teacher Stipend Allocation",null,null,null,null,null,null,null,null,null,null,null,null,null,0]
["FY2019-20 Pay Raise",null,null,null,null,null,null,null,null,null,99448,null,99448,8287,99448]
["FY2021-22 Pay Raise",null,null,null,null,null,null,null,null,null,79559,null,79559,6630,79559]
["FY2022-23 Pay Raise",null,null,null,null,null,null,null,null,null,149173,null,149173,12431,149173]
["State Grand Total With Level 4",null,226,null,2098802,0,0,0,2098802,0,2442802,0,2442802,203566,2452802]

{"sheet":"5A5_LSMSA","index":19,"n_rows":87,"n_cols":15,"rows_kept":87,"cut":false,"hidden":false,"merged":[[87,0,87,1],[3,0,3,1],[5,0,5,1],[0,8,0,14],[86,0,86,1],[76,0,76,1],[79,0,79,1],[80,0,80,1],[81,0,81,1],[78,0,78,1],[75,0,75,1],[77,0,77,1],[0,0,2,1],[1,5,1,7],[0,2,0,7],[83,0,83,1],[84,0,84,1],[85,0,85,1]]}
["Table 5A5\nLouisiana School\nfor Math, Science\nand the Arts\n(LSMSA)\n\n(Site Code 302006)",null,"MFP State Cost Allocation",null,null,null,null,null,"MFP State Cost Allocation"]
[null,null,null,null,null,"Mid-Year Adjustment for Students"]
[null,null,"Feb. 1\nMFP Funded\nMembership\n","State Cost &\nLocal Cost\nAllocation\nPer Pupil\n\n(Levels 1, 2,\n& 3 without\nContinuation\nof Prior Year\nPay Raises)","State Cost &\nLocal Cost\nAllocation\n\n(Levels 1, 2,\n& 3 without\nContinuation\nof Prior Year\nPay Raises)","October\n\nMid-Year\nAdjustment\nfor Students","February\n\nMid-Year\nAdjustment\nfor Students","Total\nMid-Year\nAdjustment\nfor Students","Total MFP\nState Cost &\nLocal Cost\nAllocation\n+/- Mid-Year\nAdjustments","Prior Years\nMFP Audit\nAdjustments\n\n","Total MFP\nState Cost &\nLocal Cost\nAllocation\n+/- Mid-Year Adjs\n+/- Audit Adjs\n+ Monthly Level 4","Year To\nDate\nState\nPayments","Balance\nDue","Monthly\nPayment","Total MFP\nState Cost &\nLocal Cost\nAllocation\n+/- Mid-Year Adjs\n+/- Audit Adjs\n+ Total Level 4"]
["FY2024-25",null,1,2,3,4,5,6,7,8,9,10,11,12,13]
["July 2024",null,null,"Link in File","Formula","Link to Mid-Year File","Link to Mid-Year File","Formula","Formula","Link to Audit File","T4, C2; T4, C14","Link to Prior Month,","Formula","Formula","T4, C7; T4, C9; T4, C10"]
["July 2024",null,"T8, C46","T9, C17","C1 x C2","Link to October Tab in Mid-Year File","Link to February Tab in Mid-Year File","C4 + C5 ","C3 + C6","Link to Audit File","C7 + C8","Prior Month File: (T5A4, C10 + C12)","C9 - C10","C11 ÷ Remaining Months","C9"]
[1,"Acadia",1,9573.7686389201353,9574,null,null,0,9574,null,9574,null,9574,798,9574]
[2,"Allen",2,10555.523489932886,21111,null,null,0,21111,null,21111,null,21111,1759,21111]
[3,"Ascension",6,8693.9419262502106,52164,null,null,0,52164,null,52164,null,52164,4347,52164]
[4,"Assumption",1,10438.693163841808,10439,null,null,0,10439,null,10439,null,10439,870,10439]
[5,"Avoyelles",1,10004.152521703183,10004,null,null,0,10004,null,10004,null,10004,834,10004]
[6,"Beauregard",5,9618.066267339218,48090,null,null,0,48090,null,48090,null,48090,4008,48090]
[7,"Bienville",3,9957.3041485203794,29872,null,null,0,29872,null,29872,null,29872,2489,29872]
[8,"Bossier",8,9577.2674013157884,76618,null,null,0,76618,null,76618,null,76618,6385,76618]
[9,"Caddo",4,9335.5890826723698,37342,null,null,0,37342,null,37342,null,37342,3112,37342]
[10,"Calcasieu",20,9148.482455492107,182970,null,null,0,182970,null,182970,null,182970,15248,182970]
[11,"Caldwell",2,11738.343228795438,23477,null,null,0,23477,null,23477,null,23477,1956,23477]
[12,"Cameron",0,9707.4037209302332,0,null,null,0,0,null,0,null,0,0,0]
[13,"Catahoula",1,10866.128601398603,10866,null,null,0,10866,null,10866,null,10866,906,10866]
[14,"Claiborne",1,11822.597566399012,11823,null,null,0,11823,null,11823,null,11823,985,11823]
[15,"Concordia",0,10501.419540768509,0,null,null,0,0,null,0,null,0,0,0]
[16,"DeSoto",3,8728.2945089757122,26185,null,null,0,26185,null,26185,null,26185,2182,26185]
[17,"East Baton Rouge",9,9094.4047926986495,81850,null,null,0,81850,null,81850,null,81850,6821,81850]
[18,"East Carroll",0,11091.542448700409,0,null,null,0,0,null,0,null,0,0,0]
[19,"East Feliciana",0,10311.359391727496,0,null,null,0,0,null,0,null,0,0,0]
[20,"Evangeline",3,10501.772178728279,31505,null,null,0,31505,null,31505,null,31505,2625,31505]
[21,"Franklin",3,11015.531709194005,33047,null,null,0,33047,null,33047,null,33047,2754,33047]
[22,"Grant",1,11034.761046337817,11035,null,null,0,11035,null,11035,null,11035,920,11035]
[23,"Iberia",3,9756.6185041601893,29270,null,null,0,29270,null,29270,null,29270,2439,29270]
[24,"Iberville",2,9457.5137897928253,18915,null,null,0,18915,null,18915,null,18915,1576,18915]
[25,"Jackson",0,10275.90736318408,0,null,null,0,0,null,0,null,0,0,0]
[26,"Jefferson",8,9520.1877378992431,76162,null,null,0,76162,null,76162,null,76162,6347,76162]
[27,"Jefferson Davis",2,10240.018192442541,20480,null,null,0,20480,null,20480,null,20480,1707,20480]
[28,"Lafayette",9,8761.6485545419891,78855,null,null,0,78855,null,78855,null,78855,6571,78855]
[29,"Lafourche",5,9172.2956000606882,45861,null,null,0,45861,null,45861,null,45861,3822,45861]
[30,"LaSalle",2,10400.181056160938,20800,null,null,0,20800,null,20800,null,20800,1733,20800]
[31,"Lincoln",3,9732.0083886561388,29196,null,null,0,29196,null,29196,null,29196,2433,29196]
[32,"Livingston",11,9753.4447583643123,107288,null,null,0,107288,null,107288,null,107288,8941,107288]
[33,"Madison",0,11017.441603927988,0,null,null,0,0,null,0,null,0,0,0]
[34,"Morehouse",0,10871.101006626695,0,null,null,0,0,null,0,null,0,0,0]
[35,"Natchitoches",20,9616.4268910189639,192329,null,null,0,192329,null,192329,null,192329,16027,192329]
[36,"Orleans",1,9162.1733473973964,9162,null,null,0,9162,null,9162,null,9162,764,9162]
[37,"Ouachita",6,9579.7080793559508,57478,null,null,0,57478,null,57478,null,57478,4790,57478]
[38,"Plaquemines",1,9717.7436363636371,9718,null,null,0,9718,null,9718,null,9718,810,9718]
[39,"Pointe Coupee",4,10223.073365468887,40892,null,null,0,40892,null,40892,null,40892,3408,40892]
[40,"Rapides",11,9767.1857093225262,107439,null,null,0,107439,null,107439,null,107439,8953,107439]
[41,"Red River",1,9936.5192227979278,9937,null,null,0,9937,null,9937,null,9937,828,9937]
[42,"Richland",0,10249.088082804923,0,null,null,0,0,null,0,null,0,0,0]
[43,"Sabine",2,9969.2168232662189,19938,null,null,0,19938,null,19938,null,19938,1662,19938]
[44,"St. Bernard",1,9336.022678859601,9336,null,null,0,9336,null,9336,null,9336,778,9336]
[45,"St. Charles",11,8817.5397695334468,96993,null,null,0,96993,null,96993,null,96993,8083,96993]
[46,"St. Helena",0,11689.642286821705,0,null,null,0,0,null,0,null,0,0,0]
[47,"St. James",1,9975.8389177073332,9976,null,null,0,9976,null,9976,null,9976,831,9976]
[48,"St. John the Baptist",1,9666.5362597558524,9667,null,null,0,9667,null,9667,null,9667,806,9667]
[49,"St. Landry",8,9682.8581276524928,77463,null,null,0,77463,null,77463,null,77463,6455,77463]
[50,"St. Martin",4,9617.9730949284785,38472,null,null,0,38472,null,38472,null,38472,3206,38472]
[51,"St. Mary",3,10106.540510510509,30320,null,null,0,30320,null,30320,null,30320,2527,30320]
[52,"St. Tammany",12,9509.3747991433047,114112,null,null,0,114112,null,114112,null,114112,9509,114112]
[53,"Tangipahoa",8,9908.0877585843682,79265,null,null,0,79265,null,79265,null,79265,6605,79265]
[54,"Tensas",0,11536.194225352112,0,null,null,0,0,null,0,null,0,0,0]
[55,"Terrebonne",19,9319.5702871273534,177072,null,null,0,177072,null,177072,null,177072,14756,177072]
[56,"Union",1,10188.178317621465,10188,null,null,0,10188,null,10188,null,10188,849,10188]
[57,"Vermilion",2,9662.7570784056079,19326,null,null,0,19326,null,19326,null,19326,1611,19326]
[58,"Vernon",10,9807.6389064143004,98076,null,null,0,98076,null,98076,null,98076,8173,98076]
[59,"Washington",2,10350.980648356597,20702,null,null,0,20702,null,20702,null,20702,1725,20702]
[60,"Webster",1,10244.31971659919,10244,null,null,0,10244,null,10244,null,10244,854,10244]
[61,"West Baton Rouge",3,9402.503590248707,28208,null,null,0,28208,null,28208,null,28208,2351,28208]
[62,"West Carroll",0,10771.069767132401,0,null,null,0,0,null,0,null,0,0,0]
[63,"West Feliciana",1,9947.7516777883684,9948,null,null,0,9948,null,9948,null,9948,829,9948]
[64,"Winn",0,10849.675664739883,0,null,null,0,0,null,0,null,0,0,0]
[65,"City of Monroe",1,10054.765728351425,10055,null,null,0,10055,null,10055,null,10055,838,10055]
[66,"City of Bogalusa",1,11370.80562998405,11371,null,null,0,11371,null,11371,null,11371,948,11371]
[67,"Zachary Community",5,9799.9270103467061,49000,null,null,0,49000,null,49000,null,49000,4083,49000]
[68,"City of Baker",0,10496.604689119171,0,null,null,0,0,null,0,null,0,0,0]
[69,"Central Community",6,10143.707819804506,60862,null,null,0,60862,null,60862,null,60862,5072,60862]
["State Subtotal",null,266,null,2552348,0,0,0,2552348,0,2552348,0,2552348,212699,2552348]
["Level 4 Allocations"]
["Int'l Assoc/Escadrille Salaries",null,null,null,null,null,null,null,null,null,0,null,0,0,0]
["Int'l Assoc/Escadrille Stipends",null,null,null,null,null,null,null,null,null,null,null,null,null,0]
["Career Development Fund",null,null,null,null,null,null,null,null,null,null,null,null,null,10000]
["High Cost Services Allocation",null,null,null,null,null,null,null,null,null,null,null,null,null,0]
["Supplemental Course Allocation",null,null,null,null,null,null,null,null,null,18690,null,18690,1558,18690]
["Mentor Teacher Stipend Allocation",null,null,null,null,null,null,null,null,null,null,null,null,null,0]
["FY2019-20 Pay Raise",null,null,null,null,null,null,null,null,null,80574,null,80574,6715,80574]
["FY2021-22 Pay Raise",null,null,null,null,null,null,null,null,null,64461,null,64461,5372,64461]
["FY20221-23 Pay Raise",null,null,null,null,null,null,null,null,null,120864,null,120864,10072,120864]
["State Grand Total With Level 4",null,266,null,2552348,0,0,0,2552348,0,2836937,0,2836937,236416,2846937]

{"sheet":"5A6_Thrive","index":20,"n_rows":87,"n_cols":15,"rows_kept":87,"cut":false,"hidden":false,"merged":[[0,8,0,14],[1,5,1,7],[75,0,75,1],[76,0,76,1],[77,0,77,1],[3,0,3,1],[5,0,5,1],[87,0,87,1],[86,0,86,1],[0,0,2,1],[0,2,0,7],[78,0,78,1],[79,0,79,1],[80,0,80,1],[81,0,81,1],[83,0,83,1],[84,0,84,1],[85,0,85,1]]}
["Table 5A6\nThrive Academy of Baton Rouge\n\n(Site Code 3C1001)",null,"MFP State Cost Allocation",null,null,null,null,null,"MFP State Cost Allocation"]
[null,null,null,null,null,"Mid-Year Adjustment for Students"]
[null,null,"Feb. 1\nMFP Funded\nMembership\n","State Cost &\nLocal Cost\nAllocation\nPer Pupil\n\n(Levels 1, 2,\n& 3 without\nContinuation\nof Prior Year\nPay Raises)","State Cost &\nLocal Cost\nAllocation\n\n(Levels 1, 2,\n& 3 without\nContinuation\nof Prior Year\nPay Raises)","October\n\nMid-Year\nAdjustment\nfor Students","February\n\nMid-Year\nAdjustment\nfor Students","Total\nMid-Year\nAdjustment\nfor Students","Total MFP\nState Cost &\nLocal Cost\nAllocation\n+/- Mid-Year\nAdjustments","Prior Years\nMFP Audit\nAdjustments\n\n","Total MFP\nState Cost &\nLocal Cost\nAllocation\n+/- Mid-Year Adjs\n+/- Audit Adjs\n+ Monthly Level 4","Year To\nDate\nState\nPayments","Balance\nDue","Monthly\nPayment","Total MFP\nState Cost &\nLocal Cost\nAllocation\n+/- Mid-Year Adjs\n+/- Audit Adjs\n+ Total Level 4"]
["FY2024-25",null,1,2,3,4,5,6,7,8,9,10,11,12,13]
["July 2024",null,null,"Link in File","Formula","Link to Mid-Year File","Link to Mid-Year File","Formula","Formula","Link to Audit File","T4, C2; T4, C14","Link to Prior Month,","Formula","Formula","T4, C7; T4, C9; T4, C10"]
["July 2024",null,"T8, C46","T9, C17","C1 x C2","Link to October Tab in Mid-Year File","Link to February Tab in Mid-Year File","C4 + C5 ","C3 + C6","Link to Audit File","C7 + C8","Prior Month File: (T5A4, C10 + C12)","C9 - C10","C11 ÷ Remaining Months","C9"]
[1,"Acadia",0,9573.7686389201353,0,null,null,0,0,null,0,null,0,0,0]
[2,"Allen",0,10555.523489932886,0,null,null,0,0,null,0,null,0,0,0]
[3,"Ascension",9,8693.9419262502106,78245,null,null,0,78245,null,78245,null,78245,6520,78245]
[4,"Assumption",1,10438.693163841808,10439,null,null,0,10439,null,10439,null,10439,870,10439]
[5,"Avoyelles",0,10004.152521703183,0,null,null,0,0,null,0,null,0,0,0]
[6,"Beauregard",0,9618.066267339218,0,null,null,0,0,null,0,null,0,0,0]
[7,"Bienville",0,9957.3041485203794,0,null,null,0,0,null,0,null,0,0,0]
[8,"Bossier",0,9577.2674013157884,0,null,null,0,0,null,0,null,0,0,0]
[9,"Caddo",0,9335.5890826723698,0,null,null,0,0,null,0,null,0,0,0]
[10,"Calcasieu",0,9148.482455492107,0,null,null,0,0,null,0,null,0,0,0]
[11,"Caldwell",0,11738.343228795438,0,null,null,0,0,null,0,null,0,0,0]
[12,"Cameron",0,9707.4037209302332,0,null,null,0,0,null,0,null,0,0,0]
[13,"Catahoula",0,10866.128601398603,0,null,null,0,0,null,0,null,0,0,0]
[14,"Claiborne",0,11822.597566399012,0,null,null,0,0,null,0,null,0,0,0]
[15,"Concordia",0,10501.419540768509,0,null,null,0,0,null,0,null,0,0,0]
[16,"DeSoto",0,8728.2945089757122,0,null,null,0,0,null,0,null,0,0,0]
[17,"East Baton Rouge",99,9094.4047926986495,900346,null,null,0,900346,null,900346,null,900346,75029,900346]
[18,"East Carroll",0,11091.542448700409,0,null,null,0,0,null,0,null,0,0,0]
[19,"East Feliciana",0,10311.359391727496,0,null,null,0,0,null,0,null,0,0,0]
[20,"Evangeline",0,10501.772178728279,0,null,null,0,0,null,0,null,0,0,0]
[21,"Franklin",0,11015.531709194005,0,null,null,0,0,null,0,null,0,0,0]
[22,"Grant",0,11034.761046337817,0,null,null,0,0,null,0,null,0,0,0]
[23,"Iberia",1,9756.6185041601893,9757,null,null,0,9757,null,9757,null,9757,813,9757]
[24,"Iberville",1,9457.5137897928253,9458,null,null,0,9458,null,9458,null,9458,788,9458]
[25,"Jackson",0,10275.90736318408,0,null,null,0,0,null,0,null,0,0,0]
[26,"Jefferson",7,9520.1877378992431,66641,null,null,0,66641,null,66641,null,66641,5553,66641]
[27,"Jefferson Davis",0,10240.018192442541,0,null,null,0,0,null,0,null,0,0,0]
[28,"Lafayette",3,8761.6485545419891,26285,null,null,0,26285,null,26285,null,26285,2190,26285]
[29,"Lafourche",1,9172.2956000606882,9172,null,null,0,9172,null,9172,null,9172,764,9172]
[30,"LaSalle",0,10400.181056160938,0,null,null,0,0,null,0,null,0,0,0]
[31,"Lincoln",0,9732.0083886561388,0,null,null,0,0,null,0,null,0,0,0]
[32,"Livingston",5,9753.4447583643123,48767,null,null,0,48767,null,48767,null,48767,4064,48767]
[33,"Madison",0,11017.441603927988,0,null,null,0,0,null,0,null,0,0,0]
[34,"Morehouse",0,10871.101006626695,0,null,null,0,0,null,0,null,0,0,0]
[35,"Natchitoches",0,9616.4268910189639,0,null,null,0,0,null,0,null,0,0,0]
[36,"Orleans",5,9162.1733473973964,45811,null,null,0,45811,null,45811,null,45811,3818,45811]
[37,"Ouachita",0,9579.7080793559508,0,null,null,0,0,null,0,null,0,0,0]
[38,"Plaquemines",1,9717.7436363636371,9718,null,null,0,9718,null,9718,null,9718,810,9718]
[39,"Pointe Coupee",1,10223.073365468887,10223,null,null,0,10223,null,10223,null,10223,852,10223]
[40,"Rapides",0,9767.1857093225262,0,null,null,0,0,null,0,null,0,0,0]
[41,"Red River",0,9936.5192227979278,0,null,null,0,0,null,0,null,0,0,0]
[42,"Richland",0,10249.088082804923,0,null,null,0,0,null,0,null,0,0,0]
[43,"Sabine",0,9969.2168232662189,0,null,null,0,0,null,0,null,0,0,0]
[44,"St. Bernard",0,9336.022678859601,0,null,null,0,0,null,0,null,0,0,0]
[45,"St. Charles",0,8817.5397695334468,0,null,null,0,0,null,0,null,0,0,0]
[46,"St. Helena",0,11689.642286821705,0,null,null,0,0,null,0,null,0,0,0]
[47,"St. James",1,9975.8389177073332,9976,null,null,0,9976,null,9976,null,9976,831,9976]
[48,"St. John the Baptist",7,9666.5362597558524,67666,null,null,0,67666,null,67666,null,67666,5639,67666]
[49,"St. Landry",4,9682.8581276524928,38731,null,null,0,38731,null,38731,null,38731,3228,38731]
[50,"St. Martin",0,9617.9730949284785,0,null,null,0,0,null,0,null,0,0,0]
[51,"St. Mary",0,10106.540510510509,0,null,null,0,0,null,0,null,0,0,0]
[52,"St. Tammany",3,9509.3747991433047,28528,null,null,0,28528,null,28528,null,28528,2377,28528]
[53,"Tangipahoa",4,9908.0877585843682,39632,null,null,0,39632,null,39632,null,39632,3303,39632]
[54,"Tensas",0,11536.194225352112,0,null,null,0,0,null,0,null,0,0,0]
[55,"Terrebonne",3,9319.5702871273534,27959,null,null,0,27959,null,27959,null,27959,2330,27959]
[56,"Union",0,10188.178317621465,0,null,null,0,0,null,0,null,0,0,0]
[57,"Vermilion",0,9662.7570784056079,0,null,null,0,0,null,0,null,0,0,0]
[58,"Vernon",0,9807.6389064143004,0,null,null,0,0,null,0,null,0,0,0]
[59,"Washington",1,10350.980648356597,10351,null,null,0,10351,null,10351,null,10351,863,10351]
[60,"Webster",0,10244.31971659919,0,null,null,0,0,null,0,null,0,0,0]
[61,"West Baton Rouge",5,9402.503590248707,47013,null,null,0,47013,null,47013,null,47013,3918,47013]
[62,"West Carroll",0,10771.069767132401,0,null,null,0,0,null,0,null,0,0,0]
[63,"West Feliciana",0,9947.7516777883684,0,null,null,0,0,null,0,null,0,0,0]
[64,"Winn",0,10849.675664739883,0,null,null,0,0,null,0,null,0,0,0]
[65,"City of Monroe",0,10054.765728351425,0,null,null,0,0,null,0,null,0,0,0]
[66,"City of Bogalusa",0,11370.80562998405,0,null,null,0,0,null,0,null,0,0,0]
[67,"Zachary Community",3,9799.9270103467061,29400,null,null,0,29400,null,29400,null,29400,2450,29400]
[68,"City of Baker",9,10496.604689119171,94469,null,null,0,94469,null,94469,null,94469,7872,94469]
[69,"Central Community",6,10143.707819804506,60862,null,null,0,60862,null,60862,null,60862,5072,60862]
["State Subtotal",null,180,null,1679449,0,0,0,1679449,0,1679449,0,1679449,139954,1679449]
["Level 4 Allocations"]
["Int'l Assoc/Escadrille Salaries",null,null,null,null,null,null,null,null,null,0,null,0,0,0]
["Int'l Assoc/Escadrille Stipends",null,null,null,null,null,null,null,null,null,null,null,null,null,0]
["Career Development Fund",null,null,null,null,null,null,null,null,null,null,null,null,null,10000]
["High Cost Services Allocation",null,null,null,null,null,null,null,null,null,null,null,null,null,0]
["Supplemental Course Allocation",null,null,null,null,null,null,null,null,null,12600,null,12600,1050,12600]
["Mentor Teacher Stipend Allocation",null,null,null,null,null,null,null,null,null,null,null,null,null,0]
["FY2019-20 Pay Raise",null,null,null,null,null,null,null,null,null,71243,null,71243,5937,71243]
["FY2021-22 Pay Raise",null,null,null,null,null,null,null,null,null,56994,null,56994,4750,56994]
["FY2022-23 Pay Raise",null,null,null,null,null,null,null,null,null,106864,null,106864,8905,106864]
["State Grand Total With Level 4",null,180,null,1679449,0,0,0,1679449,0,1927150,0,1927150,160596,1937150]

{"sheet":"5A7_SSD","index":21,"n_rows":87,"n_cols":15,"rows_kept":87,"cut":false,"hidden":false,"merged":[[0,8,0,14],[1,5,1,7],[75,0,75,1],[84,0,84,1],[85,0,85,1],[77,0,77,1],[78,0,78,1],[79,0,79,1],[80,0,80,1],[81,0,81,1],[83,0,83,1],[76,0,76,1],[0,0,2,1],[0,2,0,7],[86,0,86,1],[87,0,87,1],[3,0,3,1],[5,0,5,1]]}
["Table 5A7\nSpecial School District \n\n\n(Site Code 101001)\n(Added in 22-23)",null,"MFP State Cost Allocation",null,null,null,null,null,"MFP State Cost Allocation"]
[null,null,null,null,null,"Mid-Year Adjustment for Students"]
[null,null,"Feb. 1\nMFP Funded\nMembership\n","State Cost &\nLocal Cost\nAllocation\nPer Pupil\n\n(Levels 1, 2,\n& 3 without\nContinuation\nof Prior Year\nPay Raises)","State Cost &\nLocal Cost\nAllocation\n\n(Levels 1, 2,\n& 3 without\nContinuation\nof Prior Year\nPay Raises)","October\n\nMid-Year\nAdjustment\nfor Students","February\n\nMid-Year\nAdjustment\nfor Students","Total\nMid-Year\nAdjustment\nfor Students","Total MFP\nState Cost &\nLocal Cost\nAllocation\n+/- Mid-Year\nAdjustments","Prior Years\nMFP Audit\nAdjustments\n\n","Total MFP\nState Cost &\nLocal Cost\nAllocation\n+/- Mid-Year Adjs\n+/- Audit Adjs\n+ Monthly Level 4","Year To\nDate\nState\nPayments","Balance\nDue","Monthly\nPayment","Total MFP\nState Cost &\nLocal Cost\nAllocation\n+/- Mid-Year Adjs\n+/- Audit Adjs\n+ Total Level 4"]
["FY2024-25",null,1,2,3,4,5,6,7,8,9,10,11,12,13]
["July 2024",null,null,"Link in File","Formula","Link to Mid-Year File","Link to Mid-Year File","Formula","Formula","Link to Audit File","T4, C2; T4, C14","Link to Prior Month,","Formula","Formula","T4, C7; T4, C9; T4, C10"]
["July 2024",null,"T8, C46","T9, C17","C1 x C2","Link to October Tab in Mid-Year File","Link to February Tab in Mid-Year File","C4 + C5 ","C3 + C6","Link to Audit File","C7 + C8","Prior Month File: (T5A4, C10 + C12)","C9 - C10","C11 ÷ Remaining Months","C9"]
[1,"Acadia",9,9573.7686389201353,86164,null,null,0,86164,null,86164,null,86164,7180,86164]
[2,"Allen",2,10555.523489932886,21111,null,null,0,21111,null,21111,null,21111,1759,21111]
[3,"Ascension",20,8693.9419262502106,173879,null,null,0,173879,null,173879,null,173879,14490,173879]
[4,"Assumption",1,10438.693163841808,10439,null,null,0,10439,null,10439,null,10439,870,10439]
[5,"Avoyelles",7,10004.152521703183,70029,null,null,0,70029,null,70029,null,70029,5836,70029]
[6,"Beauregard",0,9618.066267339218,0,null,null,0,0,null,0,null,0,0,0]
[7,"Bienville",1,9957.3041485203794,9957,null,null,0,9957,null,9957,null,9957,830,9957]
[8,"Bossier",1,9577.2674013157884,9577,null,null,0,9577,null,9577,null,9577,798,9577]
[9,"Caddo",6,9335.5890826723698,56014,null,null,0,56014,null,56014,null,56014,4668,56014]
[10,"Calcasieu",9,9148.482455492107,82336,null,null,0,82336,null,82336,null,82336,6861,82336]
[11,"Caldwell",0,11738.343228795438,0,null,null,0,0,null,0,null,0,0,0]
[12,"Cameron",0,9707.4037209302332,0,null,null,0,0,null,0,null,0,0,0]
[13,"Catahoula",0,10866.128601398603,0,null,null,0,0,null,0,null,0,0,0]
[14,"Claiborne",0,11822.597566399012,0,null,null,0,0,null,0,null,0,0,0]
[15,"Concordia",2,10501.419540768509,21003,null,null,0,21003,null,21003,null,21003,1750,21003]
[16,"DeSoto",0,8728.2945089757122,0,null,null,0,0,null,0,null,0,0,0]
[17,"East Baton Rouge",55,9094.4047926986495,500192,null,null,0,500192,null,500192,null,500192,41683,500192]
[18,"East Carroll",1,11091.542448700409,11092,null,null,0,11092,null,11092,null,11092,924,11092]
[19,"East Feliciana",5,10311.359391727496,51557,null,null,0,51557,null,51557,null,51557,4296,51557]
[20,"Evangeline",3,10501.772178728279,31505,null,null,0,31505,null,31505,null,31505,2625,31505]
[21,"Franklin",0,11015.531709194005,0,null,null,0,0,null,0,null,0,0,0]
[22,"Grant",3,11034.761046337817,33104,null,null,0,33104,null,33104,null,33104,2759,33104]
[23,"Iberia",1,9756.6185041601893,9757,null,null,0,9757,null,9757,null,9757,813,9757]
[24,"Iberville",2,9457.5137897928253,18915,null,null,0,18915,null,18915,null,18915,1576,18915]
[25,"Jackson",0,10275.90736318408,0,null,null,0,0,null,0,null,0,0,0]
[26,"Jefferson",14,9520.1877378992431,133283,null,null,0,133283,null,133283,null,133283,11107,133283]
[27,"Jefferson Davis",4,10240.018192442541,40960,null,null,0,40960,null,40960,null,40960,3413,40960]
[28,"Lafayette",10,8761.6485545419891,87616,null,null,0,87616,null,87616,null,87616,7301,87616]
[29,"Lafourche",2,9172.2956000606882,18345,null,null,0,18345,null,18345,null,18345,1529,18345]
[30,"LaSalle",0,10400.181056160938,0,null,null,0,0,null,0,null,0,0,0]
[31,"Lincoln",2,9732.0083886561388,19464,null,null,0,19464,null,19464,null,19464,1622,19464]
[32,"Livingston",13,9753.4447583643123,126795,null,null,0,126795,null,126795,null,126795,10566,126795]
[33,"Madison",1,11017.441603927988,11017,null,null,0,11017,null,11017,null,11017,918,11017]
[34,"Morehouse",0,10871.101006626695,0,null,null,0,0,null,0,null,0,0,0]
[35,"Natchitoches",1,9616.4268910189639,9616,null,null,0,9616,null,9616,null,9616,801,9616]
[36,"Orleans",6,9162.1733473973964,54973,null,null,0,54973,null,54973,null,54973,4581,54973]
[37,"Ouachita",3,9579.7080793559508,28739,null,null,0,28739,null,28739,null,28739,2395,28739]
[38,"Plaquemines",0,9717.7436363636371,0,null,null,0,0,null,0,null,0,0,0]
[39,"Pointe Coupee",3,10223.073365468887,30669,null,null,0,30669,null,30669,null,30669,2556,30669]
[40,"Rapides",49,9767.1857093225262,478592,null,null,0,478592,null,478592,null,478592,39883,478592]
[41,"Red River",0,9936.5192227979278,0,null,null,0,0,null,0,null,0,0,0]
[42,"Richland",1,10249.088082804923,10249,null,null,0,10249,null,10249,null,10249,854,10249]
[43,"Sabine",1,9969.2168232662189,9969,null,null,0,9969,null,9969,null,9969,831,9969]
[44,"St. Bernard",1,9336.022678859601,9336,null,null,0,9336,null,9336,null,9336,778,9336]
[45,"St. Charles",0,8817.5397695334468,0,null,null,0,0,null,0,null,0,0,0]
[46,"St. Helena",0,11689.642286821705,0,null,null,0,0,null,0,null,0,0,0]
[47,"St. James",0,9975.8389177073332,0,null,null,0,0,null,0,null,0,0,0]
[48,"St. John the Baptist",0,9666.5362597558524,0,null,null,0,0,null,0,null,0,0,0]
[49,"St. Landry",1,9682.8581276524928,9683,null,null,0,9683,null,9683,null,9683,807,9683]
[50,"St. Martin",0,9617.9730949284785,0,null,null,0,0,null,0,null,0,0,0]
[51,"St. Mary",1,10106.540510510509,10107,null,null,0,10107,null,10107,null,10107,842,10107]
[52,"St. Tammany",5,9509.3747991433047,47547,null,null,0,47547,null,47547,null,47547,3962,47547]
[53,"Tangipahoa",5,9908.0877585843682,49540,null,null,0,49540,null,49540,null,49540,4128,49540]
[54,"Tensas",1,11536.194225352112,11536,null,null,0,11536,null,11536,null,11536,961,11536]
[55,"Terrebonne",8,9319.5702871273534,74557,null,null,0,74557,null,74557,null,74557,6213,74557]
[56,"Union",2,10188.178317621465,20376,null,null,0,20376,null,20376,null,20376,1698,20376]
[57,"Vermilion",2,9662.7570784056079,19326,null,null,0,19326,null,19326,null,19326,1611,19326]
[58,"Vernon",1,9807.6389064143004,9808,null,null,0,9808,null,9808,null,9808,817,9808]
[59,"Washington",5,10350.980648356597,51755,null,null,0,51755,null,51755,null,51755,4313,51755]
[60,"Webster",0,10244.31971659919,0,null,null,0,0,null,0,null,0,0,0]
[61,"West Baton Rouge",6,9402.503590248707,56415,null,null,0,56415,null,56415,null,56415,4701,56415]
[62,"West Carroll",0,10771.069767132401,0,null,null,0,0,null,0,null,0,0,0]
[63,"West Feliciana",1,9947.7516777883684,9948,null,null,0,9948,null,9948,null,9948,829,9948]
[64,"Winn",1,10849.675664739883,10850,null,null,0,10850,null,10850,null,10850,904,10850]
[65,"City of Monroe",1,10054.765728351425,10055,null,null,0,10055,null,10055,null,10055,838,10055]
[66,"City of Bogalusa",0,11370.80562998405,0,null,null,0,0,null,0,null,0,0,0]
[67,"Zachary Community",3,9799.9270103467061,29400,null,null,0,29400,null,29400,null,29400,2450,29400]
[68,"City of Baker",0,10496.604689119171,0,null,null,0,0,null,0,null,0,0,0]
[69,"Central Community",0,10143.707819804506,0,null,null,0,0,null,0,null,0,0,0]
["State Subtotal",null,282,null,2687157,0,0,0,2687157,0,2687157,0,2687157,223927,2687157]
["Level 4 Allocations"]
["Int'l Assoc/Escadrille Salaries",null,null,null,null,null,null,null,null,null,0,null,0,0,0]
["Int'l Assoc/Escadrille Stipends",null,null,null,null,null,null,null,null,null,null,null,null,null,0]
["Career Development Fund",null,null,null,null,null,null,null,null,null,null,null,null,null,10000]
["High Cost Services Allocation",null,null,null,null,null,null,null,null,null,null,null,null,null,0]
["Supplemental Course Allocation",null,null,null,null,null,null,null,null,null,14980,null,14980,1248,14980]
["Mentor Teacher Stipend Allocation",null,null,null,null,null,null,null,null,null,null,null,null,null,0]
["FY2019-20 Pay Raise",null,null,null,null,null,null,null,null,null,160585,null,160585,13382,160585]
["FY2021-22 Pay Raise",null,null,null,null,null,null,null,null,null,128468,null,128468,10706,128468]
["FY2022-23 Pay Raise",null,null,null,null,null,null,null,null,null,240877,null,240877,20073,240877]
["State Grand Total With Level 4",null,282,null,2687157,0,0,0,2687157,0,3232067,0,3232067,269336,3242067]

{"sheet":"5B2_RSD LA","index":22,"n_rows":291,"n_cols":52,"rows_kept":291,"cut":false,"hidden":false,"merged":[[3,0,3,2],[5,0,5,2],[0,51,2,51],[0,0,2,2],[1,35,1,39],[0,50,2,50],[1,9,1,11],[0,33,0,43],[0,44,0,49],[0,18,0,32],[0,3,0,17],[1,19,1,23],[1,28,1,31]]}
["Table 5B2\nRSD Operated\n& Type 5\nCharter Schools\n\n\n(In Caddo Parish &\nEast Baton Rouge Parish)",null,null,"MFP State Cost Allocation",null,null,null,null,null,null,null,null,null,null,null,null,null,null,"MFP State Cost Allocation",null,null,null,null,null,null,null,null,null,null,null,null,null,null,"Local Revenue Representation",null,null,null,null,null,null,null,null,null,null,"Local Revenue Representation",null,null,null,null,null,"Total\nState Cost\nAllocation\nand\nLocal\nRevenue\nRepresentation\nPayment\n","Total\nState Cost\nAllocation\nand\nLocal\nRevenue\nRepresentation\nMonthly \nPayment\n"]
[null,null,null,null,null,null,null,null,null,"Mid-Year Adjustment for Students",null,null,null,null,null,null,null,null,null,"Level 4 Funds Paid Monthly",null,null,null,null,null,null,null,null,"Level 4 Funds Paid Annually",null,null,null,null,null,null,"Mid-Year Adjustment for Students"]
[null,null,null,"Feb. 1\nMFP Funded\nMember-\nship\n\n","State Cost\nAllocation\nPer Pupil\n\n(Levels 1,\n2, & 3 without\nContinuation\nof Prior Year\nPay Raises)","State Cost\nAllocation\n\n(Levels 1,\n2, & 3 without\nContinuation\nof Prior Year\nPay Raises)","Continuation\nof Prior Year\nPay Raises\nPer Pupil","Continuation\nof Prior Year\nPay Raises","Total MFP\nState Cost\nAllocation\n\n(Levels 1, 2,\n& 3 with\nContinuation\nof Prior Year\nPay Raises)","October\n\nMid-Year\nAdjustment\nfor Students","February\n\nMid-Year\nAdjustment\nfor Students","Total\nMid-Year\nAdjustment\nfor Students","Total MFP\nState Cost\nAllocation\n+/- Mid-Year\nAdjustments","State\nAdmin\nFee\nto RSD\n\n1.75%","State Admin\nFee to the\nDept. of\nEducation\n\n.25%","Total State\nAdmin Fee","Total MFP\nState Cost\nAllocation\n+/- Mid-Year\nAdjustments\n- Admin Fee","Prior Years\nMFP Audit\nAdjustments\n\n","Total MFP\nState Cost\nAllocation\n+/- Mid-Year\nAdjustments\n- Admin Fee\n+/- Audit\nAdjustments","Salaries for\nInternational\nAssociate/\nEscadrille\nTeachers","Supplemental\nCourse\nAllocation\n\n","FY2019-20\nCertificated\nand Non-\nCertificated\nPay Raise","FY2021-22\nCertificated\nand Non-\nCertificated\nPay Raise","FY2022-23\nCertificated\nand Non-\nCertificated\nPay Raise","Total MFP\nState Cost\nAllocation\n+/- Mid-Year\nAdjustments\n- Admin Fee\n+/- Audit Adj.\n+ Monthly\nLevel 4","Year To\nDate\nState\nPayments","Balance\nDue","State Cost\nAllocation\nMonthly\nPayment","Stipends for\nInternational\nAssociate/\nEscadrille\nTeachers","\n'Career\nDevelopment\nFund\nAllocation\n\n","High Cost\nServices\nAllocation","Mentor Teacher Stipend Allocation","Total MFP\nState Cost\nAllocation\n+/- Mid-Year\nAdjustments\n- Admin Fee\n+/- Audit Adj.\n+Total Level 4","\nLocal Revenue\nRepresentation\nPer Pupil\n(per charter law)\n\nIn a District\nBuilding","Total\nLocal Revenue\nRepresentation","Change in\nFunded\nStudent\nCount Per\n\nMid-Year\nAdjustment","October\n\nMid-Year\nAdjustment","Change in\nFunded\nStudent\nCount Per\nFeb. \nMid-Year\nAdjustment","February\n\nMid-Year\nAdjustment\n\n(Half the\nPer Pupil)","Total\nMid-Year\nAdjustment\nfor Students","Total\nLocal Revenue\nRepresentation\n+/- Mid-Year Adjustments","Admin\nFee to\nRSD\n\n1.75%","Admin\nFee to the\nDept. of\nEducation\n\n.25%","Total\nAdmin\nFee","Total\nLocal Revenue\nRepresentation\n+/- Mid-Year Adjustments\n- Admin Fee","Prior Years\nMFP Audit\nAdjustments\n\n","Total\nLocal Revenue\nRepresentation\n+/- Mid-Year\nAdjustments\n- Admin Fee\n +/- Audit Adjs","Year To\nDate\nPayments","Balance\nDue","Local Revenue\nRepresentation\nMonthly\nPayment"]
["FY2024-25",null,null,1,2,3,4,5,6,7,8,9,10,11,12,13,14,15,16,17,18,19,20,null,21,22,23,24,25,26,27,null,28,29,30,31,32,33,34,35,36,37,38,39,40,41,42,43,44,45,46,47]
[0,null,null,"Link in File","Link in File","Formula","Values","Formula","Formula","Link to Mid-Year File","Link to Mid-Year File","Formula","Formula","Formula","Formula","Formula","Formula","Link to Audit File","Formula","Link in File","Link in File",null,null,null,"Formula","Link to Prior Month,","Formula","Formula","Link in File","Link in File","Link in File",null,"Formula","Link in File","Formula","Link to Mid-Year File","Formula","Link to Mid-Year File","Formula","Formula","Formula","Formula","Formula","Formula","Formula","Link to Audit File","Formula","Link to Prior Month,","Formula","Formula","Formula","Formula"]
["July 2024",null,null,"T8A, C3","T9, C15","C1 x C2","Historical Data","C1 x C4","C3 + C5","Link to October Tab in Mid-Year File","Link to February Tab in Mid-Year File","C7 + C8","C6 + C9","C10 x -1.75%","C10 x -.25%","C11 + C12","C10 + C13","Link to Audit File","C14 + C15","T4, C2","T4, C14","T4, C26","T4, C38","T4, C50","Sum (C16:C20a)","Prior Month File:\n(T5B2, C22 + C24","C21 - C22","C23 ÷ Months Remaining","T4, C7","T4, C9","T4, C10","T4, C52","C21 + C25 + C26 + C27 + C27a","T9, C11","C1 x C29","Link to October Tab in Mid-Year File","C29 x C31","Link to February Tab in Mid-Year File","C29 x C33 x .5","C32 + C34","C30 + C35","C36 x -1.75%","C36 x -.25%","C37 + C38","C36 + C39","Link to Audit File","C40 + C41","Prior Month File:\n(T5B2, C43 + C45)","C42 - C43","C44 ÷ Months Remaining","C21 + C42","C24 + C45"]
[396211,"WX1001","Linwood Public Charter School\nCaddo Parish",991,4656.7590826723699,4614848.2509283181,744.76,738057.16,5352905,null,null,0,5352905,null,null,0,5352905,null,5352905,0,16940,143322,114657,214983,5842807,null,5842807,486901,0,0,0,0,5842807,6799,6737809,null,0,null,0,0,6737809,null,null,0,6737809,0,6737809,null,6737809,561484,12580616,1048385]
["WZV001",null,"Prescott Academy***\nEast Baton Rouge Parish",300,3630.0147926986497,1089004.4378095949,801.48,240444,1329448,null,null,0,1329448,null,null,0,1329448,null,1329448,0,5250,37971,30379,56956,1460004,null,1460004,121667,0,0,0,0,1460004,8716,2614800,null,0,null,0,0,2614800,null,null,0,2614800,null,2614800,null,2614800,217900,4074804,339567]
[null,null,"Total RSD Operated",1291,null,5703852.688737913,null,978501.16,6682353,0,0,0,6682353,0,0,0,6682353,0,6682353,0,22190,181293,145036,271939,7302811,0,7302811,608568,0,0,0,0,7302811,null,9352609,0,0,0,0,0,9352609,0,0,0,9352609,0,9352609,0,9352609,779384,16655420,1387952]
[]
["WAO001","3AP003","Redesign Dalton Charter School",161,3630.0147926986497,584432.38162448257,801.48,129038.28,713471,null,null,0,713471,-12486,-1784,-14270,699201,null,699201,0,0,31135,24908,46703,801947,null,801947,66829,0,0,0,0,801947,8716,1403276,null,0,null,0,0,1403276,-24557,-3508,-28065,1375211,0,1375211,null,1375211,114601,2177158,181430]
["WAP001","3AP001","Redesign Lanier Charter School",161,3630.0147926986497,584432.38162448257,801.48,129038.28,713471,null,null,0,713471,-12486,-1784,-14270,699201,null,699201,0,0,50034,40027,75050,864312,null,864312,72026,0,0,0,0,864312,8716,1403276,null,0,null,0,0,1403276,-24557,-3508,-28065,1375211,0,1375211,null,1375211,114601,2239523,186627]
[null,null,"Total Type 5 Charter Schools\nEast Baton Rouge Parish",322,null,1168864.7632489651,null,258076.56,1426942,0,0,0,1426942,-24972,-3568,-28540,1398402,0,1398402,0,0,81169,64935,121753,1666259,0,1666259,138855,0,0,0,0,1666259,null,2806552,0,0,0,0,0,2806552,-49114,-7016,-56130,2750422,0,2750422,0,2750422,229202,4416681,368057]
[]
[null,null,"Total RSD Operated & Type 5 Charter Schools\nEast Baton Rouge Parish",622,null,2257869.2010585601,null,498520.56,2756390,0,0,0,2756390,-24972,-3568,-28540,2727850,0,2727850,0,5250,119140,95314,178709,3126263,0,3126263,260522,0,0,0,0,3126263,null,5421352,0,0,0,0,0,5421352,-49114,-7016,-56130,5365222,0,5365222,0,5365222,447102,8491485,707624]
[]
[null,null,"Total RSD Operated & Type 5 Charter Schools",1613,null,6872717.4519868782,null,1236577.72,8109295,0,0,0,8109295,-24972,-3568,-28540,8080755,0,8080755,0,22190,262462,209971,393692,8969070,0,8969070,747423,0,0,0,0,8969070,null,12159161,0,0,0,0,0,12159161,-49114,-7016,-56130,12103031,0,12103031,0,12103031,1008586,21072101,1756009]
[]
[]
[]
[]
[]
[]
[]
[]
[]
[]
[]
[]
[]
[]
[]
[]
[]
[]
[]
[]
[]
[]
[]
[]
[]
[]
[]
[]
[]
[]
[]
[]
[]
[]
[]
[]
[]
[]
[]
[]
[]
[]
[]
[]
[]
[]
[]
[]
[]
[]
[]
[]
[]
[]
[]
[]
[]
[]
[]
[]
[]
[]
[]
[]
[]
[]
[]
[]
[]
[]
[]
[]
[]
[]
[]
[]
[]
[]
[]
[]
[]
[]
[]
[]
[]
[]
[]
[]
[]
[]
[]
[]
[]
[]
[]
[]
[]
[]
[]
[]
[]
[]
[]
[]
[]
[]
[]
[]
[]
[]
[]
[]
[]
[]
[]
[]
[]
[]
[]
[]
[]
[]
[]
[]
[]
[]
[]
[]
[]
[]
[]
[]
[]
[]
[]
[]
[]
[]
[]
[]
[]
[]
[]
[]
[]
[]
[]
[]
[]
[]
[]
[]
[]
[]
[]
[]
[]
[]
[]
[]
[]
[]
[]
[]
[]
[]
[]
[]
[]
[]
[]
[]
[]
[]
[]
[]
[]
[]
[]
[]
[]
[]
[]
[]
[]
[]
[]
[]
[]
[]
[]
[]
[]
[]
[]
[]
[]
[]
[]
[]
[]
[]
[]
[]
[]
[]
[]
[]
[]
[]
[]
[]
[]
[]
[]
[]
[]
[]
[]
[]
[]
[]
[]
[]
[]
[]
[]
[]
[]
[]
[]
[]
[]
[]
[]
[]
[]
[]
[]
[]
[]
[]
[]
[]
[]
[]
[]
[]
[]
[]
[]
[]
[]
[]
[]
[]
[]
[]
[]
[]
[]
[]
[]
[]
[]
[]
[]
[]
[]
[]
["closed schools (closed in 2022-23)"]
["WA7001","WA7001","Capitol High School"]
["WAV001","WAV001","Democracy Prep Baton Rouge"]
["WB2001",389002,"Kenilworth Science and Technology Charter School (transitioned to New T2)"]

{"sheet":"5C1_NewType 2","index":23,"n_rows":46,"n_cols":50,"rows_kept":46,"cut":false,"hidden":false,"merged":[[3,0,3,2],[5,0,5,2],[0,0,2,2],[1,19,1,21],[45,0,45,2],[1,12,1,14],[0,3,0,18],[1,15,1,17],[1,18,2,18],[1,3,2,3],[1,4,1,5],[1,6,1,8],[1,9,1,11],[0,48,2,48],[0,49,2,49],[1,44,2,44],[1,45,2,45],[1,31,2,31],[1,43,2,43],[1,42,2,42],[1,40,2,40],[1,34,2,34],[1,35,1,39],[1,33,2,33],[1,32,2,32],[0,33,0,47],[0,19,0,32],[1,47,2,47],[1,41,2,41],[1,46,2,46],[1,29,2,29],[1,30,2,30],[1,22,2,22],[1,23,2,23],[1,26,2,26],[1,27,2,27],[1,24,2,24],[1,25,2,25],[1,28,2,28]]}
["Table 5C1\nNew Type 2\nCharter Schools\n",null,null,"MFP State Cost Allocation",null,null,null,null,null,null,null,null,null,null,null,null,null,null,null,"MFP State Cost Allocation",null,null,null,null,null,null,null,null,null,null,null,null,null,"Local Revenue Representation",null,null,null,null,null,null,null,null,null,null,null,null,null,null,"Total\nState Cost\nAllocation\nand Local\nRevenue\nRepresentation","State Cost\nAllocation\nand Local\nRevenue\nRepresentation\nMonthly\nPayment"]
[null,null,null,"Feb. 1\nMFP Funded\nMembership\n","Unweighted",null,"Economically Disadvantaged (ED)",null,null,"Career & Technical Units (CTE)",null,null,"Students with Disabilities (SWD)",null,null,"Gifted & Talented (GT)",null,null,"Total MFP\nState Cost\nAllocation\n\n(Levels 1,\n2, & 3)","Mid-Year Adjustment for Students",null,null,"Total MFP\nState Cost\nAllocation\n+/- Mid-Year\nAdjustments","State Admin\nFee to the\nDept. of\nEducation\n\n0.25%","Total MFP\nState Cost\nAllocation\n+/- Mid-Year\nAdjustments\n- Admin Fee","Prior Years\nMFP Audit\nAdjustments\n\n","Level 4\nMonthly\nFunds","Total MFP State\nCost Allocation\n+/- Mid-Year Adjs\n- Admin Fee\n+/- Audit Adjs\n+ Monthly Level 4","Year To\nDate State\nPayments","Balance\nDue","State\nCost\nAllocation\nMonthly\nPayment\n","Level 4\nAnnual\nAllocation","Total MFP State\nCost Allocation\n+/- Mid-Year Adjs\n- Admin Fee\n+/- Audit Adjs\n+ Total Level 4","\nLocal Revenue\nRepresentation\nPer Pupil\n\n(per charter law)","Local\nRevenue\nRepresentation","Mid-Year Adjustment for Students",null,null,null,null,"Total Local\nRevenue\nRepresentation\n+/- Mid-Year\nAdjustments","Admin Fee\nto the\nDept. of\nEducation\n\n0.25%","Total Local\nRevenue\nRepresentation\n+/- Mid-Year\nAdjustments\n- Admin Fee","Prior Years\nMFP Audit\nAdjustments\n\n","Total Local\nRevenue\nRepresentation\n+/- Mid-Year\nAdjustments\n- Admin Fee\n+/- Audit Adj.","Year To\nDate\nPayments","Balance\nDue","Local\nRevenue\nRepresentation\nMonthly\nPayment\n"]
[null,null,null,null,"Per\nPupil","Unweighted\nState Cost\nAllocation\nWith\nContinuation\nof Prior Year\nPay Raises","Student Count\n\n","Per\nPupil","State Cost\nAllocation","Student Count\n\n","Per\nPupil","State Cost\nAllocation","Student Count\n\n","Per Pupil","State Cost\nAllocation","Student Count\n\n","Per\nPupil","State Cost\nAllocation",null,"October\n\nMid-Year\nAdjustment\nfor Students","February\n\nMid-Year\nAdjustment\nfor Students","Total\nMid-Year\nAdjustment\nfor Students",null,null,null,null,null,null,null,null,null,null,null,null,null,"Change in\nFunded\nStudent\nCount Per\n\nMid-Year\nAdjustment","October\n\nMid-Year\nAdjustment","Change in\nFunded\nStudent\nCount Per\n\nMid-Year\nAdjustment","February\n\nMid-Year\nAdjustment\n\n(Half the\nPer Pupil)","Total\nMid-Year\nAdjustment\nfor Students"]
["FY2024-25",null,null,1,2,3,4,5,6,7,8,9,10,11,12,13,14,15,16,17,18,19,20,21,22,23,"(24a)",24,25,26,27,"(28a)",28,29,30,31,32,33,34,35,36,37,38,39,40,41,42,43,44,45]
[0,null,null,"Link in File",null,"Link in File","Link in File",null,"Link in File","Link in File",null,"Link in File","Link in File",null,"Link in File","Link in File",null,"Link in File","Link in File","Link in File","Link in File","Link in File","Link in File","Link in File","Link in File","Link in File","Link in File","Link in File","Link in File","Link in File","Link in File","Link in File","Link in File",null,"Link in File","Link in File","Link in File","Link in File","Link in File","Link in File","Link in File","Link in File","Link in File","Link in File","Link in File","Link in File","Link in File","Link in File","Formula","Formula"]
["July 2024",null,null,"T8","N/A","T5C1, C3","T5C1, C4","N/A","T5C1, C6","T5C1, C7","N/A","T5C1, C9","T5C1, C10","N/A","T5C1, C12","T5C1, C13","N/A","T5C1, C15","C3 + C6 + C9\n+ C12 + C15","Link to October Tab in Mid-Year File","Link to February Tab in Mid-Year File","C17 + C18","C16 + C19","C20 x -.25%","C20 + C21","Link to Audit File","\n(T4, C2; C14; C26; C38; C50)","C22 + C23 + C24a","Prior Month File: (T5C1, C25 + C27)","C24 - C25","C26 ÷ Remaining Months","(T4, C7 + C9 + C10)","C24 + C28a","T9, C12","T5C1, C30","Link to October Tab in Mid-Year File","T5C1, C32","Link to February Tab in Mid-Year File","T5C1, C34","C32 + C34","C30 + C35","C36 x -.25%","C36 + C37","Link to Audit File","C38 + C39","Prior Month File:\n(T5C1, C41 + C43)","C40 - C41","C42 ÷ Remaining Months","C24 + C40","C27 + C43"]
[341001,2,"D'Arbonne Woods ",981,null,5015493.3151934585,590,null,401689.70643339894,326,null,60222.969376814675,108,null,496741.57220957224,48,null,88544.055296945167,6062692,0,0,0,6062692,-15157,6047535,0,411015,6458550,0,6458550,538214,31451,6490001,null,5796208,0,0,0,0,0,5796208,-14491,5781717,0,5781717,0,5781717,481812,12240267,1020026]
[343001,1,"Madison Prep",585,null,2163908.7405954306,456,null,213652.21030236254,533,null,68638.69365133853,30,null,92954.803530203746,0,null,0,2539153,0,0,0,2539153,-6347,2532806,0,259957,2792763,0,2792763,232730,40307,2833070,null,5693242,0,0,0,0,0,5693242,-14234,5679008,0,5679008,0,5679008,473250,8471771,705980]
[344001,3,"Int'l High School of N. O. ",408,null,1424048.9863652829,356,null,166901.63568968038,115,null,14903.300514720548,19,null,60198.190922071233,0,null,0,1666052,0,0,0,1666052,-4165,1661887,0,222023,1883910,0,1883910,156991,19702,1903612,null,3067264,0,0,0,0,0,3067264,-7667,3059597,0,3059597,0,3059597,254966,4943507,411957]
[345001,33,"University View Academy (90%)",3718,null,14985858.142054152,2492,null,1325117.0228393984,2354,null,342753.12240917236,481,null,1941137.2114683038,151,null,217269.6577516465,18812137,0,0,0,18812137,-47036,18765101,0,1341554,20106655,0,20106655,1675557,98509,20205164,null,22963392,0,0,0,0,0,22963392,-57405,22905987,0,22905987,0,22905987,1908834,43012642,3584391]
[346001,6,"Lake Charles Charter Academy ",881,null,3141096.4214891242,779,null,388534.86672378588,398.5,null,54256.613048134241,78,null,261957.41940951729,11,null,14991.620307201754,3860838,0,0,0,3860838,-9652,3851186,0,368163,4219349,0,4219349,351612,0,4219349,null,7351879,0,0,0,0,0,7351879,-18379,7333500,0,7333500,0,7333500,611126,11552849,962738]
[347001,5,"Lycee Francois de la Nouvelle Orleans ",842,null,2978584.1769656236,514,null,243545.82787335286,46,null,5936.5388458609432,80,null,257239.14751928803,99,null,127384.88192403254,3612690,0,0,0,3612690,-9031,3603659,0,1112191,4715850,0,4715850,392988,10000,4725850,null,7121555,0,0,0,0,0,7121555,-17803,7103752,0,7103752,0,7103752,591980,11819602,984968]
[348001,4,"New Orleans Military/Maritime Academy ",895,null,3412402.9072493068,758,null,367040.49254206428,1060,null,139571.40559365856,107,null,347622.79479608225,0,null,0,4266638,0,0,0,4266638,-10667,4255971,0,508532,4764503,0,4764503,397044,65612,4830115,null,7194827,0,0,0,0,0,7194827,-17987,7176840,0,7176840,0,7176840,598069,11941343,995113]
["3C5001",31,"St Landry Charter School",292,null,1407884.4258353687,275,null,179535.19663624969,0,null,0,20,null,89512.633495624643,0,null,0,1676933,0,0,0,1676933,-4193,1672740,0,148412,1821152,0,1821152,151763,0,1821152,null,1159618,0,0,0,0,0,1159618,-2898,1156720,0,1156720,0,1156720,96394,2977872,248157]
["W18001",23,"Noble Minds Institute",159,null,555764.82373141043,141,null,66489.222411714858,0,null,0,24,null,76424.447420440061,0,null,0,698678,0,0,0,698678,-1746,696932,0,76990,773922,0,773922,64493,0,773922,null,1305241,0,0,0,0,0,1305241,-3264,1301977,0,1301977,0,1301977,108499,2075899,172992]
["W1A001",10,"JCFA - East",131,null,513212.79457137454,122,null,59926.021334695652,55.5,null,7364.0410024674302,24,null,80463.034158115828,0,null,0,660967,0,0,0,660967,-1651,659316,0,135370,794686,0,794686,66224,10000,804686,null,1026589,0,0,0,0,0,1026589,-2567,1024022,0,1024022,0,1024022,85335,1818708,151559]
["W1B001",14,"Advantage Charter Academy",580,null,2553591.5397767727,565,null,316646.32968315663,1,null,123.93973804027164,48,null,182852.36695083824,0,null,0,3053214,0,0,0,3053214,-7632,3045582,0,239115,3284697,0,3284697,273726,0,3284697,null,4422232,0,0,0,0,0,4422232,-11056,4411176,0,4411176,0,4411176,367598,7695873,641324]
["W1D001",24,"JCFA - Lafayette",59,null,234480.14790699389,54,null,29079.720259979542,17,null,2492.4486447492623,4,null,14386.451586850839,0,null,0,280439,0,0,0,280439,-702,279737,0,42300,322037,0,322037,26836,10000,332037,null,376491,0,0,0,0,0,376491,-941,375550,0,375550,0,375550,31296,697587,58132]
["W2B001",20,"Willow Charter Academy",576,null,2280201.8212713734,567,null,303966.86426684295,78,null,11502.14174147136,43,null,158315.90790047782,0,null,0,2753986,0,0,0,2753986,-6884,2747102,0,232628,2979730,0,2979730,248311,0,2979730,null,3707805,0,0,0,0,0,3707805,-9269,3698536,0,3698536,0,3698536,308211,6678266,556522]
["W33001",22,"Lincoln Prep School",649,null,2914795.2503405185,593,null,356692.14564886095,200.5,null,33017.292530512481,134,null,549113.91418581735,3,null,5353.2393742996646,3858972,0,0,0,3858972,-9649,3849323,0,428288,4277611,0,4277611,356467,10664,4288275,null,5205600,0,0,0,0,0,5205600,-13015,5192585,0,5192585,0,5192585,432715,9470196,789182]
["W3B001",15,"Iberville Charter Academy",488,null,1611232.924398819,363,null,129118.67865235099,67,null,5559.0426730302461,64,null,159391.01391674535,1,null,1517.1169058033354,1906818,0,0,0,1906818,-4768,1902050,0,240085,2142135,0,2142135,178512,0,2142135,null,7396227,0,0,0,0,0,7396227,-18491,7377736,0,7377736,0,7377736,614812,9519871,793324]
["W4A001",12,"Delta Charter School ",480,null,2555980.4385810168,317,null,220822.02792684178,282.5,null,53807.612300444162,63,null,298751.86837848235,5,null,9719.0633626557101,3139081,0,0,0,3139081,-7848,3131233,0,180167,3311400,0,3311400,275950,10000,3321400,null,2017850,0,0,0,0,0,2017850,-5045,2012805,0,2012805,0,2012805,167734,5324205,443684]
["W4B001",16,"Lake Charles College Prep",604,null,2157450.1256712074,496,null,248793.62015230139,799,null,109427.55439152586,57,null,194209.6267069318,6,null,8177.2474402918651,2718058,0,0,0,2718058,-6795,2711263,0,229929,2941192,0,2941192,245099,15725,2956917,null,5021732,0,0,0,0,0,5021732,-12555,5009177,0,5009177,0,5009177,417432,7950369,662531]
["W5B001",17,"Northeast Claiborne Charter",198,null,1038954.0395850644,168,null,115082.49997343491,135,null,25207.450500797939,11,null,51503.254416280222,0,null,0,1230748,0,0,0,1230748,-3078,1227670,0,48410,1276080,0,1276080,106341,10000,1286080,null,1087144,0,0,0,0,0,1087144,-2717,1084427,0,1084427,0,1084427,90369,2360507,196710]
["W6B001",18,"Acadiana Renaissance",2884,null,11759610.687364988,1222,null,680457.28573558258,907,null,137015.44127268507,173,null,656566.97236661625,128,null,189673.75834334202,13423325,0,0,0,13423325,-33558,13389767,0,961269,14351036,0,14351036,1195921,58202,14409238,null,18017757,0,0,0,0,0,18017757,-45045,17972712,0,17972712,0,17972712,1497726,32323748,2693647]
["W7A001",9,"Louisiana Key Academy ",443,null,1718175.8704887149,341,null,166405.75094199172,51,null,6587.7790250961734,330,null,1123830.5204977756,0,null,0,3015002,0,0,0,3015002,-7537,3007465,0,261590,3269055,0,3269055,272419,10000,3279055,null,4117580,0,0,0,0,0,4117580,-10293,4107287,0,4107287,0,4107287,342276,7376342,614695]
["W7B001",19,"Lafayette Renaissance",1734,null,7051794.9125667866,1475,null,809465.29773518757,679,null,101597.56605879522,109,null,406452.49904407409,40,null,61069.996990243519,8430380,0,0,0,8430380,-21075,8409305,0,596648,9005953,0,9005953,750498,27836,9033789,null,10733389,0,0,0,0,0,10733389,-26836,10706553,0,10706553,0,10706553,892214,19712506,1642712]
["W8A001",13,"Impact Charter",421,null,1903043.9587027787,380,null,218158.03321387677,58,null,8938.8760020265872,23,null,88374.708412862848,0,null,0,2218516,0,0,0,2218516,-5546,2212970,0,270588,2483558,0,2483558,206963,0,2483558,null,3058174,0,0,0,0,0,3058174,-7646,3050528,0,3050528,0,3050528,254211,5534086,461174]
["WAG001",32,"Louisiana Virtual Charter Academy (90%)",1916,null,7604498.2997596292,1604,null,842128.95999114623,1428,null,205556.79703533868,238,null,962055.39786727133,32,null,46998.606961433652,9661239,0,0,0,9661239,-24154,9637085,0,538698,10175783,0,10175783,847986,80976,10256759,null,11918234,0,0,0,0,0,11918234,-29792,11888442,0,11888442,0,11888442,990710,22064225,1838696]
["WAK001",8,"Southwest LA Charter School ",731,null,2603244.3472762234,673,null,336610.32792987791,127,null,17308.507081951117,74,null,252131.79607566583,3,null,4088.6237201459326,3213383,0,0,0,3213383,-8033,3205350,0,342261,3547611,0,3547611,295635,0,3547611,null,6091454,0,0,0,0,0,6091454,-15229,6076225,0,6076225,0,6076225,506352,9623836,801987]
["WAL001",7,"J. S. Clark Leadership Academy ",381,null,1843963.0757827144,359,null,235630.30225160951,331,null,59156.379621308333,22,null,98463.896845187119,3,null,5370.7580097374794,2242584,0,0,0,2242584,-5607,2236977,0,183648,2420625,0,2420625,201719,20786,2441411,null,1464277,0,0,0,0,0,1464277,-3661,1460616,0,1460616,0,1460616,121718,3881241,323437]
["WAU001",21,"GEO Prep Academy",776,null,2859648.3406520379,695,null,323492.12791497656,185,null,23423.858148387582,94,null,300029.52441158541,6,null,8058.5427929510852,3514653,0,0,0,3514653,-8786,3505867,0,399502,3905369,0,3905369,325448,0,3905369,null,7556495,0,0,0,0,0,7556495,-18891,7537604,0,7537604,0,7537604,628133,11442973,953581]
["WBQ001",26,"New Harmony High School",333,null,1152370.1810294061,239,null,112042.14523205016,327,null,41737.031791743932,39,null,124333.96229884637,0,null,0,1430483,0,0,0,1430483,-3576,1426907,0,187424,1614331,0,1614331,134528,28559,1642890,null,2759931,0,0,0,0,0,2759931,-6899,2753032,0,2753032,0,2753032,229420,4367363,363948]
["WBR001",27,"Athlos Academy of Jefferson Parish",1070,null,4183481.5502833272,942,null,461779.4363690507,170,null,22671.151868809258,114,null,380664.10864851932,3,null,4032.7673906145437,5052629,0,0,0,5052629,-12632,5039997,0,478163,5518160,0,5518160,459846,0,5518160,null,8215852,0,0,0,0,0,8215852,-20541,8195311,0,8195311,0,8195311,682942,13713471,1142788]
["WBX001",28,"GEO Next Generation HS ",434,null,1587323.146760544,377,null,175235.47780898726,456,null,57063.476346099967,62,null,193661.99023875804,0,null,0,2013284,0,0,0,2013284,-5032,2008252,0,183744,2191996,0,2191996,182667,15002,2206998,null,4258126,0,0,0,0,0,4258126,-10645,4247481,0,4247481,0,4247481,353957,6439477,536624]
["WJ5001",25,"Collegiate Academies",501,null,1857566.0483258236,485,null,227702.71923686872,208,null,26654.446789535705,101,null,322296.38405992382,0,null,0,2434219,0,0,0,2434219,-6085,2428134,0,299201,2727335,0,2727335,227278,31812,2759147,null,4851164,0,0,0,0,0,4851164,-12128,4839036,0,4839036,0,4839036,403253,7566371,630531]
["WZ8001",11,"GEO Prep Mid-City of Great BR",662,null,2386223.7137389975,635,null,288816.60338449292,201,null,24924.237902086657,87,null,267976.06170169299,0,null,0,2967942,0,0,0,2967942,-7420,2960522,0,287906,3248428,0,3248428,270703,0,3248428,null,6640013,0,0,0,0,0,6640013,-16599,6623414,0,6623414,0,6623414,551950,9871842,822653]
["WZN001",null,"GEO Prep Baker",87,null,386101.10818948539,81,null,46073.209030090271,0,null,0,10,null,37206.519615415789,0,null,0,469381,0,0,0,469381,-1173,468208,0,39165,507373,0,507373,42280,0,507373,null,663311,0,0,0,0,0,663311,-1658,661653,0,661653,0,661653,55139,1169026,97419]
["WZO001",null,"Louisiana Key Academy Northshore",258,null,1147213.7451139421,110,null,66212.546102458873,0,null,0,150,null,604024.05637927179,0,null,0,1817450,0,0,0,1817450,-4543,1812907,0,134127,1947034,0,1947034,162254,0,1947034,null,2013007,0,0,0,0,0,2013007,-5032,2007975,0,2007975,0,2007975,167332,3955009,329586]
["WZP001",null,"Discovery Ochsner BR",127,null,485075.07541155996,101,null,48668.799812200261,0,null,0,13,null,45224.83491419912,0,null,0,578969,0,0,0,578969,-1447,577522,0,86849,664371,0,664371,55365,0,664371,null,1201959,0,0,0,0,0,1201959,-3005,1198954,0,1198954,0,1198954,99913,1863325,155278]
["WZQ001",null,"Kenilworth Middle",688,null,2492354.1757679028,623,null,286051.13692113949,193,null,24075.909069406123,70,null,218641.95415143197,1,null,1239.3973804027164,3022363,0,0,0,3022363,-7556,3014807,0,307174,3321981,0,3321981,276833,0,3321981,null,6828747,0,0,0,0,0,6828747,-17072,6811675,0,6811675,0,6811675,567640,10133656,844473]
["WZT001",null,"LaKey Caddo",90,null,387243.40049812949,43,null,24147.930777404727,0,null,0,36,null,140593.78499748139,0,null,0,551984,0,0,0,551984,-1380,550604,0,56137,606741,0,606741,50562,0,606741,null,738695,0,0,0,0,0,738695,-1847,736848,0,736848,0,736848,61403,1343589,111965]
["WZU001",33,"Rebirth Blended Learning Academy (new)",250,null,859174.31872722623,225,null,102369.34317895555,10,null,1240.8405233812791,26.5,null,91339.649637788592,0,null,0,1054124,0,0,0,1054124,-2635,1051489,0,0,1051489,0,1051489,87624,0,1051489,null,1946498,0,0,0,0,0,1946498,-4866,1941632,0,1941632,0,1941632,161803,2993121,249427]
["TBD",null,"Academy of Collaborative Education (new)",86,null,408522.35958161502,68.8,null,42089.085300118342,0,null,0,86,null,358713.79517146311,0.86,null,1434.8551806858529,810760,0,0,0,810760,-2027,808733,0,0,808733,0,808733,67394,0,808733,null,532168,0,0,0,0,0,532168,-1330,530838,0,530838,0,530838,44237,1339571,111631]
["WZW001",null,"Vermilion Charter (new)",720,null,3841821.1307106055,460.8,null,322065.45398544607,64.8,null,12351.942127282733,79.2,null,377420.45388919464,14.4,null,27448.760282850522,4581108,0,0,0,4581108,-11453,4569655,0,0,4569655,0,4569655,380805,0,4569655,null,2397600,0,0,0,0,0,2397600,-5994,2391606,0,2391606,0,2391606,199301,6961261,580106]
["State Total",null,null,27118,null,109463390.46831472,20745.599999999999,null,10948236.062203983,11863.8,null,1705088.4076266729,3331.7,null,12362778.530196672,555.26,null,822372.94941528374,135301872,0,0,0,135301872,-338256,134963616,0,11839223,146802839,0,146802839,12233586,605143,147407982,0,197919327,0,0,0,0,0,197919327,-494793,197424534,0,197424534,0,197424534,16452062,344227373,28685648]

{"sheet":"6_Local Deduct Calc","index":24,"n_rows":76,"n_cols":10,"rows_kept":76,"cut":false,"hidden":false,"merged":[[3,0,3,1],[5,0,5,1],[0,0,2,1],[0,9,2,9],[0,2,0,4],[1,2,2,2],[1,3,2,3],[1,5,2,5],[1,6,2,6],[0,5,0,7],[0,8,2,8]]}
["School \nSystem",null,"Local Deduction Property Tax",null,null,"Local Deduction Sales Tax",null,null,"Other\nRevenue","Total Local\nDeduction\n\n(Property,\nSales, and\nOther Revenue)"]
[null,null,"2021\nAd Valorem\nTax Revenues","2021\nNet Assessed\nTaxable\nProperty\nwith Growth\nCap of 10%","Projected\nYield of\nProperty\nTax Millage\nRate of","FY2021-22\nSales Tax\nRevenue","FY2021-22\nComputed\nSales\nTax Base\nwith Growth\nCap of 15%","Projected\nYield of\nSales Tax\nRate of"]
[null,null,null,null,11.570288,null,null,5.6320399999999996E-3]
["FY2024-25",null,1,2,3,4,5,6,7,8]
[null,null,"Link in File","Link in File","Formula","Link in File","Link in File","Formula","Link in File","Formula"]
["July 2024",null,"(T7, C27)","(T7, C3c)","C2 x 12.06 ÷ 1,000","(T7, C32)","(T7, C36)","C5 x 0.60%","(T7, C39)","C3 + C6 + C7"]
[1,"Acadia",12958532,448052550,5184097,16277637,1085175800,6111754,451231,11747082]
[2,"Allen",6220973,130656191,1511730,10823182,360772733,2031886,77872,3621488]
[3,"Ascension",105332994,1710124098,19786628,98038020,4901901000,27607703,224318,47618649]
[4,"Assumption",8104108,205160979,2373772,8693693,289789767,1632108,96023,4101903]
[5,"Avoyelles",4019134,171569723,1985111,10903332,623047543,3509029,395321,5889461]
[6,"Beauregard",18405740,336422774.60000002,3892508,16637984,831899200,4685290,326204,8904002]
[7,"Bienville",23141468,347921475,4025552,6958665,347933250,1959574,296114,6281240]
[8,"Bossier",72834967,1139405827,13183254,64622045,3692688286,20797368,787526,34768148]
[9,"Caddo",144823524,1936063317,22400810,110104572,7340304800,41340890,3399508,67141208]
[10,"Calcasieu",65559892,2796243804,32353346,188296053,7531842120,42419636,1079759,75852741]
[11,"Caldwell",3518671,67959339,786309,2870573,143528650,808359,67272,1661940]
[12,"Cameron",16976078,458221698,5301757,0,107358108.26701126,604645,659526,6565928]
[13,"Catahoula",1196589,50468489.500000007,583935,3629951,120998367,681468,81635,1347038]
[14,"Claiborne",3786185,117812003,1363119,3484503,174225150,981243,120549,2464911]
[15,"Concordia",6356879,159369670,1843953,5923723,296186150,1668132,120567,3632652]
[16,"DeSoto",43883916,727638864,8418991,43502857,1402253328,7897547,954719,17271257]
[17,"East Baton Rouge",196330462,4537599620.8299999,52501334,229605426,11480271300,64657347,4086440,121245121]
[18,"East Carroll",908366,49242433.900000006,569749,2471495,82383167,463985,107022,1140756]
[19,"East Feliciana",5326809,270850809,3133822,4700906,235045300,1323785,50808,4508415]
[20,"Evangeline",8582370,266739578,3086254,9600694,480034700,2703575,209109,5998938]
[21,"Franklin",2727804,113560420,1313927,6581114,329055700,1853255,77859,3245041]
[22,"Grant",3623946,66033957,764032,3953980,197699000,1113449,407784,2285265]
[23,"Iberia",20247974,584543781,6763340,30893234,1544661700,8699596,620897,16083833]
[24,"Iberville",56866747,844560986.50000012,9771814,37801285,1768132072.4999998,9958191,126498,19856503]
[25,"Jackson",4816928,189402340,2191440,7081504,236050133,1329444,94698,3615582]
[26,"Jefferson",126429516,4203554325,48636334,265027979,13251398950,74632409,1780708,125049451]
[27,"Jefferson Davis",10072990,277873144,3215072,15057397,602295880,3392154,324742,6931968]
[28,"Lafayette",83213111,2406155428,27839911,156636021,7831801050,44109017,2543661,74492589]
[29,"Lafourche",37092868,826344046.00000012,9561039,42917670,2145883500,12085702,347270,21994011]
[30,"LaSalle",4293373,95166260,1101101,9657071,321902367,1812967,77637,2991705]
[31,"Lincoln",24466466,507408967,5870868,28022132,1120885280,6312871,320699,12504438]
[32,"Livingston",20703438,655560691,7585026,77363935,3094557400,17428671,1045113,26058810]
[33,"Madison",2201328,105131987,1216407,3861396,154455840,869901,79693,2166001]
[34,"Morehouse",6700263,162691731,1882390,9123417,444212512.49999994,2501823,225716,4609929]
[35,"Natchitoches",10576318,404631233,4681700,23396737,935869480,5270854,411350,10363904]
[36,"Orleans",213912055,4669418072,54026512,177817392,11854492800,66764978,2623743,123415233]
[37,"Ouachita",36961453,850189082,9836933,61167438,2038914600,11483249,840713,22160895]
[38,"Plaquemines",22042436,886779840,10260298,49465577,1145176348,6449679,104395,16814372]
[39,"Pointe Coupee",12923267,469858715,5436401,9857297,492864850,2775835,142366,8354602]
[40,"Rapides",52947678,1057456863,12235080,67082012,3354100600,18890429,941444,32066953]
[41,"Red River",13275957,246066790,2847064,10445134,398905099.99999994,2246649,2742124,7835837]
[42,"Richland",7734610,224385036,2596199,8226742,411337100,2316667,192981,5105847]
[43,"Sabine",7853279,275152388,3183592,16878372,675134880,3802387,189538,7175517]
[44,"St. Bernard",16718823,399670646,4624304,26418918,1261460357.5,7104595,125917,11854816]
[45,"St. Charles",97844001,1765445621.5000002,20426714,72358102,2411936733,13584124,270806,34281644]
[46,"St. Helena",2360274,55458083,641666,1897918,94895900,534458,107682,1283806]
[47,"St. James",30869584,670183663,7754218,19074476,762979040,4297128,76734,12128080]
[48,"St. John the Baptist",32729988,770815875,8918562,28694124,1147764960,6464258,250177,15632997]
[49,"St. Landry",15426692,749398962,8670762,31124835,1556241750,8764816,591533,18027111]
[50,"St. Martin",14431790,428882434,4962293,21072053,1053602650,5933932,302287,11198512]
[51,"St. Mary",23137569,573948263,6640747,24639278,1119967182,6307700,513967,13462414]
[52,"St. Tammany",153544208,2500864424,28935722,145218198,7260909900,40893735,2152766,71982223]
[53,"Tangipahoa",8033518,693406194,8022909,80556752,3222270080,18147954,192361,26363224]
[54,"Tensas",2229848,58908246,681585,1029244,68616267,386450,28434,1096469]
[55,"Terrebonne",9360763,1035157872,11977075,75564885,2928871512,16495522,322574,28795171]
[56,"Union",5560904,151492793,1752815,10229939,340997967,1920514,96314,3769643]
[57,"Vermilion",12981093,331347234,3833783,14661148,977409867,5504811,1336172,10674766]
[58,"Vernon",8048092,183050990,2117953,17143946,857197300,4827769,391987,7337709]
[59,"Washington",3237277,116839673,1351869,7498827,374941350,2111685,158367,3621921]
[60,"Webster",13628002,264449331,3059755,18130170,851181690,4793889,281952,8135596]
[61,"West Baton Rouge",33535530,627878642,7264737,23142784,1157139200,6517054,240190,14021981]
[62,"West Carroll",1927102,68815614,796216,3707967,185398350,1044171,77720,1918107]
[63,"West Feliciana",17219024,412012732,4767106,11069843,365100620,2056261,55736,6879103]
[64,"Winn",2260765,83086294,961332,5328434,266421700,1500498,208407,2670237]
[65,"City of Monroe",14171341,403386756,4667301,34408787,1720439350,9689583,337715,14694599]
[66,"City of Bogalusa",6704362,106128680,1227939,4014360,401436000,2260904,185731,3674574]
[67,"Zachary Community",19068881,287029677.26999998,3321016,13103521,655176050,3689978,107400,7118394]
[68,"City of Baker",2495337,58435368,676114,5113264,255663200,1439905,44034,2160053]
[69,"Central Community",12650135,212404134,2457577,13221663,528866520,2978597,4000,5440174]
[null,"STATE TOTAL",2090126365,49057947528.099998,567614581,2663883583,127704311357.76701,719235792,38314115,1325164488]

{"sheet":"7_Local Revenue","index":25,"n_rows":76,"n_cols":46,"rows_kept":76,"cut":false,"hidden":false,"merged":[[3,0,3,1],[4,0,4,1],[1,18,2,18],[1,12,2,12],[1,13,2,13],[1,14,2,14],[1,2,2,2],[1,9,2,9],[1,3,2,3],[1,5,2,5],[1,4,2,4],[0,0,2,1],[0,8,0,9],[0,10,0,15],[0,2,0,7],[1,10,2,10],[0,45,2,45],[0,44,2,44],[0,36,2,36],[0,31,2,31],[1,37,2,37],[1,38,2,38],[1,32,2,32],[1,33,2,33],[1,34,2,34],[1,42,2,42],[0,43,2,43],[0,37,0,42],[1,39,2,39],[1,41,2,41],[1,35,2,35],[0,32,0,35],[1,6,2,6],[1,8,2,8],[1,30,2,30],[1,15,2,15],[1,28,2,28],[1,29,2,29],[1,17,2,17],[0,16,2,16],[0,17,0,22],[1,19,2,19],[1,20,2,20],[1,21,2,21],[0,23,2,23],[1,22,2,22],[0,24,0,30],[1,24,2,24],[1,25,2,25],[1,26,2,26],[1,27,2,27],[1,11,2,11]]}
["School\nSystem",null,"2022 Assessed Property Value",null,null,null,null,null,"Ad Valorem\nConstitutional Tax",null,"Ad Valorem Renewable Taxes",null,null,null,null,null,"Total\nAd Valorem\nTaxes\n\n(Non Debt)","Debt Service Taxes",null,null,null,null,null,"Total\nAd Valorem\nTaxes\n\n(Debt)","Summary Of 2022-2023 Ad Valorem Taxes",null,null,null,null,null,null,"Total\nAd Valorem\nRevenue\nIncluding Debt\nWith CAFR\nAudit Adjs.","2022-2023 Summary Of Sales Taxes",null,null,null,"Total\nSales Tax\nRevenue\nWith CAFR\nAudit Adjs.","2022-2023 Computed Sales Tax Base",null,null,null,null,null,"Other Revenues:\n\n(Includes State &\nFederal taxes in\nlieu of & 50% of\nearnings from\n16th section and\nother real estate)","Total Local\nRevenue\n\n(For Use in MFP\nLevels 1 and 2)","Per Pupil\nAmount"]
[null,null,"Total Assessed\nProperty Value","Assessed\nHomestead\nExemption","Net Assessed\nTaxable\nProperty","Prior Year\nNet Assessed\nTaxable\nProperty\n\n(Without cap)","Percent\nChange\nof Net\nAssessed\nTaxable\nProperty","Net Assessed\nTaxable Property\nWith Cap Of","Parish\nMill\nRate","Parish\nRevenue\nAmount","Parish\nMill\nRate","Parish\nRevenue\nAmount","District\nMill\nLow","District\nMill\nHigh","# Of\nDistricts","District\nRevenue\nAmount","","Parish\nMill\nRate","Parish\nRevenue\nAmount","District\nMill\nLow","District\nMill\nHigh","# Of\nDistricts","District\nRevenue\nAmount","","Parishwide\nMillage\nIncluding\nDebt","Parishwide\nRevenue\nIncluding\nDebt","District\nRevenue\nIncluding\nDebt","Total\nAverage\nMill Rate\n\n(Debt)","Total\nAverage\nMill Rate\n\n(Non Debt)","Total\nAverage\nMill Rate\nIncluding\nDebt","AFR Audit\nAdjustments\n \n","","Combined\nSales\nPercent","Sales\nRevenue\n\n(Non Debt)","Sales\nRevenue\n\n(Debt)","AFR Audit\nAdjustments\n\n","","Prior Year\nComputed\nSales Tax Base\n\n(Without Cap)","Computed\nSales Tax\nBase","Percent\nChange of\nComputed\nSales Tax\nBase","Computed\nSales Tax\nBase With\nGrowth Cap Of","Non\nDebt\nRate","Debt\nRate"]
[null,null,null,null,null,null,null,0.1,null,null,null,null,null,null,null,null,null,null,null,null,null,null,null,null,null,null,null,null,null,null,null,null,null,null,null,null,null,null,null,null,0.15]
["FY2024-25",null,1,2,3,"(3a)","(3b)","(3c)",4,5,6,7,8,9,10,11,12,13,14,15,16,17,18,19,20,21,22,23,24,25,26,27,28,29,30,31,32,33,34,35,36,37,38,39,40,41]
["July 2024",null,"Louisiana Tax Commission\nTable 41","Louisiana Tax Commission\nTable 43","C1 - C2","Prior Year\nT7, C3","(C3 - C3a) ÷ C3a","If C3b > 10%,\n3a x (1 + 10%), C3","KPC 62220,\nC3","KPC 62160 through 62220, C4","KPC 62320,\nC3","KPC 62260 through 62320, C4","KPC 62320,\nC5","KPC 62320,\nC6","KPC 62320,\nC7","KPC 62260 through 62320, C8","C5 + C7 + C11","KPC 62620,\nC3","KPC 62560 through 62620, C4","KPC 62620,\nC5","KPC 62620,\nC6","KPC 62620,\nC7","KPC 62560 through 62620, C8","C14 + C18","C4 + C6\n+ C13","C5 + C7\n+ C14","C11 + C18","(C19 ÷ C3)\n*1,000","(C12 ÷ C3)\n*1,000","(C27 ÷ C3)\n*1,000","CAFR Audit\nAdjustments","C12 + C19 + C26","KPC 63320,\nC3","KPC 63320,\nC4","KPC 63320,\nC5","CAFR Audit\nAdjustments","C29 + C30 + C31","Prior Year\nT7, C34","C32 ÷ C28","(C34 - C33) ÷ C33","If C35 > 15%,\nC33 x (1 + 15%)","C29 ÷ C34","C30 ÷ C34","KPC 6700, 6850, 7000, 7150, 12200, 12300, 12400, and 50% of 2250 & 2300","C27 + C32\n+ C39","C40 ÷\n(T3, C1)"]
[null,null,"Input (Louisiana Tax Commission Annual Report)","Input (Louisiana Tax Commission Annual Report)","Formula","Input\n(Prior Year\nBudget Letter)","Formula","Formula","Input\n(AFR in Access)","Input\n(AFR in Access)","Input\n(AFR in Access)","Input\n(AFR in Access)","Input\n(AFR in Access)","Input\n(AFR in Access)","Input\n(AFR in Access)","Input\n(AFR in Access)","Formula","Input\n(AFR in Access)","Input\n(AFR in Access)","Input\n(AFR in Access)","Input\n(AFR in Access)","Input\n(AFR in Access)","Input\n(AFR in Access)","Formula","Formula","Formula","Formula","Formula","Formula","Formula",null,"Formula","Input\n(AFR in Access)","Input\n(AFR in Access)","Input\n(AFR in Access)",null,"Formula","Input\n(Prior Year\nBudget Letter)","Formula","Formula","Formula","Formula","Formula","Input\n(AFR in Access)","Formula","Formula"]
[1,"Acadia",540787390,92734840,448052550,421134872,6.3917000917463801E-2,448052550,5.14,2293432,20.05,8683342,0,13.4,3,1981758,12958532,0,0,0,0,0,0,0,25.19,10976774,1981758,0,28.92,28.92,null,12958532,1.4999999999999999E-2,16277637,0,null,16277637,1059490800,1085175800,2.4242777757013084E-2,1085175800,1.4999999999999999E-2,0,451231,29687400,3339.42]
[2,"Allen",160772080,30115889,130656191,125545111,4.0711103437552416E-2,130656191,4.28,553581,5.15,668226,0,89.2,6,2638001,3859808,0,0,0,38.75,5,2361165,2361165,9.43,1221807,4999166,18.07,29.54,47.61,null,6220973,0.03,10823182,0,null,10823182,348141700,360772733,3.6281298678095729E-2,360772733,3.0000000027718281E-2,0,77872,17122027,4596.5200000000004]
[3,"Ascension",1962268000,252143902,1710124098,1577944366,8.3767042012430487E-2,1710124098,3.61,6173925,42.9,73368768,0,0,0,0,79542693,15.08,25790301,0,0,0,0,25790301,61.589999999999996,105332994,0,15.08,46.51,61.59,null,105332994,0.02,98038020,0,null,98038020,4404677650,4901901000,0.11288529820110672,4901901000,0.02,0,224318,203595332,8570.27]
[4,"Assumption",243754263,38593284,205160979,200226729,2.4643313231172047E-2,205160979,5.49,1132340,33.880000000000003,6971768,0,0,0,0,8104108,0,0,0,0,0,0,0,39.370000000000005,8104108,0,0,39.5,39.5,null,8104108,0.03,8693693,0,null,8693693,275418300,289789767,5.2180508702580765E-2,289789767,2.9999999965492224E-2,0,96023,16893824,6363.02]
[5,"Avoyelles",235317740,63748017,171569723,159133099,7.8152339633629581E-2,171569723,3.62,615973,20,3403161,0,0,0,0,4019134,0,0,0,0,0,0,0,23.62,4019134,0,0,23.43,23.43,null,4019134,1.7500000000000002E-2,10903332,0,null,10903332,634203657,623047543,-1.759074372540239E-2,623047543,1.7499999995987465E-2,0,395321,15317787,3166.14]
[6,"Beauregard",400081300,62280803,337800497,305838886,0.10450473259963418,336422774.60000002,5.12,1723132,31.77,10692180,0,0,0,0,12415312,17.8,5990428,0,0,0,0,5990428,54.69,18405740,0,17.73,36.75,54.49,null,18405740,0.02,16637984,0,null,16637984,785884850,831899200,5.8551007822583677E-2,831899200,0.02,0,326204,35369928,6371.81]
[7,"Bienville",365891260,17969785,347921475,337247932,3.1648950185408399E-2,347921475,5.99,2073340,52.95,18698148,0,0,0,0,20771488,0,0,0,54.12,4,2369980,2369980,58.940000000000005,20771488,2369980,6.81,59.7,66.510000000000005,null,23141468,0.02,6958665,0,null,6958665,319641050,347933250,8.851241103106125E-2,347933250,0.02,0,296114,30396247,16971.66]
[8,"Bossier",1347556892,208151065,1139405827,1047396717,8.7845520714955605E-2,1139405827,3.41,3855544,47.19,53345963,0,0,0,0,57201507,13.83,15633460,0,0,0,0,15633460,64.429999999999993,72834967,0,13.72,50.2,63.92,null,72834967,1.7500000000000002E-2,64622045,0,null,64622045,3629966400,3692688286,1.7278916410906724E-2,3692688286,1.7499999998645974E-2,0,787526,138244538,6316]
[9,"Caddo",2272365043,336301726,1936063317,1861587795,4.0006451589354126E-2,1936063317,7.81,15127347,61.96,120011576,0,0,0,0,135138923,5,9684601,0,0,0,0,9684601,74.77,144823524,0,5,69.8,74.8,null,144823524,1.4999999999999999E-2,110104572,0,null,110104572,6732077667,7340304800,9.0347610809879866E-2,7340304800,1.4999999999999999E-2,0,3399508,258327604,7673.93]
[10,"Calcasieu",3102368861,306125057,2796243804,2644948911,5.7201442481850648E-2,2796243804,5.0599999999999996,13679594,11.94,32336203,0,0,0,345122,46360919,0,0,0,21.3,10,19198973,19198973,17,46015797,19544095,6.87,16.579999999999998,23.45,null,65559892,2.5000000000000001E-2,188296053,0,null,188296053,7314966000,7531842120,2.9648274510093418E-2,7531842120,2.5000000000000001E-2,0,1079759,254935704,8563.51]
[11,"Caldwell",83298083,15338744,67959339,65887570,3.1444003777950834E-2,67959339,5.44,353737,33.07,2153740,0,0,0,0,2507477,15.53,1011194,0,0,0,0,1011194,54.04,3518671,0,14.88,36.9,51.78,null,3518671,0.02,2870573,0,null,2870573,138027850,143528650,3.9852826802706846E-2,143528650,0.02,0,67272,6456516,4601.9399999999996]
[12,"Cameron",467623798,9402100,458221698,438675166,4.4558100195715204E-2,458221698,4.8099999999999996,2190781,29.26,13332890,0,0,0,0,15523671,0,0,0,11.18,1,1452407,1452407,34.07,15523671,1452407,3.17,33.880000000000003,37.049999999999997,null,16976078,0,0,0,null,0,198642887.28914607,107358108.26701126,-0.45954214755879985,107358108.26701126,0,0,659526,17635604,16405.21]
[13,"Catahoula",68318676,13872126,54446550,45880445,0.18670492406950281,50468489.500000007,4.16,224901,13.27,935061,0,5.56,0,0,1159962,0,0,0,12.9,0,36627,36627,17.43,1159962,36627,0.67,21.3,21.98,null,1196589,0.03,3629951,0,null,3629951,117490267,120998367,2.9858643524914279E-2,120998367,2.9999999917354258E-2,0,81635,4908175,4903.2700000000004]
[14,"Claiborne",137723175,19911172,117812003,118074707,-2.2248964801581087E-3,117812003,5.37,633185,20.61,2430003,0,11.96,3,722997,3786185,0,0,0,0,0,0,0,25.98,3063188,722997,0,32.14,32.14,null,3786185,0.02,3484503,0,null,3484503,155976400,174225150,0.11699686619257785,174225150,0.02,0,120549,7391237,4565.3100000000004]
[15,"Concordia",187228920,27859250,159369670,156039590,2.1341250640302248E-2,159369670,2.78,440834,37.22,5916045,0,0,0,0,6356879,0,0,0,0,0,0,0,40,6356879,0,0,39.89,39.89,null,6356879,0.02,5923723,0,null,5923723,322269350,296186150,-8.0936024477661309E-2,296186150,0.02,0,120567,12401169,3874.15]
[16,"DeSoto",773117048,45478184,727638864,761712574,-4.4733028130371916E-2,727638864,5.32,3873638,51.34,37382686,0,0,0,0,41256324,0,0,0,16,4,2627592,2627592,56.660000000000004,41256324,2627592,3.61,56.7,60.31,null,43883916,2.5000000000000001E-2,41269796,2233061,null,43502857,1219350720,1740114280,0.42708266904537523,1402253328,2.3716715892935492E-2,1.2832841070645085E-3,954719,88341492,18657.13]
[17,"East Baton Rouge",5104980814.8299999,567381194,4537599620.8299999,4345981733.1800003,4.4090817544645042E-2,4537599620.8299999,5.25,22507039,37.479999999999997,173823423,0,0,0,0,196330462,0,0,0,0,0,0,0,42.73,196330462,0,0,43.27,43.27,null,196330462,0.02,229605426,0,null,229605426,11269179100,11480271300,1.8731816943081507E-2,11480271300,0.02,0,4086440,430022328,9726.59]
[18,"East Carroll",60705395,5418178,55287217,44765849,0.23503112830497194,49242433.900000006,8.1999999999999993,455288,8.24,453078,0,0,0,0,908366,0,0,0,0,0,0,0,16.439999999999998,908366,0,0,16.43,16.43,null,908366,0.03,2471495,0,null,2471495,83700500,82383167,-1.5738651501484461E-2,82383167,2.9999999878615981E-2,0,107022,3486883,4770.0200000000004]
[19,"East Feliciana",309020549,38169740,270850809,252231903,7.3816617876446819E-2,270850809,3.34,874707,17,4452102,0,0,0,0,5326809,0,0,0,0,0,0,0,20.34,5326809,0,0,19.670000000000002,19.670000000000002,null,5326809,0.02,4700906,0,null,4700906,225196100,235045300,4.3736103777996152E-2,235045300,0.02,0,50808,10078523,6130.49]
[20,"Evangeline",319163395,52423817,266739578,248286331,7.4322444275033414E-2,266739578,4.58,1188784,10.53,2733112,0,12.55,3,4006962,7928858,0,0,0,9,1,653512,653512,15.11,3921896,4660474,2.4500000000000002,29.73,32.18,null,8582370,0.02,9600694,0,null,9600694,484206350,480034700,-8.6154384385913156E-3,480034700,0.02,0,209109,18392173,3511.97]
[21,"Franklin",144374748,30814328,113560420,111313320,2.0187161788005246E-2,113560420,4.62,507505,20.21,2220299,0,0,0,0,2727804,0,0,0,0,0,0,0,24.830000000000002,2727804,0,0,24.02,24.02,null,2727804,0.02,6581114,0,null,6581114,321533950,329055700,2.3393330626517043E-2,329055700,0.02,0,77859,9386777,3801.85]
[22,"Grant",101669087,35635130,66033957,63405082,4.1461581896542615E-2,66033957,5.44,357546,22.51,2131377,0,15.59,8,0,2488923,53.9,1135023,0,19.5,3,0,1135023,81.849999999999994,3623946,0,17.190000000000001,37.69,54.88,null,3623946,0.02,3953980,0,null,3953980,186120500,197699000,6.2209697480933052E-2,197699000,0.02,0,407784,7985710,2984.2]
[23,"Iberia",694210966,109667185,584543781,594291559,-1.6402349742948311E-2,584543781,4.4000000000000004,2506787,6.15,3503134,0,0,0,0,6009921,25,14238053,0,0,0,0,14238053,35.549999999999997,20247974,0,24.36,10.28,34.64,null,20247974,0.02,30893234,0,null,30893234,1430268650,1544661700,7.9980114225393945E-2,1544661700,0.02,0,620897,51762105,4732.75]
[24,"Iberville",996001005,52178190,943822815,767782715,0.22928374989530728,844560986.50000012,3.49,3427742,54.34,50274005,0,0,0,0,53701747,0,3165000,0,0,0,0,3165000,57.830000000000005,56866747,0,3.35,56.9,60.25,null,56866747,0.02,37801285,0,null,37801285,1537506150,1890064250,0.22930516408015669,1768132072.4999998,0.02,0,126498,94794530,23950.11]
[25,"Jackson",213410220,24007880,189402340,200019850,-5.3082281583552833E-2,189402340,5.09,912474,21.78,3904454,0,0,0,0,4816928,0,0,0,0,0,0,0,26.87,4816928,0,0,25.43,25.43,null,4816928,0.03,7081504,0,null,7081504,225662900,236050133,4.6029865786533807E-2,236050133,3.0000000042363882E-2,0,94698,11993130,5966.73]
[26,"Jefferson",4944437585,740883260,4203554325,3999079375,5.1130505505407729E-2,4203554325,2.83,4489022,27.12,114480786,0,0,0,0,118969808,0,7459708,0,0,0,0,7459708,29.950000000000003,126429516,0,1.77,28.3,30.08,null,126429516,0.02,254759479,10268500,null,265027979,13162276950,13251398950,6.771016925000959E-3,13251398950,1.9225100682671695E-2,7.7489931732830362E-4,1780708,393238203,8092.65]
[27,"Jefferson Davis",333038782,55165638,277873144,265438709,4.6844844321481387E-2,277873144,6.48,1779481,10.77,2956145,0,19,7,3341890,8077516,0,0,0,22.61,5,1995474,1995474,17.25,4735626,5337364,7.18,29.07,36.25,null,10072990,2.5000000000000001E-2,13260951,1796446,null,15057397,577884600,602295880,4.2242482322595205E-2,602295880,2.2017336396191186E-2,2.9826636038088124E-3,324742,25455129,4958.1499999999996]
[28,"Lafayette",2832029624,425874196,2406155428,2214956938,8.6321538229381142E-2,2406155428,4.92,11464859,31.02,71748252,0,0,0,0,83213111,0,0,0,0,0,0,0,35.94,83213111,0,0,34.58,34.58,null,83213111,0.02,147002346,9633675,null,156636021,7543253850,7831801050,3.8252351801736063E-2,7831801050,1.8769928533871529E-2,1.2300714661284712E-3,2543661,242392793,7109.75]
[29,"Lafourche",1077064455,182445979,894618476,751221860,0.19088450913821917,826344046.00000012,3.63,3109633,28.47,24388357,0,0,0,0,27497990,11.2,9594878,0,0,0,0,9594878,43.3,37092868,0,null,null,null,null,37092868,0.02,42917670,0,null,42917670,2233430700,2145883500,-3.9198529867078481E-2,2145883500,0.02,0,347270,80357808,6096.03]
[30,"LaSalle",118249083,23082823,95166260,89827990,5.9427690634066284E-2,95166260,4.53,440015,39.67,3853358,0,0,0,0,4293373,0,0,0,0,0,0,0,44.2,4293373,0,0,45.11,45.11,null,4293373,0.03,8570641,1086430,null,9657071,282880967,321902367,0.13794282596608912,321902367,2.6624970421543995E-2,3.3750295473906843E-3,77637,14028081,5879.33]
[31,"Lincoln",566614241,59205274,507408967,492742369,2.9765246349253965E-2,507408967,3.91,1994697,27.76,14135451,0,3.1,4,1197102,17327250,0,0,0,17.75,3,7139216,7139216,31.67,16130148,8336318,14.07,34.15,48.22,null,24466466,2.5000000000000001E-2,28022132,0,null,28022132,1096354200,1120885280,2.2375141172442263E-2,1120885280,2.5000000000000001E-2,0,320699,52809297,8509.39]
[32,"Livingston",915282482,259721791,655560691,637161570,2.8876696063135133E-2,655560691,3.29,2146450,19.18,12513349,0,0,0,0,14659799,0,0,0,10.92,10,6043639,6043639,22.47,14659799,6043639,9.2200000000000006,22.36,31.58,null,20703438,2.5000000000000001E-2,77363935,0,null,77363935,3080487600,3094557400,4.5673938112914328E-3,3094557400,2.5000000000000001E-2,0,1045113,99112486,3684.48]
[33,"Madison",115612788,10480801,105131987,105469548,-3.2005541542664048E-3,105131987,4.5199999999999996,411390,5.18,576781,0,0,0,0,988171,12,1213157,0,0,0,0,1213157,21.7,2201328,0,11.54,9.4,20.94,null,2201328,2.5000000000000001E-2,2315491,1545905,null,3861396,155352120,154455840,-5.769345149586629E-3,154455840,1.4991281650470452E-2,1.0008718349529549E-2,79693,6142417,5026.53]
[34,"Morehouse",198842601,36150870,162691731,157129979,3.5395868028468329E-2,162691731,5.96,932915,22.46,3515948,0,10,0,686982,5135845,10,1564418,0,0,0,0,1564418,38.42,6013281,686982,9.6199999999999992,31.57,41.18,null,6700263,0.02,9123417,0,null,9123417,386271750,456170850,0.18095835380143643,444212512.49999994,0.02,0,225716,16049396,5064.5]
[35,"Natchitoches",460339973,55708740,404631233,391338733,3.3966737455553626E-2,404631233,4.6500000000000004,1809649,7,2724207,0,20,5,3642749,8176605,0,0,0,26,3,2399713,2399713,11.65,4533856,6042462,5.93,20.21,26.14,null,10576318,2.5000000000000001E-2,23396737,0,null,23396737,880430440,935869480,6.2968109098999345E-2,935869480,2.5000000000000001E-2,0,411350,34384405,7164.91]
[36,"Orleans",5233209820,482403250,4750806570,4244925520,0.11917312744747521,4669418072,27.65,130537813,17.66,83374242,0,0,0,0,213912055,0,0,0,0,0,0,0,45.31,213912055,0,0,45.03,45.03,null,213912055,1.4999999999999999E-2,177817392,0,null,177817392,10890220733,11854492800,8.8544767883172712E-2,11854492800,1.4999999999999999E-2,0,2623743,394353190,8897.66]
[37,"Ouachita",1020747041,170557959,850189082,802883678,5.8919374370442736E-2,850189082,5.18,4420145,24.15,20341503,0,0,0,0,24761648,0,0,0,36,0,12199805,12199805,29.33,24761648,12199805,null,null,null,null,36961453,0.03,55007493,6159945,null,61167438,1928727033,2038914600,5.712968456122635E-2,2038914600,2.6978811667737336E-2,3.0211883322626655E-3,840713,98969604,5691.18]
[38,"Plaquemines",919460597,32680757,886779840,861682593,2.9125860501164842E-2,886779840,7.01,5738402,19.84,16268428,0,0,0,0,22006830,0,35606,0,0,0,0,35606,26.85,22042436,0,0.04,24.82,24.86,null,22042436,2.5000000000000001E-2,49465577,0,null,49465577,995805520,1978623080,0.9869573327932547,1145176348,2.5000000000000001E-2,0,104395,71612408,20031.439999999999]
[39,"Pointe Coupee",512748017,42889302,469858715,474637167,-1.0067589165430865E-2,469858715,4.54,2256603,21.46,10666664,0,0,0,0,12923267,0,0,0,0,0,0,0,26,12923267,0,0,27.5,27.5,null,12923267,0.02,9857297,0,null,9857297,469662600,492864850,4.9401953657796045E-2,492864850,0.02,0,142366,22922930,10045.11]
[40,"Rapides",1249896554,192439691,1057456863,1013286213,4.3591484255199278E-2,1057456863,4.93,5157470,21.64,22674917,0,24.39,13,12323194,40155581,0,0,0,44,8,12792097,12792097,26.57,27832387,25115291,12.1,37.97,50.07,null,52947678,0.02,67082012,0,null,67082012,3322390750,3354100600,9.5442867459223455E-3,3354100600,0.02,0,941444,120971134,5837.25]
[41,"Red River",257979080,11912290,246066790,233982380,5.1646666727639921E-2,246066790,5.16,1260578,39.590000000000003,9671762,0,0,0,0,10932340,9.6,2343617,0,0,0,0,2343617,54.35,13275957,0,9.52,44.43,53.95,null,13275957,0.02,10445134,0,null,10445134,346874000,522256700,0.50560924139601127,398905099.99999994,0.02,0,2742124,26463215,22852.52]
[42,"Richland",255231900,30846864,224385036,227498272,-1.3684657789400704E-2,224385036,9.6999999999999993,2094273,9.57,2066250,0,0,0,0,4160523,0,0,0,22,4,3574087,3574087,19.27,4160523,3574087,15.93,18.54,34.47,null,7734610,0.02,8226742,0,null,8226742,396488200,411337100,3.7451051506703102E-2,411337100,0.02,0,192981,16154333,6025.49]
[43,"Sabine",315759757,40607369,275152388,268355429,2.5328196360059479E-2,275152388,5.37,1456074,9.02,2445793,0,16.489999999999998,7,2577837,6479704,0,0,0,12.12,4,1373575,1373575,14.39,3901867,3951412,4.99,23.55,28.54,null,7853279,2.5000000000000001E-2,16404114,474258,null,16878372,590182080,675134880,0.14394337422105394,675134880,2.4297535923488354E-2,7.0246407651164465E-4,189538,24921189,6969.01]
[44,"St. Bernard",472257912,72587266,399670646,394164935,1.3968038531890209E-2,399670646,3.91,1552377,38.200000000000003,15166446,0,0,0,0,16718823,0,0,0,0,0,0,0,42.11,16718823,0,0,41.83,41.83,null,16718823,0.02,26418918,0,null,26418918,1096922050,1320945900,0.20422950746591337,1261460357.5,0.02,0,125917,43263658,5818.14]
[45,"St. Charles",1931441156,100146161,1831294995,1604950565,0.14102891075651292,1765445621.5000002,4.04,7416805,41.06,81229660,0,0,0,0,88646465,4.3499999999999996,9197536,0,0,0,0,9197536,49.45,97844001,0,5.0199999999999996,48.41,53.43,null,97844001,0.03,71245027,1113075,null,72358102,2132956967,2411936733,0.13079484036304048,2411936733,2.9538514018725714E-2,4.6148598542033152E-4,270806,170472909,19165.03]
[46,"St. Helena",74299950,18841867,55458083,52801097,5.0320659057519201E-2,55458083,3.38,190294,6,2169980,0,0,0,0,2360274,0,0,0,0,0,0,0,9.379999999999999,2360274,0,0,42.56,42.56,null,2360274,0.02,1897918,0,null,1897918,95349350,94895900,-4.7556695457284187E-3,94895900,0.02,0,107682,4365874,4230.5]
[47,"St. James",712659635,42475972,670183663,661512229,1.3108501430288751E-2,670183663,3.85,2651758,34.380000000000003,23806701,0,0,0,0,26458459,6.6,4411125,0,0,0,0,4411125,44.830000000000005,30869584,0,6.58,39.479999999999997,46.06,null,30869584,2.5000000000000001E-2,19074476,0,null,19074476,697689760,762979040,9.3579243588152991E-2,762979040,2.5000000000000001E-2,0,76734,50020794,16016.9]
[48,"St. John the Baptist",855767295,84951420,770815875,772903646,-2.7012047501714077E-3,770815875,3.71,3035488,26.36,20902190,0,0,0,0,23937678,11,8792310,0,0,0,0,8792310,41.07,32729988,0,11.41,31.05,42.46,null,32729988,2.5000000000000001E-2,28694124,0,null,28694124,1239338840,1147764960,-7.3889300524140764E-2,1147764960,2.5000000000000001E-2,0,250177,61674289,12342.26]
[49,"St. Landry",884003040,134604078,749398962,697268773,7.4763406907941365E-2,749398962,4.37,3306112,16.149999999999999,12120580,0,0,0,0,15426692,0,0,0,0,0,0,0,20.52,15426692,0,0,20.59,20.59,null,15426692,0.02,31124835,0,null,31124835,1481940550,1556241750,5.0137773745377305E-2,1556241750,0.02,0,591533,47143060,3923.03]
[50,"St. Martin",521900313,93017879,428882434,413713842,3.6664453687773879E-2,428882434,2.42,1045447,9.49,4099393,0,0,0,0,5144840,21.5,9286950,0,0,0,0,9286950,33.409999999999997,14431790,0,21.65,12,33.65,null,14431790,0.02,21072053,0,null,21072053,947561900,1053602650,0.11190904784162385,1053602650,0.02,0,302287,35806130,5173.55]
[51,"St. Mary",649047023,75098760,573948263,538177811,6.6465861781878632E-2,573948263,8.83,5041823,11.82,6749955,0,12.73,3,7147118,18938896,0,0,0,20,3,4198673,4198673,20.65,11791778,11345791,7.32,33,40.31,null,23137569,2.1999999999999999E-2,24639278,0,null,24639278,1041400273,1119967182,7.5443526410521697E-2,1119967182,2.1999999996428467E-2,0,513967,48290814,6591.7]
[52,"St. Tammany",3053801537,552937113,2500864424,2415902255,3.5167883478795792E-2,2500864424,3.48,8609752,44.62,110509493,0,0,0,0,119119245,13.9,34424963,0,0,0,0,34424963,61.999999999999993,153544208,0,13.77,47.63,61.4,null,153544208,0.02,145218198,0,null,145218198,7060836600,7260909900,2.8335636601475808E-2,7260909900,0.02,0,2152766,300915172,8262.59]
[53,"Tangipahoa",923573620,230167426,693406194,651578636,6.4194182695701527E-2,693406194,4.0599999999999996,2822271,0,0,0,15,2,5211247,8033518,0,0,0,0,0,0,0,4.0599999999999996,2822271,5211247,0,11.59,11.59,null,8033518,2.5000000000000001E-2,78706752,1850000,null,80556752,3264889480,3222270080,-1.3053856879712817E-2,3222270080,2.4425870596172995E-2,5.7412940382700639E-4,192361,88782631,4675.72]
[54,"Tensas",64076322,5168076,58908246,58039024,1.4976509598093862E-2,58908246,5.42,383051,32.28,1846797,0,0,0,0,2229848,0,0,0,0,0,0,0,37.700000000000003,2229848,0,0,37.85,37.85,null,2229848,1.4999999999999999E-2,1029244,0,null,1029244,67006667,68616267,2.4021490279467265E-2,68616267,1.4999999927130981E-2,0,28434,3287526,9260.64]
[55,"Terrebonne",1218006427,182848555,1035157872,999504683,3.5670857382065914E-2,1035157872,3.86,3897871,5.41,5462892,0,0,0,0,9360763,0,0,0,0,0,0,0,9.27,9360763,0,0,9.0399999999999991,9.0399999999999991,null,9360763,2.58E-2,75564885,0,null,75564885,2987159496,2928871512,-1.9512846260151619E-2,2928871512,2.5799999996722289E-2,0,322574,85248222,5855.76]
[56,"Union",188330720,36837927,151492793,151068319,2.8098148096822339E-3,151492793,3.55,525806,15,2222403,0,0,0,0,2748209,19,2812695,0,0,0,0,2812695,37.549999999999997,5560904,0,18.57,18.14,36.71,null,5560904,0.03,9944269,285670,null,10229939,301768400,340997967,0.12999892301513347,340997967,2.9162253040646426E-2,8.3774693002788489E-4,96314,15887157,5760.39]
[57,"Vermilion",429437539,98090305,331347234,321767285,2.9772911811093535E-2,331347234,4.82,1571242,35,11409851,0,0,0,0,12981093,0,0,0,0,0,0,0,39.82,12981093,0,0,39.18,39.18,null,12981093,1.4999999999999999E-2,14661148,0,null,14661148,942663267,977409867,3.6860033923439173E-2,977409867,1.4999999994884439E-2,0,1336172,28978413,3173.28]
[58,"Vernon",242490600,59439610,183050990,170012267,7.6692836523378632E-2,183050990,4.18,751694,8.1199999999999992,1428240,0,19.11,9,2834971,5014905,0,0,0,32.74,9,3033187,3033187,12.299999999999999,2179934,5868158,16.57,27.4,43.97,null,8048092,0.02,17143946,0,null,17143946,835692550,857197300,2.5732848761186155E-2,857197300,0.02,0,391987,25584025,3362.78]
[59,"Washington",159815704,42976031,116839673,112563067,3.7992976861584628E-2,116839673,3.91,451489,15.07,1740138,0,5.19,1,43079,2234706,0,0,0,11.5,1,1002571,1002571,18.98,2191627,1045650,8.58,19.13,27.71,null,3237277,0.02,7498827,0,null,7498827,358176500,374941350,4.680611374559749E-2,374941350,0.02,0,158367,10894471,2452.6]
[60,"Webster",323720347,59271016,264449331,259915045,1.7445261777747419E-2,264449331,4.22,1115420,11.57,3055251,0,26.7,5,1879157,6049828,0,0,0,42,6,7578174,7578174,15.79,4170671,9457331,28.66,22.88,51.53,null,13628002,2.1299999999999999E-2,18130170,0,null,18130170,803311268,851181690,5.9591373738828224E-2,851181690,2.1300000003524514E-2,0,281952,32040124,6485.86]
[61,"West Baton Rouge",680194820,52316178,627878642,581531162,7.9699048010775389E-2,627878642,4.3899999999999997,2759399,39,24513221,0,0,0,0,27272620,9.9600000000000009,6262910,0,0,0,0,6262910,53.35,33535530,0,9.9700000000000006,43.44,53.41,null,33535530,0.02,23142784,0,null,23142784,1116738800,1157139200,3.6177125752234987E-2,1157139200,0.02,0,240190,56918504,14015.88]
[62,"West Carroll",87091831,18276217,68815614,66117659,4.0805361847430201E-2,68815614,7.49,516521,18.23,1277365,0,4.57,1,133216,1927102,0,0,0,0,0,0,0,25.72,1793886,133216,0,28,28,null,1927102,0.02,3707967,0,null,3707967,207775900,185398350,-0.10770041183794656,185398350,0.02,0,77720,5712789,3800.92]
[63,"West Feliciana",431093961,19081229,412012732,425171326,-3.0948921517816561E-2,412012732,4.46,1772962,29.5,11831479,0,0,0,0,13604441,8.8000000000000007,3614583,0,0,0,0,3614583,42.760000000000005,17219024,0,8.77,33.020000000000003,41.79,null,17219024,0.03,11069843,0,null,11069843,317478800,368994767,0.16226584893227516,365100620,2.9999999972899344E-2,0,55736,28344603,13510.3]
[64,"Winn",100672192,17585898,83086294,79339420,4.722588090510367E-2,83086294,4.93,399859,15.72,1274113,0,3.44,0,220352,1894324,0,0,0,20,0,366441,366441,20.65,1673972,586793,4.41,22.8,27.21,null,2260765,0.02,5328434,0,null,5328434,236298300,266421700,0.12748039236845971,266421700,0.02,0,208407,7797606,4507.29]
[65,"City of Monroe",446291542,42904786,403386756,392123611,2.8723455267782892E-2,403386756,7.04,2870424,20.47,8342209,0,0,0,0,11212633,7.25,2958708,0,0,0,0,2958708,34.76,14171341,0,null,null,null,null,14171341,0.02,34408787,0,null,34408787,1666917650,1720439350,3.2108184828446684E-2,1720439350,0.02,0,337715,48917843,6174.94]
[66,"City of Bogalusa",125233730,19105050,106128680,104348170,1.7063164595986686E-2,106128680,6.43,685064,56.61,6019298,0,0,0,0,6704362,0,0,0,0,0,0,0,63.04,6704362,0,0,63.17,63.17,null,6704362,0.01,4014360,0,null,4014360,391842900,401436000,2.4482005415946032E-2,401436000,0.01,0,185731,10904453,5797.16]
[67,"Zachary Community",338221031.26999998,51191354,287029677.26999998,268715451.54000002,6.815471765781124E-2,287029677.26999998,5,1418266,38.200000000000003,10835147,0,0,0,0,12253413,24,6815468,0,0,0,0,6815468,67.2,19068881,0,23.74,42.69,66.44,null,19068881,0.02,13103521,0,null,13103521,625729700,655176050,4.705921742247491E-2,655176050,0.02,0,107400,32279802,5859.47]
[68,"City of Baker",79423720,20988352,58435368,58307049,2.2007459166729568E-3,58435368,5,287674,38.200000000000003,2207663,0,0,0,0,2495337,0,0,0,0,0,0,0,43.2,2495337,0,0,42.7,42.7,null,2495337,0.02,5113264,0,null,5113264,247177400,255663200,3.4330808560976853E-2,255663200,0.02,0,44034,7652635,4956.37]
[69,"Central Community",282234710,69830576,212404134,201361613,5.483925578208395E-2,212404134,3.91,822004,32.520000000000003,6848897,0,0,0,0,7670901,23.65,4979234,0,0,0,0,4979234,60.080000000000005,12650135,0,23.44,36.11,59.56,null,12650135,2.5000000000000001E-2,10582404,2639259,null,13221663,504403560,528866520,4.849878537732763E-2,528866520,2.0009593346918614E-2,4.990406653081386E-3,4000,25875798,5498.47]
[null,"STATE TOTAL",56893639766.099998,7509517542,49384122224.099998,46579830075.720001,6.0204001255937389E-2,49057947528.099998,5.1701449275362332,325083498,25.091884057971008,1429296299,0,89.2,80,50933734,1805313531,4.9123188405797089,192415926,0,54.12,84,92396908,284812834,35.174347826086951,1946795723,143330642,5.77,36.56,42.32,0,2090126365,2.06E-2,2624797359,39086224,0,2663883583,122427600769.28915,129196240846.26701,5.5286880037232311E-2,127704311357.76701,2.0299999999999999E-2,2.9999999999999997E-4,38314115,4792324063,7410.14]

{"sheet":"8_2.1.24 SIS BASE","index":26,"n_rows":77,"n_cols":61,"rows_kept":77,"cut":false,"hidden":false,"merged":[[262,0,263,1],[3,0,3,1],[0,0,2,1],[0,2,2,2],[0,3,2,3],[0,60,2,60],[0,40,0,45],[0,54,0,59],[0,46,1,46],[0,4,0,9],[0,47,0,50],[0,51,0,53],[0,10,0,16],[0,17,0,23],[0,24,0,30],[0,31,0,38]]}
["February 1, 2024\nStudent Membership\nBASE",null,"*City/Parish\nMFP\nMember-\nship","RSD\nOperated\n&\nType 5\nCharters","New Type 2 Charter Schools",null,null,null,null,null,"New Type 2 Charter Schools",null,null,null,null,null,null,"New Type 2 Charter Schools",null,null,null,null,null,null,"New Type 2 Charter Schools",null,null,null,null,null,null,"New Type 2 Charter Schools",null,null,null,null,null,null,null,null,"New Type 2 Charter Schools",null,null,null,null,null,"Total\nTable 3","Legacy Type 2 Charter Schools",null,null,null,"Legacy Type 2 Charter Schools",null,null,"Lab & State Approved Schools",null,null,null,null,null,"Total\nMFP\nFunded"]
[null,null,null,null,"Madison\nPreparatory\nAcademy","D'Arbonne\nWoods\nCharter\nSchool","Int'l\nHigh\nSchool\nof New\nOrleans","New\nOrleans\nMilitary/\nMaritime\nAcademy","Lycee\nFrancais\nde la\nNouvelle-\nOrleans","Lake\nCharles\nCharter\nAcademy","JS Clark\nLeadership\nAcademy","Southwest\nLouisiana\nCharter\nSchool","Louisiana\nKey\nAcademy","JCFA -\nEast","GEO Prep \nMid-City of \nGreater \nBaton Rouge","Delta\nCharter\nSchool","Impact\nCharter","Advantage\nCharter\nAcademy","Iberville\nCharter\nAcademy","Lake\nCharles\nCollege\nPrep","Northeast\nClaiborne\nCharter","Acadiana\nRenaissance\nCharter\nAcademy","Lafayette\nRenaissance\nCharter\nAcademy","Willow\nCharter\nAcademy","GEO Prep\nAcademy","Lincoln\nPrep\nSchool","Noble\nMinds","JCFA\nLafayette","Collegiate\nAcademy","New Harmony\nHigh School","Athlos\nAcademy\nof Jefferson\nParish","GEO Next\nGeneration\nHigh\nSchool","Red River\nCharter\nAcademy","St Landry Charter School","GEO Prep Baker","LA Key Academy Northshore\n","Discovery Ochsner BR","Kenilworth Science and Technology","LaKey Caddo","This Column\nIntentionally\nLeft Blank","This Column\nIntentionally\nLeft Blank","This Column\nIntentionally\nLeft Blank","This Column\nIntentionally\nLeft Blank","This Column\nIntentionally\nLeft Blank","Louisiana\nVirtual\nCharter\nAcademy","University\nView\nAcademy",null,"New Vision\nLearning\nAcademy","Glencoe\nCharter\nSchool","Int'l School\nof Louisiana","Avoyelles\nPublic\nCharter\nSchool","Delhi\nCharter\nSchool","Belle\nChasse\nAcademy","The MAX\nCharter\nSchool","LSU \nLab\nSchool","Southern\nUniversity\nLab\nSchool","Louisiana\nSchool\nfor Math\nScience\n& the Arts","New\nOrleans\nCenter for\nCreative\nArts","Thrive Academy","Special School District\n (SSD +LSDVI)"]
[null,null,null,null,343001,341001,344001,348001,347001,346001,"WAL001","WAK001","W7A001","W1A001","WZ8001","W4A001","W8A001","W1B001","W3B001","W4B001","W5B001","W6B001","W7B001","W2B001","WAU001","W33001","W18001","W1D001","WJ5001","WBQ001","WBR001","WBX001","WBY001","3C5001","WZN001","WZO001","WZP001","WZQ001","WZT001","N/A","N/A","N/A","N/A","N/A","WAG001",345001,null,321001,329001,331001,333001,336001,337001,340001,318,319,302006,334001,"3C1001",101001]
["FY2024-25   July 2024",null,1,2,3,4,5,6,7,8,9,10,11,12,13,14,15,16,17,18,19,20,21,22,23,24,25,26,27,28,29,30,31,32,33,34,35,36,37,38,39,40,41,42,43,44,45,46,47,48,49,50,51,52,53,54,55,56,57,58,59]
[null,null,"Base, C1","Base, C3","Base, C5","Base, C4","Base, C6","Base, C10","Base, C9","Base, C8","Base, C35","Base, C34","Base, C29","Base, C12","Base, C22","Base, C24","Base, C31",null,"Base, C13","Base, C23","Base, C25","Base, C26","Base, C28","Base, C30","Base, C16",null,"Base, C37","Base, C17","Base, C18",null,"Base, C20","Base, C20",null,null,1,2,null,null,null,null,null,null,null,null,"Base, C33","Base, C7","Sum(C1:C39)","Base, C41","Base, C42","Base, C43","Base, C44","Base, C45","Base, C46","Base, C48","Base, C49","Base, C50","Base, C52","Base, C53",null,null,"Sum(C40:C53)"]
[null,null,"Link to \"Counts in Budget Letter\"","Link to \"Counts in Budget Letter\"","Link to \"Counts in Budget Letter\"","Link to \"Counts in Budget Letter\"","Link to \"Counts in Budget Letter\"","Link to \"Counts in Budget Letter\"","Link to \"Counts in Budget Letter\"","Link to \"Counts in Budget Letter\"","Link to \"Counts in Budget Letter\"","Link to \"Counts in Budget Letter\"","Link to \"Counts in Budget Letter\"","Link to \"Counts in Budget Letter\"","Link to \"Counts in Budget Letter\"","Link to \"Counts in Budget Letter\"","Link to \"Counts in Budget Letter\"",null,"Link to \"Counts in Budget Letter\"","Link to \"Counts in Budget Letter\"","Link to \"Counts in Budget Letter\"","Link to \"Counts in Budget Letter\"","Link to \"Counts in Budget Letter\"","Link to \"Counts in Budget Letter\"","Link to \"Counts in Budget Letter\"",null,"Link to \"Counts in Budget Letter\"","Link to \"Counts in Budget Letter\"","Link to \"Counts in Budget Letter\"",null,"Link to \"Counts in Budget Letter\"","Link to \"Counts in Budget Letter\"",null,null,null,null,null,null,null,null,null,null,null,null,"Link to \"Counts in Budget Letter\"","Link to \"Counts in Budget Letter\"","Formula","Link to \"Counts in Budget Letter\"","Link to \"Counts in Budget Letter\"","Link to \"Counts in Budget Letter\"","Link to \"Counts in Budget Letter\"","Link to \"Counts in Budget Letter\"","Link to \"Counts in Budget Letter\"","Link to \"Counts in Budget Letter\"","Link to \"Counts in Budget Letter\"","Link to \"Counts in Budget Letter\"","Link to \"Counts in Budget Letter\"","Link to \"Counts in Budget Letter\"",null,null,"Formula"]
[1,"Acadia Parish",8773,0,0,0,0,0,0,0,2,0,0,0,0,0,0,0,0,0,0,0,53,9,0,0,0,2,0,0,0,0,0,1,0,0,0,0,0,"","","","","",20,30,8890,0,0,0,0,0,0,0,0,0,1,0,0,9,8900]
[2,"Allen Parish",3702,0,0,0,0,0,0,1,0,0,0,0,0,0,0,0,0,0,0,0,0,0,0,0,0,0,0,0,0,0,0,0,0,0,0,0,0,"","","","","",4,18,3725,0,0,0,0,0,0,0,0,0,2,0,0,2,3729]
[3,"Ascension Parish",23503,0,3,0,0,0,0,0,0,0,18,0,2,0,0,0,71,0,0,0,3,0,2,0,0,0,1,0,0,0,0,0,0,0,3,0,0,"","","","","",28,122,23756,0,0,0,0,0,0,0,0,0,6,0,9,20,23791]
[4,"Assumption Parish",2613,0,0,0,0,0,0,0,0,0,0,0,0,0,0,0,8,0,0,0,5,0,0,0,0,0,0,0,0,0,0,0,0,0,0,0,0,"","","","","",13,16,2655,0,0,0,0,0,0,2,0,0,1,0,1,1,2660]
[5,"Avoyelles Parish",4651,0,0,0,0,0,0,0,0,0,0,0,0,0,0,0,0,0,0,0,0,0,0,0,0,0,0,0,0,0,127,0,0,0,0,0,0,"","","","","",20,40,4838,0,0,0,695,0,0,0,0,0,1,0,0,7,5541]
[6,"Beauregard Parish",5519,0,0,0,0,0,0,2,0,1,0,0,0,0,0,0,0,0,0,0,0,0,0,0,0,0,0,0,0,0,0,0,0,0,0,0,0,"","","","","",16,13,5551,0,0,0,0,0,0,0,0,0,5,0,0,0,5556]
[7,"Bienville Parish",1762,0,0,0,0,0,0,0,0,0,0,0,0,0,0,0,0,0,0,0,0,0,0,14,0,0,0,0,0,0,0,0,0,0,0,0,0,"","","","","",5,10,1791,0,0,0,0,0,0,0,0,0,3,0,0,1,1795]
[8,"Bossier Parish",21764,0,0,0,0,0,0,0,0,0,0,0,0,0,0,0,0,0,0,0,0,0,0,0,0,0,0,0,0,0,0,0,0,0,0,0,21,"","","","","",60,43,21888,0,0,0,0,0,0,0,0,0,8,0,0,1,21897]
[9,"Caddo Parish",32422,991,0,0,0,0,0,0,0,0,0,0,0,0,0,0,0,0,0,0,0,0,0,0,0,0,0,0,0,0,0,0,0,0,0,0,61,"","","","","",119,70,33663,0,0,0,0,0,0,0,0,0,4,0,0,6,33673]
[10,"Calcasieu Parish",27438,0,0,0,0,0,0,860,0,729,0,0,0,0,0,0,0,599,0,0,2,0,0,0,0,0,0,0,0,0,0,0,0,0,0,0,0,"","","","","",57,85,29770,0,0,0,0,0,0,0,0,0,20,0,0,9,29799]
[11,"Caldwell Parish",1385,0,0,0,0,0,0,0,0,0,0,0,0,0,0,0,0,0,0,0,0,0,0,0,0,0,0,0,0,0,0,0,0,0,0,0,0,"","","","","",5,13,1403,0,0,0,0,0,0,0,0,0,2,0,0,0,1405]
[12,"Cameron Parish",1066,0,0,0,0,0,0,8,0,0,0,0,0,0,0,0,0,0,0,0,0,0,0,0,0,0,0,0,0,0,0,0,0,0,0,0,0,"","","","","",0,1,1075,0,0,0,0,0,0,0,0,0,0,0,0,0,1075]
[13,"Catahoula Parish",912,0,0,0,0,0,0,0,0,0,0,0,0,84,0,0,0,0,0,0,0,0,0,0,0,0,0,0,0,0,0,0,0,0,0,0,0,"","","","","",2,3,1001,0,0,0,0,0,0,0,0,0,1,0,0,0,1002]
[14,"Claiborne Parish",1529,0,0,2,0,0,0,0,0,0,0,0,0,0,0,0,0,0,41,0,0,0,0,38,0,0,0,0,0,0,0,0,0,0,0,0,0,"","","","","",6,3,1619,0,0,0,0,0,0,0,0,0,1,0,0,0,1620]
[15,"Concordia Parish",2825,0,0,0,0,0,0,0,0,0,0,0,0,361,0,0,0,0,0,0,0,0,0,0,0,0,0,0,0,0,0,0,0,0,0,0,0,"","","","","",10,5,3201,0,0,0,0,0,0,0,0,0,0,0,0,2,3203]
[16,"DeSoto Parish",4698,0,0,0,0,0,0,0,0,0,0,0,0,0,0,0,0,0,0,0,0,0,0,0,0,0,0,0,0,0,0,0,0,0,0,0,5,"","","","","",16,16,4735,0,0,0,0,0,0,0,0,0,3,0,0,0,4738]
[17,"East Baton Rouge Parish",38555,684,540,0,0,0,0,0,0,0,314,0,645,0,198,302,69,0,0,0,0,0,731,0,0,0,466,0,0,418,0,0,43,0,102,676,0,"","","","","",131,337,44211,0,0,0,0,0,0,0,1461,740,9,1,99,55,46576]
[18,"East Carroll Parish",729,0,0,0,0,0,0,0,0,0,0,0,0,0,0,0,0,0,0,0,0,0,0,0,0,0,0,0,0,0,0,0,0,0,0,0,0,"","","","","",2,0,731,0,0,0,0,9,0,0,0,0,0,0,0,1,741]
[19,"East Feliciana Parish",1602,0,0,0,0,0,0,0,0,0,5,0,0,0,0,8,0,0,0,0,0,0,0,0,0,0,0,0,0,0,0,0,1,0,1,0,0,"","","","","",7,20,1644,0,0,0,0,0,0,0,0,0,0,0,0,5,1649]
[20,"Evangeline Parish",5197,0,0,0,0,0,0,0,5,0,0,0,0,0,0,0,0,0,0,0,1,0,0,0,0,0,0,0,0,0,0,0,0,0,0,0,0,"","","","","",17,17,5237,0,0,0,0,0,0,0,0,0,3,0,0,3,5243]
[21,"Franklin Parish",2432,0,0,0,0,0,0,0,0,0,0,0,0,1,0,0,0,0,0,0,0,0,0,0,0,0,0,0,0,0,0,0,0,0,0,0,0,"","","","","",2,34,2469,0,0,0,0,59,0,0,0,0,3,0,0,0,2531]
[22,"Grant Parish",2657,0,0,0,0,0,0,0,0,0,0,0,0,0,0,0,0,0,0,0,0,0,0,0,0,0,0,0,0,0,0,0,0,0,0,0,0,"","","","","",3,16,2676,0,0,0,0,0,0,0,0,0,1,0,0,3,2680]
[23,"Iberia Parish",10645,0,0,0,0,0,0,0,0,0,0,0,0,0,0,0,0,0,0,206,2,3,0,0,0,0,0,1,0,0,0,0,0,0,0,0,0,"","","","","",36,44,10937,0,130,0,0,0,0,0,0,0,3,0,1,1,11072]
[24,"Iberville Parish",3730,0,2,0,0,0,0,0,0,0,5,0,3,0,0,0,205,0,0,0,0,0,1,0,0,0,0,0,0,0,0,2,0,0,2,0,0,"","","","","",2,6,3958,0,0,0,0,0,0,0,0,0,2,0,1,2,3963]
[25,"Jackson Parish",1962,0,0,1,0,0,0,0,0,0,0,0,0,0,0,0,0,0,0,0,0,0,0,28,0,0,0,0,0,0,0,0,0,0,0,0,0,"","","","","",11,8,2010,0,0,0,0,0,0,0,0,0,0,0,0,0,2010]
[26,"Jefferson Parish",46035,0,0,0,53,665,195,0,0,0,0,121,0,0,0,0,8,0,0,0,8,0,0,0,17,0,0,25,972,0,0,0,0,2,0,0,0,"","","","","",191,300,48592,0,0,419,0,0,231,0,0,0,8,43,7,14,49314]
[27,"Jefferson Davis Parish",5092,0,0,0,0,0,0,8,0,0,0,0,0,0,0,0,0,5,0,1,0,0,0,0,0,0,0,0,0,0,0,0,0,0,0,0,0,"","","","","",13,15,5134,0,0,0,0,0,0,0,0,0,2,0,0,4,5140]
[28,"Lafayette Parish",29439,0,0,0,0,0,0,0,4,0,1,0,0,0,0,2,0,0,0,2404,1398,535,0,0,0,55,0,0,0,0,0,1,0,0,0,0,0,"","","","","",86,168,34093,0,3,0,0,0,0,0,0,0,9,0,3,10,34118]
[29,"Lafourche Parish",13017,0,0,0,0,0,0,0,0,0,0,0,0,0,0,0,49,0,0,0,10,0,0,0,0,0,0,0,0,0,0,0,0,0,0,0,0,"","","","","",34,72,13182,0,0,1,0,0,0,73,0,0,5,1,1,2,13265]
[30,"LaSalle Parish",2364,0,0,0,0,0,0,0,0,0,0,0,0,0,0,0,0,0,0,0,0,0,0,0,0,0,0,0,0,0,0,0,0,0,0,0,0,"","","","","",5,17,2386,0,0,0,0,0,0,0,0,0,2,0,0,0,2388]
[31,"Lincoln Parish",5629,0,0,59,0,0,0,0,0,0,0,0,0,0,0,0,0,0,2,0,0,0,0,495,0,0,0,0,0,0,0,0,0,0,0,0,0,"","","","","",10,11,6206,0,0,0,0,0,0,0,0,0,3,0,0,2,6211]
[32,"Livingston Parish",26411,0,11,0,0,0,0,0,0,0,14,0,3,0,1,3,2,0,0,0,0,0,18,0,0,0,0,0,0,4,0,0,0,1,11,1,0,"","","","","",68,352,26900,0,0,0,0,0,0,0,0,0,11,0,5,13,26929]
[33,"Madison Parish",1189,0,0,0,0,0,0,0,0,0,0,0,0,0,0,0,0,0,0,0,0,0,0,0,0,0,0,0,0,0,0,0,0,0,0,0,0,"","","","","",2,31,1222,0,0,0,0,215,0,0,0,0,0,0,0,1,1438]
[34,"Morehouse Parish",3103,0,0,1,0,0,0,0,0,0,0,0,0,0,0,0,0,0,0,0,0,0,0,0,0,0,0,0,0,0,0,0,0,0,0,0,0,"","","","","",32,33,3169,2,0,0,0,1,0,0,0,0,0,0,0,0,3172]
[35,"Natchitoches Parish",4772,0,0,0,0,0,0,0,0,0,0,0,0,0,0,0,0,0,0,0,0,0,0,0,0,0,0,0,0,0,0,0,0,0,0,0,0,"","","","","",23,4,4799,0,0,0,0,0,0,0,0,0,20,0,0,1,4820]
[36,"Orleans Parish",42428,0,0,0,349,205,623,0,0,0,0,6,0,0,0,0,3,0,0,0,2,0,0,0,138,0,0,303,88,0,0,0,0,4,0,0,0,"","","","","",94,78,44321,0,0,608,0,0,157,0,0,0,1,136,5,6,45234]
[37,"Ouachita Parish",17246,0,0,11,0,0,0,0,0,0,0,0,0,0,0,0,0,0,0,0,0,0,0,7,0,0,0,0,0,0,0,0,0,0,0,0,0,"","","","","",48,78,17390,66,0,0,0,4,0,0,0,0,6,0,0,3,17469]
[38,"Plaquemines Parish",3525,0,0,0,0,14,2,0,0,0,0,1,0,0,0,0,0,0,0,0,0,0,0,0,0,0,0,0,4,0,0,0,0,0,0,0,0,"","","","","",6,23,3575,0,0,8,0,0,380,0,0,0,1,3,1,0,3968]
[39,"Pointe Coupee Parish",2237,0,0,0,0,0,0,2,0,0,4,0,0,0,0,0,0,0,0,0,0,0,0,0,0,0,0,0,0,0,0,0,0,0,0,0,0,"","","","","",17,22,2282,0,0,0,0,0,0,0,0,0,4,0,1,3,2290]
[40,"Rapides Parish",20610,0,0,0,0,0,0,0,0,0,0,0,0,0,0,0,0,0,0,0,0,0,0,0,0,0,0,0,0,0,0,0,0,0,0,0,0,"","","","","",43,71,20724,0,0,0,0,1,0,0,0,0,11,0,0,49,20785]
[41,"Red River Parish",1146,0,0,0,0,0,0,0,0,0,0,0,0,0,0,0,0,0,0,0,0,0,0,0,0,0,0,0,0,0,0,0,0,0,0,0,1,"","","","","",7,4,1158,0,0,0,0,0,0,0,0,0,1,0,0,0,1159]
[42,"Richland Parish",2665,0,0,0,0,0,0,0,0,0,0,0,0,0,0,0,0,0,0,0,0,0,0,0,0,0,0,0,0,0,0,0,0,0,0,0,0,"","","","","",7,9,2681,2,0,0,0,287,0,0,0,0,0,0,0,1,2971]
[43,"Sabine Parish",3561,0,0,0,0,0,0,0,0,0,0,0,0,0,0,0,0,0,0,0,0,0,0,0,0,0,0,0,0,0,0,0,0,0,0,0,0,"","","","","",6,9,3576,0,0,0,0,0,0,0,0,0,2,0,0,1,3579]
[44,"St. Bernard Parish",7354,0,0,0,4,8,6,0,0,0,0,1,0,0,0,0,0,0,0,0,0,0,0,0,3,0,0,2,3,0,0,0,0,0,0,0,0,"","","","","",27,28,7436,0,0,16,0,0,5,0,0,0,1,5,0,1,7464]
[45,"St. Charles Parish",8840,0,0,0,0,0,7,0,0,0,0,1,0,0,0,0,1,0,0,0,2,0,0,0,0,0,0,0,0,0,0,0,0,0,0,0,0,"","","","","",17,27,8895,0,0,5,0,0,0,0,0,0,11,6,0,0,8917]
[46,"St. Helena Parish",996,0,0,0,0,0,0,0,0,0,0,0,0,0,0,0,0,0,0,0,0,0,0,0,0,0,1,0,0,0,0,0,0,1,1,0,0,"","","","","",10,23,1032,0,0,0,0,0,0,0,0,0,0,0,0,0,1032]
[47,"St. James Parish",3115,0,0,0,0,0,0,0,0,0,0,0,0,0,0,0,0,0,0,0,0,0,0,0,0,0,0,0,0,0,0,0,0,0,0,0,0,"","","","","",1,7,3123,0,0,0,0,0,0,0,0,0,1,0,1,0,3125]
[48,"St. John the Baptist Parish",4945,0,0,0,0,0,1,0,0,0,2,0,0,0,0,0,0,0,0,0,0,0,0,0,0,0,0,0,0,0,0,0,0,0,0,0,0,"","","","","",13,36,4997,0,0,3,0,0,0,0,0,0,1,5,7,0,5013]
[49,"St. Landry Parish",10983,0,0,0,0,0,0,0,370,1,2,0,0,0,0,0,0,0,0,8,152,17,0,0,0,1,0,0,0,0,0,288,0,0,0,0,0,"","","","","",93,102,12017,0,0,0,6,0,0,0,0,0,8,0,4,1,12036]
[50,"St. Martin Parish",6613,0,0,0,0,0,0,0,0,0,0,0,0,0,0,0,0,0,0,128,80,11,0,0,0,0,0,0,0,0,0,0,0,0,0,0,0,"","","","","",32,57,6921,0,0,0,0,0,0,0,0,0,4,0,0,0,6925]
[51,"St. Mary Parish",7256,0,0,0,0,0,0,0,0,0,0,0,0,0,0,0,0,0,0,0,1,0,0,0,0,0,0,0,0,0,0,0,0,0,0,0,0,"","","","","",14,55,7326,0,321,0,0,0,0,1,0,0,3,0,0,1,7652]
[52,"St. Tammany Parish",35725,0,0,0,2,3,8,0,0,0,1,1,0,0,0,0,2,0,0,0,0,0,0,0,0,0,0,2,3,0,0,0,0,208,0,0,0,"","","","","",111,353,36419,0,0,9,0,0,10,0,0,0,12,24,3,5,36482]
[53,"Tangipahoa Parish",18656,0,0,0,0,0,0,0,0,0,1,0,0,0,2,1,0,0,0,0,0,0,0,0,1,0,0,0,0,0,0,0,0,38,0,0,0,"","","","","",47,242,18988,0,0,0,0,0,0,0,0,0,8,2,4,5,19007]
[54,"Tensas Parish",318,0,0,0,0,0,0,0,0,0,0,0,0,34,0,0,0,0,0,0,0,0,0,0,0,0,0,0,0,0,0,0,0,0,0,0,0,"","","","","",0,3,355,0,0,0,0,19,0,0,0,0,0,0,0,1,375]
[55,"Terrebonne Parish",14288,0,0,0,0,0,0,0,0,0,0,0,0,0,0,0,36,0,0,0,9,0,0,0,0,0,0,0,0,0,0,0,0,0,0,0,0,"","","","","",75,150,14558,0,0,0,0,0,0,24,0,0,19,0,3,8,14612]
[56,"Union Parish",1615,0,0,903,0,0,0,0,0,0,0,0,0,0,0,0,0,0,155,0,0,0,0,64,0,0,0,0,0,0,0,0,0,0,0,0,0,"","","","","",14,7,2758,0,0,0,0,0,0,0,0,0,1,0,0,2,2761]
[57,"Vermilion Parish",8927,0,0,0,0,0,0,0,0,0,0,0,0,0,0,0,0,0,0,137,6,0,0,0,0,1,0,0,0,0,0,0,0,0,0,0,0,"","","","","",32,29,9132,0,1,0,0,0,0,0,0,0,2,0,0,2,9137]
[58,"Vernon Parish",7551,0,0,0,0,0,0,0,0,0,0,0,0,0,0,0,0,0,0,0,0,0,0,0,0,0,0,0,0,0,0,0,0,0,0,0,0,"","","","","",28,29,7608,0,0,0,0,0,0,0,0,0,10,0,0,1,7619]
[59,"Washington Parish",4378,0,0,0,0,0,0,0,0,0,0,0,0,0,0,0,0,0,0,0,0,0,0,0,0,0,0,0,0,0,0,0,0,1,0,0,0,"","","","","",13,50,4442,0,0,0,0,0,0,0,0,0,2,0,1,5,4450]
[60,"Webster Parish",4914,0,0,0,0,0,0,0,0,0,0,0,0,0,0,0,0,0,0,0,0,0,0,2,0,0,0,0,0,0,0,0,0,0,0,0,2,"","","","","",5,17,4940,0,0,0,0,0,0,0,0,0,1,0,0,0,4941]
[61,"West Baton Rouge Parish",3948,0,3,0,0,0,0,0,0,0,15,0,4,0,0,1,30,0,0,0,0,1,1,0,0,0,1,0,0,0,0,0,1,0,2,0,0,"","","","","",8,46,4061,0,0,0,0,0,0,0,0,0,3,0,5,6,4075]
[62,"West Carroll Parish",1484,0,0,0,0,0,0,0,0,0,0,0,0,0,0,0,0,0,0,0,0,0,0,0,0,0,0,0,0,0,0,0,0,0,0,0,0,"","","","","",8,11,1503,0,0,0,0,34,0,0,0,0,0,0,0,0,1537]
[63,"West Feliciana Parish",2077,0,0,0,0,0,0,0,0,0,0,0,0,0,0,1,0,0,0,0,0,0,0,0,0,0,0,0,0,0,0,0,0,0,0,0,0,"","","","","",3,17,2098,0,0,0,0,0,0,0,0,0,1,0,0,1,2100]
[64,"Winn Parish",1717,0,0,0,0,0,0,0,0,0,0,0,0,0,0,0,0,0,0,0,0,0,0,0,0,0,0,0,0,0,0,0,0,0,0,0,0,"","","","","",7,6,1730,0,0,0,0,0,0,0,0,0,0,0,0,1,1731]
[65,"City of Monroe School District",7890,0,0,4,0,0,0,0,0,0,0,0,0,0,0,0,0,0,0,0,0,0,0,1,0,0,0,0,0,0,0,0,0,0,0,0,0,"","","","","",17,10,7922,126,0,0,0,1,0,0,0,0,1,0,0,1,8051]
[66,"City of Bogalusa School District",1833,0,0,0,0,0,0,0,0,0,0,0,0,0,0,0,0,0,0,0,0,0,0,0,0,0,0,0,0,0,0,0,0,3,0,0,0,"","","","","",15,30,1881,0,0,0,0,0,0,0,0,0,1,0,0,0,1882]
[67,"Zachary Community School District",5396,0,2,0,0,0,0,0,0,0,17,0,0,0,5,9,0,0,0,0,0,0,3,0,0,0,2,0,0,0,0,0,3,0,2,1,0,"","","","","",21,48,5509,0,0,0,0,0,0,0,0,0,5,0,3,3,5520]
[68,"City of Baker School District",922,0,17,0,0,0,0,0,0,0,20,0,3,0,214,238,0,0,0,0,0,0,13,0,0,0,25,0,0,10,0,0,33,0,0,5,0,"","","","","",15,29,1544,0,0,0,0,0,0,0,0,0,0,0,9,0,1553]
[69,"Central Community School District",4580,0,7,0,0,0,0,0,0,0,24,0,2,0,1,15,4,0,0,0,0,0,7,0,0,0,5,0,0,2,0,0,6,0,3,5,0,"","","","","",6,39,4706,0,0,0,0,0,0,0,0,0,6,0,6,0,4718]
[null,"State Total",618861,1675,585,981,408,895,842,881,381,731,443,131,662,480,421,580,488,604,198,2884,1734,576,776,649,159,59,501,333,1070,434,127,292,87,258,127,688,90,0,0,0,0,0,1916,3718,646725,196,455,1069,701,630,783,100,1461,740,266,226,180,282,653814]
[null,null,"*Includes student counts from closed Type 2 Charter Schools as a placeholder"]

{"sheet":"8_RSD Op & 5s","index":27,"n_rows":9,"n_cols":6,"rows_kept":9,"cut":false,"hidden":false,"merged":[[0,0,0,2],[1,0,1,2]]}
["2.1.24 Students Counts for \nRSD Operated & Type 5 Charter Schools",null,null,"Caddo\nParish\nBase\n2.1.24","EBR\nParish\nBase\n2.1.24","Total\nBase\n2.1.24"]
["FY2024-25   July 2024",null,null,1,2,3]
[]
[396211,396211,"Linwood Public Charter (RSD Operated)",991,null,991]
["WZV001","WA7001","Prescott Academy (RSD Operated)",null,300,300]
["WAO001","3AP003","Celerity Dalton Charter School",null,161,161]
["WAP001","3AP001","Celerity Lanier Charter School",null,161,161]
["WYA001","3AP004","Celerity Glen Oaks",null,62,62]
[null,null,null,991,684,1675]

{"sheet":"9_Per Pupil Summary","index":28,"n_rows":77,"n_cols":19,"rows_kept":77,"cut":false,"hidden":false,"merged":[[80,1,81,1],[0,16,1,16],[0,17,1,17],[0,15,1,15],[0,0,1,1],[0,2,0,7],[0,8,0,11],[0,12,0,13],[4,0,4,1],[2,0,2,1]]}
["School\nSystem\n\n\n",null,"Unweighted State Cost Allocation Per Pupil Amounts\nFor Types 1, 2, 3, 3B, and 4 Charter Schools",null,null,null,null,null,"Weighted State Cost Allocation Per Pupil Amounts\nFor Types 1, 2, 3, 3B, and 4 Charter Schools",null,null,null," Local Revenue Representation Per Pupil ",null,"Legacy Type 2\nCharter Schools","City/Parish\nPer Pupil\n\n(After State Cost\nAllocations to\nOther Public\nSchools)","State Cost\nAllocation\nPer Pupil\n\n(Levels 1, 2,\n& 3 without\nContinuation\nof Prior Year\nPay Raises)","Levels 1 & 2\nLocal Cost\nAllocation\nPer Pupil","State Approved\nPublic Schools"]
[null,null,"Level 1\nBase","Level 2","Level 3\nHistorical\nFormula\nAllocation\n& Mandated\nCost\nAdjustments","Unweighted\nPer Pupil\nWithout\nContinuation\nof Prior Year\nPay Raises","Level 3\nContinuation\nof Prior Year\nPay Raises","Unweighted\nPer Pupil\nWith\nContinuation\nof Prior Year\nPay Raises","Economically\nDisadvantaged","Career &\nTechnical\nEducation","Students\nWith\nDisabilities","Gifted &\nTalented","In a District\nBuilding","Not In a\nDistrict\nBuilding","Unweighted\nPer Pupil\nWithout\nContinuation\nof Prior Year\nPay Raise\n(With Local Revenue\nRepresentation)",null,null,null,"Total State Cost\n& Local Cost\nAllocation\nPer Pupil\n\n(With\nContinuation\nof Prior Year\nPay Raises)"]
["INITIAL Charter Per Pupil",null,1,2,3,4,5,6,7,8,9,10,11,12,13,14,15,16,17]
[null,null,"Link in File","Link in File","Link in File","Formula","Values","Formula","Link in File","Link in File","Link in File","Link in File","Link to Charter Per Pupil","Link to Charter Per Pupil","Formula"]
["FY2024-25 July 2024",null,"Weighted Funding","Table 3 Levels 1&2, C23","Table 3 Levels 1&2, C28","C1 + C2 + C3","Charter Per\nPupil File, C7","C4 + C5","Charter Per\nPupil File, C2","Charter Per\nPupil File, C3","Charter Per\nPupil File, C4","Charter Per\nPupil File, C5","FINAL Charter Per\nPupil File, C9","FINALCharter Per\nPupil File, C12","C1 + C2 + C3 + C12","T2, C36","T3, C30","T3, C38","C5 + C15 + C16"]
[1,"Acadia",3066.3778908870086,1129,173.41282339707536,4368.7907142840832,777.48,5146.2707142840827,674.60313599514188,183.98267345322051,4599.5668363305131,1839.8267345322051,3473,3473,7841.7907142840832,6353,5573.3886389201352,3222.9,9573.7686389201353]
[2,"Allen",3366.257095005778,1477,173.41288590604026,5016.6699809118181,842.32,5858.9899809118178,740.57656090127114,201.97542570034668,5049.3856425086669,2019.754257003467,3654,4271,9287.6699809118181,7540,6695.2434899328855,3017.96,10555.523489932886]
[3,"Ascension",2528.528176338893,669,173.41286411853847,3370.9410404574314,596.84,3967.7810404574316,556.27619879455631,151.71169058033354,3792.7922645083386,1517.1169058033354,6893,6893,10263.941040457432,4848,4251.7919262502101,3845.31,8693.9419262502106]
[4,"Assumption",3030.3114541038381,1238,173.41280602636536,4441.7242601302032,585.76,5027.4842601302034,666.66851990284442,181.8186872462303,4545.4671811557573,1818.186872462303,6573,6573,11014.724260130202,6764,6166.1231638418076,3686.81,10438.693163841808]
[5,"Avoyelles",3207.3504503220156,1274,173.41277387350144,4654.7632241955171,555.91,5210.6732241955169,705.61709907084344,192.44102701932096,4811.0256754830243,1924.4102701932097,3249,3249,7903.7632241955171,7032,6282.1025217031829,3166.14,10004.152521703183]
[6,"Beauregard",2915.1261204426828,1053,173.41289857683302,4141.5390190195158,545.4799999999999,4687.0190190195153,641.32774649739008,174.90756722656093,4372.6891806640233,1749.0756722656097,4604,5587,9728.5390190195158,6025,5477.7162673392186,3594.87,9618.066267339218]
[7,"Bienville",1879.6002493763485,191,173.41261864879957,2244.0128680251482,756.91999999999985,3000.9328680251483,413.51205486279667,112.7760149625809,2819.4003740645226,1127.7601496258089,11606,12817,15061.012868025147,4216,3451.2741485203796,5749.11,9957.3041485203794]
[8,"Bossier",2899.7369352978235,1015,173.41282894736841,4088.1497642451918,725.76,4813.9097642451916,637.94212576552115,173.98421611786941,4349.605402946735,1739.8421611786939,5880,6627,10715.149764245192,6044,5318.7574013157891,3532.75,9577.2674013157884]
[9,"Caddo",2611.2224081858371,773,173.41285684579509,3557.6352650316321,744.76,4302.3952650316323,574.46892980088433,156.67334449115023,3916.8336122787559,1566.7334449115021,6799,7836,11393.635265031633,5399,4656.7590826723699,3934.07,9335.5890826723698]
[10,"Calcasieu",2271.4576223032959,505,173.41283170977493,2949.8704540130707,608.04000000000008,3557.9104540130706,499.72067690672515,136.28745733819778,3407.1864334549437,1362.8745733819776,7685,8343,11292.870454013071,4622,3997.5724554921062,4542.87,9148.482455492107]
[11,"Caldwell",3323.2870805479415,1645,173.41268709907342,5141.6997676470146,706.55,5848.2497676470148,731.12315772054706,199.3972248328765,4984.9306208219123,1993.9722483287651,4004,4714,9855.6997676470146,8234,7509.493228795438,3522.3,11738.343228795438]
[12,"Cameron",1003.7501556471902,0,173.41302325581395,1177.1631789030041,1063.31,2240.4731789030038,220.8250342423818,60.225009338831406,1505.6252334707854,602.25009338831399,11907,13302,14479.163178903003,2817,1753.7637209302325,6890.33,9707.4037209302332]
[13,"Catahoula",3169.0795033546083,1385,173.41258741258741,4727.4920907671958,749.43000000000006,5476.9220907671961,697.19749073801358,190.14477020127646,4753.619255031912,1901.4477020127645,3839,3874,8601.4920907671949,7417,6599.3986013986014,3517.3,10866.128601398603]
[14,"Claiborne",3139.4892381405839,1483,173.41260037059914,4795.9018385111831,809.9799999999999,5605.8818385111827,690.68763239092846,188.36935428843506,4709.2338572108756,1883.6935428843508,4413,4413,9208.9018385111831,7989,7116.2575663990119,3896.36,11822.597566399012]
[15,"Concordia",3286.7599770167672,1464,100,4850.7599770167672,553.79999999999995,5404.5599770167673,723.08719494368893,197.20559862100606,4930.1399655251516,1972.0559862100604,3904,3904,8754.7599770167672,7321,6685.4695407685094,3262.15,10501.419540768509]
[16,"Desoto",1520.8553764880264,0,173.41288278775079,1694.2682592757772,686.73,2380.9982592757769,334.58818282736581,91.251322589281585,2281.2830647320397,912.51322589281585,15992,18346,20040.268259275777,3085,2397.5945089757129,5643.97,8728.2945089757122]
[17,"East Baton Rouge",2065.6623006711939,317,407.17902784374928,2789.8413285149431,801.48,3591.3213285149432,454.44570614766269,123.93973804027164,3098.4934510067915,1239.3973804027164,8716,10010,12799.841328514944,4427,3630.0147926986497,4662.91,9094.4047926986495]
[18,"East Carroll",3056.761959981261,1310,173.41313269493844,4540.1750926761988,845.94999999999993,5386.1250926761986,672.48763119587761,183.40571759887573,4585.1429399718927,0,4818,4818,9358.1750926761997,7312,6461.9124487004101,3783.68,11091.542448700409]
[19,"East Feliciana",2308.0085688830109,589,173.41301703163018,3070.4215859146411,905.43,3975.851585914641,507.76188515426247,138.48051413298066,3462.0128533245161,1384.8051413298065,7624,7624,10694.421585914641,5375,4470.4993917274942,4935.43,10311.359391727496]
[20,"Evangeline",3278.1087684214508,1452,100,4830.1087684214508,586.16999999999996,5416.2787684214509,721.18392905271912,196.68652610528702,4917.1631526321762,1966.8652610528702,3400,3515,8345.1087684214508,7238,6648.0721787282791,3267.53,10501.772178728279]
[21,"Franklin",3209.08319406174,1458,173.41271769947346,4840.4959117612134,610.35,5450.8459117612138,705.9983026935829,192.54499164370444,4813.6247910926104,1925.4499164370441,2709,3882,8722.4959117612125,7490,6864.6217091940052,3540.56,11015.531709194005]
[22,"Grant",3493.9247056637159,1655,173.41292974588939,5322.3376354096054,496.36,5818.697635409605,768.66343524601734,209.63548233982291,5240.8870584955739,2096.3548233982292,1826,3051,8373.3376354096054,8053,7554.2010463378174,2984.2,11034.761046337817]
[23,"Iberia",2998.1164951927663,1114,173.41281887171985,4285.5293140644853,688.58,4974.1093140644853,659.58562894240856,179.886989711566,4497.1747427891496,1798.86989711566,3726,4976,9261.5293140644862,6324,5623.2785041601901,3444.76,9756.6185041601893]
[24,"Iberville",1003.7499434059469,0,518.07326932794342,1521.8232127338902,854.24999999999989,2376.0732127338902,220.82498754930828,60.224996604356811,1505.6249151089203,602.24996604356807,23898,24698,26219.823212733889,2882,2026.5037897928246,6576.76,9457.5137897928253]
[25,"Jackson",2859.534999364037,1073,173.4129353233831,4105.9479346874205,653.73,4759.6779346874209,629.09769986008814,171.57209996184224,4289.3024990460563,1715.7209996184222,5584,5584,9689.9479346874214,6357,5698.2273631840799,3923.95,10275.90736318408]
[26,"Jefferson",2240.4263281191907,475,406.58847135330916,3122.0147994724998,836.83,3958.8447994724997,492.8937921862219,134.42557968715144,3360.639492178786,1344.2557968715146,6962,7534,10656.014799472499,4974,4130.2577378992428,4553.1000000000004,9520.1877378992431]
[27,"Jefferson Davis",3118.8798100903196,1267,173.41293338527464,4559.2927434755939,693.06,5252.3527434755943,686.15355821987032,187.13278860541917,4678.3197151354798,1871.3278860541916,4132,4855,9414.2927434755948,6836,6139.9181924425402,3407.04,10240.018192442541]
[28,"Lafayette",2397.7419311418066,567,231.96964186196581,3196.7115730037726,694.4,3891.1115730037727,527.5032248511975,143.86451586850836,3596.6128967127097,1438.645158685084,6004,6589,9785.7115730037731,4760,4037.9585545419882,4029.29,8761.6485545419891]
[29,"Lafourche",2794.30273099939,890,173.41283568502504,3857.7155666844151,754.94999999999993,4612.6655666844154,614.74660081986588,167.65816385996342,4191.4540964990856,1676.5816385996341,5360,6064,9921.7155666844155,5639,4882.995600060689,3534.35,9172.2956000606882]
[30,"LaSalle",3188.5071834703062,1338,173.41282481139984,4699.9200082817069,727.17,5427.090008281707,701.47158036346752,191.31043100821839,4782.76077520546,1913.1043100821837,4268,5793,10492.920008281708,7080,6348.1810561609391,3324.83,10400.181056160938]
[31,"Lincoln",2671.4983868886934,869,173.4128262971318,3713.9112131858251,620.83000000000004,4334.7412131858255,587.72964511551254,160.28990321332159,4007.2475803330399,1602.899032133216,7498,8643,12356.911213185826,5664,5048.9983886561395,4062.18,9732.0083886561388]
[32,"Livingston",3333.4172578040993,1374,173.4128624535316,4880.8301202576313,559.77,5440.6001202576317,733.35179671690196,200.00503546824595,5000.1258867061497,2000.0503546824596,3319,3656,8536.8301202576313,6846,6284.7347583643123,2908.94,9753.4447583643123]
[33,"Madison",2949.9221554302758,1235,173.41243862520457,4358.33459405548,655.31000000000006,5013.6445940554804,648.98287419466055,176.9953293258165,4424.8832331454132,1769.9532932581649,2777,4978,9336.3345940554791,6964,6317.8216039279869,4044.31,11017.441603927988]
[34,"Morehouse",3115.1431637497712,1356,173.41274850110446,4644.5559122508757,644.11000000000013,5288.6659122508754,685.33149602494973,186.90858982498628,4672.7147456246576,1869.085898249863,4300,5011,9655.5559122508748,7222,6565.4910066266957,3661.5,10871.101006626695]
[35,"Natchitoches",2582.3643292912466,795,173.41279433215254,3550.7771236233993,537.96,4088.7371236233994,568.12015244407428,154.94185975747482,3873.5464939368703,1549.418597574748,6818,7284,10834.7771236234,5399,4861.0768910189627,4217.3900000000003,9616.4268910189639]
[36,"Orleans*",2112.2172253358326,369,173.41285169558449,2654.6300770314169,746.03,3400.6600770314171,464.68778957388326,126.73303352014996,3168.3258380037491,1267.3303352014998,7534,8379,11033.630077031417,4374,3633.8433473973964,4782.3,9162.1733473973964]
[37,"Ouachita",3109.9864375964039,1177,173.41282346175964,4460.3992610581636,653.61,5114.0092610581632,684.19701627120878,186.59918625578419,4664.9796563946056,1865.9918625578425,5076,5763,10223.399261058163,6383,5729.558079355952,3196.54,9579.7080793559508]
[38,"Plaquemines",1015.4091336447002,0,451.8948251748252,1467.3039588195254,829.92000000000007,2297.2239588195253,223.39000940183402,60.924548018682003,1523.1137004670502,609.24548018682003,28450,28450,29917.303958819524,2875,2044.0436363636363,6843.78,9717.7436363636371]
[39,"Pointe Coupee",1823.5428155697023,140,315.69500438212094,2279.2378199518234,779.66,3058.8978199518233,401.17941942533452,109.41256893418216,2735.3142233545541,1094.1256893418215,8099,8099,10378.237819951824,4286,3501.7633654688871,5941.65,10223.073365468887]
[40,"Rapides",2949.8158587671455,1078,173.41285466126232,4201.2287134284079,700.2700000000001,4901.4987134284083,648.95948892877198,176.98895152602876,4424.7237881507181,1769.8895152602872,5200,5916,10117.228713428409,6236,5536.5757093225247,3530.34,9767.1857093225262]
[41,"Red River",1003.7500713896555,0,173.41278065630397,1177.1628520459594,886.22,2063.3828520459592,220.82501570572424,60.225004283379327,1505.6251070844833,602.25004283379337,17597,19540,20717.16285204596,2719,1829.5492227979275,7220.75,9936.5192227979278]
[42,"Richland",2809.3990890630298,1043,173.41290563222677,4025.8119946952565,534.28,4560.0919946952563,618.06779959386654,168.5639453437818,4214.0986335945445,1685.6394534378178,4717,6188,10213.811994695257,6193,5653.9380828049234,4060.87,10249.088082804923]
[43,"Sabine",2712.9061993245264,930,173.41275167785236,3816.3189510023785,574.6099999999999,4390.9289510023782,596.83936385139577,162.77437195947158,4069.3592989867902,1627.7437195947159,6214,6484,10300.318951002379,5857,5284.3568232662192,4110.25,9969.2168232662189]
[44,"St. Bernard",2874.8755042587954,976,173.41285637439483,4024.2883606331902,663.16000000000008,4687.4483606331905,632.4726109369351,172.49253025552775,4312.3132563881936,1724.9253025552773,5414,5414,9438.2883606331907,5835,5169.7826788596021,3503.08,9336.022678859601]
[45,"St. Charles",1300.7638767377841,0,424.19134345137718,1724.9552201891613,753.96000000000015,2478.9152201891616,286.16805288231251,78.045832604267048,1951.1458151066759,780.45832604267048,20169,22367,24091.95522018916,3026,2271.1897695334455,5792.39,8817.5397695334468]
[46,"St. Helena",3286.3430558605328,1603,173.41279069767441,5062.7558465582069,728.06,5790.8158465582073,722.99547228931715,197.18058335163198,4929.5145837907994,1971.80583351632,2632,4464,9526.7558465582078,8151,7387.0222868217052,3574.56,11689.642286821705]
[47,"St. James",1592.7008955513109,0,439.61383285302594,2032.3147284043368,910.76,2943.0747284043368,350.39419702128839,95.562053733078642,2389.0513433269662,955.62053733078653,15129,16568,18600.314728404337,3905,2993.0589177073325,6072.02,9975.8389177073332]
[48,"St. John",1995.9789404683461,286,173.41284770862518,2455.3917881769712,871.07,3326.4617881769714,439.11536690303603,119.75873642810075,2993.9684107025187,1197.5873642810075,11031,11031,13486.39178817697,4425,3551.7662597558533,5243.7,9666.5362597558524]
[49,"St. Landry",2983.7544498541552,1109,173.41283182158608,4266.1672816757409,574.43999999999994,4840.6072816757405,656.42597896791415,179.02526699124931,4475.6316747812325,1790.252669912493,3820,3820,8086.1672816757409,6228,5622.4981276524923,3485.92,9682.8581276524928]
[50,"St. Martin",2896.3267983694741,1028,173.41280161826325,4097.7395999877372,634.46,4732.1995999877372,637.19189564128419,173.77960790216841,4344.4901975542107,1737.7960790216841,3784,5165,9262.7395999877372,6046,5390.9830949284787,3592.53,9617.9730949284785]
[51,"St. Mary",2811.7216024024588,1010,173.4129129129129,3995.1345153153716,706.66,4701.7945153153714,618.57875252854092,168.70329614414752,4217.5824036036875,1687.0329614414752,6012,6434,10429.134515315371,6189,5477.5105105105104,3922.37,10106.540510510509]
[52,"St. Tammany",2659.2429994114186,834,173.41283396029544,3666.6558333717139,658.37,4325.0258333717138,585.03345987051193,159.5545799646851,3988.8644991171277,1595.545799646851,7443,8470,12136.655833371715,5537,4884.384799143304,3966.62,9509.3747991433047]
[53,"Tangipahoa",3064.8735884545645,1183,173.41283968822415,4421.2864281427883,689.74,5111.0264281427881,674.27218946000426,183.89241530727389,4597.3103826818478,1838.9241530727388,3793,4619,9040.2864281427883,6527,5835.1177585843689,3383.23,9908.0877585843682]
[54,"Tensas",2309.7825431917154,666,173.41408450704225,3149.1966276987578,951.45,4100.6466276987576,508.15215950217743,138.58695259150289,3464.6738147875735,1385.8695259150293,8212,8212,11361.196627698759,6038,5023.5042253521124,5561.24,11536.194225352112]
[55,"Terrebonne",2611.7463739547538,767,173.41283143288913,3552.1592053876429,795.14,4347.2992053876433,574.58420227004592,156.70478243728525,3917.6195609321308,1567.0478243728523,5727,5727,9279.1592053876429,5418,4622.2902871273527,3902.14,9319.5702871273534]
[56,"Union",3111.0779988034965,1265,173.41298042059464,4549.4909792240915,614.66000000000008,5164.1509792240913,684.43715973676922,186.66467992820978,4666.6169982052452,1866.6467992820978,4523,5735,10284.490979224091,7103,6142.5783176214645,3430.94,10188.178317621465]
[57,"Vermilion",3176.9398475521439,1221,173.41283399036357,4571.3526815425075,764.51,5335.8626815425077,698.92676646147152,190.61639085312859,4765.4097713282154,1906.1639085312863,3330,3330,7901.3526815425075,6596,5825.2370784056066,3073.01,9662.7570784056079]
[58,"Vernon",3330.2816526834131,1359,173.41285488958991,4862.6945075730027,697.04,5559.7345075730027,732.66196359035098,199.81689916100478,4995.4224790251192,1998.1689916100477,2900,3255,8117.6945075730027,6917,6223.288906414301,2887.31,9807.6389064143004]
[59,"Washington",3516.2072814555468,1287,173.41287708239531,4976.6201585379422,689.52,5666.1401585379426,773.56560192022027,210.97243688733278,5274.3109221833201,2109.7243688733279,2137,2137,7113.6201585379422,7903,7208.8606483565964,2452.6,10350.980648356597]
[60,"Webster",2950.9523137765791,1150,173.41275303643724,4274.3650668130167,594.04,4868.4050668130167,649.20950903084747,177.05713882659475,4426.4284706648687,1770.5713882659475,3607,5131,9405.3650668130176,6482,5890.5597165991903,3759.72,10244.31971659919]
[61,"West Baton Rouge",1778.723002777228,88,173.41295247475992,2040.135955251988,833.70999999999992,2873.845955251988,391.31906061099016,106.72338016663367,2668.0845041658422,1067.2338016663368,13010,14750,16790.135955251986,3839,3008.2235902487073,5560.57,9402.503590248707]
[62,"West Carroll",3220.0022268645071,1445,173.41317365269461,4838.4154005172013,516.08000000000004,5354.4954005172012,708.40048991019171,193.20013361187046,4830.0033402967611,0,3682,3682,8520.4154005172022,7309,6787.4497671324016,3467.54,10771.069767132401]
[63,"West Feliciana",1944.9929825736542,245,424.19256434699713,2614.1855469206516,756.79,3370.9755469206516,427.89845616620397,116.69957895441928,2917.4894738604812,1166.9957895441926,11287,12813,15427.185546920651,4511,3749.76167778837,5441.2,9947.7516777883684]
[64,"Winn",3067.3362517603418,1321,173.41271676300579,4561.7489685233477,592.66,5154.4089685233475,674.81397538727515,184.04017510562053,4601.0043776405137,1840.4017510562051,4217,4424,8985.7489685233486,7087,6490.1456647398845,3766.87,10849.675664739883]
[65,"City Of Monroe",2780.7270943524277,967,173.41290078263066,3921.1399951350581,829.12,4750.2599951350585,611.75996075753403,166.84362566114567,4171.0906415286408,1668.4362566114569,5689,6188,10109.139995135058,6150,5319.2157283514262,3906.43,10054.765728351425]
[66,"City Of Bogalusa",2880.0207454417709,1207,173.41307814992027,4260.4338235916912,730.06,4990.4938235916907,633.60456399718976,172.80124472650624,4320.0311181626566,1728.0124472650625,5628,5628,9888.4338235916912,7077,6337.6156299840513,4303.13,11370.80562998405]
[67,"Zachary Community",3113.371718373241,1201,173.41277908876384,4487.7844974620048,715.61,5203.3944974620044,684.94177804211301,186.80230310239443,4670.0575775598609,1868.0230310239444,4722,6046,10533.784497462006,6544,5835.8270103467057,3248.49,9799.9270103467061]
[68,"City Of Baker",3102.5931515625057,1275,173.41256476683938,4551.005716329345,798.7,5349.7057163293448,682.57049334375131,186.15558909375036,4653.8897273437588,1861.5558909375031,4801,4801,9352.0057163293459,7377,6205.7946891191714,3492.11,10496.604689119171]
[69,"Central Community",3230.6040213089013,1336,173.41287717807054,4740.0168984869724,705.67,5445.6868984869725,710.73288468795829,193.83624127853409,4845.9060319633527,1938.3624127853411,4006,5656,10396.016898486972,6974,6270.2078198045047,3167.83,10143.707819804506]
[null,"State Total",2608.5832538104869,800,218.74124395995207,3611.6357672554841,0,3611.6357672554841,572.79353869498277,157.88820042379609,3929.9063976728248,1525.4435923652759,6595,7321,10932.635767255484,5537,4808.754084038811,4017.6,8826.3540840388105]
[]
[null,null,"* Continuation of prior year pay raise is $732 for Types 1, 3, 3B, and 4 Charter Schools in Orleans Parish"]